Workbook

Sheet BU17
A1: BU17
A2: ARTICLE | B2: Mois | C2: janvier | D2: février | E2: mars | F2: avril | G2: mai | H2: juin | I2: juillet | J2: août | K2: septembre | L2: octobre | M2: novembre | N2: décembre | O2: Total | P2: Moyenne | Q2: Ecart-type
A3: 0-0-4S | B3: MODELE IVC 1 | C3: 0 | D3: 0 | E3: 0 | F3: 0 | G3: 0 | H3: 0 | I3: 0 | J3: 0 | K3: 0 | L3: 0 | M3: 0 | N3: 0 | O3: =SUM(C3:N3) -> 0
A4: 100A01-7 | B4: MODELE IVC 1 | C4: 0 | D4: 0 | E4: 0 | F4: 0 | G4: 0 | H4: 2.8 | I4: 0 | J4: 0 | K4: 0 | L4: 0 | M4: 17.5 | N4: 0 | O4: =SUM(C4:N4) -> 20.3
A5: 100a01-7 | B5: MODELE IVC 1 | C5: 0 | D5: 0 | E5: 4.2 | F5: 5 | G5: 0 | H5: 13.3 | I5: 0 | J5: 0 | K5: 0 | L5: 0 | M5: 0 | N5: 0 | O5: =SUM(C5:N5) -> 22.5
A6: 100A01-7S | B6: MODELE IVC 1 | C6: 2.2 | D6: 1.1 | E6: 0.8 | F6: 0.4 | G6: 0.5 | H6: 1.3 | I6: 11.7 | J6: 3.2 | K6: 0.8 | L6: 0.2 | M6: 1.2 | N6: 0.8 | O6: =SUM(C6:N6) -> 24.2
A7: 100A01-9 | B7: MODELE IVC 1 | C7: 0.6 | D7: 1.2 | E7: 1.6 | F7: 1.2 | G7: 1 | H7: 1.4 | I7: 1.6 | J7: 1 | K7: 1.2 | L7: 2.8 | M7: 5.6 | N7: 2.6 | O7: =SUM(C7:N7) -> 21.8
A8: 100A01-9S | B8: MODELE IVC 1 | C8: 0.1 | D8: 0 | E8: 0 | F8: 0 | G8: 1.2 | H8: 0 | I8: 0 | J8: 0 | K8: 0 | L8: 0 | M8: 0 | N8: 0 | O8: =SUM(C8:N8) -> 1.3

Sheet BU18
A1: BU18
A2: ARTICLE | B2: Mois | C2: janvier | D2: février | E2: mars | F2: avril | G2: mai | H2: juin | I2: juillet | J2: août | K2: septembre | L2: octobre | M2: novembre | N2: décembre | O2: Total | P2: Moyenne | Q2: Ecart-type
A3: 0-0-4S | B3: MODELE IVC 1 | C3: =IF($O3<>0,OFFSET('BU17'!C$2,ROW()-2,0)/OFFSET('BU17'!$O$2,ROW()-2,0)*'BU18'!$O3,0) -> 0 | D3: =IF($O3<>0,OFFSET('BU17'!D$2,ROW()-2,0)/OFFSET('BU17'!$O$2,ROW()-2,0)*'BU18'!$O3,0) -> 0 | E3: =IF($O3<>0,OFFSET('BU17'!E$2,ROW()-2,0)/OFFSET('BU17'!$O$2,ROW()-2,0)*'BU18'!$O3,0) -> 0 | F3: =IF($O3<>0,OFFSET('BU17'!F$2,ROW()-2,0)/OFFSET('BU17'!$O$2,ROW()-2,0)*'BU18'!$O3,0) -> 0 | G3: =IF($O3<>0,OFFSET('BU17'!G$2,ROW()-2,0)/OFFSET('BU17'!$O$2,ROW()-2,0)*'BU18'!$O3,0) -> 0 | H3: =IF($O3<>0,OFFSET('BU17'!H$2,ROW()-2,0)/OFFSET('BU17'!$O$2,ROW()-2,0)*'BU18'!$O3,0) -> 0 | I3: =IF($O3<>0,OFFSET('BU17'!I$2,ROW()-2,0)/OFFSET('BU17'!$O$2,ROW()-2,0)*'BU18'!$O3,0) -> 0 | J3: =IF($O3<>0,OFFSET('BU17'!J$2,ROW()-2,0)/OFFSET('BU17'!$O$2,ROW()-2,0)*'BU18'!$O3,0) -> 0 | ... N3: =IF($O3<>0,OFFSET('BU17'!N$2,ROW()-2,0)/OFFSET('BU17'!$O$2,ROW()-2,0)*'BU18'!$O3,0) -> 0 | O3: 0 | P3: 0 | Q3: 0
A4: 100A01-7 | B4: MODELE IVC 1 | C4: =IF($O4<>0,OFFSET('BU17'!C$2,ROW()-2,0)/OFFSET('BU17'!$O$2,ROW()-2,0)*'BU18'!$O4,0) -> 0 | D4: =IF($O4<>0,OFFSET('BU17'!D$2,ROW()-2,0)/OFFSET('BU17'!$O$2,ROW()-2,0)*'BU18'!$O4,0) -> 0 | E4: =IF($O4<>0,OFFSET('BU17'!E$2,ROW()-2,0)/OFFSET('BU17'!$O$2,ROW()-2,0)*'BU18'!$O4,0) -> 0 | F4: =IF($O4<>0,OFFSET('BU17'!F$2,ROW()-2,0)/OFFSET('BU17'!$O$2,ROW()-2,0)*'BU18'!$O4,0) -> 0 | G4: =IF($O4<>0,OFFSET('BU17'!G$2,ROW()-2,0)/OFFSET('BU17'!$O$2,ROW()-2,0)*'BU18'!$O4,0) -> 0 | H4: =IF($O4<>0,OFFSET('BU17'!H$2,ROW()-2,0)/OFFSET('BU17'!$O$2,ROW()-2,0)*'BU18'!$O4,0) -> 3.3103448 | I4: =IF($O4<>0,OFFSET('BU17'!I$2,ROW()-2,0)/OFFSET('BU17'!$O$2,ROW()-2,0)*'BU18'!$O4,0) -> 0 | J4: =IF($O4<>0,OFFSET('BU17'!J$2,ROW()-2,0)/OFFSET('BU17'!$O$2,ROW()-2,0)*'BU18'!$O4,0) -> 0 | ... N4: =IF($O4<>0,OFFSET('BU17'!N$2,ROW()-2,0)/OFFSET('BU17'!$O$2,ROW()-2,0)*'BU18'!$O4,0) -> 0 | O4: 24 | P4: 1.6916667 | Q4: 5.0429894
A5: 100a01-7 | B5: MODELE IVC 1 | C5: =IF($O5<>0,OFFSET('BU17'!C$2,ROW()-2,0)/OFFSET('BU17'!$O$2,ROW()-2,0)*'BU18'!$O5,0) -> 0 | D5: =IF($O5<>0,OFFSET('BU17'!D$2,ROW()-2,0)/OFFSET('BU17'!$O$2,ROW()-2,0)*'BU18'!$O5,0) -> 0 | E5: =IF($O5<>0,OFFSET('BU17'!E$2,ROW()-2,0)/OFFSET('BU17'!$O$2,ROW()-2,0)*'BU18'!$O5,0) -> 4.48 | F5: =IF($O5<>0,OFFSET('BU17'!F$2,ROW()-2,0)/OFFSET('BU17'!$O$2,ROW()-2,0)*'BU18'!$O5,0) -> 5.3333333 | G5: =IF($O5<>0,OFFSET('BU17'!G$2,ROW()-2,0)/OFFSET('BU17'!$O$2,ROW()-2,0)*'BU18'!$O5,0) -> 0 | H5: =IF($O5<>0,OFFSET('BU17'!H$2,ROW()-2,0)/OFFSET('BU17'!$O$2,ROW()-2,0)*'BU18'!$O5,0) -> 14.186667 | I5: =IF($O5<>0,OFFSET('BU17'!I$2,ROW()-2,0)/OFFSET('BU17'!$O$2,ROW()-2,0)*'BU18'!$O5,0) -> 0 | J5: =IF($O5<>0,OFFSET('BU17'!J$2,ROW()-2,0)/OFFSET('BU17'!$O$2,ROW()-2,0)*'BU18'!$O5,0) -> 0 | ... N5: =IF($O5<>0,OFFSET('BU17'!N$2,ROW()-2,0)/OFFSET('BU17'!$O$2,ROW()-2,0)*'BU18'!$O5,0) -> 0 | O5: 24 | P5: 1.875 | Q5: 5.3631295
A6: 100A01-7S | B6: MODELE IVC 1 | C6: =IF($O6<>0,OFFSET('BU17'!C$2,ROW()-2,0)/OFFSET('BU17'!$O$2,ROW()-2,0)*'BU18'!$O6,0) -> 1.0909091 | D6: =IF($O6<>0,OFFSET('BU17'!D$2,ROW()-2,0)/OFFSET('BU17'!$O$2,ROW()-2,0)*'BU18'!$O6,0) -> 0.54545455 | E6: =IF($O6<>0,OFFSET('BU17'!E$2,ROW()-2,0)/OFFSET('BU17'!$O$2,ROW()-2,0)*'BU18'!$O6,0) -> 0.39669421 | F6: =IF($O6<>0,OFFSET('BU17'!F$2,ROW()-2,0)/OFFSET('BU17'!$O$2,ROW()-2,0)*'BU18'!$O6,0) -> 0.19834711 | G6: =IF($O6<>0,OFFSET('BU17'!G$2,ROW()-2,0)/OFFSET('BU17'!$O$2,ROW()-2,0)*'BU18'!$O6,0) -> 0.24793388 | H6: =IF($O6<>0,OFFSET('BU17'!H$2,ROW()-2,0)/OFFSET('BU17'!$O$2,ROW()-2,0)*'BU18'!$O6,0) -> 0.6446281 | I6: =IF($O6<>0,OFFSET('BU17'!I$2,ROW()-2,0)/OFFSET('BU17'!$O$2,ROW()-2,0)*'BU18'!$O6,0) -> 5.8016529 | J6: =IF($O6<>0,OFFSET('BU17'!J$2,ROW()-2,0)/OFFSET('BU17'!$O$2,ROW()-2,0)*'BU18'!$O6,0) -> 1.5867769 | ... N6: =IF($O6<>0,OFFSET('BU17'!N$2,ROW()-2,0)/OFFSET('BU17'!$O$2,ROW()-2,0)*'BU18'!$O6,0) -> 0.39669421 | O6: 12 | P6: 2.0166667 | Q6: 3.8808245
A7: 100A01-9 | B7: MODELE IVC 1 | C7: =IF($O7<>0,OFFSET('BU17'!C$2,ROW()-2,0)/OFFSET('BU17'!$O$2,ROW()-2,0)*'BU18'!$O7,0) -> 8.3394495 | D7: =IF($O7<>0,OFFSET('BU17'!D$2,ROW()-2,0)/OFFSET('BU17'!$O$2,ROW()-2,0)*'BU18'!$O7,0) -> 16.678899 | E7: =IF($O7<>0,OFFSET('BU17'!E$2,ROW()-2,0)/OFFSET('BU17'!$O$2,ROW()-2,0)*'BU18'!$O7,0) -> 22.238532 | F7: =IF($O7<>0,OFFSET('BU17'!F$2,ROW()-2,0)/OFFSET('BU17'!$O$2,ROW()-2,0)*'BU18'!$O7,0) -> 16.678899 | G7: =IF($O7<>0,OFFSET('BU17'!G$2,ROW()-2,0)/OFFSET('BU17'!$O$2,ROW()-2,0)*'BU18'!$O7,0) -> 13.899083 | H7: =IF($O7<>0,OFFSET('BU17'!H$2,ROW()-2,0)/OFFSET('BU17'!$O$2,ROW()-2,0)*'BU18'!$O7,0) -> 19.458716 | I7: =IF($O7<>0,OFFSET('BU17'!I$2,ROW()-2,0)/OFFSET('BU17'!$O$2,ROW()-2,0)*'BU18'!$O7,0) -> 22.238532 | J7: =IF($O7<>0,OFFSET('BU17'!J$2,ROW()-2,0)/OFFSET('BU17'!$O$2,ROW()-2,0)*'BU18'!$O7,0) -> 13.899083 | ... N7: =IF($O7<>0,OFFSET('BU17'!N$2,ROW()-2,0)/OFFSET('BU17'!$O$2,ROW()-2,0)*'BU18'!$O7,0) -> 36.137615 | O7: 303 | P7: 1.8166667 | Q7: 1.5872443
A8: 100A01-9S | B8: MODELE IVC 1 | C8: =IF($O8<>0,OFFSET('BU17'!C$2,ROW()-2,0)/OFFSET('BU17'!$O$2,ROW()-2,0)*'BU18'!$O8,0) -> 0.46153846 | D8: =IF($O8<>0,OFFSET('BU17'!D$2,ROW()-2,0)/OFFSET('BU17'!$O$2,ROW()-2,0)*'BU18'!$O8,0) -> 0 | E8: =IF($O8<>0,OFFSET('BU17'!E$2,ROW()-2,0)/OFFSET('BU17'!$O$2,ROW()-2,0)*'BU18'!$O8,0) -> 0 | F8: =IF($O8<>0,OFFSET('BU17'!F$2,ROW()-2,0)/OFFSET('BU17'!$O$2,ROW()-2,0)*'BU18'!$O8,0) -> 0 | G8: =IF($O8<>0,OFFSET('BU17'!G$2,ROW()-2,0)/OFFSET('BU17'!$O$2,ROW()-2,0)*'BU18'!$O8,0) -> 5.5384615 | H8: =IF($O8<>0,OFFSET('BU17'!H$2,ROW()-2,0)/OFFSET('BU17'!$O$2,ROW()-2,0)*'BU18'!$O8,0) -> 0 | I8: =IF($O8<>0,OFFSET('BU17'!I$2,ROW()-2,0)/OFFSET('BU17'!$O$2,ROW()-2,0)*'BU18'!$O8,0) -> 0 | J8: =IF($O8<>0,OFFSET('BU17'!J$2,ROW()-2,0)/OFFSET('BU17'!$O$2,ROW()-2,0)*'BU18'!$O8,0) -> 0 | ... N8: =IF($O8<>0,OFFSET('BU17'!N$2,ROW()-2,0)/OFFSET('BU17'!$O$2,ROW()-2,0)*'BU18'!$O8,0) -> 0 | O8: 6 | P8: 0.10833333 | Q8: 0.37527767

Sheet Feuil2
A1: ARTICLE | B1: Mois | C1: janvier | D1: février | E1: mars | F1: avril | G1: mai | H1: juin | I1: juillet | J1: août | K1: septembre | L1: octobre | M1: novembre | N1: décembre | O1: Total | P1: Moyenne | Q1: Ecart-type
A2: 0-0-4S | B2: MODELE IVC 1 | C2: 0 | D2: 0 | E2: 2.5 | F2: 0 | G2: 0 | H2: 5 | I2: 3.8 | J2: 0 | K2: 56.2 | L2: 0 | M2: 0 | N2: 10.5 | O2: 78 | P2: 6.5 | Q2: 18.984338
B3: MODELE IVC X | C3: 41.1 | D3: 9.3 | E3: 55.8 | F3: 55.8 | G3: 9.3 | H3: 52.7 | I3: 55.8 | J3: 77.2 | K3: 24.8 | L3: 18.6 | M3: 7.5 | N3: 7.5 | O3: 415.4 | P3: 34.616667 | Q3: 36.646509
B4: TOTAL | C4: 41.1 | D4: 9.3 | E4: 58.3 | F4: 55.8 | G4: 9.3 | H4: 57.7 | I4: 59.6 | J4: 77.2 | K4: 81 | L4: 18.6 | M4: 7.5 | N4: 18 | O4: 493.4 | P4: 41.116667 | Q4: 55.630846
A5: 0-0-6 | B5: MODELE IVC 1 | C5: 0 | D5: 9 | E5: 0 | F5: 0 | G5: 0 | H5: 1 | I5: 0 | J5: 0 | K5: 7 | L5: 10 | M5: 0 | N5: 0 | O5: 27 | P5: 2.25 | Q5: 4.3336175
B6: MODELE IVC X | C6: 0 | D6: 0 | E6: 0 | F6: 0 | G6: 0 | H6: 0 | I6: 0 | J6: 0 | K6: 0 | L6: 3 | M6: 0 | N6: 0 | O6: 3 | P6: 0.25 | Q6: 0.8660254
B7: TOTAL | C7: 0 | D7: 9 | E7: 0 | F7: 0 | G7: 0 | H7: 1 | I7: 0 | J7: 0 | K7: 7 | L7: 13 | M7: 0 | N7: 0 | O7: 30 | P7: 2.5 | Q7: 5.1996429
A8: 0-0-6S | B8: MODELE IVC 1 | C8: 0 | D8: 0 | E8: 0 | F8: 0 | G8: 0 | H8: 0 | I8: 0 | J8: 0 | K8: 1 | L8: 0 | M8: 1 | N8: 0.5 | O8: 2.5 | P8: 0.20833333 | Q8: 0.39648073
B9: MODELE IVC X | C9: 0 | D9: 0 | E9: 0 | F9: 0 | G9: 0 | H9: 0 | I9: 0 | J9: 0 | K9: 0 | L9: 0 | M9: 0 | N9: 0 | O9: 0 | P9: 0 | Q9: 0
B10: TOTAL | C10: 0 | D10: 0 | E10: 0 | F10: 0 | G10: 0 | H10: 0 | I10: 0 | J10: 0 | K10: 1 | L10: 0 | M10: 1 | N10: 0.5 | O10: 2.5 | P10: 0.20833333 | Q10: 0.39648073
A11: 0-0-7S | B11: MODELE IVC 1 | C11: 0 | D11: 0 | E11: 0 | F11: 0 | G11: 0 | H11: 0 | I11: 0 | J11: 0 | K11: 0 | L11: 0 | M11: 0 | N11: 0 | O11: 0 | P11: 0 | Q11: 0
B12: MODELE IVC X | C12: 0 | D12: 20 | E12: 0 | F12: 0 | G12: 0 | H12: 0 | I12: 0 | J12: 0 | K12: 0 | L12: 0 | M12: 0 | N12: 0 | O12: 20 | P12: 1.6666667 | Q12: 5.7735027
B13: TOTAL | C13: 0 | D13: 20 | E13: 0 | F13: 0 | G13: 0 | H13: 0 | I13: 0 | J13: 0 | K13: 0 | L13: 0 | M13: 0 | N13: 0 | O13: 20 | P13: 1.6666667 | Q13: 5.7735027
A14: 0-2-6 | B14: MODELE IVC 1 | C14: 0 | D14: 0 | E14: 0 | F14: 0 | G14: 0 | H14: 0 | I14: 0 | J14: 0 | K14: 0 | L14: 0 | M14: 0 | N14: 0 | O14: 0 | P14: 0 | Q14: 0
B15: MODELE IVC X | C15: 0 | D15: 0 | E15: 0 | F15: 7 | G15: 0 | H15: 0 | I15: 0 | J15: 0 | K15: 14 | L15: 0 | M15: 0 | N15: 0 | O15: 21 | P15: 1.75 | Q15: 4.3510709
B16: TOTAL | C16: 0 | D16: 0 | E16: 0 | F16: 7 | G16: 0 | H16: 0 | I16: 0 | J16: 0 | K16: 14 | L16: 0 | M16: 0 | N16: 0 | O16: 21 | P16: 1.75 | Q16: 4.3510709
A17: 0-310-66-00S | B17: MODELE IVC 1 | C17: 0 | D17: 0 | E17: 0 | F17: 1.4 | G17: 0 | H17: 0 | I17: 0 | J17: 0 | K17: 0 | L17: 0 | M17: 0 | N17: 0 | O17: 1.4 | P17: 0.11666667 | Q17: 0.40414519
B18: MODELE IVC X | C18: 0 | D18: 0 | E18: 0 | F18: 0 | G18: 7 | H18: 0 | I18: 0 | J18: 0 | K18: 0 | L18: 0 | M18: 10.5 | N18: 0.1 | O18: 17.6 | P18: 1.4666667 | Q18: 3.5155847
B19: TOTAL | C19: 0 | D19: 0 | E19: 0 | F19: 1.4 | G19: 7 | H19: 0 | I19: 0 | J19: 0 | K19: 0 | L19: 0 | M19: 10.5 | N19: 0.1 | O19: 19 | P19: 1.5833333 | Q19: 3.9197299
A20: 0-310-77-00S | B20: MODELE IVC 1 | C20: 0 | D20: 0 | E20: 0 | F20: 0 | G20: 0 | H20: 0 | I20: 0 | J20: 0 | K20: 0 | L20: 0 | M20: 0 | N20: 0 | O20: 0 | P20: 0 | Q20: 0
B21: MODELE IVC X | C21: 0 | D21: 0 | E21: 0 | F21: 7 | G21: 0 | H21: 0 | I21: 0 | J21: 0 | K21: 0 | L21: 0 | M21: 10.5 | N21: 0.1 | O21: 17.6 | P21: 1.4666667 | Q21: 3.5155847
B22: TOTAL | C22: 0 | D22: 0 | E22: 0 | F22: 7 | G22: 0 | H22: 0 | I22: 0 | J22: 0 | K22: 0 | L22: 0 | M22: 10.5 | N22: 0.1 | O22: 17.6 | P22: 1.4666667 | Q22: 3.5155847
A23: 0A6 | B23: MODELE IVC 1 | C23: 0 | D23: 0 | E23: 0 | F23: 0 | G23: 0 | H23: 0 | I23: 0 | J23: 0 | K23: 0 | L23: 0 | M23: 0 | N23: 0 | O23: 0 | P23: 0 | Q23: 0
B24: MODELE IVC X | C24: 0 | D24: 0 | E24: 0 | F24: 0 | G24: 0 | H24: 0 | I24: 0 | J24: 0 | K24: 0 | L24: 0 | M24: 1 | N24: 0 | O24: 1 | P24: 0.083333333 | Q24: 0.28867513
B25: TOTAL | C25: 0 | D25: 0 | E25: 0 | F25: 0 | G25: 0 | H25: 0 | I25: 0 | J25: 0 | K25: 0 | L25: 0 | M25: 1 | N25: 0 | O25: 1 | P25: 0.083333333 | Q25: 0.28867513
A26: 0B0-3 | B26: MODELE IVC 1 | C26: 0 | D26: 0 | E26: 0 | F26: 0 | G26: 0 | H26: 0 | I26: 0 | J26: 0 | K26: 0 | L26: 0 | M26: 0 | N26: 0 | O26: 0 | P26: 0 | Q26: 0
B27: MODELE IVC X | C27: 0 | D27: 0 | E27: 0 | F27: 0 | G27: 1 | H27: 0 | I27: 0 | J27: 0 | K27: 0 | L27: 0 | M27: 0 | N27: 0 | O27: 1 | P27: 0.083333333 | Q27: 0.28867513
B28: TOTAL | C28: 0 | D28: 0 | E28: 0 | F28: 0 | G28: 1 | H28: 0 | I28: 0 | J28: 0 | K28: 0 | L28: 0 | M28: 0 | N28: 0 | O28: 1 | P28: 0.083333333 | Q28: 0.28867513
A29: 0B0-3T | B29: MODELE IVC 1 | C29: 0 | D29: 0 | E29: 0 | F29: 0 | G29: 0 | H29: 0 | I29: 0 | J29: 0 | K29: 0 | L29: 0 | M29: 0 | N29: 0 | O29: 0 | P29: 0 | Q29: 0
B30: MODELE IVC X | C30: 0 | D30: 3.5 | E30: 1.2 | F30: 0 | G30: 0 | H30: 1 | I30: 0 | J30: 0 | K30: 0 | L30: 0 | M30: 0.8 | N30: 0 | O30: 6.5 | P30: 0.54166667 | Q30: 1.4706001
B31: TOTAL | C31: 0 | D31: 3.5 | E31: 1.2 | F31: 0 | G31: 0 | H31: 1 | I31: 0 | J31: 0 | K31: 0 | L31: 0 | M31: 0.8 | N31: 0 | O31: 6.5 | P31: 0.54166667 | Q31: 1.4706001
A32: 0B0-6 | B32: MODELE IVC 1 | C32: 0 | D32: 0 | E32: 0 | F32: 0 | G32: 0 | H32: 0 | I32: 0 | J32: 0 | K32: 0 | L32: 0 | M32: 0 | N32: 0 | O32: 0 | P32: 0 | Q32: 0
B33: MODELE IVC X | C33: 0 | D33: 0 | E33: 0 | F33: 0 | G33: 1 | H33: 0 | I33: 0 | J33: 0 | K33: 0 | L33: 0 | M33: 0 | N33: 0 | O33: 1 | P33: 0.083333333 | Q33: 0.28867513
B34: TOTAL | C34: 0 | D34: 0 | E34: 0 | F34: 0 | G34: 1 | H34: 0 | I34: 0 | J34: 0 | K34: 0 | L34: 0 | M34: 0 | N34: 0 | O34: 1 | P34: 0.083333333 | Q34: 0.28867513
A35: 0B0-7 | B35: MODELE IVC 1 | C35: 0 | D35: 0 | E35: 0 | F35: 0 | G35: 0 | H35: 0 | I35: 0 | J35: 0 | K35: 0 | L35: 0 | M35: 0 | N35: 0 | O35: 0 | P35: 0 | Q35: 0
B36: MODELE IVC X | C36: 35.7 | D36: 22 | E36: 94.2 | F36: 14.6 | G36: 0.2 | H36: 51.1 | I36: 116.8 | J36: 0 | K36: 14.6 | L36: 4 | M36: 14.8 | N36: 0 | O36: 368 | P36: 30.666667 | Q36: 48.054183
B37: TOTAL | C37: 35.7 | D37: 22 | E37: 94.2 | F37: 14.6 | G37: 0.2 | H37: 51.1 | I37: 116.8 | J37: 0 | K37: 14.6 | L37: 4 | M37: 14.8 | N37: 0 | O37: 368 | P37: 30.666667 | Q37: 48.054183
A38: 0B0-9 | B38: MODELE IVC 1 | C38: 0 | D38: 0 | E38: 0 | F38: 0 | G38: 0 | H38: 0 | I38: 0 | J38: 0 | K38: 0 | L38: 0 | M38: 0 | N38: 0 | O38: 0 | P38: 0 | Q38: 0
B39: MODELE IVC X | C39: 0 | D39: 0 | E39: 0 | F39: 0 | G39: 1 | H39: 0 | I39: 0 | J39: 0 | K39: 0 | L39: 0 | M39: 0 | N39: 0 | O39: 1 | P39: 0.083333333 | Q39: 0.28867513
B40: TOTAL | C40: 0 | D40: 0 | E40: 0 | F40: 0 | G40: 1 | H40: 0 | I40: 0 | J40: 0 | K40: 0 | L40: 0 | M40: 0 | N40: 0 | O40: 1 | P40: 0.083333333 | Q40: 0.28867513
...

Sheet Feuil3
A1: ARTICLE | B1: MODELE | C1: Janvier | D1: Février | E1: Mars | F1: Avril | G1: Mai | H1: Juin | I1: Juillet | J1: Août | K1: Septembre | L1: Octobre | M1: Novembre | N1: Décembre | O1: TOTAL
A2: 100A01-4 | B2: MODELE IVC | O2: 108
A3: 100A01-41 | B3: MODELE IVC | O3: 199
A4: 100A01-7 | B4: MODELE IVC | O4: 24
A5: 100a01-7 | B5: MODELE IVC | O5: 24
A6: 100A01-7S | B6: MODELE IVC | O6: 12
A7: 100A01-9 | B7: MODELE IVC | O7: 303
A8: 100A01-9S | B8: MODELE IVC | O8: 6
A9: 100AL02Y00 | B9: MODELE IVC | O9: 96
A10: 100BB02Y06 | B10: MODELE IVC | O10: 58
A11: 100EG01Y00 | B11: MODELE IVC | O11: 3
A12: 100KU01-6AA | B12: MODELE IVC | O12: 72
A13: 100M12Z37 | B13: MODELE IVC | O13: 160
... A225: 146SG01Y01 | B225: MODELE IVC | O225: 13.48
A226: 14757 | B226: MODELE IVC | O226: 44
A227: 147SG01Y01 | B227: MODELE IVC | O227: 34
A228: 147ZT02Y01 | B228: MODELE IVC | O228: 3
A229: 148PF01LHY03 | B229: MODELE IVC | O229: 85
A230: 148PF01RHY03 | B230: MODELE IVC | O230: 85
A231: 148SG01Y01 | B231: MODELE IVC | O231: 35
A232: 148ZT02Y00 | B232: MODELE IVC | O232: 12
A233: 149SG01Y01 | B233: MODELE IVC | O233: 17
A234: 150PF01Y00 | B234: MODELE IVC | O234: 20
A235: 150PS01A5A | B235: MODELE IVC | O235: 22
A236: 150PS01B5A | B236: MODELE IVC | O236: 16
A237: 151SG01Y00 | B237: MODELE IVC | O237: 100
A238: 155M22K00946298 | B238: MODELE IVC | O238: 6
... A514: 307Z21K00075000 | B514: MODELE IVC | O514: 88
A515: 3094546 | B515: MODELE IVC | O515: 300
A516: 310J01J00025171 | B516: MODELE IVC | O516: 12
A517: 310J01J00025188 | B517: MODELE IVC | O517: 12
A518: 310J01J00025190 | B518: MODELE IVC | O518: 12
A519: 310J01NJV1062 | B519: MODELE IVC | O519: 60
A520: 310TS10Y00 | B520: MODELE IVC | O520: 22
A521: 310VR01K1L76-10 | B521: MODELE IVC | O521: 4
A522: 310VR01K1R23BGW | B522: MODELE IVC | O522: 201.1776
A523: 310VR01M1A76BMA | B523: MODELE IVC | O523: 25.7088
A524: 3129033 | B524: MODELE IVC | O524: 48
A525: 3129881 | B525: MODELE IVC | O525: 10
A526: 3129903Y01 | B526: MODELE IVC | O526: 60
...
