Workbook

Sheet BU17
A1: BU17
A2: ARTICLE | B2: Mois | C2: janvier | D2: février | E2: mars | F2: avril | G2: mai | H2: juin | I2: juillet | J2: août | K2: septembre | L2: octobre | M2: novembre | N2: décembre | O2: Total | P2: Moyenne | Q2: Ecart-type
A3: 0-0-4S | B3: MODELE IVC 1 | C3: 0 | D3: 0 | E3: 0 | F3: 0 | G3: 0 | H3: 0 | I3: 0 | J3: 0 | K3: 0 | L3: 0 | M3: 0 | N3: 0 | O3: =SUM(C3:N3) -> 0
A4: 100A01-7 | B4: MODELE IVC 1 | C4: 0 | D4: 0 | E4: 0 | F4: 0 | G4: 0 | H4: 2.8 | I4: 0 | J4: 0 | K4: 0 | L4: 0 | M4: 17.5 | N4: 0 | O4: =SUM(C4:N4) -> 20.3
A5: 100a01-7 | B5: MODELE IVC 1 | C5: 0 | D5: 0 | E5: 4.2 | F5: 5 | G5: 0 | H5: 13.3 | I5: 0 | J5: 0 | K5: 0 | L5: 0 | M5: 0 | N5: 0 | O5: =SUM(C5:N5) -> 22.5
A6: 100A01-7S | B6: MODELE IVC 1 | C6: 2.2 | D6: 1.1 | E6: 0.8 | F6: 0.4 | G6: 0.5 | H6: 1.3 | I6: 11.7 | J6: 3.2 | K6: 0.8 | L6: 0.2 | M6: 1.2 | N6: 0.8 | O6: =SUM(C6:N6) -> 24.2
A7: 100A01-9 | B7: MODELE IVC 1 | C7: 0.6 | D7: 1.2 | E7: 1.6 | F7: 1.2 | G7: 1 | H7: 1.4 | I7: 1.6 | J7: 1 | K7: 1.2 | L7: 2.8 | M7: 5.6 | N7: 2.6 | O7: =SUM(C7:N7) -> 21.8
A8: 100A01-9S | B8: MODELE IVC 1 | C8: 0.1 | D8: 0 | E8: 0 | F8: 0 | G8: 1.2 | H8: 0 | I8: 0 | J8: 0 | K8: 0 | L8: 0 | M8: 0 | N8: 0 | O8: =SUM(C8:N8) -> 1.3

Sheet BU18
A1: BU18
A2: ARTICLE | B2: Mois | C2: janvier | D2: février | E2: mars | F2: avril | G2: mai | H2: juin | I2: juillet | J2: août | K2: septembre | L2: octobre | M2: novembre | N2: décembre | O2: Total | P2: Moyenne | Q2: Ecart-type
A3: 0-0-4S | B3: MODELE IVC 1 | C3: =IF($O3<>0,OFFSET('BU17'!C$2,ROW()-2,0)/OFFSET('BU17'!$O$2,ROW()-2,0)*'BU18'!$O3,0) -> 0 | D3: =IF($O3<>0,OFFSET('BU17'!D$2,ROW()-2,0)/OFFSET('BU17'!$O$2,ROW()-2,0)*'BU18'!$O3,0) -> 0 | E3: =IF($O3<>0,OFFSET('BU17'!E$2,ROW()-2,0)/OFFSET('BU17'!$O$2,ROW()-2,0)*'BU18'!$O3,0) -> 0 | F3: =IF($O3<>0,OFFSET('BU17'!F$2,ROW()-2,0)/OFFSET('BU17'!$O$2,ROW()-2,0)*'BU18'!$O3,0) -> 0 | G3: =IF($O3<>0,OFFSET('BU17'!G$2,ROW()-2,0)/OFFSET('BU17'!$O$2,ROW()-2,0)*'BU18'!$O3,0) -> 0 | H3: =IF($O3<>0,OFFSET('BU17'!H$2,ROW()-2,0)/OFFSET('BU17'!$O$2,ROW()-2,0)*'BU18'!$O3,0) -> 0 | I3: =IF($O3<>0,OFFSET('BU17'!I$2,ROW()-2,0)/OFFSET('BU17'!$O$2,ROW()-2,0)*'BU18'!$O3,0) -> 0 | J3: =IF($O3<>0,OFFSET('BU17'!J$2,ROW()-2,0)/OFFSET('BU17'!$O$2,ROW()-2,0)*'BU18'!$O3,0) -> 0 | ... N3: =IF($O3<>0,OFFSET('BU17'!N$2,ROW()-2,0)/OFFSET('BU17'!$O$2,ROW()-2,0)*'BU18'!$O3,0) -> 0 | O3: 0 | P3: 0 | Q3: 0
A4: 100A01-7 | B4: MODELE IVC 1 | C4: =IF($O4<>0,OFFSET('BU17'!C$2,ROW()-2,0)/OFFSET('BU17'!$O$2,ROW()-2,0)*'BU18'!$O4,0) -> 0 | D4: =IF($O4<>0,OFFSET('BU17'!D$2,ROW()-2,0)/OFFSET('BU17'!$O$2,ROW()-2,0)*'BU18'!$O4,0) -> 0 | E4: =IF($O4<>0,OFFSET('BU17'!E$2,ROW()-2,0)/OFFSET('BU17'!$O$2,ROW()-2,0)*'BU18'!$O4,0) -> 0 | F4: =IF($O4<>0,OFFSET('BU17'!F$2,ROW()-2,0)/OFFSET('BU17'!$O$2,ROW()-2,0)*'BU18'!$O4,0) -> 0 | G4: =IF($O4<>0,OFFSET('BU17'!G$2,ROW()-2,0)/OFFSET('BU17'!$O$2,ROW()-2,0)*'BU18'!$O4,0) -> 0 | H4: =IF($O4<>0,OFFSET('BU17'!H$2,ROW()-2,0)/OFFSET('BU17'!$O$2,ROW()-2,0)*'BU18'!$O4,0) -> 3.3103448 | I4: =IF($O4<>0,OFFSET('BU17'!I$2,ROW()-2,0)/OFFSET('BU17'!$O$2,ROW()-2,0)*'BU18'!$O4,0) -> 0 | J4: =IF($O4<>0,OFFSET('BU17'!J$2,ROW()-2,0)/OFFSET('BU17'!$O$2,ROW()-2,0)*'BU18'!$O4,0) -> 0 | ... N4: =IF($O4<>0,OFFSET('BU17'!N$2,ROW()-2,0)/OFFSET('BU17'!$O$2,ROW()-2,0)*'BU18'!$O4,0) -> 0 | O4: 24 | P4: 1.6916667 | Q4: 5.0429894
A5: 100a01-7 | B5: MODELE IVC 1 | C5: =IF($O5<>0,OFFSET('BU17'!C$2,ROW()-2,0)/OFFSET('BU17'!$O$2,ROW()-2,0)*'BU18'!$O5,0) -> 0 | D5: =IF($O5<>0,OFFSET('BU17'!D$2,ROW()-2,0)/OFFSET('BU17'!$O$2,ROW()-2,0)*'BU18'!$O5,0) -> 0 | E5: =IF($O5<>0,OFFSET('BU17'!E$2,ROW()-2,0)/OFFSET('BU17'!$O$2,ROW()-2,0)*'BU18'!$O5,0) -> 4.48 | F5: =IF($O5<>0,OFFSET('BU17'!F$2,ROW()-2,0)/OFFSET('BU17'!$O$2,ROW()-2,0)*'BU18'!$O5,0) -> 5.3333333 | G5: =IF($O5<>0,OFFSET('BU17'!G$2,ROW()-2,0)/OFFSET('BU17'!$O$2,ROW()-2,0)*'BU18'!$O5,0) -> 0 | H5: =IF($O5<>0,OFFSET('BU17'!H$2,ROW()-2,0)/OFFSET('BU17'!$O$2,ROW()-2,0)*'BU18'!$O5,0) -> 14.186667 | I5: =IF($O5<>0,OFFSET('BU17'!I$2,ROW()-2,0)/OFFSET('BU17'!$O$2,ROW()-2,0)*'BU18'!$O5,0) -> 0 | J5: =IF($O5<>0,OFFSET('BU17'!J$2,ROW()-2,0)/OFFSET('BU17'!$O$2,ROW()-2,0)*'BU18'!$O5,0) -> 0 | ... N5: =IF($O5<>0,OFFSET('BU17'!N$2,ROW()-2,0)/OFFSET('BU17'!$O$2,ROW()-2,0)*'BU18'!$O5,0) -> 0 | O5: 24 | P5: 1.875 | Q5: 5.3631295
A6: 100A01-7S | B6: MODELE IVC 1 | C6: =IF($O6<>0,OFFSET('BU17'!C$2,ROW()-2,0)/OFFSET('BU17'!$O$2,ROW()-2,0)*'BU18'!$O6,0) -> 1.0909091 | D6: =IF($O6<>0,OFFSET('BU17'!D$2,ROW()-2,0)/OFFSET('BU17'!$O$2,ROW()-2,0)*'BU18'!$O6,0) -> 0.54545455 | E6: =IF($O6<>0,OFFSET('BU17'!E$2,ROW()-2,0)/OFFSET('BU17'!$O$2,ROW()-2,0)*'BU18'!$O6,0) -> 0.39669421 | F6: =IF($O6<>0,OFFSET('BU17'!F$2,ROW()-2,0)/OFFSET('BU17'!$O$2,ROW()-2,0)*'BU18'!$O6,0) -> 0.19834711 | G6: =IF($O6<>0,OFFSET('BU17'!G$2,ROW()-2,0)/OFFSET('BU17'!$O$2,ROW()-2,0)*'BU18'!$O6,0) -> 0.24793388 | H6: =IF($O6<>0,OFFSET('BU17'!H$2,ROW()-2,0)/OFFSET('BU17'!$O$2,ROW()-2,0)*'BU18'!$O6,0) -> 0.6446281 | I6: =IF($O6<>0,OFFSET('BU17'!I$2,ROW()-2,0)/OFFSET('BU17'!$O$2,ROW()-2,0)*'BU18'!$O6,0) -> 5.8016529 | J6: =IF($O6<>0,OFFSET('BU17'!J$2,ROW()-2,0)/OFFSET('BU17'!$O$2,ROW()-2,0)*'BU18'!$O6,0) -> 1.5867769 | ... N6: =IF($O6<>0,OFFSET('BU17'!N$2,ROW()-2,0)/OFFSET('BU17'!$O$2,ROW()-2,0)*'BU18'!$O6,0) -> 0.39669421 | O6: 12 | P6: 2.0166667 | Q6: 3.8808245
A7: 100A01-9 | B7: MODELE IVC 1 | C7: =IF($O7<>0,OFFSET('BU17'!C$2,ROW()-2,0)/OFFSET('BU17'!$O$2,ROW()-2,0)*'BU18'!$O7,0) -> 8.3394495 | D7: =IF($O7<>0,OFFSET('BU17'!D$2,ROW()-2,0)/OFFSET('BU17'!$O$2,ROW()-2,0)*'BU18'!$O7,0) -> 16.678899 | E7: =IF($O7<>0,OFFSET('BU17'!E$2,ROW()-2,0)/OFFSET('BU17'!$O$2,ROW()-2,0)*'BU18'!$O7,0) -> 22.238532 | F7: =IF($O7<>0,OFFSET('BU17'!F$2,ROW()-2,0)/OFFSET('BU17'!$O$2,ROW()-2,0)*'BU18'!$O7,0) -> 16.678899 | G7: =IF($O7<>0,OFFSET('BU17'!G$2,ROW()-2,0)/OFFSET('BU17'!$O$2,ROW()-2,0)*'BU18'!$O7,0) -> 13.899083 | H7: =IF($O7<>0,OFFSET('BU17'!H$2,ROW()-2,0)/OFFSET('BU17'!$O$2,ROW()-2,0)*'BU18'!$O7,0) -> 19.458716 | I7: =IF($O7<>0,OFFSET('BU17'!I$2,ROW()-2,0)/OFFSET('BU17'!$O$2,ROW()-2,0)*'BU18'!$O7,0) -> 22.238532 | J7: =IF($O7<>0,OFFSET('BU17'!J$2,ROW()-2,0)/OFFSET('BU17'!$O$2,ROW()-2,0)*'BU18'!$O7,0) -> 13.899083 | ... N7: =IF($O7<>0,OFFSET('BU17'!N$2,ROW()-2,0)/OFFSET('BU17'!$O$2,ROW()-2,0)*'BU18'!$O7,0) -> 36.137615 | O7: 303 | P7: 1.8166667 | Q7: 1.5872443
A8: 100A01-9S | B8: MODELE IVC 1 | C8: =IF($O8<>0,OFFSET('BU17'!C$2,ROW()-2,0)/OFFSET('BU17'!$O$2,ROW()-2,0)*'BU18'!$O8,0) -> 0.46153846 | D8: =IF($O8<>0,OFFSET('BU17'!D$2,ROW()-2,0)/OFFSET('BU17'!$O$2,ROW()-2,0)*'BU18'!$O8,0) -> 0 | E8: =IF($O8<>0,OFFSET('BU17'!E$2,ROW()-2,0)/OFFSET('BU17'!$O$2,ROW()-2,0)*'BU18'!$O8,0) -> 0 | F8: =IF($O8<>0,OFFSET('BU17'!F$2,ROW()-2,0)/OFFSET('BU17'!$O$2,ROW()-2,0)*'BU18'!$O8,0) -> 0 | G8: =IF($O8<>0,OFFSET('BU17'!G$2,ROW()-2,0)/OFFSET('BU17'!$O$2,ROW()-2,0)*'BU18'!$O8,0) -> 5.5384615 | H8: =IF($O8<>0,OFFSET('BU17'!H$2,ROW()-2,0)/OFFSET('BU17'!$O$2,ROW()-2,0)*'BU18'!$O8,0) -> 0 | I8: =IF($O8<>0,OFFSET('BU17'!I$2,ROW()-2,0)/OFFSET('BU17'!$O$2,ROW()-2,0)*'BU18'!$O8,0) -> 0 | J8: =IF($O8<>0,OFFSET('BU17'!J$2,ROW()-2,0)/OFFSET('BU17'!$O$2,ROW()-2,0)*'BU18'!$O8,0) -> 0 | ... N8: =IF($O8<>0,OFFSET('BU17'!N$2,ROW()-2,0)/OFFSET('BU17'!$O$2,ROW()-2,0)*'BU18'!$O8,0) -> 0 | O8: 6 | P8: 0.10833333 | Q8: 0.37527767

Sheet Feuil2
A1: ARTICLE | B1: Mois | C1: janvier | D1: février | E1: mars | F1: avril | G1: mai | H1: juin | I1: juillet | J1: août | K1: septembre | L1: octobre | M1: novembre | N1: décembre | O1: Total | P1: Moyenne | Q1: Ecart-type
A2: 0-0-4S | B2: MODELE IVC 1 | C2: 0 | D2: 0 | E2: 2.5 | F2: 0 | G2: 0 | H2: 5 | I2: 3.8 | J2: 0 | K2: 56.2 | L2: 0 | M2: 0 | N2: 10.5 | O2: 78 | P2: 6.5 | Q2: 18.984338
B3: MODELE IVC X | C3: 41.1 | D3: 9.3 | E3: 55.8 | F3: 55.8 | G3: 9.3 | H3: 52.7 | I3: 55.8 | J3: 77.2 | K3: 24.8 | L3: 18.6 | M3: 7.5 | N3: 7.5 | O3: 415.4 | P3: 34.616667 | Q3: 36.646509
B4: TOTAL | C4: 41.1 | D4: 9.3 | E4: 58.3 | F4: 55.8 | G4: 9.3 | H4: 57.7 | I4: 59.6 | J4: 77.2 | K4: 81 | L4: 18.6 | M4: 7.5 | N4: 18 | O4: 493.4 | P4: 41.116667 | Q4: 55.630846
A5: 0-0-6 | B5: MODELE IVC 1 | C5: 0 | D5: 9 | E5: 0 | F5: 0 | G5: 0 | H5: 1 | I5: 0 | J5: 0 | K5: 7 | L5: 10 | M5: 0 | N5: 0 | O5: 27 | P5: 2.25 | Q5: 4.3336175
B6: MODELE IVC X | C6: 0 | D6: 0 | E6: 0 | F6: 0 | G6: 0 | H6: 0 | I6: 0 | J6: 0 | K6: 0 | L6: 3 | M6: 0 | N6: 0 | O6: 3 | P6: 0.25 | Q6: 0.8660254
B7: TOTAL | C7: 0 | D7: 9 | E7: 0 | F7: 0 | G7: 0 | H7: 1 | I7: 0 | J7: 0 | K7: 7 | L7: 13 | M7: 0 | N7: 0 | O7: 30 | P7: 2.5 | Q7: 5.1996429
A8: 0-0-6S | B8: MODELE IVC 1 | C8: 0 | D8: 0 | E8: 0 | F8: 0 | G8: 0 | H8: 0 | I8: 0 | J8: 0 | K8: 1 | L8: 0 | M8: 1 | N8: 0.5 | O8: 2.5 | P8: 0.20833333 | Q8: 0.39648073
B9: MODELE IVC X | C9: 0 | D9: 0 | E9: 0 | F9: 0 | G9: 0 | H9: 0 | I9: 0 | J9: 0 | K9: 0 | L9: 0 | M9: 0 | N9: 0 | O9: 0 | P9: 0 | Q9: 0
B10: TOTAL | C10: 0 | D10: 0 | E10: 0 | F10: 0 | G10: 0 | H10: 0 | I10: 0 | J10: 0 | K10: 1 | L10: 0 | M10: 1 | N10: 0.5 | O10: 2.5 | P10: 0.20833333 | Q10: 0.39648073
A11: 0-0-7S | B11: MODELE IVC 1 | C11: 0 | D11: 0 | E11: 0 | F11: 0 | G11: 0 | H11: 0 | I11: 0 | J11: 0 | K11: 0 | L11: 0 | M11: 0 | N11: 0 | O11: 0 | P11: 0 | Q11: 0
B12: MODELE IVC X | C12: 0 | D12: 20 | E12: 0 | F12: 0 | G12: 0 | H12: 0 | I12: 0 | J12: 0 | K12: 0 | L12: 0 | M12: 0 | N12: 0 | O12: 20 | P12: 1.6666667 | Q12: 5.7735027
B13: TOTAL | C13: 0 | D13: 20 | E13: 0 | F13: 0 | G13: 0 | H13: 0 | I13: 0 | J13: 0 | K13: 0 | L13: 0 | M13: 0 | N13: 0 | O13: 20 | P13: 1.6666667 | Q13: 5.7735027
A14: 0-2-6 | B14: MODELE IVC 1 | C14: 0 | D14: 0 | E14: 0 | F14: 0 | G14: 0 | H14: 0 | I14: 0 | J14: 0 | K14: 0 | L14: 0 | M14: 0 | N14: 0 | O14: 0 | P14: 0 | Q14: 0
B15: MODELE IVC X | C15: 0 | D15: 0 | E15: 0 | F15: 7 | G15: 0 | H15: 0 | I15: 0 | J15: 0 | K15: 14 | L15: 0 | M15: 0 | N15: 0 | O15: 21 | P15: 1.75 | Q15: 4.3510709
B16: TOTAL | C16: 0 | D16: 0 | E16: 0 | F16: 7 | G16: 0 | H16: 0 | I16: 0 | J16: 0 | K16: 14 | L16: 0 | M16: 0 | N16: 0 | O16: 21 | P16: 1.75 | Q16: 4.3510709
A17: 0-310-66-00S | B17: MODELE IVC 1 | C17: 0 | D17: 0 | E17: 0 | F17: 1.4 | G17: 0 | H17: 0 | I17: 0 | J17: 0 | K17: 0 | L17: 0 | M17: 0 | N17: 0 | O17: 1.4 | P17: 0.11666667 | Q17: 0.40414519
B18: MODELE IVC X | C18: 0 | D18: 0 | E18: 0 | F18: 0 | G18: 7 | H18: 0 | I18: 0 | J18: 0 | K18: 0 | L18: 0 | M18: 10.5 | N18: 0.1 | O18: 17.6 | P18: 1.4666667 | Q18: 3.5155847
B19: TOTAL | C19: 0 | D19: 0 | E19: 0 | F19: 1.4 | G19: 7 | H19: 0 | I19: 0 | J19: 0 | K19: 0 | L19: 0 | M19: 10.5 | N19: 0.1 | O19: 19 | P19: 1.5833333 | Q19: 3.9197299
A20: 0-310-77-00S | B20: MODELE IVC 1 | C20: 0 | D20: 0 | E20: 0 | F20: 0 | G20: 0 | H20: 0 | I20: 0 | J20: 0 | K20: 0 | L20: 0 | M20: 0 | N20: 0 | O20: 0 | P20: 0 | Q20: 0
B21: MODELE IVC X | C21: 0 | D21: 0 | E21: 0 | F21: 7 | G21: 0 | H21: 0 | I21: 0 | J21: 0 | K21: 0 | L21: 0 | M21: 10.5 | N21: 0.1 | O21: 17.6 | P21: 1.4666667 | Q21: 3.5155847
B22: TOTAL | C22: 0 | D22: 0 | E22: 0 | F22: 7 | G22: 0 | H22: 0 | I22: 0 | J22: 0 | K22: 0 | L22: 0 | M22: 10.5 | N22: 0.1 | O22: 17.6 | P22: 1.4666667 | Q22: 3.5155847
A23: 0A6 | B23: MODELE IVC 1 | C23: 0 | D23: 0 | E23: 0 | F23: 0 | G23: 0 | H23: 0 | I23: 0 | J23: 0 | K23: 0 | L23: 0 | M23: 0 | N23: 0 | O23: 0 | P23: 0 | Q23: 0
B24: MODELE IVC X | C24: 0 | D24: 0 | E24: 0 | F24: 0 | G24: 0 | H24: 0 | I24: 0 | J24: 0 | K24: 0 | L24: 0 | M24: 1 | N24: 0 | O24: 1 | P24: 0.083333333 | Q24: 0.28867513
B25: TOTAL | C25: 0 | D25: 0 | E25: 0 | F25: 0 | G25: 0 | H25: 0 | I25: 0 | J25: 0 | K25: 0 | L25: 0 | M25: 1 | N25: 0 | O25: 1 | P25: 0.083333333 | Q25: 0.28867513
A26: 0B0-3 | B26: MODELE IVC 1 | C26: 0 | D26: 0 | E26: 0 | F26: 0 | G26: 0 | H26: 0 | I26: 0 | J26: 0 | K26: 0 | L26: 0 | M26: 0 | N26: 0 | O26: 0 | P26: 0 | Q26: 0
B27: MODELE IVC X | C27: 0 | D27: 0 | E27: 0 | F27: 0 | G27: 1 | H27: 0 | I27: 0 | J27: 0 | K27: 0 | L27: 0 | M27: 0 | N27: 0 | O27: 1 | P27: 0.083333333 | Q27: 0.28867513
B28: TOTAL | C28: 0 | D28: 0 | E28: 0 | F28: 0 | G28: 1 | H28: 0 | I28: 0 | J28: 0 | K28: 0 | L28: 0 | M28: 0 | N28: 0 | O28: 1 | P28: 0.083333333 | Q28: 0.28867513
A29: 0B0-3T | B29: MODELE IVC 1 | C29: 0 | D29: 0 | E29: 0 | F29: 0 | G29: 0 | H29: 0 | I29: 0 | J29: 0 | K29: 0 | L29: 0 | M29: 0 | N29: 0 | O29: 0 | P29: 0 | Q29: 0
B30: MODELE IVC X | C30: 0 | D30: 3.5 | E30: 1.2 | F30: 0 | G30: 0 | H30: 1 | I30: 0 | J30: 0 | K30: 0 | L30: 0 | M30: 0.8 | N30: 0 | O30: 6.5 | P30: 0.54166667 | Q30: 1.4706001
B31: TOTAL | C31: 0 | D31: 3.5 | E31: 1.2 | F31: 0 | G31: 0 | H31: 1 | I31: 0 | J31: 0 | K31: 0 | L31: 0 | M31: 0.8 | N31: 0 | O31: 6.5 | P31: 0.54166667 | Q31: 1.4706001
A32: 0B0-6 | B32: MODELE IVC 1 | C32: 0 | D32: 0 | E32: 0 | F32: 0 | G32: 0 | H32: 0 | I32: 0 | J32: 0 | K32: 0 | L32: 0 | M32: 0 | N32: 0 | O32: 0 | P32: 0 | Q32: 0
B33: MODELE IVC X | C33: 0 | D33: 0 | E33: 0 | F33: 0 | G33: 1 | H33: 0 | I33: 0 | J33: 0 | K33: 0 | L33: 0 | M33: 0 | N33: 0 | O33: 1 | P33: 0.083333333 | Q33: 0.28867513
B34: TOTAL | C34: 0 | D34: 0 | E34: 0 | F34: 0 | G34: 1 | H34: 0 | I34: 0 | J34: 0 | K34: 0 | L34: 0 | M34: 0 | N34: 0 | O34: 1 | P34: 0.083333333 | Q34: 0.28867513
A35: 0B0-7 | B35: MODELE IVC 1 | C35: 0 | D35: 0 | E35: 0 | F35: 0 | G35: 0 | H35: 0 | I35: 0 | J35: 0 | K35: 0 | L35: 0 | M35: 0 | N35: 0 | O35: 0 | P35: 0 | Q35: 0
B36: MODELE IVC X | C36: 35.7 | D36: 22 | E36: 94.2 | F36: 14.6 | G36: 0.2 | H36: 51.1 | I36: 116.8 | J36: 0 | K36: 14.6 | L36: 4 | M36: 14.8 | N36: 0 | O36: 368 | P36: 30.666667 | Q36: 48.054183
B37: TOTAL | C37: 35.7 | D37: 22 | E37: 94.2 | F37: 14.6 | G37: 0.2 | H37: 51.1 | I37: 116.8 | J37: 0 | K37: 14.6 | L37: 4 | M37: 14.8 | N37: 0 | O37: 368 | P37: 30.666667 | Q37: 48.054183
A38: 0B0-9 | B38: MODELE IVC 1 | C38: 0 | D38: 0 | E38: 0 | F38: 0 | G38: 0 | H38: 0 | I38: 0 | J38: 0 | K38: 0 | L38: 0 | M38: 0 | N38: 0 | O38: 0 | P38: 0 | Q38: 0
B39: MODELE IVC X | C39: 0 | D39: 0 | E39: 0 | F39: 0 | G39: 1 | H39: 0 | I39: 0 | J39: 0 | K39: 0 | L39: 0 | M39: 0 | N39: 0 | O39: 1 | P39: 0.083333333 | Q39: 0.28867513
B40: TOTAL | C40: 0 | D40: 0 | E40: 0 | F40: 0 | G40: 1 | H40: 0 | I40: 0 | J40: 0 | K40: 0 | L40: 0 | M40: 0 | N40: 0 | O40: 1 | P40: 0.083333333 | Q40: 0.28867513
A41: 0FCA2FEA0005728 | B41: MODELE IVC 1 | C41: 0 | D41: 0 | E41: 0 | F41: 0 | G41: 0 | H41: 1.4 | I41: 0 | J41: 0 | K41: 0 | L41: 0 | M41: 0 | N41: 0 | O41: 1.4 | P41: 0.11666667 | Q41: 0.40414519
B42: MODELE IVC X | C42: 0 | D42: 0 | E42: 0 | F42: 0 | G42: 0 | H42: 0 | I42: 0 | J42: 0 | K42: 0 | L42: 0 | M42: 0 | N42: 0 | O42: 0 | P42: 0 | Q42: 0
B43: TOTAL | C43: 0 | D43: 0 | E43: 0 | F43: 0 | G43: 0 | H43: 1.4 | I43: 0 | J43: 0 | K43: 0 | L43: 0 | M43: 0 | N43: 0 | O43: 1.4 | P43: 0.11666667 | Q43: 0.40414519
A44: 0FCA2FEA0A05727 | B44: MODELE IVC 1 | C44: 0 | D44: 0 | E44: 0 | F44: 0 | G44: 0 | H44: 0.7 | I44: 0 | J44: 0 | K44: 0 | L44: 0 | M44: 0 | N44: 0 | O44: 0.7 | P44: 0.058333333 | Q44: 0.20207259
B45: MODELE IVC X | C45: 0 | D45: 0 | E45: 0 | F45: 0 | G45: 0 | H45: 0 | I45: 0 | J45: 0 | K45: 0 | L45: 0 | M45: 0 | N45: 0 | O45: 0 | P45: 0 | Q45: 0
B46: TOTAL | C46: 0 | D46: 0 | E46: 0 | F46: 0 | G46: 0 | H46: 0.7 | I46: 0 | J46: 0 | K46: 0 | L46: 0 | M46: 0 | N46: 0 | O46: 0.7 | P46: 0.058333333 | Q46: 0.20207259
A47: 0FCA2FER0A05421 | B47: MODELE IVC 1 | C47: 0 | D47: 0 | E47: 0 | F47: 0 | G47: 0 | H47: 0 | I47: 0 | J47: 0 | K47: 0 | L47: 0 | M47: 0 | N47: 0 | O47: 0 | P47: 0 | Q47: 0
B48: MODELE IVC X | C48: 0.1 | D48: 0 | E48: 0 | F48: 0 | G48: 0 | H48: 0 | I48: 0 | J48: 0 | K48: 0 | L48: 0 | M48: 0 | N48: 0 | O48: 0.1 | P48: 0.0083333333 | Q48: 0.028867513
B49: TOTAL | C49: 0.1 | D49: 0 | E49: 0 | F49: 0 | G49: 0 | H49: 0 | I49: 0 | J49: 0 | K49: 0 | L49: 0 | M49: 0 | N49: 0 | O49: 0.1 | P49: 0.0083333333 | Q49: 0.028867513
A50: 0FCA2FER0W05429 | B50: MODELE IVC 1 | C50: 0 | D50: 0 | E50: 0 | F50: 0 | G50: 0 | H50: 1.4 | I50: 0 | J50: 0 | K50: 0 | L50: 0 | M50: 0 | N50: 0 | O50: 1.4 | P50: 0.11666667 | Q50: 0.40414519
B51: MODELE IVC X | C51: 0 | D51: 0 | E51: 0 | F51: 0 | G51: 0 | H51: 0 | I51: 0 | J51: 0 | K51: 0 | L51: 0 | M51: 0 | N51: 0 | O51: 0 | P51: 0 | Q51: 0
B52: TOTAL | C52: 0 | D52: 0 | E52: 0 | F52: 0 | G52: 0 | H52: 1.4 | I52: 0 | J52: 0 | K52: 0 | L52: 0 | M52: 0 | N52: 0 | O52: 1.4 | P52: 0.11666667 | Q52: 0.40414519
A53: 0FCA2FEW0B01285 | B53: MODELE IVC 1 | C53: 0 | D53: 0 | E53: 0 | F53: 0 | G53: 0 | H53: 0 | I53: 0 | J53: 0 | K53: 0 | L53: 0 | M53: 0.2 | N53: 0 | O53: 0.2 | P53: 0.016666667 | Q53: 0.057735027
B54: MODELE IVC X | C54: 0 | D54: 0 | E54: 0 | F54: 0 | G54: 0 | H54: 0 | I54: 0 | J54: 0 | K54: 0 | L54: 0 | M54: 0 | N54: 0 | O54: 0 | P54: 0 | Q54: 0
B55: TOTAL | C55: 0 | D55: 0 | E55: 0 | F55: 0 | G55: 0 | H55: 0 | I55: 0 | J55: 0 | K55: 0 | L55: 0 | M55: 0.2 | N55: 0 | O55: 0.2 | P55: 0.016666667 | Q55: 0.057735027
A56: 0FCA2FEW0V01285 | B56: MODELE IVC 1 | C56: 0.2 | D56: 0 | E56: 0 | F56: 0 | G56: 0.2 | H56: 0 | I56: 0 | J56: 0.3 | K56: 0.4 | L56: 0 | M56: 0.2 | N56: 0 | O56: 1.3 | P56: 0.10833333 | Q56: 0.23267878
B57: MODELE IVC X | C57: 0 | D57: 0 | E57: 0 | F57: 0 | G57: 0 | H57: 0 | I57: 0 | J57: 0 | K57: 0 | L57: 0 | M57: 0 | N57: 0 | O57: 0 | P57: 0 | Q57: 0
B58: TOTAL | C58: 0.2 | D58: 0 | E58: 0 | F58: 0 | G58: 0.2 | H58: 0 | I58: 0 | J58: 0.3 | K58: 0.4 | L58: 0 | M58: 0.2 | N58: 0 | O58: 1.3 | P58: 0.10833333 | Q58: 0.23267878
A59: 0FCA2FKR0W01305 | B59: MODELE IVC 1 | C59: 4.2 | D59: 0 | E59: 0 | F59: 0 | G59: 0 | H59: 0 | I59: 0 | J59: 0 | K59: 0 | L59: 0 | M59: 0 | N59: 0 | O59: 4.2 | P59: 0.35 | Q59: 1.2124356
B60: MODELE IVC X | C60: 0 | D60: 0 | E60: 0 | F60: 0 | G60: 0 | H60: 0 | I60: 0 | J60: 0 | K60: 0 | L60: 0 | M60: 0 | N60: 0 | O60: 0 | P60: 0 | Q60: 0
B61: TOTAL | C61: 4.2 | D61: 0 | E61: 0 | F61: 0 | G61: 0 | H61: 0 | I61: 0 | J61: 0 | K61: 0 | L61: 0 | M61: 0 | N61: 0 | O61: 4.2 | P61: 0.35 | Q61: 1.2124356
A62: 0L3112 | B62: MODELE IVC 1 | C62: 0 | D62: 0 | E62: 0 | F62: 0 | G62: 0 | H62: 0 | I62: 0 | J62: 0 | K62: 0 | L62: 0 | M62: 0 | N62: 0 | O62: 0 | P62: 0 | Q62: 0
B63: MODELE IVC X | C63: 0 | D63: 0 | E63: 18 | F63: 0 | G63: 0 | H63: 0 | I63: 0 | J63: 0 | K63: 0 | L63: 35 | M63: 15.4 | N63: 0 | O63: 68.4 | P63: 5.7 | Q63: 17.730865
B64: TOTAL | C64: 0 | D64: 0 | E64: 18 | F64: 0 | G64: 0 | H64: 0 | I64: 0 | J64: 0 | K64: 0 | L64: 35 | M64: 15.4 | N64: 0 | O64: 68.4 | P64: 5.7 | Q64: 17.730865
A65: 0L3112AS15 | B65: MODELE IVC 1 | C65: 3.2 | D65: 0 | E65: 0 | F65: 0 | G65: 0 | H65: 0 | I65: 0 | J65: 0 | K65: 0 | L65: 0 | M65: 0 | N65: 2.8 | O65: 6 | P65: 0.5 | Q65: 1.7320508
B66: MODELE IVC X | C66: 0 | D66: 0 | E66: 0 | F66: 0 | G66: 0 | H66: 0 | I66: 0 | J66: 0 | K66: 0 | L66: 0 | M66: 0 | N66: 0 | O66: 0 | P66: 0 | Q66: 0
B67: TOTAL | C67: 3.2 | D67: 0 | E67: 0 | F67: 0 | G67: 0 | H67: 0 | I67: 0 | J67: 0 | K67: 0 | L67: 0 | M67: 0 | N67: 2.8 | O67: 6 | P67: 0.5 | Q67: 1.7320508
A68: 0L3115AS15 | B68: MODELE IVC 1 | C68: 0 | D68: 5.5 | E68: 3.5 | F68: 2.5 | G68: 3 | H68: 5.5 | I68: 1 | J68: 0 | K68: 3.5 | L68: 0 | M68: 3.5 | N68: 4 | O68: 32 | P68: 2.6666667 | Q68: 4.0207779
B69: MODELE IVC X | C69: 35 | D69: 0 | E69: 7 | F69: 60.9 | G69: 0 | H69: 0 | I69: 0 | J69: 0 | K69: 0 | L69: 0 | M69: 26.6 | N69: 0 | O69: 129.5 | P69: 10.791667 | Q69: 19.754974
B70: TOTAL | C70: 35 | D70: 5.5 | E70: 10.5 | F70: 63.4 | G70: 3 | H70: 5.5 | I70: 1 | J70: 0 | K70: 3.5 | L70: 0 | M70: 30.1 | N70: 4 | O70: 161.5 | P70: 13.458333 | Q70: 23.775752
A71: 0L387 | B71: MODELE IVC 1 | C71: 0 | D71: 0 | E71: 0 | F71: 0 | G71: 0 | H71: 0 | I71: 0 | J71: 0 | K71: 0 | L71: 0 | M71: 0 | N71: 7 | O71: 7 | P71: 0.58333333 | Q71: 2.0207259
B72: MODELE IVC X | C72: 2.2 | D72: 0 | E72: 0 | F72: 96.8 | G72: 0 | H72: 0 | I72: 15.4 | J72: 0 | K72: 70 | L72: 5.3 | M72: 0 | N72: 0 | O72: 189.7 | P72: 15.808333 | Q72: 34.553474
B73: TOTAL | C73: 2.2 | D73: 0 | E73: 0 | F73: 96.8 | G73: 0 | H73: 0 | I73: 15.4 | J73: 0 | K73: 70 | L73: 5.3 | M73: 0 | N73: 7 | O73: 196.7 | P73: 16.391667 | Q73: 36.5742
A74: 0l387 | B74: MODELE IVC 1 | C74: 0 | D74: 0 | E74: 0 | F74: 0 | G74: 0 | H74: 0 | I74: 0 | J74: 0 | K74: 0 | L74: 0 | M74: 0 | N74: 7 | O74: 7 | P74: 0.58333333 | Q74: 2.0207259
B75: MODELE IVC X | C75: 2.2 | D75: 0 | E75: 0 | F75: 96.8 | G75: 0 | H75: 0 | I75: 15.4 | J75: 0 | K75: 70 | L75: 5.3 | M75: 0 | N75: 0 | O75: 189.7 | P75: 15.808333 | Q75: 34.553474
B76: TOTAL | C76: 2.2 | D76: 0 | E76: 0 | F76: 96.8 | G76: 0 | H76: 0 | I76: 15.4 | J76: 0 | K76: 70 | L76: 5.3 | M76: 0 | N76: 7 | O76: 196.7 | P76: 16.391667 | Q76: 36.5742
A77: 0L6832AS15 | B77: MODELE IVC 1 | C77: 0 | D77: 0 | E77: 0 | F77: 0 | G77: 0 | H77: 0 | I77: 0 | J77: 0 | K77: 0 | L77: 0 | M77: 0 | N77: 0 | O77: 0 | P77: 0 | Q77: 0
B78: MODELE IVC X | C78: 0 | D78: 0 | E78: 0 | F78: 0 | G78: 0 | H78: 0 | I78: 0 | J78: 0 | K78: 0 | L78: 1.2 | M78: 0.6 | N78: 0 | O78: 1.8 | P78: 0.15 | Q78: 0.37294894
B79: TOTAL | C79: 0 | D79: 0 | E79: 0 | F79: 0 | G79: 0 | H79: 0 | I79: 0 | J79: 0 | K79: 0 | L79: 1.2 | M79: 0.6 | N79: 0 | O79: 1.8 | P79: 0.15 | Q79: 0.37294894
A80: 0L6839 | B80: MODELE IVC 1 | C80: 8.2 | D80: 0.2 | E80: 10.5 | F80: 127.7 | G80: 89.6 | H80: 53.6 | I80: 2 | J80: 0.4 | K80: 0 | L80: 0 | M80: 0 | N80: 0 | O80: 292.2 | P80: 24.35 | Q80: 50.144393
B81: MODELE IVC X | C81: 11 | D81: 87.5 | E81: 4 | F81: 0 | G81: 15 | H81: 0 | I81: 0 | J81: 0 | K81: 859.6 | L81: 0 | M81: 164.5 | N81: 0 | O81: 1141.6 | P81: 95.133333 | Q81: 300.6847
B82: TOTAL | C82: 19.2 | D82: 87.7 | E82: 14.5 | F82: 127.7 | G82: 104.6 | H82: 53.6 | I82: 2 | J82: 0.4 | K82: 859.6 | L82: 0 | M82: 164.5 | N82: 0 | O82: 1433.8 | P82: 119.48333 | Q82: 350.8291
A83: 0L6839AS15 | B83: MODELE IVC 1 | C83: 0 | D83: 0 | E83: 0 | F83: 0.8 | G83: 0.8 | H83: 0 | I83: 0 | J83: 0.8 | K83: 0 | L83: 1.6 | M83: 3.2 | N83: 0 | O83: 7.2 | P83: 0.6 | Q83: 0.97234487
B84: MODELE IVC X | C84: 0 | D84: 0 | E84: 0 | F84: 0 | G84: 0 | H84: 0 | I84: 0 | J84: 0 | K84: 0 | L84: 0 | M84: 0 | N84: 0 | O84: 0 | P84: 0 | Q84: 0
B85: TOTAL | C85: 0 | D85: 0 | E85: 0 | F85: 0.8 | G85: 0.8 | H85: 0 | I85: 0 | J85: 0.8 | K85: 0 | L85: 1.6 | M85: 3.2 | N85: 0 | O85: 7.2 | P85: 0.6 | Q85: 0.97234487
A86: 0L718 | B86: MODELE IVC 1 | C86: 0 | D86: 0 | E86: 0 | F86: 0 | G86: 0 | H86: 0 | I86: 0 | J86: 0 | K86: 0 | L86: 0 | M86: 0 | N86: 0 | O86: 0 | P86: 0 | Q86: 0
B87: MODELE IVC X | C87: 0 | D87: 0 | E87: 0 | F87: 0 | G87: 0 | H87: 0 | I87: 0 | J87: 0 | K87: 0 | L87: 0 | M87: 0 | N87: 0.4 | O87: 0.4 | P87: 0.033333333 | Q87: 0.11547005
B88: TOTAL | C88: 0 | D88: 0 | E88: 0 | F88: 0 | G88: 0 | H88: 0 | I88: 0 | J88: 0 | K88: 0 | L88: 0 | M88: 0 | N88: 0.4 | O88: 0.4 | P88: 0.033333333 | Q88: 0.11547005
A89: 0L718-297 | B89: MODELE IVC 1 | C89: 0 | D89: 0 | E89: 0 | F89: 0 | G89: 0 | H89: 0 | I89: 0 | J89: 0 | K89: 0 | L89: 0 | M89: 0 | N89: 0 | O89: 0 | P89: 0 | Q89: 0
B90: MODELE IVC X | C90: 0 | D90: 0 | E90: 0 | F90: 0 | G90: 0 | H90: 2 | I90: 0 | J90: 0 | K90: 0 | L90: 0 | M90: 0 | N90: 0 | O90: 2 | P90: 0.16666667 | Q90: 0.57735027
B91: TOTAL | C91: 0 | D91: 0 | E91: 0 | F91: 0 | G91: 0 | H91: 2 | I91: 0 | J91: 0 | K91: 0 | L91: 0 | M91: 0 | N91: 0 | O91: 2 | P91: 0.16666667 | Q91: 0.57735027
A92: 100000-015 | B92: MODELE IVC 1 | C92: 0 | D92: 0 | E92: 0 | F92: 0 | G92: 0 | H92: 0 | I92: 0 | J92: 0 | K92: 0 | L92: 11 | M92: 0 | N92: 0 | O92: 11 | P92: 0.91666667 | Q92: 3.1754265
B93: MODELE IVC X | C93: 0 | D93: 0 | E93: 0 | F93: 0 | G93: 0 | H93: 0 | I93: 0 | J93: 0 | K93: 0 | L93: 0 | M93: 0 | N93: 0 | O93: 0 | P93: 0 | Q93: 0
B94: TOTAL | C94: 0 | D94: 0 | E94: 0 | F94: 0 | G94: 0 | H94: 0 | I94: 0 | J94: 0 | K94: 0 | L94: 11 | M94: 0 | N94: 0 | O94: 11 | P94: 0.91666667 | Q94: 3.1754265
A95: 100000N | B95: MODELE IVC 1 | C95: 4.2 | D95: 0 | E95: 0 | F95: 0 | G95: 0 | H95: 0 | I95: 25.2 | J95: 0 | K95: 0 | L95: 6 | M95: 0 | N95: 0 | O95: 35.4 | P95: 2.95 | Q95: 10.2191
B96: MODELE IVC X | C96: 0 | D96: 0 | E96: 0 | F96: 0 | G96: 7 | H96: 0 | I96: 0 | J96: 0 | K96: 0 | L96: 0 | M96: 0 | N96: 0 | O96: 7 | P96: 0.58333333 | Q96: 2.0207259
B97: TOTAL | C97: 4.2 | D97: 0 | E97: 0 | F97: 0 | G97: 7 | H97: 0 | I97: 25.2 | J97: 0 | K97: 0 | L97: 6 | M97: 0 | N97: 0 | O97: 42.4 | P97: 3.5333333 | Q97: 12.239826
A98: 100001N | B98: MODELE IVC 1 | C98: 0 | D98: 0.5 | E98: 2.7 | F98: 4.7 | G98: 0 | H98: 19.6 | I98: 0 | J98: 0.5 | K98: 0 | L98: 0 | M98: 0 | N98: 10.9 | O98: 38.9 | P98: 3.2416667 | Q98: 6.8998682
B99: MODELE IVC X | C99: 6.4 | D99: 11.2 | E99: 1.4 | F99: 9.4 | G99: 0 | H99: 1.9 | I99: 1.9 | J99: 22.1 | K99: 0 | L99: 20.3 | M99: 1.8 | N99: 0.5 | O99: 76.9 | P99: 6.4083333 | Q99: 12.090849
B100: TOTAL | C100: 6.4 | D100: 11.7 | E100: 4.1 | F100: 14.1 | G100: 0 | H100: 21.5 | I100: 1.9 | J100: 22.6 | K100: 0 | L100: 20.3 | M100: 1.8 | N100: 11.4 | O100: 115.8 | P100: 9.65 | Q100: 18.990717
...

Sheet Feuil3
A1: ARTICLE | B1: MODELE | C1: Janvier | D1: Février | E1: Mars | F1: Avril | G1: Mai | H1: Juin | I1: Juillet | J1: Août | K1: Septembre | L1: Octobre | M1: Novembre | N1: Décembre | O1: TOTAL
A2: 100A01-4 | B2: MODELE IVC | O2: 108
A3: 100A01-41 | B3: MODELE IVC | O3: 199
A4: 100A01-7 | B4: MODELE IVC | O4: 24
A5: 100a01-7 | B5: MODELE IVC | O5: 24
A6: 100A01-7S | B6: MODELE IVC | O6: 12
A7: 100A01-9 | B7: MODELE IVC | O7: 303
A8: 100A01-9S | B8: MODELE IVC | O8: 6
A9: 100AL02Y00 | B9: MODELE IVC | O9: 96
A10: 100BB02Y06 | B10: MODELE IVC | O10: 58
A11: 100EG01Y00 | B11: MODELE IVC | O11: 3
A12: 100KU01-6AA | B12: MODELE IVC | O12: 72
A13: 100M12Z37 | B13: MODELE IVC | O13: 160
... A225: 146SG01Y01 | B225: MODELE IVC | O225: 13.48
A226: 14757 | B226: MODELE IVC | O226: 44
A227: 147SG01Y01 | B227: MODELE IVC | O227: 34
A228: 147ZT02Y01 | B228: MODELE IVC | O228: 3
A229: 148PF01LHY03 | B229: MODELE IVC | O229: 85
A230: 148PF01RHY03 | B230: MODELE IVC | O230: 85
A231: 148SG01Y01 | B231: MODELE IVC | O231: 35
A232: 148ZT02Y00 | B232: MODELE IVC | O232: 12
A233: 149SG01Y01 | B233: MODELE IVC | O233: 17
A234: 150PF01Y00 | B234: MODELE IVC | O234: 20
A235: 150PS01A5A | B235: MODELE IVC | O235: 22
A236: 150PS01B5A | B236: MODELE IVC | O236: 16
A237: 151SG01Y00 | B237: MODELE IVC | O237: 100
A238: 155M22K00946298 | B238: MODELE IVC | O238: 6
... A514: 307Z21K00075000 | B514: MODELE IVC | O514: 88
A515: 3094546 | B515: MODELE IVC | O515: 300
A516: 310J01J00025171 | B516: MODELE IVC | O516: 12
A517: 310J01J00025188 | B517: MODELE IVC | O517: 12
A518: 310J01J00025190 | B518: MODELE IVC | O518: 12
A519: 310J01NJV1062 | B519: MODELE IVC | O519: 60
A520: 310TS10Y00 | B520: MODELE IVC | O520: 22
A521: 310VR01K1L76-10 | B521: MODELE IVC | O521: 4
A522: 310VR01K1R23BGW | B522: MODELE IVC | O522: 201.1776
A523: 310VR01M1A76BMA | B523: MODELE IVC | O523: 25.7088
A524: 3129033 | B524: MODELE IVC | O524: 48
A525: 3129881 | B525: MODELE IVC | O525: 10
A526: 3129903Y01 | B526: MODELE IVC | O526: 60
A527: 3129903y01 | B527: MODELE IVC | O527: 60
A528: 3129919 | B528: MODELE IVC | O528: 30
A529: 3129926Y01 | B529: MODELE IVC | O529: 20
A530: 3129926y01 | B530: MODELE IVC | O530: 20
A531: 3130162 | B531: MODELE IVC | O531: 0
A532: 3130356Y02 | B532: MODELE IVC | O532: 32
A533: 3130356y02 | B533: MODELE IVC | O533: 32
A534: 3130363Y05 | B534: MODELE IVC | O534: 48
A535: 3130379Y03 | B535: MODELE IVC | O535: 32
A536: 3130386Y01 | B536: MODELE IVC | O536: 80
A537: 3130393Y03 | B537: MODELE IVC | O537: 45
A538: 3130393y03 | B538: MODELE IVC | O538: 45
A539: 3130408Y01 | B539: MODELE IVC | O539: 64
A540: 3130408y01 | B540: MODELE IVC | O540: 64
A541: 3130415Y02 | B541: MODELE IVC | O541: 32
A542: 3130415y02 | B542: MODELE IVC | O542: 32
A543: 3130422Y03 | B543: MODELE IVC | O543: 32
... A594: 319VL21A3230Y00 | B594: MODELE IVC | O594: 19
A595: 32 | B595: MODELE IVC | O595: 60
A596: 320TS10Y01 | B596: MODELE IVC | O596: 111
A597: 330KU02-5AA | B597: MODELE IVC | O597: 72
A598: 330KU02-85 | B598: MODELE IVC | O598: 72
A599: 330RU01B01E00 | B599: MODELE IVC | O599: 1600
A600: 330RU01B01E02 | B600: MODELE IVC | O600: 121
A601: 330TS10Y01 | B601: MODELE IVC | O601: 111
A602: 333VL23BA029Y01 | B602: MODELE IVC | O602: 187.2
A603: 333VL23BB039Y01 | B603: MODELE IVC | O603: 100
A604: 334VZ01Y00 | B604: MODELE IVC | O604: 592.92
A605: 334vz01y00 | B605: MODELE IVC | O605: 592.92
A606: 335TS08Y01 | B606: MODELE IVC | O606: 682
A607: 335ts08y01 | B607: MODELE IVC | O607: 682
... A638: 380KU01-6AA | B638: MODELE IVC | O638: 158.2528
A639: 39 | B639: MODELE IVC | O639: 120
A640: 390B0-3 | B640: MODELE IVC | O640: 395
A641: 390B0-4 | B641: MODELE IVC | O641: 19
A642: 390B0-7 | B642: MODELE IVC | O642: 2835
A643: 390B0-9 | B643: MODELE IVC | O643: 7
A644: 391-0-7 | B644: MODELE IVC | O644: 761
A645: 391B1-7 | B645: MODELE IVC | O645: 1364
A646: 399BL2A00AJ | B646: MODELE IVC | O646: 0
A647: 399BL2V02AJ | B647: MODELE IVC | O647: 0
A648: 399BL3R00AJ | B648: MODELE IVC | O648: 0
A649: 400SV01Y01 | B649: MODELE IVC | O649: 580
A650: 4011501 | B650: MODELE IVC | O650: 12
A651: 4011517 | B651: MODELE IVC | O651: 12
A652: 401VB21AB013Y00 | B652: MODELE IVC | O652: 52
A653: 401VD21AAAACY00 | B653: MODELE IVC | O653: 22
A654: 401VD21AAAADY00 | B654: MODELE IVC | O654: 22
A655: 401VD21AAAAEY00 | B655: MODELE IVC | O655: 22
A656: 409VL22AAADFY00 | B656: MODELE IVC | O656: 22
A657: 409VL22BAASLY00 | B657: MODELE IVC | O657: 44
A658: 4105336 | B658: MODELE IVC | O658: 0
A659: 410PS01A5A | B659: MODELE IVC | O659: 4
A660: 410PS01B5P | B660: MODELE IVC | O660: 12
A661: 410SE01 | B661: MODELE IVC | O661: 18
A662: 410SE01AA | B662: MODELE IVC | O662: 6820
A663: 410SE01AL | B663: MODELE IVC | O663: 682
A664: 410SE01CB | B664: MODELE IVC | O664: 1582
A665: 410SE01CN | B665: MODELE IVC | O665: 1522
A666: 410SV01AY00 | B666: MODELE IVC | O666: 72
...
