Workbook

Sheet Feuil1
A1: Article | B1: Label | C1: Période_0 | D1: Période_1 | E1: Période_2 | F1: Période_3 | G1: Période_4 | H1: Période_5 | I1: Période_6 | J1: Période_7 | K1: Période_8 | L1: Période_9 | M1: Période_10 | N1: Période_11 | O1: Période_12
A2: 0-0-4S | B2: A - Début période | C2: 1 | D2: 43129 | E2: 43159 | F2: 43188 | G2: 43219 | H2: 43249 | I2: 43280 | J2: 43310 | K2: 43341 | L2: 43372 | M2: 43402 | N2: 43433 | O2: 43463
A3: 0-0-4S | B3: B - Product prévue | C3: 0 | D3: 0 | E3: 0 | F3: 0 | G3: 0 | H3: 0 | I3: 0 | J3: 0 | K3: 0 | L3: 0 | M3: 0 | N3: 0 | O3: 0
A4: 0-0-4S | B4: C - Prévision | C4: 0 | D4: 0 | E4: 0 | F4: 0 | G4: 0 | H4: 0 | I4: 0 | J4: 0 | K4: 0 | L4: 0 | M4: 0 | N4: 0 | O4: 0
A5: 0-0-4S | B5: D - Commande client | C5: 0 | D5: 75 | E5: 0 | F5: 0 | G5: 0 | H5: 0 | I5: 0 | J5: 0 | K5: 0 | L5: 0 | M5: 0 | N5: 0 | O5: 0
A6: 0-0-4S | B6: E - Programme client | C6: 0 | D6: 0 | E6: 0 | F6: 75 | G6: 0 | H6: 75 | I6: 75 | J6: 0 | K6: 75 | L6: 75 | M6: 0 | N6: 75 | O6: 75
A7: 0-0-4S | B7: F - Besoins dépendants | C7: 0 | D7: 0 | E7: 0 | F7: 0 | G7: 0 | H7: 0 | I7: 0 | J7: 0 | K7: 0 | L7: 0 | M7: 0 | N7: 0 | O7: 0
A8: 0-0-4S | B8: G - Besoins intersites | C8: 0 | D8: 0 | E8: 0 | F8: 0 | G8: 0 | H8: 0 | I8: 0 | J8: 0 | K8: 0 | L8: 0 | M8: 0 | N8: 0 | O8: 0
A9: 0-0-4S | B9: H - Qté expédiées | C9: 0 | D9: 0 | E9: 0 | F9: 0 | G9: 0 | H9: 0 | I9: 0 | J9: 0 | K9: 0 | L9: 0 | M9: 0 | N9: 0 | O9: 0
A10: 0-0-4S | B10: I - Plan production | C10: 0 | D10: 75 | E10: 0 | F10: 75 | G10: 75 | H10: 75 | I10: 0 | J10: 75 | K10: 75 | L10: 0 | M10: 75 | N10: 75 | O10: 0
A11: 0-0-4S | B11: J - Plan intersite | C11: 0 | D11: 0 | E11: 0 | F11: 0 | G11: 0 | H11: 0 | I11: 0 | J11: 0 | K11: 0 | L11: 0 | M11: 0 | N11: 0 | O11: 0
A12: 0-0-4S | B12: K - Production réelle | C12: 0 | D12: 0 | E12: 0 | F12: 0 | G12: 0 | H12: 0 | I12: 0 | J12: 0 | K12: 0 | L12: 0 | M12: 0 | N12: 0 | O12: 0
A13: 0-0-4S | B13: L - QES projeté | C13: 0 | D13: 0 | E13: 0 | F13: 0 | G13: 75 | H13: 75 | I13: 0 | J13: 75 | K13: 75 | L13: 0 | M13: 75 | N13: 75 | O13: 0
... A6735: 127TS11Y07 | B6735: N - Provision saison | C6735: 0 | D6735: 0 | E6735: 0 | F6735: 0 | G6735: 0 | H6735: 0 | I6735: 0 | J6735: 0 | K6735: 0 | L6735: 0 | M6735: 0 | N6735: 0 | O6735: 0

Sheet Feuil2
A1: Article | B1: Label | C1: Période_0 | D1: Période_1 | E1: Période_2 | F1: Période_3 | G1: Période_4 | H1: Période_5 | I1: Période_6 | J1: Période_7 | K1: Période_8 | L1: Période_9 | M1: Période_10 | N1: Période_11 | O1: Période_12
A2: 0-0-4s | B2: Ligne besoin | C2: =SUM(Feuil1!C4:C8) -> 0 | D2: =SUM(Feuil1!D4:D8) -> 75 | E2: =SUM(Feuil1!E4:E8) -> 0 | F2: =SUM(Feuil1!F4:F8) -> 75 | G2: =SUM(Feuil1!G4:G8) -> 0 | H2: =SUM(Feuil1!H4:H8) -> 75 | I2: =SUM(Feuil1!I4:I8) -> 75 | J2: =SUM(Feuil1!J4:J8) -> 0 | ... O2: =SUM(Feuil1!O4:O8) -> 75
A3: 0-0-6s | B3: Ligne besoin | C3: =SUM(Feuil1!C18:C22) -> 0 | D3: =SUM(Feuil1!D18:D22) -> 0 | E3: =SUM(Feuil1!E18:E22) -> 2 | F3: =SUM(Feuil1!F18:F22) -> 2 | G3: =SUM(Feuil1!G18:G22) -> 2 | H3: =SUM(Feuil1!H18:H22) -> 2 | I3: =SUM(Feuil1!I18:I22) -> 2 | J3: =SUM(Feuil1!J18:J22) -> 2 | ... O3: =SUM(Feuil1!O18:O22) -> 10

Sheet Feuil3
