Workbook

Sheet Feuil1
B1: JANVIER | C1: Pas de pause | I1: Avec pause
C2: 1/35H | E2: 2/39H | G2: 3/35H | I2: 4/39H | K2: 5/39h | M2: 6/39H | O2: 7/35H | Q2: 8/35H
C3: arrivée | D3: départ | E3: arrivée | F3: départ | G3: arrivée | H3: départ | I3: arrivée | J3: départ | K3: arrivée | L3: départ | M3: arrivée | N3: départ | O3: arrivée | P3: départ | Q3: arrivée | R3: départ
A4: =CHOOSE(WEEKDAY(B4),"D","L","M","M","J","V","S","D") -> L | B4: 43101 | C4: 0.91666667 | D4: 0.33333333 | E4: 0.3125 | F4: 0.64583333 | G4: 0.91666667 | H4: 0.33333333 | I4: cp | J4: 0.5 | K4: 0.33333333 | L4: 0.625
A5: =CHOOSE(WEEKDAY(B5),"D","L","M","M","J","V","S","D") -> M | B5: 43102 | E5: cp | G5: cp | I5: cp
A6: =CHOOSE(WEEKDAY(B6),"D","L","M","M","J","V","S","D") -> M | B6: 43103 | C6: 0.91666667 | D6: 0.33333333 | I6: cp | M6: rjf
A7: =CHOOSE(WEEKDAY(B7),"D","L","M","M","J","V","S","D") -> J | B7: 43104 | C7: r | I7: rjf | M7: 0.41666667 | N7: 0.75 | O7: 0.33333333 | P7: 0.6875 | Q7: 0.625 | R7: 18
A8: =CHOOSE(WEEKDAY(B8),"D","L","M","M","J","V","S","D") -> V | B8: 43105 | K8: rjf | M8: R | O8: CP
A9: =CHOOSE(WEEKDAY(B9),"D","L","M","M","J","V","S","D") -> S | B9: 43106 | C9: cp
A10: =CHOOSE(WEEKDAY(B10),"D","L","M","M","J","V","S","D") -> D | B10: 43107 | C10: R | I10: R | O10: r | Q10: cp
A11: =CHOOSE(WEEKDAY(B11),"D","L","M","M","J","V","S","D") -> L | B11: 43108
A12: =CHOOSE(WEEKDAY(B12),"D","L","M","M","J","V","S","D") -> M | B12: 43109
A13: =CHOOSE(WEEKDAY(B13),"D","L","M","M","J","V","S","D") -> M | B13: 43110
A14: =CHOOSE(WEEKDAY(B14),"D","L","M","M","J","V","S","D") -> J | B14: 43111
A15: =CHOOSE(WEEKDAY(B15),"D","L","M","M","J","V","S","D") -> V | B15: 43112
A16: =CHOOSE(WEEKDAY(B16),"D","L","M","M","J","V","S","D") -> S | B16: 43113
A17: =CHOOSE(WEEKDAY(B17),"D","L","M","M","J","V","S","D") -> D | B17: 43114
A18: =CHOOSE(WEEKDAY(B18),"D","L","M","M","J","V","S","D") -> L | B18: 43115
A19: =CHOOSE(WEEKDAY(B19),"D","L","M","M","J","V","S","D") -> M | B19: 43116
A20: =CHOOSE(WEEKDAY(B20),"D","L","M","M","J","V","S","D") -> M | B20: 43117
A21: =CHOOSE(WEEKDAY(B21),"D","L","M","M","J","V","S","D") -> J | B21: 43118
A22: =CHOOSE(WEEKDAY(B22),"D","L","M","M","J","V","S","D") -> V | B22: 43119
... A34: =CHOOSE(WEEKDAY(B34),"D","L","M","M","J","V","S","D") -> M | B34: 43131
B35: Total heures | C35: =SUM(Données!B3+Données!B3:B33) -> #VALUE! | E35: =SUM(Données!C3:C33) -> #VALUE! | G35: =SUM(Données!D3:D33) -> 0.70833333 | I35: =SUM(Données!F3:F33) -> 1.3333333 | K35: =SUM(Données!G3:G33) -> 0.60416667 | M35: =SUM(Données!H3:H33) -> 0.3125 | O35: =SUM(Données!I3:I33) -> 0.625 | Q35: =SUM(Données!J3:J33) -> 0.35416667
B36: Heures sup
B38: Total CP
B39: Total RJF
B40: Total R

Sheet Données
B1: 1 | C1: 2 | D1: 3 | F1: 4 | G1: 5 | H1: 6 | I1: 7 | J1: 8
B3: =IF(Feuil1!C4<>"",IF(ISTEXT(Feuil1!C4),IF(AND(OR(Feuil1!C4="rjf",Feuil1!C4="cp"),WEEKDAY(Feuil1!B4)<>1),7/24,0),MOD(Feuil1!D4-Feuil1!C4,1))) -> 0.41666667 | C3: =IF(Feuil1!E4<>"",IF(ISTEXT(Feuil1!E4),IF(AND(OR(Feuil1!E4="rjf",Feuil1!E4="cp"),WEEKDAY(Feuil1!E4)<>1),7/24,0),MOD(Feuil1!F4-Feuil1!E4,1))) -> 0.33333333 | D3: =IF(Feuil1!G4<>"",IF(ISTEXT(Feuil1!G4),IF(AND(OR(Feuil1!G4="rjf",Feuil1!G4="cp"),WEEKDAY(Feuil1!B4)<>1),7/24,0),MOD(Feuil1!D4-Feuil1!C4,1))) -> 0.41666667 | F3: =IF(Feuil1!I4<>"",IF(ISTEXT(Feuil1!I4),IF(AND(OR(Feuil1!I4="rjf",Feuil1!I4="cp"),WEEKDAY(Feuil1!B4)<>1),8/24,0),MOD(Feuil1!J4-Feuil1!I4,1)-1/48),0) -> 0.33333333 | G3: =IF(Feuil1!K4<>"",IF(ISTEXT(Feuil1!K4),IF(AND(OR(Feuil1!K4="rjf",Feuil1!K4="cp"),WEEKDAY(Feuil1!B4)<>1),8/24,0),MOD(Feuil1!L4-Feuil1!K4,1)-1/48),0) -> 0.27083333 | H3: =IF(Feuil1!N4<>"",IF(ISTEXT(Feuil1!N4),IF(AND(OR(Feuil1!N4="rjf",Feuil1!N4="cp"),WEEKDAY(Feuil1!A4)<>1),7/24,0),MOD(Feuil1!N4-Feuil1!M4,1)-1/48),0) -> 0 | I3: =IF(Feuil1!O4<>"",IF(ISTEXT(Feuil1!O4),IF(AND(OR(Feuil1!O4="rjf",Feuil1!O4="cp"),WEEKDAY(Feuil1!B4)<>1),7/24,0),MOD(Feuil1!P4-Feuil1!O4,1)-1/48),0) -> 0 | J3: =IF(Feuil1!R4<>"",IF(ISTEXT(Feuil1!R4),IF(AND(OR(Feuil1!R4="rjf",Feuil1!R4="cp"),WEEKDAY(Feuil1!B4)<>1),7/24,0),MOD(Feuil1!R4-Feuil1!Q4,1)-1/48),0) -> 0
B4: =IF(Feuil1!C5<>"",IF(ISTEXT(Feuil1!C5),IF(AND(OR(Feuil1!C5="rjf",Feuil1!C5="cp"),WEEKDAY(Feuil1!B5)<>1),7/24,0),MOD(Feuil1!D5-Feuil1!C5,1))) -> FALSE | C4: =IF(Feuil1!E5<>"",IF(ISTEXT(Feuil1!E5),IF(AND(OR(Feuil1!E5="rjf",Feuil1!E5="cp"),WEEKDAY(Feuil1!E5)<>1),7/24,0),MOD(Feuil1!F5-Feuil1!E5,1))) -> #VALUE! | D4: =IF(Feuil1!G5<>"",IF(ISTEXT(Feuil1!G5),IF(AND(OR(Feuil1!G5="rjf",Feuil1!G5="cp"),WEEKDAY(Feuil1!B5)<>1),7/24,0),MOD(Feuil1!D5-Feuil1!C5,1))) -> 0.29166667 | F4: =IF(Feuil1!I5<>"",IF(ISTEXT(Feuil1!I5),IF(AND(OR(Feuil1!I5="rjf",Feuil1!I5="cp"),WEEKDAY(Feuil1!B5)<>1),8/24,0),MOD(Feuil1!J5-Feuil1!I5,1)-1/48),0) -> 0.33333333 | G4: =IF(Feuil1!K5<>"",IF(ISTEXT(Feuil1!K5),IF(AND(OR(Feuil1!K5="rjf",Feuil1!K5="cp"),WEEKDAY(Feuil1!B5)<>1),8/24,0),MOD(Feuil1!L5-Feuil1!K5,1)-1/48),0) -> 0 | H4: =IF(Feuil1!N5<>"",IF(ISTEXT(Feuil1!N5),IF(AND(OR(Feuil1!N5="rjf",Feuil1!N5="cp"),WEEKDAY(Feuil1!A5)<>1),7/24,0),MOD(Feuil1!N5-Feuil1!M5,1)-1/48),0) -> 0 | I4: =IF(Feuil1!O5<>"",IF(ISTEXT(Feuil1!O5),IF(AND(OR(Feuil1!O5="rjf",Feuil1!O5="cp"),WEEKDAY(Feuil1!B5)<>1),7/24,0),MOD(Feuil1!P5-Feuil1!O5,1)-1/48),0) -> 0 | J4: =IF(Feuil1!R5<>"",IF(ISTEXT(Feuil1!R5),IF(AND(OR(Feuil1!R5="rjf",Feuil1!R5="cp"),WEEKDAY(Feuil1!B5)<>1),7/24,0),MOD(Feuil1!R5-Feuil1!Q5,1)-1/48),0) -> 0
B5: =IF(Feuil1!C6<>"",IF(ISTEXT(Feuil1!C6),IF(AND(OR(Feuil1!C6="rjf",Feuil1!C6="cp"),WEEKDAY(Feuil1!B6)<>1),7/24,0),MOD(Feuil1!D6-Feuil1!C6,1))) -> 0.41666667 | C5: =IF(Feuil1!E6<>"",IF(ISTEXT(Feuil1!E6),IF(AND(OR(Feuil1!E6="rjf",Feuil1!E6="cp"),WEEKDAY(Feuil1!E6)<>1),7/24,0),MOD(Feuil1!F6-Feuil1!E6,1))) -> FALSE | D5: =IF(Feuil1!G6<>"",IF(ISTEXT(Feuil1!G6),IF(AND(OR(Feuil1!G6="rjf",Feuil1!G6="cp"),WEEKDAY(Feuil1!B6)<>1),7/24,0),MOD(Feuil1!D6-Feuil1!C6,1))) -> FALSE | F5: =IF(Feuil1!I6<>"",IF(ISTEXT(Feuil1!I6),IF(AND(OR(Feuil1!I6="rjf",Feuil1!I6="cp"),WEEKDAY(Feuil1!B6)<>1),8/24,0),MOD(Feuil1!J6-Feuil1!I6,1)-1/48),0) -> 0.33333333 | G5: =IF(Feuil1!K6<>"",IF(ISTEXT(Feuil1!K6),IF(AND(OR(Feuil1!K6="rjf",Feuil1!K6="cp"),WEEKDAY(Feuil1!B6)<>1),8/24,0),MOD(Feuil1!L6-Feuil1!K6,1)-1/48),0) -> 0 | H5: =IF(Feuil1!N6<>"",IF(ISTEXT(Feuil1!N6),IF(AND(OR(Feuil1!N6="rjf",Feuil1!N6="cp"),WEEKDAY(Feuil1!A6)<>1),7/24,0),MOD(Feuil1!N6-Feuil1!M6,1)-1/48),0) -> 0 | I5: =IF(Feuil1!O6<>"",IF(ISTEXT(Feuil1!O6),IF(AND(OR(Feuil1!O6="rjf",Feuil1!O6="cp"),WEEKDAY(Feuil1!B6)<>1),7/24,0),MOD(Feuil1!P6-Feuil1!O6,1)-1/48),0) -> 0 | J5: =IF(Feuil1!R6<>"",IF(ISTEXT(Feuil1!R6),IF(AND(OR(Feuil1!R6="rjf",Feuil1!R6="cp"),WEEKDAY(Feuil1!B6)<>1),7/24,0),MOD(Feuil1!R6-Feuil1!Q6,1)-1/48),0) -> 0
B6: =IF(Feuil1!C7<>"",IF(ISTEXT(Feuil1!C7),IF(AND(OR(Feuil1!C7="rjf",Feuil1!C7="cp"),WEEKDAY(Feuil1!B7)<>1),7/24,0),MOD(Feuil1!D7-Feuil1!C7,1))) -> 0 | C6: =IF(Feuil1!E7<>"",IF(ISTEXT(Feuil1!E7),IF(AND(OR(Feuil1!E7="rjf",Feuil1!E7="cp"),WEEKDAY(Feuil1!E7)<>1),7/24,0),MOD(Feuil1!F7-Feuil1!E7,1))) -> FALSE | D6: =IF(Feuil1!G7<>"",IF(ISTEXT(Feuil1!G7),IF(AND(OR(Feuil1!G7="rjf",Feuil1!G7="cp"),WEEKDAY(Feuil1!B7)<>1),7/24,0),MOD(Feuil1!D7-Feuil1!C7,1))) -> FALSE | F6: =IF(Feuil1!I7<>"",IF(ISTEXT(Feuil1!I7),IF(AND(OR(Feuil1!I7="rjf",Feuil1!I7="cp"),WEEKDAY(Feuil1!B7)<>1),8/24,0),MOD(Feuil1!J7-Feuil1!I7,1)-1/48),0) -> 0.33333333 | G6: =IF(Feuil1!K7<>"",IF(ISTEXT(Feuil1!K7),IF(AND(OR(Feuil1!K7="rjf",Feuil1!K7="cp"),WEEKDAY(Feuil1!B7)<>1),8/24,0),MOD(Feuil1!L7-Feuil1!K7,1)-1/48),0) -> 0 | H6: =IF(Feuil1!N7<>"",IF(ISTEXT(Feuil1!N7),IF(AND(OR(Feuil1!N7="rjf",Feuil1!N7="cp"),WEEKDAY(Feuil1!A7)<>1),7/24,0),MOD(Feuil1!N7-Feuil1!M7,1)-1/48),0) -> 0.3125 | I6: =IF(Feuil1!O7<>"",IF(ISTEXT(Feuil1!O7),IF(AND(OR(Feuil1!O7="rjf",Feuil1!O7="cp"),WEEKDAY(Feuil1!B7)<>1),7/24,0),MOD(Feuil1!P7-Feuil1!O7,1)-1/48),0) -> 0.33333333 | J6: =IF(Feuil1!R7<>"",IF(ISTEXT(Feuil1!R7),IF(AND(OR(Feuil1!R7="rjf",Feuil1!R7="cp"),WEEKDAY(Feuil1!B7)<>1),7/24,0),MOD(Feuil1!R7-Feuil1!Q7,1)-1/48),0) -> 0.35416667
B7: =IF(Feuil1!C8<>"",IF(ISTEXT(Feuil1!C8),IF(AND(OR(Feuil1!C8="rjf",Feuil1!C8="cp"),WEEKDAY(Feuil1!B8)<>1),7/24,0),MOD(Feuil1!D8-Feuil1!C8,1))) -> FALSE | C7: =IF(Feuil1!E8<>"",IF(ISTEXT(Feuil1!E8),IF(AND(OR(Feuil1!E8="rjf",Feuil1!E8="cp"),WEEKDAY(Feuil1!E8)<>1),7/24,0),MOD(Feuil1!F8-Feuil1!E8,1))) -> FALSE | D7: =IF(Feuil1!G8<>"",IF(ISTEXT(Feuil1!G8),IF(AND(OR(Feuil1!G8="rjf",Feuil1!G8="cp"),WEEKDAY(Feuil1!B8)<>1),7/24,0),MOD(Feuil1!D8-Feuil1!C8,1))) -> FALSE | F7: =IF(Feuil1!I8<>"",IF(ISTEXT(Feuil1!I8),IF(AND(OR(Feuil1!I8="rjf",Feuil1!I8="cp"),WEEKDAY(Feuil1!B8)<>1),8/24,0),MOD(Feuil1!J8-Feuil1!I8,1)-1/48),0) -> 0 | G7: =IF(Feuil1!K8<>"",IF(ISTEXT(Feuil1!K8),IF(AND(OR(Feuil1!K8="rjf",Feuil1!K8="cp"),WEEKDAY(Feuil1!B8)<>1),8/24,0),MOD(Feuil1!L8-Feuil1!K8,1)-1/48),0) -> 0.33333333 | H7: =IF(Feuil1!N8<>"",IF(ISTEXT(Feuil1!N8),IF(AND(OR(Feuil1!N8="rjf",Feuil1!N8="cp"),WEEKDAY(Feuil1!A8)<>1),7/24,0),MOD(Feuil1!M8-Feuil1!N8,1)-1/48),0) -> 0 | I7: =IF(Feuil1!O8<>"",IF(ISTEXT(Feuil1!O8),IF(AND(OR(Feuil1!O8="rjf",Feuil1!O8="cp"),WEEKDAY(Feuil1!B8)<>1),7/24,0),MOD(Feuil1!P8-Feuil1!O8,1)-1/48),0) -> 0.29166667 | J7: =IF(Feuil1!R8<>"",IF(ISTEXT(Feuil1!R8),IF(AND(OR(Feuil1!R8="rjf",Feuil1!R8="cp"),WEEKDAY(Feuil1!B8)<>1),7/24,0),MOD(Feuil1!R8-Feuil1!Q8,1)-1/48),0) -> 0
B8: =IF(Feuil1!C9<>"",IF(ISTEXT(Feuil1!C9),IF(AND(OR(Feuil1!C9="rjf",Feuil1!C9="cp"),WEEKDAY(Feuil1!B9)<>1),7/24,0),MOD(Feuil1!D9-Feuil1!C9,1))) -> 0.29166667 | C8: =IF(Feuil1!E9<>"",IF(ISTEXT(Feuil1!E9),IF(AND(OR(Feuil1!E9="rjf",Feuil1!E9="cp"),WEEKDAY(Feuil1!E9)<>1),7/24,0),MOD(Feuil1!F9-Feuil1!E9,1))) -> FALSE | D8: =IF(Feuil1!G9<>"",IF(ISTEXT(Feuil1!G9),IF(AND(OR(Feuil1!G9="rjf",Feuil1!G9="cp"),WEEKDAY(Feuil1!B9)<>1),7/24,0),MOD(Feuil1!D9-Feuil1!C9,1))) -> FALSE | F8: =IF(Feuil1!I9<>"",IF(ISTEXT(Feuil1!I9),IF(AND(OR(Feuil1!I9="rjf",Feuil1!I9="cp"),WEEKDAY(Feuil1!B9)<>1),8/24,0),MOD(Feuil1!J9-Feuil1!I9,1)-1/48),0) -> 0 | G8: =IF(Feuil1!K9<>"",IF(ISTEXT(Feuil1!K9),IF(AND(OR(Feuil1!K9="rjf",Feuil1!K9="cp"),WEEKDAY(Feuil1!B9)<>1),8/24,0),MOD(Feuil1!L9-Feuil1!K9,1)-1/48),0) -> 0 | H8: =IF(Feuil1!N9<>"",IF(ISTEXT(Feuil1!N9),IF(AND(OR(Feuil1!N9="rjf",Feuil1!N9="cp"),WEEKDAY(Feuil1!A9)<>1),7/24,0),MOD(Feuil1!M9-Feuil1!N9,1)-1/48),0) -> 0 | I8: =IF(Feuil1!O9<>"",IF(ISTEXT(Feuil1!O9),IF(AND(OR(Feuil1!O9="rjf",Feuil1!O9="cp"),WEEKDAY(Feuil1!B9)<>1),7/24,0),MOD(Feuil1!P9-Feuil1!O9,1)-1/48),0) -> 0 | J8: =IF(Feuil1!R9<>"",IF(ISTEXT(Feuil1!R9),IF(AND(OR(Feuil1!R9="rjf",Feuil1!R9="cp"),WEEKDAY(Feuil1!B9)<>1),7/24,0),MOD(Feuil1!R9-Feuil1!Q9,1)-1/48),0) -> 0
B9: =IF(Feuil1!C10<>"",IF(ISTEXT(Feuil1!C10),IF(AND(OR(Feuil1!C10="rjf",Feuil1!C10="cp"),WEEKDAY(Feuil1!B10)<>1),7/24,0),MOD(Feuil1!D10-Feuil1!C10,1))) -> 0 | C9: =IF(Feuil1!E10<>"",IF(ISTEXT(Feuil1!E10),IF(AND(OR(Feuil1!E10="rjf",Feuil1!E10="cp"),WEEKDAY(Feuil1!E10)<>1),7/24,0),MOD(Feuil1!F10-Feuil1!E10,1))) -> FALSE | D9: =IF(Feuil1!G10<>"",IF(ISTEXT(Feuil1!G10),IF(AND(OR(Feuil1!G10="rjf",Feuil1!G10="cp"),WEEKDAY(Feuil1!B10)<>1),7/24,0),MOD(Feuil1!D10-Feuil1!C10,1))) -> FALSE | F9: =IF(Feuil1!I10<>"",IF(ISTEXT(Feuil1!I10),IF(AND(OR(Feuil1!I10="rjf",Feuil1!I10="cp"),WEEKDAY(Feuil1!B10)<>1),8/24,0),MOD(Feuil1!J10-Feuil1!I10,1)-1/48),0) -> 0 | G9: =IF(Feuil1!K10<>"",IF(ISTEXT(Feuil1!K10),IF(AND(OR(Feuil1!K10="rjf",Feuil1!K10="cp"),WEEKDAY(Feuil1!B10)<>1),8/24,0),MOD(Feuil1!L10-Feuil1!K10,1)-1/48),0) -> 0 | H9: =IF(Feuil1!N10<>"",IF(ISTEXT(Feuil1!N10),IF(AND(OR(Feuil1!N10="rjf",Feuil1!N10="cp"),WEEKDAY(Feuil1!A10)<>1),7/24,0),MOD(Feuil1!M10-Feuil1!N10,1)-1/48),0) -> 0 | I9: =IF(Feuil1!O10<>"",IF(ISTEXT(Feuil1!O10),IF(AND(OR(Feuil1!O10="rjf",Feuil1!O10="cp"),WEEKDAY(Feuil1!B10)<>1),7/24,0),MOD(Feuil1!P10-Feuil1!O10,1)-1/48),0) -> 0 | J9: =IF(Feuil1!R10<>"",IF(ISTEXT(Feuil1!R10),IF(AND(OR(Feuil1!R10="rjf",Feuil1!R10="cp"),WEEKDAY(Feuil1!B10)<>1),7/24,0),MOD(Feuil1!R10-Feuil1!Q10,1)-1/48),0) -> 0
B10: =IF(Feuil1!C11<>"",IF(ISTEXT(Feuil1!C11),IF(AND(OR(Feuil1!C11="rjf",Feuil1!C11="cp"),WEEKDAY(Feuil1!B11)<>1),7/24,0),MOD(Feuil1!D11-Feuil1!C11,1))) -> FALSE | C10: =IF(Feuil1!E11<>"",IF(ISTEXT(Feuil1!E11),IF(AND(OR(Feuil1!E11="rjf",Feuil1!E11="cp"),WEEKDAY(Feuil1!E11)<>1),7/24,0),MOD(Feuil1!F11-Feuil1!E11,1))) -> FALSE | D10: =IF(Feuil1!G11<>"",IF(ISTEXT(Feuil1!G11),IF(AND(OR(Feuil1!G11="rjf",Feuil1!G11="cp"),WEEKDAY(Feuil1!B11)<>1),7/24,0),MOD(Feuil1!D11-Feuil1!C11,1))) -> FALSE | F10: =IF(Feuil1!I11<>"",IF(ISTEXT(Feuil1!I11),IF(AND(OR(Feuil1!I11="rjf",Feuil1!I11="cp"),WEEKDAY(Feuil1!B11)<>1),8/24,0),MOD(Feuil1!J11-Feuil1!I11,1)-1/48),0) -> 0 | G10: =IF(Feuil1!K11<>"",IF(ISTEXT(Feuil1!K11),IF(AND(OR(Feuil1!K11="rjf",Feuil1!K11="cp"),WEEKDAY(Feuil1!B11)<>1),8/24,0),MOD(Feuil1!L11-Feuil1!K11,1)-1/48),0) -> 0 | H10: =IF(Feuil1!N11<>"",IF(ISTEXT(Feuil1!N11),IF(AND(OR(Feuil1!N11="rjf",Feuil1!N11="cp"),WEEKDAY(Feuil1!A11)<>1),7/24,0),MOD(Feuil1!M11-Feuil1!N11,1)-1/48),0) -> 0 | I10: =IF(Feuil1!O11<>"",IF(ISTEXT(Feuil1!O11),IF(AND(OR(Feuil1!O11="rjf",Feuil1!O11="cp"),WEEKDAY(Feuil1!B11)<>1),7/24,0),MOD(Feuil1!P11-Feuil1!O11,1)-1/48),0) -> 0 | J10: =IF(Feuil1!R11<>"",IF(ISTEXT(Feuil1!R11),IF(AND(OR(Feuil1!R11="rjf",Feuil1!R11="cp"),WEEKDAY(Feuil1!B11)<>1),7/24,0),MOD(Feuil1!R11-Feuil1!Q11,1)-1/48),0) -> 0
B11: =IF(Feuil1!C12<>"",IF(ISTEXT(Feuil1!C12),IF(AND(OR(Feuil1!C12="rjf",Feuil1!C12="cp"),WEEKDAY(Feuil1!B12)<>1),7/24,0),MOD(Feuil1!D12-Feuil1!C12,1))) -> FALSE | C11: =IF(Feuil1!E12<>"",IF(ISTEXT(Feuil1!E12),IF(AND(OR(Feuil1!E12="rjf",Feuil1!E12="cp"),WEEKDAY(Feuil1!E12)<>1),7/24,0),MOD(Feuil1!F12-Feuil1!E12,1))) -> FALSE | D11: =IF(Feuil1!G12<>"",IF(ISTEXT(Feuil1!G12),IF(AND(OR(Feuil1!G12="rjf",Feuil1!G12="cp"),WEEKDAY(Feuil1!B12)<>1),7/24,0),MOD(Feuil1!D12-Feuil1!C12,1))) -> FALSE | F11: =IF(Feuil1!I12<>"",IF(ISTEXT(Feuil1!I12),IF(AND(OR(Feuil1!I12="rjf",Feuil1!I12="cp"),WEEKDAY(Feuil1!B12)<>1),8/24,0),MOD(Feuil1!J12-Feuil1!I12,1)-1/48),0) -> 0 | G11: =IF(Feuil1!K12<>"",IF(ISTEXT(Feuil1!K12),IF(AND(OR(Feuil1!K12="rjf",Feuil1!K12="cp"),WEEKDAY(Feuil1!B12)<>1),8/24,0),MOD(Feuil1!L12-Feuil1!K12,1)-1/48),0) -> 0 | H11: =IF(Feuil1!N12<>"",IF(ISTEXT(Feuil1!N12),IF(AND(OR(Feuil1!N12="rjf",Feuil1!N12="cp"),WEEKDAY(Feuil1!A12)<>1),7/24,0),MOD(Feuil1!M12-Feuil1!N12,1)-1/48),0) -> 0 | I11: =IF(Feuil1!O12<>"",IF(ISTEXT(Feuil1!O12),IF(AND(OR(Feuil1!O12="rjf",Feuil1!O12="cp"),WEEKDAY(Feuil1!B12)<>1),7/24,0),MOD(Feuil1!P12-Feuil1!O12,1)-1/48),0) -> 0 | J11: =IF(Feuil1!R12<>"",IF(ISTEXT(Feuil1!R12),IF(AND(OR(Feuil1!R12="rjf",Feuil1!R12="cp"),WEEKDAY(Feuil1!B12)<>1),7/24,0),MOD(Feuil1!R12-Feuil1!Q12,1)-1/48),0) -> 0
B12: =IF(Feuil1!C13<>"",IF(ISTEXT(Feuil1!C13),IF(AND(OR(Feuil1!C13="rjf",Feuil1!C13="cp"),WEEKDAY(Feuil1!B13)<>1),7/24,0),MOD(Feuil1!D13-Feuil1!C13,1))) -> FALSE | C12: =IF(Feuil1!E13<>"",IF(ISTEXT(Feuil1!E13),IF(AND(OR(Feuil1!E13="rjf",Feuil1!E13="cp"),WEEKDAY(Feuil1!E13)<>1),7/24,0),MOD(Feuil1!F13-Feuil1!E13,1))) -> FALSE | D12: =IF(Feuil1!G13<>"",IF(ISTEXT(Feuil1!G13),IF(AND(OR(Feuil1!G13="rjf",Feuil1!G13="cp"),WEEKDAY(Feuil1!B13)<>1),7/24,0),MOD(Feuil1!D13-Feuil1!C13,1))) -> FALSE | F12: =IF(Feuil1!I13<>"",IF(ISTEXT(Feuil1!I13),IF(AND(OR(Feuil1!I13="rjf",Feuil1!I13="cp"),WEEKDAY(Feuil1!B13)<>1),8/24,0),MOD(Feuil1!J13-Feuil1!I13,1)-1/48),0) -> 0 | G12: =IF(Feuil1!K13<>"",IF(ISTEXT(Feuil1!K13),IF(AND(OR(Feuil1!K13="rjf",Feuil1!K13="cp"),WEEKDAY(Feuil1!B13)<>1),8/24,0),MOD(Feuil1!L13-Feuil1!K13,1)-1/48),0) -> 0 | H12: =IF(Feuil1!N13<>"",IF(ISTEXT(Feuil1!N13),IF(AND(OR(Feuil1!N13="rjf",Feuil1!N13="cp"),WEEKDAY(Feuil1!A13)<>1),7/24,0),MOD(Feuil1!M13-Feuil1!N13,1)-1/48),0) -> 0 | I12: =IF(Feuil1!O13<>"",IF(ISTEXT(Feuil1!O13),IF(AND(OR(Feuil1!O13="rjf",Feuil1!O13="cp"),WEEKDAY(Feuil1!B13)<>1),7/24,0),MOD(Feuil1!P13-Feuil1!O13,1)-1/48),0) -> 0 | J12: =IF(Feuil1!R13<>"",IF(ISTEXT(Feuil1!R13),IF(AND(OR(Feuil1!R13="rjf",Feuil1!R13="cp"),WEEKDAY(Feuil1!B13)<>1),7/24,0),MOD(Feuil1!R13-Feuil1!Q13,1)-1/48),0) -> 0
B13: =IF(Feuil1!C14<>"",IF(ISTEXT(Feuil1!C14),IF(AND(OR(Feuil1!C14="rjf",Feuil1!C14="cp"),WEEKDAY(Feuil1!B14)<>1),7/24,0),MOD(Feuil1!D14-Feuil1!C14,1))) -> FALSE | C13: =IF(Feuil1!E14<>"",IF(ISTEXT(Feuil1!E14),IF(AND(OR(Feuil1!E14="rjf",Feuil1!E14="cp"),WEEKDAY(Feuil1!E14)<>1),7/24,0),MOD(Feuil1!F14-Feuil1!E14,1))) -> FALSE | D13: =IF(Feuil1!G14<>"",IF(ISTEXT(Feuil1!G14),IF(AND(OR(Feuil1!G14="rjf",Feuil1!G14="cp"),WEEKDAY(Feuil1!B14)<>1),7/24,0),MOD(Feuil1!D14-Feuil1!C14,1))) -> FALSE | F13: =IF(Feuil1!I14<>"",IF(ISTEXT(Feuil1!I14),IF(AND(OR(Feuil1!I14="rjf",Feuil1!I14="cp"),WEEKDAY(Feuil1!B14)<>1),8/24,0),MOD(Feuil1!J14-Feuil1!I14,1)-1/48),0) -> 0 | G13: =IF(Feuil1!K14<>"",IF(ISTEXT(Feuil1!K14),IF(AND(OR(Feuil1!K14="rjf",Feuil1!K14="cp"),WEEKDAY(Feuil1!B14)<>1),8/24,0),MOD(Feuil1!L14-Feuil1!K14,1)-1/48),0) -> 0 | H13: =IF(Feuil1!N14<>"",IF(ISTEXT(Feuil1!N14),IF(AND(OR(Feuil1!N14="rjf",Feuil1!N14="cp"),WEEKDAY(Feuil1!A14)<>1),7/24,0),MOD(Feuil1!M14-Feuil1!N14,1)-1/48),0) -> 0 | I13: =IF(Feuil1!O14<>"",IF(ISTEXT(Feuil1!O14),IF(AND(OR(Feuil1!O14="rjf",Feuil1!O14="cp"),WEEKDAY(Feuil1!B14)<>1),7/24,0),MOD(Feuil1!P14-Feuil1!O14,1)-1/48),0) -> 0 | J13: =IF(Feuil1!R14<>"",IF(ISTEXT(Feuil1!R14),IF(AND(OR(Feuil1!R14="rjf",Feuil1!R14="cp"),WEEKDAY(Feuil1!B14)<>1),7/24,0),MOD(Feuil1!R14-Feuil1!Q14,1)-1/48),0) -> 0
B14: =IF(Feuil1!C15<>"",IF(ISTEXT(Feuil1!C15),IF(AND(OR(Feuil1!C15="rjf",Feuil1!C15="cp"),WEEKDAY(Feuil1!B15)<>1),7/24,0),MOD(Feuil1!D15-Feuil1!C15,1))) -> FALSE | C14: =IF(Feuil1!E15<>"",IF(ISTEXT(Feuil1!E15),IF(AND(OR(Feuil1!E15="rjf",Feuil1!E15="cp"),WEEKDAY(Feuil1!E15)<>1),7/24,0),MOD(Feuil1!F15-Feuil1!E15,1))) -> FALSE | D14: =IF(Feuil1!G15<>"",IF(ISTEXT(Feuil1!G15),IF(AND(OR(Feuil1!G15="rjf",Feuil1!G15="cp"),WEEKDAY(Feuil1!B15)<>1),7/24,0),MOD(Feuil1!D15-Feuil1!C15,1))) -> FALSE | F14: =IF(Feuil1!I15<>"",IF(ISTEXT(Feuil1!I15),IF(AND(OR(Feuil1!I15="rjf",Feuil1!I15="cp"),WEEKDAY(Feuil1!B15)<>1),8/24,0),MOD(Feuil1!J15-Feuil1!I15,1)-1/48),0) -> 0 | G14: =IF(Feuil1!K15<>"",IF(ISTEXT(Feuil1!K15),IF(AND(OR(Feuil1!K15="rjf",Feuil1!K15="cp"),WEEKDAY(Feuil1!B15)<>1),8/24,0),MOD(Feuil1!L15-Feuil1!K15,1)-1/48),0) -> 0 | H14: =IF(Feuil1!N15<>"",IF(ISTEXT(Feuil1!N15),IF(AND(OR(Feuil1!N15="rjf",Feuil1!N15="cp"),WEEKDAY(Feuil1!A15)<>1),7/24,0),MOD(Feuil1!M15-Feuil1!N15,1)-1/48),0) -> 0 | I14: =IF(Feuil1!O15<>"",IF(ISTEXT(Feuil1!O15),IF(AND(OR(Feuil1!O15="rjf",Feuil1!O15="cp"),WEEKDAY(Feuil1!B15)<>1),7/24,0),MOD(Feuil1!P15-Feuil1!O15,1)-1/48),0) -> 0 | J14: =IF(Feuil1!R15<>"",IF(ISTEXT(Feuil1!R15),IF(AND(OR(Feuil1!R15="rjf",Feuil1!R15="cp"),WEEKDAY(Feuil1!B15)<>1),7/24,0),MOD(Feuil1!R15-Feuil1!Q15,1)-1/48),0) -> 0
B15: =IF(Feuil1!C16<>"",IF(ISTEXT(Feuil1!C16),IF(AND(OR(Feuil1!C16="rjf",Feuil1!C16="cp"),WEEKDAY(Feuil1!B16)<>1),7/24,0),MOD(Feuil1!D16-Feuil1!C16,1))) -> FALSE | C15: =IF(Feuil1!E16<>"",IF(ISTEXT(Feuil1!E16),IF(AND(OR(Feuil1!E16="rjf",Feuil1!E16="cp"),WEEKDAY(Feuil1!E16)<>1),7/24,0),MOD(Feuil1!F16-Feuil1!E16,1))) -> FALSE | D15: =IF(Feuil1!G16<>"",IF(ISTEXT(Feuil1!G16),IF(AND(OR(Feuil1!G16="rjf",Feuil1!G16="cp"),WEEKDAY(Feuil1!B16)<>1),7/24,0),MOD(Feuil1!D16-Feuil1!C16,1))) -> FALSE | F15: =IF(Feuil1!I16<>"",IF(ISTEXT(Feuil1!I16),IF(AND(OR(Feuil1!I16="rjf",Feuil1!I16="cp"),WEEKDAY(Feuil1!B16)<>1),8/24,0),MOD(Feuil1!J16-Feuil1!I16,1)-1/48),0) -> 0 | G15: =IF(Feuil1!K16<>"",IF(ISTEXT(Feuil1!K16),IF(AND(OR(Feuil1!K16="rjf",Feuil1!K16="cp"),WEEKDAY(Feuil1!B16)<>1),8/24,0),MOD(Feuil1!L16-Feuil1!K16,1)-1/48),0) -> 0 | H15: =IF(Feuil1!N16<>"",IF(ISTEXT(Feuil1!N16),IF(AND(OR(Feuil1!N16="rjf",Feuil1!N16="cp"),WEEKDAY(Feuil1!A16)<>1),7/24,0),MOD(Feuil1!M16-Feuil1!N16,1)-1/48),0) -> 0 | I15: =IF(Feuil1!O16<>"",IF(ISTEXT(Feuil1!O16),IF(AND(OR(Feuil1!O16="rjf",Feuil1!O16="cp"),WEEKDAY(Feuil1!B16)<>1),7/24,0),MOD(Feuil1!P16-Feuil1!O16,1)-1/48),0) -> 0 | J15: =IF(Feuil1!R16<>"",IF(ISTEXT(Feuil1!R16),IF(AND(OR(Feuil1!R16="rjf",Feuil1!R16="cp"),WEEKDAY(Feuil1!B16)<>1),7/24,0),MOD(Feuil1!R16-Feuil1!Q16,1)-1/48),0) -> 0
B16: =IF(Feuil1!C17<>"",IF(ISTEXT(Feuil1!C17),IF(AND(OR(Feuil1!C17="rjf",Feuil1!C17="cp"),WEEKDAY(Feuil1!B17)<>1),7/24,0),MOD(Feuil1!D17-Feuil1!C17,1))) -> FALSE | C16: =IF(Feuil1!E17<>"",IF(ISTEXT(Feuil1!E17),IF(AND(OR(Feuil1!E17="rjf",Feuil1!E17="cp"),WEEKDAY(Feuil1!E17)<>1),7/24,0),MOD(Feuil1!F17-Feuil1!E17,1))) -> FALSE | D16: =IF(Feuil1!G17<>"",IF(ISTEXT(Feuil1!G17),IF(AND(OR(Feuil1!G17="rjf",Feuil1!G17="cp"),WEEKDAY(Feuil1!B17)<>1),7/24,0),MOD(Feuil1!D17-Feuil1!C17,1))) -> FALSE | F16: =IF(Feuil1!I17<>"",IF(ISTEXT(Feuil1!I17),IF(AND(OR(Feuil1!I17="rjf",Feuil1!I17="cp"),WEEKDAY(Feuil1!B17)<>1),8/24,0),MOD(Feuil1!J17-Feuil1!I17,1)-1/48),0) -> 0 | G16: =IF(Feuil1!K17<>"",IF(ISTEXT(Feuil1!K17),IF(AND(OR(Feuil1!K17="rjf",Feuil1!K17="cp"),WEEKDAY(Feuil1!B17)<>1),8/24,0),MOD(Feuil1!L17-Feuil1!K17,1)-1/48),0) -> 0 | H16: =IF(Feuil1!N17<>"",IF(ISTEXT(Feuil1!N17),IF(AND(OR(Feuil1!N17="rjf",Feuil1!N17="cp"),WEEKDAY(Feuil1!A17)<>1),7/24,0),MOD(Feuil1!M17-Feuil1!N17,1)-1/48),0) -> 0 | I16: =IF(Feuil1!O17<>"",IF(ISTEXT(Feuil1!O17),IF(AND(OR(Feuil1!O17="rjf",Feuil1!O17="cp"),WEEKDAY(Feuil1!B17)<>1),7/24,0),MOD(Feuil1!P17-Feuil1!O17,1)-1/48),0) -> 0 | J16: =IF(Feuil1!R17<>"",IF(ISTEXT(Feuil1!R17),IF(AND(OR(Feuil1!R17="rjf",Feuil1!R17="cp"),WEEKDAY(Feuil1!B17)<>1),7/24,0),MOD(Feuil1!R17-Feuil1!Q17,1)-1/48),0) -> 0
B17: =IF(Feuil1!C18<>"",IF(ISTEXT(Feuil1!C18),IF(AND(OR(Feuil1!C18="rjf",Feuil1!C18="cp"),WEEKDAY(Feuil1!B18)<>1),7/24,0),MOD(Feuil1!D18-Feuil1!C18,1))) -> FALSE | C17: =IF(Feuil1!E18<>"",IF(ISTEXT(Feuil1!E18),IF(AND(OR(Feuil1!E18="rjf",Feuil1!E18="cp"),WEEKDAY(Feuil1!E18)<>1),7/24,0),MOD(Feuil1!F18-Feuil1!E18,1))) -> FALSE | D17: =IF(Feuil1!G18<>"",IF(ISTEXT(Feuil1!G18),IF(AND(OR(Feuil1!G18="rjf",Feuil1!G18="cp"),WEEKDAY(Feuil1!B18)<>1),7/24,0),MOD(Feuil1!D18-Feuil1!C18,1))) -> FALSE | F17: =IF(Feuil1!I18<>"",IF(ISTEXT(Feuil1!I18),IF(AND(OR(Feuil1!I18="rjf",Feuil1!I18="cp"),WEEKDAY(Feuil1!B18)<>1),8/24,0),MOD(Feuil1!J18-Feuil1!I18,1)-1/48),0) -> 0 | G17: =IF(Feuil1!K18<>"",IF(ISTEXT(Feuil1!K18),IF(AND(OR(Feuil1!K18="rjf",Feuil1!K18="cp"),WEEKDAY(Feuil1!B18)<>1),8/24,0),MOD(Feuil1!L18-Feuil1!K18,1)-1/48),0) -> 0 | H17: =IF(Feuil1!N18<>"",IF(ISTEXT(Feuil1!N18),IF(AND(OR(Feuil1!N18="rjf",Feuil1!N18="cp"),WEEKDAY(Feuil1!A18)<>1),7/24,0),MOD(Feuil1!M18-Feuil1!N18,1)-1/48),0) -> 0 | I17: =IF(Feuil1!O18<>"",IF(ISTEXT(Feuil1!O18),IF(AND(OR(Feuil1!O18="rjf",Feuil1!O18="cp"),WEEKDAY(Feuil1!B18)<>1),7/24,0),MOD(Feuil1!P18-Feuil1!O18,1)-1/48),0) -> 0 | J17: =IF(Feuil1!R18<>"",IF(ISTEXT(Feuil1!R18),IF(AND(OR(Feuil1!R18="rjf",Feuil1!R18="cp"),WEEKDAY(Feuil1!B18)<>1),7/24,0),MOD(Feuil1!R18-Feuil1!Q18,1)-1/48),0) -> 0
B18: =IF(Feuil1!C19<>"",IF(ISTEXT(Feuil1!C19),IF(AND(OR(Feuil1!C19="rjf",Feuil1!C19="cp"),WEEKDAY(Feuil1!B19)<>1),7/24,0),MOD(Feuil1!D19-Feuil1!C19,1))) -> FALSE | C18: =IF(Feuil1!E19<>"",IF(ISTEXT(Feuil1!E19),IF(AND(OR(Feuil1!E19="rjf",Feuil1!E19="cp"),WEEKDAY(Feuil1!E19)<>1),7/24,0),MOD(Feuil1!F19-Feuil1!E19,1))) -> FALSE | D18: =IF(Feuil1!G19<>"",IF(ISTEXT(Feuil1!G19),IF(AND(OR(Feuil1!G19="rjf",Feuil1!G19="cp"),WEEKDAY(Feuil1!B19)<>1),7/24,0),MOD(Feuil1!D19-Feuil1!C19,1))) -> FALSE | F18: =IF(Feuil1!I19<>"",IF(ISTEXT(Feuil1!I19),IF(AND(OR(Feuil1!I19="rjf",Feuil1!I19="cp"),WEEKDAY(Feuil1!B19)<>1),8/24,0),MOD(Feuil1!J19-Feuil1!I19,1)-1/48),0) -> 0 | G18: =IF(Feuil1!K19<>"",IF(ISTEXT(Feuil1!K19),IF(AND(OR(Feuil1!K19="rjf",Feuil1!K19="cp"),WEEKDAY(Feuil1!B19)<>1),8/24,0),MOD(Feuil1!L19-Feuil1!K19,1)-1/48),0) -> 0 | H18: =IF(Feuil1!N19<>"",IF(ISTEXT(Feuil1!N19),IF(AND(OR(Feuil1!N19="rjf",Feuil1!N19="cp"),WEEKDAY(Feuil1!A19)<>1),7/24,0),MOD(Feuil1!M19-Feuil1!N19,1)-1/48),0) -> 0 | I18: =IF(Feuil1!O19<>"",IF(ISTEXT(Feuil1!O19),IF(AND(OR(Feuil1!O19="rjf",Feuil1!O19="cp"),WEEKDAY(Feuil1!B19)<>1),7/24,0),MOD(Feuil1!P19-Feuil1!O19,1)-1/48),0) -> 0 | J18: =IF(Feuil1!R19<>"",IF(ISTEXT(Feuil1!R19),IF(AND(OR(Feuil1!R19="rjf",Feuil1!R19="cp"),WEEKDAY(Feuil1!B19)<>1),7/24,0),MOD(Feuil1!R19-Feuil1!Q19,1)-1/48),0) -> 0
... B33: =IF(Feuil1!C34<>"",IF(ISTEXT(Feuil1!C34),IF(AND(OR(Feuil1!C34="rjf",Feuil1!C34="cp"),WEEKDAY(Feuil1!B34)<>1),7/24,0),MOD(Feuil1!D34-Feuil1!C34,1))) -> FALSE | C33: =IF(Feuil1!E34<>"",IF(ISTEXT(Feuil1!E34),IF(AND(OR(Feuil1!E34="rjf",Feuil1!E34="cp"),WEEKDAY(Feuil1!E34)<>1),7/24,0),MOD(Feuil1!F34-Feuil1!E34,1))) -> FALSE | D33: =IF(Feuil1!G34<>"",IF(ISTEXT(Feuil1!G34),IF(AND(OR(Feuil1!G34="rjf",Feuil1!G34="cp"),WEEKDAY(Feuil1!B34)<>1),7/24,0),MOD(Feuil1!D34-Feuil1!C34,1))) -> FALSE | F33: =IF(Feuil1!I34<>"",IF(ISTEXT(Feuil1!I34),IF(AND(OR(Feuil1!I34="rjf",Feuil1!I34="cp"),WEEKDAY(Feuil1!B34)<>1),8/24,0),MOD(Feuil1!J34-Feuil1!I34,1)-1/48),0) -> 0 | G33: =IF(Feuil1!K34<>"",IF(ISTEXT(Feuil1!K34),IF(AND(OR(Feuil1!K34="rjf",Feuil1!K34="cp"),WEEKDAY(Feuil1!B34)<>1),8/24,0),MOD(Feuil1!L34-Feuil1!K34,1)-1/48),0) -> 0 | H33: =IF(Feuil1!N34<>"",IF(ISTEXT(Feuil1!N34),IF(AND(OR(Feuil1!N34="rjf",Feuil1!N34="cp"),WEEKDAY(Feuil1!A34)<>1),7/24,0),MOD(Feuil1!M34-Feuil1!N34,1)-1/48),0) -> 0 | I33: =IF(Feuil1!O34<>"",IF(ISTEXT(Feuil1!O34),IF(AND(OR(Feuil1!O34="rjf",Feuil1!O34="cp"),WEEKDAY(Feuil1!B34)<>1),7/24,0),MOD(Feuil1!P34-Feuil1!O34,1)-1/48),0) -> 0 | J33: =IF(Feuil1!R34<>"",IF(ISTEXT(Feuil1!R34),IF(AND(OR(Feuil1!R34="rjf",Feuil1!R34="cp"),WEEKDAY(Feuil1!B34)<>1),7/24,0),MOD(Feuil1!R34-Feuil1!Q34,1)-1/48),0) -> 0
