Workbook

Sheet Janvier
A1: DATE | B1: TYPES | C1: RÉFÉRENCE PALE | D1: NUMÉRO PV /AQ | E1: NUMÉRO OR | F1: S/N | G1: ÉLÉMENT D'OTP | H1: MOTIF DE RETOUR MOTIF INDIÇAGE | I1: TRAVAUX / LIENS JIRA | J1: COUT PRÉPARATION | K1: NOM | L1: STATUT
B2: PP 365A | J2: 12
I20: TOTAL COUT PRÉPARATION | J20: =SUM(J2:J17) -> 12 | K20: TOTAL MD | L20: =SUMIF(K2:K17,"MD",J2:J17) -> 0
K21: TOTAL LM | L21: =SUMIF(K2:K17,"LM",J2:J17) -> 0
K22: TOTAL PB | L22: =SUMIF(K2:K17,"PB",J2:J17) -> 0
K23: TOTAL SL | L23: =SUMIF(K2:K17,"SL",J2:J17) -> 0

Sheet Février
A1: DATE | B1: TYPES PALE | C1: RÉFÉRENCE PALE | D1: NUMÉRO PV /AQ | E1: NUMÉRO OR | F1: S/N | G1: ÉLÉMENT D'OTP | H1: MOTIF DE RETOUR MOTIF INDIÇAGE | I1: TRAVAUX / LIENS JIRA | J1: COUT PRÉPARATION | K1: NOM | L1: STATUT
I20: TOTAL COUT PRÉPARATION | J20: =SUM(J2:J17) -> 0 | K20: TOTAL MD | L20: =SUMIF(K2:K17,"MD",J2:J17) -> 0
K21: TOTAL LM | L21: =SUMIF(K2:K17,"LM",J2:J17) -> 0
K22: TOTAL PB | L22: =SUMIF(K2:K17,"PB",J2:J17) -> 0
K23: TOTAL SL | L23: =SUMIF(K2:K17,"SL",J2:J17) -> 0

Sheet Mars
A1: DATE | B1: TYPES PALE | C1: RÉFÉRENCE PALE | D1: NUMÉRO PV /AQ | E1: NUMÉRO OR | F1: S/N | G1: ÉLÉMENT D'OTP | H1: MOTIF DE RETOUR MOTIF INDIÇAGE | I1: TRAVAUX / LIENS JIRA | J1: COUT PRÉPARATION | K1: NOM | L1: STATUT
I20: TOTAL COUT PRÉPARATION | J20: =SUM(J2:J17) -> 0 | K20: TOTAL MD | L20: =SUMIF(K2:K17,"MD",J2:J17) -> 0
K21: TOTAL LM | L21: =SUMIF(K2:K17,"LM",J2:J17) -> 0
K22: TOTAL PB | L22: =SUMIF(K2:K17,"PB",J2:J17) -> 0
K23: TOTAL SL | L23: =SUMIF(K2:K17,"SL",J2:J17) -> 0

Sheet Avril
A1: DATE | B1: TYPES PALE | C1: RÉFÉRENCE PALE | D1: NUMÉRO PV /AQ | E1: NUMÉRO OR | F1: S/N | G1: ÉLÉMENT D'OTP | H1: MOTIF DE RETOUR MOTIF INDIÇAGE | I1: TRAVAUX / LIENS JIRA | J1: COUT PRÉPARATION | K1: NOM | L1: STATUT
I20: TOTAL COUT PRÉPARATION | J20: =SUM(J2:J17) -> 0 | K20: TOTAL MD | L20: =SUMIF(K2:K17,"MD",J2:J17) -> 0
K21: TOTAL LM | L21: =SUMIF(K2:K17,"LM",J2:J17) -> 0
K22: TOTAL PB | L22: =SUMIF(K2:K17,"PB",J2:J17) -> 0
K23: TOTAL SL | L23: =SUMIF(K2:K17,"SL",J2:J17) -> 0

Sheet Mai
A1: DATE | B1: TYPES PALE | C1: RÉFÉRENCE PALE | D1: NUMÉRO PV /AQ | E1: NUMÉRO OR | F1: S/N | G1: ÉLÉMENT D'OTP | H1: MOTIF DE RETOUR MOTIF INDIÇAGE | I1: TRAVAUX / LIENS JIRA | J1: COUT PRÉPARATION | K1: NOM | L1: STATUT
I20: TOTAL COUT PRÉPARATION | J20: =SUM(J2:J17) -> 0 | K20: TOTAL MD | L20: =SUMIF(K2:K17,"MD",J2:J17) -> 0
K21: TOTAL LM | L21: =SUMIF(K2:K17,"LM",J2:J17) -> 0
K22: TOTAL PB | L22: =SUMIF(K2:K17,"PB",J2:J17) -> 0
K23: TOTAL SL | L23: =SUMIF(K2:K17,"SL",J2:J17) -> 0

Sheet Juin
A1: DATE | B1: TYPES PALE | C1: RÉFÉRENCE PALE | D1: NUMÉRO PV /AQ | E1: NUMÉRO OR | F1: S/N | G1: ÉLÉMENT D'OTP | H1: MOTIF DE RETOUR MOTIF INDIÇAGE | I1: TRAVAUX / LIENS JIRA | J1: COUT PRÉPARATION | K1: NOM | L1: STATUT
I20: TOTAL COUT PRÉPARATION | J20: =SUM(J2:J17) -> 0 | K20: TOTAL MD | L20: =SUMIF(K2:K17,"MD",J2:J17) -> 0
K21: TOTAL LM | L21: =SUMIF(K2:K17,"LM",J2:J17) -> 0
K22: TOTAL PB | L22: =SUMIF(K2:K17,"PB",J2:J17) -> 0
K23: TOTAL SL | L23: =SUMIF(K2:K17,"SL",J2:J17) -> 0

Sheet Juillet
A1: DATE | B1: TYPES PALE | C1: RÉFÉRENCE PALE | D1: NUMÉRO PV /AQ | E1: NUMÉRO OR | F1: S/N | G1: ÉLÉMENT D'OTP | H1: MOTIF DE RETOUR MOTIF INDIÇAGE | I1: TRAVAUX / LIENS JIRA | J1: COUT PRÉPARATION | K1: NOM | L1: STATUT
I20: TOTAL COUT PRÉPARATION | J20: =SUM(J2:J17) -> 0 | K20: TOTAL MD | L20: =SUMIF(K2:K17,"MD",J2:J17) -> 0
K21: TOTAL LM | L21: =SUMIF(K2:K17,"LM",J2:J17) -> 0
K22: TOTAL PB | L22: =SUMIF(K2:K17,"PB",J2:J17) -> 0
K23: TOTAL SL | L23: =SUMIF(K2:K17,"SL",J2:J17) -> 0

Sheet Aout
A1: DATE | B1: TYPES PALE | C1: RÉFÉRENCE PALE | D1: NUMÉRO PV /AQ | E1: NUMÉRO OR | F1: S/N | G1: ÉLÉMENT D'OTP | H1: MOTIF DE RETOUR MOTIF INDIÇAGE | I1: TRAVAUX / LIENS JIRA | J1: COUT PRÉPARATION | K1: NOM | L1: STATUT
I20: TOTAL COUT PRÉPARATION | J20: =SUM(J2:J17) -> 0 | K20: TOTAL MD | L20: =SUMIF(K2:K17,"MD",J2:J17) -> 0
K21: TOTAL LM | L21: =SUMIF(K2:K17,"LM",J2:J17) -> 0
K22: TOTAL PB | L22: =SUMIF(K2:K17,"PB",J2:J17) -> 0
K23: TOTAL SL | L23: =SUMIF(K2:K17,"SL",J2:J17) -> 0

Sheet Septembre
A1: DATE | B1: TYPES PALE | C1: RÉFÉRENCE PALE | D1: NUMÉRO PV /AQ | E1: NUMÉRO OR | F1: S/N | G1: ÉLÉMENT D'OTP | H1: MOTIF DE RETOUR MOTIF INDIÇAGE | I1: TRAVAUX / LIENS JIRA | J1: COUT PRÉPARATION | K1: NOM | L1: STATUT
I20: TOTAL COUT PRÉPARATION | J20: =SUM(J2:J17) -> 0 | K20: TOTAL MD | L20: =SUMIF(K2:K17,"MD",J2:J17) -> 0
K21: TOTAL LM | L21: =SUMIF(K2:K17,"LM",J2:J17) -> 0
K22: TOTAL PB | L22: =SUMIF(K2:K17,"PB",J2:J17) -> 0
K23: TOTAL SL | L23: =SUMIF(K2:K17,"SL",J2:J17) -> 0

Sheet Octobre
A1: DATE | B1: TYPES PALE | C1: RÉFÉRENCE PALE | D1: NUMÉRO PV /AQ | E1: NUMÉRO OR | F1: S/N | G1: ÉLÉMENT D'OTP | H1: MOTIF DE RETOUR MOTIF INDIÇAGE | I1: TRAVAUX / LIENS JIRA | J1: COUT PRÉPARATION | K1: NOM | L1: STATUT
I20: TOTAL COUT PRÉPARATION | J20: =SUM(J2:J17) -> 0 | K20: TOTAL MD | L20: =SUMIF(K2:K17,"MD",J2:J17) -> 0
K21: TOTAL LM | L21: =SUMIF(K2:K17,"LM",J2:J17) -> 0
K22: TOTAL PB | L22: =SUMIF(K2:K17,"PB",J2:J17) -> 0
K23: TOTAL SL | L23: =SUMIF(K2:K17,"SL",J2:J17) -> 0

Sheet Novembre
A1: DATE | B1: TYPES PALE | C1: RÉFÉRENCE PALE | D1: NUMÉRO PV /AQ | E1: NUMÉRO OR | F1: S/N | G1: ÉLÉMENT D'OTP | H1: MOTIF DE RETOUR MOTIF INDIÇAGE | I1: TRAVAUX / LIENS JIRA | J1: COUT PRÉPARATION | K1: NOM | L1: STATUT
I20: TOTAL COUT PRÉPARATION | J20: =SUM(J2:J17) -> 0 | K20: TOTAL MD | L20: =SUMIF(K2:K17,"MD",J2:J17) -> 0
K21: TOTAL LM | L21: =SUMIF(K2:K17,"LM",J2:J17) -> 0
K22: TOTAL PB | L22: =SUMIF(K2:K17,"PB",J2:J17) -> 0
K23: TOTAL SL | L23: =SUMIF(K2:K17,"SL",J2:J17) -> 0

Sheet Décembre
A1: DATE | B1: TYPES PALE | C1: RÉFÉRENCE PALE | D1: NUMÉRO PV /AQ | E1: NUMÉRO OR | F1: S/N | G1: ÉLÉMENT D'OTP | H1: MOTIF DE RETOUR MOTIF INDIÇAGE | I1: TRAVAUX / LIENS JIRA | J1: COUT PRÉPARATION | K1: NOM | L1: STATUT
I20: TOTAL COUT PRÉPARATION | J20: =SUM(J2:J17) -> 0 | K20: TOTAL MD | L20: =SUMIF(K2:K17,"MD",J2:J17) -> 0
K21: TOTAL LM | L21: =SUMIF(K2:K17,"LM",J2:J17) -> 0
K22: TOTAL PB | L22: =SUMIF(K2:K17,"PB",J2:J17) -> 0
K23: TOTAL SL | L23: =SUMIF(K2:K17,"SL",J2:J17) -> 0

Sheet Bilan 20XX
E1: BILAN ANNEE 20XX
P4: TOTAL COUT PREPA | Q4: =Données!N2 -> 0
P6: TOTAL MD | Q6: =Données!N5 -> 0
P7: TOTAL LM | Q7: =Données!N6 -> 0
P8: TOTAL PB | Q8: =Données!N7 -> 0
P9: TOTAL SL | Q9: =Données!N8 -> 0

Sheet Données
A10: TYPES | B10: Janvier | C10: Février | D10: Mars | E10: Avril | F10: Mai | G10: Juin | H10: Juillet | I10: Août | J10: Septembre | K10: Octobre | L10: Novembre | M10: Décembre | N10: TOTAL
A11: PP 332A MKI | B11: =SUMIF(Janvier!B2:B17,"PP 332A MKI",Janvier!J2:J17) -> 0 | C11: =SUMIF(Février!B2:B17,"PP 332A MKI",Février!J2:J17) -> 0 | D11: =SUMIF(Mars!B2:B17,"PP 332A MKI",Mars!J2:J17) -> 0 | E11: =SUMIF(Avril!B2:B17,"PP 332A MKI",Avril!J2:J17) -> 0 | F11: =SUMIF(Mai!B2:B17,"PP 332A MKI",Mai!J2:J17) -> 0 | G11: =SUMIF(Juin!B2:B17,"PP 332A MKI",Juin!J2:J17) -> 0 | H11: =SUMIF(Juillet!B2:B17,"PP 332A MKI",Juillet!J2:J17) -> 0 | I11: =SUMIF(Aout!B2:B17,"PP 332A MKI",Aout!J2:J17) -> 0 | J11: =SUMIF(Septembre!B2:B17,"PP 332A MKI",Septembre!J2:J17) -> 0 | K11: =SUMIF(Octobre!B2:B17,"PP 332A MKI",Octobre!J2:J17) -> 0 | L11: =SUMIF(Novembre!B2:B17,"PP 332A MKI",Novembre!J2:J17) -> 0 | M11: =SUMIF(Décembre!B2:B17,"PP 332A MKI",Décembre!J2:J17) -> 0 | N11: =SUM(B11:M11) -> 0
A12: PP 332A MKII | B12: =SUMIF(Janvier!B2:B17,"PP 332A MKII",Janvier!J2:J17) -> 0 | C12: =SUMIF(Février!B2:B17,"PP 332A MKII",Février!J2:J17) -> 0 | D12: =SUMIF(Mars!B2:B17,"PP 332A MKII",Mars!J2:J17) -> 0 | E12: =SUMIF(Avril!B2:B17,"PP 332A MKII",Avril!J2:J17) -> 0 | F12: =SUMIF(Mai!B2:B17,"PP 332A MKII",Mai!J2:J17) -> 0 | G12: =SUMIF(Juin!B2:B17,"PP 332A MKII",Juin!J2:J17) -> 0 | H12: =SUMIF(Juillet!B2:B17,"PP 332A MKII",Juillet!J2:J17) -> 0 | I12: =SUMIF(Aout!B2:B17,"PP 332A MKII",Aout!J2:J17) -> 0 | J12: =SUMIF(Septembre!B2:B17,"PP 332A MKII",Septembre!J2:J17) -> 0 | K12: =SUMIF(Octobre!B2:B17,"PP 332A MKII",Octobre!J2:J17) -> 0 | L12: =SUMIF(Novembre!B2:B17,"PP 332A MKII",Novembre!J2:J17) -> 0 | M12: =SUMIF(Décembre!B2:B17,"PP 332A MKII",Décembre!J2:J17) -> 0 | N12: =SUM(B12:M12) -> 0
A13: PP 355A | B13: =SUMIF(Janvier!B2:B17,"PP 355A",Janvier!J2:J17) -> 0 | C13: =SUMIF(Février!B2:B17,"PP 355A",Février!J2:J17) -> 0 | D13: =SUMIF(Mars!B2:B17,"PP 355A",Mars!J2:J17) -> 0 | E13: =SUMIF(Avril!B2:B17,"PP 355A",Avril!J2:J17) -> 0 | F13: =SUMIF(Mai!B2:B17,"PP 355A",Mai!J2:J17) -> 0 | G13: =SUMIF(Juin!B2:B17,"PP 355A",Juin!J2:J17) -> 0 | H13: =SUMIF(Juillet!B2:B17,"PP 355A",Juillet!J2:J17) -> 0 | I13: =SUMIF(Aout!B2:B17,"PP 355A",Aout!J2:J17) -> 0 | J13: =SUMIF(Septembre!B2:B17,"PP 355A",Septembre!J2:J17) -> 0 | K13: =SUMIF(Octobre!B2:B17,"PP 355A",Octobre!J2:J17) -> 0 | L13: =SUMIF(Novembre!B2:B17,"PP 355A",Novembre!J2:J17) -> 0 | M13: =SUMIF(Décembre!B2:B17,"PP 355A",Décembre!J2:J17) -> 0 | N13: =SUM(B13:M13) -> 0
A14: PP 365A | B14: =SUMIF(Janvier!B2:B17,"PP 365A",Janvier!J2:J17) -> 12 | C14: =SUMIF(Février!B2:B17,"PP 365A",Février!J2:J17) -> 0 | D14: =SUMIF(Mars!B2:B17,"PP 365A",Mars!J2:J17) -> 0 | E14: =SUMIF(Avril!B2:B17,"PP 365A",Avril!J2:J17) -> 0 | F14: =SUMIF(Mai!B2:B17,"PP 365A",Mai!J2:J17) -> 0 | G14: =SUMIF(Juin!B2:B17,"PP 365A",Juin!J2:J17) -> 0 | H14: =SUMIF(Juillet!B2:B17,"PP 365A",Juillet!J2:J17) -> 0 | I14: =SUMIF(Aout!B2:B17,"PP 365A",Aout!J2:J17) -> 0 | J14: =SUMIF(Septembre!B2:B17,"PP 365A",Septembre!J2:J17) -> 0 | K14: =SUMIF(Octobre!B2:B17,"PP 365A",Octobre!J2:J17) -> 0 | L14: =SUMIF(Novembre!B2:B17,"PP 365A",Novembre!J2:J17) -> 0 | M14: =SUMIF(Décembre!B2:B17,"PP 365A",Décembre!J2:J17) -> 0 | N14: =SUM(B14:M14) -> 12
A15: PP C621A | B15: =SUMIF(Janvier!B2:B17,"PP C621A",Janvier!J2:J17) -> 0 | C15: =SUMIF(Février!B2:B17,"PP C621A",Février!J2:J17) -> 0 | D15: =SUMIF(Mars!B2:B17,"PP C621A",Mars!J2:J17) -> 0 | E15: =SUMIF(Avril!B2:B17,"PP C621A",Avril!J2:J17) -> 0 | F15: =SUMIF(Mai!B2:B17,"PP C621A",Mai!J2:J17) -> 0 | G15: =SUMIF(Juin!B2:B17,"PP C621A",Juin!J2:J17) -> 0 | H15: =SUMIF(Juillet!B2:B17,"PP C621A",Juillet!J2:J17) -> 0 | I15: =SUMIF(Aout!B2:B17,"PP C621A",Aout!J2:J17) -> 0 | J15: =SUMIF(Septembre!B2:B17,"PP C621A",Septembre!J2:J17) -> 0 | K15: =SUMIF(Octobre!B2:B17,"PP C621A",Octobre!J2:J17) -> 0 | L15: =SUMIF(Novembre!B2:B17,"PP C621A",Novembre!J2:J17) -> 0 | M15: =SUMIF(Décembre!B2:B17,"PP C621A",Décembre!J2:J17) -> 0 | N15: =SUM(B15:M15) -> 0
A16: PP H225 | B16: =SUMIF(Janvier!B2:B17,"PP H225",Janvier!J2:J17) -> 0 | C16: =SUMIF(Février!B2:B17,"PP H225",Février!J2:J17) -> 0 | D16: =SUMIF(Mars!B2:B17,"PP H225",Mars!J2:J17) -> 0 | E16: =SUMIF(Avril!B2:B17,"PP H225",Avril!J2:J17) -> 0 | F16: =SUMIF(Mai!B2:B17,"PP H225",Mai!J2:J17) -> 0 | G16: =SUMIF(Juin!B2:B17,"PP H225",Juin!J2:J17) -> 0 | H16: =SUMIF(Juillet!B2:B17,"PP H225",Juillet!J2:J17) -> 0 | I16: =SUMIF(Aout!B2:B17,"PP H225",Aout!J2:J17) -> 0 | J16: =SUMIF(Septembre!B2:B17,"PP H225",Septembre!J2:J17) -> 0 | K16: =SUMIF(Octobre!B2:B17,"PP H225",Octobre!J2:J17) -> 0 | L16: =SUMIF(Novembre!B2:B17,"PP H225",Novembre!J2:J17) -> 0 | M16: =SUMIF(Décembre!B2:B17,"PP H225",Décembre!J2:J17) -> 0 | N16: =SUM(B16:M16) -> 0
A17: PP M621A | B17: =SUMIF(Janvier!B2:B17,"PP M621A",Janvier!J2:J17) -> 0 | C17: =SUMIF(Février!B2:B17,"PP M621A",Février!J2:J17) -> 0 | D17: =SUMIF(Mars!B2:B17,"PP M621A",Mars!J2:J17) -> 0 | E17: =SUMIF(Avril!B2:B17,"PP M621A",Avril!J2:J17) -> 0 | F17: =SUMIF(Mai!B2:B17,"PP M621A",Mai!J2:J17) -> 0 | G17: =SUMIF(Juin!B2:B17,"PP M621A",Juin!J2:J17) -> 0 | H17: =SUMIF(Juillet!B2:B17,"PP M621A",Juillet!J2:J17) -> 0 | I17: =SUMIF(Aout!B2:B17,"PP M621A",Aout!J2:J17) -> 0 | J17: =SUMIF(Septembre!B2:B17,"PP M621A",Septembre!J2:J17) -> 0 | K17: =SUMIF(Octobre!B2:B17,"PP M621A",Octobre!J2:J17) -> 0 | L17: =SUMIF(Novembre!B2:B17,"PP M621A",Novembre!J2:J17) -> 0 | M17: =SUMIF(Décembre!B2:B17,"PP M621A",Décembre!J2:J17) -> 0 | N17: =SUM(B17:M17) -> 0
A18: PP M621G | B18: =SUMIF(Janvier!B2:B17,"PP M621G",Janvier!J2:J17) -> 0 | C18: =SUMIF(Février!B2:B17,"PP M621G",Février!J2:J17) -> 0 | D18: =SUMIF(Mars!B2:B17,"PP M621G",Mars!J2:J17) -> 0 | E18: =SUMIF(Avril!B2:B17,"PP M621G",Avril!J2:J17) -> 0 | F18: =SUMIF(Mai!B2:B17,"PP M621G",Mai!J2:J17) -> 0 | G18: =SUMIF(Juin!B2:B17,"PP M621G",Juin!J2:J17) -> 0 | H18: =SUMIF(Juillet!B2:B17,"PP M621G",Juillet!J2:J17) -> 0 | I18: =SUMIF(Aout!B2:B17,"PP M621G",Aout!J2:J17) -> 0 | J18: =SUMIF(Septembre!B2:B17,"PP M621G",Septembre!J2:J17) -> 0 | K18: =SUMIF(Octobre!B2:B17,"PP M621G",Octobre!J2:J17) -> 0 | L18: =SUMIF(Novembre!B2:B17,"PP M621G",Novembre!J2:J17) -> 0 | M18: =SUMIF(Décembre!B2:B17,"PP M621G",Décembre!J2:J17) -> 0 | N18: =SUM(B18:M18) -> 0
A19: PP S621A | B19: =SUMIF(Janvier!B2:B17,"PP S621A",Janvier!J2:J17) -> 0 | C19: =SUMIF(Février!B2:B17,"PP S621A",Février!J2:J17) -> 0 | D19: =SUMIF(Mars!B2:B17,"PP S621A",Mars!J2:J17) -> 0 | E19: =SUMIF(Avril!B2:B17,"PP S621A",Avril!J2:J17) -> 0 | F19: =SUMIF(Mai!B2:B17,"PP S621A",Mai!J2:J17) -> 0 | G19: =SUMIF(Juin!B2:B17,"PP S621A",Juin!J2:J17) -> 0 | H19: =SUMIF(Juillet!B2:B17,"PP S621A",Juillet!J2:J17) -> 0 | I19: =SUMIF(Aout!B2:B17,"PP S621A",Aout!J2:J17) -> 0 | J19: =SUMIF(Septembre!B2:B17,"PP S621A",Septembre!J2:J17) -> 0 | K19: =SUMIF(Octobre!B2:B17,"PP S621A",Octobre!J2:J17) -> 0 | L19: =SUMIF(Novembre!B2:B17,"PP S621A",Novembre!J2:J17) -> 0 | M19: =SUMIF(Décembre!B2:B17,"PP S621A",Décembre!J2:J17) -> 0 | N19: =SUM(B19:M19) -> 0
A20: PA 332A MKI | B20: =SUMIF(Janvier!B2:B17,"PA 332A MKI",Janvier!J2:J17) -> 0 | C20: =SUMIF(Février!B2:B17,"PA 332A MKI",Février!J2:J17) -> 0 | D20: =SUMIF(Mars!B2:B17,"PA 332A MKI",Mars!J2:J17) -> 0 | E20: =SUMIF(Avril!B2:B17,"PA 332A MKI",Avril!J2:J17) -> 0 | F20: =SUMIF(Mai!B2:B17,"PA 332A MKI",Mai!J2:J17) -> 0 | G20: =SUMIF(Juin!B2:B17,"PA 332A MKI",Juin!J2:J17) -> 0 | H20: =SUMIF(Juillet!B2:B17,"PA 332A MKI",Juillet!J2:J17) -> 0 | I20: =SUMIF(Aout!B2:B17,"PA 332A MKI",Aout!J2:J17) -> 0 | J20: =SUMIF(Septembre!B2:B17,"PA 332A MKI",Septembre!J2:J17) -> 0 | K20: =SUMIF(Octobre!B2:B17,"PA 332A MKI",Octobre!J2:J17) -> 0 | L20: =SUMIF(Novembre!B2:B17,"PA 332A MKI",Novembre!J2:J17) -> 0 | M20: =SUMIF(Décembre!B2:B17,"PA 332A MKI",Décembre!J2:J17) -> 0 | N20: =SUM(B20:M20) -> 0
A21: PA 332A MKII | B21: =SUMIF(Janvier!B2:B17,"PA 332A MKII",Janvier!J2:J17) -> 0 | C21: =SUMIF(Février!B2:B17,"PA 332A MKII",Février!J2:J17) -> 0 | D21: =SUMIF(Mars!B2:B17,"PA 332A MKII",Mars!J2:J17) -> 0 | E21: =SUMIF(Avril!B2:B17,"PA 332A MKII",Avril!J2:J17) -> 0 | F21: =SUMIF(Mai!B2:B17,"PA 332A MKII",Mai!J2:J17) -> 0 | G21: =SUMIF(Juin!B2:B17,"PA 332A MKII",Juin!J2:J17) -> 0 | H21: =SUMIF(Juillet!B2:B17,"PA 332A MKII",Juillet!J2:J17) -> 0 | I21: =SUMIF(Aout!B2:B17,"PA 332A MKII",Aout!J2:J17) -> 0 | J21: =SUMIF(Septembre!B2:B17,"PA 332A MKII",Septembre!J2:J17) -> 0 | K21: =SUMIF(Octobre!B2:B17,"PA 332A MKII",Octobre!J2:J17) -> 0 | L21: =SUMIF(Novembre!B2:B17,"PA 332A MKII",Novembre!J2:J17) -> 0 | M21: =SUMIF(Décembre!B2:B17,"PA 332A MKII",Décembre!J2:J17) -> 0 | N21: =SUM(B21:M21) -> 0
A22: PA 365A | B22: =SUMIF(Janvier!B2:B17,"PA 365A",Janvier!J2:J17) -> 0 | C22: =SUMIF(Février!B2:B17,"PA 365A",Février!J2:J17) -> 0 | D22: =SUMIF(Mars!B2:B17,"PA 365A",Mars!J2:J17) -> 0 | E22: =SUMIF(Avril!B2:B17,"PA 365A",Avril!J2:J17) -> 0 | F22: =SUMIF(Mai!B2:B17,"PA 365A",Mai!J2:J17) -> 0 | G22: =SUMIF(Juin!B2:B17,"PA 365A",Juin!J2:J17) -> 0 | H22: =SUMIF(Juillet!B2:B17,"PA 365A",Juillet!J2:J17) -> 0 | I22: =SUMIF(Aout!B2:B17,"PA 365A",Aout!J2:J17) -> 0 | J22: =SUMIF(Septembre!B2:B17,"PA 365A",Septembre!J2:J17) -> 0 | K22: =SUMIF(Octobre!B2:B17,"PA 365A",Octobre!J2:J17) -> 0 | L22: =SUMIF(Novembre!B2:B17,"PA 365A",Novembre!J2:J17) -> 0 | M22: =SUMIF(Décembre!B2:B17,"PA 365A",Décembre!J2:J17) -> 0 | N22: =SUM(B22:M22) -> 0
A23: PA H225 | B23: =SUMIF(Janvier!B2:B17,"PA H225",Janvier!J2:J17) -> 0 | C23: =SUMIF(Février!B2:B17,"PA H225",Février!J2:J17) -> 0 | D23: =SUMIF(Mars!B2:B17,"PA H225",Mars!J2:J17) -> 0 | E23: =SUMIF(Avril!B2:B17,"PA H225",Avril!J2:J17) -> 0 | F23: =SUMIF(Mai!B2:B17,"PA H225",Mai!J2:J17) -> 0 | G23: =SUMIF(Juin!B2:B17,"PA H225",Juin!J2:J17) -> 0 | H23: =SUMIF(Juillet!B2:B17,"PA H225",Juillet!J2:J17) -> 0 | I23: =SUMIF(Aout!B2:B17,"PA H225",Aout!J2:J17) -> 0 | J23: =SUMIF(Septembre!B2:B17,"PA H225",Septembre!J2:J17) -> 0 | K23: =SUMIF(Octobre!B2:B17,"PA H225",Octobre!J2:J17) -> 0 | L23: =SUMIF(Novembre!B2:B17,"PA H225",Novembre!J2:J17) -> 0 | M23: =SUMIF(Décembre!B2:B17,"PA H225",Décembre!J2:J17) -> 0 | N23: =SUM(B23:M23) -> 0
A24: PA M641A | B24: =SUMIF(Janvier!B2:B17,"PA M641A",Janvier!J2:J17) -> 0 | C24: =SUMIF(Février!B2:B17,"PA M641A",Février!J2:J17) -> 0 | D24: =SUMIF(Mars!B2:B17,"PA M641A",Mars!J2:J17) -> 0 | E24: =SUMIF(Avril!B2:B17,"PA M641A",Avril!J2:J17) -> 0 | F24: =SUMIF(Mai!B2:B17,"PA M641A",Mai!J2:J17) -> 0 | G24: =SUMIF(Juin!B2:B17,"PA M641A",Juin!J2:J17) -> 0 | H24: =SUMIF(Juillet!B2:B17,"PA M641A",Juillet!J2:J17) -> 0 | I24: =SUMIF(Aout!B2:B17,"PA M641A",Aout!J2:J17) -> 0 | J24: =SUMIF(Septembre!B2:B17,"PA M641A",Septembre!J2:J17) -> 0 | K24: =SUMIF(Octobre!B2:B17,"PA M641A",Octobre!J2:J17) -> 0 | L24: =SUMIF(Novembre!B2:B17,"PA M641A",Novembre!J2:J17) -> 0 | M24: =SUMIF(Décembre!B2:B17,"PA M641A",Décembre!J2:J17) -> 0 | N24: =SUM(B24:M24) -> 0
A25: PA S641A | B25: =SUMIF(Janvier!B2:B17,"PA S641A",Janvier!J2:J17) -> 0 | C25: =SUMIF(Février!B2:B17,"PA S641A",Février!J2:J17) -> 0 | D25: =SUMIF(Mars!B2:B17,"PA S641A",Mars!J2:J17) -> 0 | E25: =SUMIF(Avril!B2:B17,"PA S641A",Avril!J2:J17) -> 0 | F25: =SUMIF(Mai!B2:B17,"PA S641A",Mai!J2:J17) -> 0 | G25: =SUMIF(Juin!B2:B17,"PA S641A",Juin!J2:J17) -> 0 | H25: =SUMIF(Juillet!B2:B17,"PA S641A",Juillet!J2:J17) -> 0 | I25: =SUMIF(Aout!B2:B17,"PA S641A",Aout!J2:J17) -> 0 | J25: =SUMIF(Septembre!B2:B17,"P S641A",Septembre!J2:J17) -> 0 | K25: =SUMIF(Octobre!B2:B17,"PA S641A",Octobre!J2:J17) -> 0 | L25: =SUMIF(Novembre!B2:B17,"PA S641A",Novembre!J2:J17) -> 0 | M25: =SUMIF(Décembre!B2:B17,"PA S641A",Décembre!J2:J17) -> 0 | N25: =SUM(B25:M25) -> 0
A26: PA T641A | B26: =SUMIF(Janvier!B2:B17,"PA T641A",Janvier!J2:J17) -> 0 | C26: =SUMIF(Février!B2:B17,"PA T641A",Février!J2:J17) -> 0 | D26: =SUMIF(Mars!B2:B17,"PA T641A",Mars!J2:K17) -> 0 | E26: =SUMIF(Avril!B2:B17,"PA T641A",Avril!J2:J17) -> 0 | F26: =SUMIF(Mai!B2:B17,"PA T641A",Mai!J2:J17) -> 0 | G26: =SUMIF(Juin!B2:B17,"PA T641A",Juin!J2:J17) -> 0 | H26: =SUMIF(Juillet!B2:B17,"PA T641A",Juillet!J2:J17) -> 0 | I26: =SUMIF(Aout!B2:B17,"PA T641A",Aout!J2:J17) -> 0 | J26: =SUMIF(Septembre!B2:B17,"PA T641A",Septembre!J2:J17) -> 0 | K26: =SUMIF(Octobre!B2:B17,"PA T641A",Octobre!J2:J17) -> 0 | L26: =SUMIF(Novembre!B2:B17,"PA T641A",Novembre!J2:J17) -> 0 | M26: =SUMIF(Décembre!B2:B17,"PA T641A",Décembre!J2:J17) -> 0 | N26: =SUM(B26:M26) -> 0
A27: ROTOR 355A | B27: =SUMIF(Janvier!B2:B17,"ROTOR 355A",Janvier!J2:J17) -> 0 | C27: =SUMIF(Février!B2:B17,"ROTOR 355A",Février!J2:J17) -> 0 | D27: =SUMIF(Mars!B2:B17,"ROTOR 355A",Mars!J2:K17) -> 0 | E27: =SUMIF(Avril!B2:B17,"ROTOR 355A",Avril!J2:J17) -> 0 | F27: =SUMIF(Mai!B2:B17,"ROTOR 355A",Mai!J2:J17) -> 0 | G27: =SUMIF(Juin!B2:B17,"ROTOR 355A",Juin!J2:J17) -> 0 | H27: =SUMIF(Juillet!B2:B17,"ROTOR 355A",Juillet!J2:J17) -> 0 | I27: =SUMIF(Aout!B2:B17,"ROTOR 355A",Aout!J2:J17) -> 0 | J27: =SUMIF(Septembre!B2:B17,"ROTOR 355A",Septembre!J2:J17) -> 0 | K27: =SUMIF(Octobre!B2:B17,"ROTOR 355A",Octobre!J2:J17) -> 0 | L27: =SUMIF(Novembre!B2:B17,"ROTOR 355A",Novembre!J2:J17) -> 0 | M27: =SUMIF(Décembre!B2:B17,"ROTOR 355A",Décembre!J2:J17) -> 0 | N27: =SUM(B27:M27) -> 0
A29: LISTE PREPARATEURS
A31: MD
A32: LM
A33: PB
A34: SL
A37: LISTE STATUTS
A38: Attente décision BE
A39: Attente décision SRP
A40: En cours
A41: Rebuté
A42: Soldé
