Workbook

Sheet Données
B4: =RANDBETWEEN(1,10) -> 7 | C4: =RANDBETWEEN(10,5000) -> 4706
B5: =RANDBETWEEN(1,10) -> 2 | C5: =RANDBETWEEN(10,5000) -> 1607
B6: =RANDBETWEEN(1,10) -> 9 | C6: =RANDBETWEEN(10,5000) -> 3579
B7: =RANDBETWEEN(1,10) -> 4 | C7: =RANDBETWEEN(10,5000) -> 2925
B8: =RANDBETWEEN(1,10) -> 8 | C8: =RANDBETWEEN(10,5000) -> 2391
B9: =RANDBETWEEN(1,10) -> 1 | C9: =RANDBETWEEN(10,5000) -> 1791
B10: =RANDBETWEEN(1,10) -> 6 | C10: =RANDBETWEEN(10,5000) -> 2861
B11: =RANDBETWEEN(1,10) -> 2 | C11: =RANDBETWEEN(10,5000) -> 3737
B12: =RANDBETWEEN(1,10) -> 8 | C12: =RANDBETWEEN(10,5000) -> 470
B13: =RANDBETWEEN(1,10) -> 7 | C13: =RANDBETWEEN(10,5000) -> 1524
B14: =RANDBETWEEN(1,10) -> 2 | C14: =RANDBETWEEN(10,5000) -> 3675
B15: =RANDBETWEEN(1,10) -> 5 | C15: =RANDBETWEEN(10,5000) -> 3723
... B26: =RANDBETWEEN(1,10) -> 4 | C26: =RANDBETWEEN(10,5000) -> 3558

Sheet Récap
C5: 1 | D5: =SUMIF(Données!$B$4:$B$26,Récap!$C5,Données!$C$4:$C$26) -> 3540
C6: 2 | D6: =SUMIF(Données!$B$4:$B$26,Récap!$C6,Données!$C$4:$C$26) -> 9019
C7: 3 | D7: =SUMIF(Données!$B$4:$B$26,Récap!$C7,Données!$C$4:$C$26) -> 0
C8: 4 | D8: =SUMIF(Données!$B$4:$B$26,Récap!$C8,Données!$C$4:$C$26) -> 11442
C9: 5 | D9: =SUMIF(Données!$B$4:$B$26,Récap!$C9,Données!$C$4:$C$26) -> 3874
C10: 6 | D10: =SUMIF(Données!$B$4:$B$26,Récap!$C10,Données!$C$4:$C$26) -> 5531
C11: 7 | D11: =SUMIF(Données!$B$4:$B$26,Récap!$C11,Données!$C$4:$C$26) -> 13937
C12: 8 | D12: =SUMIF(Données!$B$4:$B$26,Récap!$C12,Données!$C$4:$C$26) -> 3176
C13: 9 | D13: =SUMIF(Données!$B$4:$B$26,Récap!$C13,Données!$C$4:$C$26) -> 3579
C14: 10 | D14: =SUMIF(Données!$B$4:$B$26,Récap!$C14,Données!$C$4:$C$26) -> 4945
