Workbook

Sheet Résultats
A1: 43226 | B1: IC 2L | C1: Gasser Stephane | D1: 1.371 | E1: R8 | F1: 6:2 6:3 | G1: S | H1: =YEAR(A1) -> 2018 | I1: =LEFT(F1) -> 6 | J1: =MID(F1,3,1) -> 2 | K1: =MID($F1,5,1) -> 6 | L1: =MID($F1,7,1) -> 3 | M1: =IF(MID($F1,9,1)="",0,(MID($F1,9,1))) -> 0 | N1: =IF(MID($F1,11,1)="",0,(MID($F1,11,1))) -> 0 | O1: =IF(I1>J1,1,-1) -> 1 | P1: =IF(K1>L1,1,-1) -> 1 | Q1: =IF(M1>N1,1,IF(N1>M1,-1,0)) -> 0 | R1: =COUNTIF(O1:Q1,1) -> 2 | S1: =COUNTIF(O1:Q1,-1) -> 0 | T1: =I1+K1+M1 -> 12 | U1: =J1+L1+N1 -> 5
A2: 43232 | B2: IC 2L | C2: Gil Cristiano Gaspar | D2: 3.208 | E2: R6 | F2: 1:6 6:1 6:3 | G2: S | H2: =YEAR(A2) -> 2018 | I2: =LEFT(F2) -> 1 | J2: =MID(F2,3,1) -> 6 | K2: =MID($F2,5,1) -> 6 | L2: =MID($F2,7,1) -> 1 | M2: =IF(MID($F2,9,1)="",0,(MID($F2,9,1))) -> 6 | N2: =IF(MID($F2,11,1)="",0,(MID($F2,11,1))) -> 3 | O2: =IF(I2>J2,1,-1) -> -1 | P2: =IF(K2>L2,1,-1) -> 1 | Q2: =IF(M2>N2,1,IF(N2>M2,-1,0)) -> 1 | R2: =COUNTIF(O2:Q2,1) -> 2 | S2: =COUNTIF(O2:Q2,-1) -> 1 | T2: =I2+K2+M2 -> 13 | U2: =J2+L2+N2 -> 10
A3: 43247 | B3: IC 2L | C3: Bongard Loïc | D3: 1 | E3: R9 | F3: 6:2 6:4 | G3: S | H3: =YEAR(A3) -> 2018 | I3: =LEFT(F3) -> 6 | J3: =MID(F3,3,1) -> 2 | K3: =MID($F3,5,1) -> 6 | L3: =MID($F3,7,1) -> 4 | M3: =IF(MID($F3,9,1)="",0,(MID($F3,9,1))) -> 0 | N3: =IF(MID($F3,11,1)="",0,(MID($F3,11,1))) -> 0 | O3: =IF(I3>J3,1,-1) -> 1 | P3: =IF(K3>L3,1,-1) -> 1 | Q3: =IF(M3>N3,1,IF(N3>M3,-1,0)) -> 0 | R3: =COUNTIF(O3:Q3,1) -> 2 | S3: =COUNTIF(O3:Q3,-1) -> 0 | T3: =I3+K3+M3 -> 12 | U3: =J3+L3+N3 -> 6
A4: 43254 | B4: IC 2L | C4: Allenbach David | D4: 0.442 | E4: R9 | F4: 6:1 4:6 6:1 | G4: S | H4: =YEAR(A4) -> 2018 | I4: =LEFT(F4) -> 6 | J4: =MID(F4,3,1) -> 1 | K4: =MID($F4,5,1) -> 4 | L4: =MID($F4,7,1) -> 6 | M4: =IF(MID($F4,9,1)="",0,(MID($F4,9,1))) -> 6 | N4: =IF(MID($F4,11,1)="",0,(MID($F4,11,1))) -> 1 | O4: =IF(I4>J4,1,-1) -> 1 | P4: =IF(K4>L4,1,-1) -> -1 | Q4: =IF(M4>N4,1,IF(N4>M4,-1,0)) -> 1 | R4: =COUNTIF(O4:Q4,1) -> 2 | S4: =COUNTIF(O4:Q4,-1) -> 1 | T4: =I4+K4+M4 -> 16 | U4: =J4+L4+N4 -> 8
A5: 43261 | B5: IC 2L | C5: Moser Urs | D5: 3.973 | E5: R6 | F5: 3:6 6:2 2:6 | G5: N | H5: =YEAR(A5) -> 2018 | I5: =LEFT(F5) -> 3 | J5: =MID(F5,3,1) -> 6 | K5: =MID($F5,5,1) -> 6 | L5: =MID($F5,7,1) -> 2 | M5: =IF(MID($F5,9,1)="",0,(MID($F5,9,1))) -> 2 | N5: =IF(MID($F5,11,1)="",0,(MID($F5,11,1))) -> 6 | O5: =IF(I5>J5,1,-1) -> -1 | P5: =IF(K5>L5,1,-1) -> 1 | Q5: =IF(M5>N5,1,IF(N5>M5,-1,0)) -> -1 | R5: =COUNTIF(O5:Q5,1) -> 1 | S5: =COUNTIF(O5:Q5,-1) -> 2 | T5: =I5+K5+M5 -> 11 | U5: =J5+L5+N5 -> 14
A6: 43212 | B6: 111172 GLANE OPEN | C6: Cretegny Daniel | D6: 3.228 | E6: R6 | F6: 1:6 4:6 | G6: N | H6: =YEAR(A6) -> 2018 | I6: =LEFT(F6) -> 1 | J6: =MID(F6,3,1) -> 6 | K6: =MID($F6,5,1) -> 4 | L6: =MID($F6,7,1) -> 6 | M6: =IF(MID($F6,9,1)="",0,(MID($F6,9,1))) -> 0 | N6: =IF(MID($F6,11,1)="",0,(MID($F6,11,1))) -> 0 | O6: =IF(I6>J6,1,-1) -> -1 | P6: =IF(K6>L6,1,-1) -> -1 | Q6: =IF(M6>N6,1,IF(N6>M6,-1,0)) -> 0 | R6: =COUNTIF(O6:Q6,1) -> 0 | S6: =COUNTIF(O6:Q6,-1) -> 2 | T6: =I6+K6+M6 -> 5 | U6: =J6+L6+N6 -> 12
A7: 43219 | B7: 112443 Open PQH du printemps - Aiglon - Fribourg | C7: Dellenbach Yann | D7: 3.797 | E7: R6 | F7: 0:6 0:6 | G7: N | H7: =YEAR(A7) -> 2018 | I7: =LEFT(F7) -> 0 | J7: =MID(F7,3,1) -> 6 | K7: =MID($F7,5,1) -> 0 | L7: =MID($F7,7,1) -> 6 | M7: =IF(MID($F7,9,1)="",0,(MID($F7,9,1))) -> 0 | N7: =IF(MID($F7,11,1)="",0,(MID($F7,11,1))) -> 0 | O7: =IF(I7>J7,1,-1) -> -1 | P7: =IF(K7>L7,1,-1) -> -1 | Q7: =IF(M7>N7,1,IF(N7>M7,-1,0)) -> 0 | R7: =COUNTIF(O7:Q7,1) -> 0 | S7: =COUNTIF(O7:Q7,-1) -> 2 | T7: =I7+K7+M7 -> 0 | U7: =J7+L7+N7 -> 12
A8: 43240 | B8: 112889 Tournoi ACTIFS WILSON | C8: Perroud Perroud | D8: 2.477 | E8: R7 | F8: 3:6 6:7 | G8: N | H8: =YEAR(A8) -> 2018 | I8: =LEFT(F8) -> 3 | J8: =MID(F8,3,1) -> 6 | K8: =MID($F8,5,1) -> 6 | L8: =MID($F8,7,1) -> 7 | M8: =IF(MID($F8,9,1)="",0,(MID($F8,9,1))) -> 0 | N8: =IF(MID($F8,11,1)="",0,(MID($F8,11,1))) -> 0 | O8: =IF(I8>J8,1,-1) -> -1 | P8: =IF(K8>L8,1,-1) -> -1 | Q8: =IF(M8>N8,1,IF(N8>M8,-1,0)) -> 0 | R8: =COUNTIF(O8:Q8,1) -> 0 | S8: =COUNTIF(O8:Q8,-1) -> 2 | T8: =I8+K8+M8 -> 9 | U8: =J8+L8+N8 -> 13
A9: 43240 | B9: 112889 Tournoi ACTIFS WILSON | C9: Gillet Valentin | D9: 0.672 | E9: R9 | F9: 6:1 6:4 | G9: S | H9: =YEAR(A9) -> 2018 | I9: =LEFT(F9) -> 6 | J9: =MID(F9,3,1) -> 1 | K9: =MID($F9,5,1) -> 6 | L9: =MID($F9,7,1) -> 4 | M9: =IF(MID($F9,9,1)="",0,(MID($F9,9,1))) -> 0 | N9: =IF(MID($F9,11,1)="",0,(MID($F9,11,1))) -> 0 | O9: =IF(I9>J9,1,-1) -> 1 | P9: =IF(K9>L9,1,-1) -> 1 | Q9: =IF(M9>N9,1,IF(N9>M9,-1,0)) -> 0 | R9: =COUNTIF(O9:Q9,1) -> 2 | S9: =COUNTIF(O9:Q9,-1) -> 0 | T9: =I9+K9+M9 -> 12 | U9: =J9+L9+N9 -> 5
A10: 43275 | B10: 112935 Tournoi d'été | C10: Dominguez José | D10: 4.078 | E10: R6 | F10: 3:6 3:6 | G10: N | H10: =YEAR(A10) -> 2018 | I10: =LEFT(F10) -> 3 | J10: =MID(F10,3,1) -> 6 | K10: =MID($F10,5,1) -> 3 | L10: =MID($F10,7,1) -> 6 | M10: =IF(MID($F10,9,1)="",0,(MID($F10,9,1))) -> 0 | N10: =IF(MID($F10,11,1)="",0,(MID($F10,11,1))) -> 0 | O10: =IF(I10>J10,1,-1) -> -1 | P10: =IF(K10>L10,1,-1) -> -1 | Q10: =IF(M10>N10,1,IF(N10>M10,-1,0)) -> 0 | R10: =COUNTIF(O10:Q10,1) -> 0 | S10: =COUNTIF(O10:Q10,-1) -> 2 | T10: =I10+K10+M10 -> 6 | U10: =J10+L10+N10 -> 12
A11: 43275 | B11: 112935 Tournoi d'été | C11: Zosso Christian | D11: 2.953 | E11: R7 | F11: 7:5 7:5 | G11: S | H11: =YEAR(A11) -> 2018 | I11: =LEFT(F11) -> 7 | J11: =MID(F11,3,1) -> 5 | K11: =MID($F11,5,1) -> 7 | L11: =MID($F11,7,1) -> 5 | M11: =IF(MID($F11,9,1)="",0,(MID($F11,9,1))) -> 0 | N11: =IF(MID($F11,11,1)="",0,(MID($F11,11,1))) -> 0 | O11: =IF(I11>J11,1,-1) -> 1 | P11: =IF(K11>L11,1,-1) -> 1 | Q11: =IF(M11>N11,1,IF(N11>M11,-1,0)) -> 0 | R11: =COUNTIF(O11:Q11,1) -> 2 | S11: =COUNTIF(O11:Q11,-1) -> 0 | T11: =I11+K11+M11 -> 14 | U11: =J11+L11+N11 -> 10
A12: 43289 | B12: 111252 Tournoi de Payerne | C12: Bezençon Axel | D12: 3.739 | E12: R6 | F12: 2:6 1:6 | G12: N | H12: =YEAR(A12) -> 2018 | I12: =LEFT(F12) -> 2 | J12: =MID(F12,3,1) -> 6 | K12: =MID($F12,5,1) -> 1 | L12: =MID($F12,7,1) -> 6 | M12: =IF(MID($F12,9,1)="",0,(MID($F12,9,1))) -> 0 | N12: =IF(MID($F12,11,1)="",0,(MID($F12,11,1))) -> 0 | O12: =IF(I12>J12,1,-1) -> -1 | P12: =IF(K12>L12,1,-1) -> -1 | Q12: =IF(M12>N12,1,IF(N12>M12,-1,0)) -> 0 | R12: =COUNTIF(O12:Q12,1) -> 0 | S12: =COUNTIF(O12:Q12,-1) -> 2 | T12: =I12+K12+M12 -> 3 | U12: =J12+L12+N12 -> 12
... A72: 44066 | B72: 122192 Tournoi des écureuils XI **LABEL FRIJUNE** | C72: Rothenfluh Fabian | D72: 3.865 | E72: R6 | F72: 5:7 5:7 | G72: N | H72: =YEAR(A72) -> 2020 | I72: =LEFT(F72) -> 5 | J72: =MID(F72,3,1) -> 7 | K72: =MID($F72,5,1) -> 5 | L72: =MID($F72,7,1) -> 7 | M72: =IF(MID($F72,9,1)="",0,(MID($F72,9,1))) -> 0 | N72: =IF(MID($F72,11,1)="",0,(MID($F72,11,1))) -> 0 | O72: =IF(I72>J72,1,-1) -> -1 | P72: =IF(K72>L72,1,-1) -> -1 | Q72: =IF(M72>N72,1,IF(N72>M72,-1,0)) -> 0 | R72: =COUNTIF(O72:Q72,1) -> 0 | S72: =COUNTIF(O72:Q72,-1) -> 2 | T72: =I72+K72+M72 -> 10 | U72: =J72+L72+N72 -> 14
I73: =LEFT(F73) | J73: =MID(F73,3,1) | K73: =MID($F73,5,1) | L73: =MID($F73,7,1) | M73: =IF(MID($F73,9,1)="",0,(MID($F73,9,1))) -> 0 | N73: =IF(MID($F73,11,1)="",0,(MID($F73,11,1))) -> 0 | O73: =IF(I73>J73,1,-1) -> -1 | P73: =IF(K73>L73,1,-1) -> -1 | Q73: =IF(M73>N73,1,IF(N73>M73,-1,0)) -> 0 | R73: =COUNTIF(O73:Q73,1) -> 0 | S73: =COUNTIF(O73:Q73,-1) -> 2 | T73: =I73+K73+M73 -> #VALUE! | U73: =J73+L73+N73 -> #VALUE!
I74: =LEFT(F74) | J74: =MID(F74,3,1) | K74: =MID($F74,5,1) | L74: =MID($F74,7,1) | M74: =IF(MID($F74,9,1)="",0,(MID($F74,9,1))) -> 0 | N74: =IF(MID($F74,11,1)="",0,(MID($F74,11,1))) -> 0 | O74: =IF(I74>J74,1,-1) -> -1 | P74: =IF(K74>L74,1,-1) -> -1 | Q74: =IF(M74>N74,1,IF(N74>M74,-1,0)) -> 0 | R74: =COUNTIF(O74:Q74,1) -> 0 | S74: =COUNTIF(O74:Q74,-1) -> 2 | T74: =I74+K74+M74 -> #VALUE! | U74: =J74+L74+N74 -> #VALUE!
I75: =LEFT(F75) | J75: =MID(F75,3,1) | K75: =MID($F75,5,1) | L75: =MID($F75,7,1) | M75: =IF(MID($F75,9,1)="",0,(MID($F75,9,1))) -> 0 | N75: =IF(MID($F75,11,1)="",0,(MID($F75,11,1))) -> 0 | O75: =IF(I75>J75,1,-1) -> -1 | P75: =IF(K75>L75,1,-1) -> -1 | Q75: =IF(M75>N75,1,IF(N75>M75,-1,0)) -> 0 | R75: =COUNTIF(O75:Q75,1) -> 0 | S75: =COUNTIF(O75:Q75,-1) -> 2 | T75: =I75+K75+M75 -> #VALUE! | U75: =J75+L75+N75 -> #VALUE!
I76: =LEFT(F76) | J76: =MID(F76,3,1) | K76: =MID($F76,5,1) | L76: =MID($F76,7,1) | M76: =IF(MID($F76,9,1)="",0,(MID($F76,9,1))) -> 0 | N76: =IF(MID($F76,11,1)="",0,(MID($F76,11,1))) -> 0 | O76: =IF(I76>J76,1,-1) -> -1 | P76: =IF(K76>L76,1,-1) -> -1 | Q76: =IF(M76>N76,1,IF(N76>M76,-1,0)) -> 0 | R76: =COUNTIF(O76:Q76,1) -> 0 | S76: =COUNTIF(O76:Q76,-1) -> 2 | T76: =I76+K76+M76 -> #VALUE! | U76: =J76+L76+N76 -> #VALUE!
I77: =LEFT(F77) | J77: =MID(F77,3,1) | K77: =MID($F77,5,1) | L77: =MID($F77,7,1) | M77: =IF(MID($F77,9,1)="",0,(MID($F77,9,1))) -> 0 | N77: =IF(MID($F77,11,1)="",0,(MID($F77,11,1))) -> 0 | O77: =IF(I77>J77,1,-1) -> -1 | P77: =IF(K77>L77,1,-1) -> -1 | Q77: =IF(M77>N77,1,IF(N77>M77,-1,0)) -> 0 | R77: =COUNTIF(O77:Q77,1) -> 0 | S77: =COUNTIF(O77:Q77,-1) -> 2 | T77: =I77+K77+M77 -> #VALUE! | U77: =J77+L77+N77 -> #VALUE!
I78: =LEFT(F78) | J78: =MID(F78,3,1) | K78: =MID($F78,5,1) | L78: =MID($F78,7,1) | M78: =IF(MID($F78,9,1)="",0,(MID($F78,9,1))) -> 0 | N78: =IF(MID($F78,11,1)="",0,(MID($F78,11,1))) -> 0 | O78: =IF(I78>J78,1,-1) -> -1 | P78: =IF(K78>L78,1,-1) -> -1 | Q78: =IF(M78>N78,1,IF(N78>M78,-1,0)) -> 0 | R78: =COUNTIF(O78:Q78,1) -> 0 | S78: =COUNTIF(O78:Q78,-1) -> 2 | T78: =I78+K78+M78 -> #VALUE! | U78: =J78+L78+N78 -> #VALUE!
I79: =LEFT(F79) | J79: =MID(F79,3,1) | K79: =MID($F79,5,1) | L79: =MID($F79,7,1) | M79: =IF(MID($F79,9,1)="",0,(MID($F79,9,1))) -> 0 | N79: =IF(MID($F79,11,1)="",0,(MID($F79,11,1))) -> 0 | O79: =IF(I79>J79,1,-1) -> -1 | P79: =IF(K79>L79,1,-1) -> -1 | Q79: =IF(M79>N79,1,IF(N79>M79,-1,0)) -> 0 | R79: =COUNTIF(O79:Q79,1) -> 0 | S79: =COUNTIF(O79:Q79,-1) -> 2 | T79: =I79+K79+M79 -> #VALUE! | U79: =J79+L79+N79 -> #VALUE!
I80: =LEFT(F80) | J80: =MID(F80,3,1) | K80: =MID($F80,5,1) | L80: =MID($F80,7,1) | M80: =IF(MID($F80,9,1)="",0,(MID($F80,9,1))) -> 0 | N80: =IF(MID($F80,11,1)="",0,(MID($F80,11,1))) -> 0 | O80: =IF(I80>J80,1,-1) -> -1 | P80: =IF(K80>L80,1,-1) -> -1 | Q80: =IF(M80>N80,1,IF(N80>M80,-1,0)) -> 0 | R80: =COUNTIF(O80:Q80,1) -> 0 | S80: =COUNTIF(O80:Q80,-1) -> 2 | T80: =I80+K80+M80 -> #VALUE! | U80: =J80+L80+N80 -> #VALUE!
I81: =LEFT(F81) | J81: =MID(F81,3,1) | K81: =MID($F81,5,1) | L81: =MID($F81,7,1) | M81: =IF(MID($F81,9,1)="",0,(MID($F81,9,1))) -> 0 | N81: =IF(MID($F81,11,1)="",0,(MID($F81,11,1))) -> 0 | O81: =IF(I81>J81,1,-1) -> -1 | P81: =IF(K81>L81,1,-1) -> -1 | Q81: =IF(M81>N81,1,IF(N81>M81,-1,0)) -> 0 | R81: =COUNTIF(O81:Q81,1) -> 0 | S81: =COUNTIF(O81:Q81,-1) -> 2 | T81: =I81+K81+M81 -> #VALUE! | U81: =J81+L81+N81 -> #VALUE!
I82: =LEFT(F82) | J82: =MID(F82,3,1) | K82: =MID($F82,5,1) | L82: =MID($F82,7,1) | M82: =IF(MID($F82,9,1)="",0,(MID($F82,9,1))) -> 0 | N82: =IF(MID($F82,11,1)="",0,(MID($F82,11,1))) -> 0 | O82: =IF(I82>J82,1,-1) -> -1 | P82: =IF(K82>L82,1,-1) -> -1 | Q82: =IF(M82>N82,1,IF(N82>M82,-1,0)) -> 0 | R82: =COUNTIF(O82:Q82,1) -> 0 | S82: =COUNTIF(O82:Q82,-1) -> 2 | T82: =I82+K82+M82 -> #VALUE! | U82: =J82+L82+N82 -> #VALUE!
I83: =LEFT(F83) | J83: =MID(F83,3,1) | K83: =MID($F83,5,1) | L83: =MID($F83,7,1) | M83: =IF(MID($F83,9,1)="",0,(MID($F83,9,1))) -> 0 | N83: =IF(MID($F83,11,1)="",0,(MID($F83,11,1))) -> 0 | O83: =IF(I83>J83,1,-1) -> -1 | P83: =IF(K83>L83,1,-1) -> -1 | Q83: =IF(M83>N83,1,IF(N83>M83,-1,0)) -> 0 | R83: =COUNTIF(O83:Q83,1) -> 0 | S83: =COUNTIF(O83:Q83,-1) -> 2 | T83: =I83+K83+M83 -> #VALUE! | U83: =J83+L83+N83 -> #VALUE!
I84: =LEFT(F84) | J84: =MID(F84,3,1) | K84: =MID($F84,5,1) | L84: =MID($F84,7,1) | M84: =IF(MID($F84,9,1)="",0,(MID($F84,9,1))) -> 0 | N84: =IF(MID($F84,11,1)="",0,(MID($F84,11,1))) -> 0 | O84: =IF(I84>J84,1,-1) -> -1 | P84: =IF(K84>L84,1,-1) -> -1 | Q84: =IF(M84>N84,1,IF(N84>M84,-1,0)) -> 0 | R84: =COUNTIF(O84:Q84,1) -> 0 | S84: =COUNTIF(O84:Q84,-1) -> 2 | T84: =I84+K84+M84 -> #VALUE! | U84: =J84+L84+N84 -> #VALUE!
... I99: =LEFT(F99) | J99: =MID(F99,3,1) | K99: =MID($F99,5,1) | L99: =MID($F99,7,1) | M99: =IF(MID($F99,9,1)="",0,(MID($F99,9,1))) -> 0 | N99: =IF(MID($F99,11,1)="",0,(MID($F99,11,1))) -> 0 | O99: =IF(I99>J99,1,-1) -> -1 | P99: =IF(K99>L99,1,-1) -> -1 | Q99: =IF(M99>N99,1,IF(N99>M99,-1,0)) -> 0 | R99: =COUNTIF(O99:Q99,1) -> 0 | S99: =COUNTIF(O99:Q99,-1) -> 2 | T99: =I99+K99+M99 -> #VALUE! | U99: =J99+L99+N99 -> #VALUE!

Sheet Global
A1: Global | B1: Nombre de matchs | C1: Matchs gagnés | D1: Matchs perdus | E1: % victoires | F1: % défaites | G1: Nombre de sets | H1: Sets gagnés | I1: Sets perdus | J1: % sets gagnés | K1: % sets perdus | L1: Nombre de jeux | M1: Jeux gagnés | N1: Jeux perdus | O1: % jeux gagnés | P1: % jeux perdus
A2: R9 | B2: =COUNTIFS(Résultats!E:E,Global!A2) -> 6 | C2: =COUNTIFS(Résultats!$G:$G,"S",Résultats!$E:$E,Global!$A2) -> 6 | D2: =COUNTIFS(Résultats!$G:$G,"N",Résultats!$E:$E,Global!$A2) -> 0 | E2: =IFERROR(C2/$B2,"") -> 1 | F2: =IFERROR(D2/$B2,"") -> 0 | G2: =H2+I2 -> 14 | H2: =SUMIFS(Résultats!R:R,Résultats!$E:$E,Global!$A2) -> 12 | I2: =SUMIFS(Résultats!S:S,Résultats!$E:$E,Global!$A2) -> 2 | J2: =IFERROR(H2/$G2,"") -> 0.85714286 | K2: =IFERROR(I2/$G2,"") -> 0.14285714 | L2: =M2+N2 -> 120 | M2: =SUMIFS(Résultats!T:T,Résultats!$E:$E,Global!$A2) -> 81 | N2: =SUMIFS(Résultats!U:U,Résultats!$E:$E,Global!$A2) -> 39 | O2: =IFERROR(M2/$L2,"") -> 0.675 | P2: =IFERROR(N2/$L2,"") -> 0.325
A3: R8 | B3: =COUNTIFS(Résultats!E:E,Global!A3) -> 7 | C3: =COUNTIFS(Résultats!$G:$G,"S",Résultats!$E:$E,Global!$A3) -> 7 | D3: =COUNTIFS(Résultats!$G:$G,"N",Résultats!$E:$E,Global!$A3) -> 0 | E3: =IFERROR(C3/$B3,"") -> 1 | F3: =IFERROR(D3/$B3,"") -> 0 | G3: =H3+I3 -> 16 | H3: =SUMIFS(Résultats!R:R,Résultats!$E:$E,Global!$A3) -> 14 | I3: =SUMIFS(Résultats!S:S,Résultats!$E:$E,Global!$A3) -> 2 | J3: =IFERROR(H3/$G3,"") -> 0.875 | K3: =IFERROR(I3/$G3,"") -> 0.125 | L3: =M3+N3 -> 137 | M3: =SUMIFS(Résultats!T:T,Résultats!$E:$E,Global!$A3) -> 89 | N3: =SUMIFS(Résultats!U:U,Résultats!$E:$E,Global!$A3) -> 48 | O3: =IFERROR(M3/$L3,"") -> 0.64963504 | P3: =IFERROR(N3/$L3,"") -> 0.35036496
A4: R7 | B4: =COUNTIFS(Résultats!E:E,Global!A4) -> 26 | C4: =COUNTIFS(Résultats!$G:$G,"S",Résultats!$E:$E,Global!$A4) -> 19 | D4: =COUNTIFS(Résultats!$G:$G,"N",Résultats!$E:$E,Global!$A4) -> 6 | E4: =IFERROR(C4/$B4,"") -> 0.73076923 | F4: =IFERROR(D4/$B4,"") -> 0.23076923 | G4: =H4+I4 -> 56 | H4: =SUMIFS(Résultats!R:R,Résultats!$E:$E,Global!$A4) -> 38 | I4: =SUMIFS(Résultats!S:S,Résultats!$E:$E,Global!$A4) -> 18 | J4: =IFERROR(H4/$G4,"") -> 0.67857143 | K4: =IFERROR(I4/$G4,"") -> 0.32142857 | L4: =M4+N4 -> 504 | M4: =SUMIFS(Résultats!T:T,Résultats!$E:$E,Global!$A4) -> 290 | N4: =SUMIFS(Résultats!U:U,Résultats!$E:$E,Global!$A4) -> 214 | O4: =IFERROR(M4/$L4,"") -> 0.57539683 | P4: =IFERROR(N4/$L4,"") -> 0.42460317
A5: R6 | B5: =COUNTIFS(Résultats!E:E,Global!A5) -> 21 | C5: =COUNTIFS(Résultats!$G:$G,"S",Résultats!$E:$E,Global!$A5) -> 7 | D5: =COUNTIFS(Résultats!$G:$G,"N",Résultats!$E:$E,Global!$A5) -> 14 | E5: =IFERROR(C5/$B5,"") -> 0.33333333 | F5: =IFERROR(D5/$B5,"") -> 0.66666667 | G5: =H5+I5 -> 48 | H5: =SUMIFS(Résultats!R:R,Résultats!$E:$E,Global!$A5) -> 18 | I5: =SUMIFS(Résultats!S:S,Résultats!$E:$E,Global!$A5) -> 30 | J5: =IFERROR(H5/$G5,"") -> 0.375 | K5: =IFERROR(I5/$G5,"") -> 0.625 | L5: =M5+N5 -> 415 | M5: =SUMIFS(Résultats!T:T,Résultats!$E:$E,Global!$A5) -> 181 | N5: =SUMIFS(Résultats!U:U,Résultats!$E:$E,Global!$A5) -> 234 | O5: =IFERROR(M5/$L5,"") -> 0.43614458 | P5: =IFERROR(N5/$L5,"") -> 0.56385542
A6: R5 | B6: =COUNTIFS(Résultats!E:E,Global!A6) -> 9 | C6: =COUNTIFS(Résultats!$G:$G,"S",Résultats!$E:$E,Global!$A6) -> 0 | D6: =COUNTIFS(Résultats!$G:$G,"N",Résultats!$E:$E,Global!$A6) -> 9 | E6: =IFERROR(C6/$B6,"") -> 0 | F6: =IFERROR(D6/$B6,"") -> 1 | G6: =H6+I6 -> 18 | H6: =SUMIFS(Résultats!R:R,Résultats!$E:$E,Global!$A6) -> 0 | I6: =SUMIFS(Résultats!S:S,Résultats!$E:$E,Global!$A6) -> 18 | J6: =IFERROR(H6/$G6,"") -> 0 | K6: =IFERROR(I6/$G6,"") -> 1 | L6: =M6+N6 -> 156 | M6: =SUMIFS(Résultats!T:T,Résultats!$E:$E,Global!$A6) -> 44 | N6: =SUMIFS(Résultats!U:U,Résultats!$E:$E,Global!$A6) -> 112 | O6: =IFERROR(M6/$L6,"") -> 0.28205128 | P6: =IFERROR(N6/$L6,"") -> 0.71794872
A7: R4 | B7: =COUNTIFS(Résultats!E:E,Global!A7) -> 2 | C7: =COUNTIFS(Résultats!$G:$G,"S",Résultats!$E:$E,Global!$A7) -> 0 | D7: =COUNTIFS(Résultats!$G:$G,"N",Résultats!$E:$E,Global!$A7) -> 2 | E7: =IFERROR(C7/$B7,"") -> 0 | F7: =IFERROR(D7/$B7,"") -> 1 | G7: =H7+I7 -> 5 | H7: =SUMIFS(Résultats!R:R,Résultats!$E:$E,Global!$A7) -> 1 | I7: =SUMIFS(Résultats!S:S,Résultats!$E:$E,Global!$A7) -> 4 | J7: =IFERROR(H7/$G7,"") -> 0.2 | K7: =IFERROR(I7/$G7,"") -> 0.8 | L7: =M7+N7 -> 36 | M7: =SUMIFS(Résultats!T:T,Résultats!$E:$E,Global!$A7) -> 11 | N7: =SUMIFS(Résultats!U:U,Résultats!$E:$E,Global!$A7) -> 25 | O7: =IFERROR(M7/$L7,"") -> 0.30555556 | P7: =IFERROR(N7/$L7,"") -> 0.69444444
A8: R3 | B8: =COUNTIFS(Résultats!E:E,Global!A8) -> 1 | C8: =COUNTIFS(Résultats!$G:$G,"S",Résultats!$E:$E,Global!$A8) -> 0 | D8: =COUNTIFS(Résultats!$G:$G,"N",Résultats!$E:$E,Global!$A8) -> 1 | E8: =IFERROR(C8/$B8,"") -> 0 | F8: =IFERROR(D8/$B8,"") -> 1 | G8: =H8+I8 -> 2 | H8: =SUMIFS(Résultats!R:R,Résultats!$E:$E,Global!$A8) -> 0 | I8: =SUMIFS(Résultats!S:S,Résultats!$E:$E,Global!$A8) -> 2 | J8: =IFERROR(H8/$G8,"") -> 0 | K8: =IFERROR(I8/$G8,"") -> 1 | L8: =M8+N8 -> 16 | M8: =SUMIFS(Résultats!T:T,Résultats!$E:$E,Global!$A8) -> 4 | N8: =SUMIFS(Résultats!U:U,Résultats!$E:$E,Global!$A8) -> 12 | O8: =IFERROR(M8/$L8,"") -> 0.25 | P8: =IFERROR(N8/$L8,"") -> 0.75
A9: R2 | B9: =COUNTIFS(Résultats!E:E,Global!A9) -> 0 | C9: =COUNTIFS(Résultats!$G:$G,"S",Résultats!$E:$E,Global!$A9) -> 0 | D9: =COUNTIFS(Résultats!$G:$G,"N",Résultats!$E:$E,Global!$A9) -> 0 | E9: =IFERROR(C9/$B9,"") | F9: =IFERROR(D9/$B9,"") | G9: =H9+I9 -> 0 | H9: =SUMIFS(Résultats!R:R,Résultats!$E:$E,Global!$A9) -> 0 | I9: =SUMIFS(Résultats!S:S,Résultats!$E:$E,Global!$A9) -> 0 | J9: =IFERROR(H9/$G9,"") | K9: =IFERROR(I9/$G9,"") | L9: =M9+N9 -> 0 | M9: =SUMIFS(Résultats!T:T,Résultats!$E:$E,Global!$A9) -> 0 | N9: =SUMIFS(Résultats!U:U,Résultats!$E:$E,Global!$A9) -> 0 | O9: =IFERROR(M9/$L9,"") | P9: =IFERROR(N9/$L9,"")
A10: R1 | B10: =COUNTIFS(Résultats!E:E,Global!A10) -> 0 | C10: =COUNTIFS(Résultats!$G:$G,"S",Résultats!$E:$E,Global!$A10) -> 0 | D10: =COUNTIFS(Résultats!$G:$G,"N",Résultats!$E:$E,Global!$A10) -> 0 | E10: =IFERROR(C10/$B10,"") | F10: =IFERROR(D10/$B10,"") | G10: =H10+I10 -> 0 | H10: =SUMIFS(Résultats!R:R,Résultats!$E:$E,Global!$A10) -> 0 | I10: =SUMIFS(Résultats!S:S,Résultats!$E:$E,Global!$A10) -> 0 | J10: =IFERROR(H10/$G10,"") | K10: =IFERROR(I10/$G10,"") | L10: =M10+N10 -> 0 | M10: =SUMIFS(Résultats!T:T,Résultats!$E:$E,Global!$A10) -> 0 | N10: =SUMIFS(Résultats!U:U,Résultats!$E:$E,Global!$A10) -> 0 | O10: =IFERROR(M10/$L10,"") | P10: =IFERROR(N10/$L10,"")
A11: Total | B11: =SUM(B2:B10) -> 72 | C11: =SUM(C2:C10) -> 39 | D11: =SUM(D2:D10) -> 32 | E11: =IFERROR(C11/$B11,"") -> 0.54166667 | F11: =IFERROR(D11/$B11,"") -> 0.44444444 | G11: =SUM(G2:G10) -> 159 | H11: =SUM(H2:H10) -> 83 | I11: =SUM(I2:I10) -> 76 | J11: =IFERROR(H11/$G11,"") -> 0.52201258 | K11: =IFERROR(I11/$G11,"") -> 0.47798742 | L11: =SUM(L2:L10) -> 1384 | M11: =SUM(M2:M10) -> 700 | N11: =SUM(N2:N10) -> 684 | O11: =IFERROR(M11/$L11,"") -> 0.50578035 | P11: =IFERROR(N11/$L11,"") -> 0.49421965

Sheet 2020
A1: 2020 | B1: Nombre de matchs | C1: Matchs gagnés | D1: Matchs perdus | E1: % victoires | F1: % défaites | G1: Nombre de sets | H1: Sets gagnés | I1: Sets perdus | J1: % sets gagnés | K1: % sets perdus | L1: Nombre de jeux | M1: Jeux gagnés | N1: Jeux perdus | O1: % jeux gagnés | P1: % jeux perdus
A2: R9 | B2: =COUNTIFS(Résultats!H:H,'2020'!$A$1,Résultats!E:E,'2020'!A2) -> 1 | C2: =COUNTIFS(Résultats!$H:$H,'2020'!$A$1,Résultats!$G:$G,"S",Résultats!$E:$E,'2020'!$A2) -> 1 | D2: =COUNTIFS(Résultats!$H:$H,'2020'!$A$1,Résultats!$G:$G,"N",Résultats!$E:$E,'2020'!$A2) -> 0 | E2: =IFERROR(C2/$B2,"") -> 1 | F2: =IFERROR(D2/$B2,"") -> 0 | G2: =H2+I2 -> 2 | H2: =SUMIFS(Résultats!R:R,Résultats!$E:$E,'2020'!$A2,Résultats!$H:$H,'2020'!$A$1) -> 2 | I2: =SUMIFS(Résultats!S:S,Résultats!$E:$E,'2020'!$A2,Résultats!$H:$H,'2020'!$A$1) -> 0 | J2: =IFERROR(H2/$G2,"") -> 1 | K2: =IFERROR(I2/$G2,"") -> 0 | L2: =M2+N2 -> 22 | M2: =SUMIFS(Résultats!T:T,Résultats!$E:$E,'2020'!$A2,Résultats!$H:$H,'2020'!$A$1) -> 13 | N2: =SUMIFS(Résultats!U:U,Résultats!$E:$E,'2020'!$A2,Résultats!$H:$H,'2020'!$A$1) -> 9 | O2: =IFERROR(M2/$L2,"") -> 0.59090909 | P2: =IFERROR(N2/$L2,"") -> 0.40909091
A3: R8 | B3: =COUNTIFS(Résultats!H:H,'2020'!$A$1,Résultats!E:E,'2020'!A3) -> 1 | C3: =COUNTIFS(Résultats!$H:$H,'2020'!$A$1,Résultats!$G:$G,"S",Résultats!E:E,'2020'!$A3) -> 1 | D3: =COUNTIFS(Résultats!$H:$H,'2020'!$A$1,Résultats!$G:$G,"N",Résultats!$E:$E,'2020'!$A3) -> 0 | E3: =IFERROR(C3/$B3,"") -> 1 | F3: =IFERROR(D3/$B3,"") -> 0 | G3: =H3+I3 -> 2 | H3: =SUMIFS(Résultats!R:R,Résultats!$E:$E,'2020'!$A3,Résultats!$H:$H,'2020'!$A$1) -> 2 | I3: =SUMIFS(Résultats!S:S,Résultats!$E:$E,'2020'!$A3,Résultats!$H:$H,'2020'!$A$1) -> 0 | J3: =IFERROR(H3/$G3,"") -> 1 | K3: =IFERROR(I3/$G3,"") -> 0 | L3: =M3+N3 -> 19 | M3: =SUMIFS(Résultats!T:T,Résultats!$E:$E,'2020'!$A3,Résultats!$H:$H,'2020'!$A$1) -> 13 | N3: =SUMIFS(Résultats!U:U,Résultats!$E:$E,'2020'!$A3,Résultats!$H:$H,'2020'!$A$1) -> 6 | O3: =IFERROR(M3/$L3,"") -> 0.68421053 | P3: =IFERROR(N3/$L3,"") -> 0.31578947
A4: R7 | B4: =COUNTIFS(Résultats!H:H,'2020'!$A$1,Résultats!E:E,'2020'!A4) -> 6 | C4: =COUNTIFS(Résultats!$H:$H,'2020'!$A$1,Résultats!$G:$G,"S",Résultats!E:E,'2020'!$A4) -> 6 | D4: =COUNTIFS(Résultats!$H:$H,'2020'!$A$1,Résultats!$G:$G,"N",Résultats!$E:$E,'2020'!$A4) -> 0 | E4: =IFERROR(C4/$B4,"") -> 1 | F4: =IFERROR(D4/$B4,"") -> 0 | G4: =H4+I4 -> 14 | H4: =SUMIFS(Résultats!R:R,Résultats!$E:$E,'2020'!$A4,Résultats!$H:$H,'2020'!$A$1) -> 11 | I4: =SUMIFS(Résultats!S:S,Résultats!$E:$E,'2020'!$A4,Résultats!$H:$H,'2020'!$A$1) -> 3 | J4: =IFERROR(H4/$G4,"") -> 0.78571429 | K4: =IFERROR(I4/$G4,"") -> 0.21428571 | L4: =M4+N4 -> 116 | M4: =SUMIFS(Résultats!T:T,Résultats!$E:$E,'2020'!$A4,Résultats!$H:$H,'2020'!$A$1) -> 70 | N4: =SUMIFS(Résultats!U:U,Résultats!$E:$E,'2020'!$A4,Résultats!$H:$H,'2020'!$A$1) -> 46 | O4: =IFERROR(M4/$L4,"") -> 0.60344828 | P4: =IFERROR(N4/$L4,"") -> 0.39655172
A5: R6 | B5: =COUNTIFS(Résultats!H:H,'2020'!$A$1,Résultats!E:E,'2020'!A5) -> 5 | C5: =COUNTIFS(Résultats!$H:$H,'2020'!$A$1,Résultats!$G:$G,"S",Résultats!E:E,'2020'!$A5) -> 1 | D5: =COUNTIFS(Résultats!$H:$H,'2020'!$A$1,Résultats!$G:$G,"N",Résultats!$E:$E,'2020'!$A5) -> 4 | E5: =IFERROR(C5/$B5,"") -> 0.2 | F5: =IFERROR(D5/$B5,"") -> 0.8 | G5: =H5+I5 -> 11 | H5: =SUMIFS(Résultats!R:R,Résultats!$E:$E,'2020'!$A5,Résultats!$H:$H,'2020'!$A$1) -> 3 | I5: =SUMIFS(Résultats!S:S,Résultats!$E:$E,'2020'!$A5,Résultats!$H:$H,'2020'!$A$1) -> 8 | J5: =IFERROR(H5/$G5,"") -> 0.27272727 | K5: =IFERROR(I5/$G5,"") -> 0.72727273 | L5: =M5+N5 -> 94 | M5: =SUMIFS(Résultats!T:T,Résultats!$E:$E,'2020'!$A5,Résultats!$H:$H,'2020'!$A$1) -> 40 | N5: =SUMIFS(Résultats!U:U,Résultats!$E:$E,'2020'!$A5,Résultats!$H:$H,'2020'!$A$1) -> 54 | O5: =IFERROR(M5/$L5,"") -> 0.42553191 | P5: =IFERROR(N5/$L5,"") -> 0.57446809
A6: R5 | B6: =COUNTIFS(Résultats!H:H,'2020'!$A$1,Résultats!E:E,'2020'!A6) -> 0 | C6: =COUNTIFS(Résultats!$H:$H,'2020'!$A$1,Résultats!$G:$G,"S",Résultats!E:E,'2020'!$A6) -> 0 | D6: =COUNTIFS(Résultats!$H:$H,'2020'!$A$1,Résultats!$G:$G,"N",Résultats!$E:$E,'2020'!$A6) -> 0 | E6: =IFERROR(C6/$B6,"") | F6: =IFERROR(D6/$B6,"") | G6: =H6+I6 -> 0 | H6: =SUMIFS(Résultats!R:R,Résultats!$E:$E,'2020'!$A6,Résultats!$H:$H,'2020'!$A$1) -> 0 | I6: =SUMIFS(Résultats!S:S,Résultats!$E:$E,'2020'!$A6,Résultats!$H:$H,'2020'!$A$1) -> 0 | J6: =IFERROR(H6/$G6,"") | K6: =IFERROR(I6/$G6,"") | L6: =M6+N6 -> 0 | M6: =SUMIFS(Résultats!T:T,Résultats!$E:$E,'2020'!$A6,Résultats!$H:$H,'2020'!$A$1) -> 0 | N6: =SUMIFS(Résultats!U:U,Résultats!$E:$E,'2020'!$A6,Résultats!$H:$H,'2020'!$A$1) -> 0 | O6: =IFERROR(M6/$L6,"") | P6: =IFERROR(N6/$L6,"")
A7: R4 | B7: =COUNTIFS(Résultats!H:H,'2020'!$A$1,Résultats!E:E,'2020'!A7) -> 1 | C7: =COUNTIFS(Résultats!$H:$H,'2020'!$A$1,Résultats!$G:$G,"S",Résultats!E:E,'2020'!$A7) -> 0 | D7: =COUNTIFS(Résultats!$H:$H,'2020'!$A$1,Résultats!$G:$G,"N",Résultats!$E:$E,'2020'!$A7) -> 1 | E7: =IFERROR(C7/$B7,"") -> 0 | F7: =IFERROR(D7/$B7,"") -> 1 | G7: =H7+I7 -> 2 | H7: =SUMIFS(Résultats!R:R,Résultats!$E:$E,'2020'!$A7,Résultats!$H:$H,'2020'!$A$1) -> 0 | I7: =SUMIFS(Résultats!S:S,Résultats!$E:$E,'2020'!$A7,Résultats!$H:$H,'2020'!$A$1) -> 2 | J7: =IFERROR(H7/$G7,"") -> 0 | K7: =IFERROR(I7/$G7,"") -> 1 | L7: =M7+N7 -> 14 | M7: =SUMIFS(Résultats!T:T,Résultats!$E:$E,'2020'!$A7,Résultats!$H:$H,'2020'!$A$1) -> 2 | N7: =SUMIFS(Résultats!U:U,Résultats!$E:$E,'2020'!$A7,Résultats!$H:$H,'2020'!$A$1) -> 12 | O7: =IFERROR(M7/$L7,"") -> 0.14285714 | P7: =IFERROR(N7/$L7,"") -> 0.85714286
A8: R3 | B8: =COUNTIFS(Résultats!H:H,'2020'!$A$1,Résultats!E:E,'2020'!A8) -> 1 | C8: =COUNTIFS(Résultats!$H:$H,'2020'!$A$1,Résultats!$G:$G,"S",Résultats!E:E,'2020'!$A8) -> 0 | D8: =COUNTIFS(Résultats!$H:$H,'2020'!$A$1,Résultats!$G:$G,"N",Résultats!$E:$E,'2020'!$A8) -> 1 | E8: =IFERROR(C8/$B8,"") -> 0 | F8: =IFERROR(D8/$B8,"") -> 1 | G8: =H8+I8 -> 2 | H8: =SUMIFS(Résultats!R:R,Résultats!$E:$E,'2020'!$A8,Résultats!$H:$H,'2020'!$A$1) -> 0 | I8: =SUMIFS(Résultats!S:S,Résultats!$E:$E,'2020'!$A8,Résultats!$H:$H,'2020'!$A$1) -> 2 | J8: =IFERROR(H8/$G8,"") -> 0 | K8: =IFERROR(I8/$G8,"") -> 1 | L8: =M8+N8 -> 16 | M8: =SUMIFS(Résultats!T:T,Résultats!$E:$E,'2020'!$A8,Résultats!$H:$H,'2020'!$A$1) -> 4 | N8: =SUMIFS(Résultats!U:U,Résultats!$E:$E,'2020'!$A8,Résultats!$H:$H,'2020'!$A$1) -> 12 | O8: =IFERROR(M8/$L8,"") -> 0.25 | P8: =IFERROR(N8/$L8,"") -> 0.75
A9: R2 | B9: =COUNTIFS(Résultats!H:H,'2020'!$A$1,Résultats!E:E,'2020'!A9) -> 0 | C9: =COUNTIFS(Résultats!$H:$H,'2020'!$A$1,Résultats!$G:$G,"S",Résultats!E:E,'2020'!$A9) -> 0 | D9: =COUNTIFS(Résultats!$H:$H,'2020'!$A$1,Résultats!$G:$G,"N",Résultats!$E:$E,'2020'!$A9) -> 0 | E9: =IFERROR(C9/$B9,"") | F9: =IFERROR(D9/$B9,"") | G9: =H9+I9 -> 0 | H9: =SUMIFS(Résultats!R:R,Résultats!$E:$E,'2020'!$A9,Résultats!$H:$H,'2020'!$A$1) -> 0 | I9: =SUMIFS(Résultats!S:S,Résultats!$E:$E,'2020'!$A9,Résultats!$H:$H,'2020'!$A$1) -> 0 | J9: =IFERROR(H9/$G9,"") | K9: =IFERROR(I9/$G9,"") | L9: =M9+N9 -> 0 | M9: =SUMIFS(Résultats!T:T,Résultats!$E:$E,'2020'!$A9,Résultats!$H:$H,'2020'!$A$1) -> 0 | N9: =SUMIFS(Résultats!U:U,Résultats!$E:$E,'2020'!$A9,Résultats!$H:$H,'2020'!$A$1) -> 0 | O9: =IFERROR(M9/$L9,"") | P9: =IFERROR(N9/$L9,"")
A10: R1 | B10: =COUNTIFS(Résultats!H:H,'2020'!$A$1,Résultats!E:E,'2020'!A10) -> 0 | C10: =COUNTIFS(Résultats!$H:$H,'2020'!$A$1,Résultats!$G:$G,"S",Résultats!E:E,'2020'!$A10) -> 0 | D10: =COUNTIFS(Résultats!$H:$H,'2020'!$A$1,Résultats!$G:$G,"N",Résultats!$E:$E,'2020'!$A10) -> 0 | E10: =IFERROR(C10/$B10,"") | F10: =IFERROR(D10/$B10,"") | G10: =H10+I10 -> 0 | H10: =SUMIFS(Résultats!R:R,Résultats!$E:$E,'2020'!$A10,Résultats!$H:$H,'2020'!$A$1) -> 0 | I10: =SUMIFS(Résultats!S:S,Résultats!$E:$E,'2020'!$A10,Résultats!$H:$H,'2020'!$A$1) -> 0 | J10: =IFERROR(H10/$G10,"") | K10: =IFERROR(I10/$G10,"") | L10: =M10+N10 -> 0 | M10: =SUMIFS(Résultats!T:T,Résultats!$E:$E,'2020'!$A10,Résultats!$H:$H,'2020'!$A$1) -> 0 | N10: =SUMIFS(Résultats!U:U,Résultats!$E:$E,'2020'!$A10,Résultats!$H:$H,'2020'!$A$1) -> 0 | O10: =IFERROR(M10/$L10,"") | P10: =IFERROR(N10/$L10,"")
A11: Total | B11: =SUM(B2:B10) -> 15 | C11: =SUM(C2:C10) -> 9 | D11: =SUM(D2:D10) -> 6 | E11: =IFERROR(C11/$B11,"") -> 0.6 | F11: =IFERROR(D11/$B11,"") -> 0.4 | G11: =SUM(G2:G10) -> 33 | H11: =SUM(H2:H10) -> 18 | I11: =SUM(I2:I10) -> 15 | J11: =IFERROR(H11/$G11,"") -> 0.54545455 | K11: =IFERROR(I11/$G11,"") -> 0.45454545 | L11: =SUM(L2:L10) -> 281 | M11: =SUM(M2:M10) -> 142 | N11: =SUM(N2:N10) -> 139 | O11: =IFERROR(M11/$L11,"") -> 0.50533808 | P11: =IFERROR(N11/$L11,"") -> 0.49466192

Sheet 2019
A1: 2019 | B1: Nombre de matchs | C1: Matchs gagnés | D1: Matchs perdus | E1: % victoires | F1: % défaites | G1: Nombre de sets | H1: Sets gagnés | I1: Sets perdus | J1: % sets gagnés | K1: % sets perdus | L1: Nombre de jeux | M1: Jeux gagnés | N1: Jeux perdus | O1: % jeux gagnés | P1: % jeux perdus
A2: R9 | B2: =COUNTIFS(Résultats!H:H,'2019'!$A$1,Résultats!E:E,'2019'!A2) -> 0 | C2: =COUNTIFS(Résultats!$H:$H,'2019'!$A$1,Résultats!$G:$G,"S",Résultats!$E:$E,'2019'!$A2) -> 0 | D2: =COUNTIFS(Résultats!$H:$H,'2019'!$A$1,Résultats!$G:$G,"N",Résultats!$E:$E,'2019'!$A2) -> 0 | E2: =IFERROR(C2/$B2,"") | F2: =IFERROR(D2/$B2,"") | G2: =H2+I2 -> 0 | H2: =SUMIFS(Résultats!R:R,Résultats!$E:$E,'2019'!$A2,Résultats!$H:$H,'2019'!$A$1) -> 0 | I2: =SUMIFS(Résultats!S:S,Résultats!$E:$E,'2019'!$A2,Résultats!$H:$H,'2019'!$A$1) -> 0 | J2: =IFERROR(H2/$G2,"") | K2: =IFERROR(I2/$G2,"") | L2: =M2+N2 -> 0 | M2: =SUMIFS(Résultats!T:T,Résultats!$E:$E,'2019'!$A2,Résultats!$H:$H,'2019'!$A$1) -> 0 | N2: =SUMIFS(Résultats!U:U,Résultats!$E:$E,'2019'!$A2,Résultats!$H:$H,'2019'!$A$1) -> 0 | O2: =IFERROR(M2/$L2,"") | P2: =IFERROR(N2/$L2,"")
A3: R8 | B3: =COUNTIFS(Résultats!H:H,'2019'!$A$1,Résultats!E:E,'2019'!A3) -> 3 | C3: =COUNTIFS(Résultats!$H:$H,'2019'!$A$1,Résultats!$G:$G,"S",Résultats!E:E,'2019'!$A3) -> 3 | D3: =COUNTIFS(Résultats!$H:$H,'2019'!$A$1,Résultats!$G:$G,"N",Résultats!$E:$E,'2019'!$A3) -> 0 | E3: =IFERROR(C3/$B3,"") -> 1 | F3: =IFERROR(D3/$B3,"") -> 0 | G3: =H3+I3 -> 7 | H3: =SUMIFS(Résultats!R:R,Résultats!$E:$E,'2019'!$A3,Résultats!$H:$H,'2019'!$A$1) -> 6 | I3: =SUMIFS(Résultats!S:S,Résultats!$E:$E,'2019'!$A3,Résultats!$H:$H,'2019'!$A$1) -> 1 | J3: =IFERROR(H3/$G3,"") -> 0.85714286 | K3: =IFERROR(I3/$G3,"") -> 0.14285714 | L3: =M3+N3 -> 59 | M3: =SUMIFS(Résultats!T:T,Résultats!$E:$E,'2019'!$A3,Résultats!$H:$H,'2019'!$A$1) -> 37 | N3: =SUMIFS(Résultats!U:U,Résultats!$E:$E,'2019'!$A3,Résultats!$H:$H,'2019'!$A$1) -> 22 | O3: =IFERROR(M3/$L3,"") -> 0.62711864 | P3: =IFERROR(N3/$L3,"") -> 0.37288136
A4: R7 | B4: =COUNTIFS(Résultats!H:H,'2019'!$A$1,Résultats!E:E,'2019'!A4) -> 8 | C4: =COUNTIFS(Résultats!$H:$H,'2019'!$A$1,Résultats!$G:$G,"S",Résultats!E:E,'2019'!$A4) -> 6 | D4: =COUNTIFS(Résultats!$H:$H,'2019'!$A$1,Résultats!$G:$G,"N",Résultats!$E:$E,'2019'!$A4) -> 1 | E4: =IFERROR(C4/$B4,"") -> 0.75 | F4: =IFERROR(D4/$B4,"") -> 0.125 | G4: =H4+I4 -> 17 | H4: =SUMIFS(Résultats!R:R,Résultats!$E:$E,'2019'!$A4,Résultats!$H:$H,'2019'!$A$1) -> 13 | I4: =SUMIFS(Résultats!S:S,Résultats!$E:$E,'2019'!$A4,Résultats!$H:$H,'2019'!$A$1) -> 4 | J4: =IFERROR(H4/$G4,"") -> 0.76470588 | K4: =IFERROR(I4/$G4,"") -> 0.23529412 | L4: =M4+N4 -> 155 | M4: =SUMIFS(Résultats!T:T,Résultats!$E:$E,'2019'!$A4,Résultats!$H:$H,'2019'!$A$1) -> 96 | N4: =SUMIFS(Résultats!U:U,Résultats!$E:$E,'2019'!$A4,Résultats!$H:$H,'2019'!$A$1) -> 59 | O4: =IFERROR(M4/$L4,"") -> 0.61935484 | P4: =IFERROR(N4/$L4,"") -> 0.38064516
A5: R6 | B5: =COUNTIFS(Résultats!H:H,'2019'!$A$1,Résultats!E:E,'2019'!A5) -> 5 | C5: =COUNTIFS(Résultats!$H:$H,'2019'!$A$1,Résultats!$G:$G,"S",Résultats!E:E,'2019'!$A5) -> 4 | D5: =COUNTIFS(Résultats!$H:$H,'2019'!$A$1,Résultats!$G:$G,"N",Résultats!$E:$E,'2019'!$A5) -> 1 | E5: =IFERROR(C5/$B5,"") -> 0.8 | F5: =IFERROR(D5/$B5,"") -> 0.2 | G5: =H5+I5 -> 12 | H5: =SUMIFS(Résultats!R:R,Résultats!$E:$E,'2019'!$A5,Résultats!$H:$H,'2019'!$A$1) -> 9 | I5: =SUMIFS(Résultats!S:S,Résultats!$E:$E,'2019'!$A5,Résultats!$H:$H,'2019'!$A$1) -> 3 | J5: =IFERROR(H5/$G5,"") -> 0.75 | K5: =IFERROR(I5/$G5,"") -> 0.25 | L5: =M5+N5 -> 115 | M5: =SUMIFS(Résultats!T:T,Résultats!$E:$E,'2019'!$A5,Résultats!$H:$H,'2019'!$A$1) -> 70 | N5: =SUMIFS(Résultats!U:U,Résultats!$E:$E,'2019'!$A5,Résultats!$H:$H,'2019'!$A$1) -> 45 | O5: =IFERROR(M5/$L5,"") -> 0.60869565 | P5: =IFERROR(N5/$L5,"") -> 0.39130435
A6: R5 | B6: =COUNTIFS(Résultats!H:H,'2019'!$A$1,Résultats!E:E,'2019'!A6) -> 8 | C6: =COUNTIFS(Résultats!$H:$H,'2019'!$A$1,Résultats!$G:$G,"S",Résultats!E:E,'2019'!$A6) -> 0 | D6: =COUNTIFS(Résultats!$H:$H,'2019'!$A$1,Résultats!$G:$G,"N",Résultats!$E:$E,'2019'!$A6) -> 8 | E6: =IFERROR(C6/$B6,"") -> 0 | F6: =IFERROR(D6/$B6,"") -> 1 | G6: =H6+I6 -> 16 | H6: =SUMIFS(Résultats!R:R,Résultats!$E:$E,'2019'!$A6,Résultats!$H:$H,'2019'!$A$1) -> 0 | I6: =SUMIFS(Résultats!S:S,Résultats!$E:$E,'2019'!$A6,Résultats!$H:$H,'2019'!$A$1) -> 16 | J6: =IFERROR(H6/$G6,"") -> 0 | K6: =IFERROR(I6/$G6,"") -> 1 | L6: =M6+N6 -> 139 | M6: =SUMIFS(Résultats!T:T,Résultats!$E:$E,'2019'!$A6,Résultats!$H:$H,'2019'!$A$1) -> 39 | N6: =SUMIFS(Résultats!U:U,Résultats!$E:$E,'2019'!$A6,Résultats!$H:$H,'2019'!$A$1) -> 100 | O6: =IFERROR(M6/$L6,"") -> 0.28057554 | P6: =IFERROR(N6/$L6,"") -> 0.71942446
A7: R4 | B7: =COUNTIFS(Résultats!H:H,'2019'!$A$1,Résultats!E:E,'2019'!A7) -> 1 | C7: =COUNTIFS(Résultats!$H:$H,'2019'!$A$1,Résultats!$G:$G,"S",Résultats!E:E,'2019'!$A7) -> 0 | D7: =COUNTIFS(Résultats!$H:$H,'2019'!$A$1,Résultats!$G:$G,"N",Résultats!$E:$E,'2019'!$A7) -> 1 | E7: =IFERROR(C7/$B7,"") -> 0 | F7: =IFERROR(D7/$B7,"") -> 1 | G7: =H7+I7 -> 3 | H7: =SUMIFS(Résultats!R:R,Résultats!$E:$E,'2019'!$A7,Résultats!$H:$H,'2019'!$A$1) -> 1 | I7: =SUMIFS(Résultats!S:S,Résultats!$E:$E,'2019'!$A7,Résultats!$H:$H,'2019'!$A$1) -> 2 | J7: =IFERROR(H7/$G7,"") -> 0.33333333 | K7: =IFERROR(I7/$G7,"") -> 0.66666667 | L7: =M7+N7 -> 22 | M7: =SUMIFS(Résultats!T:T,Résultats!$E:$E,'2019'!$A7,Résultats!$H:$H,'2019'!$A$1) -> 9 | N7: =SUMIFS(Résultats!U:U,Résultats!$E:$E,'2019'!$A7,Résultats!$H:$H,'2019'!$A$1) -> 13 | O7: =IFERROR(M7/$L7,"") -> 0.40909091 | P7: =IFERROR(N7/$L7,"") -> 0.59090909
A8: R3 | B8: =COUNTIFS(Résultats!H:H,'2019'!$A$1,Résultats!E:E,'2019'!A8) -> 0 | C8: =COUNTIFS(Résultats!$H:$H,'2019'!$A$1,Résultats!$G:$G,"S",Résultats!E:E,'2019'!$A8) -> 0 | D8: =COUNTIFS(Résultats!$H:$H,'2019'!$A$1,Résultats!$G:$G,"N",Résultats!$E:$E,'2019'!$A8) -> 0 | E8: =IFERROR(C8/$B8,"") | F8: =IFERROR(D8/$B8,"") | G8: =H8+I8 -> 0 | H8: =SUMIFS(Résultats!R:R,Résultats!$E:$E,'2019'!$A8,Résultats!$H:$H,'2019'!$A$1) -> 0 | I8: =SUMIFS(Résultats!S:S,Résultats!$E:$E,'2019'!$A8,Résultats!$H:$H,'2019'!$A$1) -> 0 | J8: =IFERROR(H8/$G8,"") | K8: =IFERROR(I8/$G8,"") | L8: =M8+N8 -> 0 | M8: =SUMIFS(Résultats!T:T,Résultats!$E:$E,'2019'!$A8,Résultats!$H:$H,'2019'!$A$1) -> 0 | N8: =SUMIFS(Résultats!U:U,Résultats!$E:$E,'2019'!$A8,Résultats!$H:$H,'2019'!$A$1) -> 0 | O8: =IFERROR(M8/$L8,"") | P8: =IFERROR(N8/$L8,"")
A9: R2 | B9: =COUNTIFS(Résultats!H:H,'2019'!$A$1,Résultats!E:E,'2019'!A9) -> 0 | C9: =COUNTIFS(Résultats!$H:$H,'2019'!$A$1,Résultats!$G:$G,"S",Résultats!E:E,'2019'!$A9) -> 0 | D9: =COUNTIFS(Résultats!$H:$H,'2019'!$A$1,Résultats!$G:$G,"N",Résultats!$E:$E,'2019'!$A9) -> 0 | E9: =IFERROR(C9/$B9,"") | F9: =IFERROR(D9/$B9,"") | G9: =H9+I9 -> 0 | H9: =SUMIFS(Résultats!R:R,Résultats!$E:$E,'2019'!$A9,Résultats!$H:$H,'2019'!$A$1) -> 0 | I9: =SUMIFS(Résultats!S:S,Résultats!$E:$E,'2019'!$A9,Résultats!$H:$H,'2019'!$A$1) -> 0 | J9: =IFERROR(H9/$G9,"") | K9: =IFERROR(I9/$G9,"") | L9: =M9+N9 -> 0 | M9: =SUMIFS(Résultats!T:T,Résultats!$E:$E,'2019'!$A9,Résultats!$H:$H,'2019'!$A$1) -> 0 | N9: =SUMIFS(Résultats!U:U,Résultats!$E:$E,'2019'!$A9,Résultats!$H:$H,'2019'!$A$1) -> 0 | O9: =IFERROR(M9/$L9,"") | P9: =IFERROR(N9/$L9,"")
A10: R1 | B10: =COUNTIFS(Résultats!H:H,'2019'!$A$1,Résultats!E:E,'2019'!A10) -> 0 | C10: =COUNTIFS(Résultats!$H:$H,'2019'!$A$1,Résultats!$G:$G,"S",Résultats!E:E,'2019'!$A10) -> 0 | D10: =COUNTIFS(Résultats!$H:$H,'2019'!$A$1,Résultats!$G:$G,"N",Résultats!$E:$E,'2019'!$A10) -> 0 | E10: =IFERROR(C10/$B10,"") | F10: =IFERROR(D10/$B10,"") | G10: =H10+I10 -> 0 | H10: =SUMIFS(Résultats!R:R,Résultats!$E:$E,'2019'!$A10,Résultats!$H:$H,'2019'!$A$1) -> 0 | I10: =SUMIFS(Résultats!S:S,Résultats!$E:$E,'2019'!$A10,Résultats!$H:$H,'2019'!$A$1) -> 0 | J10: =IFERROR(H10/$G10,"") | K10: =IFERROR(I10/$G10,"") | L10: =M10+N10 -> 0 | M10: =SUMIFS(Résultats!T:T,Résultats!$E:$E,'2019'!$A10,Résultats!$H:$H,'2019'!$A$1) -> 0 | N10: =SUMIFS(Résultats!U:U,Résultats!$E:$E,'2019'!$A10,Résultats!$H:$H,'2019'!$A$1) -> 0 | O10: =IFERROR(M10/$L10,"") | P10: =IFERROR(N10/$L10,"")
A11: Total | B11: =SUM(B2:B10) -> 25 | C11: =SUM(C2:C10) -> 13 | D11: =SUM(D2:D10) -> 11 | E11: =IFERROR(C11/$B11,"") -> 0.52 | F11: =IFERROR(D11/$B11,"") -> 0.44 | G11: =SUM(G2:G10) -> 55 | H11: =SUM(H2:H10) -> 29 | I11: =SUM(I2:I10) -> 26 | J11: =IFERROR(H11/$G11,"") -> 0.52727273 | K11: =IFERROR(I11/$G11,"") -> 0.47272727 | L11: =SUM(L2:L10) -> 490 | M11: =SUM(M2:M10) -> 251 | N11: =SUM(N2:N10) -> 239 | O11: =IFERROR(M11/$L11,"") -> 0.5122449 | P11: =IFERROR(N11/$L11,"") -> 0.4877551

Sheet 2018
A1: 2018 | B1: Nombre de matchs | C1: Matchs gagnés | D1: Matchs perdus | E1: % victoires | F1: % défaites | G1: Nombre de sets | H1: Sets gagnés | I1: Sets perdus | J1: % sets gagnés | K1: % sets perdus | L1: Nombre de jeux | M1: Jeux gagnés | N1: Jeux perdus | O1: % jeux gagnés | P1: % jeux perdus
A2: R9 | B2: =COUNTIFS(Résultats!H:H,'2018'!$A$1,Résultats!E:E,'2018'!A2) -> 5 | C2: =COUNTIFS(Résultats!$H:$H,'2018'!$A$1,Résultats!$G:$G,"S",Résultats!$E:$E,'2018'!$A2) -> 5 | D2: =COUNTIFS(Résultats!$H:$H,'2018'!$A$1,Résultats!$G:$G,"N",Résultats!$E:$E,'2018'!$A2) -> 0 | E2: =IFERROR(C2/$B2,"") -> 1 | F2: =IFERROR(D2/$B2,"") -> 0 | G2: =H2+I2 -> 12 | H2: =SUMIFS(Résultats!R:R,Résultats!$E:$E,'2018'!$A2,Résultats!$H:$H,'2018'!$A$1) -> 10 | I2: =SUMIFS(Résultats!S:S,Résultats!$E:$E,'2018'!$A2,Résultats!$H:$H,'2018'!$A$1) -> 2 | J2: =IFERROR(H2/$G2,"") -> 0.83333333 | K2: =IFERROR(I2/$G2,"") -> 0.16666667 | L2: =M2+N2 -> 98 | M2: =SUMIFS(Résultats!T:T,Résultats!$E:$E,'2018'!$A2,Résultats!$H:$H,'2018'!$A$1) -> 68 | N2: =SUMIFS(Résultats!U:U,Résultats!$E:$E,'2018'!$A2,Résultats!$H:$H,'2018'!$A$1) -> 30 | O2: =IFERROR(M2/$L2,"") -> 0.69387755 | P2: =IFERROR(N2/$L2,"") -> 0.30612245
A3: R8 | B3: =COUNTIFS(Résultats!H:H,'2018'!$A$1,Résultats!E:E,'2018'!A3) -> 3 | C3: =COUNTIFS(Résultats!$H:$H,'2018'!$A$1,Résultats!$G:$G,"S",Résultats!E:E,'2018'!$A3) -> 3 | D3: =COUNTIFS(Résultats!$H:$H,'2018'!$A$1,Résultats!$G:$G,"N",Résultats!$E:$E,'2018'!$A3) -> 0 | E3: =IFERROR(C3/$B3,"") -> 1 | F3: =IFERROR(D3/$B3,"") -> 0 | G3: =H3+I3 -> 7 | H3: =SUMIFS(Résultats!R:R,Résultats!$E:$E,'2018'!$A3,Résultats!$H:$H,'2018'!$A$1) -> 6 | I3: =SUMIFS(Résultats!S:S,Résultats!$E:$E,'2018'!$A3,Résultats!$H:$H,'2018'!$A$1) -> 1 | J3: =IFERROR(H3/$G3,"") -> 0.85714286 | K3: =IFERROR(I3/$G3,"") -> 0.14285714 | L3: =M3+N3 -> 59 | M3: =SUMIFS(Résultats!T:T,Résultats!$E:$E,'2018'!$A3,Résultats!$H:$H,'2018'!$A$1) -> 39 | N3: =SUMIFS(Résultats!U:U,Résultats!$E:$E,'2018'!$A3,Résultats!$H:$H,'2018'!$A$1) -> 20 | O3: =IFERROR(M3/$L3,"") -> 0.66101695 | P3: =IFERROR(N3/$L3,"") -> 0.33898305
A4: R7 | B4: =COUNTIFS(Résultats!H:H,'2018'!$A$1,Résultats!E:E,'2018'!A4) -> 12 | C4: =COUNTIFS(Résultats!$H:$H,'2018'!$A$1,Résultats!$G:$G,"S",Résultats!E:E,'2018'!$A4) -> 7 | D4: =COUNTIFS(Résultats!$H:$H,'2018'!$A$1,Résultats!$G:$G,"N",Résultats!$E:$E,'2018'!$A4) -> 5 | E4: =IFERROR(C4/$B4,"") -> 0.58333333 | F4: =IFERROR(D4/$B4,"") -> 0.41666667 | G4: =H4+I4 -> 25 | H4: =SUMIFS(Résultats!R:R,Résultats!$E:$E,'2018'!$A4,Résultats!$H:$H,'2018'!$A$1) -> 14 | I4: =SUMIFS(Résultats!S:S,Résultats!$E:$E,'2018'!$A4,Résultats!$H:$H,'2018'!$A$1) -> 11 | J4: =IFERROR(H4/$G4,"") -> 0.56 | K4: =IFERROR(I4/$G4,"") -> 0.44 | L4: =M4+N4 -> 233 | M4: =SUMIFS(Résultats!T:T,Résultats!$E:$E,'2018'!$A4,Résultats!$H:$H,'2018'!$A$1) -> 124 | N4: =SUMIFS(Résultats!U:U,Résultats!$E:$E,'2018'!$A4,Résultats!$H:$H,'2018'!$A$1) -> 109 | O4: =IFERROR(M4/$L4,"") -> 0.53218884 | P4: =IFERROR(N4/$L4,"") -> 0.46781116
A5: R6 | B5: =COUNTIFS(Résultats!H:H,'2018'!$A$1,Résultats!E:E,'2018'!A5) -> 11 | C5: =COUNTIFS(Résultats!$H:$H,'2018'!$A$1,Résultats!$G:$G,"S",Résultats!E:E,'2018'!$A5) -> 2 | D5: =COUNTIFS(Résultats!$H:$H,'2018'!$A$1,Résultats!$G:$G,"N",Résultats!$E:$E,'2018'!$A5) -> 9 | E5: =IFERROR(C5/$B5,"") -> 0.18181818 | F5: =IFERROR(D5/$B5,"") -> 0.81818182 | G5: =H5+I5 -> 25 | H5: =SUMIFS(Résultats!R:R,Résultats!$E:$E,'2018'!$A5,Résultats!$H:$H,'2018'!$A$1) -> 6 | I5: =SUMIFS(Résultats!S:S,Résultats!$E:$E,'2018'!$A5,Résultats!$H:$H,'2018'!$A$1) -> 19 | J5: =IFERROR(H5/$G5,"") -> 0.24 | K5: =IFERROR(I5/$G5,"") -> 0.76 | L5: =M5+N5 -> 206 | M5: =SUMIFS(Résultats!T:T,Résultats!$E:$E,'2018'!$A5,Résultats!$H:$H,'2018'!$A$1) -> 71 | N5: =SUMIFS(Résultats!U:U,Résultats!$E:$E,'2018'!$A5,Résultats!$H:$H,'2018'!$A$1) -> 135 | O5: =IFERROR(M5/$L5,"") -> 0.34466019 | P5: =IFERROR(N5/$L5,"") -> 0.65533981
A6: R5 | B6: =COUNTIFS(Résultats!H:H,'2018'!$A$1,Résultats!E:E,'2018'!A6) -> 1 | C6: =COUNTIFS(Résultats!$H:$H,'2018'!$A$1,Résultats!$G:$G,"S",Résultats!E:E,'2018'!$A6) -> 0 | D6: =COUNTIFS(Résultats!$H:$H,'2018'!$A$1,Résultats!$G:$G,"N",Résultats!$E:$E,'2018'!$A6) -> 1 | E6: =IFERROR(C6/$B6,"") -> 0 | F6: =IFERROR(D6/$B6,"") -> 1 | G6: =H6+I6 -> 2 | H6: =SUMIFS(Résultats!R:R,Résultats!$E:$E,'2018'!$A6,Résultats!$H:$H,'2018'!$A$1) -> 0 | I6: =SUMIFS(Résultats!S:S,Résultats!$E:$E,'2018'!$A6,Résultats!$H:$H,'2018'!$A$1) -> 2 | J6: =IFERROR(H6/$G6,"") -> 0 | K6: =IFERROR(I6/$G6,"") -> 1 | L6: =M6+N6 -> 17 | M6: =SUMIFS(Résultats!T:T,Résultats!$E:$E,'2018'!$A6,Résultats!$H:$H,'2018'!$A$1) -> 5 | N6: =SUMIFS(Résultats!U:U,Résultats!$E:$E,'2018'!$A6,Résultats!$H:$H,'2018'!$A$1) -> 12 | O6: =IFERROR(M6/$L6,"") -> 0.29411765 | P6: =IFERROR(N6/$L6,"") -> 0.70588235
A7: R4 | B7: =COUNTIFS(Résultats!H:H,'2018'!$A$1,Résultats!E:E,'2018'!A7) -> 0 | C7: =COUNTIFS(Résultats!$H:$H,'2018'!$A$1,Résultats!$G:$G,"S",Résultats!E:E,'2018'!$A7) -> 0 | D7: =COUNTIFS(Résultats!$H:$H,'2018'!$A$1,Résultats!$G:$G,"N",Résultats!$E:$E,'2018'!$A7) -> 0 | E7: =IFERROR(C7/$B7,"") | F7: =IFERROR(D7/$B7,"") | G7: =H7+I7 -> 0 | H7: =SUMIFS(Résultats!R:R,Résultats!$E:$E,'2018'!$A7,Résultats!$H:$H,'2018'!$A$1) -> 0 | I7: =SUMIFS(Résultats!S:S,Résultats!$E:$E,'2018'!$A7,Résultats!$H:$H,'2018'!$A$1) -> 0 | J7: =IFERROR(H7/$G7,"") | K7: =IFERROR(I7/$G7,"") | L7: =M7+N7 -> 0 | M7: =SUMIFS(Résultats!T:T,Résultats!$E:$E,'2018'!$A7,Résultats!$H:$H,'2018'!$A$1) -> 0 | N7: =SUMIFS(Résultats!U:U,Résultats!$E:$E,'2018'!$A7,Résultats!$H:$H,'2018'!$A$1) -> 0 | O7: =IFERROR(M7/$L7,"") | P7: =IFERROR(N7/$L7,"")
A8: R3 | B8: =COUNTIFS(Résultats!H:H,'2018'!$A$1,Résultats!E:E,'2018'!A8) -> 0 | C8: =COUNTIFS(Résultats!$H:$H,'2018'!$A$1,Résultats!$G:$G,"S",Résultats!E:E,'2018'!$A8) -> 0 | D8: =COUNTIFS(Résultats!$H:$H,'2018'!$A$1,Résultats!$G:$G,"N",Résultats!$E:$E,'2018'!$A8) -> 0 | E8: =IFERROR(C8/$B8,"") | F8: =IFERROR(D8/$B8,"") | G8: =H8+I8 -> 0 | H8: =SUMIFS(Résultats!R:R,Résultats!$E:$E,'2018'!$A8,Résultats!$H:$H,'2018'!$A$1) -> 0 | I8: =SUMIFS(Résultats!S:S,Résultats!$E:$E,'2018'!$A8,Résultats!$H:$H,'2018'!$A$1) -> 0 | J8: =IFERROR(H8/$G8,"") | K8: =IFERROR(I8/$G8,"") | L8: =M8+N8 -> 0 | M8: =SUMIFS(Résultats!T:T,Résultats!$E:$E,'2018'!$A8,Résultats!$H:$H,'2018'!$A$1) -> 0 | N8: =SUMIFS(Résultats!U:U,Résultats!$E:$E,'2018'!$A8,Résultats!$H:$H,'2018'!$A$1) -> 0 | O8: =IFERROR(M8/$L8,"") | P8: =IFERROR(N8/$L8,"")
A9: R2 | B9: =COUNTIFS(Résultats!H:H,'2018'!$A$1,Résultats!E:E,'2018'!A9) -> 0 | C9: =COUNTIFS(Résultats!$H:$H,'2018'!$A$1,Résultats!$G:$G,"S",Résultats!E:E,'2018'!$A9) -> 0 | D9: =COUNTIFS(Résultats!$H:$H,'2018'!$A$1,Résultats!$G:$G,"N",Résultats!$E:$E,'2018'!$A9) -> 0 | E9: =IFERROR(C9/$B9,"") | F9: =IFERROR(D9/$B9,"") | G9: =H9+I9 -> 0 | H9: =SUMIFS(Résultats!R:R,Résultats!$E:$E,'2018'!$A9,Résultats!$H:$H,'2018'!$A$1) -> 0 | I9: =SUMIFS(Résultats!S:S,Résultats!$E:$E,'2018'!$A9,Résultats!$H:$H,'2018'!$A$1) -> 0 | J9: =IFERROR(H9/$G9,"") | K9: =IFERROR(I9/$G9,"") | L9: =M9+N9 -> 0 | M9: =SUMIFS(Résultats!T:T,Résultats!$E:$E,'2018'!$A9,Résultats!$H:$H,'2018'!$A$1) -> 0 | N9: =SUMIFS(Résultats!U:U,Résultats!$E:$E,'2018'!$A9,Résultats!$H:$H,'2018'!$A$1) -> 0 | O9: =IFERROR(M9/$L9,"") | P9: =IFERROR(N9/$L9,"")
A10: R1 | B10: =COUNTIFS(Résultats!H:H,'2018'!$A$1,Résultats!E:E,'2018'!A10) -> 0 | C10: =COUNTIFS(Résultats!$H:$H,'2018'!$A$1,Résultats!$G:$G,"S",Résultats!E:E,'2018'!$A10) -> 0 | D10: =COUNTIFS(Résultats!$H:$H,'2018'!$A$1,Résultats!$G:$G,"N",Résultats!$E:$E,'2018'!$A10) -> 0 | E10: =IFERROR(C10/$B10,"") | F10: =IFERROR(D10/$B10,"") | G10: =H10+I10 -> 0 | H10: =SUMIFS(Résultats!R:R,Résultats!$E:$E,'2018'!$A10,Résultats!$H:$H,'2018'!$A$1) -> 0 | I10: =SUMIFS(Résultats!S:S,Résultats!$E:$E,'2018'!$A10,Résultats!$H:$H,'2018'!$A$1) -> 0 | J10: =IFERROR(H10/$G10,"") | K10: =IFERROR(I10/$G10,"") | L10: =M10+N10 -> 0 | M10: =SUMIFS(Résultats!T:T,Résultats!$E:$E,'2018'!$A10,Résultats!$H:$H,'2018'!$A$1) -> 0 | N10: =SUMIFS(Résultats!U:U,Résultats!$E:$E,'2018'!$A10,Résultats!$H:$H,'2018'!$A$1) -> 0 | O10: =IFERROR(M10/$L10,"") | P10: =IFERROR(N10/$L10,"")
A11: Total | B11: =SUM(B2:B10) -> 32 | C11: =SUM(C2:C10) -> 17 | D11: =SUM(D2:D10) -> 15 | E11: =IFERROR(C11/$B11,"") -> 0.53125 | F11: =IFERROR(D11/$B11,"") -> 0.46875 | G11: =SUM(G2:G10) -> 71 | H11: =SUM(H2:H10) -> 36 | I11: =SUM(I2:I10) -> 35 | J11: =IFERROR(H11/$G11,"") -> 0.50704225 | K11: =IFERROR(I11/$G11,"") -> 0.49295775 | L11: =SUM(L2:L10) -> 613 | M11: =SUM(M2:M10) -> 307 | N11: =SUM(N2:N10) -> 306 | O11: =IFERROR(M11/$L11,"") -> 0.50081566 | P11: =IFERROR(N11/$L11,"") -> 0.49918434

Sheet Classement
A1: 43191 | B1: R9 (31 605) | C1: 0.75 | D1: 0 | E1: 0.75 | F1: 0 | G1: =MID(B1,4,9) -> (31 605) | H1: =MID(G1,2,2) -> 31 | I1: =MID(G1,5,3) -> 605 | J1: =CONCATENATE(H1,I1) -> 31605
A2: 43221 | B2: R8 (26 405) | C2: 0.787 | D2: 0.071 | E2: 0.858 | F2: 2 | G2: =MID(B2,4,9) -> (26 405) | H2: =MID(G2,2,2) -> 26 | I2: =MID(G2,5,3) -> 405 | J2: =CONCATENATE(H2,I2) -> 26405
A3: 43252 | B3: R7 (13 153) | C3: 2.07 | D3: 0.437 | E3: 2.507 | F3: 7 | G3: =MID(B3,4,9) -> (13 153) | H3: =MID(G3,2,2) -> 13 | I3: =MID(G3,5,3) -> 153 | J3: =CONCATENATE(H3,I3) -> 13153
A4: 43282 | B4: R7 (13 006) | C4: 2.127 | D4: 0.507 | E4: 2.634 | F4: 11 | G4: =MID(B4,4,9) -> (13 006) | H4: =MID(G4,2,2) -> 13 | I4: =MID(G4,5,3) -> 006 | J4: =CONCATENATE(H4,I4) -> 13006
A5: 43313 | B5: R6 (10 188) | C5: 2.521 | D5: 0.631 | E5: 3.152 | F5: 20 | G5: =MID(B5,4,9) -> (10 188) | H5: =MID(G5,2,2) -> 10 | I5: =MID(G5,5,3) -> 188 | J5: =CONCATENATE(H5,I5) -> 10188
A6: 43344 | B6: R7 (10 514) | C6: 2.513 | D6: 0.655 | E6: 3.168 | F6: 25 | G6: =MID(B6,4,9) -> (10 514) | H6: =MID(G6,2,2) -> 10 | I6: =MID(G6,5,3) -> 514 | J6: =CONCATENATE(H6,I6) -> 10514
A7: 43374 | B7: R7 (11 247) | C7: 2.539 | D7: 0.661 | E7: 3.2 | F7: 26 | G7: =MID(B7,4,9) -> (11 247) | H7: =MID(G7,2,2) -> 11 | I7: =MID(G7,5,3) -> 247 | J7: =CONCATENATE(H7,I7) -> 11247
A8: 43405 | B8: R6 (9 082) | C8: 2.93 | D8: 0.551 | E8: 3.481 | F8: 28 | G8: =MID(B8,4,9) -> (9 082) | H8: =MID(G8,2,1) -> 9 | I8: =MID(G8,4,3) -> 082 | J8: =CONCATENATE(H8,I8) -> 9082
A9: 43435 | B9: R6 (9 281) | C9: 2.897 | D9: 0.575 | E9: 3.472 | F9: 30 | G9: =MID(B9,4,9) -> (9 281) | H9: =MID(G9,2,1) -> 9 | I9: =MID(G9,4,3) -> 281 | J9: =CONCATENATE(H9,I9) -> 9281
A10: 43466 | B10: R6 (9 108) | C10: 2.941 | D10: 0.597 | E10: 3.538 | F10: 32 | G10: =MID(B10,4,9) -> (9 108) | H10: =MID(G10,2,1) -> 9 | I10: =MID(G10,4,3) -> 108 | J10: =CONCATENATE(H10,I10) -> 9108
A11: 43497 | B11: R6 (8 611) | C11: 3.034 | D11: 0.638 | E11: 3.672 | F11: 34 | G11: =MID(B11,4,9) -> (8 611) | H11: =MID(G11,2,1) -> 8 | I11: =MID(G11,4,3) -> 611 | J11: =CONCATENATE(H11,I11) -> 8611
A12: 43525 | B12: R6 (8 475) | C12: 3.045 | D12: 0.679 | E12: 3.724 | F12: 39 | G12: =MID(B12,4,9) -> (8 475) | H12: =MID(G12,2,1) -> 8 | I12: =MID(G12,4,3) -> 475 | J12: =CONCATENATE(H12,I12) -> 8475
A13: 43556 | B13: R6 (7 806) | C13: 3.199 | D13: 0.716 | E13: 3.915 | F13: 42 | G13: =MID(B13,4,9) -> (7 806) | H13: =MID(G13,2,1) -> 7 | I13: =MID(G13,4,3) -> 806 | J13: =CONCATENATE(H13,I13) -> 7806
A14: 43586 | B14: R5 (4 896) | C14: 3.564 | D14: 0.438 | E14: 4.002 | F14: 16 | G14: =MID(B14,4,9) -> (4 896) | H14: =MID(G14,2,1) -> 4 | I14: =MID(G14,4,3) -> 896 | J14: =CONCATENATE(H14,I14) -> 4896
A15: 43617 | B15: R6 (5 664) | C15: 3.539 | D15: 0.445 | E15: 3.984 | F15: 17 | G15: =MID(B15,4,9) -> (5 664) | H15: =MID(G15,2,1) -> 5 | I15: =MID(G15,4,3) -> 664 | J15: =CONCATENATE(H15,I15) -> 5664
A16: 43647 | B16: R6 (5 399) | C16: 3.746 | D16: 0.468 | E16: 4.214 | F16: 21 | G16: =MID(B16,4,9) -> (5 399) | H16: =MID(G16,2,1) -> 5 | I16: =MID(G16,4,3) -> 399 | J16: =CONCATENATE(H16,I16) -> 5399
A17: 43678 | B17: R6 (5 678) | C17: 3.672 | D17: 0.518 | E17: 4.19 | F17: 26 | G17: =MID(B17,4,9) -> (5 678) | H17: =MID(G17,2,1) -> 5 | I17: =MID(G17,4,3) -> 678 | J17: =CONCATENATE(H17,I17) -> 5678
A18: 43709 | B18: R6 (5 985) | C18: 3.672 | D18: 0.525 | E18: 4.197 | F18: 26 | G18: =MID(B18,4,9) -> (5 985) | H18: =MID(G18,2,1) -> 5 | I18: =MID(G18,4,3) -> 985 | J18: =CONCATENATE(H18,I18) -> 5985
A19: 43739 | B19: R6 (6 339) | C19: 3.663 | D19: 0.603 | E19: 4.266 | F19: 31 | G19: =MID(B19,4,9) -> (6 339) | H19: =MID(G19,2,1) -> 6 | I19: =MID(G19,4,3) -> 339 | J19: =CONCATENATE(H19,I19) -> 6339
... A30: 44075 | B30: R5 (4 990) | C30: 3.785 | D30: 0.41 | E30: 4.195 | F30: 15 | G30: =MID(B30,4,9) -> (4 990) | H30: =MID(G30,2,1) -> 4 | I30: =MID(G30,4,3) -> 990 | J30: =CONCATENATE(H30,I30) -> 4990

Sheet Diagramme classement
A1: Date | B1: Ranking | C1: Variation
A2: 43191 | B2: 31605
A3: 43221 | B3: 26405 | C3: =IF(B2-B3>0,"+"&B2-B3,B2-B3) -> +5200
A4: 43252 | B4: 13153 | C4: =IF(B3-B4>0,"+"&B3-B4,B3-B4) -> +13252
A5: 43282 | B5: 13006 | C5: =IF(B4-B5>0,"+"&B4-B5,B4-B5) -> +147
A6: 43313 | B6: 10188 | C6: =IF(B5-B6>0,"+"&B5-B6,B5-B6) -> +2818
A7: 43344 | B7: 10514 | C7: =IF(B6-B7>0,"+"&B6-B7,B6-B7) -> -326
A8: 43374 | B8: 11247 | C8: =IF(B7-B8>0,"+"&B7-B8,B7-B8) -> -733
A9: 43405 | B9: 9082 | C9: =IF(B8-B9>0,"+"&B8-B9,B8-B9) -> +2165
A10: 43435 | B10: 9281 | C10: =IF(B9-B10>0,"+"&B9-B10,B9-B10) -> -199
A11: 43466 | B11: 9108 | C11: =IF(B10-B11>0,"+"&B10-B11,B10-B11) -> +173
A12: 43497 | B12: 8611 | C12: =IF(B11-B12>0,"+"&B11-B12,B11-B12) -> +497
A13: 43525 | B13: 8475 | C13: =IF(B12-B13>0,"+"&B12-B13,B12-B13) -> +136
A14: 43556 | B14: 7806 | C14: =IF(B13-B14>0,"+"&B13-B14,B13-B14) -> +669
... A31: 44075 | B31: 4990 | C31: =IF(B30-B31>0,"+"&B30-B31,B30-B31) -> -227
B32: =IFERROR(VLOOKUP('Diagramme classement'!A32,Classement!$A:$J,10),"")
B33: =IFERROR(VLOOKUP('Diagramme classement'!A33,Classement!$A:$J,10),"")
B34: =IFERROR(VLOOKUP('Diagramme classement'!A34,Classement!$A:$J,10),"")
B35: =IFERROR(VLOOKUP('Diagramme classement'!A35,Classement!$A:$J,10),"")
B36: =IFERROR(VLOOKUP('Diagramme classement'!A36,Classement!$A:$J,10),"")
B37: =IFERROR(VLOOKUP('Diagramme classement'!A37,Classement!$A:$J,10),"")
B38: =IFERROR(VLOOKUP('Diagramme classement'!A38,Classement!$A:$J,10),"")
B39: =IFERROR(VLOOKUP('Diagramme classement'!A39,Classement!$A:$J,10),"")
B40: =IFERROR(VLOOKUP('Diagramme classement'!A40,Classement!$A:$J,10),"")
B41: =IFERROR(VLOOKUP('Diagramme classement'!A41,Classement!$A:$J,10),"")
B42: =IFERROR(VLOOKUP('Diagramme classement'!A42,Classement!$A:$J,10),"")
B43: =IFERROR(VLOOKUP('Diagramme classement'!A43,Classement!$A:$J,10),"")
... B45: =IFERROR(VLOOKUP('Diagramme classement'!A45,Classement!$A:$J,10),"")
