Workbook

Sheet Données
A1: Joueurs | B1: Match n°1 | H1: Match n°2 | N1: Match n°3
B2: Attaque | E2: Défense | H2: Attaque | K2: Défense | N2: Attaque | Q2: Défense
B3: Passes | C3: Tirs | D3: Buts | E3: Tacles | F3: Fautes | G3: Arrêts | H3: Passes | I3: Tirs | J3: Buts | K3: Tacles | L3: Fautes | M3: Arrêts | N3: Passes | O3: Tirs | P3: Buts | Q3: Tacles | R3: Fautes | S3: Arrêts
A4: N°1 | B4: 23 | C4: 3 | D4: 1 | E4: 3 | F4: 0 | G4: 0 | H4: 14 | I4: 6 | J4: 0 | K4: 9 | L4: 8 | M4: 0 | N4: 64 | O4: 6 | P4: 1 | Q4: 3 | R4: 3 | S4: 0
A5: N°2 | B5: 34 | C5: 0 | D5: 0 | E5: 0 | F5: 0 | G5: 4 | H5: 12 | I5: 0 | J5: 0 | K5: 0 | L5: 0 | M5: 12 | N5: 23 | O5: 0 | P5: 0 | Q5: 0 | R5: 0 | S5: 2
A6: N°3 | B6: 63 | C6: 4 | D6: 2 | E6: 7 | F6: 5 | G6: 0 | H6: 32 | I6: 2 | J6: 0 | K6: 7 | L6: 5 | M6: 0 | N6: 78 | O6: 5 | P6: 3 | Q6: 7 | R6: 2 | S6: 0

Sheet Joueur n°1
A1: Matchs | B1: Joueur n°1
B2: Attaque | F2: Defense
B3: Passes | C3: Tirs | D3: Buts | E3: % efficacité | F3: Tacles | G3: Fautes | H3: Arrêts | I3: % fautes
A4: Match n°1 | B4: =VLOOKUP("N°1",Données!$A$4:$G$6,2,FALSE) -> 23 | C4: =VLOOKUP("N°1",Données!$A$4:$G$6,3,FALSE) -> 3 | D4: =VLOOKUP("N°1",Données!$A$4:$G$6,4,FALSE) -> 1 | E4: =D4/C4*100 -> 33.333333 | F4: =VLOOKUP("N°1",Données!$A$4:$G$6,5,FALSE) -> 3 | G4: =VLOOKUP("N°1",Données!$A$4:$G$6,6,FALSE) -> 0 | H4: =VLOOKUP("N°1",Données!$A$4:$G$6,7,FALSE) -> 0 | I4: =G4/F4*100 -> 0
A5: Match n°2 | E5: =D5/C5*100 -> #DIV/0! | I5: =G5/F5*100 -> #DIV/0!
A6: Match n°3 | E6: =D6/C6*100 -> #DIV/0! | I6: =G6/F6*100 -> #DIV/0!

Sheet Joueur n°2
A1: Matchs | B1: Joueur n°2
B2: Attaque | F2: Defense
B3: Passes | C3: Tirs | D3: Buts | E3: % efficacité | F3: Tacles | G3: Fautes | H3: Arrêts | I3: % fautes
A4: Match n°1 | E4: =D4/C4*100 -> #DIV/0! | I4: =G4/F4*100 -> #DIV/0!
A5: Match n°2 | E5: =D5/C5*100 -> #DIV/0! | I5: =G5/F5*100 -> #DIV/0!
A6: Match n°3 | E6: =D6/C6*100 -> #DIV/0! | I6: =G6/F6*100 -> #DIV/0!

Sheet Joueur n°3
A1: Matchs | B1: Joueur n°3
B2: Attaque | F2: Defense
B3: Passes | C3: Tirs | D3: Buts | E3: % efficacité | F3: Tacles | G3: Fautes | H3: Arrêts | I3: % fautes
A4: Match n°1 | E4: =D4/C4*100 -> #DIV/0! | I4: =G4/F4*100 -> #DIV/0!
A5: Match n°2 | E5: =D5/C5*100 -> #DIV/0! | I5: =G5/F5*100 -> #DIV/0!
A6: Match n°3 | E6: =D6/C6*100 -> #DIV/0! | I6: =G6/F6*100 -> #DIV/0!
