Workbook

Sheet Plage
A1: JobApplicationEventID | B1: JobApplicationEvent_GlobalFeedback_ | C1: JobApplicationEvent_CreationDate_ | D1: JobApplicationEvent_EventDate_ | E1: JobApplicationEvent_ModificationDate_ | F1: Référence de l'offre | G1: Offer_CreationDate_ | H1: Offer_OfferStatus_ | I1: JobDescriptionTranslation_JobTitle_ | J1: JobApplicationEvent_PublicationSupport_With1 | K1: JobApplicationEvent_PublicationSupport_ | L1: JobApplicationEvent_Supervisor_ | M1: Statut de la candidature | N1: JobApplicationEvent_JobApplicationEventType_ | O1: Applicant_CreationDate_ApplicantID | P1: Applicant_ModificationDate_ApplicantID | Q1: Applicant_ApplicantModificationDate_ApplicantID | R1: Applicant_ApplicantID_ApplicantID | S1: Applicant_ApplicantCreationMode_ApplicantID | T1: Applicant_FullName_ApplicantID | U1: Applicant_ApplicantStatus_ApplicantID | V1: Employee_Entity_EmployeeIDWith1 | W1: Employee_Entity_EmployeeID | X1: JobPreferences_PrimaryProfile_ApplicantID | Y1: JobPreferences_Country_ApplicantID | Z1: JobPreferences_JobTime_ApplicantID | AA1: ApplicantID | AB1: Bon_Statut
A2: 243618 | C2: 44750.465 | D2: 44750.465 | F2: 2022-4650 | G2: 44748.707 | H2: Diffusée | I2: Contrôleur de gestion F/H | J2: Apec | K2: Apec | L2: AAA | M2: Sélectionné sur CV | N2: Réponse à offre | O2: 44750.465 | P2: 44750.467 | Q2: 44750.384 | R2: 211882 | T2: A | U2: Recherche active | X2: CONTROLEUR DE GESTION | AA2: 211882 | AB2: =IF(OR(M2="Proposition d'embauche envoyée",M2="Proposition d'embauche rejetée",M2="Proposition d'embauche validée"),"OK","NOK") -> NOK
A3: 243609 | C3: 44750.406 | D3: 44750.406 | F3: 2022-4650 | G3: 44748.707 | H3: Diffusée | I3: Contrôleur de gestion F/H | J3: Apec | K3: Apec | L3: AAA | M3: Retour Entretien négatif | N3: Réponse à offre | O3: 44750.406 | P3: 44750.406 | Q3: 44750.323 | R3: 211875 | S3: Front Office | T3: B | U3: Recherche active | X3: CONTROLEUR DE GESTION | AA3: 211875 | AB3: =IF(OR(M3="Proposition d'embauche envoyée",M3="Proposition d'embauche rejetée",M3="Proposition d'embauche validée"),"OK","NOK") -> NOK
A4: 243604 | C4: 44750.382 | D4: 44750.382 | F4: 2022-4650 | G4: 44748.707 | H4: Diffusée | I4: Contrôleur de gestion F/H | J4: Internet | K4: Internet | L4: AAA | M4: Sélectionné sur CV | N4: Réponse à offre | O4: 44750.382 | P4: 44750.382 | Q4: 44750.299 | R4: 211870 | S4: Front Office | T4: C | U4: Recherche active | X4: CONTROLEUR DE GESTION | AA4: 211870 | AB4: =IF(OR(M4="Proposition d'embauche envoyée",M4="Proposition d'embauche rejetée",M4="Proposition d'embauche validée"),"OK","NOK") -> NOK
A5: 243594 | C5: 44750.031 | D5: 44750.031 | F5: 2022-4650 | G5: 44748.707 | H5: Diffusée | I5: Contrôleur de gestion F/H | J5: Internet | K5: Internet | L5: AAA | M5: A traiter | N5: Réponse à offre | O5: 44750.029 | P5: 44750.388 | Q5: 44749.946 | R5: 211863 | S5: Front Office | T5: D | U5: Recherche active | X5: COMPTABLE | AA5: 211863 | AB5: =IF(OR(M5="Proposition d'embauche envoyée",M5="Proposition d'embauche rejetée",M5="Proposition d'embauche validée"),"OK","NOK") -> NOK
A6: 243591 | C6: 44750.004 | D6: 44750.004 | F6: 2022-4650 | G6: 44748.707 | H6: Diffusée | I6: Contrôleur de gestion F/H | J6: Slot Linkedin | K6: Slot Linkedin | L6: AAA | M6: A traiter | N6: Réponse à offre | O6: 44750.004 | P6: 44750.004 | Q6: 44749.921 | R6: 211861 | T6: E | U6: Recherche active | X6: CONTROLEUR DE GESTION | AA6: 211861 | AB6: =IF(OR(M6="Proposition d'embauche envoyée",M6="Proposition d'embauche rejetée",M6="Proposition d'embauche validée"),"OK","NOK") -> NOK
A7: 243592 | C7: 44750.022 | D7: 44750.022 | F7: 2022-4650 | G7: 44748.707 | H7: Diffusée | I7: Contrôleur de gestion F/H | J7: Apec | K7: Apec | L7: AAA | M7: A traiter | N7: Réponse à offre | O7: 44750.022 | P7: 44750.022 | Q7: 44749.938 | R7: 211862 | T7: F | U7: Recherche active | X7: CONTROLEUR DE GESTION | AA7: 211862 | AB7: =IF(OR(M7="Proposition d'embauche envoyée",M7="Proposition d'embauche rejetée",M7="Proposition d'embauche validée"),"OK","NOK") -> NOK
A8: 243608 | C8: 44750.402 | D8: 44750.402 | F8: 2022-4628 | G8: 44746.66 | H8: Diffusée | I8: ASSISTANT RH/PAIE F/H | J8: PoleEmploi | K8: PoleEmploi | L8: BBB | M8: Proposition d'embauche validée | N8: Réponse à offre | O8: 44750.402 | P8: 44750.402 | Q8: 44750.319 | R8: 211874 | T8: G | U8: Recherche active | X8: ASSISTANT(E) PAIE / ADMNISTRATION DU PERSONNE | AA8: 211874 | AB8: =IF(OR(M8="Proposition d'embauche envoyée",M8="Proposition d'embauche rejetée",M8="Proposition d'embauche validée"),"OK","NOK") -> OK
A9: 243555 | C9: 44749.597 | D9: 44749.597 | F9: 2022-4628 | G9: 44746.66 | H9: Diffusée | I9: ASSISTANT RH/PAIE F/H | J9: Internet | K9: Internet | L9: BBB | M9: Proposition d'embauche envoyée | N9: Réponse à offre | O9: 44749.596 | P9: 44749.599 | Q9: 44749.516 | R9: 211834 | S9: Front Office | T9: H | U9: Recherche active | X9: ASSISTANT(E) PAIE / ADMNISTRATION DU PERSONNE | AA9: 211834 | AB9: =IF(OR(M9="Proposition d'embauche envoyée",M9="Proposition d'embauche rejetée",M9="Proposition d'embauche validée"),"OK","NOK") -> OK
A10: 243545 | C10: 44749.496 | D10: 44749.496 | F10: 2022-4628 | G10: 44746.66 | H10: Diffusée | I10: ASSISTANT RH/PAIE F/H | J10: PoleEmploi | K10: PoleEmploi | L10: BBB | M10: Proposition d'embauche rejetée | N10: Réponse à offre | O10: 44749.496 | P10: 44749.496 | Q10: 44749.413 | R10: 211825 | S10: Front Office | T10: I | U10: Recherche active | X10: ASSISTANT(E) PAIE / ADMNISTRATION DU PERSONNE | AA10: 211825 | AB10: =IF(OR(M10="Proposition d'embauche envoyée",M10="Proposition d'embauche rejetée",M10="Proposition d'embauche validée"),"OK","NOK") -> OK
A11: 243501 | C11: 44748.758 | D11: 44748.758 | F11: 2022-4628 | G11: 44746.66 | H11: Diffusée | I11: ASSISTANT RH/PAIE F/H | J11: Hellowork (annonce) | K11: Hellowork (annonce) | L11: BBB | M11: Sélectionné sur CV | N11: Réponse à offre | O11: 44748.758 | P11: 44748.758 | Q11: 44748.674 | R11: 211789 | S11: Front Office | T11: J | U11: Recherche active | X11: ASSISTANT(E) PAIE / ADMNISTRATION DU PERSONNE | AA11: 211789 | AB11: =IF(OR(M11="Proposition d'embauche envoyée",M11="Proposition d'embauche rejetée",M11="Proposition d'embauche validée"),"OK","NOK") -> NOK
A12: 243476 | C12: 44748.519 | D12: 44748.519 | F12: 2022-4628 | G12: 44746.66 | H12: Diffusée | I12: ASSISTANT RH/PAIE F/H | J12: Hellowork (annonce) | K12: Hellowork (annonce) | L12: BBB | M12: Retour Entretien négatif | N12: Réponse à offre | O12: 44748.519 | P12: 44748.519 | Q12: 44748.436 | R12: 211767 | S12: Front Office | T12: K | U12: Recherche active | X12: ASSISTANT(E) PAIE / ADMNISTRATION DU PERSONNE | AA12: 211767 | AB12: =IF(OR(M12="Proposition d'embauche envoyée",M12="Proposition d'embauche rejetée",M12="Proposition d'embauche validée"),"OK","NOK") -> NOK
A13: 243450 | C13: 44747.983 | D13: 44747.983 | F13: 2022-4628 | G13: 44746.66 | H13: Diffusée | I13: ASSISTANT RH/PAIE F/H | J13: Hellowork (annonce) | K13: Hellowork (annonce) | L13: BBB | M13: A traiter | N13: Réponse à offre | O13: 44747.983 | P13: 44747.983 | Q13: 44747.9 | R13: 211739 | S13: Front Office | T13: L | U13: Recherche active | X13: ASSISTANT(E) PAIE / ADMNISTRATION DU PERSONNE | AA13: 211739 | AB13: =IF(OR(M13="Proposition d'embauche envoyée",M13="Proposition d'embauche rejetée",M13="Proposition d'embauche validée"),"OK","NOK") -> NOK
A14: 243380 | C14: 44747.324 | D14: 44747.324 | F14: 2022-4628 | G14: 44746.66 | H14: Diffusée | I14: ASSISTANT RH/PAIE F/H | J14: Hellowork (annonce) | K14: Hellowork (annonce) | L14: BBB | M14: Entretien opérationnel 2 en cours | N14: Réponse à offre | O14: 44747.324 | P14: 44747.324 | Q14: 44747.241 | R14: 211668 | S14: Front Office | T14: M | U14: Recherche active | X14: ASSISTANT(E) PAIE / ADMNISTRATION DU PERSONNE | AA14: 211668 | AB14: =IF(OR(M14="Proposition d'embauche envoyée",M14="Proposition d'embauche rejetée",M14="Proposition d'embauche validée"),"OK","NOK") -> NOK
A15: 243375 | C15: 44747.055 | D15: 44747.055 | F15: 2022-4628 | G15: 44746.66 | H15: Diffusée | I15: ASSISTANT RH/PAIE F/H | J15: Internet | K15: Internet | L15: BBB | M15: Préqualifié | N15: Réponse à offre | O15: 44685.212 | P15: 44749.452 | Q15: 44746.972 | R15: 201706 | S15: Front Office | T15: N | U15: Recherche active | X15: CHARGE(E) DE MISSION RH | AA15: 201706 | AB15: =IF(OR(M15="Proposition d'embauche envoyée",M15="Proposition d'embauche rejetée",M15="Proposition d'embauche validée"),"OK","NOK") -> NOK
A16: 243567 | C16: 44749.646 | D16: 44749.646 | F16: 2022-4612 | G16: 44742.649 | H16: Diffusée | I16: Hôte d'accueil volant F/H | J16: Hellowork (annonce) | K16: Hellowork (annonce) | L16: CCC | M16: A traiter | N16: Réponse à offre | O16: 44749.646 | P16: 44749.646 | Q16: 44749.562 | R16: 211842 | S16: Front Office | T16: O | U16: Recherche active | X16: AGENT D'ACCUEIL | AA16: 211842 | AB16: =IF(OR(M16="Proposition d'embauche envoyée",M16="Proposition d'embauche rejetée",M16="Proposition d'embauche validée"),"OK","NOK") -> NOK
A17: 243558 | C17: 44749.607 | D17: 44749.607 | F17: 2022-4612 | G17: 44742.649 | H17: Diffusée | I17: Hôte d'accueil volant F/H | J17: Hellowork (annonce) | K17: Hellowork (annonce) | L17: CCC | M17: A traiter | N17: Réponse à offre | O17: 44749.607 | P17: 44749.607 | Q17: 44749.523 | R17: 211836 | T17: P | U17: Recherche active | X17: AGENT D'ACCUEIL | AA17: 211836 | AB17: =IF(OR(M17="Proposition d'embauche envoyée",M17="Proposition d'embauche rejetée",M17="Proposition d'embauche validée"),"OK","NOK") -> NOK
A18: 243255 | C18: 44744.669 | D18: 44744.669 | F18: 2022-4612 | G18: 44742.649 | H18: Diffusée | I18: Hôte d'accueil volant F/H | J18: Hellowork (annonce) | K18: Hellowork (annonce) | L18: CCC | M18: Réaffecté | N18: Réponse à offre | O18: 44744.669 | P18: 44744.669 | Q18: 44744.586 | R18: 211562 | T18: Q | U18: Recherche active | X18: AGENT D'ACCUEIL | AA18: 211562 | AB18: =IF(OR(M18="Proposition d'embauche envoyée",M18="Proposition d'embauche rejetée",M18="Proposition d'embauche validée"),"OK","NOK") -> NOK
A19: 243234 | C19: 44743.879 | D19: 44743.879 | F19: 2022-4612 | G19: 44742.649 | H19: Diffusée | I19: Hôte d'accueil volant F/H | J19: Hellowork (annonce) | K19: Hellowork (annonce) | L19: CCC | M19: Retour Positif | N19: Réponse à offre | O19: 44743.879 | P19: 44743.879 | Q19: 44743.796 | R19: 211549 | T19: R | U19: Recherche active | X19: AGENT D'ACCUEIL | AA19: 211549 | AB19: =IF(OR(M19="Proposition d'embauche envoyée",M19="Proposition d'embauche rejetée",M19="Proposition d'embauche validée"),"OK","NOK") -> NOK
A20: 243205 | C20: 44743.604 | D20: 44743.604 | F20: 2022-4612 | G20: 44742.649 | H20: Diffusée | I20: Hôte d'accueil volant F/H | J20: Internet | K20: Internet | L20: CCC | M20: Proposition d'embauche rejetée | N20: Réponse à offre | O20: 44743.604 | P20: 44743.604 | Q20: 44743.521 | R20: 211526 | T20: S | U20: Recherche active | X20: AGENT D'ACCUEIL | AA20: 211526 | AB20: =IF(OR(M20="Proposition d'embauche envoyée",M20="Proposition d'embauche rejetée",M20="Proposition d'embauche validée"),"OK","NOK") -> OK
A21: 243190 | C21: 44743.485 | D21: 44743.485 | F21: 2022-4612 | G21: 44742.649 | H21: Diffusée | I21: Hôte d'accueil volant F/H | J21: Hellowork (annonce) | K21: Hellowork (annonce) | L21: CCC | M21: Sélectionné sur CV | N21: Réponse à offre | O21: 44743.485 | P21: 44743.489 | Q21: 44743.405 | R21: 211514 | T21: T | U21: Recherche active | X21: AGENT D'ACCUEIL | Z21: Temps complet | AA21: 211514 | AB21: =IF(OR(M21="Proposition d'embauche envoyée",M21="Proposition d'embauche rejetée",M21="Proposition d'embauche validée"),"OK","NOK") -> NOK
A22: 243176 | C22: 44743.35 | D22: 44743.35 | F22: 2022-4612 | G22: 44742.649 | H22: Diffusée | I22: Hôte d'accueil volant F/H | J22: Hellowork (annonce) | K22: Hellowork (annonce) | L22: CCC | M22: Retour Entretien négatif | N22: Réponse à offre | O22: 44743.35 | P22: 44743.35 | Q22: 44743.267 | R22: 211500 | S22: Front Office | T22: U | U22: Recherche active | X22: AGENT D'ACCUEIL | AA22: 211500 | AB22: =IF(OR(M22="Proposition d'embauche envoyée",M22="Proposition d'embauche rejetée",M22="Proposition d'embauche validée"),"OK","NOK") -> NOK
A23: 243159 | C23: 44742.76 | D23: 44742.76 | F23: 2022-4612 | G23: 44742.649 | H23: Diffusée | I23: Hôte d'accueil volant F/H | J23: Hellowork (annonce) | K23: Hellowork (annonce) | L23: CCC | M23: A traiter | N23: Réponse à offre | O23: 44742.76 | P23: 44742.76 | Q23: 44742.677 | R23: 211487 | S23: Front Office | T23: V | U23: Recherche active | X23: AGENT D'ACCUEIL | AA23: 211487 | AB23: =IF(OR(M23="Proposition d'embauche envoyée",M23="Proposition d'embauche rejetée",M23="Proposition d'embauche validée"),"OK","NOK") -> NOK

Sheet TCD
A1: ApplicantID | B1: (Tous)
A3: Nombre de Statut de la candidature | B3: Étiquettes de colonnes
A4: Étiquettes de lignes | B4: A traiter | C4: Entretien opérationnel 2 en cours | D4: Préqualifié | E4: Proposition d'embauche envoyée | F4: Proposition d'embauche rejetée | G4: Proposition d'embauche validée | H4: Réaffecté | I4: Retour Entretien négatif | J4: Retour Positif | K4: Sélectionné sur CV | L4: Total général
A5: 2022-4612 | B5: 3 | F5: 1 | H5: 1 | I5: 1 | J5: 1 | K5: 1 | L5: 8
A6: 2022-4628 | B6: 1 | C6: 1 | D6: 1 | E6: 1 | F6: 1 | G6: 1 | I6: 1 | K6: 1 | L6: 8
A7: 2022-4650 | B7: 3 | I7: 1 | K7: 2 | L7: 6
A8: Total général | B8: 7 | C8: 1 | D8: 1 | E8: 1 | F8: 2 | G8: 1 | H8: 1 | I8: 3 | J8: 1 | K8: 4 | L8: 22

Sheet Feuil1
A1: References | B1: Somme Status à surveiller | C1: Sélectionné sur CV | D1: Retour Entretien négatif | E1: A traiter | F1: Proposition d'embauche validée | G1: Proposition d'embauche envoyée | H1: Proposition d'embauche rejetée | I1: Entretien opérationnel 2 en cours | J1: Préqualifié | K1: Réaffecté | L1: Retour Positif | M1: Total
A2: 2022-4650 | B2: =SUM(F2:H2) -> 0 | C2: =COUNTIFS(Plage!$F$2:$F$23,Feuil1!$A2,Plage!$M$2:$M$23,Feuil1!C$1) -> 2 | D2: =COUNTIFS(Plage!$F$2:$F$23,Feuil1!$A2,Plage!$M$2:$M$23,Feuil1!D$1) -> 1 | E2: =COUNTIFS(Plage!$F$2:$F$23,Feuil1!$A2,Plage!$M$2:$M$23,Feuil1!E$1) -> 3 | F2: =COUNTIFS(Plage!$F$2:$F$23,Feuil1!$A2,Plage!$M$2:$M$23,Feuil1!F$1) -> 0 | G2: =COUNTIFS(Plage!$F$2:$F$23,Feuil1!$A2,Plage!$M$2:$M$23,Feuil1!G$1) -> 0 | H2: =COUNTIFS(Plage!$F$2:$F$23,Feuil1!$A2,Plage!$M$2:$M$23,Feuil1!H$1) -> 0 | I2: =COUNTIFS(Plage!$F$2:$F$23,Feuil1!$A2,Plage!$M$2:$M$23,Feuil1!I$1) -> 0 | J2: =COUNTIFS(Plage!$F$2:$F$23,Feuil1!$A2,Plage!$M$2:$M$23,Feuil1!J$1) -> 0 | ... L2: =COUNTIFS(Plage!$F$2:$F$23,Feuil1!$A2,Plage!$M$2:$M$23,Feuil1!L$1) -> 0 | M2: =SUM(C2:L2) -> 6
A3: 2022-4628 | B3: =SUM(F3:H3) -> 3 | C3: =COUNTIFS(Plage!$F$2:$F$23,Feuil1!$A3,Plage!$M$2:$M$23,Feuil1!C$1) -> 1 | D3: =COUNTIFS(Plage!$F$2:$F$23,Feuil1!$A3,Plage!$M$2:$M$23,Feuil1!D$1) -> 1 | E3: =COUNTIFS(Plage!$F$2:$F$23,Feuil1!$A3,Plage!$M$2:$M$23,Feuil1!E$1) -> 1 | F3: =COUNTIFS(Plage!$F$2:$F$23,Feuil1!$A3,Plage!$M$2:$M$23,Feuil1!F$1) -> 1 | G3: =COUNTIFS(Plage!$F$2:$F$23,Feuil1!$A3,Plage!$M$2:$M$23,Feuil1!G$1) -> 1 | H3: =COUNTIFS(Plage!$F$2:$F$23,Feuil1!$A3,Plage!$M$2:$M$23,Feuil1!H$1) -> 1 | I3: =COUNTIFS(Plage!$F$2:$F$23,Feuil1!$A3,Plage!$M$2:$M$23,Feuil1!I$1) -> 1 | J3: =COUNTIFS(Plage!$F$2:$F$23,Feuil1!$A3,Plage!$M$2:$M$23,Feuil1!J$1) -> 1 | ... L3: =COUNTIFS(Plage!$F$2:$F$23,Feuil1!$A3,Plage!$M$2:$M$23,Feuil1!L$1) -> 0 | M3: =SUM(C3:L3) -> 8
A4: 2022-4612 | B4: =SUM(F4:H4) -> 1 | C4: =COUNTIFS(Plage!$F$2:$F$23,Feuil1!$A4,Plage!$M$2:$M$23,Feuil1!C$1) -> 1 | D4: =COUNTIFS(Plage!$F$2:$F$23,Feuil1!$A4,Plage!$M$2:$M$23,Feuil1!D$1) -> 1 | E4: =COUNTIFS(Plage!$F$2:$F$23,Feuil1!$A4,Plage!$M$2:$M$23,Feuil1!E$1) -> 3 | F4: =COUNTIFS(Plage!$F$2:$F$23,Feuil1!$A4,Plage!$M$2:$M$23,Feuil1!F$1) -> 0 | G4: =COUNTIFS(Plage!$F$2:$F$23,Feuil1!$A4,Plage!$M$2:$M$23,Feuil1!G$1) -> 0 | H4: =COUNTIFS(Plage!$F$2:$F$23,Feuil1!$A4,Plage!$M$2:$M$23,Feuil1!H$1) -> 1 | I4: =COUNTIFS(Plage!$F$2:$F$23,Feuil1!$A4,Plage!$M$2:$M$23,Feuil1!I$1) -> 0 | J4: =COUNTIFS(Plage!$F$2:$F$23,Feuil1!$A4,Plage!$M$2:$M$23,Feuil1!J$1) -> 0 | ... L4: =COUNTIFS(Plage!$F$2:$F$23,Feuil1!$A4,Plage!$M$2:$M$23,Feuil1!L$1) -> 1 | M4: =SUM(C4:L4) -> 8
