Workbook

Sheet RESULTAT
A1: MAJORATION | I1: MINORATION
A2: Mat. | B2: AGE | C2: ANCIENNETE | D2: SALAIRE | E2: IND LIC | F2: IND CONV | G2: MAJO | I2: Mat. | J2: AGE | K2: ANCIENNETE | L2: SALAIRE | M2: IND LIC | N2: IND CONV | O2: MINO
A3: 4004800 | B3: 58.916667 | C3: 30 | D3: 3000 | E3: 27500 | F3: 27000 | G3: 8100 | I3: 4061106 | J3: 61 | K3: 13.666667 | L3: 3000 | M3: 11167 | N3: 10200 | O3: 510
A4: 4006901 | B4: 56.166667 | C4: 14.5 | D4: 3000 | E4: 12000 | F4: 11100 | G4: 3330
A5: 4006902 | B5: 57.916667 | C5: 13.333333 | D5: 3000 | E5: 10833 | F5: 10200 | G5: 3060
A6: 4006903 | B6: 51.416667 | C6: 13.166667 | D6: 3000 | E6: 10667 | F6: 10200 | G6: 2040
A7: 4006906 | B7: 51.916667 | C7: 12.75 | D7: 3000 | E7: 10250 | F7: 9000 | G7: 1800
A8: 4006908 | B8: 54.25 | C8: 12.75 | D8: 3000 | E8: 10250 | F8: 9000 | G8: 1800
A9: 4006914 | B9: 57.833333 | C9: 12 | D9: 3000 | E9: 9500 | F9: 9000 | G9: 2700
A10: 4006918 | B10: 57.5 | C10: 12.083333 | D10: 3000 | E10: 9583 | F10: 9000 | G10: 2700
A11: 4006921 | B11: 52.5 | C11: 11.75 | D11: 3000 | E11: 9250 | F11: 8100 | G11: 1620
A12: 4006926 | B12: 57.75 | C12: 11.5 | D12: 3000 | E12: 9000 | F12: 8100 | G12: 2430
A13: 4006952 | B13: 53.833333 | C13: 10.416667 | D13: 3000 | E13: 7917 | F13: 6600 | G13: 1320
A14: 4006953 | B14: 55 | C14: 10.5 | D14: 3000 | E14: 8000 | F14: 6600 | G14: 1980
A15: 4006957 | B15: 58.5 | C15: 10.083333 | D15: 3000 | E15: 7583 | F15: 6600 | G15: 1980
... A193: 4071550 | B193: 54.416667 | C193: 23.25 | D193: 3000 | E193: 20750 | F193: 20100 | G193: 4020

Sheet Simulateur
A1: Colonne1 | B1: Colonne2 | C1: Colonne3 | D1: Colonne4 | E1: Colonne5 | F1: Colonne6 | G1: Colonne7 | H1: Colonne8 | I1: Colonne9 | J1: Colonne10 | K1: Colonne11 | L1: Colonne12
A2: Mat. | B2: Date ancienneté | D2: Date expiration préavis (exécuté ou non) | F2: Age à Expiration préavis | G2: Ancienneté à Expiration préavis | I2: Salaire de référence | K2: Indemnité légale de licenciement | L2: Indemnité conventionnelle de licenciement | M2: Majoration | N2: Minoration | P2: Indemnité retraite
A3: 4000255 | B3: 30236 | D3: 44469 | F3: 60.916667 | G3: =(YEAR(D3)-YEAR(B3))+((MONTH(D3)-MONTH(B3))/12) -> 38.916667 | I3: 3000 | K3: 36417 | L3: =INDEX(Ancienneté!$C$2:$C$55,MATCH(G3,Ancienneté!$B$2:$B$55,1))*I3 -> 35100
A4: 4004800 | B4: 33482 | D4: 44469 | F4: 58.916667 | G4: =(YEAR(D4)-YEAR(B4))+((MONTH(D4)-MONTH(B4))/12) -> 30 | I4: 3000 | K4: 27500 | L4: =INDEX(Ancienneté!$C$2:$C$55,MATCH(G4,Ancienneté!$B$2:$B$55,1))*I4 -> 27000
A5: 4005998 | B5: 30228 | D5: 44469 | F5: 60.666667 | G5: =(YEAR(D5)-YEAR(B5))+((MONTH(D5)-MONTH(B5))/12) -> 38.916667 | I5: 3000 | K5: 36417 | L5: =INDEX(Ancienneté!$C$2:$C$55,MATCH(G5,Ancienneté!$B$2:$B$55,1))*I5 -> 35100
A6: 4006901 | B6: 39147 | D6: 44469 | F6: 56.166667 | G6: =(YEAR(D6)-YEAR(B6))+((MONTH(D6)-MONTH(B6))/12) -> 14.5 | I6: 3000 | K6: 12000 | L6: =INDEX(Ancienneté!$C$2:$C$55,MATCH(G6,Ancienneté!$B$2:$B$55,1))*I6 -> 11100
A7: 4006902 | B7: 39573 | D7: 44469 | F7: 57.916667 | G7: =(YEAR(D7)-YEAR(B7))+((MONTH(D7)-MONTH(B7))/12) -> 13.333333 | I7: 3000 | K7: 10833 | L7: =INDEX(Ancienneté!$C$2:$C$55,MATCH(G7,Ancienneté!$B$2:$B$55,1))*I7 -> 10200
A8: 4006903 | B8: 39644 | D8: 44469 | F8: 51.416667 | G8: =(YEAR(D8)-YEAR(B8))+((MONTH(D8)-MONTH(B8))/12) -> 13.166667 | I8: 3000 | K8: 10667 | L8: =INDEX(Ancienneté!$C$2:$C$55,MATCH(G8,Ancienneté!$B$2:$B$55,1))*I8 -> 10200
A9: 4006906 | B9: 39783 | D9: 44469 | F9: 51.916667 | G9: =(YEAR(D9)-YEAR(B9))+((MONTH(D9)-MONTH(B9))/12) -> 12.75 | I9: 3000 | K9: 10250 | L9: =INDEX(Ancienneté!$C$2:$C$55,MATCH(G9,Ancienneté!$B$2:$B$55,1))*I9 -> 9000
A10: 4006907 | B10: 39783 | D10: 44469 | F10: 49.666667 | G10: =(YEAR(D10)-YEAR(B10))+((MONTH(D10)-MONTH(B10))/12) -> 12.75 | I10: 3000 | K10: 10250 | L10: =INDEX(Ancienneté!$C$2:$C$55,MATCH(G10,Ancienneté!$B$2:$B$55,1))*I10 -> 9000
A11: 4006908 | B11: 39783 | D11: 44469 | F11: 54.25 | G11: =(YEAR(D11)-YEAR(B11))+((MONTH(D11)-MONTH(B11))/12) -> 12.75 | I11: 3000 | K11: 10250 | L11: =INDEX(Ancienneté!$C$2:$C$55,MATCH(G11,Ancienneté!$B$2:$B$55,1))*I11 -> 9000
A12: 4006909 | B12: 39846 | D12: 44469 | F12: 40.833333 | G12: =(YEAR(D12)-YEAR(B12))+((MONTH(D12)-MONTH(B12))/12) -> 12.583333 | I12: 3000 | K12: 10083 | L12: =INDEX(Ancienneté!$C$2:$C$55,MATCH(G12,Ancienneté!$B$2:$B$55,1))*I12 -> 9000
A13: 4006914 | B13: 40077 | D13: 44469 | F13: 57.833333 | G13: =(YEAR(D13)-YEAR(B13))+((MONTH(D13)-MONTH(B13))/12) -> 12 | I13: 3000 | K13: 9500 | L13: =INDEX(Ancienneté!$C$2:$C$55,MATCH(G13,Ancienneté!$B$2:$B$55,1))*I13 -> 9000
A14: 4006915 | B14: 40070 | D14: 44469 | F14: 38.916667 | G14: =(YEAR(D14)-YEAR(B14))+((MONTH(D14)-MONTH(B14))/12) -> 12 | I14: 3000 | K14: 9500 | L14: =INDEX(Ancienneté!$C$2:$C$55,MATCH(G14,Ancienneté!$B$2:$B$55,1))*I14 -> 9000
... A609: 4071550 | B609: 35954 | D609: 44469 | F609: 54.416667 | G609: =(YEAR(D609)-YEAR(B609))+((MONTH(D609)-MONTH(B609))/12) -> 23.25 | I609: 3000 | K609: 20750 | L609: =INDEX(Ancienneté!$C$2:$C$55,MATCH(G609,Ancienneté!$B$2:$B$55,1))*I609 -> 20100
F610: 0 | G610: =(YEAR(D610)-YEAR(B610))+((MONTH(D610)-MONTH(B610))/12) -> 0 | I610: 3000 | K610: 0 | L610: =INDEX(Ancienneté!$C$2:$C$55,MATCH(G610,Ancienneté!$B$2:$B$55,1))*I610 -> #N/A
F611: 0 | G611: =(YEAR(D611)-YEAR(B611))+((MONTH(D611)-MONTH(B611))/12) -> 0 | I611: 3000 | K611: 0 | L611: =INDEX(Ancienneté!$C$2:$C$55,MATCH(G611,Ancienneté!$B$2:$B$55,1))*I611 -> #N/A
F612: 0 | G612: =(YEAR(D612)-YEAR(B612))+((MONTH(D612)-MONTH(B612))/12) -> 0 | I612: 3000 | K612: 0 | L612: =INDEX(Ancienneté!$C$2:$C$55,MATCH(G612,Ancienneté!$B$2:$B$55,1))*I612 -> #N/A
F613: 0 | G613: =(YEAR(D613)-YEAR(B613))+((MONTH(D613)-MONTH(B613))/12) -> 0 | I613: 3000 | K613: 0 | L613: =INDEX(Ancienneté!$C$2:$C$55,MATCH(G613,Ancienneté!$B$2:$B$55,1))*I613 -> #N/A
F614: 0 | G614: =(YEAR(D614)-YEAR(B614))+((MONTH(D614)-MONTH(B614))/12) -> 0 | I614: 3000 | K614: 0 | L614: =INDEX(Ancienneté!$C$2:$C$55,MATCH(G614,Ancienneté!$B$2:$B$55,1))*I614 -> #N/A
F615: 0 | G615: =(YEAR(D615)-YEAR(B615))+((MONTH(D615)-MONTH(B615))/12) -> 0 | I615: 3000 | K615: 0 | L615: =INDEX(Ancienneté!$C$2:$C$55,MATCH(G615,Ancienneté!$B$2:$B$55,1))*I615 -> #N/A
F616: 0 | G616: =(YEAR(D616)-YEAR(B616))+((MONTH(D616)-MONTH(B616))/12) -> 0 | I616: 3000 | K616: 0 | L616: =INDEX(Ancienneté!$C$2:$C$55,MATCH(G616,Ancienneté!$B$2:$B$55,1))*I616 -> #N/A
F617: 0 | G617: =(YEAR(D617)-YEAR(B617))+((MONTH(D617)-MONTH(B617))/12) -> 0 | I617: 3000 | K617: 0 | L617: =INDEX(Ancienneté!$C$2:$C$55,MATCH(G617,Ancienneté!$B$2:$B$55,1))*I617 -> #N/A
F618: 0 | G618: =(YEAR(D618)-YEAR(B618))+((MONTH(D618)-MONTH(B618))/12) -> 0 | I618: 3000 | K618: 0 | L618: =INDEX(Ancienneté!$C$2:$C$55,MATCH(G618,Ancienneté!$B$2:$B$55,1))*I618 -> #N/A
F619: 0 | G619: =(YEAR(D619)-YEAR(B619))+((MONTH(D619)-MONTH(B619))/12) -> 0 | I619: 3000 | K619: 0 | L619: =INDEX(Ancienneté!$C$2:$C$55,MATCH(G619,Ancienneté!$B$2:$B$55,1))*I619 -> #N/A
F620: 0 | G620: =(YEAR(D620)-YEAR(B620))+((MONTH(D620)-MONTH(B620))/12) -> 0 | I620: 3000 | K620: 0 | L620: =INDEX(Ancienneté!$C$2:$C$55,MATCH(G620,Ancienneté!$B$2:$B$55,1))*I620 -> #N/A
F621: 0 | G621: =(YEAR(D621)-YEAR(B621))+((MONTH(D621)-MONTH(B621))/12) -> 0 | I621: 3000 | K621: 0 | L621: =INDEX(Ancienneté!$C$2:$C$55,MATCH(G621,Ancienneté!$B$2:$B$55,1))*I621 -> #N/A
... F798: 0 | G798: =(YEAR(D798)-YEAR(B798))+((MONTH(D798)-MONTH(B798))/12) -> 0 | I798: 3000 | K798: 0 | L798: =INDEX(Ancienneté!$C$2:$C$55,MATCH(G798,Ancienneté!$B$2:$B$55,1))*I798 -> #N/A

Sheet Majoration_Minoration
A3: Majoration de l’indemnité en fonction de l’âge et de l’ancienneté du salarié Plafond : 18 mois de salaire | H3: Au moins 50 ans et moins de 55 ans ET 5 ans d’ancienneté Majoration de 20 %. Plancher : 3 mois de salaire. Au moins 55 ans et moins de 60 ans ET 2 ans d’ancienneté Plancher : 2 mois de salaire. Au moins 55 ans et moins de 60 ans17 ET 5 ans d’ancienneté Majoration de 30 %. Plancher : 6 mois.
A4: Minoration de l’indemnité en fonction de l’âge du salarié18 | H4: Salarié âgé de : - 61 ans : minoration de 5 % - 62 ans : minoration de 10 % - 63 ans : minoration de 20% - 64 ans : minoration de 40 % Plancher : indemnité légale de licenciement

Sheet Barème retraite
A1: Indemnité de départ volontaire à la retraite
A2: 0.5 | B2: mois | C2: après | D2: 2 | E2: ans | F2: ancienneté
A3: 1 | B3: mois | C3: après | D3: 5 | E3: ans | F3: ancienneté
A4: 2 | B4: mois | C4: après | D4: 10 | E4: ans | F4: ancienneté
A5: 3 | B5: mois | C5: après | D5: 20 | E5: ans | F5: ancienneté
A6: 4 | B6: mois | C6: après | D6: 30 | E6: ans | F6: ancienneté
A7: 5 | B7: mois | C7: après | D7: 35 | E7: ans | F7: ancienneté
A8: 6 | B8: mois | C8: après | D8: 40 | E8: ans | F8: ancienneté

Sheet Ancienneté
A1: Ancienneté du salarié | B1: Montant de l’indemnité (en nombre de mois du salaire de référence) | C1: Montant de l’indemnité (en nombre de mois du salaire de référence)
A2: ≥ 1 an < 2 ans | B2: 1 | C2: 0.4
A3: ≥ 2 ans < 3 ans | B3: 2 | C3: 0.6
A4: ≥ 3 ans < 4 ans | B4: 3 | C4: 0.8
A5: ≥ 4 ans < 5 ans | B5: 4 | C5: 1
A6: ≥ 5 ans < 6 ans | B6: 5 | C6: 1.2
A7: ≥ 6 ans < 7 ans | B7: 6 | C7: 1.4
A8: ≥ 7 ans < 8 ans | B8: 7 | C8: 1.6
A9: ≥ 8 ans < 9 ans | B9: 8 | C9: 1.8
A10: ≥ 9 ans < 10 ans | B10: 9 | C10: 2
A11: ≥ 10 ans < 11 ans | B11: 10 | C11: 2.2
A12: ≥ 11 ans < 12 ans | B12: 11 | C12: 2.7
A13: ≥ 12 ans < 13 ans | B13: 12 | C13: 3
... A55: ≥ 54 ans < 55 ans | B55: 54 | C55: 17
