Workbook

Sheet Feuil1
A1: Identifiant commande | B1: N°commande | C1: Données manquantes
A2: MOD_202385 | B2: 82009490 | C2: =IF(OR(ISBLANK(INDEX(Feuil2!A:C,MATCH(B2,Feuil2!A:B,0))),ISNA(INDEX(Feuil2!A:C,MATCH(B2,Feuil2!A:B,0))))=TRUE,"Aucune",INDEX(Feuil2!A:C,MATCH(B2,Feuil2!A:B,0),2)) -> Aucune
A3: MOD_202361 | B3: 82154139 | C3: =IF(OR(ISBLANK(INDEX(Feuil2!A:C,MATCH(B3,Feuil2!A:B,0))),ISNA(INDEX(Feuil2!A:C,MATCH(B3,Feuil2!A:B,0))))=TRUE,"Aucune",INDEX(Feuil2!A:C,MATCH(B3,Feuil2!A:B,0),2)) -> Aucune
A4: MOD_202378 | B4: 82058123 | C4: =IF(OR(ISBLANK(INDEX(Feuil2!A:C,MATCH(B4,Feuil2!A:B,0))),ISNA(INDEX(Feuil2!A:C,MATCH(B4,Feuil2!A:B,0))))=TRUE,"Aucune",INDEX(Feuil2!A:C,MATCH(B4,Feuil2!A:B,0),2)) -> Aucune
A5: MOD_202361 | B5: 80175917 | C5: =IF(OR(ISBLANK(INDEX(Feuil2!A:C,MATCH(B5,Feuil2!A:B,0))),ISNA(INDEX(Feuil2!A:C,MATCH(B5,Feuil2!A:B,0))))=TRUE,"Aucune",INDEX(Feuil2!A:C,MATCH(B5,Feuil2!A:B,0),2)) -> Aucune
A6: MOD_202362 | B6: 75177452 | C6: =IF(OR(ISBLANK(INDEX(Feuil2!A:C,MATCH(B6,Feuil2!A:B,0))),ISNA(INDEX(Feuil2!A:C,MATCH(B6,Feuil2!A:B,0))))=TRUE,"Aucune",INDEX(Feuil2!A:C,MATCH(B6,Feuil2!A:B,0),2)) -> Aucune
A7: MOD_202433 | B7: 80122404 | C7: =IF(OR(ISBLANK(INDEX(Feuil2!A:C,MATCH(B7,Feuil2!A:B,0))),ISNA(INDEX(Feuil2!A:C,MATCH(B7,Feuil2!A:B,0))))=TRUE,"Aucune",INDEX(Feuil2!A:C,MATCH(B7,Feuil2!A:B,0),2)) -> Aucune
A8: MOD_202361 | B8: 69555696 | C8: =IF(OR(ISBLANK(INDEX(Feuil2!A:C,MATCH(B8,Feuil2!A:B,0))),ISNA(INDEX(Feuil2!A:C,MATCH(B8,Feuil2!A:B,0))))=TRUE,"Aucune",INDEX(Feuil2!A:C,MATCH(B8,Feuil2!A:B,0),2)) -> Aucune
A9: MOD_202361 | B9: 82058001 | C9: =IF(OR(ISBLANK(INDEX(Feuil2!A:C,MATCH(B9,Feuil2!A:B,0))),ISNA(INDEX(Feuil2!A:C,MATCH(B9,Feuil2!A:B,0))))=TRUE,"Aucune",INDEX(Feuil2!A:C,MATCH(B9,Feuil2!A:B,0),2)) -> Aucune
A10: MOD_202372 | B10: 82106164 | C10: =IF(OR(ISBLANK(INDEX(Feuil2!A:C,MATCH(B10,Feuil2!A:B,0))),ISNA(INDEX(Feuil2!A:C,MATCH(B10,Feuil2!A:B,0))))=TRUE,"Aucune",INDEX(Feuil2!A:C,MATCH(B10,Feuil2!A:B,0),2)) -> Aucune
A11: MOD_202361 | B11: 82004048 | C11: =IF(OR(ISBLANK(INDEX(Feuil2!A:C,MATCH(B11,Feuil2!A:B,0))),ISNA(INDEX(Feuil2!A:C,MATCH(B11,Feuil2!A:B,0))))=TRUE,"Aucune",INDEX(Feuil2!A:C,MATCH(B11,Feuil2!A:B,0),2)) -> Aucune
A12: MOD_202422 | B12: 70668381 | C12: =IF(OR(ISBLANK(INDEX(Feuil2!A:C,MATCH(B12,Feuil2!A:B,0))),ISNA(INDEX(Feuil2!A:C,MATCH(B12,Feuil2!A:B,0))))=TRUE,"Aucune",INDEX(Feuil2!A:C,MATCH(B12,Feuil2!A:B,0),2)) -> Aucune
A13: MOD_202400 | B13: 73287620 | C13: =IF(OR(ISBLANK(INDEX(Feuil2!A:C,MATCH(B13,Feuil2!A:B,0))),ISNA(INDEX(Feuil2!A:C,MATCH(B13,Feuil2!A:B,0))))=TRUE,"Aucune",INDEX(Feuil2!A:C,MATCH(B13,Feuil2!A:B,0),2)) -> Aucune
... A34: MOD_202361 | B34: 82106079 | C34: =IF(OR(ISBLANK(INDEX(Feuil2!A:C,MATCH(B34,Feuil2!A:B,0))),ISNA(INDEX(Feuil2!A:C,MATCH(B34,Feuil2!A:B,0))))=TRUE,"Aucune",INDEX(Feuil2!A:C,MATCH(B34,Feuil2!A:B,0),2)) -> Aucune

Sheet Feuil2
A1: N°commande | B1: Données manquantes
A2: 82009490 | B2: référence
A3: 82154139 | B3: stock
A4: 82058123 | B4: entrepôt
A5: 80175917
A6: 75177452 | B6: magasin
A7: 80122404
A8: 69555696
A9: 82058001 | B9: entrepôt
A10: 82106164 | B10: magasin
A11: 70668381 | B11: magasin
A12: 73287620 | B12: stock
A13: 82154737 | B13: référence
A14: 69087795
A15: 82106123 | B15: stock
A16: 69051542
A17: 71386343
A18: 82056044 | B18: stock
A19: 69093836 | B19: entrepôt
A20: 82050001
A21: 80177490 | B21: magasin
A22: 82058085 | B22: entrepôt
A23: 82175888 | B23: référence
A24: 70115381 | B24: stock
A25: 80000753 | B25: stock
A26: 80153956
A27: 75761742
A28: 82106079 | B28: magasin
