Workbook

Sheet Resultat
A1: Nom | B1: Multiple initial | C1: Nb | D1: Resultat
A2: Aaa | B2: 0.01 | C2: 5 | D2: =VLOOKUP(C2,Source!A1:J20,3,FALSE) -> 0.042 | E2: < devrait etre 4,2%
A3: Bbb | B3: 0.02 | C3: 2 | D3: =VLOOKUP(C3,Source!A2:J21,5,FALSE) -> 0.036 | E3: < devrait etre 3,6%
A4: Ccc | B4: 0.05 | C4: 10
A5: Ddd | B5: 0.02 | C5: 4
A6: Eee | B6: 0.03 | C6: 12
A7: Fff | B7: 0.03 | C7: 16
A8: Ggg | B8: 0.005 | C8: 20
A9: Hhh | B9: 0.025 | C9: 20
A10: Iii | B10: 0.025 | C10: 20 | E10: < devrait etre 25%
B11: 0.05 | C11: 12 | D11: =IF(B11=2.5%,INDEX(Source!#REF!,MATCH(C11,Source!$A$1:$A$20,0),16),"")
D12: =IF(B12=2.5%,INDEX(Source!#REF!,MATCH(C12,Source!$A$1:$A$20,0),16),"")
D13: =IF(B13=2.5%,INDEX(Source!#REF!,MATCH(C13,Source!$A$1:$A$20,0),16),"") | E13: En fonction du %tage en colonne B (repris sur feuille Source, ligne B1àJ1)
D14: =IF(B14=2.5%,INDEX(Source!#REF!,MATCH(C14,Source!$A$1:$A$20,0),16),"") | E14: et du nombre mis en colonne C (repris sur Source, de B2 à B21)
E15: cela me donne en colonne D le croisement de ces 2 données.
E16: Exemple: en D2, cela devrait donner 4,2% et en D3, 3,6%

Sheet Source
A1: 1 | B1: 0.005 | C1: 0.01 | D1: 0.015 | E1: 0.02 | F1: 0.025 | G1: 0.03 | H1: 0.04 | I1: 0.05 | J1: 0.06 | K1: 0.005 | L1: 0.01 | M1: 0.015 | N1: 0.02 | O1: 0.025 | P1: 0.03 | Q1: 0.04 | R1: 0.05 | S1: 0.06
A2: 2 | B2: 0.009 | C2: 0.018 | D2: 0.027 | E2: 0.036 | F2: 0.045 | G2: 0.054 | H2: 0.072 | I2: 0.09 | J2: 0.108 | K2: =B2-B1 -> 0.004 | L2: =C2-C1 -> 0.008 | M2: =D2-D1 -> 0.012 | N2: =E2-E1 -> 0.016 | O2: =F2-F1 -> 0.02 | P2: =G2-G1 -> 0.024 | Q2: =H2-H1 -> 0.032 | R2: =I2-I1 -> 0.04 | S2: =J2-J1 -> 0.048
A3: 3 | B3: 0.013 | C3: 0.026 | D3: 0.039 | E3: 0.052 | F3: 0.065 | G3: 0.078 | H3: 0.104 | I3: 0.12 | J3: 0.156 | K3: =B3-B2 -> 0.004 | L3: =C3-C2 -> 0.008 | M3: =D3-D2 -> 0.012 | N3: =E3-E2 -> 0.016 | O3: =F3-F2 -> 0.02 | P3: =G3-G2 -> 0.024 | Q3: =H3-H2 -> 0.032 | R3: =I3-I2 -> 0.03 | S3: =J3-J2 -> 0.048
A4: 4 | B4: 0.017 | C4: 0.034 | D4: 0.051 | E4: 0.068 | F4: 0.085 | G4: 0.102 | H4: 0.136 | I4: 0.17 | J4: 0.204 | K4: =B4-B3 -> 0.004 | L4: =C4-C3 -> 0.008 | M4: =D4-D3 -> 0.012 | N4: =E4-E3 -> 0.016 | O4: =F4-F3 -> 0.02 | P4: =G4-G3 -> 0.024 | Q4: =H4-H3 -> 0.032 | R4: =I4-I3 -> 0.05 | S4: =J4-J3 -> 0.048
A5: 5 | B5: 0.021 | C5: 0.042 | D5: 0.063 | E5: 0.084 | F5: 0.105 | G5: 0.126 | H5: 0.168 | I5: 0.2 | J5: 0.252 | K5: =B5-B4 -> 0.004 | L5: =C5-C4 -> 0.008 | M5: =D5-D4 -> 0.012 | N5: =E5-E4 -> 0.016 | O5: =F5-F4 -> 0.02 | P5: =G5-G4 -> 0.024 | Q5: =H5-H4 -> 0.032 | R5: =I5-I4 -> 0.03 | S5: =J5-J4 -> 0.048
A6: 6 | B6: 0.024 | C6: 0.048 | D6: 0.072 | E6: 0.096 | F6: 0.12 | G6: 0.144 | H6: 0.192 | I6: 0.23 | J6: 0.288 | K6: =B6-B5 -> 0.003 | L6: =C6-C5 -> 0.006 | M6: =D6-D5 -> 0.009 | N6: =E6-E5 -> 0.012 | O6: =F6-F5 -> 0.015 | P6: =G6-G5 -> 0.018 | Q6: =H6-H5 -> 0.024 | R6: =I6-I5 -> 0.03 | S6: =J6-J5 -> 0.036
A7: 7 | B7: 0.027 | C7: 0.054 | D7: 0.081 | E7: 0.108 | F7: 0.135 | G7: 0.162 | H7: 0.216 | I7: 0.27 | J7: 0.324 | K7: =B7-B6 -> 0.003 | L7: =C7-C6 -> 0.006 | M7: =D7-D6 -> 0.009 | N7: =E7-E6 -> 0.012 | O7: =F7-F6 -> 0.015 | P7: =G7-G6 -> 0.018 | Q7: =H7-H6 -> 0.024 | R7: =I7-I6 -> 0.04 | S7: =J7-J6 -> 0.036
A8: 8 | B8: 0.03 | C8: 0.06 | D8: 0.09 | E8: 0.12 | F8: 0.15 | G8: 0.18 | H8: 0.24 | I8: 0.3 | J8: 0.36 | K8: =B8-B7 -> 0.003 | L8: =C8-C7 -> 0.006 | M8: =D8-D7 -> 0.009 | N8: =E8-E7 -> 0.012 | O8: =F8-F7 -> 0.015 | P8: =G8-G7 -> 0.018 | Q8: =H8-H7 -> 0.024 | R8: =I8-I7 -> 0.03 | S8: =J8-J7 -> 0.036
A9: 9 | B9: 0.033 | C9: 0.066 | D9: 0.099 | E9: 0.132 | F9: 0.165 | G9: 0.198 | H9: 0.264 | I9: 0.33 | J9: 0.396 | K9: =B9-B8 -> 0.003 | L9: =C9-C8 -> 0.006 | M9: =D9-D8 -> 0.009 | N9: =E9-E8 -> 0.012 | O9: =F9-F8 -> 0.015 | P9: =G9-G8 -> 0.018 | Q9: =H9-H8 -> 0.024 | R9: =I9-I8 -> 0.03 | S9: =J9-J8 -> 0.036
A10: 10 | B10: 0.036 | C10: 0.072 | D10: 0.108 | E10: 0.144 | F10: 0.18 | G10: 0.216 | H10: 0.288 | I10: 0.36 | J10: 0.432 | K10: =B10-B9 -> 0.003 | L10: =C10-C9 -> 0.006 | M10: =D10-D9 -> 0.009 | N10: =E10-E9 -> 0.012 | O10: =F10-F9 -> 0.015 | P10: =G10-G9 -> 0.018 | Q10: =H10-H9 -> 0.024 | R10: =I10-I9 -> 0.03 | S10: =J10-J9 -> 0.036
A11: 11 | B11: 0.038 | C11: 0.076 | D11: 0.114 | E11: 0.152 | F11: 0.19 | G11: 0.228 | H11: 0.304 | I11: 0.38 | J11: 0.456 | K11: =B11-B10 -> 0.002 | L11: =C11-C10 -> 0.004 | M11: =D11-D10 -> 0.006 | N11: =E11-E10 -> 0.008 | O11: =F11-F10 -> 0.01 | P11: =G11-G10 -> 0.012 | Q11: =H11-H10 -> 0.016 | R11: =I11-I10 -> 0.02 | S11: =J11-J10 -> 0.024
A12: 12 | B12: 0.04 | C12: 0.08 | D12: 0.12 | E12: 0.16 | F12: 0.2 | G12: 0.24 | H12: 0.32 | I12: 0.4 | J12: 0.48 | K12: =B12-B11 -> 0.002 | L12: =C12-C11 -> 0.004 | M12: =D12-D11 -> 0.006 | N12: =E12-E11 -> 0.008 | O12: =F12-F11 -> 0.01 | P12: =G12-G11 -> 0.012 | Q12: =H12-H11 -> 0.016 | R12: =I12-I11 -> 0.02 | S12: =J12-J11 -> 0.024
A13: 13 | B13: 0.042 | C13: 0.084 | D13: 0.126 | E13: 0.168 | F13: 0.21 | G13: 0.252 | H13: 0.336 | I13: 0.42 | J13: 0.504 | K13: =B13-B12 -> 0.002 | L13: =C13-C12 -> 0.004 | M13: =D13-D12 -> 0.006 | N13: =E13-E12 -> 0.008 | O13: =F13-F12 -> 0.01 | P13: =G13-G12 -> 0.012 | Q13: =H13-H12 -> 0.016 | R13: =I13-I12 -> 0.02 | S13: =J13-J12 -> 0.024
... A20: 20 | B20: 0.05 | C20: 0.1 | D20: 0.15 | E20: 0.2 | F20: 0.25 | G20: 0.3 | H20: 0.4 | I20: 0.5 | J20: 0.6 | K20: =B20-B19 -> 0.001 | L20: =C20-C19 -> 0.002 | M20: =D20-D19 -> 0.003 | N20: =E20-E19 -> 0.004 | O20: =F20-F19 -> 0.005 | P20: =G20-G19 -> 0.006 | Q20: =H20-H19 -> 0.008 | R20: =I20-I19 -> 0.01 | S20: =J20-J19 -> 0.012
