Workbook

Sheet Page de garde
B3: 2018
E4: Liste de contrôle | F4: Date du contrôle | Q4: Home Le Chanet - La Chaux-de-Fonds
C6: 12.11 | D6: =IF('Page de garde'!#REF!=TRUE,P6,"") -> #REF! | E6: ='test CheckList'!D2 -> Protection du site | I6: =#REF! -> #REF! | J6: =IF('Page de garde'!#REF!=TRUE,I6,"") -> #REF! | K6: =IF('Page de garde'!#REF!=TRUE,#REF!,"") -> #REF! | L6: =M6 -> #REF! | M6: =#REF! -> #REF! | N6: % | P6: 1
D7: =IF('Page de garde'!#REF!=TRUE,P7,"") -> #REF! | E7: Outillage | I7: =#REF! -> #REF! | J7: =IF('Page de garde'!#REF!=TRUE,I7,"") -> #REF! | K7: =IF('Page de garde'!#REF!=TRUE,#REF!,"") -> #REF! | L7: =M7 -> #REF! | M7: =#REF! -> #REF! | N7: % | P7: 1
D8: =IF('Page de garde'!#REF!=TRUE,P8,"") -> #REF! | E8: Véhicule | I8: =#REF! -> #REF! | J8: =IF('Page de garde'!#REF!=TRUE,I8,"") -> #REF! | K8: =IF('Page de garde'!#REF!=TRUE,#REF!,"") -> #REF! | L8: =M8 -> #REF! | M8: =#REF! -> #REF! | N8: % | P8: 1
D9: =IF('Page de garde'!#REF!=TRUE,P9,"") -> #REF! | E9: Chambre des résidents | I9: =#REF! -> #REF! | J9: =IF('Page de garde'!#REF!=TRUE,I9,"") -> #REF! | K9: =IF('Page de garde'!#REF!=TRUE,#REF!,"") -> #REF! | L9: =M9 -> #REF! | M9: =#REF! -> #REF! | N9: % | P9: 1
E10: Quai de chargement | I10: =#REF! -> #REF! | M10: =#REF! -> #REF! | N10: %
E11: Voies d'accès | I11: =#REF! -> #REF! | M11: =#REF! -> #REF! | N11: %
E12: ... | I12: =#REF! -> #REF! | M12: =#REF! -> #REF! | N12: %
E13: ... | I13: =#REF! -> #REF! | M13: =#REF! -> #REF! | N13: %
E14: ... | I14: =#REF! -> #REF! | M14: =#REF! -> #REF! | N14: %
E15: ... | I15: =#REF! -> #REF! | M15: =#REF! -> #REF! | N15: %
E16: ... | I16: =#REF! -> #REF! | M16: =#REF! -> #REF! | N16: %
E17: ... | I17: =#REF! -> #REF! | M17: =#REF! -> #REF! | N17: %
E18: ... | I18: =#REF! -> #REF! | M18: =#REF! -> #REF! | N18: %
E19: ... | I19: =#REF! -> #REF! | M19: =#REF! -> #REF! | N19: %
E20: ... | I20: =#REF! -> #REF! | M20: =#REF! -> #REF! | N20: %
E21: ... | I21: =#REF! -> #REF! | M21: =#REF! -> #REF! | N21: %
... E23: ... | I23: =#REF! -> #REF! | M23: =#REF! -> #REF! | N23: %
D24: =IF('Page de garde'!#REF!=TRUE,P24,"") -> #REF! | E24: ... | I24: =#REF! -> #REF! | M24: =#REF! -> #REF! | N24: % | P24: 1
D25: =IF('Page de garde'!#REF!=TRUE,P25,"") -> #REF! | E25: ... | I25: =#REF! -> #REF! | J25: =IF('Page de garde'!#REF!=TRUE,I25,"") -> #REF! | K25: =IF('Page de garde'!#REF!=TRUE,#REF!,"") -> #REF! | L25: =M25 -> #REF! | M25: =#REF! -> #REF! | N25: % | P25: 1
D26: =IF('Page de garde'!#REF!=TRUE,P26,"") -> #REF! | E26: Feu JANVIER | I26: =#REF! -> #REF! | J26: =IF('Page de garde'!#REF!=TRUE,I26,"") -> #REF! | K26: =IF('Page de garde'!#REF!=TRUE,#REF!,"") -> #REF! | L26: =M26 -> #REF! | M26: =#REF! -> #REF! | N26: % | P26: 1
D27: =IF('Page de garde'!#REF!=TRUE,P27,"") -> #REF! | E27: Feu FEVRIER | I27: ='test CheckList'!#REF! -> #REF! | J27: =IF('Page de garde'!#REF!=TRUE,I27,"") -> #REF! | K27: =IF('Page de garde'!#REF!=TRUE,#REF!,"") -> #REF! | L27: =M27 -> #REF! | M27: =#REF! -> #REF! | N27: % | P27: 1
D28: =IF('Page de garde'!#REF!=TRUE,P28,"") -> #REF! | E28: Feu MARS | I28: =#REF! -> #REF! | J28: =IF('Page de garde'!#REF!=TRUE,I28,"") -> #REF! | K28: =IF('Page de garde'!#REF!=TRUE,#REF!,"") -> #REF! | L28: =M28 -> #REF! | M28: =#REF! -> #REF! | N28: % | P28: 1
D29: =IF('Page de garde'!#REF!=TRUE,P29,"") -> #REF! | E29: Feu AVRIL | I29: =#REF! -> #REF! | J29: =IF('Page de garde'!#REF!=TRUE,I29,"") -> #REF! | K29: =IF('Page de garde'!#REF!=TRUE,#REF!,"") -> #REF! | L29: =M29 -> #REF! | M29: =#REF! -> #REF! | N29: % | P29: 1 | EB29: TRUE
D30: =IF('Page de garde'!#REF!=TRUE,P30,"") -> #REF! | E30: Feu MAI | I30: =#REF! -> #REF! | J30: =IF('Page de garde'!#REF!=TRUE,I30,"") -> #REF! | K30: =IF('Page de garde'!#REF!=TRUE,#REF!,"") -> #REF! | L30: =M30 -> #REF! | M30: =#REF! -> #REF! | N30: % | P30: 1
D31: =IF('Page de garde'!#REF!=TRUE,P31,"") -> #REF! | E31: Feu JUIN | I31: =#REF! -> #REF! | J31: =IF('Page de garde'!#REF!=TRUE,I31,"") -> #REF! | K31: =IF('Page de garde'!#REF!=TRUE,#REF!,"") -> #REF! | L31: =M31 -> #REF! | M31: =#REF! -> #REF! | N31: % | P31: 1
D32: =IF('Page de garde'!#REF!=TRUE,P32,"") -> #REF! | E32: Feu JUILLET | I32: =#REF! -> #REF! | J32: =IF('Page de garde'!#REF!=TRUE,I32,"") -> #REF! | K32: =IF('Page de garde'!#REF!=TRUE,#REF!,"") -> #REF! | L32: =M32 -> #REF! | M32: =#REF! -> #REF! | N32: % | P32: 1
D33: =IF('Page de garde'!#REF!=TRUE,P33,"") -> #REF! | E33: Feu AOUT | I33: =#REF! -> #REF! | J33: =IF('Page de garde'!#REF!=TRUE,I33,"") -> #REF! | K33: =IF('Page de garde'!#REF!=TRUE,#REF!,"") -> #REF! | L33: =M33 -> #REF! | M33: =#REF! -> #REF! | N33: % | P33: 1
E34: Feu SEPTEMBRE | I34: =#REF! -> #REF! | M34: =#REF! -> #REF! | N34: %
E35: Feu OCTOBRE | I35: =#REF! -> #REF! | M35: =#REF! -> #REF! | N35: %
E36: Feu NOVEMBRE | I36: =#REF! -> #REF! | M36: =#REF! -> #REF! | N36: %
E37: Feu DECEMBRE | I37: =#REF! -> #REF! | M37: =#REF! -> #REF! | N37: %
D38: =IF('Page de garde'!#REF!=TRUE,P38,"") -> #REF! | E38: Feu semestriel 1 | I38: =#REF! -> #REF! | J38: =IF('Page de garde'!#REF!=TRUE,I38,"") -> #REF! | K38: =IF('Page de garde'!#REF!=TRUE,#REF!,"") -> #REF! | L38: =M38 -> #REF! | M38: =#REF! -> #REF! | N38: % | P38: 1
D39: =IF('Page de garde'!#REF!=TRUE,P39,"") -> #REF! | E39: Feu semestriel 2 | I39: =#REF! -> #REF! | J39: =IF('Page de garde'!#REF!=TRUE,I39,"") -> #REF! | K39: =IF('Page de garde'!#REF!=TRUE,#REF!,"") -> #REF! | L39: =M39 -> #REF! | M39: =#REF! -> #REF! | N39: % | P39: 1
D40: =IF('Page de garde'!#REF!=TRUE,P40,"") -> #REF! | E40: Feu annuel | I40: =#REF! -> #REF! | J40: =IF('Page de garde'!#REF!=TRUE,I40,"") -> #REF! | K40: =IF('Page de garde'!#REF!=TRUE,#REF!,"") -> #REF! | L40: =M40 -> #REF! | M40: =#REF! -> #REF! | N40: % | P40: 1
D42: =SUM(D6:D40) -> #REF! | F42: Totaux | I42: =SUM(J6:J40) -> #REF! | M42: =SUM(M6:M40)/16 -> #REF! | N42: %

Sheet test CheckList
B2: ='Page de garde'!C6 -> 12.11 | D2: Protection du site | K2: TRUE | P2: FALSE | R2: FALSE | S2: Hebdomadaire
K3: TRUE | P3: FALSE | R3: FALSE | S3: Mensuel
B4: Nom de l'établissement : | H4: Home Le Chanet - Grenoble | K4: Contrôlé par : | R4: FALSE | S4: Trimestriel | W4: Sans suite
B5: Secteur(s) analysé(s) : | H5: Tout le home, sauf les chambres | K5: Date : | S5: Semestriel | W5: Mesure à appliquer
P6: TRUE | R6: TRUE | S6: Annuel | W6: Rapport n° RA ...
C8: Description - Points à contrôler | K8: OUI | L8: Part. | M8: NON | N8: nc | Q8: COMPLEMENT D'INFORMATION
B9: 1 | C9: Extérieur
A10: 1 | B10: 1.1 | C10: =U10 -> Le bord supérieur de la clôture ou du mur est-il dépourvu d’arête vive pouvant blesser une personne ? | K10: TRUE | L10: FALSE | M10: FALSE | N10: FALSE | O10: =IF(K10=TRUE,2,IF(M10=TRUE,0,IF(N10=TRUE,"NC",""))) -> 2 | Q10: =IF('test CheckList'!K10=TRUE,V10,IF('test CheckList'!M10=TRUE,W10,IF('test CheckList'!N10=TRUE,Y10,""))) -> En Ordre | U10: Le bord supérieur de la clôture ou du mur est-il dépourvu d’arête vive pouvant blesser une personne ? | V10: En Ordre | W10: Comment faire pour y remédier | X10: Comment améliorer la situation ? | Y10: Non concerné | Z10: Partiellement
A11: 1 | B11: 1.2 | C11: =U11 -> La clôture et le mur sont-ils construits de telle sorte qu'ils n'offrent aucune possibilité d'escalade ? | K11: FALSE | L11: TRUE | M11: FALSE | N11: FALSE | O11: =IF(K11=TRUE,2,IF(M11=TRUE,0,IF(N11=TRUE,"NC",""))) | Q11: =IF('test CheckList'!K11=TRUE,V11,IF('test CheckList'!M11=TRUE,W11,IF('test CheckList'!N11=TRUE,Y11,""))) | R11: Sans suite | S11: -- | U11: La clôture et le mur sont-ils construits de telle sorte qu'ils n'offrent aucune possibilité d'escalade ? | V11: En Ordre | W11: Comment faire pour y remédier | X11: Comment améliorer la situation ? | Y11: Non concerné | Z11: Partiellement
A12: 1 | B12: 1.3 | C12: Les entrées sont-elles suffisamment éclairées par un éclairage extérieur ? | K12: FALSE | L12: FALSE | M12: TRUE | N12: FALSE | O12: =IF(K12=TRUE,2,IF(M12=TRUE,0,IF(N12=TRUE,"NC",""))) -> 0 | Q12: =IF('test CheckList'!K12=TRUE,V12,IF('test CheckList'!M12=TRUE,W12,IF('test CheckList'!N12=TRUE,Y12,""))) -> Comment faire pour y remédier | R12: Rapport n° RA ... | S12: RA 2018-001 | U12: Le bord supérieur de la clôture ou du mur est-il dépourvu d’arête vive pouvant blesser une personne ? | V12: En Ordre | W12: Comment faire pour y remédier | X12: Comment améliorer la situation ? | Y12: Non concerné | Z12: Partiellement
A13: 1 | B13: 1.4 | C13: Les robinets d'eau se trouvant à l'extérieur peuvent-ils être fermés par un robinet intérieur afin d'éviter des actes de malveillance ? | K13: FALSE | L13: FALSE | M13: FALSE | N13: TRUE | O13: =IF(K13=TRUE,2,IF(M13=TRUE,0,IF(N13=TRUE,"NC",""))) -> NC | Q13: =IF('test CheckList'!K13=TRUE,V13,IF('test CheckList'!M13=TRUE,W13,IF('test CheckList'!N13=TRUE,Y13,""))) -> Non concerné | R13: Mesure à appliquer | S13: Mettre un robinet intérieur | U13: La clôture et le mur sont-ils construits de telle sorte qu'ils n'offrent aucune possibilité d'escalade ? | V13: En Ordre | W13: Comment faire pour y remédier | X13: Comment améliorer la situation ? | Y13: Non concerné | Z13: Partiellement
B14: =SUM(A10:A13) -> 4 | J14: ........ %
C15: Signature : | K15: 1 | L15: 0.5 | M15: 0 | N15: 0
