Workbook
Name SELECTION: #REF!

Sheet 01-03 industrie1
T7: =T12/G13 -> #DIV/0!
T8: =T12/G69 -> #DIV/0!
R12: =SUM(K12:K105) -> 0 | S12: 861.16748 | T12: =+R12-S12 -> -861.16748 | V12: =+R12*1.5/S12 -> 0
R116: =SUM(K116:K123) -> 0 | S116: 0 | T116: =+R116-S116 -> 0 | V116: =+R116*5/S116 -> #DIV/0!
R126: =SUM(K126:K128) -> 0 | S126: =S162 -> 0 | T126: =+R126-S126 -> 0 | V126: =+R126*5/S126 -> #DIV/0!
R131: =SUM(K131:K135) -> 0 | S131: =S164 -> 0 | T131: =+R131-S131 -> 0 | V131: =+R131*1/S131 -> #DIV/0!
R140: =+K140 -> 0 | S140: =S166 -> 0 | T140: =+R140-S140 -> 0 | V140: =+R140*1.5/S140 -> #DIV/0!
I157: =SUM(I12:I156) -> 0 | J157: =SUM(J12:J156) -> 0 | K157: =SUM(K12:K156) -> 0 | L157: =SUM(L12:L156) -> 0 | P157: 0.749819
B158: ………………………………………. | I158: =+K158 -> 0 | K158: 0
I159: =+I158-I157 -> 0 | K159: =+K158-K157 -> 0
S160: 0
S162: 0
S164: 0
S166: 0
D168: 1.5006406

Sheet 01-03 industrie2
S7: AROM | T7: =T12/G13 -> #DIV/0!
S8: MAMZOUJ | T8: =T12/G69 -> #DIV/0!
R12: =SUM(K12:K105) -> 0 | S12: 0 | T12: =+R12-S12 -> 0 | V12: =+R12*1.5/S12 -> #DIV/0!
R116: =SUM(K116:K123) -> 0 | S116: 0 | T116: =+R116-S116 -> 0 | V116: =+R116*5/S116 -> #DIV/0!
R126: =SUM(K126:K128) -> 0 | S126: =S162 -> 0 | T126: =+R126-S126 -> 0 | V126: =+R126*5/S126 -> #DIV/0!
R131: =SUM(K131:K135) -> 0 | S131: =S164 -> 0 | T131: =+R131-S131 -> 0 | V131: =+R131*1/S131 -> #DIV/0!
R140: =+K140 -> 0 | S140: =S166 -> 0 | T140: =+R140-S140 -> 0 | V140: =+R140*1.5/S140 -> #DIV/0!
D157: =SUM(D12:D156) -> 0 | I157: =SUM(I12:I156) -> 0 | J157: =SUM(J12:J156) -> 0 | K157: 450.37002 | L157: =SUM(L12:L156) -> 0 | P157: 0
B158: ………………………………………. | D158: =+L157 -> 0 | I158: =+K158 -> 0 | K158: 0
D159: 0 | I159: =+I158-I157 -> 0 | K159: -450.37002
D160: 0 | S160: 0
D161: =SUM(D158:D160) -> 0
B162: CHAUFFEUR : | D162: 0 | S162: 0
B163: MATRICULE CAMION : | D163: 0
B164: RETOUR CAISSES BLEUES : | D164: =+D162+D163 -> 0 | S164: 0
B165: RETOUR CAISSES DESSERT : | D165: 0
B166: RETOUR EUROPALETTE : | D166: =+D164+D161+D165 -> 0 | S166: 0
B167: RETOUR P GROUPE DELICE :

Sheet 02-03 industrie1
S7: AROM | T7: =T12/G13 -> #DIV/0!
S8: MAMZOUJ | T8: =T12/G69 -> #DIV/0!
R12: =SUM(K12:K105) -> 0 | S12: 0 | T12: =+R12-S12 -> 0 | V12: =+R12*1.5/S12 -> #DIV/0!
R116: =SUM(K116:K123) -> 0 | S116: 0 | T116: =+R116-S116 -> 0 | V116: =+R116*5/S116 -> #DIV/0!
R126: =SUM(K126:K128) -> 0 | S126: =S162 -> 0 | T126: =+R126-S126 -> 0 | V126: =+R126*5/S126 -> #DIV/0!
R131: =SUM(K131:K135) -> 0 | S131: =S164 -> 0 | T131: =+R131-S131 -> 0 | V131: =+R131*1/S131 -> #DIV/0!
R140: =+K140 -> 0 | S140: =S166 -> 0 | T140: =+R140-S140 -> 0 | V140: =+R140*1.5/S140 -> #DIV/0!
D157: =SUM(D12:D156) -> 0 | I157: =SUM(I12:I156) -> 0 | J157: =SUM(J12:J156) -> 0 | K157: 254.0669 | L157: =SUM(L12:L156) -> 0 | P157: 0
B158: ………………………………………. | D158: =+L157 -> 0 | I158: =+K158 -> 0 | K158: 0
D159: 0 | I159: =+I158-I157 -> 0 | K159: -254.0669
D160: 0 | S160: 0
D161: =SUM(D158:D160) -> 0
B162: CHAUFFEUR : | D162: 0 | S162: 0
B163: MATRICULE CAMION : | D163: 0
B164: RETOUR CAISSES BLEUES : | D164: =+D162+D163 -> 0 | S164: 0
B165: RETOUR CAISSES DESSERT : | D165: 0
B166: RETOUR EUROPALETTE : | D166: =+D164+D161+D165 -> 0 | S166: 0
B167: RETOUR P GROUPE DELICE :

Sheet 02-03 industrie3
S7: AROM | T7: =T12/G13 -> #DIV/0!
S8: MAMZOUJ | T8: =T12/G69 -> #DIV/0!
R12: =SUM(K12:K105) -> 0 | S12: 0 | T12: =+R12-S12 -> 0 | V12: =+R12*1.5/S12 -> #DIV/0!
R116: =SUM(K116:K123) -> 0 | S116: 0 | T116: =+R116-S116 -> 0 | V116: =+R116*5/S116 -> #DIV/0!
R126: =SUM(K126:K128) -> 0 | S126: =S162 -> 0 | T126: =+R126-S126 -> 0 | V126: =+R126*5/S126 -> #DIV/0!
R131: =SUM(K131:K135) -> 0 | S131: =S164 -> 0 | T131: =+R131-S131 -> 0 | V131: =+R131*1/S131 -> #DIV/0!
R140: =+K140 -> 0 | S140: =S166 -> 0 | T140: =+R140-S140 -> 0 | V140: =+R140*1.5/S140 -> #DIV/0!
D157: =SUM(D12:D156) -> 0 | I157: =SUM(I12:I156) -> 0 | J157: =SUM(J12:J156) -> 0 | K157: 254.0669 | L157: =SUM(L12:L156) -> 0 | P157: 0
B158: ………………………………………. | D158: =+L157 -> 0 | I158: =+K158 -> 0 | K158: 0
D159: 0 | I159: =+I158-I157 -> 0 | K159: -254.0669
D160: 0 | S160: 0
D161: =SUM(D158:D160) -> 0
B162: CHAUFFEUR : | D162: 0 | S162: 0
B163: MATRICULE CAMION : | D163: 0
B164: RETOUR CAISSES BLEUES : | D164: =+D162+D163 -> 0 | S164: 0
B165: RETOUR CAISSES DESSERT : | D165: 0
B166: RETOUR EUROPALETTE : | D166: =+D164+D161+D165 -> 0 | S166: 0
B167: RETOUR P GROUPE DELICE :

Sheet RECAP
D4: chaque jour je dois faire la liaison des formules dans les cellules rouges aux feuilles correspondantes selon la date et l'industrie
D6: j'aime bien que la formule s'automatise pour lire la feuille selon la date (colonne B)etl'industrie (colonne A)
A10: NON DU FOURNISSEUR | B10: DATE
A11: industrie1 | B11: 43525 | F11: ='01-03 industrie1'!$D$168 -> 1.5006406 | G11: ='01-03 industrie1'!$K$157 -> 0 | H11: ='01-03 industrie1'!$K$158 -> 0 | I11: ='01-03 industrie1'!$K$159 -> 0 | J11: =I11 -> 0 | K11: ='01-03 industrie1'!$P$157 -> 0.749819
A12: industrie2 | B12: 43525 | F12: ='01-03 industrie2'!$D$168 -> 0 | G12: ='01-03 industrie2'!$K$157 -> 450.37002 | H12: ='01-03 industrie2'!$K$158 -> 0 | I12: ='01-03 industrie2'!$K$159 -> -450.37002 | J12: =I12 -> -450.37002 | K12: ='01-03 industrie2'!$P$157 -> 0
A13: industrie1 | B13: 43526 | F13: ='02-03 industrie1'!$D$168 -> 0 | G13: ='02-03 industrie1'!$K$157 -> 254.0669 | H13: ='02-03 industrie1'!$K$158 -> 0 | I13: ='02-03 industrie1'!$K$159 -> -254.0669 | J13: =I13 -> -254.0669 | K13: ='02-03 industrie1'!$P$157 -> 0
A14: industrie3 | B14: 43526 | F14: ='02-03 industrie1'!$D$168 -> 0 | G14: ='02-03 industrie3'!$K$157 -> 254.0669 | H14: ='02-03 industrie3'!$K$158 -> 0 | I14: ='02-03 industrie3'!$K$159 -> -254.0669 | J14: =I14 -> -254.0669 | K14: ='02-03 industrie3'!$P$157 -> 0

Sheet RECAP 2
C3: meme probleme que la feuille recap
B7: =TODAY() -> 43528 | C7: indsutrie1 | D7: indsutrie2 | E7: indsutrie1 | F7: indsutrie3 | G7: =IF(SUM(G12:G44)<>0,"STIAL",IF(SUM(G45:G46,G48,G51:G52)<>0,"CLC",IF(SUM(G49,G90)<>0,"CLN",IF(SUM(G50,G91)<>0,"CLSB",IF(SUM(G53:G88)<>0,"CF","")))))
B8: DATE | C8: 43525 | D8: 43525 | E8: 43526 | F8: 43526
A9: CODE | B9: N° BON Xtension
B10: N° BON MANUEL
B11: CHAUFFEUR
C12: =IFERROR(VLOOKUP($A12,[1]industrie1!$X:$AA,4,FALSE),0) -> 0 | D12: =IFERROR(VLOOKUP($A12,[1]industrie1!$X:$AA,4,FALSE),0) -> 0 | E12: =IFERROR(VLOOKUP($A12,[1]industrie1!$X:$AA,4,FALSE),0) -> 0 | F12: =IFERROR(VLOOKUP($A12,[1]industrie1!$X:$AA,4,FALSE),0) -> 0
C13: =IFERROR(VLOOKUP($A13,#REF!,4,FALSE),0) -> 0 | D13: =IFERROR(VLOOKUP($A13,#REF!,4,FALSE),0) -> 0 | E13: =IFERROR(VLOOKUP($A13,#REF!,4,FALSE),0) -> 0 | F13: =IFERROR(VLOOKUP($A13,#REF!,4,FALSE),0) -> 0
C14: =IFERROR(VLOOKUP($A14,#REF!,4,FALSE),0) -> 0 | D14: =IFERROR(VLOOKUP($A14,#REF!,4,FALSE),0) -> 0 | E14: =IFERROR(VLOOKUP($A14,#REF!,4,FALSE),0) -> 0 | F14: =IFERROR(VLOOKUP($A14,#REF!,4,FALSE),0) -> 0
C15: =IFERROR(VLOOKUP($A15,#REF!,4,FALSE),0) -> 0 | D15: =IFERROR(VLOOKUP($A15,#REF!,4,FALSE),0) -> 0 | E15: =IFERROR(VLOOKUP($A15,#REF!,4,FALSE),0) -> 0 | F15: =IFERROR(VLOOKUP($A15,#REF!,4,FALSE),0) -> 0
C16: =IFERROR(VLOOKUP($A16,#REF!,4,FALSE),0) -> 0 | D16: =IFERROR(VLOOKUP($A16,#REF!,4,FALSE),0) -> 0 | E16: =IFERROR(VLOOKUP($A16,#REF!,4,FALSE),0) -> 0 | F16: =IFERROR(VLOOKUP($A16,#REF!,4,FALSE),0) -> 0
C17: =IFERROR(VLOOKUP($A17,#REF!,4,FALSE),0) -> 0 | D17: =IFERROR(VLOOKUP($A17,#REF!,4,FALSE),0) -> 0 | E17: =IFERROR(VLOOKUP($A17,#REF!,4,FALSE),0) -> 0 | F17: =IFERROR(VLOOKUP($A17,#REF!,4,FALSE),0) -> 0
C18: =IFERROR(VLOOKUP($A18,#REF!,4,FALSE),0) -> 0 | D18: =IFERROR(VLOOKUP($A18,#REF!,4,FALSE),0) -> 0 | E18: =IFERROR(VLOOKUP($A18,#REF!,4,FALSE),0) -> 0 | F18: =IFERROR(VLOOKUP($A18,#REF!,4,FALSE),0) -> 0
C19: =IFERROR(VLOOKUP($A19,#REF!,4,FALSE),0) -> 0 | D19: =IFERROR(VLOOKUP($A19,#REF!,4,FALSE),0) -> 0 | E19: =IFERROR(VLOOKUP($A19,#REF!,4,FALSE),0) -> 0 | F19: =IFERROR(VLOOKUP($A19,#REF!,4,FALSE),0) -> 0
C20: =IFERROR(VLOOKUP($A20,#REF!,4,FALSE),0) -> 0 | D20: =IFERROR(VLOOKUP($A20,#REF!,4,FALSE),0) -> 0 | E20: =IFERROR(VLOOKUP($A20,#REF!,4,FALSE),0) -> 0 | F20: =IFERROR(VLOOKUP($A20,#REF!,4,FALSE),0) -> 0
C21: =IFERROR(VLOOKUP($A21,#REF!,4,FALSE),0) -> 0 | D21: =IFERROR(VLOOKUP($A21,#REF!,4,FALSE),0) -> 0 | E21: =IFERROR(VLOOKUP($A21,#REF!,4,FALSE),0) -> 0 | F21: =IFERROR(VLOOKUP($A21,#REF!,4,FALSE),0) -> 0
C22: =IFERROR(VLOOKUP($A22,#REF!,4,FALSE),0) -> 0 | D22: =IFERROR(VLOOKUP($A22,#REF!,4,FALSE),0) -> 0 | E22: =IFERROR(VLOOKUP($A22,#REF!,4,FALSE),0) -> 0 | F22: =IFERROR(VLOOKUP($A22,#REF!,4,FALSE),0) -> 0
C23: =IFERROR(VLOOKUP($A23,#REF!,4,FALSE),0) -> 0 | D23: =IFERROR(VLOOKUP($A23,#REF!,4,FALSE),0) -> 0 | E23: =IFERROR(VLOOKUP($A23,#REF!,4,FALSE),0) -> 0 | F23: =IFERROR(VLOOKUP($A23,#REF!,4,FALSE),0) -> 0
C24: =IFERROR(VLOOKUP($A24,#REF!,4,FALSE),0) -> 0 | D24: =IFERROR(VLOOKUP($A24,#REF!,4,FALSE),0) -> 0 | E24: =IFERROR(VLOOKUP($A24,#REF!,4,FALSE),0) -> 0 | F24: =IFERROR(VLOOKUP($A24,#REF!,4,FALSE),0) -> 0
... C88: =IFERROR(VLOOKUP($A88,#REF!,4,FALSE),0) -> 0 | D88: =IFERROR(VLOOKUP($A88,#REF!,4,FALSE),0) -> 0 | E88: =IFERROR(VLOOKUP($A88,#REF!,4,FALSE),0) -> 0 | F88: =IFERROR(VLOOKUP($A88,#REF!,4,FALSE),0) -> 0

Sheet Feuil2
