Workbook
Name denomination: 'info fiche matériel'!$F$4:$F$1048576

Sheet info fiche matériel
A1: Client: | B1: PATRIMOINE | E1: Informations pour fiche matériel
A2: code site | B2: nom site | C2: Adresse | D2: Localisation | E2: code équipement | F2: dénomination | G2: type | H2: Description | I2: CTA | J2: marque | K2: CARACTERISTIQUE | L2: référence | M2: état | N2: date de mise en service | O2: Caractéristique | P2: Alimentation Elec | Q2: régulation | R2: Intensité par phase pompe1 | S2: Intensité par phase pompe2 | T2: Intensité par phase pompe3 | U2: Intensité par phase chaudière1 | V2: Intensité par phase chaudière2 | W2: Intensité par phase chaudière3 | X2: Pression du foyer chaudière | Y2: Pression amont/aval gaz | Z2: Pression à vide du vase d'expansion
A3: EX-3181 | B3: SIEGE SOCIAL - PATRIMOINE | C3: 5 PLACE DE LA PERGOLA, 31500, TOULOUSE | D3: Chaufferie située au sous-sol | E3: 4041_02 | F3: =CONCATENATE(Tableau1[[#This Row],[type]]," - ",Tableau1[[#This Row],[nom site]]) -> CHAUDIERE GAZ - SIEGE SOCIAL - PATRIMOINE | G3: CHAUDIERE GAZ | H3: CHAUDIERE GAZ APPOINT | J3: GUILLOT | K3: Chaudière basse température, 115 kW | L3: GUILLOT OPTIMAGAZ Type G | M3: Bon état | N3: 2014 | Q3: Gestion cascade : Régulateur SAUTER EY-AS525F001
A4: EX-3181 | B4: SIEGE SOCIAL - PATRIMOINE | C4: 5 PLACE DE LA PERGOLA, 31500, TOULOUSE | D4: Chaufferie située au sous-sol | F4: =CONCATENATE(Tableau1[[#This Row],[type]]," - ",Tableau1[[#This Row],[nom site]]) -> ALIMENTATION BOIS - SIEGE SOCIAL - PATRIMOINE | G4: ALIMENTATION BOIS | H4: ALIMENTATION BOIS | J4: HARGASSNER | K4: textile | L4: SILOT + VIS SANS FIN | N4: 2014
A5: EX-3181 | B5: SIEGE SOCIAL - PATRIMOINE | C5: 5 PLACE DE LA PERGOLA, 31500, TOULOUSE | D5: Chaufferie située au sous-sol | E5: 4041_01 | F5: =CONCATENATE(Tableau1[[#This Row],[type]]," - ",Tableau1[[#This Row],[nom site]]) -> CHAUDIERE BOIS - SIEGE SOCIAL - PATRIMOINE | G5: CHAUDIERE BOIS | H5: CHAUDIERE BOIS | J5: HARGASSNER | K5: 60 kW | L5: HARGASSNER LAMBDA CLASSIC | N5: 2014
A6: EX-3181 | B6: SIEGE SOCIAL - PATRIMOINE | C6: 5 PLACE DE LA PERGOLA, 31500, TOULOUSE | D6: Chaufferie située au sous-sol | F6: =CONCATENATE(Tableau1[[#This Row],[type]]," - ",Tableau1[[#This Row],[nom site]]) -> POMPE DOUBLE - SIEGE SOCIAL - PATRIMOINE | G6: POMPE DOUBLE | H6: Pompe double à variation de débit Circuit CTA | J6: GRUNDFOS | K6: MAGNA3 D 32-60 | L6: GRUNDFOS MAGNA3 D 32-60 | N6: 2014
A7: EX-3181 | B7: SIEGE SOCIAL - PATRIMOINE | C7: 5 PLACE DE LA PERGOLA, 31500, TOULOUSE | D7: Chaufferie située au sous-sol | F7: =CONCATENATE(Tableau1[[#This Row],[type]]," - ",Tableau1[[#This Row],[nom site]]) -> POMPE DOUBLE - SIEGE SOCIAL - PATRIMOINE | G7: POMPE DOUBLE | H7: Pompe double à variation de débit Circuit radiateur | J7: GRUNDFOS | K7: MAGNA1 D 40-60F | L7: GRUNDFOS MAGNA1 D 40-60F | N7: 2014
A8: EX-3181 | B8: SIEGE SOCIAL - PATRIMOINE | C8: 5 PLACE DE LA PERGOLA, 31500, TOULOUSE | D8: Chaufferie située au sous-sol | F8: =CONCATENATE(Tableau1[[#This Row],[type]]," - ",Tableau1[[#This Row],[nom site]]) -> V3V - SIEGE SOCIAL - PATRIMOINE | G8: V3V | H8: V3V de régulation | N8: 2014
A9: EX-3181 | B9: SIEGE SOCIAL - PATRIMOINE | C9: 5 PLACE DE LA PERGOLA, 31500, TOULOUSE | D9: Dans les combles | E9: 4041_04_A | F9: =CONCATENATE(Tableau1[[#This Row],[type]]," - ",Tableau1[[#This Row],[nom site]]) -> CENTRALE DE TRAITEMENT D'AIR - SIEGE SOCIAL - PATRIMOINE | G9: CENTRALE DE TRAITEMENT D'AIR | H9: CENTRALE DE TRAITEMENT D'AIR | J9: SWEGON | L9: WESPER WTA | N9: 2015
A10: EX-3181 | B10: SIEGE SOCIAL - PATRIMOINE | C10: 5 PLACE DE LA PERGOLA, 31500, TOULOUSE | D10: Dans les combles | E10: 4041_04_B | F10: =CONCATENATE(Tableau1[[#This Row],[type]]," - ",Tableau1[[#This Row],[nom site]]) -> CENTRALE DE TRAITEMENT D'AIR - SIEGE SOCIAL - PATRIMOINE | G10: CENTRALE DE TRAITEMENT D'AIR | H10: CENTRALE DE TRAITEMENT D'AIR | J10: SWEGON | L10: WESPER WESPAC 1-31 | N10: 2015
A11: EX-3181 | B11: SIEGE SOCIAL - PATRIMOINE | C11: 5 PLACE DE LA PERGOLA, 31500, TOULOUSE | D11: Situé sur le toi | F11: =CONCATENATE(Tableau1[[#This Row],[type]]," - ",Tableau1[[#This Row],[nom site]]) -> GROUPE D'EAU FROIDE - SIEGE SOCIAL - PATRIMOINE | G11: GROUPE D'EAU FROIDE | H11: Groupe de production d'eau glacée | J11: CIAT | L11: CIAT RC250 5A 3H | N11: 2010

Sheet info  TWIMM

Sheet Feuil3
A2: Désignation équipement: | C2: =IF('info fiche matériel'!F3<>"",'info fiche matériel'!F3,"") -> CHAUDIERE GAZ - SIEGE SOCIAL - PATRIMOINE
A5: Marque : | B5: =IF('info fiche matériel'!J3<>"",'info fiche matériel'!J3,"") -> GUILLOT | E5: photo
A6: Modèle : | B6: =IF('info fiche matériel'!L3<>"",'info fiche matériel'!L3,"") -> GUILLOT OPTIMAGAZ Type G
A7: Type: | B7: =IF('info fiche matériel'!K3<>"",'info fiche matériel'!K3,"") -> Chaudière basse température, 115 kW
A8: Description: | B8: =IF('info fiche matériel'!H3<>"",'info fiche matériel'!H3,"") -> CHAUDIERE GAZ APPOINT
A9: Code GMAO : | B9: =IF('info fiche matériel'!E3<>"",'info fiche matériel'!E3,"") -> 4041_02
A11: Localisation : | B11: =IF('info fiche matériel'!A3<>"",'info fiche matériel'!A3,"") -> EX-3181
A12: =IF('info fiche matériel'!B3<>"",'info fiche matériel'!B3,"") -> SIEGE SOCIAL - PATRIMOINE
A13: =IF('info fiche matériel'!C3<>"",'info fiche matériel'!C3,"") -> 5 PLACE DE LA PERGOLA, 31500, TOULOUSE
A14: =IF('info fiche matériel'!D3<>"",'info fiche matériel'!D3,"") -> Chaufferie située au sous-sol
A16: Caractéristiques :
A17: =IF('info fiche matériel'!O3<>"",'info fiche matériel'!O3,"")
A22: Electricité / Gestion technique :
A23: Alimentation : | B23: =IF('info fiche matériel'!P3<>"",'info fiche matériel'!P3,"")
A24: Régulation : | B24: =IF('info fiche matériel'!Q3<>"",'info fiche matériel'!Q3,"") -> Gestion cascade : Régulateur SAUTER EY-AS525F001
A27: Etat : | B27: =IF('info fiche matériel'!M3<>"",'info fiche matériel'!M3,"") -> Bon état
A28: Mise en service: | B28: ='info fiche matériel'!N3 -> 2014
A31: Mesures | C31: Unité | D31: Valeur mesurée | G31: Valeur théorique
A32: Intensité par phase pompe | D32: =IF('info fiche matériel'!R3<>"",'info fiche matériel'!R3,"")
A33: Intensité par phase pompe | D33: =IF('info fiche matériel'!S3<>"",'info fiche matériel'!S3,"")
A34: Intensité par phase pompe | D34: =IF('info fiche matériel'!T3<>"",'info fiche matériel'!T3,"")
A35: Intensité par phase chaudière | D35: =IF('info fiche matériel'!U3<>"",'info fiche matériel'!U3,"")
A36: Intensité par phase chaudière | D36: =IF('info fiche matériel'!V3<>"",'info fiche matériel'!V3,"")
A37: Intensité par phase chaudière | D37: =IF('info fiche matériel'!W3<>"",'info fiche matériel'!W3,"")
A38: Pression du foyer chaudière | D38: =IF('info fiche matériel'!X3<>"",'info fiche matériel'!X3,"")
A39: Pression amont/aval gaz | D39: =IF('info fiche matériel'!Y3<>"",'info fiche matériel'!Y3,"")
A40: Pression à vide du vase d'expansion | D40: =IF('info fiche matériel'!Z3<>"",'info fiche matériel'!Z3,"")

Sheet Feuil4
A2: Désignation équipement: | C2: =IF('info fiche matériel'!F4<>"",'info fiche matériel'!F4,"") -> ALIMENTATION BOIS - SIEGE SOCIAL - PATRIMOINE
A5: Marque : | B5: =IF('info fiche matériel'!J4<>"",'info fiche matériel'!J4,"") -> HARGASSNER | E5: photo
A6: Modèle : | B6: =IF('info fiche matériel'!L4<>"",'info fiche matériel'!L4,"") -> SILOT + VIS SANS FIN
A7: Type: | B7: =IF('info fiche matériel'!K4<>"",'info fiche matériel'!K4,"") -> textile
A8: Description: | B8: =IF('info fiche matériel'!H4<>"",'info fiche matériel'!H4,"") -> ALIMENTATION BOIS
A9: Code GMAO : | B9: =IF('info fiche matériel'!E4<>"",'info fiche matériel'!E4,"")
A11: Localisation : | B11: =IF('info fiche matériel'!A4<>"",'info fiche matériel'!A4,"") -> EX-3181
A12: =IF('info fiche matériel'!B4<>"",'info fiche matériel'!B4,"") -> SIEGE SOCIAL - PATRIMOINE
A13: =IF('info fiche matériel'!C4<>"",'info fiche matériel'!C4,"") -> 5 PLACE DE LA PERGOLA, 31500, TOULOUSE
A14: =IF('info fiche matériel'!D4<>"",'info fiche matériel'!D4,"") -> Chaufferie située au sous-sol
A16: Caractéristiques :
A17: =IF('info fiche matériel'!O4<>"",'info fiche matériel'!O4,"")
A22: Electricité / Gestion technique :
A23: Alimentation : | B23: =IF('info fiche matériel'!P4<>"",'info fiche matériel'!P4,"")
A24: Régulation : | B24: =IF('info fiche matériel'!Q4<>"",'info fiche matériel'!Q4,"")
A27: Etat : | B27: =IF('info fiche matériel'!M4<>"",'info fiche matériel'!M4,"")
A28: Mise en service: | B28: ='info fiche matériel'!N4 -> 2014
A31: Mesures | C31: Unité | D31: Valeur mesurée | G31: Valeur théorique
A32: Intensité par phase pompe | D32: =IF('info fiche matériel'!R4<>"",'info fiche matériel'!R4,"")
A33: Intensité par phase pompe | D33: =IF('info fiche matériel'!S4<>"",'info fiche matériel'!S4,"")
A34: Intensité par phase pompe | D34: =IF('info fiche matériel'!T4<>"",'info fiche matériel'!T4,"")
A35: Intensité par phase chaudière | D35: =IF('info fiche matériel'!U4<>"",'info fiche matériel'!U4,"")
A36: Intensité par phase chaudière | D36: =IF('info fiche matériel'!V4<>"",'info fiche matériel'!V4,"")
A37: Intensité par phase chaudière | D37: =IF('info fiche matériel'!W4<>"",'info fiche matériel'!W4,"")
A38: Pression du foyer chaudière | D38: =IF('info fiche matériel'!X4<>"",'info fiche matériel'!X4,"")
A39: Pression amont/aval gaz | D39: =IF('info fiche matériel'!Y4<>"",'info fiche matériel'!Y4,"")
A40: Pression à vide du vase d'expansion | D40: =IF('info fiche matériel'!Z4<>"",'info fiche matériel'!Z4,"")

Sheet Feuil5
A2: Désignation équipement: | C2: =IF('info fiche matériel'!F5<>"",'info fiche matériel'!F5,"") -> CHAUDIERE BOIS - SIEGE SOCIAL - PATRIMOINE
A5: Marque : | B5: =IF('info fiche matériel'!J5<>"",'info fiche matériel'!J5,"") -> HARGASSNER | E5: photo
A6: Modèle : | B6: =IF('info fiche matériel'!L5<>"",'info fiche matériel'!L5,"") -> HARGASSNER LAMBDA CLASSIC
A7: Type: | B7: =IF('info fiche matériel'!K5<>"",'info fiche matériel'!K5,"") -> 60 kW
A8: Description: | B8: =IF('info fiche matériel'!H5<>"",'info fiche matériel'!H5,"") -> CHAUDIERE BOIS
A9: Code GMAO : | B9: =IF('info fiche matériel'!E5<>"",'info fiche matériel'!E5,"") -> 4041_01
A11: Localisation : | B11: =IF('info fiche matériel'!A5<>"",'info fiche matériel'!A5,"") -> EX-3181
A12: =IF('info fiche matériel'!B5<>"",'info fiche matériel'!B5,"") -> SIEGE SOCIAL - PATRIMOINE
A13: =IF('info fiche matériel'!C5<>"",'info fiche matériel'!C5,"") -> 5 PLACE DE LA PERGOLA, 31500, TOULOUSE
A14: =IF('info fiche matériel'!D5<>"",'info fiche matériel'!D5,"") -> Chaufferie située au sous-sol
A16: Caractéristiques :
A17: =IF('info fiche matériel'!O5<>"",'info fiche matériel'!O5,"")
A22: Electricité / Gestion technique :
A23: Alimentation : | B23: =IF('info fiche matériel'!P5<>"",'info fiche matériel'!P5,"")
A24: Régulation : | B24: =IF('info fiche matériel'!Q5<>"",'info fiche matériel'!Q5,"")
A27: Etat : | B27: =IF('info fiche matériel'!M5<>"",'info fiche matériel'!M5,"")
A28: Mise en service: | B28: ='info fiche matériel'!N5 -> 2014
A31: Mesures | C31: Unité | D31: Valeur mesurée | G31: Valeur théorique
A32: Intensité par phase pompe | D32: =IF('info fiche matériel'!R5<>"",'info fiche matériel'!R5,"")
A33: Intensité par phase pompe | D33: =IF('info fiche matériel'!S5<>"",'info fiche matériel'!S5,"")
A34: Intensité par phase pompe | D34: =IF('info fiche matériel'!T5<>"",'info fiche matériel'!T5,"")
A35: Intensité par phase chaudière | D35: =IF('info fiche matériel'!U5<>"",'info fiche matériel'!U5,"")
A36: Intensité par phase chaudière | D36: =IF('info fiche matériel'!V5<>"",'info fiche matériel'!V5,"")
A37: Intensité par phase chaudière | D37: =IF('info fiche matériel'!W5<>"",'info fiche matériel'!W5,"")
A38: Pression du foyer chaudière | D38: =IF('info fiche matériel'!X5<>"",'info fiche matériel'!X5,"")
A39: Pression amont/aval gaz | D39: =IF('info fiche matériel'!Y5<>"",'info fiche matériel'!Y5,"")
A40: Pression à vide du vase d'expansion | D40: =IF('info fiche matériel'!Z5<>"",'info fiche matériel'!Z5,"")

Sheet Feuil6
A2: Désignation équipement: | C2: =IF('info fiche matériel'!F6<>"",'info fiche matériel'!F6,"") -> POMPE DOUBLE - SIEGE SOCIAL - PATRIMOINE
A5: Marque : | B5: =IF('info fiche matériel'!J6<>"",'info fiche matériel'!J6,"") -> GRUNDFOS | E5: photo
A6: Modèle : | B6: =IF('info fiche matériel'!L6<>"",'info fiche matériel'!L6,"") -> GRUNDFOS MAGNA3 D 32-60
A7: Type: | B7: =IF('info fiche matériel'!K6<>"",'info fiche matériel'!K6,"") -> MAGNA3 D 32-60
A8: Description: | B8: =IF('info fiche matériel'!H6<>"",'info fiche matériel'!H6,"") -> Pompe double à variation de débit Circuit CTA
A9: Code GMAO : | B9: =IF('info fiche matériel'!E6<>"",'info fiche matériel'!E6,"")
A11: Localisation : | B11: =IF('info fiche matériel'!A6<>"",'info fiche matériel'!A6,"") -> EX-3181
A12: =IF('info fiche matériel'!B6<>"",'info fiche matériel'!B6,"") -> SIEGE SOCIAL - PATRIMOINE
A13: =IF('info fiche matériel'!C6<>"",'info fiche matériel'!C6,"") -> 5 PLACE DE LA PERGOLA, 31500, TOULOUSE
A14: =IF('info fiche matériel'!D6<>"",'info fiche matériel'!D6,"") -> Chaufferie située au sous-sol
A16: Caractéristiques :
A17: =IF('info fiche matériel'!O6<>"",'info fiche matériel'!O6,"")
A22: Electricité / Gestion technique :
A23: Alimentation : | B23: =IF('info fiche matériel'!P6<>"",'info fiche matériel'!P6,"")
A24: Régulation : | B24: =IF('info fiche matériel'!Q6<>"",'info fiche matériel'!Q6,"")
A27: Etat : | B27: =IF('info fiche matériel'!M6<>"",'info fiche matériel'!M6,"")
A28: Mise en service: | B28: ='info fiche matériel'!N6 -> 2014
A31: Mesures | C31: Unité | D31: Valeur mesurée | G31: Valeur théorique
A32: Intensité par phase pompe | D32: =IF('info fiche matériel'!R6<>"",'info fiche matériel'!R6,"")
A33: Intensité par phase pompe | D33: =IF('info fiche matériel'!S6<>"",'info fiche matériel'!S6,"")
A34: Intensité par phase pompe | D34: =IF('info fiche matériel'!T6<>"",'info fiche matériel'!T6,"")
A35: Intensité par phase chaudière | D35: =IF('info fiche matériel'!U6<>"",'info fiche matériel'!U6,"")
A36: Intensité par phase chaudière | D36: =IF('info fiche matériel'!V6<>"",'info fiche matériel'!V6,"")
A37: Intensité par phase chaudière | D37: =IF('info fiche matériel'!W6<>"",'info fiche matériel'!W6,"")
A38: Pression du foyer chaudière | D38: =IF('info fiche matériel'!X6<>"",'info fiche matériel'!X6,"")
A39: Pression amont/aval gaz | D39: =IF('info fiche matériel'!Y6<>"",'info fiche matériel'!Y6,"")
A40: Pression à vide du vase d'expansion | D40: =IF('info fiche matériel'!Z6<>"",'info fiche matériel'!Z6,"")

Sheet Feuil7
A2: Désignation équipement: | C2: =IF('info fiche matériel'!F7<>"",'info fiche matériel'!F7,"") -> POMPE DOUBLE - SIEGE SOCIAL - PATRIMOINE
A5: Marque : | B5: =IF('info fiche matériel'!J7<>"",'info fiche matériel'!J7,"") -> GRUNDFOS | E5: photo
A6: Modèle : | B6: =IF('info fiche matériel'!L7<>"",'info fiche matériel'!L7,"") -> GRUNDFOS MAGNA1 D 40-60F
A7: Type: | B7: =IF('info fiche matériel'!K7<>"",'info fiche matériel'!K7,"") -> MAGNA1 D 40-60F
A8: Description: | B8: =IF('info fiche matériel'!H7<>"",'info fiche matériel'!H7,"") -> Pompe double à variation de débit Circuit radiateur
A9: Code GMAO : | B9: =IF('info fiche matériel'!E7<>"",'info fiche matériel'!E7,"")
A11: Localisation : | B11: =IF('info fiche matériel'!A7<>"",'info fiche matériel'!A7,"") -> EX-3181
A12: =IF('info fiche matériel'!B7<>"",'info fiche matériel'!B7,"") -> SIEGE SOCIAL - PATRIMOINE
A13: =IF('info fiche matériel'!C7<>"",'info fiche matériel'!C7,"") -> 5 PLACE DE LA PERGOLA, 31500, TOULOUSE
A14: =IF('info fiche matériel'!D7<>"",'info fiche matériel'!D7,"") -> Chaufferie située au sous-sol
A16: Caractéristiques :
A17: =IF('info fiche matériel'!O7<>"",'info fiche matériel'!O7,"")
A22: Electricité / Gestion technique :
A23: Alimentation : | B23: =IF('info fiche matériel'!P7<>"",'info fiche matériel'!P7,"")
A24: Régulation : | B24: =IF('info fiche matériel'!Q7<>"",'info fiche matériel'!Q7,"")
A27: Etat : | B27: =IF('info fiche matériel'!M7<>"",'info fiche matériel'!M7,"")
A28: Mise en service: | B28: ='info fiche matériel'!N7 -> 2014
A31: Mesures | C31: Unité | D31: Valeur mesurée | G31: Valeur théorique
A32: Intensité par phase pompe | D32: =IF('info fiche matériel'!R7<>"",'info fiche matériel'!R7,"")
A33: Intensité par phase pompe | D33: =IF('info fiche matériel'!S7<>"",'info fiche matériel'!S7,"")
A34: Intensité par phase pompe | D34: =IF('info fiche matériel'!T7<>"",'info fiche matériel'!T7,"")
A35: Intensité par phase chaudière | D35: =IF('info fiche matériel'!U7<>"",'info fiche matériel'!U7,"")
A36: Intensité par phase chaudière | D36: =IF('info fiche matériel'!V7<>"",'info fiche matériel'!V7,"")
A37: Intensité par phase chaudière | D37: =IF('info fiche matériel'!W7<>"",'info fiche matériel'!W7,"")
A38: Pression du foyer chaudière | D38: =IF('info fiche matériel'!X7<>"",'info fiche matériel'!X7,"")
A39: Pression amont/aval gaz | D39: =IF('info fiche matériel'!Y7<>"",'info fiche matériel'!Y7,"")
A40: Pression à vide du vase d'expansion | D40: =IF('info fiche matériel'!Z7<>"",'info fiche matériel'!Z7,"")

Sheet Feuil8
A2: Désignation équipement: | C2: =IF('info fiche matériel'!F8<>"",'info fiche matériel'!F8,"") -> V3V - SIEGE SOCIAL - PATRIMOINE
A5: Marque : | B5: =IF('info fiche matériel'!J8<>"",'info fiche matériel'!J8,"") | E5: photo
A6: Modèle : | B6: =IF('info fiche matériel'!L8<>"",'info fiche matériel'!L8,"")
A7: Type: | B7: =IF('info fiche matériel'!K8<>"",'info fiche matériel'!K8,"")
A8: Description: | B8: =IF('info fiche matériel'!H8<>"",'info fiche matériel'!H8,"") -> V3V de régulation
A9: Code GMAO : | B9: =IF('info fiche matériel'!E8<>"",'info fiche matériel'!E8,"")
A11: Localisation : | B11: =IF('info fiche matériel'!A8<>"",'info fiche matériel'!A8,"") -> EX-3181
A12: =IF('info fiche matériel'!B8<>"",'info fiche matériel'!B8,"") -> SIEGE SOCIAL - PATRIMOINE
A13: =IF('info fiche matériel'!C8<>"",'info fiche matériel'!C8,"") -> 5 PLACE DE LA PERGOLA, 31500, TOULOUSE
A14: =IF('info fiche matériel'!D8<>"",'info fiche matériel'!D8,"") -> Chaufferie située au sous-sol
A16: Caractéristiques :
A17: =IF('info fiche matériel'!O8<>"",'info fiche matériel'!O8,"")
A22: Electricité / Gestion technique :
A23: Alimentation : | B23: =IF('info fiche matériel'!P8<>"",'info fiche matériel'!P8,"")
A24: Régulation : | B24: =IF('info fiche matériel'!Q8<>"",'info fiche matériel'!Q8,"")
A27: Etat : | B27: =IF('info fiche matériel'!M8<>"",'info fiche matériel'!M8,"")
A28: Mise en service: | B28: ='info fiche matériel'!N8 -> 2014
A31: Mesures | C31: Unité | D31: Valeur mesurée | G31: Valeur théorique
A32: Intensité par phase pompe | D32: =IF('info fiche matériel'!R8<>"",'info fiche matériel'!R8,"")
A33: Intensité par phase pompe | D33: =IF('info fiche matériel'!S8<>"",'info fiche matériel'!S8,"")
A34: Intensité par phase pompe | D34: =IF('info fiche matériel'!T8<>"",'info fiche matériel'!T8,"")
A35: Intensité par phase chaudière | D35: =IF('info fiche matériel'!U8<>"",'info fiche matériel'!U8,"")
A36: Intensité par phase chaudière | D36: =IF('info fiche matériel'!V8<>"",'info fiche matériel'!V8,"")
A37: Intensité par phase chaudière | D37: =IF('info fiche matériel'!W8<>"",'info fiche matériel'!W8,"")
A38: Pression du foyer chaudière | D38: =IF('info fiche matériel'!X8<>"",'info fiche matériel'!X8,"")
A39: Pression amont/aval gaz | D39: =IF('info fiche matériel'!Y8<>"",'info fiche matériel'!Y8,"")
A40: Pression à vide du vase d'expansion | D40: =IF('info fiche matériel'!Z8<>"",'info fiche matériel'!Z8,"")

Sheet Feuil9
A2: Désignation équipement: | C2: =IF('info fiche matériel'!F9<>"",'info fiche matériel'!F9,"") -> CENTRALE DE TRAITEMENT D'AIR - SIEGE SOCIAL - PATRIMOINE
A5: Marque : | B5: =IF('info fiche matériel'!J9<>"",'info fiche matériel'!J9,"") -> SWEGON | E5: photo
A6: Modèle : | B6: =IF('info fiche matériel'!L9<>"",'info fiche matériel'!L9,"") -> WESPER WTA
A7: Type: | B7: =IF('info fiche matériel'!K9<>"",'info fiche matériel'!K9,"")
A8: Description: | B8: =IF('info fiche matériel'!H9<>"",'info fiche matériel'!H9,"") -> CENTRALE DE TRAITEMENT D'AIR
A9: Code GMAO : | B9: =IF('info fiche matériel'!E9<>"",'info fiche matériel'!E9,"") -> 4041_04_A
A11: Localisation : | B11: =IF('info fiche matériel'!A9<>"",'info fiche matériel'!A9,"") -> EX-3181
A12: =IF('info fiche matériel'!B9<>"",'info fiche matériel'!B9,"") -> SIEGE SOCIAL - PATRIMOINE
A13: =IF('info fiche matériel'!C9<>"",'info fiche matériel'!C9,"") -> 5 PLACE DE LA PERGOLA, 31500, TOULOUSE
A14: =IF('info fiche matériel'!D9<>"",'info fiche matériel'!D9,"") -> Dans les combles
A16: Caractéristiques :
A17: type de moteur :
A18: type de ventillateur:
A19: Entrainement :
A20: protection:
A22: Electricité / Gestion technique :
A23: Alimentation : | B23: =IF('info fiche matériel'!P9<>"",'info fiche matériel'!P9,"")
A24: Régulation : | B24: =IF('info fiche matériel'!Q9<>"",'info fiche matériel'!Q9,"")
A27: Etat : | B27: =IF('info fiche matériel'!M9<>"",'info fiche matériel'!M9,"")
A28: Mise en service: | B28: ='info fiche matériel'!N9 -> 2015
A31: Mesures | C31: Unité | D31: Valeur mesurée | G31: Valeur théorique
A32: Intensité par phase pompe | D32: =IF('info fiche matériel'!R9<>"",'info fiche matériel'!R9,"")
A33: Intensité par phase pompe | D33: =IF('info fiche matériel'!S9<>"",'info fiche matériel'!S9,"")
A34: Intensité par phase pompe | D34: =IF('info fiche matériel'!T9<>"",'info fiche matériel'!T9,"")
A35: Intensité par phase chaudière | D35: =IF('info fiche matériel'!U9<>"",'info fiche matériel'!U9,"")
A36: Intensité par phase chaudière | D36: =IF('info fiche matériel'!V9<>"",'info fiche matériel'!V9,"")
A37: Intensité par phase chaudière | D37: =IF('info fiche matériel'!W9<>"",'info fiche matériel'!W9,"")
A38: Pression du foyer chaudière | D38: =IF('info fiche matériel'!X9<>"",'info fiche matériel'!X9,"")
A39: Pression amont/aval gaz | D39: =IF('info fiche matériel'!Y9<>"",'info fiche matériel'!Y9,"")
A40: Pression à vide du vase d'expansion | D40: =IF('info fiche matériel'!Z9<>"",'info fiche matériel'!Z9,"")

Sheet Feuil10
A2: Désignation équipement: | C2: =IF('info fiche matériel'!F10<>"",'info fiche matériel'!F10,"") -> CENTRALE DE TRAITEMENT D'AIR - SIEGE SOCIAL - PATRIMOINE
A5: Marque : | B5: =IF('info fiche matériel'!J10<>"",'info fiche matériel'!J10,"") -> SWEGON | E5: photo
A6: Modèle : | B6: =IF('info fiche matériel'!L10<>"",'info fiche matériel'!L10,"") -> WESPER WESPAC 1-31
A7: Type: | B7: =IF('info fiche matériel'!K10<>"",'info fiche matériel'!K10,"")
A8: Description: | B8: =IF('info fiche matériel'!H10<>"",'info fiche matériel'!H10,"") -> CENTRALE DE TRAITEMENT D'AIR
A9: Code GMAO : | B9: =IF('info fiche matériel'!E10<>"",'info fiche matériel'!E10,"") -> 4041_04_B
A11: Localisation : | B11: =IF('info fiche matériel'!A10<>"",'info fiche matériel'!A10,"") -> EX-3181
A12: =IF('info fiche matériel'!B10<>"",'info fiche matériel'!B10,"") -> SIEGE SOCIAL - PATRIMOINE
A13: =IF('info fiche matériel'!C10<>"",'info fiche matériel'!C10,"") -> 5 PLACE DE LA PERGOLA, 31500, TOULOUSE
A14: =IF('info fiche matériel'!D10<>"",'info fiche matériel'!D10,"") -> Dans les combles
A16: Caractéristiques :
A17: type de moteur :
A18: type de ventillateur:
A19: Entrainement :
A20: protection:
A22: Electricité / Gestion technique :
A23: Alimentation : | B23: =IF('info fiche matériel'!P10<>"",'info fiche matériel'!P10,"")
A24: Régulation : | B24: =IF('info fiche matériel'!Q10<>"",'info fiche matériel'!Q10,"")
A27: Etat : | B27: =IF('info fiche matériel'!M10<>"",'info fiche matériel'!M10,"")
A28: Mise en service: | B28: ='info fiche matériel'!N10 -> 2015
A31: Mesures | C31: Unité | D31: Valeur mesurée | G31: Valeur théorique
A32: Intensité par phase pompe | D32: =IF('info fiche matériel'!R10<>"",'info fiche matériel'!R10,"")
A33: Intensité par phase pompe | D33: =IF('info fiche matériel'!S10<>"",'info fiche matériel'!S10,"")
A34: Intensité par phase pompe | D34: =IF('info fiche matériel'!T10<>"",'info fiche matériel'!T10,"")
A35: Intensité par phase chaudière | D35: =IF('info fiche matériel'!U10<>"",'info fiche matériel'!U10,"")
A36: Intensité par phase chaudière | D36: =IF('info fiche matériel'!V10<>"",'info fiche matériel'!V10,"")
A37: Intensité par phase chaudière | D37: =IF('info fiche matériel'!W10<>"",'info fiche matériel'!W10,"")
A38: Pression du foyer chaudière | D38: =IF('info fiche matériel'!X10<>"",'info fiche matériel'!X10,"")
A39: Pression amont/aval gaz | D39: =IF('info fiche matériel'!Y10<>"",'info fiche matériel'!Y10,"")
A40: Pression à vide du vase d'expansion | D40: =IF('info fiche matériel'!Z10<>"",'info fiche matériel'!Z10,"")

Sheet Feuil11
A2: Désignation équipement: | C2: =IF('info fiche matériel'!F11<>"",'info fiche matériel'!F11,"") -> GROUPE D'EAU FROIDE - SIEGE SOCIAL - PATRIMOINE
A5: Marque : | B5: =IF('info fiche matériel'!J11<>"",'info fiche matériel'!J11,"") -> CIAT | E5: photo
A6: Modèle : | B6: =IF('info fiche matériel'!L11<>"",'info fiche matériel'!L11,"") -> CIAT RC250 5A 3H
A7: Type: | B7: =IF('info fiche matériel'!K11<>"",'info fiche matériel'!K11,"")
A8: Description: | B8: =IF('info fiche matériel'!H11<>"",'info fiche matériel'!H11,"") -> Groupe de production d'eau glacée
A9: Code GMAO : | B9: =IF('info fiche matériel'!E11<>"",'info fiche matériel'!E11,"")
A11: Localisation : | B11: =IF('info fiche matériel'!A11<>"",'info fiche matériel'!A11,"") -> EX-3181
A12: =IF('info fiche matériel'!B11<>"",'info fiche matériel'!B11,"") -> SIEGE SOCIAL - PATRIMOINE
A13: =IF('info fiche matériel'!C11<>"",'info fiche matériel'!C11,"") -> 5 PLACE DE LA PERGOLA, 31500, TOULOUSE
A14: =IF('info fiche matériel'!D11<>"",'info fiche matériel'!D11,"") -> Situé sur le toi
A16: Caractéristiques :
A17: =IF('info fiche matériel'!O11<>"",'info fiche matériel'!O11,"")
A22: Electricité / Gestion technique :
A23: Alimentation : | B23: =IF('info fiche matériel'!P11<>"",'info fiche matériel'!P11,"")
A24: Régulation : | B24: =IF('info fiche matériel'!Q11<>"",'info fiche matériel'!Q11,"")
A27: Etat : | B27: =IF('info fiche matériel'!M11<>"",'info fiche matériel'!M11,"")
A28: Mise en service: | B28: ='info fiche matériel'!N11 -> 2010
A31: Mesures | C31: Unité | D31: Valeur mesurée | G31: Valeur théorique
A32: Intensité par phase pompe | D32: =IF('info fiche matériel'!R11<>"",'info fiche matériel'!R11,"")
A33: Intensité par phase pompe | D33: =IF('info fiche matériel'!S11<>"",'info fiche matériel'!S11,"")
A34: Intensité par phase pompe | D34: =IF('info fiche matériel'!T11<>"",'info fiche matériel'!T11,"")
A35: Intensité par phase chaudière | D35: =IF('info fiche matériel'!U11<>"",'info fiche matériel'!U11,"")
A36: Intensité par phase chaudière | D36: =IF('info fiche matériel'!V11<>"",'info fiche matériel'!V11,"")
A37: Intensité par phase chaudière | D37: =IF('info fiche matériel'!W11<>"",'info fiche matériel'!W11,"")
A38: Pression du foyer chaudière | D38: =IF('info fiche matériel'!X11<>"",'info fiche matériel'!X11,"")
A39: Pression amont/aval gaz | D39: =IF('info fiche matériel'!Y11<>"",'info fiche matériel'!Y11,"")
A40: Pression à vide du vase d'expansion | D40: =IF('info fiche matériel'!Z11<>"",'info fiche matériel'!Z11,"")
