Workbook

Sheet Menu
A2: N° du menu | B2: 1 | C2: 2 | D2: 3 | E2: 4 | F2: 5 | G2: 6 | H2: 7 | I2: 8 | J2: 9 | K2: 10 | L2: 11 | M2: 12 | N2: 13 | O2: 14 | P2: 15 | Q2: 16 | R2: 17 | S2: 18 | T2: 19 | U2: 20 | V2: 21 | W2: 22 | X2: 23 | Y2: 24 | Z2: 25 | AA2: 26 | AB2: 27 | AC2: 28 | AD2: 29 | AE2: 30 | AF2: 31 | AG2: 32
A4: Formation commune et/ou optionnelle obligatoire
A5: Religion (2h) | B5: 2 | C5: 2 | D5: 2 | E5: 2 | F5: 2 | G5: 2 | H5: 2 | I5: 2 | J5: 2 | K5: 2 | L5: 2 | M5: 2 | N5: 2 | O5: 2 | P5: 2 | Q5: 2 | R5: 2 | S5: 2 | T5: 2 | U5: 2 | V5: 2 | W5: 2 | X5: 2 | Y5: 2 | Z5: 2 | AA5: 2 | AB5: 2 | AC5: 2 | AD5: 2 | AE5: 2 | AF5: 2 | AG5: 2
A6: Français (4h) | B6: 4 | C6: 4 | D6: 4 | E6: 4 | F6: 4 | G6: 4 | H6: 4 | I6: 4 | J6: 4 | K6: 4 | L6: 4 | M6: 4 | N6: 4 | O6: 4 | P6: 4 | Q6: 4 | R6: 4 | S6: 4 | T6: 4 | U6: 4 | V6: 4 | W6: 4 | X6: 4 | Y6: 4 | Z6: 4 | AA6: 4 | AB6: 4 | AC6: 4 | AD6: 4 | AE6: 4 | AF6: 4 | AG6: 4
A7: Géo.(2h) | B7: 2 | C7: 2 | D7: 2 | E7: 2 | F7: 2 | G7: 2 | H7: 2 | I7: 2 | J7: 2 | K7: 2 | L7: 2 | M7: 2 | N7: 2 | O7: 2 | P7: 2 | Q7: 2 | R7: 2 | S7: 2 | T7: 2 | U7: 2 | V7: 2 | W7: 2 | X7: 2 | Y7: 2 | Z7: 2 | AA7: 2 | AB7: 2 | AC7: 2 | AD7: 2 | AE7: 2 | AF7: 2 | AG7: 2
A8: Histoire (2h) | B8: 2 | C8: 2 | D8: 2 | E8: 2 | F8: 2 | G8: 2 | H8: 2 | I8: 2 | J8: 2 | K8: 2 | L8: 2 | M8: 2 | N8: 2 | O8: 2 | P8: 2 | Q8: 2 | R8: 2 | S8: 2 | T8: 2 | U8: 2 | V8: 2 | W8: 2 | X8: 2 | Y8: 2 | Z8: 2 | AA8: 2 | AB8: 2 | AC8: 2 | AD8: 2 | AE8: 2 | AF8: 2 | AG8: 2
A9: Ed. phys.(2h) | B9: 2 | C9: 2 | D9: 2 | E9: 2 | F9: 2 | G9: 2 | H9: 2 | I9: 2 | J9: 2 | K9: 2 | L9: 2 | M9: 2 | N9: 2 | O9: 2 | P9: 2 | Q9: 2 | R9: 2 | S9: 2 | T9: 2 | U9: 2 | V9: 2 | W9: 2 | X9: 2 | Y9: 2 | Z9: 2 | AA9: 2 | AB9: 2 | AC9: 2 | AD9: 2 | AE9: 2 | AF9: 2 | AG9: 2
A10: Langue 1 | AH10: Rentrer 2 ou 4
A11: Langue 2 | AH11: Rentrer 0, 2 ou 4
A12: AC Français | AH12: Rentrer 0 ou 1
A13: Math. | B13: 2 | C13: 2 | D13: 2 | E13: 2 | F13: 2 | G13: 2 | H13: 2 | I13: 2 | J13: 4 | K13: 4 | L13: 4 | M13: 4 | N13: 4 | O13: 4 | P13: 4 | Q13: 4 | R13: 4 | S13: 4 | T13: 4 | U13: 6 | V13: 6 | W13: 6 | X13: 6 | Y13: 6 | Z13: 6 | AA13: 6 | AB13: 6 | AC13: 8 | AD13: 8 | AE13: 8 | AF13: 8 | AG13: 8
A14: Sciences | B14: 3 | C14: 3 | D14: 3 | E14: 3 | F14: 3 | G14: 3 | H14: 3 | I14: 3 | J14: 3 | K14: 3 | L14: 3 | M14: 3 | N14: 3 | O14: 3 | P14: 3 | Q14: 3 | R14: 7 | S14: 7 | T14: 7 | U14: 3 | V14: 3 | W14: 3 | X14: 3 | Y14: 3 | Z14: 7 | AA14: 7 | AB14: 7 | AC14: 3 | AD14: 3 | AE14: 7 | AF14: 7 | AG14: 7
A15: Latin | B15: 5 | F15: 4 | K15: 4 | P15: 4 | T15: 4 | V15: 4 | X15: 4 | AB15: 4 | AG15: 4
A16: Economie | G16: 4 | H16: 4 | J16: 4 | N16: 4 | P16: 4 | U16: 4 | W16: 4 | X16: 4 | AD16: 4
A17: Allemand | C17: 4 | E17: 4 | G17: 4 | L17: 4 | N17: 4 | O17: 4 | S17: 4 | W17: 4 | AA17: 4 | AF17: 4
A18: AC Sciences | D18: 2 | E18: 2 | M18: 2 | O18: 2
A19: Sc. Soc. | B19: 4 | D19: 4 | E19: 4 | M19: 4 | O19: 4
A20: Art d’ex. | B20: 4
A21: Bio app | I21: 4 | Q21: 4 | Y21: 4
A22: Labo bio | I22: 4 | Q22: 4 | Y22: 4
A23: TOTAL | B23: 25 | C23: 21 | D23: 21 | E23: 27 | F23: 21 | G23: 25 | H23: 21 | I23: 25 | J23: 23 | K23: 23 | L23: 23 | M23: 25 | N23: 27 | O23: 29 | P23: 27 | Q23: 27 | R23: 23 | S23: 27 | T23: 27 | U23: 25 | V23: 25 | W23: 29 | X23: 29 | Y23: 29 | Z23: 25 | AA23: 29 | AB23: 29 | AC23: 23 | AD23: 27 | AE23: 27 | AF23: 31 | AG23: 31
A24: CHOIX

Sheet Elèves
B1: Noms | C1: Menus | D1: Religion (2h) | E1: Français (4h) | F1: Géo.(2h) | G1: Histoire (2h) | H1: Ed. phys.(2h) | I1: Langue 1 | J1: Langue 2 | K1: AC Français | L1: Math. | M1: Sciences | N1: Latin | O1: Economie | P1: Allemand | Q1: AC Sciences | R1: Sc. Soc. | S1: Art d’ex. | T1: Bio app | U1: Labo bio
A2: 1 | B2: Al-Bayati Zahraa | C2: 1 | D2: =IFERROR(INDEX(Menu!$B$5:$AG$22,MATCH(Elèves!D$1,Menu!$A$5:$A$22,0),MATCH(Elèves!$C2,Menu!$B$2:$AG$2,0)),"") -> 2 | E2: =IFERROR(INDEX(Menu!$B$5:$AG$22,MATCH(Elèves!E$1,Menu!$A$5:$A$22,0),MATCH(Elèves!$C2,Menu!$B$2:$AG$2,0)),"") -> 4 | F2: =IFERROR(INDEX(Menu!$B$5:$AG$22,MATCH(Elèves!F$1,Menu!$A$5:$A$22,0),MATCH(Elèves!$C2,Menu!$B$2:$AG$2,0)),"") -> 2 | G2: =IFERROR(INDEX(Menu!$B$5:$AG$22,MATCH(Elèves!G$1,Menu!$A$5:$A$22,0),MATCH(Elèves!$C2,Menu!$B$2:$AG$2,0)),"") -> 2 | H2: =IFERROR(INDEX(Menu!$B$5:$AG$22,MATCH(Elèves!H$1,Menu!$A$5:$A$22,0),MATCH(Elèves!$C2,Menu!$B$2:$AG$2,0)),"") -> 2 | I2: =IFERROR(INDEX(Menu!$B$5:$AG$22,MATCH(Elèves!I$1,Menu!$A$5:$A$22,0),MATCH(Elèves!$C2,Menu!$B$2:$AG$2,0)),"") -> 0 | J2: =IFERROR(INDEX(Menu!$B$5:$AG$22,MATCH(Elèves!J$1,Menu!$A$5:$A$22,0),MATCH(Elèves!$C2,Menu!$B$2:$AG$2,0)),"") -> 0 | K2: =IFERROR(INDEX(Menu!$B$5:$AG$22,MATCH(Elèves!K$1,Menu!$A$5:$A$22,0),MATCH(Elèves!$C2,Menu!$B$2:$AG$2,0)),"") -> 0 | ... U2: =IFERROR(INDEX(Menu!$B$5:$AG$22,MATCH(Elèves!U$1,Menu!$A$5:$A$22,0),MATCH(Elèves!$C2,Menu!$B$2:$AG$2,0)),"") -> 0 | V2: =SUM(D2:U2) -> 30
A3: 2 | B3: Antoine Hubert | C3: 2 | D3: =IFERROR(INDEX(Menu!$B$5:$AG$22,MATCH(Elèves!D$1,Menu!$A$5:$A$22,0),MATCH(Elèves!$C3,Menu!$B$2:$AG$2,0)),"") -> 2 | E3: =IFERROR(INDEX(Menu!$B$5:$AG$22,MATCH(Elèves!E$1,Menu!$A$5:$A$22,0),MATCH(Elèves!$C3,Menu!$B$2:$AG$2,0)),"") -> 4 | F3: =IFERROR(INDEX(Menu!$B$5:$AG$22,MATCH(Elèves!F$1,Menu!$A$5:$A$22,0),MATCH(Elèves!$C3,Menu!$B$2:$AG$2,0)),"") -> 2 | G3: =IFERROR(INDEX(Menu!$B$5:$AG$22,MATCH(Elèves!G$1,Menu!$A$5:$A$22,0),MATCH(Elèves!$C3,Menu!$B$2:$AG$2,0)),"") -> 2 | H3: =IFERROR(INDEX(Menu!$B$5:$AG$22,MATCH(Elèves!H$1,Menu!$A$5:$A$22,0),MATCH(Elèves!$C3,Menu!$B$2:$AG$2,0)),"") -> 2 | I3: =IFERROR(INDEX(Menu!$B$5:$AG$22,MATCH(Elèves!I$1,Menu!$A$5:$A$22,0),MATCH(Elèves!$C3,Menu!$B$2:$AG$2,0)),"") -> 0 | J3: =IFERROR(INDEX(Menu!$B$5:$AG$22,MATCH(Elèves!J$1,Menu!$A$5:$A$22,0),MATCH(Elèves!$C3,Menu!$B$2:$AG$2,0)),"") -> 0 | K3: =IFERROR(INDEX(Menu!$B$5:$AG$22,MATCH(Elèves!K$1,Menu!$A$5:$A$22,0),MATCH(Elèves!$C3,Menu!$B$2:$AG$2,0)),"") -> 0 | ... U3: =IFERROR(INDEX(Menu!$B$5:$AG$22,MATCH(Elèves!U$1,Menu!$A$5:$A$22,0),MATCH(Elèves!$C3,Menu!$B$2:$AG$2,0)),"") -> 0
A4: 3 | B4: Arnould Charlotte | C4: 6 | D4: =IFERROR(INDEX(Menu!$B$5:$AG$22,MATCH(Elèves!D$1,Menu!$A$5:$A$22,0),MATCH(Elèves!$C4,Menu!$B$2:$AG$2,0)),"") -> 2 | E4: =IFERROR(INDEX(Menu!$B$5:$AG$22,MATCH(Elèves!E$1,Menu!$A$5:$A$22,0),MATCH(Elèves!$C4,Menu!$B$2:$AG$2,0)),"") -> 4 | F4: =IFERROR(INDEX(Menu!$B$5:$AG$22,MATCH(Elèves!F$1,Menu!$A$5:$A$22,0),MATCH(Elèves!$C4,Menu!$B$2:$AG$2,0)),"") -> 2 | G4: =IFERROR(INDEX(Menu!$B$5:$AG$22,MATCH(Elèves!G$1,Menu!$A$5:$A$22,0),MATCH(Elèves!$C4,Menu!$B$2:$AG$2,0)),"") -> 2 | H4: =IFERROR(INDEX(Menu!$B$5:$AG$22,MATCH(Elèves!H$1,Menu!$A$5:$A$22,0),MATCH(Elèves!$C4,Menu!$B$2:$AG$2,0)),"") -> 2 | I4: =IFERROR(INDEX(Menu!$B$5:$AG$22,MATCH(Elèves!I$1,Menu!$A$5:$A$22,0),MATCH(Elèves!$C4,Menu!$B$2:$AG$2,0)),"") -> 0 | J4: =IFERROR(INDEX(Menu!$B$5:$AG$22,MATCH(Elèves!J$1,Menu!$A$5:$A$22,0),MATCH(Elèves!$C4,Menu!$B$2:$AG$2,0)),"") -> 0 | K4: =IFERROR(INDEX(Menu!$B$5:$AG$22,MATCH(Elèves!K$1,Menu!$A$5:$A$22,0),MATCH(Elèves!$C4,Menu!$B$2:$AG$2,0)),"") -> 0 | ... U4: =IFERROR(INDEX(Menu!$B$5:$AG$22,MATCH(Elèves!U$1,Menu!$A$5:$A$22,0),MATCH(Elèves!$C4,Menu!$B$2:$AG$2,0)),"") -> 0
A5: 4 | B5: Arnould Clémence | D5: =IFERROR(INDEX(Menu!$B$5:$AG$22,MATCH(Elèves!D$1,Menu!$A$5:$A$22,0),MATCH(Elèves!$C5,Menu!$B$2:$AG$2,0)),"") | E5: =IFERROR(INDEX(Menu!$B$5:$AG$22,MATCH(Elèves!E$1,Menu!$A$5:$A$22,0),MATCH(Elèves!$C5,Menu!$B$2:$AG$2,0)),"") | F5: =IFERROR(INDEX(Menu!$B$5:$AG$22,MATCH(Elèves!F$1,Menu!$A$5:$A$22,0),MATCH(Elèves!$C5,Menu!$B$2:$AG$2,0)),"") | G5: =IFERROR(INDEX(Menu!$B$5:$AG$22,MATCH(Elèves!G$1,Menu!$A$5:$A$22,0),MATCH(Elèves!$C5,Menu!$B$2:$AG$2,0)),"") | H5: =IFERROR(INDEX(Menu!$B$5:$AG$22,MATCH(Elèves!H$1,Menu!$A$5:$A$22,0),MATCH(Elèves!$C5,Menu!$B$2:$AG$2,0)),"") | I5: =IFERROR(INDEX(Menu!$B$5:$AG$22,MATCH(Elèves!I$1,Menu!$A$5:$A$22,0),MATCH(Elèves!$C5,Menu!$B$2:$AG$2,0)),"") | J5: =IFERROR(INDEX(Menu!$B$5:$AG$22,MATCH(Elèves!J$1,Menu!$A$5:$A$22,0),MATCH(Elèves!$C5,Menu!$B$2:$AG$2,0)),"") | K5: =IFERROR(INDEX(Menu!$B$5:$AG$22,MATCH(Elèves!K$1,Menu!$A$5:$A$22,0),MATCH(Elèves!$C5,Menu!$B$2:$AG$2,0)),"") | ... U5: =IFERROR(INDEX(Menu!$B$5:$AG$22,MATCH(Elèves!U$1,Menu!$A$5:$A$22,0),MATCH(Elèves!$C5,Menu!$B$2:$AG$2,0)),"")
A6: 5 | B6: Bai Charlotte | D6: =IFERROR(INDEX(Menu!$B$5:$AG$22,MATCH(Elèves!D$1,Menu!$A$5:$A$22,0),MATCH(Elèves!$C6,Menu!$B$2:$AG$2,0)),"") | E6: =IFERROR(INDEX(Menu!$B$5:$AG$22,MATCH(Elèves!E$1,Menu!$A$5:$A$22,0),MATCH(Elèves!$C6,Menu!$B$2:$AG$2,0)),"") | F6: =IFERROR(INDEX(Menu!$B$5:$AG$22,MATCH(Elèves!F$1,Menu!$A$5:$A$22,0),MATCH(Elèves!$C6,Menu!$B$2:$AG$2,0)),"") | G6: =IFERROR(INDEX(Menu!$B$5:$AG$22,MATCH(Elèves!G$1,Menu!$A$5:$A$22,0),MATCH(Elèves!$C6,Menu!$B$2:$AG$2,0)),"") | H6: =IFERROR(INDEX(Menu!$B$5:$AG$22,MATCH(Elèves!H$1,Menu!$A$5:$A$22,0),MATCH(Elèves!$C6,Menu!$B$2:$AG$2,0)),"") | I6: =IFERROR(INDEX(Menu!$B$5:$AG$22,MATCH(Elèves!I$1,Menu!$A$5:$A$22,0),MATCH(Elèves!$C6,Menu!$B$2:$AG$2,0)),"") | J6: =IFERROR(INDEX(Menu!$B$5:$AG$22,MATCH(Elèves!J$1,Menu!$A$5:$A$22,0),MATCH(Elèves!$C6,Menu!$B$2:$AG$2,0)),"") | K6: =IFERROR(INDEX(Menu!$B$5:$AG$22,MATCH(Elèves!K$1,Menu!$A$5:$A$22,0),MATCH(Elèves!$C6,Menu!$B$2:$AG$2,0)),"") | ... U6: =IFERROR(INDEX(Menu!$B$5:$AG$22,MATCH(Elèves!U$1,Menu!$A$5:$A$22,0),MATCH(Elèves!$C6,Menu!$B$2:$AG$2,0)),"")
A7: 6 | B7: Bay Laurie | D7: =IFERROR(INDEX(Menu!$B$5:$AG$22,MATCH(Elèves!D$1,Menu!$A$5:$A$22,0),MATCH(Elèves!$C7,Menu!$B$2:$AG$2,0)),"") | E7: =IFERROR(INDEX(Menu!$B$5:$AG$22,MATCH(Elèves!E$1,Menu!$A$5:$A$22,0),MATCH(Elèves!$C7,Menu!$B$2:$AG$2,0)),"") | F7: =IFERROR(INDEX(Menu!$B$5:$AG$22,MATCH(Elèves!F$1,Menu!$A$5:$A$22,0),MATCH(Elèves!$C7,Menu!$B$2:$AG$2,0)),"") | G7: =IFERROR(INDEX(Menu!$B$5:$AG$22,MATCH(Elèves!G$1,Menu!$A$5:$A$22,0),MATCH(Elèves!$C7,Menu!$B$2:$AG$2,0)),"") | H7: =IFERROR(INDEX(Menu!$B$5:$AG$22,MATCH(Elèves!H$1,Menu!$A$5:$A$22,0),MATCH(Elèves!$C7,Menu!$B$2:$AG$2,0)),"") | I7: =IFERROR(INDEX(Menu!$B$5:$AG$22,MATCH(Elèves!I$1,Menu!$A$5:$A$22,0),MATCH(Elèves!$C7,Menu!$B$2:$AG$2,0)),"") | J7: =IFERROR(INDEX(Menu!$B$5:$AG$22,MATCH(Elèves!J$1,Menu!$A$5:$A$22,0),MATCH(Elèves!$C7,Menu!$B$2:$AG$2,0)),"") | K7: =IFERROR(INDEX(Menu!$B$5:$AG$22,MATCH(Elèves!K$1,Menu!$A$5:$A$22,0),MATCH(Elèves!$C7,Menu!$B$2:$AG$2,0)),"") | ... U7: =IFERROR(INDEX(Menu!$B$5:$AG$22,MATCH(Elèves!U$1,Menu!$A$5:$A$22,0),MATCH(Elèves!$C7,Menu!$B$2:$AG$2,0)),"")
A8: 7 | B8: Beghin Florette | D8: =IFERROR(INDEX(Menu!$B$5:$AG$22,MATCH(Elèves!D$1,Menu!$A$5:$A$22,0),MATCH(Elèves!$C8,Menu!$B$2:$AG$2,0)),"") | E8: =IFERROR(INDEX(Menu!$B$5:$AG$22,MATCH(Elèves!E$1,Menu!$A$5:$A$22,0),MATCH(Elèves!$C8,Menu!$B$2:$AG$2,0)),"") | F8: =IFERROR(INDEX(Menu!$B$5:$AG$22,MATCH(Elèves!F$1,Menu!$A$5:$A$22,0),MATCH(Elèves!$C8,Menu!$B$2:$AG$2,0)),"") | G8: =IFERROR(INDEX(Menu!$B$5:$AG$22,MATCH(Elèves!G$1,Menu!$A$5:$A$22,0),MATCH(Elèves!$C8,Menu!$B$2:$AG$2,0)),"") | H8: =IFERROR(INDEX(Menu!$B$5:$AG$22,MATCH(Elèves!H$1,Menu!$A$5:$A$22,0),MATCH(Elèves!$C8,Menu!$B$2:$AG$2,0)),"") | I8: =IFERROR(INDEX(Menu!$B$5:$AG$22,MATCH(Elèves!I$1,Menu!$A$5:$A$22,0),MATCH(Elèves!$C8,Menu!$B$2:$AG$2,0)),"") | J8: =IFERROR(INDEX(Menu!$B$5:$AG$22,MATCH(Elèves!J$1,Menu!$A$5:$A$22,0),MATCH(Elèves!$C8,Menu!$B$2:$AG$2,0)),"") | K8: =IFERROR(INDEX(Menu!$B$5:$AG$22,MATCH(Elèves!K$1,Menu!$A$5:$A$22,0),MATCH(Elèves!$C8,Menu!$B$2:$AG$2,0)),"") | ... U8: =IFERROR(INDEX(Menu!$B$5:$AG$22,MATCH(Elèves!U$1,Menu!$A$5:$A$22,0),MATCH(Elèves!$C8,Menu!$B$2:$AG$2,0)),"")
A9: 8 | B9: Bindels Marion | D9: =IFERROR(INDEX(Menu!$B$5:$AG$22,MATCH(Elèves!D$1,Menu!$A$5:$A$22,0),MATCH(Elèves!$C9,Menu!$B$2:$AG$2,0)),"") | E9: =IFERROR(INDEX(Menu!$B$5:$AG$22,MATCH(Elèves!E$1,Menu!$A$5:$A$22,0),MATCH(Elèves!$C9,Menu!$B$2:$AG$2,0)),"") | F9: =IFERROR(INDEX(Menu!$B$5:$AG$22,MATCH(Elèves!F$1,Menu!$A$5:$A$22,0),MATCH(Elèves!$C9,Menu!$B$2:$AG$2,0)),"") | G9: =IFERROR(INDEX(Menu!$B$5:$AG$22,MATCH(Elèves!G$1,Menu!$A$5:$A$22,0),MATCH(Elèves!$C9,Menu!$B$2:$AG$2,0)),"") | H9: =IFERROR(INDEX(Menu!$B$5:$AG$22,MATCH(Elèves!H$1,Menu!$A$5:$A$22,0),MATCH(Elèves!$C9,Menu!$B$2:$AG$2,0)),"") | I9: =IFERROR(INDEX(Menu!$B$5:$AG$22,MATCH(Elèves!I$1,Menu!$A$5:$A$22,0),MATCH(Elèves!$C9,Menu!$B$2:$AG$2,0)),"") | J9: =IFERROR(INDEX(Menu!$B$5:$AG$22,MATCH(Elèves!J$1,Menu!$A$5:$A$22,0),MATCH(Elèves!$C9,Menu!$B$2:$AG$2,0)),"") | K9: =IFERROR(INDEX(Menu!$B$5:$AG$22,MATCH(Elèves!K$1,Menu!$A$5:$A$22,0),MATCH(Elèves!$C9,Menu!$B$2:$AG$2,0)),"") | ... U9: =IFERROR(INDEX(Menu!$B$5:$AG$22,MATCH(Elèves!U$1,Menu!$A$5:$A$22,0),MATCH(Elèves!$C9,Menu!$B$2:$AG$2,0)),"")
A10: 9 | B10: Binet Romain | D10: =IFERROR(INDEX(Menu!$B$5:$AG$22,MATCH(Elèves!D$1,Menu!$A$5:$A$22,0),MATCH(Elèves!$C10,Menu!$B$2:$AG$2,0)),"") | E10: =IFERROR(INDEX(Menu!$B$5:$AG$22,MATCH(Elèves!E$1,Menu!$A$5:$A$22,0),MATCH(Elèves!$C10,Menu!$B$2:$AG$2,0)),"") | F10: =IFERROR(INDEX(Menu!$B$5:$AG$22,MATCH(Elèves!F$1,Menu!$A$5:$A$22,0),MATCH(Elèves!$C10,Menu!$B$2:$AG$2,0)),"") | G10: =IFERROR(INDEX(Menu!$B$5:$AG$22,MATCH(Elèves!G$1,Menu!$A$5:$A$22,0),MATCH(Elèves!$C10,Menu!$B$2:$AG$2,0)),"") | H10: =IFERROR(INDEX(Menu!$B$5:$AG$22,MATCH(Elèves!H$1,Menu!$A$5:$A$22,0),MATCH(Elèves!$C10,Menu!$B$2:$AG$2,0)),"") | I10: =IFERROR(INDEX(Menu!$B$5:$AG$22,MATCH(Elèves!I$1,Menu!$A$5:$A$22,0),MATCH(Elèves!$C10,Menu!$B$2:$AG$2,0)),"") | J10: =IFERROR(INDEX(Menu!$B$5:$AG$22,MATCH(Elèves!J$1,Menu!$A$5:$A$22,0),MATCH(Elèves!$C10,Menu!$B$2:$AG$2,0)),"") | K10: =IFERROR(INDEX(Menu!$B$5:$AG$22,MATCH(Elèves!K$1,Menu!$A$5:$A$22,0),MATCH(Elèves!$C10,Menu!$B$2:$AG$2,0)),"") | ... U10: =IFERROR(INDEX(Menu!$B$5:$AG$22,MATCH(Elèves!U$1,Menu!$A$5:$A$22,0),MATCH(Elèves!$C10,Menu!$B$2:$AG$2,0)),"")
A11: 10 | B11: Borlon Manon | D11: =IFERROR(INDEX(Menu!$B$5:$AG$22,MATCH(Elèves!D$1,Menu!$A$5:$A$22,0),MATCH(Elèves!$C11,Menu!$B$2:$AG$2,0)),"") | E11: =IFERROR(INDEX(Menu!$B$5:$AG$22,MATCH(Elèves!E$1,Menu!$A$5:$A$22,0),MATCH(Elèves!$C11,Menu!$B$2:$AG$2,0)),"") | F11: =IFERROR(INDEX(Menu!$B$5:$AG$22,MATCH(Elèves!F$1,Menu!$A$5:$A$22,0),MATCH(Elèves!$C11,Menu!$B$2:$AG$2,0)),"") | G11: =IFERROR(INDEX(Menu!$B$5:$AG$22,MATCH(Elèves!G$1,Menu!$A$5:$A$22,0),MATCH(Elèves!$C11,Menu!$B$2:$AG$2,0)),"") | H11: =IFERROR(INDEX(Menu!$B$5:$AG$22,MATCH(Elèves!H$1,Menu!$A$5:$A$22,0),MATCH(Elèves!$C11,Menu!$B$2:$AG$2,0)),"") | I11: =IFERROR(INDEX(Menu!$B$5:$AG$22,MATCH(Elèves!I$1,Menu!$A$5:$A$22,0),MATCH(Elèves!$C11,Menu!$B$2:$AG$2,0)),"") | J11: =IFERROR(INDEX(Menu!$B$5:$AG$22,MATCH(Elèves!J$1,Menu!$A$5:$A$22,0),MATCH(Elèves!$C11,Menu!$B$2:$AG$2,0)),"") | K11: =IFERROR(INDEX(Menu!$B$5:$AG$22,MATCH(Elèves!K$1,Menu!$A$5:$A$22,0),MATCH(Elèves!$C11,Menu!$B$2:$AG$2,0)),"") | ... U11: =IFERROR(INDEX(Menu!$B$5:$AG$22,MATCH(Elèves!U$1,Menu!$A$5:$A$22,0),MATCH(Elèves!$C11,Menu!$B$2:$AG$2,0)),"")
A12: 11 | B12: Boulard Valentine | D12: =IFERROR(INDEX(Menu!$B$5:$AG$22,MATCH(Elèves!D$1,Menu!$A$5:$A$22,0),MATCH(Elèves!$C12,Menu!$B$2:$AG$2,0)),"") | E12: =IFERROR(INDEX(Menu!$B$5:$AG$22,MATCH(Elèves!E$1,Menu!$A$5:$A$22,0),MATCH(Elèves!$C12,Menu!$B$2:$AG$2,0)),"") | F12: =IFERROR(INDEX(Menu!$B$5:$AG$22,MATCH(Elèves!F$1,Menu!$A$5:$A$22,0),MATCH(Elèves!$C12,Menu!$B$2:$AG$2,0)),"") | G12: =IFERROR(INDEX(Menu!$B$5:$AG$22,MATCH(Elèves!G$1,Menu!$A$5:$A$22,0),MATCH(Elèves!$C12,Menu!$B$2:$AG$2,0)),"") | H12: =IFERROR(INDEX(Menu!$B$5:$AG$22,MATCH(Elèves!H$1,Menu!$A$5:$A$22,0),MATCH(Elèves!$C12,Menu!$B$2:$AG$2,0)),"") | I12: =IFERROR(INDEX(Menu!$B$5:$AG$22,MATCH(Elèves!I$1,Menu!$A$5:$A$22,0),MATCH(Elèves!$C12,Menu!$B$2:$AG$2,0)),"") | J12: =IFERROR(INDEX(Menu!$B$5:$AG$22,MATCH(Elèves!J$1,Menu!$A$5:$A$22,0),MATCH(Elèves!$C12,Menu!$B$2:$AG$2,0)),"") | K12: =IFERROR(INDEX(Menu!$B$5:$AG$22,MATCH(Elèves!K$1,Menu!$A$5:$A$22,0),MATCH(Elèves!$C12,Menu!$B$2:$AG$2,0)),"") | ... U12: =IFERROR(INDEX(Menu!$B$5:$AG$22,MATCH(Elèves!U$1,Menu!$A$5:$A$22,0),MATCH(Elèves!$C12,Menu!$B$2:$AG$2,0)),"")
A13: 12 | B13: Bourguignon Juliette | D13: =IFERROR(INDEX(Menu!$B$5:$AG$22,MATCH(Elèves!D$1,Menu!$A$5:$A$22,0),MATCH(Elèves!$C13,Menu!$B$2:$AG$2,0)),"") | E13: =IFERROR(INDEX(Menu!$B$5:$AG$22,MATCH(Elèves!E$1,Menu!$A$5:$A$22,0),MATCH(Elèves!$C13,Menu!$B$2:$AG$2,0)),"") | F13: =IFERROR(INDEX(Menu!$B$5:$AG$22,MATCH(Elèves!F$1,Menu!$A$5:$A$22,0),MATCH(Elèves!$C13,Menu!$B$2:$AG$2,0)),"") | G13: =IFERROR(INDEX(Menu!$B$5:$AG$22,MATCH(Elèves!G$1,Menu!$A$5:$A$22,0),MATCH(Elèves!$C13,Menu!$B$2:$AG$2,0)),"") | H13: =IFERROR(INDEX(Menu!$B$5:$AG$22,MATCH(Elèves!H$1,Menu!$A$5:$A$22,0),MATCH(Elèves!$C13,Menu!$B$2:$AG$2,0)),"") | I13: =IFERROR(INDEX(Menu!$B$5:$AG$22,MATCH(Elèves!I$1,Menu!$A$5:$A$22,0),MATCH(Elèves!$C13,Menu!$B$2:$AG$2,0)),"") | J13: =IFERROR(INDEX(Menu!$B$5:$AG$22,MATCH(Elèves!J$1,Menu!$A$5:$A$22,0),MATCH(Elèves!$C13,Menu!$B$2:$AG$2,0)),"") | K13: =IFERROR(INDEX(Menu!$B$5:$AG$22,MATCH(Elèves!K$1,Menu!$A$5:$A$22,0),MATCH(Elèves!$C13,Menu!$B$2:$AG$2,0)),"") | ... U13: =IFERROR(INDEX(Menu!$B$5:$AG$22,MATCH(Elèves!U$1,Menu!$A$5:$A$22,0),MATCH(Elèves!$C13,Menu!$B$2:$AG$2,0)),"")
A14: 13 | B14: Breithof Victor | D14: =IFERROR(INDEX(Menu!$B$5:$AG$22,MATCH(Elèves!D$1,Menu!$A$5:$A$22,0),MATCH(Elèves!$C14,Menu!$B$2:$AG$2,0)),"") | E14: =IFERROR(INDEX(Menu!$B$5:$AG$22,MATCH(Elèves!E$1,Menu!$A$5:$A$22,0),MATCH(Elèves!$C14,Menu!$B$2:$AG$2,0)),"") | F14: =IFERROR(INDEX(Menu!$B$5:$AG$22,MATCH(Elèves!F$1,Menu!$A$5:$A$22,0),MATCH(Elèves!$C14,Menu!$B$2:$AG$2,0)),"") | G14: =IFERROR(INDEX(Menu!$B$5:$AG$22,MATCH(Elèves!G$1,Menu!$A$5:$A$22,0),MATCH(Elèves!$C14,Menu!$B$2:$AG$2,0)),"") | H14: =IFERROR(INDEX(Menu!$B$5:$AG$22,MATCH(Elèves!H$1,Menu!$A$5:$A$22,0),MATCH(Elèves!$C14,Menu!$B$2:$AG$2,0)),"") | I14: =IFERROR(INDEX(Menu!$B$5:$AG$22,MATCH(Elèves!I$1,Menu!$A$5:$A$22,0),MATCH(Elèves!$C14,Menu!$B$2:$AG$2,0)),"") | J14: =IFERROR(INDEX(Menu!$B$5:$AG$22,MATCH(Elèves!J$1,Menu!$A$5:$A$22,0),MATCH(Elèves!$C14,Menu!$B$2:$AG$2,0)),"") | K14: =IFERROR(INDEX(Menu!$B$5:$AG$22,MATCH(Elèves!K$1,Menu!$A$5:$A$22,0),MATCH(Elèves!$C14,Menu!$B$2:$AG$2,0)),"") | ... U14: =IFERROR(INDEX(Menu!$B$5:$AG$22,MATCH(Elèves!U$1,Menu!$A$5:$A$22,0),MATCH(Elèves!$C14,Menu!$B$2:$AG$2,0)),"")
A15: 14 | B15: Brisy Camie | D15: =IFERROR(INDEX(Menu!$B$5:$AG$22,MATCH(Elèves!D$1,Menu!$A$5:$A$22,0),MATCH(Elèves!$C15,Menu!$B$2:$AG$2,0)),"") | E15: =IFERROR(INDEX(Menu!$B$5:$AG$22,MATCH(Elèves!E$1,Menu!$A$5:$A$22,0),MATCH(Elèves!$C15,Menu!$B$2:$AG$2,0)),"") | F15: =IFERROR(INDEX(Menu!$B$5:$AG$22,MATCH(Elèves!F$1,Menu!$A$5:$A$22,0),MATCH(Elèves!$C15,Menu!$B$2:$AG$2,0)),"") | G15: =IFERROR(INDEX(Menu!$B$5:$AG$22,MATCH(Elèves!G$1,Menu!$A$5:$A$22,0),MATCH(Elèves!$C15,Menu!$B$2:$AG$2,0)),"") | H15: =IFERROR(INDEX(Menu!$B$5:$AG$22,MATCH(Elèves!H$1,Menu!$A$5:$A$22,0),MATCH(Elèves!$C15,Menu!$B$2:$AG$2,0)),"") | I15: =IFERROR(INDEX(Menu!$B$5:$AG$22,MATCH(Elèves!I$1,Menu!$A$5:$A$22,0),MATCH(Elèves!$C15,Menu!$B$2:$AG$2,0)),"") | J15: =IFERROR(INDEX(Menu!$B$5:$AG$22,MATCH(Elèves!J$1,Menu!$A$5:$A$22,0),MATCH(Elèves!$C15,Menu!$B$2:$AG$2,0)),"") | K15: =IFERROR(INDEX(Menu!$B$5:$AG$22,MATCH(Elèves!K$1,Menu!$A$5:$A$22,0),MATCH(Elèves!$C15,Menu!$B$2:$AG$2,0)),"") | ... U15: =IFERROR(INDEX(Menu!$B$5:$AG$22,MATCH(Elèves!U$1,Menu!$A$5:$A$22,0),MATCH(Elèves!$C15,Menu!$B$2:$AG$2,0)),"")
A16: 15 | B16: Brulet Martin | D16: =IFERROR(INDEX(Menu!$B$5:$AG$22,MATCH(Elèves!D$1,Menu!$A$5:$A$22,0),MATCH(Elèves!$C16,Menu!$B$2:$AG$2,0)),"") | E16: =IFERROR(INDEX(Menu!$B$5:$AG$22,MATCH(Elèves!E$1,Menu!$A$5:$A$22,0),MATCH(Elèves!$C16,Menu!$B$2:$AG$2,0)),"") | F16: =IFERROR(INDEX(Menu!$B$5:$AG$22,MATCH(Elèves!F$1,Menu!$A$5:$A$22,0),MATCH(Elèves!$C16,Menu!$B$2:$AG$2,0)),"") | G16: =IFERROR(INDEX(Menu!$B$5:$AG$22,MATCH(Elèves!G$1,Menu!$A$5:$A$22,0),MATCH(Elèves!$C16,Menu!$B$2:$AG$2,0)),"") | H16: =IFERROR(INDEX(Menu!$B$5:$AG$22,MATCH(Elèves!H$1,Menu!$A$5:$A$22,0),MATCH(Elèves!$C16,Menu!$B$2:$AG$2,0)),"") | I16: =IFERROR(INDEX(Menu!$B$5:$AG$22,MATCH(Elèves!I$1,Menu!$A$5:$A$22,0),MATCH(Elèves!$C16,Menu!$B$2:$AG$2,0)),"") | J16: =IFERROR(INDEX(Menu!$B$5:$AG$22,MATCH(Elèves!J$1,Menu!$A$5:$A$22,0),MATCH(Elèves!$C16,Menu!$B$2:$AG$2,0)),"") | K16: =IFERROR(INDEX(Menu!$B$5:$AG$22,MATCH(Elèves!K$1,Menu!$A$5:$A$22,0),MATCH(Elèves!$C16,Menu!$B$2:$AG$2,0)),"") | ... U16: =IFERROR(INDEX(Menu!$B$5:$AG$22,MATCH(Elèves!U$1,Menu!$A$5:$A$22,0),MATCH(Elèves!$C16,Menu!$B$2:$AG$2,0)),"")
... A76: 75 | B76: VANGEYTE Océane | D76: =IFERROR(INDEX(Menu!$B$5:$AG$22,MATCH(Elèves!D$1,Menu!$A$5:$A$22,0),MATCH(Elèves!$C76,Menu!$B$2:$AG$2,0)),"") | E76: =IFERROR(INDEX(Menu!$B$5:$AG$22,MATCH(Elèves!E$1,Menu!$A$5:$A$22,0),MATCH(Elèves!$C76,Menu!$B$2:$AG$2,0)),"") | F76: =IFERROR(INDEX(Menu!$B$5:$AG$22,MATCH(Elèves!F$1,Menu!$A$5:$A$22,0),MATCH(Elèves!$C76,Menu!$B$2:$AG$2,0)),"") | G76: =IFERROR(INDEX(Menu!$B$5:$AG$22,MATCH(Elèves!G$1,Menu!$A$5:$A$22,0),MATCH(Elèves!$C76,Menu!$B$2:$AG$2,0)),"") | H76: =IFERROR(INDEX(Menu!$B$5:$AG$22,MATCH(Elèves!H$1,Menu!$A$5:$A$22,0),MATCH(Elèves!$C76,Menu!$B$2:$AG$2,0)),"") | I76: =IFERROR(INDEX(Menu!$B$5:$AG$22,MATCH(Elèves!I$1,Menu!$A$5:$A$22,0),MATCH(Elèves!$C76,Menu!$B$2:$AG$2,0)),"") | J76: =IFERROR(INDEX(Menu!$B$5:$AG$22,MATCH(Elèves!J$1,Menu!$A$5:$A$22,0),MATCH(Elèves!$C76,Menu!$B$2:$AG$2,0)),"") | K76: =IFERROR(INDEX(Menu!$B$5:$AG$22,MATCH(Elèves!K$1,Menu!$A$5:$A$22,0),MATCH(Elèves!$C76,Menu!$B$2:$AG$2,0)),"") | ... U76: =IFERROR(INDEX(Menu!$B$5:$AG$22,MATCH(Elèves!U$1,Menu!$A$5:$A$22,0),MATCH(Elèves!$C76,Menu!$B$2:$AG$2,0)),"")
