Workbook
Name articles: #REF!
Name chevrons: #REF!
Name grilles: #REF!
Name lattes: #REF!
Name planches: #REF!
Name traitement: #REF!

Sheet devis
B2: détail des articles | I2: unité de vente
A3: Ligne | B3: désignation | C3: sections | D3: traitement | E3: coloris | F3: longueurs | G3: unité | H3: m3 | I3: unité | J3: Piece | K3: unité | L3: M² | M3: unité | N3: PAHT | O3: coef | P3: PVHT | Q3: quantité | R3: Prix total HT
A4: grilles 30/25 | B4: =IF(ISBLANK($A4),"",VLOOKUP($A4,données!$A$3:$O$38,COLUMN(),FALSE)) -> grilles | C4: =IF(ISBLANK($A4),"",VLOOKUP($A4,données!$A$3:$O$38,COLUMN(),FALSE)) -> 30/25 | D4: =IF(ISBLANK($A4),"",VLOOKUP($A4,données!$A$3:$O$38,COLUMN(),FALSE)) -> 0 | E4: =IF(ISBLANK($A4),"",VLOOKUP($A4,données!$A$3:$O$38,COLUMN(),FALSE)) -> 0 | F4: =IF(ISBLANK($A4),"",VLOOKUP($A4,données!$A$3:$O$38,COLUMN(),FALSE)) -> 0 | G4: =IF(ISBLANK($A4),"",VLOOKUP($A4,données!$A$3:$O$38,COLUMN(),FALSE)) -> 0 | H4: =IF(ISBLANK($A4),"",VLOOKUP($A4,données!$A$3:$O$38,COLUMN(),FALSE)) -> 0 | I4: =IF(ISBLANK($A4),"",VLOOKUP($A4,données!$A$3:$O$38,COLUMN(),FALSE)) -> 0 | ... O4: =IF(ISBLANK($A4),"",VLOOKUP($A4,données!$A$3:$O$38,COLUMN(),FALSE)) -> 2 | R4: =Q4*P4 -> 0
A5: chevrons 40/60 Classe 2 3 ML | B5: =IF(ISBLANK($A5),"",VLOOKUP($A5,données!$A$3:$O$38,COLUMN(),FALSE)&"") -> chevrons | C5: =IF(ISBLANK($A5),"",VLOOKUP($A5,données!$A$3:$O$38,COLUMN(),FALSE)&"") -> 40/60 | D5: =IF(ISBLANK($A5),"",VLOOKUP($A5,données!$A$3:$O$38,COLUMN(),FALSE)&"") -> Classe 2 | E5: =IF(ISBLANK($A5),"",VLOOKUP($A5,données!$A$3:$O$38,COLUMN(),FALSE)&"") | F5: =IF(ISBLANK($A5),"",VLOOKUP($A5,données!$A$3:$O$38,COLUMN(),FALSE)&"") -> 3 | G5: =IF(ISBLANK($A5),"",VLOOKUP($A5,données!$A$3:$O$38,COLUMN(),FALSE)&"") -> ML | H5: =IF(ISBLANK($A5),"",VLOOKUP($A5,données!$A$3:$O$38,COLUMN(),FALSE)) -> 0.0072 | I5: =IF(ISBLANK($A5),"",VLOOKUP($A5,données!$A$3:$O$38,COLUMN(),FALSE)) -> M3 | J5: =IF(ISBLANK($A5),"",VLOOKUP($A5,données!$A$3:$O$38,COLUMN(),FALSE)) -> 1 | K5: =IF(ISBLANK($A5),"",VLOOKUP($A5,données!$A$3:$O$38,COLUMN(),FALSE)) -> PC | L5: =IF(ISBLANK($A5),"",VLOOKUP($A5,données!$A$3:$O$38,COLUMN(),FALSE)) -> 0 | M5: =IF(ISBLANK($A5),"",VLOOKUP($A5,données!$A$3:$O$38,COLUMN(),FALSE)) -> 0 | N5: =IF(ISBLANK($A5),"",VLOOKUP($A5,données!$A$3:$O$38,COLUMN(),FALSE)) -> 3 | O5: =IF(ISBLANK($A5),"",VLOOKUP($A5,données!$A$3:$O$38,COLUMN(),FALSE)) -> 1.2
B6: =IF(ISBLANK($A6),"",VLOOKUP($A6,données!$A$3:$O$38,COLUMN(),FALSE)) | C6: =IF(ISBLANK($A6),"",VLOOKUP($A6,données!$A$3:$O$38,COLUMN(),FALSE)) | D6: =IF(ISBLANK($A6),"",VLOOKUP($A6,données!$A$3:$O$38,COLUMN(),FALSE)) | E6: =IF(ISBLANK($A6),"",VLOOKUP($A6,données!$A$3:$O$38,COLUMN(),FALSE)) | F6: =IF(ISBLANK($A6),"",VLOOKUP($A6,données!$A$3:$O$38,COLUMN(),FALSE)) | G6: =IF(ISBLANK($A6),"",VLOOKUP($A6,données!$A$3:$O$38,COLUMN(),FALSE)) | H6: =IF(ISBLANK($A6),"",VLOOKUP($A6,données!$A$3:$O$38,COLUMN(),FALSE)) | I6: =IF(ISBLANK($A6),"",VLOOKUP($A6,données!$A$3:$O$38,COLUMN(),FALSE)) | ... O6: =IF(ISBLANK($A6),"",VLOOKUP($A6,données!$A$3:$O$38,COLUMN(),FALSE))
B7: =IF(ISBLANK($A7),"",VLOOKUP($A7,données!$A$3:$O$38,COLUMN(),FALSE)) | C7: =IF(ISBLANK($A7),"",VLOOKUP($A7,données!$A$3:$O$38,COLUMN(),FALSE)) | D7: =IF(ISBLANK($A7),"",VLOOKUP($A7,données!$A$3:$O$38,COLUMN(),FALSE)) | E7: =IF(ISBLANK($A7),"",VLOOKUP($A7,données!$A$3:$O$38,COLUMN(),FALSE)) | F7: =IF(ISBLANK($A7),"",VLOOKUP($A7,données!$A$3:$O$38,COLUMN(),FALSE)) | G7: =IF(ISBLANK($A7),"",VLOOKUP($A7,données!$A$3:$O$38,COLUMN(),FALSE)) | H7: =IF(ISBLANK($A7),"",VLOOKUP($A7,données!$A$3:$O$38,COLUMN(),FALSE)) | I7: =IF(ISBLANK($A7),"",VLOOKUP($A7,données!$A$3:$O$38,COLUMN(),FALSE)) | ... O7: =IF(ISBLANK($A7),"",VLOOKUP($A7,données!$A$3:$O$38,COLUMN(),FALSE))
B8: =IF(ISBLANK($A8),"",VLOOKUP($A8,données!$A$3:$O$38,COLUMN(),FALSE)) | C8: =IF(ISBLANK($A8),"",VLOOKUP($A8,données!$A$3:$O$38,COLUMN(),FALSE)) | D8: =IF(ISBLANK($A8),"",VLOOKUP($A8,données!$A$3:$O$38,COLUMN(),FALSE)) | E8: =IF(ISBLANK($A8),"",VLOOKUP($A8,données!$A$3:$O$38,COLUMN(),FALSE)) | F8: =IF(ISBLANK($A8),"",VLOOKUP($A8,données!$A$3:$O$38,COLUMN(),FALSE)) | G8: =IF(ISBLANK($A8),"",VLOOKUP($A8,données!$A$3:$O$38,COLUMN(),FALSE)) | H8: =IF(ISBLANK($A8),"",VLOOKUP($A8,données!$A$3:$O$38,COLUMN(),FALSE)) | I8: =IF(ISBLANK($A8),"",VLOOKUP($A8,données!$A$3:$O$38,COLUMN(),FALSE)) | ... O8: =IF(ISBLANK($A8),"",VLOOKUP($A8,données!$A$3:$O$38,COLUMN(),FALSE))
B9: =IF(ISBLANK($A9),"",VLOOKUP($A9,données!$A$3:$O$38,COLUMN(),FALSE)) | C9: =IF(ISBLANK($A9),"",VLOOKUP($A9,données!$A$3:$O$38,COLUMN(),FALSE)) | D9: =IF(ISBLANK($A9),"",VLOOKUP($A9,données!$A$3:$O$38,COLUMN(),FALSE)) | E9: =IF(ISBLANK($A9),"",VLOOKUP($A9,données!$A$3:$O$38,COLUMN(),FALSE)) | F9: =IF(ISBLANK($A9),"",VLOOKUP($A9,données!$A$3:$O$38,COLUMN(),FALSE)) | G9: =IF(ISBLANK($A9),"",VLOOKUP($A9,données!$A$3:$O$38,COLUMN(),FALSE)) | H9: =IF(ISBLANK($A9),"",VLOOKUP($A9,données!$A$3:$O$38,COLUMN(),FALSE)) | I9: =IF(ISBLANK($A9),"",VLOOKUP($A9,données!$A$3:$O$38,COLUMN(),FALSE)) | ... O9: =IF(ISBLANK($A9),"",VLOOKUP($A9,données!$A$3:$O$38,COLUMN(),FALSE))
B10: =IF(ISBLANK($A10),"",VLOOKUP($A10,données!$A$3:$O$38,COLUMN(),FALSE)) | C10: =IF(ISBLANK($A10),"",VLOOKUP($A10,données!$A$3:$O$38,COLUMN(),FALSE)) | D10: =IF(ISBLANK($A10),"",VLOOKUP($A10,données!$A$3:$O$38,COLUMN(),FALSE)) | E10: =IF(ISBLANK($A10),"",VLOOKUP($A10,données!$A$3:$O$38,COLUMN(),FALSE)) | F10: =IF(ISBLANK($A10),"",VLOOKUP($A10,données!$A$3:$O$38,COLUMN(),FALSE)) | G10: =IF(ISBLANK($A10),"",VLOOKUP($A10,données!$A$3:$O$38,COLUMN(),FALSE)) | H10: =IF(ISBLANK($A10),"",VLOOKUP($A10,données!$A$3:$O$38,COLUMN(),FALSE)) | I10: =IF(ISBLANK($A10),"",VLOOKUP($A10,données!$A$3:$O$38,COLUMN(),FALSE)) | ... O10: =IF(ISBLANK($A10),"",VLOOKUP($A10,données!$A$3:$O$38,COLUMN(),FALSE))
B11: =IF(ISBLANK($A11),"",VLOOKUP($A11,données!$A$3:$O$38,COLUMN(),FALSE)) | C11: =IF(ISBLANK($A11),"",VLOOKUP($A11,données!$A$3:$O$38,COLUMN(),FALSE)) | D11: =IF(ISBLANK($A11),"",VLOOKUP($A11,données!$A$3:$O$38,COLUMN(),FALSE)) | E11: =IF(ISBLANK($A11),"",VLOOKUP($A11,données!$A$3:$O$38,COLUMN(),FALSE)) | F11: =IF(ISBLANK($A11),"",VLOOKUP($A11,données!$A$3:$O$38,COLUMN(),FALSE)) | G11: =IF(ISBLANK($A11),"",VLOOKUP($A11,données!$A$3:$O$38,COLUMN(),FALSE)) | H11: =IF(ISBLANK($A11),"",VLOOKUP($A11,données!$A$3:$O$38,COLUMN(),FALSE)) | I11: =IF(ISBLANK($A11),"",VLOOKUP($A11,données!$A$3:$O$38,COLUMN(),FALSE)) | ... O11: =IF(ISBLANK($A11),"",VLOOKUP($A11,données!$A$3:$O$38,COLUMN(),FALSE))
B12: =IF(ISBLANK($A12),"",VLOOKUP($A12,données!$A$3:$O$38,COLUMN(),FALSE)) | C12: =IF(ISBLANK($A12),"",VLOOKUP($A12,données!$A$3:$O$38,COLUMN(),FALSE)) | D12: =IF(ISBLANK($A12),"",VLOOKUP($A12,données!$A$3:$O$38,COLUMN(),FALSE)) | E12: =IF(ISBLANK($A12),"",VLOOKUP($A12,données!$A$3:$O$38,COLUMN(),FALSE)) | F12: =IF(ISBLANK($A12),"",VLOOKUP($A12,données!$A$3:$O$38,COLUMN(),FALSE)) | G12: =IF(ISBLANK($A12),"",VLOOKUP($A12,données!$A$3:$O$38,COLUMN(),FALSE)) | H12: =IF(ISBLANK($A12),"",VLOOKUP($A12,données!$A$3:$O$38,COLUMN(),FALSE)) | I12: =IF(ISBLANK($A12),"",VLOOKUP($A12,données!$A$3:$O$38,COLUMN(),FALSE)) | ... O12: =IF(ISBLANK($A12),"",VLOOKUP($A12,données!$A$3:$O$38,COLUMN(),FALSE))
B13: =IF(ISBLANK($A13),"",VLOOKUP($A13,données!$A$3:$O$38,COLUMN(),FALSE)) | C13: =IF(ISBLANK($A13),"",VLOOKUP($A13,données!$A$3:$O$38,COLUMN(),FALSE)) | D13: =IF(ISBLANK($A13),"",VLOOKUP($A13,données!$A$3:$O$38,COLUMN(),FALSE)) | E13: =IF(ISBLANK($A13),"",VLOOKUP($A13,données!$A$3:$O$38,COLUMN(),FALSE)) | F13: =IF(ISBLANK($A13),"",VLOOKUP($A13,données!$A$3:$O$38,COLUMN(),FALSE)) | G13: =IF(ISBLANK($A13),"",VLOOKUP($A13,données!$A$3:$O$38,COLUMN(),FALSE)) | H13: =IF(ISBLANK($A13),"",VLOOKUP($A13,données!$A$3:$O$38,COLUMN(),FALSE)) | I13: =IF(ISBLANK($A13),"",VLOOKUP($A13,données!$A$3:$O$38,COLUMN(),FALSE)) | ... O13: =IF(ISBLANK($A13),"",VLOOKUP($A13,données!$A$3:$O$38,COLUMN(),FALSE))
B14: =IF(ISBLANK($A14),"",VLOOKUP($A14,données!$A$3:$O$38,COLUMN(),FALSE)) | C14: =IF(ISBLANK($A14),"",VLOOKUP($A14,données!$A$3:$O$38,COLUMN(),FALSE)) | D14: =IF(ISBLANK($A14),"",VLOOKUP($A14,données!$A$3:$O$38,COLUMN(),FALSE)) | E14: =IF(ISBLANK($A14),"",VLOOKUP($A14,données!$A$3:$O$38,COLUMN(),FALSE)) | F14: =IF(ISBLANK($A14),"",VLOOKUP($A14,données!$A$3:$O$38,COLUMN(),FALSE)) | G14: =IF(ISBLANK($A14),"",VLOOKUP($A14,données!$A$3:$O$38,COLUMN(),FALSE)) | H14: =IF(ISBLANK($A14),"",VLOOKUP($A14,données!$A$3:$O$38,COLUMN(),FALSE)) | I14: =IF(ISBLANK($A14),"",VLOOKUP($A14,données!$A$3:$O$38,COLUMN(),FALSE)) | ... O14: =IF(ISBLANK($A14),"",VLOOKUP($A14,données!$A$3:$O$38,COLUMN(),FALSE))
B15: =IF(ISBLANK($A15),"",VLOOKUP($A15,données!$A$3:$O$38,COLUMN(),FALSE)) | C15: =IF(ISBLANK($A15),"",VLOOKUP($A15,données!$A$3:$O$38,COLUMN(),FALSE)) | D15: =IF(ISBLANK($A15),"",VLOOKUP($A15,données!$A$3:$O$38,COLUMN(),FALSE)) | E15: =IF(ISBLANK($A15),"",VLOOKUP($A15,données!$A$3:$O$38,COLUMN(),FALSE)) | F15: =IF(ISBLANK($A15),"",VLOOKUP($A15,données!$A$3:$O$38,COLUMN(),FALSE)) | G15: =IF(ISBLANK($A15),"",VLOOKUP($A15,données!$A$3:$O$38,COLUMN(),FALSE)) | H15: =IF(ISBLANK($A15),"",VLOOKUP($A15,données!$A$3:$O$38,COLUMN(),FALSE)) | I15: =IF(ISBLANK($A15),"",VLOOKUP($A15,données!$A$3:$O$38,COLUMN(),FALSE)) | ... O15: =IF(ISBLANK($A15),"",VLOOKUP($A15,données!$A$3:$O$38,COLUMN(),FALSE))
B16: =IF(ISBLANK($A16),"",VLOOKUP($A16,données!$A$3:$O$38,COLUMN(),FALSE)) | C16: =IF(ISBLANK($A16),"",VLOOKUP($A16,données!$A$3:$O$38,COLUMN(),FALSE)) | D16: =IF(ISBLANK($A16),"",VLOOKUP($A16,données!$A$3:$O$38,COLUMN(),FALSE)) | E16: =IF(ISBLANK($A16),"",VLOOKUP($A16,données!$A$3:$O$38,COLUMN(),FALSE)) | F16: =IF(ISBLANK($A16),"",VLOOKUP($A16,données!$A$3:$O$38,COLUMN(),FALSE)) | G16: =IF(ISBLANK($A16),"",VLOOKUP($A16,données!$A$3:$O$38,COLUMN(),FALSE)) | H16: =IF(ISBLANK($A16),"",VLOOKUP($A16,données!$A$3:$O$38,COLUMN(),FALSE)) | I16: =IF(ISBLANK($A16),"",VLOOKUP($A16,données!$A$3:$O$38,COLUMN(),FALSE)) | ... O16: =IF(ISBLANK($A16),"",VLOOKUP($A16,données!$A$3:$O$38,COLUMN(),FALSE))
B17: =IF(ISBLANK($A17),"",VLOOKUP($A17,données!$A$3:$O$38,COLUMN(),FALSE)) | C17: =IF(ISBLANK($A17),"",VLOOKUP($A17,données!$A$3:$O$38,COLUMN(),FALSE)) | D17: =IF(ISBLANK($A17),"",VLOOKUP($A17,données!$A$3:$O$38,COLUMN(),FALSE)) | E17: =IF(ISBLANK($A17),"",VLOOKUP($A17,données!$A$3:$O$38,COLUMN(),FALSE)) | F17: =IF(ISBLANK($A17),"",VLOOKUP($A17,données!$A$3:$O$38,COLUMN(),FALSE)) | G17: =IF(ISBLANK($A17),"",VLOOKUP($A17,données!$A$3:$O$38,COLUMN(),FALSE)) | H17: =IF(ISBLANK($A17),"",VLOOKUP($A17,données!$A$3:$O$38,COLUMN(),FALSE)) | I17: =IF(ISBLANK($A17),"",VLOOKUP($A17,données!$A$3:$O$38,COLUMN(),FALSE)) | ... O17: =IF(ISBLANK($A17),"",VLOOKUP($A17,données!$A$3:$O$38,COLUMN(),FALSE))
B18: =IF(ISBLANK($A18),"",VLOOKUP($A18,données!$A$3:$O$38,COLUMN(),FALSE)) | C18: =IF(ISBLANK($A18),"",VLOOKUP($A18,données!$A$3:$O$38,COLUMN(),FALSE)) | D18: =IF(ISBLANK($A18),"",VLOOKUP($A18,données!$A$3:$O$38,COLUMN(),FALSE)) | E18: =IF(ISBLANK($A18),"",VLOOKUP($A18,données!$A$3:$O$38,COLUMN(),FALSE)) | F18: =IF(ISBLANK($A18),"",VLOOKUP($A18,données!$A$3:$O$38,COLUMN(),FALSE)) | G18: =IF(ISBLANK($A18),"",VLOOKUP($A18,données!$A$3:$O$38,COLUMN(),FALSE)) | H18: =IF(ISBLANK($A18),"",VLOOKUP($A18,données!$A$3:$O$38,COLUMN(),FALSE)) | I18: =IF(ISBLANK($A18),"",VLOOKUP($A18,données!$A$3:$O$38,COLUMN(),FALSE)) | ... O18: =IF(ISBLANK($A18),"",VLOOKUP($A18,données!$A$3:$O$38,COLUMN(),FALSE))

Sheet données
H2: unité de vente (3 choix possibles)
A3: Ligne | B3: désignation | C3: sections | D3: traitement | E3: coloris | F3: longueurs | G3: unité | H3: m3 | I3: unité | J3: Piece | K3: unité | L3: M² | M3: unité | N3: PAHT | O3: coef
A4: =B4&" "&C4&" "&D4&" "&E4&" "&F4&" "&G4 -> chevrons 40/60 Classe 2 2 ML | B4: chevrons | C4: 40/60 | D4: Classe 2 | F4: 2 | G4: ML | H4: 0.0048 | I4: M3 | J4: 1 | K4: PC | N4: 2 | O4: 1.2
A5: =B5&" "&C5&" "&D5&" "&E5&" "&F5&" "&G5 -> chevrons 40/60 Classe 2 3 ML | B5: chevrons | C5: 40/60 | D5: Classe 2 | F5: 3 | G5: ML | H5: 0.0072 | I5: M3 | J5: 1 | K5: PC | N5: 3 | O5: 1.2
A6: =B6&" "&C6&" "&D6&" "&E6&" "&F6&" "&G6 -> chevrons 40/60 Classe 2 4 ML | B6: chevrons | C6: 40/60 | D6: Classe 2 | F6: 4 | G6: ML | H6: 0.0096 | I6: M3 | J6: 1 | K6: PC | N6: 5 | O6: 1.2
A7: =B7&" "&C7&" "&D7&" "&E7&" "&F7&" "&G7 -> chevrons 40/60 Classe 2 5 ML | B7: chevrons | C7: 40/60 | D7: Classe 2 | F7: 5 | G7: ML | H7: 0.012 | I7: M3 | J7: 1 | K7: PC | N7: 5 | O7: 1.2
A8: =B8&" "&C8&" "&D8&" "&E8&" "&F8&" "&G8 -> chevrons 40/60 Classe 3 2 ML | B8: chevrons | C8: 40/60 | D8: Classe 3 | F8: 2 | G8: ML | H8: 0.0048 | I8: M3 | J8: 1 | K8: PC | N8: 4 | O8: 1.2
A9: =B9&" "&C9&" "&D9&" "&E9&" "&F9&" "&G9 -> chevrons 40/60 Classe 3 3 ML | B9: chevrons | C9: 40/60 | D9: Classe 3 | F9: 3 | G9: ML | H9: 0.0072 | I9: M3 | J9: 1 | K9: PC | N9: 6 | O9: 1.2
A10: =B10&" "&C10&" "&D10&" "&E10&" "&F10&" "&G10 -> chevrons 40/60 Classe 3 4 ML | B10: chevrons | C10: 40/60 | D10: Classe 3 | F10: 4 | G10: ML | H10: 0.0096 | I10: M3 | J10: 1 | K10: PC | N10: 8 | O10: 1.2
A11: =B11&" "&C11&" "&D11&" "&E11&" "&F11&" "&G11 -> chevrons 40/60 Classe 3 5 ML | B11: chevrons | C11: 40/60 | D11: Classe 3 | F11: 5 | G11: ML | H11: 0.012 | I11: M3 | J11: 1 | K11: PC | N11: 10 | O11: 1.2
A12: =B12&" "&C12&" "&D12&" "&E12&" "&F12&" "&G12 -> chevrons 40/60 Classe 3 2 ML | B12: chevrons | C12: 40/60 | D12: Classe 3 | F12: 2 | G12: ML | H12: 0.0064 | I12: M3 | J12: 1 | K12: PC | N12: 2 | O12: 1.2
A13: =B13&" "&C13&" "&D13&" "&E13&" "&F13&" "&G13 -> chevrons 40/120 Classe 2 3 ML | B13: chevrons | C13: 40/120 | D13: Classe 2 | F13: 3 | G13: ML | H13: 0.0096 | I13: M3 | J13: 1 | K13: PC | N13: 3 | O13: 1.2
A14: =B14&" "&C14&" "&D14&" "&E14&" "&F14&" "&G14 -> chevrons 40/120 Classe 2 4 ML | B14: chevrons | C14: 40/120 | D14: Classe 2 | F14: 4 | G14: ML | H14: 0.0128 | I14: M3 | J14: 1 | K14: PC | N14: 5 | O14: 1.2
A15: =B15&" "&C15&" "&D15&" "&E15&" "&F15&" "&G15 -> chevrons 40/120 Classe 2 5 ML | B15: chevrons | C15: 40/120 | D15: Classe 2 | F15: 5 | G15: ML | H15: 0.016 | I15: M3 | J15: 1 | K15: PC | N15: 5 | O15: 1.2
... A23: =B23&" "&C23&" "&D23&" "&E23&" "&F23&" "&G23 -> planches 27/120 Classe 3 4 ML | B23: planches | C23: 27/120 | D23: Classe 3 | F23: 4 | G23: ML | H23: 0.01296 | I23: M3 | J23: 1 | K23: PC | N23: 1.35 | O23: 1.32
A24: =B24&" "&C24&" "&D24&" "&E24&" "&F24&" "&G24 -> grilles 30/25 | B24: grilles | C24: 30/25 | J24: 1 | K24: PC | N24: 15 | O24: 2
A25: =B25&" "&C25&" "&D25&" "&E25&" "&F25&" "&G25 -> grilles 30/30 | B25: grilles | C25: 30/30 | J25: 1 | K25: PC | N25: 18 | O25: 2
A26: =B26&" "&C26&" "&D26&" "&E26&" "&F26&" "&G26 -> grilles 30/40 | B26: grilles | C26: 30/40 | J26: 1 | K26: PC | N26: 21 | O26: 2
A27: =B27&" "&C27&" "&D27&" "&E27&" "&F27&" "&G27 -> grilles 30/50 | B27: grilles | C27: 30/50 | J27: 1 | K27: PC | N27: 24 | O27: 2
A28: =B28&" "&C28&" "&D28&" "&E28&" "&F28&" "&G28 -> grilles 30/60 | B28: grilles | C28: 30/60 | J28: 1 | K28: PC | N28: 27 | O28: 2
A29: =B29&" "&C29&" "&D29&" "&E29&" "&F29&" "&G29 -> kit de retouche | B29: kit de retouche | J29: 1 | K29: PC | N29: 55 | O29: 1.6
A30: =B30&" "&C30&" "&D30&" "&E30&" "&F30&" "&G30 -> parquet 20/100 chene clair | B30: parquet | C30: 20/100 | E30: chene clair | J30: 1 | K30: PC | L30: 2.34 | M30: m² | N30: 66 | O30: 1.1
A31: =B31&" "&C31&" "&D31&" "&E31&" "&F31&" "&G31 -> parquet 20/100 chêne brun | B31: parquet | C31: 20/100 | E31: chêne brun | J31: 1 | K31: PC | L31: 2.34 | M31: m² | N31: 66 | O31: 1.1
A32: =B32&" "&C32&" "&D32&" "&E32&" "&F32&" "&G32 -> parquet 20/100 gris | B32: parquet | C32: 20/100 | E32: gris | J32: 1 | K32: PC | L32: 2.34 | M32: m² | N32: 66 | O32: 1.1
A33: =B33&" "&C33&" "&D33&" "&E33&" "&F33&" "&G33 -> parquet 20/100 blanc | B33: parquet | C33: 20/100 | E33: blanc | J33: 1 | K33: PC | L33: 2.34 | M33: m² | N33: 66 | O33: 1.1
A34: =B34&" "&C34&" "&D34&" "&E34&" "&F34&" "&G34 -> parquet 20/100 glossy | B34: parquet | C34: 20/100 | E34: glossy | J34: 1 | K34: PC | L34: 2.34 | M34: m² | N34: 66 | O34: 1.1
A35: =B35&" "&C35&" "&D35&" "&E35&" "&F35&" "&G35 -> parquet flottant 33/200 bleu | B35: parquet flottant | C35: 33/200 | E35: bleu | J35: 1 | K35: PC | L35: 6.02 | M35: m² | N35: 104.1 | O35: 1.35
A36: =B36&" "&C36&" "&D36&" "&E36&" "&F36&" "&G36 -> parquet flottant 33/200 vert | B36: parquet flottant | C36: 33/200 | E36: vert | J36: 1 | K36: PC | L36: 6.02 | M36: m² | N36: 104.1 | O36: 1.35
A37: =B37&" "&C37&" "&D37&" "&E37&" "&F37&" "&G37 -> parquet flottant 33/200 rouge | B37: parquet flottant | C37: 33/200 | E37: rouge | J37: 1 | K37: PC | L37: 6.02 | M37: m² | N37: 104.1 | O37: 1.35
A38: =B38&" "&C38&" "&D38&" "&E38&" "&F38&" "&G38 -> parquet flottant 33/200 jaune | B38: parquet flottant | C38: 33/200 | E38: jaune | J38: 1 | K38: PC | L38: 6.02 | M38: m² | N38: 104.1 | O38: 1.35
