Workbook
Name heures: 'AVRIL Heures'!$A$2:$K$12
Name Total: #REF!,#REF!

Sheet AVRIL Heures
B1: Nombre d'heures effectuées par activité
B3: PF | C3: Ref | D3: Matin | E3: Apres midi | F3: Total heures | G3: PF | H3: Ref | I3: Matin | J3: Apres midi | K3: Total
A4: 43193 | F4: =D4*4+E4*3 -> 0 | K4: =I4*4+J4*3 -> 0
A5: 43194 | F5: =D5*4+E5*3 -> 0 | K5: =I5*4+J5*3 -> 0
A6: 43195 | F6: =D6*4+E6*3 -> 0 | K6: =I6*4+J6*3 -> 0
A7: 43196 | F7: =D7*4+E7*3 -> 0 | K7: =I7*4+J7*3 -> 0
A8: 43199 | B8: 5770 | C8: 9072 | D8: 1 | E8: 2 | F8: =D8*4+E8*3 -> 10 | K8: =I8*4+J8*3 -> 0
A9: 43200 | B9: 5770 | C9: 9072 | D9: 2 | F9: =D9*4+E9*3 -> 8 | K9: =I9*4+J9*3 -> 0
A10: 43201 | F10: =D10*4+E10*3 -> 0 | K10: =I10*4+J10*3 -> 0
A11: 43202 | F11: =D11*4+E11*3 -> 0 | K11: =I11*4+J11*3 -> 0
A12: 43203 | F12: =D12*4+E12*3 -> 0 | K12: =I12*4+J12*3 -> 0
A13: 43206 | F13: =D13*4+E13*3 -> 0 | K13: =I13*4+J13*3 -> 0
A14: 43207 | F14: =D14*4+E14*3 -> 0 | K14: =I14*4+J14*3 -> 0
A15: 43208 | F15: =D15*4+E15*3 -> 0 | K15: =I15*4+J15*3 -> 0
A16: 43209 | F16: =D16*4+E16*3 -> 0 | K16: =I16*4+J16*3 -> 0
A17: 43210 | F17: =D17*4+E17*3 -> 0 | K17: =I17*4+J17*3 -> 0
A18: 43213 | F18: =D18*4+E18*3 -> 0 | K18: =I18*4+J18*3 -> 0
A19: 43214 | F19: =D19*4+E19*3 -> 0 | K19: =I19*4+J19*3 -> 0
A20: 43215 | F20: =D20*4+E20*3 -> 0 | K20: =I20*4+J20*3 -> 0
A21: 43216 | F21: =D21*4+E21*3 -> 0 | K21: =I21*4+J21*3 -> 0
... A23: 43220 | F23: =D23*4+E23*3 -> 0 | K23: =I23*4+J23*3 -> 0

Sheet AVRIL Commande Gourmet 
A2: Date réception | B2: PF | C2: Réf. | D2: Désignation | E2: Nombre cartons | F2: nombre d'étuis | G2: Pour le | H2: date début prod | I2: Date fin de production | J2: Etat | K2: Date de livraison Date/Qté/N° BL | L2: Nombre HS | M2: Réf HS | N2: Nombre problème machine | O2: Nature du problème
A3: 43195 | B3: 5763 | C3: 2158 | D3: ghgh | E3: 200 | F3: 2400 | G3: 43203
A4: 43196 | B4: 5769 | C4: 4664 | D4: hhh | E4: 224 | F4: 4032 | G4: 43224
A5: 43196 | B5: 5770 | C5: 9072 | D5: hhf | E5: 30 | F5: 540 | G5: 43203 | H5: 43199 | I5: 43200 | J5: Soldé
A6: 43196 | B6: 5770 | C6: 2158 | D6: ffff | E6: 300 | F6: 3600 | G6: 43217
E22: =SUM(E3:E21) -> 754 | F22: =SUM(F3:F21) -> 10572

Sheet AVRIL commande coffret cadeau 
A1: Commande Maxim's Coffret cadeau
A2: Date réception | B2: PF | C2: Réf. | D2: Désignation | E2: Nombre cartons | F2: nombre d'étuis | G2: Pour le | H2: date début prod | I2: Date fin de production | J2: Etat | K2: Date de livraison Date/Qté/N° BL | L2: Nombre HS | M2: Réf HS | N2: Nombre problème machine | O2: Nature du problème
E22: =SUM(E3:E21) -> 0 | F22: =SUM(F3:F21) -> 0

Sheet Indicateurs 04
A2: PF | B2: REF | C2: Nombre jour de production | D2: Nombre d'heures necessaires | E2: Temps/carton (heure) | F2: Temps/étuis | G2: HS | H2: Panne | J2: PF | K2: REF | L2: Nombre jour de production | M2: Nombre d'heures necessaires | N2: Temps/carton (heure) | O2: Temps/étuis | P2: HS | Q2: Panne
A3: ='AVRIL Commande Gourmet '!B3 -> 5763 | B3: ='AVRIL Commande Gourmet '!C3 -> 2158 | C3: {=MAX(IF('AVRIL Commande Gourmet '!$B$3:$B$21&'AVRIL Commande Gourmet '!$C$3:$C$21='Indicateurs 04'!A3&'Indicateurs 04'!B3,'AVRIL Commande Gourmet '!$I$3:$I$21-'AVRIL Commande Gourmet '!$H$3:$H$21))} -> 0 | D3: {=SUM(IF('AVRIL Heures'!$B$4:$B$23&'AVRIL Heures'!$C$4:$C$23='Indicateurs 04'!A3&'Indicateurs 04'!B3,'AVRIL Heures'!$F$4:$F$23))} -> 0 | E3: {=IF(D3>0,D3/SUM(IF('AVRIL Commande Gourmet '!$B$3:$B$21&'AVRIL Commande Gourmet '!$C$3:$C$21='Indicateurs 04'!A3&'Indicateurs 04'!B3,'AVRIL Commande Gourmet '!$E$3:$E$21)),0)/24} -> 0 | F3: {=IF(D3>0,D3/SUM(IF('AVRIL Commande Gourmet '!$B$3:$B$21&'AVRIL Commande Gourmet '!$C$3:$C$21='Indicateurs 04'!A3&'Indicateurs 04'!B3,'AVRIL Commande Gourmet '!$F$3:$F$21)),0)/24} -> 0 | G3: {=SUM(IF('AVRIL Commande Gourmet '!$B$3:$B$21&'AVRIL Commande Gourmet '!$C$3:$C$21='Indicateurs 04'!A3&'Indicateurs 04'!B3,'AVRIL Commande Gourmet '!$L$3:$L$21))} -> 0 | H3: {=SUM(IF('AVRIL Commande Gourmet '!$B$3:$B$21&'AVRIL Commande Gourmet '!$C$3:$C$21='Indicateurs 04'!B3&'Indicateurs 04'!C3,'AVRIL Commande Gourmet '!$N$3:$N$21))} -> 0 | J3: ='AVRIL commande coffret cadeau '!B3 -> 0 | K3: ='AVRIL commande coffret cadeau '!C3 -> 0 | L3: =IF('AVRIL commande coffret cadeau '!I3="",0,IF('AVRIL commande coffret cadeau '!H3='AVRIL commande coffret cadeau '!I3,1,_xlfn.DAYS('AVRIL commande coffret cadeau '!I3,'AVRIL commande coffret cadeau '!H3))) -> 0 | M3: =SUMIFS('AVRIL Heures'!K4:K27,'AVRIL Heures'!G4:G27,'AVRIL Heures'!G4,'AVRIL Heures'!H4:H27,'AVRIL Heures'!H4) -> 0 | N3: =IF(M3>0,M3/'AVRIL commande coffret cadeau '!E3,0)/24 -> 0 | O3: =IF(M3>0,M3/'AVRIL commande coffret cadeau '!F3,0)/24 -> 0 | P3: ='AVRIL commande coffret cadeau '!L3 -> 0 | Q3: ='AVRIL commande coffret cadeau '!N3 -> 0
A4: ='AVRIL Commande Gourmet '!B4 -> 5769 | B4: ='AVRIL Commande Gourmet '!C4 -> 4664 | C4: {=MAX(IF('AVRIL Commande Gourmet '!$B$3:$B$21&'AVRIL Commande Gourmet '!$C$3:$C$21='Indicateurs 04'!A4&'Indicateurs 04'!B4,'AVRIL Commande Gourmet '!$I$3:$I$21-'AVRIL Commande Gourmet '!$H$3:$H$21))} -> 0 | D4: {=SUM(IF('AVRIL Heures'!$B$4:$B$23&'AVRIL Heures'!$C$4:$C$23='Indicateurs 04'!A4&'Indicateurs 04'!B4,'AVRIL Heures'!$F$4:$F$23))} -> 0 | E4: {=IF(D4>0,D4/SUM(IF('AVRIL Commande Gourmet '!$B$3:$B$21&'AVRIL Commande Gourmet '!$C$3:$C$21='Indicateurs 04'!A4&'Indicateurs 04'!B4,'AVRIL Commande Gourmet '!$E$3:$E$21)),0)/24} -> 0 | F4: {=IF(D4>0,D4/SUM(IF('AVRIL Commande Gourmet '!$B$3:$B$21&'AVRIL Commande Gourmet '!$C$3:$C$21='Indicateurs 04'!A4&'Indicateurs 04'!B4,'AVRIL Commande Gourmet '!$F$3:$F$21)),0)/24} -> 0 | G4: {=SUM(IF('AVRIL Commande Gourmet '!$B$3:$B$21&'AVRIL Commande Gourmet '!$C$3:$C$21='Indicateurs 04'!A4&'Indicateurs 04'!B4,'AVRIL Commande Gourmet '!$L$3:$L$21))} -> 0 | H4: ='AVRIL Commande Gourmet '!N4 -> 0 | J4: ='AVRIL commande coffret cadeau '!B4 -> 0 | K4: ='AVRIL commande coffret cadeau '!C4 -> 0 | L4: =IF('AVRIL commande coffret cadeau '!I4="",0,IF('AVRIL commande coffret cadeau '!H4='AVRIL commande coffret cadeau '!I4,1,_xlfn.DAYS('AVRIL commande coffret cadeau '!I4,'AVRIL commande coffret cadeau '!H4))) -> 0 | M4: =SUMIFS('AVRIL Heures'!K5:K18,'AVRIL Heures'!G5:G18,'AVRIL Heures'!G5,'AVRIL Heures'!H5:H18,'AVRIL Heures'!H5) -> 0 | N4: =IF(M4>0,M4/'AVRIL commande coffret cadeau '!E4,0)/24 -> 0 | O4: =IF(M4>0,M4/'AVRIL commande coffret cadeau '!F4,0)/24 -> 0 | P4: ='AVRIL commande coffret cadeau '!L4 -> 0 | Q4: ='AVRIL commande coffret cadeau '!N4 -> 0
A5: ='AVRIL Commande Gourmet '!B5 -> 5770 | B5: ='AVRIL Commande Gourmet '!C5 -> 9072 | C5: {=MAX(IF('AVRIL Commande Gourmet '!$B$3:$B$21&'AVRIL Commande Gourmet '!$C$3:$C$21='Indicateurs 04'!A5&'Indicateurs 04'!B5,'AVRIL Commande Gourmet '!$I$3:$I$21-'AVRIL Commande Gourmet '!$H$3:$H$21))} -> 1 | D5: {=SUM(IF('AVRIL Heures'!$B$4:$B$23&'AVRIL Heures'!$C$4:$C$23='Indicateurs 04'!A5&'Indicateurs 04'!B5,'AVRIL Heures'!$F$4:$F$23))} -> 18 | E5: {=IF(D5>0,D5/SUM(IF('AVRIL Commande Gourmet '!$B$3:$B$21&'AVRIL Commande Gourmet '!$C$3:$C$21='Indicateurs 04'!A5&'Indicateurs 04'!B5,'AVRIL Commande Gourmet '!$E$3:$E$21)),0)/24} -> 0.025 | F5: {=IF(D5>0,D5/SUM(IF('AVRIL Commande Gourmet '!$B$3:$B$21&'AVRIL Commande Gourmet '!$C$3:$C$21='Indicateurs 04'!A5&'Indicateurs 04'!B5,'AVRIL Commande Gourmet '!$F$3:$F$21)),0)/24} -> 0.0013888889 | G5: {=SUM(IF('AVRIL Commande Gourmet '!$B$3:$B$21&'AVRIL Commande Gourmet '!$C$3:$C$21='Indicateurs 04'!A5&'Indicateurs 04'!B5,'AVRIL Commande Gourmet '!$L$3:$L$21))} -> 0 | H5: ='AVRIL Commande Gourmet '!N5 -> 0 | J5: ='AVRIL commande coffret cadeau '!B5 -> 0 | K5: ='AVRIL commande coffret cadeau '!C5 -> 0 | L5: =IF('AVRIL commande coffret cadeau '!I5="",0,IF('AVRIL commande coffret cadeau '!H5='AVRIL commande coffret cadeau '!I5,1,_xlfn.DAYS('AVRIL commande coffret cadeau '!I5,'AVRIL commande coffret cadeau '!H5))) -> 0 | M5: =SUMIFS('AVRIL Heures'!K6:K19,'AVRIL Heures'!G6:G19,'AVRIL Heures'!G6,'AVRIL Heures'!H6:H19,'AVRIL Heures'!H6) -> 0 | N5: =IF(M5>0,M5/'AVRIL commande coffret cadeau '!E5,0)/24 -> 0 | O5: =IF(M5>0,M5/'AVRIL commande coffret cadeau '!F5,0)/24 -> 0 | P5: ='AVRIL commande coffret cadeau '!L5 -> 0 | Q5: ='AVRIL commande coffret cadeau '!N5 -> 0
A6: ='AVRIL Commande Gourmet '!B6 -> 5770 | B6: ='AVRIL Commande Gourmet '!C6 -> 2158 | C6: {=MAX(IF('AVRIL Commande Gourmet '!$B$3:$B$21&'AVRIL Commande Gourmet '!$C$3:$C$21='Indicateurs 04'!A6&'Indicateurs 04'!B6,'AVRIL Commande Gourmet '!$I$3:$I$21-'AVRIL Commande Gourmet '!$H$3:$H$21))} -> 0 | D6: {=SUM(IF('AVRIL Heures'!$B$4:$B$23&'AVRIL Heures'!$C$4:$C$23='Indicateurs 04'!A6&'Indicateurs 04'!B6,'AVRIL Heures'!$F$4:$F$23))} -> 0 | E6: {=IF(D6>0,D6/SUM(IF('AVRIL Commande Gourmet '!$B$3:$B$21&'AVRIL Commande Gourmet '!$C$3:$C$21='Indicateurs 04'!A6&'Indicateurs 04'!B6,'AVRIL Commande Gourmet '!$E$3:$E$21)),0)/24} -> 0 | F6: {=IF(D6>0,D6/SUM(IF('AVRIL Commande Gourmet '!$B$3:$B$21&'AVRIL Commande Gourmet '!$C$3:$C$21='Indicateurs 04'!A6&'Indicateurs 04'!B6,'AVRIL Commande Gourmet '!$F$3:$F$21)),0)/24} -> 0 | G6: {=SUM(IF('AVRIL Commande Gourmet '!$B$3:$B$21&'AVRIL Commande Gourmet '!$C$3:$C$21='Indicateurs 04'!A6&'Indicateurs 04'!B6,'AVRIL Commande Gourmet '!$L$3:$L$21))} -> 0 | H6: ='AVRIL Commande Gourmet '!N6 -> 0 | J6: ='AVRIL commande coffret cadeau '!B6 -> 0 | K6: ='AVRIL commande coffret cadeau '!C6 -> 0 | L6: =IF('AVRIL commande coffret cadeau '!I6="",0,IF('AVRIL commande coffret cadeau '!H6='AVRIL commande coffret cadeau '!I6,1,_xlfn.DAYS('AVRIL commande coffret cadeau '!I6,'AVRIL commande coffret cadeau '!H6))) -> 0 | M6: =SUMIFS('AVRIL Heures'!K7:K20,'AVRIL Heures'!G7:G20,'AVRIL Heures'!G7,'AVRIL Heures'!H7:H20,'AVRIL Heures'!H7) -> 0 | N6: =IF(M6>0,M6/'AVRIL commande coffret cadeau '!E6,0)/24 -> 0 | O6: =IF(M6>0,M6/'AVRIL commande coffret cadeau '!F6,0)/24 -> 0 | P6: ='AVRIL commande coffret cadeau '!L6 -> 0 | Q6: ='AVRIL commande coffret cadeau '!N6 -> 0
A7: ='AVRIL Commande Gourmet '!B7 -> 0 | B7: ='AVRIL Commande Gourmet '!C7 -> 0 | C7: {=MAX(IF('AVRIL Commande Gourmet '!$B$3:$B$21&'AVRIL Commande Gourmet '!$C$3:$C$21='Indicateurs 04'!A7&'Indicateurs 04'!B7,'AVRIL Commande Gourmet '!$I$3:$I$21-'AVRIL Commande Gourmet '!$H$3:$H$21))} -> 0 | D7: {=SUM(IF('AVRIL Heures'!$B$4:$B$23&'AVRIL Heures'!$C$4:$C$23='Indicateurs 04'!A7&'Indicateurs 04'!B7,'AVRIL Heures'!$F$4:$F$23))} -> 0 | E7: {=IF(D7>0,D7/SUM(IF('AVRIL Commande Gourmet '!$B$3:$B$21&'AVRIL Commande Gourmet '!$C$3:$C$21='Indicateurs 04'!A7&'Indicateurs 04'!B7,'AVRIL Commande Gourmet '!$E$3:$E$21)),0)/24} -> 0 | F7: {=IF(D7>0,D7/SUM(IF('AVRIL Commande Gourmet '!$B$3:$B$21&'AVRIL Commande Gourmet '!$C$3:$C$21='Indicateurs 04'!A7&'Indicateurs 04'!B7,'AVRIL Commande Gourmet '!$F$3:$F$21)),0)/24} -> 0 | G7: {=SUM(IF('AVRIL Commande Gourmet '!$B$3:$B$21&'AVRIL Commande Gourmet '!$C$3:$C$21='Indicateurs 04'!A7&'Indicateurs 04'!B7,'AVRIL Commande Gourmet '!$L$3:$L$21))} -> 0 | H7: ='AVRIL Commande Gourmet '!N7 -> 0 | J7: ='AVRIL commande coffret cadeau '!B7 -> 0 | K7: ='AVRIL commande coffret cadeau '!C7 -> 0 | L7: =IF('AVRIL commande coffret cadeau '!I7="",0,IF('AVRIL commande coffret cadeau '!H7='AVRIL commande coffret cadeau '!I7,1,_xlfn.DAYS('AVRIL commande coffret cadeau '!I7,'AVRIL commande coffret cadeau '!H7))) -> 0 | M7: =SUMIFS('AVRIL Heures'!K8:K21,'AVRIL Heures'!G8:G21,'AVRIL Heures'!G8,'AVRIL Heures'!H8:H21,'AVRIL Heures'!H8) -> 0 | N7: =IF(M7>0,M7/'AVRIL commande coffret cadeau '!E7,0)/24 -> 0 | O7: =IF(M7>0,M7/'AVRIL commande coffret cadeau '!F7,0)/24 -> 0 | P7: ='AVRIL commande coffret cadeau '!L7 -> 0 | Q7: ='AVRIL commande coffret cadeau '!N7 -> 0
A8: ='AVRIL Commande Gourmet '!B8 -> 0 | B8: ='AVRIL Commande Gourmet '!C8 -> 0 | C8: {=MAX(IF('AVRIL Commande Gourmet '!$B$3:$B$21&'AVRIL Commande Gourmet '!$C$3:$C$21='Indicateurs 04'!A8&'Indicateurs 04'!B8,'AVRIL Commande Gourmet '!$I$3:$I$21-'AVRIL Commande Gourmet '!$H$3:$H$21))} -> 0 | D8: {=SUM(IF('AVRIL Heures'!$B$4:$B$23&'AVRIL Heures'!$C$4:$C$23='Indicateurs 04'!A8&'Indicateurs 04'!B8,'AVRIL Heures'!$F$4:$F$23))} -> 0 | E8: {=IF(D8>0,D8/SUM(IF('AVRIL Commande Gourmet '!$B$3:$B$21&'AVRIL Commande Gourmet '!$C$3:$C$21='Indicateurs 04'!A8&'Indicateurs 04'!B8,'AVRIL Commande Gourmet '!$E$3:$E$21)),0)/24} -> 0 | F8: {=IF(D8>0,D8/SUM(IF('AVRIL Commande Gourmet '!$B$3:$B$21&'AVRIL Commande Gourmet '!$C$3:$C$21='Indicateurs 04'!A8&'Indicateurs 04'!B8,'AVRIL Commande Gourmet '!$F$3:$F$21)),0)/24} -> 0 | G8: {=SUM(IF('AVRIL Commande Gourmet '!$B$3:$B$21&'AVRIL Commande Gourmet '!$C$3:$C$21='Indicateurs 04'!A8&'Indicateurs 04'!B8,'AVRIL Commande Gourmet '!$L$3:$L$21))} -> 0 | H8: ='AVRIL Commande Gourmet '!N8 -> 0 | J8: ='AVRIL commande coffret cadeau '!B8 -> 0 | K8: ='AVRIL commande coffret cadeau '!C8 -> 0 | L8: =IF('AVRIL commande coffret cadeau '!I8="",0,IF('AVRIL commande coffret cadeau '!H8='AVRIL commande coffret cadeau '!I8,1,_xlfn.DAYS('AVRIL commande coffret cadeau '!I8,'AVRIL commande coffret cadeau '!H8))) -> 0 | M8: =SUMIFS('AVRIL Heures'!K9:K22,'AVRIL Heures'!G9:G22,'AVRIL Heures'!G9,'AVRIL Heures'!H9:H22,'AVRIL Heures'!H9) -> 0 | N8: =IF(M8>0,M8/'AVRIL commande coffret cadeau '!E8,0)/24 -> 0 | O8: =IF(M8>0,M8/'AVRIL commande coffret cadeau '!F8,0)/24 -> 0 | P8: ='AVRIL commande coffret cadeau '!L8 -> 0 | Q8: ='AVRIL commande coffret cadeau '!N8 -> 0
A9: ='AVRIL Commande Gourmet '!B9 -> 0 | B9: ='AVRIL Commande Gourmet '!C9 -> 0 | C9: {=MAX(IF('AVRIL Commande Gourmet '!$B$3:$B$21&'AVRIL Commande Gourmet '!$C$3:$C$21='Indicateurs 04'!A9&'Indicateurs 04'!B9,'AVRIL Commande Gourmet '!$I$3:$I$21-'AVRIL Commande Gourmet '!$H$3:$H$21))} -> 0 | D9: {=SUM(IF('AVRIL Heures'!$B$4:$B$23&'AVRIL Heures'!$C$4:$C$23='Indicateurs 04'!A9&'Indicateurs 04'!B9,'AVRIL Heures'!$F$4:$F$23))} -> 0 | E9: {=IF(D9>0,D9/SUM(IF('AVRIL Commande Gourmet '!$B$3:$B$21&'AVRIL Commande Gourmet '!$C$3:$C$21='Indicateurs 04'!A9&'Indicateurs 04'!B9,'AVRIL Commande Gourmet '!$E$3:$E$21)),0)/24} -> 0 | F9: {=IF(D9>0,D9/SUM(IF('AVRIL Commande Gourmet '!$B$3:$B$21&'AVRIL Commande Gourmet '!$C$3:$C$21='Indicateurs 04'!A9&'Indicateurs 04'!B9,'AVRIL Commande Gourmet '!$F$3:$F$21)),0)/24} -> 0 | G9: {=SUM(IF('AVRIL Commande Gourmet '!$B$3:$B$21&'AVRIL Commande Gourmet '!$C$3:$C$21='Indicateurs 04'!A9&'Indicateurs 04'!B9,'AVRIL Commande Gourmet '!$L$3:$L$21))} -> 0 | H9: ='AVRIL Commande Gourmet '!N9 -> 0 | J9: ='AVRIL commande coffret cadeau '!B9 -> 0 | K9: ='AVRIL commande coffret cadeau '!C9 -> 0 | L9: =IF('AVRIL commande coffret cadeau '!I9="",0,IF('AVRIL commande coffret cadeau '!H9='AVRIL commande coffret cadeau '!I9,1,_xlfn.DAYS('AVRIL commande coffret cadeau '!I9,'AVRIL commande coffret cadeau '!H9))) -> 0 | M9: =SUMIFS('AVRIL Heures'!K10:K23,'AVRIL Heures'!G10:G23,'AVRIL Heures'!G10,'AVRIL Heures'!H10:H23,'AVRIL Heures'!H10) -> 0 | N9: =IF(M9>0,M9/'AVRIL commande coffret cadeau '!E9,0)/24 -> 0 | O9: =IF(M9>0,M9/'AVRIL commande coffret cadeau '!F9,0)/24 -> 0 | P9: ='AVRIL commande coffret cadeau '!L9 -> 0 | Q9: ='AVRIL commande coffret cadeau '!N9 -> 0
A10: ='AVRIL Commande Gourmet '!B10 -> 0 | B10: ='AVRIL Commande Gourmet '!C10 -> 0 | C10: {=MAX(IF('AVRIL Commande Gourmet '!$B$3:$B$21&'AVRIL Commande Gourmet '!$C$3:$C$21='Indicateurs 04'!A10&'Indicateurs 04'!B10,'AVRIL Commande Gourmet '!$I$3:$I$21-'AVRIL Commande Gourmet '!$H$3:$H$21))} -> 0 | D10: {=SUM(IF('AVRIL Heures'!$B$4:$B$23&'AVRIL Heures'!$C$4:$C$23='Indicateurs 04'!A10&'Indicateurs 04'!B10,'AVRIL Heures'!$F$4:$F$23))} -> 0 | E10: {=IF(D10>0,D10/SUM(IF('AVRIL Commande Gourmet '!$B$3:$B$21&'AVRIL Commande Gourmet '!$C$3:$C$21='Indicateurs 04'!A10&'Indicateurs 04'!B10,'AVRIL Commande Gourmet '!$E$3:$E$21)),0)/24} -> 0 | F10: {=IF(D10>0,D10/SUM(IF('AVRIL Commande Gourmet '!$B$3:$B$21&'AVRIL Commande Gourmet '!$C$3:$C$21='Indicateurs 04'!A10&'Indicateurs 04'!B10,'AVRIL Commande Gourmet '!$F$3:$F$21)),0)/24} -> 0 | G10: {=SUM(IF('AVRIL Commande Gourmet '!$B$3:$B$21&'AVRIL Commande Gourmet '!$C$3:$C$21='Indicateurs 04'!A10&'Indicateurs 04'!B10,'AVRIL Commande Gourmet '!$L$3:$L$21))} -> 0 | H10: ='AVRIL Commande Gourmet '!N10 -> 0 | J10: ='AVRIL commande coffret cadeau '!B10 -> 0 | K10: ='AVRIL commande coffret cadeau '!C10 -> 0 | L10: =IF('AVRIL commande coffret cadeau '!I10="",0,IF('AVRIL commande coffret cadeau '!H10='AVRIL commande coffret cadeau '!I10,1,_xlfn.DAYS('AVRIL commande coffret cadeau '!I10,'AVRIL commande coffret cadeau '!H10))) -> 0 | M10: =SUMIFS('AVRIL Heures'!K11:K24,'AVRIL Heures'!G11:G24,'AVRIL Heures'!G11,'AVRIL Heures'!H11:H24,'AVRIL Heures'!H11) -> 0 | N10: =IF(M10>0,M10/'AVRIL commande coffret cadeau '!E10,0)/24 -> 0 | O10: =IF(M10>0,M10/'AVRIL commande coffret cadeau '!F10,0)/24 -> 0 | P10: ='AVRIL commande coffret cadeau '!L10 -> 0 | Q10: ='AVRIL commande coffret cadeau '!N10 -> 0
A11: ='AVRIL Commande Gourmet '!B11 -> 0 | B11: ='AVRIL Commande Gourmet '!C11 -> 0 | C11: {=MAX(IF('AVRIL Commande Gourmet '!$B$3:$B$21&'AVRIL Commande Gourmet '!$C$3:$C$21='Indicateurs 04'!A11&'Indicateurs 04'!B11,'AVRIL Commande Gourmet '!$I$3:$I$21-'AVRIL Commande Gourmet '!$H$3:$H$21))} -> 0 | D11: {=SUM(IF('AVRIL Heures'!$B$4:$B$23&'AVRIL Heures'!$C$4:$C$23='Indicateurs 04'!A11&'Indicateurs 04'!B11,'AVRIL Heures'!$F$4:$F$23))} -> 0 | E11: {=IF(D11>0,D11/SUM(IF('AVRIL Commande Gourmet '!$B$3:$B$21&'AVRIL Commande Gourmet '!$C$3:$C$21='Indicateurs 04'!A11&'Indicateurs 04'!B11,'AVRIL Commande Gourmet '!$E$3:$E$21)),0)/24} -> 0 | F11: {=IF(D11>0,D11/SUM(IF('AVRIL Commande Gourmet '!$B$3:$B$21&'AVRIL Commande Gourmet '!$C$3:$C$21='Indicateurs 04'!A11&'Indicateurs 04'!B11,'AVRIL Commande Gourmet '!$F$3:$F$21)),0)/24} -> 0 | G11: {=SUM(IF('AVRIL Commande Gourmet '!$B$3:$B$21&'AVRIL Commande Gourmet '!$C$3:$C$21='Indicateurs 04'!A11&'Indicateurs 04'!B11,'AVRIL Commande Gourmet '!$L$3:$L$21))} -> 0 | H11: ='AVRIL Commande Gourmet '!N11 -> 0 | J11: ='AVRIL commande coffret cadeau '!B11 -> 0 | K11: ='AVRIL commande coffret cadeau '!C11 -> 0 | L11: =IF('AVRIL commande coffret cadeau '!I11="",0,IF('AVRIL commande coffret cadeau '!H11='AVRIL commande coffret cadeau '!I11,1,_xlfn.DAYS('AVRIL commande coffret cadeau '!I11,'AVRIL commande coffret cadeau '!H11))) -> 0 | M11: =SUMIFS('AVRIL Heures'!K12:K25,'AVRIL Heures'!G12:G25,'AVRIL Heures'!G12,'AVRIL Heures'!H12:H25,'AVRIL Heures'!H12) -> 0 | N11: =IF(M11>0,M11/'AVRIL commande coffret cadeau '!E11,0)/24 -> 0 | O11: =IF(M11>0,M11/'AVRIL commande coffret cadeau '!F11,0)/24 -> 0 | P11: ='AVRIL commande coffret cadeau '!L11 -> 0 | Q11: ='AVRIL commande coffret cadeau '!N11 -> 0
A12: ='AVRIL Commande Gourmet '!B12 -> 0 | B12: ='AVRIL Commande Gourmet '!C12 -> 0 | C12: {=MAX(IF('AVRIL Commande Gourmet '!$B$3:$B$21&'AVRIL Commande Gourmet '!$C$3:$C$21='Indicateurs 04'!A12&'Indicateurs 04'!B12,'AVRIL Commande Gourmet '!$I$3:$I$21-'AVRIL Commande Gourmet '!$H$3:$H$21))} -> 0 | D12: {=SUM(IF('AVRIL Heures'!$B$4:$B$23&'AVRIL Heures'!$C$4:$C$23='Indicateurs 04'!A12&'Indicateurs 04'!B12,'AVRIL Heures'!$F$4:$F$23))} -> 0 | E12: {=IF(D12>0,D12/SUM(IF('AVRIL Commande Gourmet '!$B$3:$B$21&'AVRIL Commande Gourmet '!$C$3:$C$21='Indicateurs 04'!A12&'Indicateurs 04'!B12,'AVRIL Commande Gourmet '!$E$3:$E$21)),0)/24} -> 0 | F12: {=IF(D12>0,D12/SUM(IF('AVRIL Commande Gourmet '!$B$3:$B$21&'AVRIL Commande Gourmet '!$C$3:$C$21='Indicateurs 04'!A12&'Indicateurs 04'!B12,'AVRIL Commande Gourmet '!$F$3:$F$21)),0)/24} -> 0 | G12: {=SUM(IF('AVRIL Commande Gourmet '!$B$3:$B$21&'AVRIL Commande Gourmet '!$C$3:$C$21='Indicateurs 04'!A12&'Indicateurs 04'!B12,'AVRIL Commande Gourmet '!$L$3:$L$21))} -> 0 | H12: ='AVRIL Commande Gourmet '!N12 -> 0 | J12: ='AVRIL commande coffret cadeau '!B12 -> 0 | K12: ='AVRIL commande coffret cadeau '!C12 -> 0 | L12: =IF('AVRIL commande coffret cadeau '!I12="",0,IF('AVRIL commande coffret cadeau '!H12='AVRIL commande coffret cadeau '!I12,1,_xlfn.DAYS('AVRIL commande coffret cadeau '!I12,'AVRIL commande coffret cadeau '!H12))) -> 0 | M12: =SUMIFS('AVRIL Heures'!K13:K26,'AVRIL Heures'!G13:G26,'AVRIL Heures'!G13,'AVRIL Heures'!H13:H26,'AVRIL Heures'!H13) -> 0 | N12: =IF(M12>0,M12/'AVRIL commande coffret cadeau '!E12,0)/24 -> 0 | O12: =IF(M12>0,M12/'AVRIL commande coffret cadeau '!F12,0)/24 -> 0 | P12: ='AVRIL commande coffret cadeau '!L12 -> 0 | Q12: ='AVRIL commande coffret cadeau '!N12 -> 0
A13: ='AVRIL Commande Gourmet '!B13 -> 0 | B13: ='AVRIL Commande Gourmet '!C13 -> 0 | C13: {=MAX(IF('AVRIL Commande Gourmet '!$B$3:$B$21&'AVRIL Commande Gourmet '!$C$3:$C$21='Indicateurs 04'!A13&'Indicateurs 04'!B13,'AVRIL Commande Gourmet '!$I$3:$I$21-'AVRIL Commande Gourmet '!$H$3:$H$21))} -> 0 | D13: {=SUM(IF('AVRIL Heures'!$B$4:$B$23&'AVRIL Heures'!$C$4:$C$23='Indicateurs 04'!A13&'Indicateurs 04'!B13,'AVRIL Heures'!$F$4:$F$23))} -> 0 | E13: {=IF(D13>0,D13/SUM(IF('AVRIL Commande Gourmet '!$B$3:$B$21&'AVRIL Commande Gourmet '!$C$3:$C$21='Indicateurs 04'!A13&'Indicateurs 04'!B13,'AVRIL Commande Gourmet '!$E$3:$E$21)),0)/24} -> 0 | F13: {=IF(D13>0,D13/SUM(IF('AVRIL Commande Gourmet '!$B$3:$B$21&'AVRIL Commande Gourmet '!$C$3:$C$21='Indicateurs 04'!A13&'Indicateurs 04'!B13,'AVRIL Commande Gourmet '!$F$3:$F$21)),0)/24} -> 0 | G13: {=SUM(IF('AVRIL Commande Gourmet '!$B$3:$B$21&'AVRIL Commande Gourmet '!$C$3:$C$21='Indicateurs 04'!A13&'Indicateurs 04'!B13,'AVRIL Commande Gourmet '!$L$3:$L$21))} -> 0 | H13: ='AVRIL Commande Gourmet '!N13 -> 0 | J13: ='AVRIL commande coffret cadeau '!B13 -> 0 | K13: ='AVRIL commande coffret cadeau '!C13 -> 0 | L13: =IF('AVRIL commande coffret cadeau '!I13="",0,IF('AVRIL commande coffret cadeau '!H13='AVRIL commande coffret cadeau '!I13,1,_xlfn.DAYS('AVRIL commande coffret cadeau '!I13,'AVRIL commande coffret cadeau '!H13))) -> 0 | M13: =SUMIFS('AVRIL Heures'!K14:K27,'AVRIL Heures'!G14:G27,'AVRIL Heures'!G14,'AVRIL Heures'!H14:H27,'AVRIL Heures'!H14) -> 0 | N13: =IF(M13>0,M13/'AVRIL commande coffret cadeau '!E13,0)/24 -> 0 | O13: =IF(M13>0,M13/'AVRIL commande coffret cadeau '!F13,0)/24 -> 0 | P13: ='AVRIL commande coffret cadeau '!L13 -> 0 | Q13: ='AVRIL commande coffret cadeau '!N13 -> 0
A14: ='AVRIL Commande Gourmet '!B14 -> 0 | B14: ='AVRIL Commande Gourmet '!C14 -> 0 | C14: {=MAX(IF('AVRIL Commande Gourmet '!$B$3:$B$21&'AVRIL Commande Gourmet '!$C$3:$C$21='Indicateurs 04'!A14&'Indicateurs 04'!B14,'AVRIL Commande Gourmet '!$I$3:$I$21-'AVRIL Commande Gourmet '!$H$3:$H$21))} -> 0 | D14: {=SUM(IF('AVRIL Heures'!$B$4:$B$23&'AVRIL Heures'!$C$4:$C$23='Indicateurs 04'!A14&'Indicateurs 04'!B14,'AVRIL Heures'!$F$4:$F$23))} -> 0 | E14: {=IF(D14>0,D14/SUM(IF('AVRIL Commande Gourmet '!$B$3:$B$21&'AVRIL Commande Gourmet '!$C$3:$C$21='Indicateurs 04'!A14&'Indicateurs 04'!B14,'AVRIL Commande Gourmet '!$E$3:$E$21)),0)/24} -> 0 | F14: {=IF(D14>0,D14/SUM(IF('AVRIL Commande Gourmet '!$B$3:$B$21&'AVRIL Commande Gourmet '!$C$3:$C$21='Indicateurs 04'!A14&'Indicateurs 04'!B14,'AVRIL Commande Gourmet '!$F$3:$F$21)),0)/24} -> 0 | G14: {=SUM(IF('AVRIL Commande Gourmet '!$B$3:$B$21&'AVRIL Commande Gourmet '!$C$3:$C$21='Indicateurs 04'!A14&'Indicateurs 04'!B14,'AVRIL Commande Gourmet '!$L$3:$L$21))} -> 0 | H14: ='AVRIL Commande Gourmet '!N14 -> 0 | J14: ='AVRIL commande coffret cadeau '!B14 -> 0 | K14: ='AVRIL commande coffret cadeau '!C14 -> 0 | L14: =IF('AVRIL commande coffret cadeau '!I14="",0,IF('AVRIL commande coffret cadeau '!H14='AVRIL commande coffret cadeau '!I14,1,_xlfn.DAYS('AVRIL commande coffret cadeau '!I14,'AVRIL commande coffret cadeau '!H14))) -> 0 | M14: =SUMIFS('AVRIL Heures'!K15:K28,'AVRIL Heures'!G15:G28,'AVRIL Heures'!G15,'AVRIL Heures'!H15:H28,'AVRIL Heures'!H15) -> 0 | N14: =IF(M14>0,M14/'AVRIL commande coffret cadeau '!E14,0)/24 -> 0 | O14: =IF(M14>0,M14/'AVRIL commande coffret cadeau '!F14,0)/24 -> 0 | P14: ='AVRIL commande coffret cadeau '!L14 -> 0 | Q14: ='AVRIL commande coffret cadeau '!N14 -> 0
A15: ='AVRIL Commande Gourmet '!B15 -> 0 | B15: ='AVRIL Commande Gourmet '!C15 -> 0 | C15: {=MAX(IF('AVRIL Commande Gourmet '!$B$3:$B$21&'AVRIL Commande Gourmet '!$C$3:$C$21='Indicateurs 04'!A15&'Indicateurs 04'!B15,'AVRIL Commande Gourmet '!$I$3:$I$21-'AVRIL Commande Gourmet '!$H$3:$H$21))} -> 0 | D15: {=SUM(IF('AVRIL Heures'!$B$4:$B$23&'AVRIL Heures'!$C$4:$C$23='Indicateurs 04'!A15&'Indicateurs 04'!B15,'AVRIL Heures'!$F$4:$F$23))} -> 0 | E15: {=IF(D15>0,D15/SUM(IF('AVRIL Commande Gourmet '!$B$3:$B$21&'AVRIL Commande Gourmet '!$C$3:$C$21='Indicateurs 04'!A15&'Indicateurs 04'!B15,'AVRIL Commande Gourmet '!$E$3:$E$21)),0)/24} -> 0 | F15: {=IF(D15>0,D15/SUM(IF('AVRIL Commande Gourmet '!$B$3:$B$21&'AVRIL Commande Gourmet '!$C$3:$C$21='Indicateurs 04'!A15&'Indicateurs 04'!B15,'AVRIL Commande Gourmet '!$F$3:$F$21)),0)/24} -> 0 | G15: {=SUM(IF('AVRIL Commande Gourmet '!$B$3:$B$21&'AVRIL Commande Gourmet '!$C$3:$C$21='Indicateurs 04'!A15&'Indicateurs 04'!B15,'AVRIL Commande Gourmet '!$L$3:$L$21))} -> 0 | H15: ='AVRIL Commande Gourmet '!N15 -> 0 | J15: ='AVRIL commande coffret cadeau '!B15 -> 0 | K15: ='AVRIL commande coffret cadeau '!C15 -> 0 | L15: =IF('AVRIL commande coffret cadeau '!I15="",0,IF('AVRIL commande coffret cadeau '!H15='AVRIL commande coffret cadeau '!I15,1,_xlfn.DAYS('AVRIL commande coffret cadeau '!I15,'AVRIL commande coffret cadeau '!H15))) -> 0 | M15: =SUMIFS('AVRIL Heures'!K16:K29,'AVRIL Heures'!G16:G29,'AVRIL Heures'!G16,'AVRIL Heures'!H16:H29,'AVRIL Heures'!H16) -> 0 | N15: =IF(M15>0,M15/'AVRIL commande coffret cadeau '!E15,0)/24 -> 0 | O15: =IF(M15>0,M15/'AVRIL commande coffret cadeau '!F15,0)/24 -> 0 | P15: ='AVRIL commande coffret cadeau '!L15 -> 0 | Q15: ='AVRIL commande coffret cadeau '!N15 -> 0
... A21: ='AVRIL Commande Gourmet '!B21 -> 0 | B21: ='AVRIL Commande Gourmet '!C21 -> 0 | C21: {=MAX(IF('AVRIL Commande Gourmet '!$B$3:$B$21&'AVRIL Commande Gourmet '!$C$3:$C$21='Indicateurs 04'!A21&'Indicateurs 04'!B21,'AVRIL Commande Gourmet '!$I$3:$I$21-'AVRIL Commande Gourmet '!$H$3:$H$21))} -> 0 | D21: {=SUM(IF('AVRIL Heures'!$B$4:$B$23&'AVRIL Heures'!$C$4:$C$23='Indicateurs 04'!A21&'Indicateurs 04'!B21,'AVRIL Heures'!$F$4:$F$23))} -> 0 | E21: {=IF(D21>0,D21/SUM(IF('AVRIL Commande Gourmet '!$B$3:$B$21&'AVRIL Commande Gourmet '!$C$3:$C$21='Indicateurs 04'!A21&'Indicateurs 04'!B21,'AVRIL Commande Gourmet '!$E$3:$E$21)),0)/24} -> 0 | F21: {=IF(D21>0,D21/SUM(IF('AVRIL Commande Gourmet '!$B$3:$B$21&'AVRIL Commande Gourmet '!$C$3:$C$21='Indicateurs 04'!A21&'Indicateurs 04'!B21,'AVRIL Commande Gourmet '!$F$3:$F$21)),0)/24} -> 0 | G21: {=SUM(IF('AVRIL Commande Gourmet '!$B$3:$B$21&'AVRIL Commande Gourmet '!$C$3:$C$21='Indicateurs 04'!A21&'Indicateurs 04'!B21,'AVRIL Commande Gourmet '!$L$3:$L$21))} -> 0 | H21: ='AVRIL Commande Gourmet '!N21 -> 0 | J21: ='AVRIL commande coffret cadeau '!B21 -> 0 | K21: ='AVRIL commande coffret cadeau '!C21 -> 0 | L21: =IF('AVRIL commande coffret cadeau '!I21="",0,IF('AVRIL commande coffret cadeau '!H21='AVRIL commande coffret cadeau '!I21,1,_xlfn.DAYS('AVRIL commande coffret cadeau '!I21,'AVRIL commande coffret cadeau '!H21))) -> 0 | M21: =SUMIFS('AVRIL Heures'!K22:K35,'AVRIL Heures'!G22:G35,'AVRIL Heures'!G22,'AVRIL Heures'!H22:H35,'AVRIL Heures'!H22) -> 0 | N21: =IF(M21>0,M21/'AVRIL commande coffret cadeau '!E21,0)/24 -> 0 | O21: =IF(M21>0,M21/'AVRIL commande coffret cadeau '!F21,0)/24 -> 0 | P21: ='AVRIL commande coffret cadeau '!L21 -> 0 | Q21: ='AVRIL commande coffret cadeau '!N21 -> 0

Sheet Listes
A1: Soldé
A2: En cours
