Workbook

Sheet Scores
A1: Date | B1: Joueur 1 | C1: Joueur 2 | D1: Joueur 3 | E1: Joueur 4 | F1: Joueur 5 | G1: Joueur 6 | H1: Joueur 7 | I1: Joueur 8 | J1: Joueur 9 | K1: Joueur 10 | L1: Joueur 11 | M1: Joueur 12
A2: 43102 | D2: 18 | E2: 13 | F2: 0 | H2: 3 | K2: 12
A3: 43102 | D3: 1 | E3: 12 | F3: 4 | H3: 25 | K3: 29
A4: 43102 | D4: 8 | E4: 12 | F4: 31 | H4: 3 | K4: 6
A5: 43102 | D5: 17 | E5: 14 | F5: 5 | H5: 26 | K5: 20
A6: 43102 | D6: 7 | E6: 10 | F6: 0 | H6: 32 | K6: 10
A7: 43102 | D7: 18 | E7: 23 | F7: 0 | H7: 20 | K7: 14
A8: 43103 | B8: 16 | E8: 12 | F8: 13 | H8: 11 | J8: 5 | K8: 1 | L8: 34
A9: 43103 | B9: 5 | E9: 3 | F9: 25 | H9: 15 | J9: 14 | K9: 17 | L9: 19
A10: 43103 | B10: 25 | E10: 8 | F10: 9 | H10: 3 | J10: 19 | K10: 13 | L10: 10
A11: 43103 | B11: 16 | E11: 7 | F11: 18 | H11: 2 | J11: 43 | K11: 11 | L11: 6
A12: 43104 | B12: 34 | E12: 20 | F12: 12 | J12: 0 | K12: 22 | L12: 11
A13: 43104 | B13: 5 | E13: 22 | F13: 10 | J13: 23 | K13: 18 | L13: 16
A14: 43104 | B14: 9 | E14: 11 | F14: 31 | J14: 16 | K14: 5 | L14: 7
A15: 43105 | B15: 7 | D15: 24 | F15: 17 | J15: 13 | K15: 12 | L15: 6
A16: 43105 | B16: 11 | D16: 17 | F16: 0 | J16: 4 | K16: 12 | L16: 29
A17: 43105 | B17: 39 | D17: 1 | F17: 3 | J17: 18 | K17: 4 | L17: 20
A18: 43108 | B18: 24 | E18: 11 | F18: 8 | H18: 9 | J18: 28 | K18: 14 | L18: 15
A19: 43108 | B19: 0 | E19: 11 | F19: 6 | H19: 15 | J19: 33 | K19: 20 | L19: 14
A20: 43108 | B20: 11 | E20: 9 | F20: 3 | H20: 10 | J20: 23 | K20: 29 | L20: 21
A21: 43108 | B21: 10 | E21: 10 | F21: 4 | H21: 9 | J21: 22 | K21: 14 | L21: 38
A22: 43109 | B22: 14 | F22: 23 | H22: 10 | J22: 9 | K22: 21
A23: 43109 | B23: 36 | F23: 8 | H23: 10 | J23: 20 | K23: 4
A24: 43109 | B24: 16 | F24: 12 | H24: 32 | J24: 0 | K24: 7
A25: 43110 | B25: 0 | F25: 6 | H25: 19 | J25: 13 | K25: 12
A26: 43110 | B26: 14 | F26: 15 | H26: 18 | J26: 25 | K26: 8
A27: 43110 | B27: 0 | F27: 26 | H27: 5 | J27: 16 | K27: 17
A28: 43110 | B28: 1 | F28: 24 | H28: 24 | J28: 25 | K28: 0
A29: 43110 | B29: 31 | F29: 1 | H29: 10 | J29: 12 | K29: 20
A30: 43111 | B30: 16 | E30: 29 | F30: 8 | G30: 33 | H30: 5 | J30: 0 | K30: 6
A31: 43111 | B31: 33 | E31: 30 | F31: 8 | G31: 1 | H31: 15 | J31: 13 | K31: 16
A32: 43111 | B32: 0 | E32: 11 | F32: 18 | G32: 39 | H32: 3 | J32: 26 | K32: 17
A33: 43111 | B33: 17 | E33: 37 | F33: 1 | G33: 17 | H33: 14 | J33: 20 | K33: 7
A34: 43112 | B34: 11 | E34: 25 | F34: 9 | G34: 46 | H34: 19 | J34: 15 | K34: 0
A35: 43112 | B35: 16 | E35: 11 | F35: 17 | G35: 6 | H35: 0 | J35: 35 | K35: 27
A36: 43112 | B36: 10 | E36: 28 | F36: 19 | G36: 11 | H36: 9 | J36: 2 | K36: 29
A37: 43112 | B37: 11 | F37: 7 | H37: 31 | J37: 24 | K37: 17
A38: 43112 | B38: 21 | F38: 4 | H38: 22 | J38: 13 | K38: 1
A39: 43115 | E39: 5 | F39: 30 | H39: 22 | J39: 20 | K39: 1
A40: 43115 | E40: 28 | F40: 6 | H40: 17 | J40: 7 | K40: 16
...

Sheet % du total possible
A1: Date | B1: Benjamin | C1: Cynthia | D1: Florian | E1: Jeremy C | F1: Jeremy D | G1: Jonathan | H1: Megane | I1: Nicolas | J1: Patrick | L1: Record : | M1: =MAX(B:J) -> #REF!
A2: 43014 | B2: =IF(Scores!B2="","",Scores!B2/(VLOOKUP(COUNT(Scores!$B2:$K2),#REF!,2,FALSE))) | C2: =IF(Scores!#REF!="","",Scores!#REF!/(VLOOKUP(COUNT(Scores!$B2:$K2),#REF!,2,FALSE))) -> #REF! | D2: =IF(Scores!E2="","",Scores!E2/(VLOOKUP(COUNT(Scores!$B2:$K2),#REF!,2,FALSE))) -> #REF! | E2: =IF(Scores!G2="","",Scores!G2/(VLOOKUP(COUNT(Scores!$B2:$K2),#REF!,2,FALSE))) | F2: =IF(Scores!H2="","",Scores!H2/(VLOOKUP(COUNT(Scores!$B2:$K2),#REF!,2,FALSE))) -> #REF! | G2: =IF(Scores!#REF!="","",Scores!#REF!/(VLOOKUP(COUNT(Scores!$B2:$K2),#REF!,2,FALSE))) -> #REF! | H2: =IF(Scores!#REF!="","",Scores!#REF!/(VLOOKUP(COUNT(Scores!$B2:$K2),#REF!,2,FALSE))) -> #REF! | I2: =IF(Scores!J2="","",Scores!J2/(VLOOKUP(COUNT(Scores!$B2:$K2),#REF!,2,FALSE))) | J2: =IF(Scores!K2="","",Scores!K2/(VLOOKUP(COUNT(Scores!$B2:$K2),#REF!,2,FALSE))) -> #REF!
A3: 43014 | B3: =IF(Scores!B3="","",Scores!B3/(VLOOKUP(COUNT(Scores!$B3:$K3),#REF!,2,FALSE))) | C3: =IF(Scores!#REF!="","",Scores!#REF!/(VLOOKUP(COUNT(Scores!$B3:$K3),#REF!,2,FALSE))) -> #REF! | D3: =IF(Scores!E3="","",Scores!E3/(VLOOKUP(COUNT(Scores!$B3:$K3),#REF!,2,FALSE))) -> #REF! | E3: =IF(Scores!G3="","",Scores!G3/(VLOOKUP(COUNT(Scores!$B3:$K3),#REF!,2,FALSE))) | F3: =IF(Scores!H3="","",Scores!H3/(VLOOKUP(COUNT(Scores!$B3:$K3),#REF!,2,FALSE))) -> #REF! | G3: =IF(Scores!#REF!="","",Scores!#REF!/(VLOOKUP(COUNT(Scores!$B3:$K3),#REF!,2,FALSE))) -> #REF! | H3: =IF(Scores!#REF!="","",Scores!#REF!/(VLOOKUP(COUNT(Scores!$B3:$K3),#REF!,2,FALSE))) -> #REF! | I3: =IF(Scores!J3="","",Scores!J3/(VLOOKUP(COUNT(Scores!$B3:$K3),#REF!,2,FALSE))) | J3: =IF(Scores!K3="","",Scores!K3/(VLOOKUP(COUNT(Scores!$B3:$K3),#REF!,2,FALSE))) -> #REF!
A4: 43014 | B4: =IF(Scores!B4="","",Scores!B4/(VLOOKUP(COUNT(Scores!$B4:$K4),#REF!,2,FALSE))) | C4: =IF(Scores!#REF!="","",Scores!#REF!/(VLOOKUP(COUNT(Scores!$B4:$K4),#REF!,2,FALSE))) -> #REF! | D4: =IF(Scores!E4="","",Scores!E4/(VLOOKUP(COUNT(Scores!$B4:$K4),#REF!,2,FALSE))) -> #REF! | E4: =IF(Scores!G4="","",Scores!G4/(VLOOKUP(COUNT(Scores!$B4:$K4),#REF!,2,FALSE))) | F4: =IF(Scores!H4="","",Scores!H4/(VLOOKUP(COUNT(Scores!$B4:$K4),#REF!,2,FALSE))) -> #REF! | G4: =IF(Scores!#REF!="","",Scores!#REF!/(VLOOKUP(COUNT(Scores!$B4:$K4),#REF!,2,FALSE))) -> #REF! | H4: =IF(Scores!#REF!="","",Scores!#REF!/(VLOOKUP(COUNT(Scores!$B4:$K4),#REF!,2,FALSE))) -> #REF! | I4: =IF(Scores!J4="","",Scores!J4/(VLOOKUP(COUNT(Scores!$B4:$K4),#REF!,2,FALSE))) | J4: =IF(Scores!K4="","",Scores!K4/(VLOOKUP(COUNT(Scores!$B4:$K4),#REF!,2,FALSE))) -> #REF!
A5: 43014 | B5: =IF(Scores!B5="","",Scores!B5/(VLOOKUP(COUNT(Scores!$B5:$K5),#REF!,2,FALSE))) | C5: =IF(Scores!#REF!="","",Scores!#REF!/(VLOOKUP(COUNT(Scores!$B5:$K5),#REF!,2,FALSE))) -> #REF! | D5: =IF(Scores!E5="","",Scores!E5/(VLOOKUP(COUNT(Scores!$B5:$K5),#REF!,2,FALSE))) -> #REF! | E5: =IF(Scores!G5="","",Scores!G5/(VLOOKUP(COUNT(Scores!$B5:$K5),#REF!,2,FALSE))) | F5: =IF(Scores!H5="","",Scores!H5/(VLOOKUP(COUNT(Scores!$B5:$K5),#REF!,2,FALSE))) -> #REF! | G5: =IF(Scores!#REF!="","",Scores!#REF!/(VLOOKUP(COUNT(Scores!$B5:$K5),#REF!,2,FALSE))) -> #REF! | H5: =IF(Scores!#REF!="","",Scores!#REF!/(VLOOKUP(COUNT(Scores!$B5:$K5),#REF!,2,FALSE))) -> #REF! | I5: =IF(Scores!J5="","",Scores!J5/(VLOOKUP(COUNT(Scores!$B5:$K5),#REF!,2,FALSE))) | J5: =IF(Scores!K5="","",Scores!K5/(VLOOKUP(COUNT(Scores!$B5:$K5),#REF!,2,FALSE))) -> #REF!
A6: 43014 | B6: =IF(Scores!B6="","",Scores!B6/(VLOOKUP(COUNT(Scores!$B6:$K6),#REF!,2,FALSE))) | C6: =IF(Scores!#REF!="","",Scores!#REF!/(VLOOKUP(COUNT(Scores!$B6:$K6),#REF!,2,FALSE))) -> #REF! | D6: =IF(Scores!E6="","",Scores!E6/(VLOOKUP(COUNT(Scores!$B6:$K6),#REF!,2,FALSE))) -> #REF! | E6: =IF(Scores!G6="","",Scores!G6/(VLOOKUP(COUNT(Scores!$B6:$K6),#REF!,2,FALSE))) | F6: =IF(Scores!H6="","",Scores!H6/(VLOOKUP(COUNT(Scores!$B6:$K6),#REF!,2,FALSE))) -> #REF! | G6: =IF(Scores!#REF!="","",Scores!#REF!/(VLOOKUP(COUNT(Scores!$B6:$K6),#REF!,2,FALSE))) -> #REF! | H6: =IF(Scores!#REF!="","",Scores!#REF!/(VLOOKUP(COUNT(Scores!$B6:$K6),#REF!,2,FALSE))) -> #REF! | I6: =IF(Scores!J6="","",Scores!J6/(VLOOKUP(COUNT(Scores!$B6:$K6),#REF!,2,FALSE))) | J6: =IF(Scores!K6="","",Scores!K6/(VLOOKUP(COUNT(Scores!$B6:$K6),#REF!,2,FALSE))) -> #REF!
A7: 43017 | B7: =IF(Scores!B7="","",Scores!B7/(VLOOKUP(COUNT(Scores!$B7:$K7),#REF!,2,FALSE))) | C7: =IF(Scores!#REF!="","",Scores!#REF!/(VLOOKUP(COUNT(Scores!$B7:$K7),#REF!,2,FALSE))) -> #REF! | D7: =IF(Scores!E7="","",Scores!E7/(VLOOKUP(COUNT(Scores!$B7:$K7),#REF!,2,FALSE))) -> #REF! | E7: =IF(Scores!G7="","",Scores!G7/(VLOOKUP(COUNT(Scores!$B7:$K7),#REF!,2,FALSE))) | F7: =IF(Scores!H7="","",Scores!H7/(VLOOKUP(COUNT(Scores!$B7:$K7),#REF!,2,FALSE))) -> #REF! | G7: =IF(Scores!#REF!="","",Scores!#REF!/(VLOOKUP(COUNT(Scores!$B7:$K7),#REF!,2,FALSE))) -> #REF! | H7: =IF(Scores!#REF!="","",Scores!#REF!/(VLOOKUP(COUNT(Scores!$B7:$K7),#REF!,2,FALSE))) -> #REF! | I7: =IF(Scores!J7="","",Scores!J7/(VLOOKUP(COUNT(Scores!$B7:$K7),#REF!,2,FALSE))) | J7: =IF(Scores!K7="","",Scores!K7/(VLOOKUP(COUNT(Scores!$B7:$K7),#REF!,2,FALSE))) -> #REF!
A8: 43017 | B8: =IF(Scores!B8="","",Scores!B8/(VLOOKUP(COUNT(Scores!$B8:$K8),#REF!,2,FALSE))) -> #REF! | C8: =IF(Scores!#REF!="","",Scores!#REF!/(VLOOKUP(COUNT(Scores!$B8:$K8),#REF!,2,FALSE))) -> #REF! | D8: =IF(Scores!E8="","",Scores!E8/(VLOOKUP(COUNT(Scores!$B8:$K8),#REF!,2,FALSE))) -> #REF! | E8: =IF(Scores!G8="","",Scores!G8/(VLOOKUP(COUNT(Scores!$B8:$K8),#REF!,2,FALSE))) | F8: =IF(Scores!H8="","",Scores!H8/(VLOOKUP(COUNT(Scores!$B8:$K8),#REF!,2,FALSE))) -> #REF! | G8: =IF(Scores!#REF!="","",Scores!#REF!/(VLOOKUP(COUNT(Scores!$B8:$K8),#REF!,2,FALSE))) -> #REF! | H8: =IF(Scores!#REF!="","",Scores!#REF!/(VLOOKUP(COUNT(Scores!$B8:$K8),#REF!,2,FALSE))) -> #REF! | I8: =IF(Scores!J8="","",Scores!J8/(VLOOKUP(COUNT(Scores!$B8:$K8),#REF!,2,FALSE))) -> #REF! | J8: =IF(Scores!K8="","",Scores!K8/(VLOOKUP(COUNT(Scores!$B8:$K8),#REF!,2,FALSE))) -> #REF!
A9: 43017 | B9: =IF(Scores!B9="","",Scores!B9/(VLOOKUP(COUNT(Scores!$B9:$K9),#REF!,2,FALSE))) -> #REF! | C9: =IF(Scores!#REF!="","",Scores!#REF!/(VLOOKUP(COUNT(Scores!$B9:$K9),#REF!,2,FALSE))) -> #REF! | D9: =IF(Scores!E9="","",Scores!E9/(VLOOKUP(COUNT(Scores!$B9:$K9),#REF!,2,FALSE))) -> #REF! | E9: =IF(Scores!G9="","",Scores!G9/(VLOOKUP(COUNT(Scores!$B9:$K9),#REF!,2,FALSE))) | F9: =IF(Scores!H9="","",Scores!H9/(VLOOKUP(COUNT(Scores!$B9:$K9),#REF!,2,FALSE))) -> #REF! | G9: =IF(Scores!#REF!="","",Scores!#REF!/(VLOOKUP(COUNT(Scores!$B9:$K9),#REF!,2,FALSE))) -> #REF! | H9: =IF(Scores!#REF!="","",Scores!#REF!/(VLOOKUP(COUNT(Scores!$B9:$K9),#REF!,2,FALSE))) -> #REF! | I9: =IF(Scores!J9="","",Scores!J9/(VLOOKUP(COUNT(Scores!$B9:$K9),#REF!,2,FALSE))) -> #REF! | J9: =IF(Scores!K9="","",Scores!K9/(VLOOKUP(COUNT(Scores!$B9:$K9),#REF!,2,FALSE))) -> #REF!
A10: 43017 | B10: =IF(Scores!B10="","",Scores!B10/(VLOOKUP(COUNT(Scores!$B10:$K10),#REF!,2,FALSE))) -> #REF! | C10: =IF(Scores!#REF!="","",Scores!#REF!/(VLOOKUP(COUNT(Scores!$B10:$K10),#REF!,2,FALSE))) -> #REF! | D10: =IF(Scores!E10="","",Scores!E10/(VLOOKUP(COUNT(Scores!$B10:$K10),#REF!,2,FALSE))) -> #REF! | E10: =IF(Scores!G10="","",Scores!G10/(VLOOKUP(COUNT(Scores!$B10:$K10),#REF!,2,FALSE))) | F10: =IF(Scores!H10="","",Scores!H10/(VLOOKUP(COUNT(Scores!$B10:$K10),#REF!,2,FALSE))) -> #REF! | G10: =IF(Scores!#REF!="","",Scores!#REF!/(VLOOKUP(COUNT(Scores!$B10:$K10),#REF!,2,FALSE))) -> #REF! | H10: =IF(Scores!#REF!="","",Scores!#REF!/(VLOOKUP(COUNT(Scores!$B10:$K10),#REF!,2,FALSE))) -> #REF! | I10: =IF(Scores!J10="","",Scores!J10/(VLOOKUP(COUNT(Scores!$B10:$K10),#REF!,2,FALSE))) -> #REF! | J10: =IF(Scores!K10="","",Scores!K10/(VLOOKUP(COUNT(Scores!$B10:$K10),#REF!,2,FALSE))) -> #REF!
A11: =IF(Scores!A11="","",Scores!A11) -> 43103 | B11: =IF(Scores!B11="","",Scores!B11/(VLOOKUP(COUNT(Scores!$B11:$K11),#REF!,2,FALSE))) -> #REF! | C11: =IF(Scores!#REF!="","",Scores!#REF!/(VLOOKUP(COUNT(Scores!$B11:$K11),#REF!,2,FALSE))) -> #REF! | D11: =IF(Scores!E11="","",Scores!E11/(VLOOKUP(COUNT(Scores!$B11:$K11),#REF!,2,FALSE))) -> #REF! | E11: =IF(Scores!G11="","",Scores!G11/(VLOOKUP(COUNT(Scores!$B11:$K11),#REF!,2,FALSE))) | F11: =IF(Scores!H11="","",Scores!H11/(VLOOKUP(COUNT(Scores!$B11:$K11),#REF!,2,FALSE))) -> #REF! | G11: =IF(Scores!#REF!="","",Scores!#REF!/(VLOOKUP(COUNT(Scores!$B11:$K11),#REF!,2,FALSE))) -> #REF! | H11: =IF(Scores!#REF!="","",Scores!#REF!/(VLOOKUP(COUNT(Scores!$B11:$K11),#REF!,2,FALSE))) -> #REF! | I11: =IF(Scores!J11="","",Scores!J11/(VLOOKUP(COUNT(Scores!$B11:$K11),#REF!,2,FALSE))) -> #REF! | J11: =IF(Scores!K11="","",Scores!K11/(VLOOKUP(COUNT(Scores!$B11:$K11),#REF!,2,FALSE))) -> #REF!
A12: =IF(Scores!A12="","",Scores!A12) -> 43104 | B12: =IF(Scores!B12="","",Scores!B12/(VLOOKUP(COUNT(Scores!$B12:$K12),#REF!,2,FALSE))) -> #REF! | C12: =IF(Scores!#REF!="","",Scores!#REF!/(VLOOKUP(COUNT(Scores!$B12:$K12),#REF!,2,FALSE))) -> #REF! | D12: =IF(Scores!E12="","",Scores!E12/(VLOOKUP(COUNT(Scores!$B12:$K12),#REF!,2,FALSE))) -> #REF! | E12: =IF(Scores!G12="","",Scores!G12/(VLOOKUP(COUNT(Scores!$B12:$K12),#REF!,2,FALSE))) | F12: =IF(Scores!H12="","",Scores!H12/(VLOOKUP(COUNT(Scores!$B12:$K12),#REF!,2,FALSE))) | G12: =IF(Scores!#REF!="","",Scores!#REF!/(VLOOKUP(COUNT(Scores!$B12:$K12),#REF!,2,FALSE))) -> #REF! | H12: =IF(Scores!#REF!="","",Scores!#REF!/(VLOOKUP(COUNT(Scores!$B12:$K12),#REF!,2,FALSE))) -> #REF! | I12: =IF(Scores!J12="","",Scores!J12/(VLOOKUP(COUNT(Scores!$B12:$K12),#REF!,2,FALSE))) -> #REF! | J12: =IF(Scores!K12="","",Scores!K12/(VLOOKUP(COUNT(Scores!$B12:$K12),#REF!,2,FALSE))) -> #REF!
A13: =IF(Scores!A13="","",Scores!A13) -> 43104 | B13: =IF(Scores!B13="","",Scores!B13/(VLOOKUP(COUNT(Scores!$B13:$K13),#REF!,2,FALSE))) -> #REF! | C13: =IF(Scores!#REF!="","",Scores!#REF!/(VLOOKUP(COUNT(Scores!$B13:$K13),#REF!,2,FALSE))) -> #REF! | D13: =IF(Scores!E13="","",Scores!E13/(VLOOKUP(COUNT(Scores!$B13:$K13),#REF!,2,FALSE))) -> #REF! | E13: =IF(Scores!G13="","",Scores!G13/(VLOOKUP(COUNT(Scores!$B13:$K13),#REF!,2,FALSE))) | F13: =IF(Scores!H13="","",Scores!H13/(VLOOKUP(COUNT(Scores!$B13:$K13),#REF!,2,FALSE))) | G13: =IF(Scores!#REF!="","",Scores!#REF!/(VLOOKUP(COUNT(Scores!$B13:$K13),#REF!,2,FALSE))) -> #REF! | H13: =IF(Scores!#REF!="","",Scores!#REF!/(VLOOKUP(COUNT(Scores!$B13:$K13),#REF!,2,FALSE))) -> #REF! | I13: =IF(Scores!J13="","",Scores!J13/(VLOOKUP(COUNT(Scores!$B13:$K13),#REF!,2,FALSE))) -> #REF! | J13: =IF(Scores!K13="","",Scores!K13/(VLOOKUP(COUNT(Scores!$B13:$K13),#REF!,2,FALSE))) -> #REF!
A14: =IF(Scores!A14="","",Scores!A14) -> 43104 | B14: =IF(Scores!B14="","",Scores!B14/(VLOOKUP(COUNT(Scores!$B14:$K14),#REF!,2,FALSE))) -> #REF! | C14: =IF(Scores!#REF!="","",Scores!#REF!/(VLOOKUP(COUNT(Scores!$B14:$K14),#REF!,2,FALSE))) -> #REF! | D14: =IF(Scores!E14="","",Scores!E14/(VLOOKUP(COUNT(Scores!$B14:$K14),#REF!,2,FALSE))) -> #REF! | E14: =IF(Scores!G14="","",Scores!G14/(VLOOKUP(COUNT(Scores!$B14:$K14),#REF!,2,FALSE))) | F14: =IF(Scores!H14="","",Scores!H14/(VLOOKUP(COUNT(Scores!$B14:$K14),#REF!,2,FALSE))) | G14: =IF(Scores!#REF!="","",Scores!#REF!/(VLOOKUP(COUNT(Scores!$B14:$K14),#REF!,2,FALSE))) -> #REF! | H14: =IF(Scores!#REF!="","",Scores!#REF!/(VLOOKUP(COUNT(Scores!$B14:$K14),#REF!,2,FALSE))) -> #REF! | I14: =IF(Scores!J14="","",Scores!J14/(VLOOKUP(COUNT(Scores!$B14:$K14),#REF!,2,FALSE))) -> #REF! | J14: =IF(Scores!K14="","",Scores!K14/(VLOOKUP(COUNT(Scores!$B14:$K14),#REF!,2,FALSE))) -> #REF!
A15: =IF(Scores!A15="","",Scores!A15) -> 43105 | B15: =IF(Scores!B15="","",Scores!B15/(VLOOKUP(COUNT(Scores!$B15:$K15),#REF!,2,FALSE))) -> #REF! | C15: =IF(Scores!#REF!="","",Scores!#REF!/(VLOOKUP(COUNT(Scores!$B15:$K15),#REF!,2,FALSE))) -> #REF! | D15: =IF(Scores!E15="","",Scores!E15/(VLOOKUP(COUNT(Scores!$B15:$K15),#REF!,2,FALSE))) | E15: =IF(Scores!G15="","",Scores!G15/(VLOOKUP(COUNT(Scores!$B15:$K15),#REF!,2,FALSE))) | F15: =IF(Scores!H15="","",Scores!H15/(VLOOKUP(COUNT(Scores!$B15:$K15),#REF!,2,FALSE))) | G15: =IF(Scores!#REF!="","",Scores!#REF!/(VLOOKUP(COUNT(Scores!$B15:$K15),#REF!,2,FALSE))) -> #REF! | H15: =IF(Scores!#REF!="","",Scores!#REF!/(VLOOKUP(COUNT(Scores!$B15:$K15),#REF!,2,FALSE))) -> #REF! | I15: =IF(Scores!J15="","",Scores!J15/(VLOOKUP(COUNT(Scores!$B15:$K15),#REF!,2,FALSE))) -> #REF! | J15: =IF(Scores!K15="","",Scores!K15/(VLOOKUP(COUNT(Scores!$B15:$K15),#REF!,2,FALSE))) -> #REF!
A16: =IF(Scores!A16="","",Scores!A16) -> 43105 | B16: =IF(Scores!B16="","",Scores!B16/(VLOOKUP(COUNT(Scores!$B16:$K16),#REF!,2,FALSE))) -> #REF! | C16: =IF(Scores!#REF!="","",Scores!#REF!/(VLOOKUP(COUNT(Scores!$B16:$K16),#REF!,2,FALSE))) -> #REF! | D16: =IF(Scores!E16="","",Scores!E16/(VLOOKUP(COUNT(Scores!$B16:$K16),#REF!,2,FALSE))) | E16: =IF(Scores!G16="","",Scores!G16/(VLOOKUP(COUNT(Scores!$B16:$K16),#REF!,2,FALSE))) | F16: =IF(Scores!H16="","",Scores!H16/(VLOOKUP(COUNT(Scores!$B16:$K16),#REF!,2,FALSE))) | G16: =IF(Scores!#REF!="","",Scores!#REF!/(VLOOKUP(COUNT(Scores!$B16:$K16),#REF!,2,FALSE))) -> #REF! | H16: =IF(Scores!#REF!="","",Scores!#REF!/(VLOOKUP(COUNT(Scores!$B16:$K16),#REF!,2,FALSE))) -> #REF! | I16: =IF(Scores!J16="","",Scores!J16/(VLOOKUP(COUNT(Scores!$B16:$K16),#REF!,2,FALSE))) -> #REF! | J16: =IF(Scores!K16="","",Scores!K16/(VLOOKUP(COUNT(Scores!$B16:$K16),#REF!,2,FALSE))) -> #REF!
A17: =IF(Scores!A17="","",Scores!A17) -> 43105 | B17: =IF(Scores!B17="","",Scores!B17/(VLOOKUP(COUNT(Scores!$B17:$K17),#REF!,2,FALSE))) -> #REF! | C17: =IF(Scores!#REF!="","",Scores!#REF!/(VLOOKUP(COUNT(Scores!$B17:$K17),#REF!,2,FALSE))) -> #REF! | D17: =IF(Scores!E17="","",Scores!E17/(VLOOKUP(COUNT(Scores!$B17:$K17),#REF!,2,FALSE))) | E17: =IF(Scores!G17="","",Scores!G17/(VLOOKUP(COUNT(Scores!$B17:$K17),#REF!,2,FALSE))) | F17: =IF(Scores!H17="","",Scores!H17/(VLOOKUP(COUNT(Scores!$B17:$K17),#REF!,2,FALSE))) | G17: =IF(Scores!#REF!="","",Scores!#REF!/(VLOOKUP(COUNT(Scores!$B17:$K17),#REF!,2,FALSE))) -> #REF! | H17: =IF(Scores!#REF!="","",Scores!#REF!/(VLOOKUP(COUNT(Scores!$B17:$K17),#REF!,2,FALSE))) -> #REF! | I17: =IF(Scores!J17="","",Scores!J17/(VLOOKUP(COUNT(Scores!$B17:$K17),#REF!,2,FALSE))) -> #REF! | J17: =IF(Scores!K17="","",Scores!K17/(VLOOKUP(COUNT(Scores!$B17:$K17),#REF!,2,FALSE))) -> #REF!
A18: =IF(Scores!A18="","",Scores!A18) -> 43108 | B18: =IF(Scores!B18="","",Scores!B18/(VLOOKUP(COUNT(Scores!$B18:$K18),#REF!,2,FALSE))) -> #REF! | C18: =IF(Scores!#REF!="","",Scores!#REF!/(VLOOKUP(COUNT(Scores!$B18:$K18),#REF!,2,FALSE))) -> #REF! | D18: =IF(Scores!E18="","",Scores!E18/(VLOOKUP(COUNT(Scores!$B18:$K18),#REF!,2,FALSE))) -> #REF! | E18: =IF(Scores!G18="","",Scores!G18/(VLOOKUP(COUNT(Scores!$B18:$K18),#REF!,2,FALSE))) | F18: =IF(Scores!H18="","",Scores!H18/(VLOOKUP(COUNT(Scores!$B18:$K18),#REF!,2,FALSE))) -> #REF! | G18: =IF(Scores!#REF!="","",Scores!#REF!/(VLOOKUP(COUNT(Scores!$B18:$K18),#REF!,2,FALSE))) -> #REF! | H18: =IF(Scores!#REF!="","",Scores!#REF!/(VLOOKUP(COUNT(Scores!$B18:$K18),#REF!,2,FALSE))) -> #REF! | I18: =IF(Scores!J18="","",Scores!J18/(VLOOKUP(COUNT(Scores!$B18:$K18),#REF!,2,FALSE))) -> #REF! | J18: =IF(Scores!K18="","",Scores!K18/(VLOOKUP(COUNT(Scores!$B18:$K18),#REF!,2,FALSE))) -> #REF!
A19: =IF(Scores!A19="","",Scores!A19) -> 43108 | B19: =IF(Scores!B19="","",Scores!B19/(VLOOKUP(COUNT(Scores!$B19:$K19),#REF!,2,FALSE))) -> #REF! | C19: =IF(Scores!#REF!="","",Scores!#REF!/(VLOOKUP(COUNT(Scores!$B19:$K19),#REF!,2,FALSE))) -> #REF! | D19: =IF(Scores!E19="","",Scores!E19/(VLOOKUP(COUNT(Scores!$B19:$K19),#REF!,2,FALSE))) -> #REF! | E19: =IF(Scores!G19="","",Scores!G19/(VLOOKUP(COUNT(Scores!$B19:$K19),#REF!,2,FALSE))) | F19: =IF(Scores!H19="","",Scores!H19/(VLOOKUP(COUNT(Scores!$B19:$K19),#REF!,2,FALSE))) -> #REF! | G19: =IF(Scores!#REF!="","",Scores!#REF!/(VLOOKUP(COUNT(Scores!$B19:$K19),#REF!,2,FALSE))) -> #REF! | H19: =IF(Scores!#REF!="","",Scores!#REF!/(VLOOKUP(COUNT(Scores!$B19:$K19),#REF!,2,FALSE))) -> #REF! | I19: =IF(Scores!J19="","",Scores!J19/(VLOOKUP(COUNT(Scores!$B19:$K19),#REF!,2,FALSE))) -> #REF! | J19: =IF(Scores!K19="","",Scores!K19/(VLOOKUP(COUNT(Scores!$B19:$K19),#REF!,2,FALSE))) -> #REF!
A20: =IF(Scores!A20="","",Scores!A20) -> 43108 | B20: =IF(Scores!B20="","",Scores!B20/(VLOOKUP(COUNT(Scores!$B20:$K20),#REF!,2,FALSE))) -> #REF! | C20: =IF(Scores!#REF!="","",Scores!#REF!/(VLOOKUP(COUNT(Scores!$B20:$K20),#REF!,2,FALSE))) -> #REF! | D20: =IF(Scores!E20="","",Scores!E20/(VLOOKUP(COUNT(Scores!$B20:$K20),#REF!,2,FALSE))) -> #REF! | E20: =IF(Scores!G20="","",Scores!G20/(VLOOKUP(COUNT(Scores!$B20:$K20),#REF!,2,FALSE))) | F20: =IF(Scores!H20="","",Scores!H20/(VLOOKUP(COUNT(Scores!$B20:$K20),#REF!,2,FALSE))) -> #REF! | G20: =IF(Scores!#REF!="","",Scores!#REF!/(VLOOKUP(COUNT(Scores!$B20:$K20),#REF!,2,FALSE))) -> #REF! | H20: =IF(Scores!#REF!="","",Scores!#REF!/(VLOOKUP(COUNT(Scores!$B20:$K20),#REF!,2,FALSE))) -> #REF! | I20: =IF(Scores!J20="","",Scores!J20/(VLOOKUP(COUNT(Scores!$B20:$K20),#REF!,2,FALSE))) -> #REF! | J20: =IF(Scores!K20="","",Scores!K20/(VLOOKUP(COUNT(Scores!$B20:$K20),#REF!,2,FALSE))) -> #REF!
A21: =IF(Scores!A21="","",Scores!A21) -> 43108 | B21: =IF(Scores!B21="","",Scores!B21/(VLOOKUP(COUNT(Scores!$B21:$K21),#REF!,2,FALSE))) -> #REF! | C21: =IF(Scores!#REF!="","",Scores!#REF!/(VLOOKUP(COUNT(Scores!$B21:$K21),#REF!,2,FALSE))) -> #REF! | D21: =IF(Scores!E21="","",Scores!E21/(VLOOKUP(COUNT(Scores!$B21:$K21),#REF!,2,FALSE))) -> #REF! | E21: =IF(Scores!G21="","",Scores!G21/(VLOOKUP(COUNT(Scores!$B21:$K21),#REF!,2,FALSE))) | F21: =IF(Scores!H21="","",Scores!H21/(VLOOKUP(COUNT(Scores!$B21:$K21),#REF!,2,FALSE))) -> #REF! | G21: =IF(Scores!#REF!="","",Scores!#REF!/(VLOOKUP(COUNT(Scores!$B21:$K21),#REF!,2,FALSE))) -> #REF! | H21: =IF(Scores!#REF!="","",Scores!#REF!/(VLOOKUP(COUNT(Scores!$B21:$K21),#REF!,2,FALSE))) -> #REF! | I21: =IF(Scores!J21="","",Scores!J21/(VLOOKUP(COUNT(Scores!$B21:$K21),#REF!,2,FALSE))) -> #REF! | J21: =IF(Scores!K21="","",Scores!K21/(VLOOKUP(COUNT(Scores!$B21:$K21),#REF!,2,FALSE))) -> #REF!
A22: =IF(Scores!A22="","",Scores!A22) -> 43109 | B22: =IF(Scores!B22="","",Scores!B22/(VLOOKUP(COUNT(Scores!$B22:$K22),#REF!,2,FALSE))) -> #REF! | C22: =IF(Scores!#REF!="","",Scores!#REF!/(VLOOKUP(COUNT(Scores!$B22:$K22),#REF!,2,FALSE))) -> #REF! | D22: =IF(Scores!E22="","",Scores!E22/(VLOOKUP(COUNT(Scores!$B22:$K22),#REF!,2,FALSE))) | E22: =IF(Scores!G22="","",Scores!G22/(VLOOKUP(COUNT(Scores!$B22:$K22),#REF!,2,FALSE))) | F22: =IF(Scores!H22="","",Scores!H22/(VLOOKUP(COUNT(Scores!$B22:$K22),#REF!,2,FALSE))) -> #REF! | G22: =IF(Scores!#REF!="","",Scores!#REF!/(VLOOKUP(COUNT(Scores!$B22:$K22),#REF!,2,FALSE))) -> #REF! | H22: =IF(Scores!#REF!="","",Scores!#REF!/(VLOOKUP(COUNT(Scores!$B22:$K22),#REF!,2,FALSE))) -> #REF! | I22: =IF(Scores!J22="","",Scores!J22/(VLOOKUP(COUNT(Scores!$B22:$K22),#REF!,2,FALSE))) -> #REF! | J22: =IF(Scores!K22="","",Scores!K22/(VLOOKUP(COUNT(Scores!$B22:$K22),#REF!,2,FALSE))) -> #REF!
... A90: =IF(Scores!A90="","",Scores!A90) -> 43132 | B90: =IF(Scores!B90="","",Scores!B90/(VLOOKUP(COUNT(Scores!$B90:$K90),#REF!,2,FALSE))) -> #REF! | C90: =IF(Scores!#REF!="","",Scores!#REF!/(VLOOKUP(COUNT(Scores!$B90:$K90),#REF!,2,FALSE))) -> #REF! | D90: =IF(Scores!E90="","",Scores!E90/(VLOOKUP(COUNT(Scores!$B90:$K90),#REF!,2,FALSE))) | E90: =IF(Scores!G90="","",Scores!G90/(VLOOKUP(COUNT(Scores!$B90:$K90),#REF!,2,FALSE))) | F90: =IF(Scores!H90="","",Scores!H90/(VLOOKUP(COUNT(Scores!$B90:$K90),#REF!,2,FALSE))) -> #REF! | G90: =IF(Scores!#REF!="","",Scores!#REF!/(VLOOKUP(COUNT(Scores!$B90:$K90),#REF!,2,FALSE))) -> #REF! | H90: =IF(Scores!#REF!="","",Scores!#REF!/(VLOOKUP(COUNT(Scores!$B90:$K90),#REF!,2,FALSE))) -> #REF! | I90: =IF(Scores!J90="","",Scores!J90/(VLOOKUP(COUNT(Scores!$B90:$K90),#REF!,2,FALSE))) -> #REF! | J90: =IF(Scores!K90="","",Scores!K90/(VLOOKUP(COUNT(Scores!$B90:$K90),#REF!,2,FALSE))) -> #REF!

Sheet Rang par date
B1: =Scores!B1 -> Joueur 1 | C1: =Scores!C1 -> Joueur 2 | D1: =Scores!D1 -> Joueur 3 | E1: =Scores!E1 -> Joueur 4 | F1: =Scores!F1 -> Joueur 5 | G1: =Scores!G1 -> Joueur 6 | H1: =Scores!H1 -> Joueur 7 | I1: =Scores!I1 -> Joueur 8 | ... M1: =Scores!M1 -> Joueur 12
A2: 43102 | B2: =IFERROR(RANK('Moyenne par date'!B3,'Moyenne par date'!$B3:$M3),"") | C2: =IFERROR(RANK('Moyenne par date'!C3,'Moyenne par date'!$B3:$M3),"") | D2: =IFERROR(RANK('Moyenne par date'!D3,'Moyenne par date'!$B3:$M3),"") -> 4 | E2: =IFERROR(RANK('Moyenne par date'!E3,'Moyenne par date'!$B3:$M3),"") -> 3 | F2: =IFERROR(RANK('Moyenne par date'!F3,'Moyenne par date'!$B3:$M3),"") -> 5 | G2: =IFERROR(RANK('Moyenne par date'!G3,'Moyenne par date'!$B3:$M3),"") | H2: =IFERROR(RANK('Moyenne par date'!H3,'Moyenne par date'!$B3:$M3),"") -> 1 | I2: =IFERROR(RANK('Moyenne par date'!I3,'Moyenne par date'!$B3:$M3),"") | ... M2: =IFERROR(RANK('Moyenne par date'!M3,'Moyenne par date'!$B3:$M3),"")
A3: 43103 | B3: =IFERROR(RANK('Moyenne par date'!B4,'Moyenne par date'!$B4:$M4),"") -> 3 | C3: =IFERROR(RANK('Moyenne par date'!C4,'Moyenne par date'!$B4:$M4),"") | D3: =IFERROR(RANK('Moyenne par date'!D4,'Moyenne par date'!$B4:$M4),"") -> 6 | E3: =IFERROR(RANK('Moyenne par date'!E4,'Moyenne par date'!$B4:$M4),"") -> 7 | F3: =IFERROR(RANK('Moyenne par date'!F4,'Moyenne par date'!$B4:$M4),"") -> 8 | G3: =IFERROR(RANK('Moyenne par date'!G4,'Moyenne par date'!$B4:$M4),"") | H3: =IFERROR(RANK('Moyenne par date'!H4,'Moyenne par date'!$B4:$M4),"") -> 4 | I3: =IFERROR(RANK('Moyenne par date'!I4,'Moyenne par date'!$B4:$M4),"") | ... M3: =IFERROR(RANK('Moyenne par date'!M4,'Moyenne par date'!$B4:$M4),"")
A4: 43104 | B4: =IFERROR(RANK('Moyenne par date'!B5,'Moyenne par date'!$B5:$M5),"") -> 2 | C4: =IFERROR(RANK('Moyenne par date'!C5,'Moyenne par date'!$B5:$M5),"") | D4: =IFERROR(RANK('Moyenne par date'!D5,'Moyenne par date'!$B5:$M5),"") -> 8 | E4: =IFERROR(RANK('Moyenne par date'!E5,'Moyenne par date'!$B5:$M5),"") -> 6 | F4: =IFERROR(RANK('Moyenne par date'!F5,'Moyenne par date'!$B5:$M5),"") -> 7 | G4: =IFERROR(RANK('Moyenne par date'!G5,'Moyenne par date'!$B5:$M5),"") | H4: =IFERROR(RANK('Moyenne par date'!H5,'Moyenne par date'!$B5:$M5),"") -> 4 | I4: =IFERROR(RANK('Moyenne par date'!I5,'Moyenne par date'!$B5:$M5),"") | ... M4: =IFERROR(RANK('Moyenne par date'!M5,'Moyenne par date'!$B5:$M5),"")
A5: 43105 | B5: =IFERROR(RANK('Moyenne par date'!B6,'Moyenne par date'!$B6:$M6),"") -> 1 | C5: =IFERROR(RANK('Moyenne par date'!C6,'Moyenne par date'!$B6:$M6),"") | D5: =IFERROR(RANK('Moyenne par date'!D6,'Moyenne par date'!$B6:$M6),"") -> 7 | E5: =IFERROR(RANK('Moyenne par date'!E6,'Moyenne par date'!$B6:$M6),"") -> 6 | F5: =IFERROR(RANK('Moyenne par date'!F6,'Moyenne par date'!$B6:$M6),"") -> 8 | G5: =IFERROR(RANK('Moyenne par date'!G6,'Moyenne par date'!$B6:$M6),"") | H5: =IFERROR(RANK('Moyenne par date'!H6,'Moyenne par date'!$B6:$M6),"") -> 4 | I5: =IFERROR(RANK('Moyenne par date'!I6,'Moyenne par date'!$B6:$M6),"") | ... M5: =IFERROR(RANK('Moyenne par date'!M6,'Moyenne par date'!$B6:$M6),"")
A6: 43106 | B6: =IFERROR(RANK('Moyenne par date'!B7,'Moyenne par date'!$B7:$M7),"") -> 1 | C6: =IFERROR(RANK('Moyenne par date'!C7,'Moyenne par date'!$B7:$M7),"") | D6: =IFERROR(RANK('Moyenne par date'!D7,'Moyenne par date'!$B7:$M7),"") -> 7 | E6: =IFERROR(RANK('Moyenne par date'!E7,'Moyenne par date'!$B7:$M7),"") -> 6 | F6: =IFERROR(RANK('Moyenne par date'!F7,'Moyenne par date'!$B7:$M7),"") -> 8 | G6: =IFERROR(RANK('Moyenne par date'!G7,'Moyenne par date'!$B7:$M7),"") | H6: =IFERROR(RANK('Moyenne par date'!H7,'Moyenne par date'!$B7:$M7),"") -> 4 | I6: =IFERROR(RANK('Moyenne par date'!I7,'Moyenne par date'!$B7:$M7),"") | ... M6: =IFERROR(RANK('Moyenne par date'!M7,'Moyenne par date'!$B7:$M7),"")
A7: 43107 | B7: =IFERROR(RANK('Moyenne par date'!B8,'Moyenne par date'!$B8:$M8),"") -> 1 | C7: =IFERROR(RANK('Moyenne par date'!C8,'Moyenne par date'!$B8:$M8),"") | D7: =IFERROR(RANK('Moyenne par date'!D8,'Moyenne par date'!$B8:$M8),"") -> 7 | E7: =IFERROR(RANK('Moyenne par date'!E8,'Moyenne par date'!$B8:$M8),"") -> 6 | F7: =IFERROR(RANK('Moyenne par date'!F8,'Moyenne par date'!$B8:$M8),"") -> 8 | G7: =IFERROR(RANK('Moyenne par date'!G8,'Moyenne par date'!$B8:$M8),"") | H7: =IFERROR(RANK('Moyenne par date'!H8,'Moyenne par date'!$B8:$M8),"") -> 4 | I7: =IFERROR(RANK('Moyenne par date'!I8,'Moyenne par date'!$B8:$M8),"") | ... M7: =IFERROR(RANK('Moyenne par date'!M8,'Moyenne par date'!$B8:$M8),"")
A8: 43108 | B8: =IFERROR(RANK('Moyenne par date'!B9,'Moyenne par date'!$B9:$M9),"") -> 3 | C8: =IFERROR(RANK('Moyenne par date'!C9,'Moyenne par date'!$B9:$M9),"") | D8: =IFERROR(RANK('Moyenne par date'!D9,'Moyenne par date'!$B9:$M9),"") -> 6 | E8: =IFERROR(RANK('Moyenne par date'!E9,'Moyenne par date'!$B9:$M9),"") -> 7 | F8: =IFERROR(RANK('Moyenne par date'!F9,'Moyenne par date'!$B9:$M9),"") -> 8 | G8: =IFERROR(RANK('Moyenne par date'!G9,'Moyenne par date'!$B9:$M9),"") | H8: =IFERROR(RANK('Moyenne par date'!H9,'Moyenne par date'!$B9:$M9),"") -> 5 | I8: =IFERROR(RANK('Moyenne par date'!I9,'Moyenne par date'!$B9:$M9),"") | ... M8: =IFERROR(RANK('Moyenne par date'!M9,'Moyenne par date'!$B9:$M9),"")
A9: 43109 | B9: =IFERROR(RANK('Moyenne par date'!B10,'Moyenne par date'!$B10:$M10),"") -> 3 | C9: =IFERROR(RANK('Moyenne par date'!C10,'Moyenne par date'!$B10:$M10),"") | D9: =IFERROR(RANK('Moyenne par date'!D10,'Moyenne par date'!$B10:$M10),"") -> 6 | E9: =IFERROR(RANK('Moyenne par date'!E10,'Moyenne par date'!$B10:$M10),"") -> 7 | F9: =IFERROR(RANK('Moyenne par date'!F10,'Moyenne par date'!$B10:$M10),"") -> 8 | G9: =IFERROR(RANK('Moyenne par date'!G10,'Moyenne par date'!$B10:$M10),"") | H9: =IFERROR(RANK('Moyenne par date'!H10,'Moyenne par date'!$B10:$M10),"") -> 4 | I9: =IFERROR(RANK('Moyenne par date'!I10,'Moyenne par date'!$B10:$M10),"") | ... M9: =IFERROR(RANK('Moyenne par date'!M10,'Moyenne par date'!$B10:$M10),"")
A10: 43110 | B10: =IFERROR(RANK('Moyenne par date'!B11,'Moyenne par date'!$B11:$M11),"") -> 3 | C10: =IFERROR(RANK('Moyenne par date'!C11,'Moyenne par date'!$B11:$M11),"") | D10: =IFERROR(RANK('Moyenne par date'!D11,'Moyenne par date'!$B11:$M11),"") -> 6 | E10: =IFERROR(RANK('Moyenne par date'!E11,'Moyenne par date'!$B11:$M11),"") -> 7 | F10: =IFERROR(RANK('Moyenne par date'!F11,'Moyenne par date'!$B11:$M11),"") -> 8 | G10: =IFERROR(RANK('Moyenne par date'!G11,'Moyenne par date'!$B11:$M11),"") | H10: =IFERROR(RANK('Moyenne par date'!H11,'Moyenne par date'!$B11:$M11),"") -> 4 | I10: =IFERROR(RANK('Moyenne par date'!I11,'Moyenne par date'!$B11:$M11),"") | ... M10: =IFERROR(RANK('Moyenne par date'!M11,'Moyenne par date'!$B11:$M11),"")
A11: 43111
A12: 43112
A13: 43113
A14: 43114
A15: 43115
A16: 43116
A17: 43117
A18: 43118
A19: 43119
A20: 43120
A21: 43121
A22: 43122
... A365: 43465

Sheet Moyenne par date
B2: =Scores!B1 -> Joueur 1 | C2: =Scores!C1 -> Joueur 2 | D2: =Scores!D1 -> Joueur 3 | E2: =Scores!E1 -> Joueur 4 | F2: =Scores!F1 -> Joueur 5 | G2: =Scores!G1 -> Joueur 6 | H2: =Scores!H1 -> Joueur 7 | I2: =Scores!I1 -> Joueur 8 | ... M2: =Scores!M1 -> Joueur 12
A3: 43102 | B3: =IFERROR(AVERAGEIF(Scores!$A$2:$A$65536,"<="&$A3,Scores!B$2:B$65536),"") | C3: =IFERROR(AVERAGEIF(Scores!$A$2:$A$65536,"<="&$A3,Scores!C$2:C$65536),"") | D3: =IFERROR(AVERAGEIF(Scores!$A$2:$A$65536,"<="&$A3,Scores!D$2:D$65536),"") -> 11.5 | E3: =IFERROR(AVERAGEIF(Scores!$A$2:$A$65536,"<="&$A3,Scores!E$2:E$65536),"") -> 14 | F3: =IFERROR(AVERAGEIF(Scores!$A$2:$A$65536,"<="&$A3,Scores!F$2:F$65536),"") -> 6.6666667 | G3: =IFERROR(AVERAGEIF(Scores!$A$2:$A$65536,"<="&$A3,Scores!G$2:G$65536),"") | H3: =IFERROR(AVERAGEIF(Scores!$A$2:$A$65536,"<="&$A3,Scores!H$2:H$65536),"") -> 18.166667 | I3: =IFERROR(AVERAGEIF(Scores!$A$2:$A$65536,"<="&$A3,Scores!I$2:I$65536),"") | ... M3: =IFERROR(AVERAGEIF(Scores!$A$2:$A$65536,"<="&$A3,Scores!M$2:M$65536),"")
A4: 43103 | B4: =IFERROR(AVERAGEIF(Scores!$A$2:$A$65536,"<="&$A4,Scores!B$2:B$65536),"") -> 15.5 | C4: =IFERROR(AVERAGEIF(Scores!$A$2:$A$65536,"<="&$A4,Scores!C$2:C$65536),"") | D4: =IFERROR(AVERAGEIF(Scores!$A$2:$A$65536,"<="&$A4,Scores!D$2:D$65536),"") -> 11.5 | E4: =IFERROR(AVERAGEIF(Scores!$A$2:$A$65536,"<="&$A4,Scores!E$2:E$65536),"") -> 11.4 | F4: =IFERROR(AVERAGEIF(Scores!$A$2:$A$65536,"<="&$A4,Scores!F$2:F$65536),"") -> 10.5 | G4: =IFERROR(AVERAGEIF(Scores!$A$2:$A$65536,"<="&$A4,Scores!G$2:G$65536),"") | H4: =IFERROR(AVERAGEIF(Scores!$A$2:$A$65536,"<="&$A4,Scores!H$2:H$65536),"") -> 14 | I4: =IFERROR(AVERAGEIF(Scores!$A$2:$A$65536,"<="&$A4,Scores!I$2:I$65536),"") | ... M4: =IFERROR(AVERAGEIF(Scores!$A$2:$A$65536,"<="&$A4,Scores!M$2:M$65536),"")
A5: 43104 | B5: =IFERROR(AVERAGEIF(Scores!$A$2:$A$65536,"<="&$A5,Scores!B$2:B$65536),"") -> 15.714286 | C5: =IFERROR(AVERAGEIF(Scores!$A$2:$A$65536,"<="&$A5,Scores!C$2:C$65536),"") | D5: =IFERROR(AVERAGEIF(Scores!$A$2:$A$65536,"<="&$A5,Scores!D$2:D$65536),"") -> 11.5 | E5: =IFERROR(AVERAGEIF(Scores!$A$2:$A$65536,"<="&$A5,Scores!E$2:E$65536),"") -> 12.846154 | F5: =IFERROR(AVERAGEIF(Scores!$A$2:$A$65536,"<="&$A5,Scores!F$2:F$65536),"") -> 12.153846 | G5: =IFERROR(AVERAGEIF(Scores!$A$2:$A$65536,"<="&$A5,Scores!G$2:G$65536),"") | H5: =IFERROR(AVERAGEIF(Scores!$A$2:$A$65536,"<="&$A5,Scores!H$2:H$65536),"") -> 14 | I5: =IFERROR(AVERAGEIF(Scores!$A$2:$A$65536,"<="&$A5,Scores!I$2:I$65536),"") | ... M5: =IFERROR(AVERAGEIF(Scores!$A$2:$A$65536,"<="&$A5,Scores!M$2:M$65536),"")
A6: 43105 | B6: =IFERROR(AVERAGEIF(Scores!$A$2:$A$65536,"<="&$A6,Scores!B$2:B$65536),"") -> 16.7 | C6: =IFERROR(AVERAGEIF(Scores!$A$2:$A$65536,"<="&$A6,Scores!C$2:C$65536),"") | D6: =IFERROR(AVERAGEIF(Scores!$A$2:$A$65536,"<="&$A6,Scores!D$2:D$65536),"") -> 12.333333 | E6: =IFERROR(AVERAGEIF(Scores!$A$2:$A$65536,"<="&$A6,Scores!E$2:E$65536),"") -> 12.846154 | F6: =IFERROR(AVERAGEIF(Scores!$A$2:$A$65536,"<="&$A6,Scores!F$2:F$65536),"") -> 11.125 | G6: =IFERROR(AVERAGEIF(Scores!$A$2:$A$65536,"<="&$A6,Scores!G$2:G$65536),"") | H6: =IFERROR(AVERAGEIF(Scores!$A$2:$A$65536,"<="&$A6,Scores!H$2:H$65536),"") -> 14 | I6: =IFERROR(AVERAGEIF(Scores!$A$2:$A$65536,"<="&$A6,Scores!I$2:I$65536),"") | ... M6: =IFERROR(AVERAGEIF(Scores!$A$2:$A$65536,"<="&$A6,Scores!M$2:M$65536),"")
A7: 43106 | B7: =IFERROR(AVERAGEIF(Scores!$A$2:$A$65536,"<="&$A7,Scores!B$2:B$65536),"") -> 16.7 | C7: =IFERROR(AVERAGEIF(Scores!$A$2:$A$65536,"<="&$A7,Scores!C$2:C$65536),"") | D7: =IFERROR(AVERAGEIF(Scores!$A$2:$A$65536,"<="&$A7,Scores!D$2:D$65536),"") -> 12.333333 | E7: =IFERROR(AVERAGEIF(Scores!$A$2:$A$65536,"<="&$A7,Scores!E$2:E$65536),"") -> 12.846154 | F7: =IFERROR(AVERAGEIF(Scores!$A$2:$A$65536,"<="&$A7,Scores!F$2:F$65536),"") -> 11.125 | G7: =IFERROR(AVERAGEIF(Scores!$A$2:$A$65536,"<="&$A7,Scores!G$2:G$65536),"") | H7: =IFERROR(AVERAGEIF(Scores!$A$2:$A$65536,"<="&$A7,Scores!H$2:H$65536),"") -> 14 | I7: =IFERROR(AVERAGEIF(Scores!$A$2:$A$65536,"<="&$A7,Scores!I$2:I$65536),"") | ... M7: =IFERROR(AVERAGEIF(Scores!$A$2:$A$65536,"<="&$A7,Scores!M$2:M$65536),"")
A8: 43107 | B8: =IFERROR(AVERAGEIF(Scores!$A$2:$A$65536,"<="&$A8,Scores!B$2:B$65536),"") -> 16.7 | C8: =IFERROR(AVERAGEIF(Scores!$A$2:$A$65536,"<="&$A8,Scores!C$2:C$65536),"") | D8: =IFERROR(AVERAGEIF(Scores!$A$2:$A$65536,"<="&$A8,Scores!D$2:D$65536),"") -> 12.333333 | E8: =IFERROR(AVERAGEIF(Scores!$A$2:$A$65536,"<="&$A8,Scores!E$2:E$65536),"") -> 12.846154 | F8: =IFERROR(AVERAGEIF(Scores!$A$2:$A$65536,"<="&$A8,Scores!F$2:F$65536),"") -> 11.125 | G8: =IFERROR(AVERAGEIF(Scores!$A$2:$A$65536,"<="&$A8,Scores!G$2:G$65536),"") | H8: =IFERROR(AVERAGEIF(Scores!$A$2:$A$65536,"<="&$A8,Scores!H$2:H$65536),"") -> 14 | I8: =IFERROR(AVERAGEIF(Scores!$A$2:$A$65536,"<="&$A8,Scores!I$2:I$65536),"") | ... M8: =IFERROR(AVERAGEIF(Scores!$A$2:$A$65536,"<="&$A8,Scores!M$2:M$65536),"")
A9: 43108 | B9: =IFERROR(AVERAGEIF(Scores!$A$2:$A$65536,"<="&$A9,Scores!B$2:B$65536),"") -> 15.142857 | C9: =IFERROR(AVERAGEIF(Scores!$A$2:$A$65536,"<="&$A9,Scores!C$2:C$65536),"") | D9: =IFERROR(AVERAGEIF(Scores!$A$2:$A$65536,"<="&$A9,Scores!D$2:D$65536),"") -> 12.333333 | E9: =IFERROR(AVERAGEIF(Scores!$A$2:$A$65536,"<="&$A9,Scores!E$2:E$65536),"") -> 12.235294 | F9: =IFERROR(AVERAGEIF(Scores!$A$2:$A$65536,"<="&$A9,Scores!F$2:F$65536),"") -> 9.95 | G9: =IFERROR(AVERAGEIF(Scores!$A$2:$A$65536,"<="&$A9,Scores!G$2:G$65536),"") | H9: =IFERROR(AVERAGEIF(Scores!$A$2:$A$65536,"<="&$A9,Scores!H$2:H$65536),"") -> 13.071429 | I9: =IFERROR(AVERAGEIF(Scores!$A$2:$A$65536,"<="&$A9,Scores!I$2:I$65536),"") | ... M9: =IFERROR(AVERAGEIF(Scores!$A$2:$A$65536,"<="&$A9,Scores!M$2:M$65536),"")
A10: 43109 | B10: =IFERROR(AVERAGEIF(Scores!$A$2:$A$65536,"<="&$A10,Scores!B$2:B$65536),"") -> 16.352941 | C10: =IFERROR(AVERAGEIF(Scores!$A$2:$A$65536,"<="&$A10,Scores!C$2:C$65536),"") | D10: =IFERROR(AVERAGEIF(Scores!$A$2:$A$65536,"<="&$A10,Scores!D$2:D$65536),"") -> 12.333333 | E10: =IFERROR(AVERAGEIF(Scores!$A$2:$A$65536,"<="&$A10,Scores!E$2:E$65536),"") -> 12.235294 | F10: =IFERROR(AVERAGEIF(Scores!$A$2:$A$65536,"<="&$A10,Scores!F$2:F$65536),"") -> 10.521739 | G10: =IFERROR(AVERAGEIF(Scores!$A$2:$A$65536,"<="&$A10,Scores!G$2:G$65536),"") | H10: =IFERROR(AVERAGEIF(Scores!$A$2:$A$65536,"<="&$A10,Scores!H$2:H$65536),"") -> 13.823529 | I10: =IFERROR(AVERAGEIF(Scores!$A$2:$A$65536,"<="&$A10,Scores!I$2:I$65536),"") | ... M10: =IFERROR(AVERAGEIF(Scores!$A$2:$A$65536,"<="&$A10,Scores!M$2:M$65536),"")
A11: 43110 | B11: =IFERROR(AVERAGEIF(Scores!$A$2:$A$65536,"<="&$A11,Scores!B$2:B$65536),"") -> 14.727273 | C11: =IFERROR(AVERAGEIF(Scores!$A$2:$A$65536,"<="&$A11,Scores!C$2:C$65536),"") | D11: =IFERROR(AVERAGEIF(Scores!$A$2:$A$65536,"<="&$A11,Scores!D$2:D$65536),"") -> 12.333333 | E11: =IFERROR(AVERAGEIF(Scores!$A$2:$A$65536,"<="&$A11,Scores!E$2:E$65536),"") -> 12.235294 | F11: =IFERROR(AVERAGEIF(Scores!$A$2:$A$65536,"<="&$A11,Scores!F$2:F$65536),"") -> 11.214286 | G11: =IFERROR(AVERAGEIF(Scores!$A$2:$A$65536,"<="&$A11,Scores!G$2:G$65536),"") | H11: =IFERROR(AVERAGEIF(Scores!$A$2:$A$65536,"<="&$A11,Scores!H$2:H$65536),"") -> 14.136364 | I11: =IFERROR(AVERAGEIF(Scores!$A$2:$A$65536,"<="&$A11,Scores!I$2:I$65536),"") | ... M11: =IFERROR(AVERAGEIF(Scores!$A$2:$A$65536,"<="&$A11,Scores!M$2:M$65536),"")
A12: 43111
A13: 43112
A14: 43113
A15: 43114
A16: 43115
A17: 43116
A18: 43117
A19: 43118
A20: 43119
A21: 43120
A22: 43121
A23: 43122
... A366: 43465

Sheet Feuil2
