Workbook
Name Daten: [1]Eingabe!$A$4:$E$30
Name Daten___0: [1]Eingabe!$A$4:$E$30
Name Daten___5: [2]Eingabe!$A$4:$E$30
Name Daten___6: [2]Eingabe!$A$4:$E$30
Name Daten___8: [2]Eingabe!$A$4:$E$30

Sheet Infos joueurs
CC1: T1 | CY1: T2 | DU1: T3 | EQ1: T13 | FM1: T14 | GI1: T15
BZ4: =IF(CF1>0,VLOOKUP(CF1,$B:$BT,11,FALSE)," ")&" "&IF(CF1>0,VLOOKUP(CF1,$B:$BT,27,FALSE)," ") | CV4: =IF(DB1>0,VLOOKUP(DB1,$B:$BT,11,FALSE)," ")&" "&IF(DB1>0,VLOOKUP(DB1,$B:$BT,27,FALSE)," ") | DR4: =IF(DX1>0,VLOOKUP(DX1,$B:$BT,11,FALSE)," ")&" "&IF(DX1>0,VLOOKUP(DX1,$B:$BT,27,FALSE)," ") | EN4: =IF(ET1>0,VLOOKUP(ET1,$B:$BT,11,FALSE)," ")&" "&IF(ET1>0,VLOOKUP(ET1,$B:$BT,27,FALSE)," ") | FJ4: =IF(FP1>0,VLOOKUP(FP1,$B:$BT,11,FALSE)," ")&" "&IF(FP1>0,VLOOKUP(FP1,$B:$BT,27,FALSE)," ") | GF4: =IF(GL1>0,VLOOKUP(GL1,$B:$BT,11,FALSE)," ")&" "&IF(GL1>0,VLOOKUP(GL1,$B:$BT,27,FALSE)," ")
BZ14: =IF(CI1>0,VLOOKUP(CI1,$B:$BT,11,FALSE)," ")&" "&IF(CI1>0,VLOOKUP(CI1,$B:$BT,27,FALSE)," ") | CV14: =IF(DE1>0,VLOOKUP(DE1,$B:$BT,11,FALSE)," ")&" "&IF(DE1>0,VLOOKUP(DE1,$B:$BT,27,FALSE)," ") | DR14: =IF(EA1>0,VLOOKUP(EA1,$B:$BT,11,FALSE)," ")&" "&IF(EA1>0,VLOOKUP(EA1,$B:$BT,27,FALSE)," ") | EN14: =IF(EW1>0,VLOOKUP(EW1,$B:$BT,11,FALSE)," ")&" "&IF(EW1>0,VLOOKUP(EW1,$B:$BT,27,FALSE)," ") | FJ14: =IF(FS1>0,VLOOKUP(FS1,$B:$BT,11,FALSE)," ")&" "&IF(FS1>0,VLOOKUP(FS1,$B:$BT,27,FALSE)," ") | GF14: =IF(GO1>0,VLOOKUP(GO1,$B:$BT,11,FALSE)," ")&" "&IF(GO1>0,VLOOKUP(GO1,$B:$BT,27,FALSE)," ")
B16: =IF('[3]Info générale'!B1>0,'[3]Info générale'!B1,"") -> Championnat des écoles de tennis de table 2017-2018
B23: =IF('[3]Info générale'!B1>0,'[3]Info générale'!B4,"") -> 43001
CC27: T4 | CY27: T5 | DU27: T6 | EQ27: T16 | FM27: T17 | GI27: T18
BZ30: =IF(CF27>0,VLOOKUP(CF27,$B:$BT,11,FALSE)," ")&" "&IF(CF27>0,VLOOKUP(CF27,$B:$BT,27,FALSE)," ") | CV30: =IF(DB27>0,VLOOKUP(DB27,$B:$BT,11,FALSE)," ")&" "&IF(DB27>0,VLOOKUP(DB27,$B:$BT,27,FALSE)," ") | DR30: =IF(DX27>0,VLOOKUP(DX27,$B:$BT,11,FALSE)," ")&" "&IF(DX27>0,VLOOKUP(DX27,$B:$BT,27,FALSE)," ") | EN30: =IF(ET27>0,VLOOKUP(ET27,$B:$BT,11,FALSE)," ")&" "&IF(ET27>0,VLOOKUP(ET27,$B:$BT,27,FALSE)," ") | FJ30: =IF(FP27>0,VLOOKUP(FP27,$B:$BT,11,FALSE)," ")&" "&IF(FP27>0,VLOOKUP(FP27,$B:$BT,27,FALSE)," ") | GF30: =IF(GL27>0,VLOOKUP(GL27,$B:$BT,11,FALSE)," ")&" "&IF(GL27>0,VLOOKUP(GL27,$B:$BT,27,FALSE)," ")
B31: N° | E31: Né le | L31: Nom | AB31: Prénom | AR31: Clubs | BC31: Points | BI31: Catégories
B33: 1 | E33: 1 | L33: Dupond | AB33: Maxime | BQ33: =IF(OR($CF$1=B33,$CI$1=B33,$DB$1=B33,$DE$1=B33,$DX$1=B33,$EA$1=B33,$CF$27=B33,$CI$27=B33,$DB$27=B33,$DE$27=B33,$DX$27=B33,$EA$27=B33,$CF$53=B33,$CI$53=B33,$DB$53=B33,$DE$53=B33,$DX$53=B33,$EA$53=B33,$CF$79=B33,$CI$79=B33,$DB$79=B33,$DE$79=B33,$DX$79=B33,$EA$79=B33,$ET$1=B33,$EW$1=B33,$FP$1=B33,$FS$1=B33,$GL$1=B33,$GO$1=B33,$ET$27=B33,$EW$27=B33,$FP$27=B33,$FS$27=B33,$GL$27=B33,$GO$27=B33,$ET$53=B33,$EW$53=B33,$FP$53=B33,$FS$53=B33,$GL$53=B33,$GO$53=B33,$ET$79=B33,$EW$79=B33,$FP$79=B33,$FS$79=B33,$GL$79=B33,$GO$79=B33),1,0) -> 0
B35: 2 | E35: 1 | L35: Barcals | AB35: Leticia | BQ35: =IF(OR($CF$1=B35,$CI$1=B35,$DB$1=B35,$DE$1=B35,$DX$1=B35,$EA$1=B35,$CF$27=B35,$CI$27=B35,$DB$27=B35,$DE$27=B35,$DX$27=B35,$EA$27=B35,$CF$53=B35,$CI$53=B35,$DB$53=B35,$DE$53=B35,$DX$53=B35,$EA$53=B35,$CF$79=B35,$CI$79=B35,$DB$79=B35,$DE$79=B35,$DX$79=B35,$EA$79=B35,$ET$1=B35,$EW$1=B35,$FP$1=B35,$FS$1=B35,$GL$1=B35,$GO$1=B35,$ET$27=B35,$EW$27=B35,$FP$27=B35,$FS$27=B35,$GL$27=B35,$GO$27=B35,$ET$53=B35,$EW$53=B35,$FP$53=B35,$FS$53=B35,$GL$53=B35,$GO$53=B35,$ET$79=B35,$EW$79=B35,$FP$79=B35,$FS$79=B35,$GL$79=B35,$GO$79=B35),1,0) -> 0
B37: 3 | E37: 1 | L37: Bibi | AB37: Joachim | BQ37: =IF(OR($CF$1=B37,$CI$1=B37,$DB$1=B37,$DE$1=B37,$DX$1=B37,$EA$1=B37,$CF$27=B37,$CI$27=B37,$DB$27=B37,$DE$27=B37,$DX$27=B37,$EA$27=B37,$CF$53=B37,$CI$53=B37,$DB$53=B37,$DE$53=B37,$DX$53=B37,$EA$53=B37,$CF$79=B37,$CI$79=B37,$DB$79=B37,$DE$79=B37,$DX$79=B37,$EA$79=B37,$ET$1=B37,$EW$1=B37,$FP$1=B37,$FS$1=B37,$GL$1=B37,$GO$1=B37,$ET$27=B37,$EW$27=B37,$FP$27=B37,$FS$27=B37,$GL$27=B37,$GO$27=B37,$ET$53=B37,$EW$53=B37,$FP$53=B37,$FS$53=B37,$GL$53=B37,$GO$53=B37,$ET$79=B37,$EW$79=B37,$FP$79=B37,$FS$79=B37,$GL$79=B37,$GO$79=B37),1,0) -> 0
B39: 4 | E39: 1 | L39: Ciffère | AB39: Lois | BQ39: =IF(OR($CF$1=B39,$CI$1=B39,$DB$1=B39,$DE$1=B39,$DX$1=B39,$EA$1=B39,$CF$27=B39,$CI$27=B39,$DB$27=B39,$DE$27=B39,$DX$27=B39,$EA$27=B39,$CF$53=B39,$CI$53=B39,$DB$53=B39,$DE$53=B39,$DX$53=B39,$EA$53=B39,$CF$79=B39,$CI$79=B39,$DB$79=B39,$DE$79=B39,$DX$79=B39,$EA$79=B39,$ET$1=B39,$EW$1=B39,$FP$1=B39,$FS$1=B39,$GL$1=B39,$GO$1=B39,$ET$27=B39,$EW$27=B39,$FP$27=B39,$FS$27=B39,$GL$27=B39,$GO$27=B39,$ET$53=B39,$EW$53=B39,$FP$53=B39,$FS$53=B39,$GL$53=B39,$GO$53=B39,$ET$79=B39,$EW$79=B39,$FP$79=B39,$FS$79=B39,$GL$79=B39,$GO$79=B39),1,0) -> 0
BZ40: =IF(CI27>0,VLOOKUP(CI27,$B:$BT,11,FALSE)," ")&" "&IF(CI27>0,VLOOKUP(CI27,$B:$BT,27,FALSE)," ") | CV40: =IF(DE27>0,VLOOKUP(DE27,$B:$BT,11,FALSE)," ")&" "&IF(DE27>0,VLOOKUP(DE27,$B:$BT,27,FALSE)," ") | DR40: =IF(EA27>0,VLOOKUP(EA27,$B:$BT,11,FALSE)," ")&" "&IF(EA27>0,VLOOKUP(EA27,$B:$BT,27,FALSE)," ") | EN40: =IF(EW27>0,VLOOKUP(EW27,$B:$BT,11,FALSE)," ")&" "&IF(EW27>0,VLOOKUP(EW27,$B:$BT,27,FALSE)," ") | FJ40: =IF(FS27>0,VLOOKUP(FS27,$B:$BT,11,FALSE)," ")&" "&IF(FS27>0,VLOOKUP(FS27,$B:$BT,27,FALSE)," ") | GF40: =IF(GO27>0,VLOOKUP(GO27,$B:$BT,11,FALSE)," ")&" "&IF(GO27>0,VLOOKUP(GO27,$B:$BT,27,FALSE)," ")
B41: 5 | E41: 1 | L41: Giroudin | AB41: Pascal | BQ41: =IF(OR($CF$1=B41,$CI$1=B41,$DB$1=B41,$DE$1=B41,$DX$1=B41,$EA$1=B41,$CF$27=B41,$CI$27=B41,$DB$27=B41,$DE$27=B41,$DX$27=B41,$EA$27=B41,$CF$53=B41,$CI$53=B41,$DB$53=B41,$DE$53=B41,$DX$53=B41,$EA$53=B41,$CF$79=B41,$CI$79=B41,$DB$79=B41,$DE$79=B41,$DX$79=B41,$EA$79=B41,$ET$1=B41,$EW$1=B41,$FP$1=B41,$FS$1=B41,$GL$1=B41,$GO$1=B41,$ET$27=B41,$EW$27=B41,$FP$27=B41,$FS$27=B41,$GL$27=B41,$GO$27=B41,$ET$53=B41,$EW$53=B41,$FP$53=B41,$FS$53=B41,$GL$53=B41,$GO$53=B41,$ET$79=B41,$EW$79=B41,$FP$79=B41,$FS$79=B41,$GL$79=B41,$GO$79=B41),1,0) -> 0
B43: 6 | E43: 1 | L43: Giroudin | AB43: Quentin | BQ43: =IF(OR($CF$1=B43,$CI$1=B43,$DB$1=B43,$DE$1=B43,$DX$1=B43,$EA$1=B43,$CF$27=B43,$CI$27=B43,$DB$27=B43,$DE$27=B43,$DX$27=B43,$EA$27=B43,$CF$53=B43,$CI$53=B43,$DB$53=B43,$DE$53=B43,$DX$53=B43,$EA$53=B43,$CF$79=B43,$CI$79=B43,$DB$79=B43,$DE$79=B43,$DX$79=B43,$EA$79=B43,$ET$1=B43,$EW$1=B43,$FP$1=B43,$FS$1=B43,$GL$1=B43,$GO$1=B43,$ET$27=B43,$EW$27=B43,$FP$27=B43,$FS$27=B43,$GL$27=B43,$GO$27=B43,$ET$53=B43,$EW$53=B43,$FP$53=B43,$FS$53=B43,$GL$53=B43,$GO$53=B43,$ET$79=B43,$EW$79=B43,$FP$79=B43,$FS$79=B43,$GL$79=B43,$GO$79=B43),1,0) -> 0
B45: 7 | E45: 1 | L45: Giroudin | AB45: Bryan | BQ45: =IF(OR($CF$1=B45,$CI$1=B45,$DB$1=B45,$DE$1=B45,$DX$1=B45,$EA$1=B45,$CF$27=B45,$CI$27=B45,$DB$27=B45,$DE$27=B45,$DX$27=B45,$EA$27=B45,$CF$53=B45,$CI$53=B45,$DB$53=B45,$DE$53=B45,$DX$53=B45,$EA$53=B45,$CF$79=B45,$CI$79=B45,$DB$79=B45,$DE$79=B45,$DX$79=B45,$EA$79=B45,$ET$1=B45,$EW$1=B45,$FP$1=B45,$FS$1=B45,$GL$1=B45,$GO$1=B45,$ET$27=B45,$EW$27=B45,$FP$27=B45,$FS$27=B45,$GL$27=B45,$GO$27=B45,$ET$53=B45,$EW$53=B45,$FP$53=B45,$FS$53=B45,$GL$53=B45,$GO$53=B45,$ET$79=B45,$EW$79=B45,$FP$79=B45,$FS$79=B45,$GL$79=B45,$GO$79=B45),1,0) -> 0
B47: 8 | E47: 1 | L47: Jean | AB47: Jacques | BQ47: =IF(OR($CF$1=B47,$CI$1=B47,$DB$1=B47,$DE$1=B47,$DX$1=B47,$EA$1=B47,$CF$27=B47,$CI$27=B47,$DB$27=B47,$DE$27=B47,$DX$27=B47,$EA$27=B47,$CF$53=B47,$CI$53=B47,$DB$53=B47,$DE$53=B47,$DX$53=B47,$EA$53=B47,$CF$79=B47,$CI$79=B47,$DB$79=B47,$DE$79=B47,$DX$79=B47,$EA$79=B47,$ET$1=B47,$EW$1=B47,$FP$1=B47,$FS$1=B47,$GL$1=B47,$GO$1=B47,$ET$27=B47,$EW$27=B47,$FP$27=B47,$FS$27=B47,$GL$27=B47,$GO$27=B47,$ET$53=B47,$EW$53=B47,$FP$53=B47,$FS$53=B47,$GL$53=B47,$GO$53=B47,$ET$79=B47,$EW$79=B47,$FP$79=B47,$FS$79=B47,$GL$79=B47,$GO$79=B47),1,0) -> 0
B49: 9 | E49: 1 | L49: Princesse | AB49: Matilde | BQ49: =IF(OR($CF$1=B49,$CI$1=B49,$DB$1=B49,$DE$1=B49,$DX$1=B49,$EA$1=B49,$CF$27=B49,$CI$27=B49,$DB$27=B49,$DE$27=B49,$DX$27=B49,$EA$27=B49,$CF$53=B49,$CI$53=B49,$DB$53=B49,$DE$53=B49,$DX$53=B49,$EA$53=B49,$CF$79=B49,$CI$79=B49,$DB$79=B49,$DE$79=B49,$DX$79=B49,$EA$79=B49,$ET$1=B49,$EW$1=B49,$FP$1=B49,$FS$1=B49,$GL$1=B49,$GO$1=B49,$ET$27=B49,$EW$27=B49,$FP$27=B49,$FS$27=B49,$GL$27=B49,$GO$27=B49,$ET$53=B49,$EW$53=B49,$FP$53=B49,$FS$53=B49,$GL$53=B49,$GO$53=B49,$ET$79=B49,$EW$79=B49,$FP$79=B49,$FS$79=B49,$GL$79=B49,$GO$79=B49),1,0) -> 0
B51: 10 | E51: 1 | L51: Lucch | AB51: Cédric | BQ51: =IF(OR($CF$1=B51,$CI$1=B51,$DB$1=B51,$DE$1=B51,$DX$1=B51,$EA$1=B51,$CF$27=B51,$CI$27=B51,$DB$27=B51,$DE$27=B51,$DX$27=B51,$EA$27=B51,$CF$53=B51,$CI$53=B51,$DB$53=B51,$DE$53=B51,$DX$53=B51,$EA$53=B51,$CF$79=B51,$CI$79=B51,$DB$79=B51,$DE$79=B51,$DX$79=B51,$EA$79=B51,$ET$1=B51,$EW$1=B51,$FP$1=B51,$FS$1=B51,$GL$1=B51,$GO$1=B51,$ET$27=B51,$EW$27=B51,$FP$27=B51,$FS$27=B51,$GL$27=B51,$GO$27=B51,$ET$53=B51,$EW$53=B51,$FP$53=B51,$FS$53=B51,$GL$53=B51,$GO$53=B51,$ET$79=B51,$EW$79=B51,$FP$79=B51,$FS$79=B51,$GL$79=B51,$GO$79=B51),1,0) -> 0
B53: 11 | E53: 1 | L53: Nurohr | AB53: Sebastien | BQ53: =IF(OR($CF$1=B53,$CI$1=B53,$DB$1=B53,$DE$1=B53,$DX$1=B53,$EA$1=B53,$CF$27=B53,$CI$27=B53,$DB$27=B53,$DE$27=B53,$DX$27=B53,$EA$27=B53,$CF$53=B53,$CI$53=B53,$DB$53=B53,$DE$53=B53,$DX$53=B53,$EA$53=B53,$CF$79=B53,$CI$79=B53,$DB$79=B53,$DE$79=B53,$DX$79=B53,$EA$79=B53,$ET$1=B53,$EW$1=B53,$FP$1=B53,$FS$1=B53,$GL$1=B53,$GO$1=B53,$ET$27=B53,$EW$27=B53,$FP$27=B53,$FS$27=B53,$GL$27=B53,$GO$27=B53,$ET$53=B53,$EW$53=B53,$FP$53=B53,$FS$53=B53,$GL$53=B53,$GO$53=B53,$ET$79=B53,$EW$79=B53,$FP$79=B53,$FS$79=B53,$GL$79=B53,$GO$79=B53),1,0) -> 0 | CC53: T7 | CY53: T8 | DU53: T9 | EQ53: T19 | FM53: T20 | GI53: T21
B55: 12 | E55: 1 | L55: Nichinitti | AB55: Mathieu | BQ55: =IF(OR($CF$1=B55,$CI$1=B55,$DB$1=B55,$DE$1=B55,$DX$1=B55,$EA$1=B55,$CF$27=B55,$CI$27=B55,$DB$27=B55,$DE$27=B55,$DX$27=B55,$EA$27=B55,$CF$53=B55,$CI$53=B55,$DB$53=B55,$DE$53=B55,$DX$53=B55,$EA$53=B55,$CF$79=B55,$CI$79=B55,$DB$79=B55,$DE$79=B55,$DX$79=B55,$EA$79=B55,$ET$1=B55,$EW$1=B55,$FP$1=B55,$FS$1=B55,$GL$1=B55,$GO$1=B55,$ET$27=B55,$EW$27=B55,$FP$27=B55,$FS$27=B55,$GL$27=B55,$GO$27=B55,$ET$53=B55,$EW$53=B55,$FP$53=B55,$FS$53=B55,$GL$53=B55,$GO$53=B55,$ET$79=B55,$EW$79=B55,$FP$79=B55,$FS$79=B55,$GL$79=B55,$GO$79=B55),1,0) -> 0
BZ56: =IF(CF53>0,VLOOKUP(CF53,$B:$BT,11,FALSE)," ")&" "&IF(CF53>0,VLOOKUP(CF53,$B:$BT,27,FALSE)," ") | CV56: =IF(DB53>0,VLOOKUP(DB53,$B:$BT,11,FALSE)," ")&" "&IF(DB53>0,VLOOKUP(DB53,$B:$BT,27,FALSE)," ") | DR56: =IF(DX53>0,VLOOKUP(DX53,$B:$BT,11,FALSE)," ")&" "&IF(DX53>0,VLOOKUP(DX53,$B:$BT,27,FALSE)," ") | EN56: =IF(ET53>0,VLOOKUP(ET53,$B:$BT,11,FALSE)," ")&" "&IF(ET53>0,VLOOKUP(ET53,$B:$BT,27,FALSE)," ") | FJ56: =IF(FP53>0,VLOOKUP(FP53,$B:$BT,11,FALSE)," ")&" "&IF(FP53>0,VLOOKUP(FP53,$B:$BT,27,FALSE)," ") | GF56: =IF(GL53>0,VLOOKUP(GL53,$B:$BT,11,FALSE)," ")&" "&IF(GL53>0,VLOOKUP(GL53,$B:$BT,27,FALSE)," ")
B57: 13 | E57: 1 | L57: Reholtafin | AB57: Stéphane | BQ57: =IF(OR($CF$1=B57,$CI$1=B57,$DB$1=B57,$DE$1=B57,$DX$1=B57,$EA$1=B57,$CF$27=B57,$CI$27=B57,$DB$27=B57,$DE$27=B57,$DX$27=B57,$EA$27=B57,$CF$53=B57,$CI$53=B57,$DB$53=B57,$DE$53=B57,$DX$53=B57,$EA$53=B57,$CF$79=B57,$CI$79=B57,$DB$79=B57,$DE$79=B57,$DX$79=B57,$EA$79=B57,$ET$1=B57,$EW$1=B57,$FP$1=B57,$FS$1=B57,$GL$1=B57,$GO$1=B57,$ET$27=B57,$EW$27=B57,$FP$27=B57,$FS$27=B57,$GL$27=B57,$GO$27=B57,$ET$53=B57,$EW$53=B57,$FP$53=B57,$FS$53=B57,$GL$53=B57,$GO$53=B57,$ET$79=B57,$EW$79=B57,$FP$79=B57,$FS$79=B57,$GL$79=B57,$GO$79=B57),1,0) -> 0
B59: 14 | E59: 1 | L59: Rovin | AB59: Mariève | BQ59: =IF(OR($CF$1=B59,$CI$1=B59,$DB$1=B59,$DE$1=B59,$DX$1=B59,$EA$1=B59,$CF$27=B59,$CI$27=B59,$DB$27=B59,$DE$27=B59,$DX$27=B59,$EA$27=B59,$CF$53=B59,$CI$53=B59,$DB$53=B59,$DE$53=B59,$DX$53=B59,$EA$53=B59,$CF$79=B59,$CI$79=B59,$DB$79=B59,$DE$79=B59,$DX$79=B59,$EA$79=B59,$ET$1=B59,$EW$1=B59,$FP$1=B59,$FS$1=B59,$GL$1=B59,$GO$1=B59,$ET$27=B59,$EW$27=B59,$FP$27=B59,$FS$27=B59,$GL$27=B59,$GO$27=B59,$ET$53=B59,$EW$53=B59,$FP$53=B59,$FS$53=B59,$GL$53=B59,$GO$53=B59,$ET$79=B59,$EW$79=B59,$FP$79=B59,$FS$79=B59,$GL$79=B59,$GO$79=B59),1,0) -> 0
B61: 15 | E61: 1 | L61: Salamindarin | AB61: Elona | BQ61: =IF(OR($CF$1=B61,$CI$1=B61,$DB$1=B61,$DE$1=B61,$DX$1=B61,$EA$1=B61,$CF$27=B61,$CI$27=B61,$DB$27=B61,$DE$27=B61,$DX$27=B61,$EA$27=B61,$CF$53=B61,$CI$53=B61,$DB$53=B61,$DE$53=B61,$DX$53=B61,$EA$53=B61,$CF$79=B61,$CI$79=B61,$DB$79=B61,$DE$79=B61,$DX$79=B61,$EA$79=B61,$ET$1=B61,$EW$1=B61,$FP$1=B61,$FS$1=B61,$GL$1=B61,$GO$1=B61,$ET$27=B61,$EW$27=B61,$FP$27=B61,$FS$27=B61,$GL$27=B61,$GO$27=B61,$ET$53=B61,$EW$53=B61,$FP$53=B61,$FS$53=B61,$GL$53=B61,$GO$53=B61,$ET$79=B61,$EW$79=B61,$FP$79=B61,$FS$79=B61,$GL$79=B61,$GO$79=B61),1,0) -> 0
B63: 16 | E63: 1 | L63: Salamindarin | AB63: Jimmy | BQ63: =IF(OR($CF$1=B63,$CI$1=B63,$DB$1=B63,$DE$1=B63,$DX$1=B63,$EA$1=B63,$CF$27=B63,$CI$27=B63,$DB$27=B63,$DE$27=B63,$DX$27=B63,$EA$27=B63,$CF$53=B63,$CI$53=B63,$DB$53=B63,$DE$53=B63,$DX$53=B63,$EA$53=B63,$CF$79=B63,$CI$79=B63,$DB$79=B63,$DE$79=B63,$DX$79=B63,$EA$79=B63,$ET$1=B63,$EW$1=B63,$FP$1=B63,$FS$1=B63,$GL$1=B63,$GO$1=B63,$ET$27=B63,$EW$27=B63,$FP$27=B63,$FS$27=B63,$GL$27=B63,$GO$27=B63,$ET$53=B63,$EW$53=B63,$FP$53=B63,$FS$53=B63,$GL$53=B63,$GO$53=B63,$ET$79=B63,$EW$79=B63,$FP$79=B63,$FS$79=B63,$GL$79=B63,$GO$79=B63),1,0) -> 0
B65: 17 | E65: 1 | L65: Siggenager | AB65: Dann | BQ65: =IF(OR($CF$1=B65,$CI$1=B65,$DB$1=B65,$DE$1=B65,$DX$1=B65,$EA$1=B65,$CF$27=B65,$CI$27=B65,$DB$27=B65,$DE$27=B65,$DX$27=B65,$EA$27=B65,$CF$53=B65,$CI$53=B65,$DB$53=B65,$DE$53=B65,$DX$53=B65,$EA$53=B65,$CF$79=B65,$CI$79=B65,$DB$79=B65,$DE$79=B65,$DX$79=B65,$EA$79=B65,$ET$1=B65,$EW$1=B65,$FP$1=B65,$FS$1=B65,$GL$1=B65,$GO$1=B65,$ET$27=B65,$EW$27=B65,$FP$27=B65,$FS$27=B65,$GL$27=B65,$GO$27=B65,$ET$53=B65,$EW$53=B65,$FP$53=B65,$FS$53=B65,$GL$53=B65,$GO$53=B65,$ET$79=B65,$EW$79=B65,$FP$79=B65,$FS$79=B65,$GL$79=B65,$GO$79=B65),1,0) -> 0
BZ66: =IF(CI53>0,VLOOKUP(CI53,$B:$BT,11,FALSE)," ")&" "&IF(CI53>0,VLOOKUP(CI53,$B:$BT,27,FALSE)," ") | CV66: =IF(DE53>0,VLOOKUP(DE53,$B:$BT,11,FALSE)," ")&" "&IF(DE53>0,VLOOKUP(DE53,$B:$BT,27,FALSE)," ") | DR66: =IF(EA53>0,VLOOKUP(EA53,$B:$BT,11,FALSE)," ")&" "&IF(EA53>0,VLOOKUP(EA53,$B:$BT,27,FALSE)," ") | EN66: =IF(EW53>0,VLOOKUP(EW53,$B:$BT,11,FALSE)," ")&" "&IF(EW53>0,VLOOKUP(EW53,$B:$BT,27,FALSE)," ") | FJ66: =IF(FS53>0,VLOOKUP(FS53,$B:$BT,11,FALSE)," ")&" "&IF(FS53>0,VLOOKUP(FS53,$B:$BT,27,FALSE)," ") | GF66: =IF(GO53>0,VLOOKUP(GO53,$B:$BT,11,FALSE)," ")&" "&IF(GO53>0,VLOOKUP(GO53,$B:$BT,27,FALSE)," ")
B67: 18 | E67: 1 | L67: Solarha | AB67: Noam | BQ67: =IF(OR($CF$1=B67,$CI$1=B67,$DB$1=B67,$DE$1=B67,$DX$1=B67,$EA$1=B67,$CF$27=B67,$CI$27=B67,$DB$27=B67,$DE$27=B67,$DX$27=B67,$EA$27=B67,$CF$53=B67,$CI$53=B67,$DB$53=B67,$DE$53=B67,$DX$53=B67,$EA$53=B67,$CF$79=B67,$CI$79=B67,$DB$79=B67,$DE$79=B67,$DX$79=B67,$EA$79=B67,$ET$1=B67,$EW$1=B67,$FP$1=B67,$FS$1=B67,$GL$1=B67,$GO$1=B67,$ET$27=B67,$EW$27=B67,$FP$27=B67,$FS$27=B67,$GL$27=B67,$GO$27=B67,$ET$53=B67,$EW$53=B67,$FP$53=B67,$FS$53=B67,$GL$53=B67,$GO$53=B67,$ET$79=B67,$EW$79=B67,$FP$79=B67,$FS$79=B67,$GL$79=B67,$GO$79=B67),1,0) -> 0
B69: 19 | E69: 1 | L69: Zuffer | AB69: Marièle | BQ69: =IF(OR($CF$1=B69,$CI$1=B69,$DB$1=B69,$DE$1=B69,$DX$1=B69,$EA$1=B69,$CF$27=B69,$CI$27=B69,$DB$27=B69,$DE$27=B69,$DX$27=B69,$EA$27=B69,$CF$53=B69,$CI$53=B69,$DB$53=B69,$DE$53=B69,$DX$53=B69,$EA$53=B69,$CF$79=B69,$CI$79=B69,$DB$79=B69,$DE$79=B69,$DX$79=B69,$EA$79=B69,$ET$1=B69,$EW$1=B69,$FP$1=B69,$FS$1=B69,$GL$1=B69,$GO$1=B69,$ET$27=B69,$EW$27=B69,$FP$27=B69,$FS$27=B69,$GL$27=B69,$GO$27=B69,$ET$53=B69,$EW$53=B69,$FP$53=B69,$FS$53=B69,$GL$53=B69,$GO$53=B69,$ET$79=B69,$EW$79=B69,$FP$79=B69,$FS$79=B69,$GL$79=B69,$GO$79=B69),1,0) -> 0
B71: 20 | E71: 1 | BQ71: =IF(OR($CF$1=B71,$CI$1=B71,$DB$1=B71,$DE$1=B71,$DX$1=B71,$EA$1=B71,$CF$27=B71,$CI$27=B71,$DB$27=B71,$DE$27=B71,$DX$27=B71,$EA$27=B71,$CF$53=B71,$CI$53=B71,$DB$53=B71,$DE$53=B71,$DX$53=B71,$EA$53=B71,$CF$79=B71,$CI$79=B71,$DB$79=B71,$DE$79=B71,$DX$79=B71,$EA$79=B71,$ET$1=B71,$EW$1=B71,$FP$1=B71,$FS$1=B71,$GL$1=B71,$GO$1=B71,$ET$27=B71,$EW$27=B71,$FP$27=B71,$FS$27=B71,$GL$27=B71,$GO$27=B71,$ET$53=B71,$EW$53=B71,$FP$53=B71,$FS$53=B71,$GL$53=B71,$GO$53=B71,$ET$79=B71,$EW$79=B71,$FP$79=B71,$FS$79=B71,$GL$79=B71,$GO$79=B71),1,0) -> 0
B73: 21 | BQ73: =IF(OR($CF$1=B73,$CI$1=B73,$DB$1=B73,$DE$1=B73,$DX$1=B73,$EA$1=B73,$CF$27=B73,$CI$27=B73,$DB$27=B73,$DE$27=B73,$DX$27=B73,$EA$27=B73,$CF$53=B73,$CI$53=B73,$DB$53=B73,$DE$53=B73,$DX$53=B73,$EA$53=B73,$CF$79=B73,$CI$79=B73,$DB$79=B73,$DE$79=B73,$DX$79=B73,$EA$79=B73,$ET$1=B73,$EW$1=B73,$FP$1=B73,$FS$1=B73,$GL$1=B73,$GO$1=B73,$ET$27=B73,$EW$27=B73,$FP$27=B73,$FS$27=B73,$GL$27=B73,$GO$27=B73,$ET$53=B73,$EW$53=B73,$FP$53=B73,$FS$53=B73,$GL$53=B73,$GO$53=B73,$ET$79=B73,$EW$79=B73,$FP$79=B73,$FS$79=B73,$GL$79=B73,$GO$79=B73),1,0) -> 0
B75: 22 | BQ75: =IF(OR($CF$1=B75,$CI$1=B75,$DB$1=B75,$DE$1=B75,$DX$1=B75,$EA$1=B75,$CF$27=B75,$CI$27=B75,$DB$27=B75,$DE$27=B75,$DX$27=B75,$EA$27=B75,$CF$53=B75,$CI$53=B75,$DB$53=B75,$DE$53=B75,$DX$53=B75,$EA$53=B75,$CF$79=B75,$CI$79=B75,$DB$79=B75,$DE$79=B75,$DX$79=B75,$EA$79=B75,$ET$1=B75,$EW$1=B75,$FP$1=B75,$FS$1=B75,$GL$1=B75,$GO$1=B75,$ET$27=B75,$EW$27=B75,$FP$27=B75,$FS$27=B75,$GL$27=B75,$GO$27=B75,$ET$53=B75,$EW$53=B75,$FP$53=B75,$FS$53=B75,$GL$53=B75,$GO$53=B75,$ET$79=B75,$EW$79=B75,$FP$79=B75,$FS$79=B75,$GL$79=B75,$GO$79=B75),1,0) -> 0
B77: 23 | BQ77: =IF(OR($CF$1=B77,$CI$1=B77,$DB$1=B77,$DE$1=B77,$DX$1=B77,$EA$1=B77,$CF$27=B77,$CI$27=B77,$DB$27=B77,$DE$27=B77,$DX$27=B77,$EA$27=B77,$CF$53=B77,$CI$53=B77,$DB$53=B77,$DE$53=B77,$DX$53=B77,$EA$53=B77,$CF$79=B77,$CI$79=B77,$DB$79=B77,$DE$79=B77,$DX$79=B77,$EA$79=B77,$ET$1=B77,$EW$1=B77,$FP$1=B77,$FS$1=B77,$GL$1=B77,$GO$1=B77,$ET$27=B77,$EW$27=B77,$FP$27=B77,$FS$27=B77,$GL$27=B77,$GO$27=B77,$ET$53=B77,$EW$53=B77,$FP$53=B77,$FS$53=B77,$GL$53=B77,$GO$53=B77,$ET$79=B77,$EW$79=B77,$FP$79=B77,$FS$79=B77,$GL$79=B77,$GO$79=B77),1,0) -> 0
B79: 24 | BQ79: =IF(OR($CF$1=B79,$CI$1=B79,$DB$1=B79,$DE$1=B79,$DX$1=B79,$EA$1=B79,$CF$27=B79,$CI$27=B79,$DB$27=B79,$DE$27=B79,$DX$27=B79,$EA$27=B79,$CF$53=B79,$CI$53=B79,$DB$53=B79,$DE$53=B79,$DX$53=B79,$EA$53=B79,$CF$79=B79,$CI$79=B79,$DB$79=B79,$DE$79=B79,$DX$79=B79,$EA$79=B79,$ET$1=B79,$EW$1=B79,$FP$1=B79,$FS$1=B79,$GL$1=B79,$GO$1=B79,$ET$27=B79,$EW$27=B79,$FP$27=B79,$FS$27=B79,$GL$27=B79,$GO$27=B79,$ET$53=B79,$EW$53=B79,$FP$53=B79,$FS$53=B79,$GL$53=B79,$GO$53=B79,$ET$79=B79,$EW$79=B79,$FP$79=B79,$FS$79=B79,$GL$79=B79,$GO$79=B79),1,0) -> 0 | CC79: T10 | CY79: T11 | DU79: T12 | EQ79: T22 | FM79: T23 | GI79: T24
B81: 25 | BQ81: =IF(OR($CF$1=B81,$CI$1=B81,$DB$1=B81,$DE$1=B81,$DX$1=B81,$EA$1=B81,$CF$27=B81,$CI$27=B81,$DB$27=B81,$DE$27=B81,$DX$27=B81,$EA$27=B81,$CF$53=B81,$CI$53=B81,$DB$53=B81,$DE$53=B81,$DX$53=B81,$EA$53=B81,$CF$79=B81,$CI$79=B81,$DB$79=B81,$DE$79=B81,$DX$79=B81,$EA$79=B81,$ET$1=B81,$EW$1=B81,$FP$1=B81,$FS$1=B81,$GL$1=B81,$GO$1=B81,$ET$27=B81,$EW$27=B81,$FP$27=B81,$FS$27=B81,$GL$27=B81,$GO$27=B81,$ET$53=B81,$EW$53=B81,$FP$53=B81,$FS$53=B81,$GL$53=B81,$GO$53=B81,$ET$79=B81,$EW$79=B81,$FP$79=B81,$FS$79=B81,$GL$79=B81,$GO$79=B81),1,0) -> 0
BZ82: =IF(CF79>0,VLOOKUP(CF79,$B:$BT,11,FALSE)," ")&" "&IF(CF79>0,VLOOKUP(CF79,$B:$BT,27,FALSE)," ") | CV82: =IF(DB79>0,VLOOKUP(DB79,$B:$BT,11,FALSE)," ")&" "&IF(DB79>0,VLOOKUP(DB79,$B:$BT,27,FALSE)," ") | DR82: =IF(DX79>0,VLOOKUP(DX79,$B:$BT,11,FALSE)," ")&" "&IF(DX79>0,VLOOKUP(DX79,$B:$BT,27,FALSE)," ") | EN82: =IF(ET79>0,VLOOKUP(ET79,$B:$BT,11,FALSE)," ")&" "&IF(ET79>0,VLOOKUP(ET79,$B:$BT,27,FALSE)," ") | FJ82: =IF(FP79>0,VLOOKUP(FP79,$B:$BT,11,FALSE)," ")&" "&IF(FP79>0,VLOOKUP(FP79,$B:$BT,27,FALSE)," ") | GF82: =IF(GL79>0,VLOOKUP(GL79,$B:$BT,11,FALSE)," ")&" "&IF(GL79>0,VLOOKUP(GL79,$B:$BT,27,FALSE)," ")
B83: 26 | BQ83: =IF(OR($CF$1=B83,$CI$1=B83,$DB$1=B83,$DE$1=B83,$DX$1=B83,$EA$1=B83,$CF$27=B83,$CI$27=B83,$DB$27=B83,$DE$27=B83,$DX$27=B83,$EA$27=B83,$CF$53=B83,$CI$53=B83,$DB$53=B83,$DE$53=B83,$DX$53=B83,$EA$53=B83,$CF$79=B83,$CI$79=B83,$DB$79=B83,$DE$79=B83,$DX$79=B83,$EA$79=B83,$ET$1=B83,$EW$1=B83,$FP$1=B83,$FS$1=B83,$GL$1=B83,$GO$1=B83,$ET$27=B83,$EW$27=B83,$FP$27=B83,$FS$27=B83,$GL$27=B83,$GO$27=B83,$ET$53=B83,$EW$53=B83,$FP$53=B83,$FS$53=B83,$GL$53=B83,$GO$53=B83,$ET$79=B83,$EW$79=B83,$FP$79=B83,$FS$79=B83,$GL$79=B83,$GO$79=B83),1,0) -> 0
B85: 27 | BQ85: =IF(OR($CF$1=B85,$CI$1=B85,$DB$1=B85,$DE$1=B85,$DX$1=B85,$EA$1=B85,$CF$27=B85,$CI$27=B85,$DB$27=B85,$DE$27=B85,$DX$27=B85,$EA$27=B85,$CF$53=B85,$CI$53=B85,$DB$53=B85,$DE$53=B85,$DX$53=B85,$EA$53=B85,$CF$79=B85,$CI$79=B85,$DB$79=B85,$DE$79=B85,$DX$79=B85,$EA$79=B85,$ET$1=B85,$EW$1=B85,$FP$1=B85,$FS$1=B85,$GL$1=B85,$GO$1=B85,$ET$27=B85,$EW$27=B85,$FP$27=B85,$FS$27=B85,$GL$27=B85,$GO$27=B85,$ET$53=B85,$EW$53=B85,$FP$53=B85,$FS$53=B85,$GL$53=B85,$GO$53=B85,$ET$79=B85,$EW$79=B85,$FP$79=B85,$FS$79=B85,$GL$79=B85,$GO$79=B85),1,0) -> 0
B87: 28 | BQ87: =IF(OR($CF$1=B87,$CI$1=B87,$DB$1=B87,$DE$1=B87,$DX$1=B87,$EA$1=B87,$CF$27=B87,$CI$27=B87,$DB$27=B87,$DE$27=B87,$DX$27=B87,$EA$27=B87,$CF$53=B87,$CI$53=B87,$DB$53=B87,$DE$53=B87,$DX$53=B87,$EA$53=B87,$CF$79=B87,$CI$79=B87,$DB$79=B87,$DE$79=B87,$DX$79=B87,$EA$79=B87,$ET$1=B87,$EW$1=B87,$FP$1=B87,$FS$1=B87,$GL$1=B87,$GO$1=B87,$ET$27=B87,$EW$27=B87,$FP$27=B87,$FS$27=B87,$GL$27=B87,$GO$27=B87,$ET$53=B87,$EW$53=B87,$FP$53=B87,$FS$53=B87,$GL$53=B87,$GO$53=B87,$ET$79=B87,$EW$79=B87,$FP$79=B87,$FS$79=B87,$GL$79=B87,$GO$79=B87),1,0) -> 0
...

Sheet Classements 128 j
A1: Remplacer les lettres suivantes par le nombre de participants :
A3: E | C3: I | E3: K | G3: P | I3: R | K3: T | M3: Y
A5: Exemple : | G5: $T$264 = 128 joueurs | S5: $T$136 = 64 joueurs | AE5: $T$72 = 32 joueurs | AQ5: $T$40 = 16 joueurs
CD6: Cl | CH6: Nom / Prénom | CU6: N°
AE8: Points | AL8: Sets | AS8: Match | AZ8: Rang
E10: =IFERROR(IF(BP10="","-",RANK(S10,$S$10:$T$264,0)+RANK(Q10,$Q$10:$R$264,0)%+RANK(O10,$O$10:$P$264,0)%%+ROW()%%%),"-") -> 1.02011 | J10: =IFERROR(IF(E10="","",RANK(E10,$E$10:$I$264,1)),"-") -> 2 | K10: =BP10 -> Rovin Mariève | O10: =SUM(AE10-AI10) -> 63 | Q10: =SUM(AL10-AP10) -> 7 | S10: =SUM(AS10-AW10) -> 4 | U10: =IFERROR(SMALL($E$10:$I$264,1),0) -> 1.010414 | Z10: =IFERROR(IF(U10="","",RANK(U10,$U$10:$Y$264,1)),0) -> 1 | AA10: =IFERROR(INDEX($K$10:$K$264,MATCH(U10,$E$10:$E$264,0),1),0) -> Solarha Noam | AE10: 99 | AH10: : | AI10: 36 | AL10: 8 | AO10: : | AP10: 1 | AS10: 4 | AV10: : | AW10: 0 | AZ10: =IFERROR(IF(E10="","",RANK(E10,$E$10:$I$264,1)),0) -> 2 | BE10: 14 | BH10: Participant 1 | BP10: =IF(BE10>0,VLOOKUP(BE10,'Infos joueurs'!$B:$BT,11,FALSE)," ")&" "&IF(BE10>0,VLOOKUP(BE10,'Infos joueurs'!$B:$BT,27,FALSE)," ") -> Rovin Mariève | CD10: 1 | CH10: =AA10 -> Solarha Noam | CU10: =IFERROR(INDEX($BE$10:$BE$269,MATCH(CH10,$BP$10:$BP$269,0)),0) -> 18
E12: =IFERROR(IF(BP12="","-",RANK(S12,$S$10:$T$264,0)+RANK(Q12,$Q$10:$R$264,0)%+RANK(O12,$O$10:$P$264,0)%%+ROW()%%%),"-") -> 1.020612 | J12: =IFERROR(IF(E12="","",RANK(E12,$E$10:$I$264,1)),"-") -> 4 | K12: =BP12 -> Siggenager Dann | O12: =SUM(AE12-AI12) -> 25 | Q12: =SUM(AL12-AP12) -> 7 | S12: =SUM(AS12-AW12) -> 4 | U12: =IFERROR(SMALL($E$10:$I$264,2),0) -> 1.02011 | Z12: =IFERROR(IF(U12="","",RANK(U12,$U$10:$Y$264,1)),0) -> 2 | AA12: =IFERROR(INDEX($K$10:$K$264,MATCH(U12,$E$10:$E$264,0),1),0) -> Rovin Mariève | AE12: 98 | AH12: : | AI12: 73 | AL12: 8 | AO12: : | AP12: 1 | AS12: 4 | AV12: : | AW12: 0 | AZ12: =IFERROR(IF(E12="","",RANK(E12,$E$10:$I$264,1)),0) -> 4 | BE12: 17 | BH12: Participant 2 | BP12: =IF(BE12>0,VLOOKUP(BE12,'Infos joueurs'!$B:$BT,11,FALSE)," ")&" "&IF(BE12>0,VLOOKUP(BE12,'Infos joueurs'!$B:$BT,27,FALSE)," ") -> Siggenager Dann | CD12: 2 | CH12: =AA12 -> Rovin Mariève | CU12: =IFERROR(INDEX($BE$10:$BE$269,MATCH(CH12,$BP$10:$BP$269,0)),0) -> 14
E14: =IFERROR(IF(BP14="","-",RANK(S14,$S$10:$T$264,0)+RANK(Q14,$Q$10:$R$264,0)%+RANK(O14,$O$10:$P$264,0)%%+ROW()%%%),"-") -> 1.010414 | J14: =IFERROR(IF(E14="","",RANK(E14,$E$10:$I$264,1)),"-") -> 1 | K14: =BP14 -> Solarha Noam | O14: =SUM(AE14-AI14) -> 42 | Q14: =SUM(AL14-AP14) -> 9 | S14: =SUM(AS14-AW14) -> 4 | U14: =IFERROR(SMALL($E$10:$I$264,3),0) -> 1.020516 | Z14: =IFERROR(IF(U14="","",RANK(U14,$U$10:$Y$264,1)),0) -> 3 | AA14: =IFERROR(INDEX($K$10:$K$264,MATCH(U14,$E$10:$E$264,0),1),0) -> Giroudin Quentin | AE14: 123 | AH14: : | AI14: 81 | AL14: 10 | AO14: : | AP14: 1 | AS14: 4 | AV14: : | AW14: 0 | AZ14: =IFERROR(IF(E14="","",RANK(E14,$E$10:$I$264,1)),0) -> 1 | BE14: 18 | BH14: Participant 3 | BP14: =IF(BE14>0,VLOOKUP(BE14,'Infos joueurs'!$B:$BT,11,FALSE)," ")&" "&IF(BE14>0,VLOOKUP(BE14,'Infos joueurs'!$B:$BT,27,FALSE)," ") -> Solarha Noam | CD14: 3 | CH14: =AA14 -> Giroudin Quentin | CU14: =IFERROR(INDEX($BE$10:$BE$269,MATCH(CH14,$BP$10:$BP$269,0)),0) -> 6
E16: =IFERROR(IF(BP16="","-",RANK(S16,$S$10:$T$264,0)+RANK(Q16,$Q$10:$R$264,0)%+RANK(O16,$O$10:$P$264,0)%%+ROW()%%%),"-") -> 1.020516 | J16: =IFERROR(IF(E16="","",RANK(E16,$E$10:$I$264,1)),"-") -> 3 | K16: =BP16 -> Giroudin Quentin | O16: =SUM(AE16-AI16) -> 34 | Q16: =SUM(AL16-AP16) -> 7 | S16: =SUM(AS16-AW16) -> 4 | U16: =IFERROR(SMALL($E$10:$I$264,4),0) -> 1.020612 | Z16: =IFERROR(IF(U16="","",RANK(U16,$U$10:$Y$264,1)),0) -> 4 | AA16: =IFERROR(INDEX($K$10:$K$264,MATCH(U16,$E$10:$E$264,0),1),0) -> Siggenager Dann | AE16: 91 | AH16: : | AI16: 57 | AL16: 8 | AO16: : | AP16: 1 | AS16: 4 | AV16: : | AW16: 0 | AZ16: =IFERROR(IF(E16="","",RANK(E16,$E$10:$I$264,1)),0) -> 3 | BE16: 6 | BH16: Participant 4 | BP16: =IF(BE16>0,VLOOKUP(BE16,'Infos joueurs'!$B:$BT,11,FALSE)," ")&" "&IF(BE16>0,VLOOKUP(BE16,'Infos joueurs'!$B:$BT,27,FALSE)," ") -> Giroudin Quentin | CD16: 4 | CH16: =AA16 -> Siggenager Dann | CU16: =IFERROR(INDEX($BE$10:$BE$269,MATCH(CH16,$BP$10:$BP$269,0)),0) -> 17
E18: =IFERROR(IF(BP18="","-",RANK(S18,$S$10:$T$264,0)+RANK(Q18,$Q$10:$R$264,0)%+RANK(O18,$O$10:$P$264,0)%%+ROW()%%%),"-") -> 5.050218 | J18: =IFERROR(IF(E18="","",RANK(E18,$E$10:$I$264,1)),"-") -> 5 | K18: =BP18 -> Nurohr Sebastien | O18: =SUM(AE18-AI18) -> 44 | Q18: =SUM(AL18-AP18) -> 5 | S18: =SUM(AS18-AW18) -> 2 | U18: =IFERROR(SMALL($E$10:$I$264,5),0) -> 5.050218 | Z18: =IFERROR(IF(U18="","",RANK(U18,$U$10:$Y$264,1)),0) -> 5 | AA18: =IFERROR(INDEX($K$10:$K$264,MATCH(U18,$E$10:$E$264,0),1),0) -> Nurohr Sebastien | AE18: 91 | AH18: : | AI18: 47 | AL18: 7 | AO18: : | AP18: 2 | AS18: 3 | AV18: : | AW18: 1 | AZ18: =IFERROR(IF(E18="","",RANK(E18,$E$10:$I$264,1)),0) -> 5 | BE18: 11 | BH18: Participant 5 | BP18: =IF(BE18>0,VLOOKUP(BE18,'Infos joueurs'!$B:$BT,11,FALSE)," ")&" "&IF(BE18>0,VLOOKUP(BE18,'Infos joueurs'!$B:$BT,27,FALSE)," ") -> Nurohr Sebastien | CD18: 5 | CH18: =AA18 -> Nurohr Sebastien | CU18: =IFERROR(INDEX($BE$10:$BE$269,MATCH(CH18,$BP$10:$BP$269,0)),0) -> 11
E20: =IFERROR(IF(BP20="","-",RANK(S20,$S$10:$T$264,0)+RANK(Q20,$Q$10:$R$264,0)%+RANK(O20,$O$10:$P$264,0)%%+ROW()%%%),"-") -> 5.07082 | J20: =IFERROR(IF(E20="","",RANK(E20,$E$10:$I$264,1)),"-") -> 8 | K20: =BP20 -> Reholtafin Stéphane | O20: =SUM(AE20-AI20) -> 20 | Q20: =SUM(AL20-AP20) -> 4 | S20: =SUM(AS20-AW20) -> 2 | U20: =IFERROR(SMALL($E$10:$I$264,6),0) -> 5.050722 | Z20: =IFERROR(IF(U20="","",RANK(U20,$U$10:$Y$264,1)),0) -> 6 | AA20: =IFERROR(INDEX($K$10:$K$264,MATCH(U20,$E$10:$E$264,0),1),0) -> Salamindarin Jimmy | AE20: 103 | AH20: : | AI20: 83 | AL20: 7 | AO20: : | AP20: 3 | AS20: 3 | AV20: : | AW20: 1 | AZ20: =IFERROR(IF(E20="","",RANK(E20,$E$10:$I$264,1)),0) -> 8 | BE20: 13 | BH20: Participant 6 | BP20: =IF(BE20>0,VLOOKUP(BE20,'Infos joueurs'!$B:$BT,11,FALSE)," ")&" "&IF(BE20>0,VLOOKUP(BE20,'Infos joueurs'!$B:$BT,27,FALSE)," ") -> Reholtafin Stéphane | CD20: 6 | CH20: =AA20 -> Salamindarin Jimmy | CU20: =IFERROR(INDEX($BE$10:$BE$269,MATCH(CH20,$BP$10:$BP$269,0)),0) -> 16
E22: =IFERROR(IF(BP22="","-",RANK(S22,$S$10:$T$264,0)+RANK(Q22,$Q$10:$R$264,0)%+RANK(O22,$O$10:$P$264,0)%%+ROW()%%%),"-") -> 5.050722 | J22: =IFERROR(IF(E22="","",RANK(E22,$E$10:$I$264,1)),"-") -> 6 | K22: =BP22 -> Salamindarin Jimmy | O22: =SUM(AE22-AI22) -> 22 | Q22: =SUM(AL22-AP22) -> 5 | S22: =SUM(AS22-AW22) -> 2 | U22: =IFERROR(SMALL($E$10:$I$264,7),0) -> 5.070224 | Z22: =IFERROR(IF(U22="","",RANK(U22,$U$10:$Y$264,1)),0) -> 7 | AA22: =IFERROR(INDEX($K$10:$K$264,MATCH(U22,$E$10:$E$264,0),1),0) -> Salamindarin Elona | AE22: 142 | AH22: : | AI22: 120 | AL22: 9 | AO22: : | AP22: 4 | AS22: 3 | AV22: : | AW22: 1 | AZ22: =IFERROR(IF(E22="","",RANK(E22,$E$10:$I$264,1)),0) -> 6 | BE22: 16 | BH22: Participant 7 | BP22: =IF(BE22>0,VLOOKUP(BE22,'Infos joueurs'!$B:$BT,11,FALSE)," ")&" "&IF(BE22>0,VLOOKUP(BE22,'Infos joueurs'!$B:$BT,27,FALSE)," ") -> Salamindarin Jimmy | CD22: 7 | CH22: =AA22 -> Salamindarin Elona | CU22: =IFERROR(INDEX($BE$10:$BE$269,MATCH(CH22,$BP$10:$BP$269,0)),0) -> 15
E24: =IFERROR(IF(BP24="","-",RANK(S24,$S$10:$T$264,0)+RANK(Q24,$Q$10:$R$264,0)%+RANK(O24,$O$10:$P$264,0)%%+ROW()%%%),"-") -> 5.070224 | J24: =IFERROR(IF(E24="","",RANK(E24,$E$10:$I$264,1)),"-") -> 7 | K24: =BP24 -> Salamindarin Elona | O24: =SUM(AE24-AI24) -> 44 | Q24: =SUM(AL24-AP24) -> 4 | S24: =SUM(AS24-AW24) -> 2 | U24: =IFERROR(SMALL($E$10:$I$264,8),0) -> 5.07082 | Z24: =IFERROR(IF(U24="","",RANK(U24,$U$10:$Y$264,1)),0) -> 8 | AA24: =IFERROR(INDEX($K$10:$K$264,MATCH(U24,$E$10:$E$264,0),1),0) -> Reholtafin Stéphane | AE24: 78 | AH24: : | AI24: 34 | AL24: 6 | AO24: : | AP24: 2 | AS24: 3 | AV24: : | AW24: 1 | AZ24: =IFERROR(IF(E24="","",RANK(E24,$E$10:$I$264,1)),0) -> 7 | BE24: 15 | BH24: Participant 8 | BP24: =IF(BE24>0,VLOOKUP(BE24,'Infos joueurs'!$B:$BT,11,FALSE)," ")&" "&IF(BE24>0,VLOOKUP(BE24,'Infos joueurs'!$B:$BT,27,FALSE)," ") -> Salamindarin Elona | CD24: 8 | CH24: =AA24 -> Reholtafin Stéphane | CU24: =IFERROR(INDEX($BE$10:$BE$269,MATCH(CH24,$BP$10:$BP$269,0)),0) -> 13
E26: =IFERROR(IF(BP26="","-",RANK(S26,$S$10:$T$264,0)+RANK(Q26,$Q$10:$R$264,0)%+RANK(O26,$O$10:$P$264,0)%%+ROW()%%%),"-") -> 9.101026 | J26: =IFERROR(IF(E26="","",RANK(E26,$E$10:$I$264,1)),"-") -> 10 | K26: =BP26 -> Dupond Maxime | O26: =SUM(AE26-AI26) -> 7 | Q26: =SUM(AL26-AP26) -> 0 | S26: =SUM(AS26-AW26) -> 0 | U26: =IFERROR(SMALL($E$10:$I$264,9),0) -> 9.100928 | Z26: =IFERROR(IF(U26="","",RANK(U26,$U$10:$Y$264,1)),0) -> 9 | AA26: =IFERROR(INDEX($K$10:$K$264,MATCH(U26,$E$10:$E$264,0),1),0) -> Lucch Cédric | AE26: 59 | AH26: : | AI26: 52 | AL26: 4 | AO26: : | AP26: 4 | AS26: 2 | AV26: : | AW26: 2 | AZ26: =IFERROR(IF(E26="","",RANK(E26,$E$10:$I$264,1)),0) -> 10 | BE26: 1 | BH26: Participant 9 | BP26: =IF(BE26>0,VLOOKUP(BE26,'Infos joueurs'!$B:$BT,11,FALSE)," ")&" "&IF(BE26>0,VLOOKUP(BE26,'Infos joueurs'!$B:$BT,27,FALSE)," ") -> Dupond Maxime | CD26: 9 | CH26: =AA26 -> Lucch Cédric | CU26: =IFERROR(INDEX($BE$10:$BE$269,MATCH(CH26,$BP$10:$BP$269,0)),0) -> 10
E28: =IFERROR(IF(BP28="","-",RANK(S28,$S$10:$T$264,0)+RANK(Q28,$Q$10:$R$264,0)%+RANK(O28,$O$10:$P$264,0)%%+ROW()%%%),"-") -> 9.100928 | J28: =IFERROR(IF(E28="","",RANK(E28,$E$10:$I$264,1)),"-") -> 9 | K28: =BP28 -> Lucch Cédric | O28: =SUM(AE28-AI28) -> 10 | Q28: =SUM(AL28-AP28) -> 0 | S28: =SUM(AS28-AW28) -> 0 | U28: =IFERROR(SMALL($E$10:$I$264,10),0) -> 9.101026 | Z28: =IFERROR(IF(U28="","",RANK(U28,$U$10:$Y$264,1)),0) -> 10 | AA28: =IFERROR(INDEX($K$10:$K$264,MATCH(U28,$E$10:$E$264,0),1),0) -> Dupond Maxime | AE28: 77 | AH28: : | AI28: 67 | AL28: 4 | AO28: : | AP28: 4 | AS28: 2 | AV28: : | AW28: 2 | AZ28: =IFERROR(IF(E28="","",RANK(E28,$E$10:$I$264,1)),0) -> 9 | BE28: 10 | BH28: Participant 10 | BP28: =IF(BE28>0,VLOOKUP(BE28,'Infos joueurs'!$B:$BT,11,FALSE)," ")&" "&IF(BE28>0,VLOOKUP(BE28,'Infos joueurs'!$B:$BT,27,FALSE)," ") -> Lucch Cédric | CD28: 10 | CH28: =AA28 -> Dupond Maxime | CU28: =IFERROR(INDEX($BE$10:$BE$269,MATCH(CH28,$BP$10:$BP$269,0)),0) -> 1
E30: =IFERROR(IF(BP30="","-",RANK(S30,$S$10:$T$264,0)+RANK(Q30,$Q$10:$R$264,0)%+RANK(O30,$O$10:$P$264,0)%%+ROW()%%%),"-") -> 10.20113 | J30: =IFERROR(IF(E30="","",RANK(E30,$E$10:$I$264,1)),"-") -> 119 | K30: =BP30 -> Barcals Leticia | O30: =SUM(AE30-AI30) -> 2 | Q30: =SUM(AL30-AP30) -> -2 | S30: =SUM(AS30-AW30) -> 0 | U30: =IFERROR(SMALL($E$10:$I$264,11),0) -> 9.101252 | Z30: =IFERROR(IF(U30="","",RANK(U30,$U$10:$Y$264,1)),0) -> 11 | AA30: =IFERROR(INDEX($K$10:$K$264,MATCH(U30,$E$10:$E$264,0),1),0) | AE30: 95 | AH30: : | AI30: 93 | AL30: 4 | AO30: : | AP30: 6 | AS30: 2 | AV30: : | AW30: 2 | AZ30: =IFERROR(IF(E30="","",RANK(E30,$E$10:$I$264,1)),0) -> 119 | BE30: 2 | BH30: Participant 11 | BP30: =IF(BE30>0,VLOOKUP(BE30,'Infos joueurs'!$B:$BT,11,FALSE)," ")&" "&IF(BE30>0,VLOOKUP(BE30,'Infos joueurs'!$B:$BT,27,FALSE)," ") -> Barcals Leticia | CD30: 11 | CH30: =AA30 | CU30: =IFERROR(INDEX($BE$10:$BE$269,MATCH(CH30,$BP$10:$BP$269,0)),0) -> 0
E32: =IFERROR(IF(BP32="","-",RANK(S32,$S$10:$T$264,0)+RANK(Q32,$Q$10:$R$264,0)%+RANK(O32,$O$10:$P$264,0)%%+ROW()%%%),"-") -> 9.101932 | J32: =IFERROR(IF(E32="","",RANK(E32,$E$10:$I$264,1)),"-") -> 118 | K32: =BP32 -> Giroudin Bryan | O32: =SUM(AE32-AI32) -> -2 | Q32: =SUM(AL32-AP32) -> 1 | S32: =SUM(AS32-AW32) -> 0 | U32: =IFERROR(SMALL($E$10:$I$264,12),0) -> 9.101254 | Z32: =IFERROR(IF(U32="","",RANK(U32,$U$10:$Y$264,1)),0) -> 12 | AA32: =IFERROR(INDEX($K$10:$K$264,MATCH(U32,$E$10:$E$264,0),1),0) | AE32: 73 | AH32: : | AI32: 75 | AL32: 5 | AO32: : | AP32: 4 | AS32: 2 | AV32: : | AW32: 2 | AZ32: =IFERROR(IF(E32="","",RANK(E32,$E$10:$I$264,1)),0) -> 118 | BE32: 7 | BH32: Participant 12 | BP32: =IF(BE32>0,VLOOKUP(BE32,'Infos joueurs'!$B:$BT,11,FALSE)," ")&" "&IF(BE32>0,VLOOKUP(BE32,'Infos joueurs'!$B:$BT,27,FALSE)," ") -> Giroudin Bryan | CD32: 12 | CH32: =AA32 | CU32: =IFERROR(INDEX($BE$10:$BE$269,MATCH(CH32,$BP$10:$BP$269,0)),0) -> 0
E34: =IFERROR(IF(BP34="","-",RANK(S34,$S$10:$T$264,0)+RANK(Q34,$Q$10:$R$264,0)%+RANK(O34,$O$10:$P$264,0)%%+ROW()%%%),"-") -> 121.23233 | J34: =IFERROR(IF(E34="","",RANK(E34,$E$10:$I$264,1)),"-") -> 123 | K34: =BP34 -> Nichinitti Mathieu | O34: =SUM(AE34-AI34) -> -26 | Q34: =SUM(AL34-AP34) -> -4 | S34: =SUM(AS34-AW34) -> -2 | U34: =IFERROR(SMALL($E$10:$I$264,13),0) -> 9.101256 | Z34: =IFERROR(IF(U34="","",RANK(U34,$U$10:$Y$264,1)),0) -> 13 | AA34: =IFERROR(INDEX($K$10:$K$264,MATCH(U34,$E$10:$E$264,0),1),0) | AE34: 40 | AH34: : | AI34: 66 | AL34: 2 | AO34: : | AP34: 6 | AS34: 1 | AV34: : | AW34: 3 | AZ34: =IFERROR(IF(E34="","",RANK(E34,$E$10:$I$264,1)),0) -> 123 | BE34: 12 | BH34: Participant 13 | BP34: =IF(BE34>0,VLOOKUP(BE34,'Infos joueurs'!$B:$BT,11,FALSE)," ")&" "&IF(BE34>0,VLOOKUP(BE34,'Infos joueurs'!$B:$BT,27,FALSE)," ") -> Nichinitti Mathieu | CD34: 13 | CH34: =AA34 | CU34: =IFERROR(INDEX($BE$10:$BE$269,MATCH(CH34,$BP$10:$BP$269,0)),0) -> 0
E36: =IFERROR(IF(BP36="","-",RANK(S36,$S$10:$T$264,0)+RANK(Q36,$Q$10:$R$264,0)%+RANK(O36,$O$10:$P$264,0)%%+ROW()%%%),"-") -> 121.22214 | J36: =IFERROR(IF(E36="","",RANK(E36,$E$10:$I$264,1)),"-") -> 121 | K36: =BP36 -> Giroudin Quentin | O36: =SUM(AE36-AI36) -> -16 | Q36: =SUM(AL36-AP36) -> -3 | S36: =SUM(AS36-AW36) -> -2 | U36: =IFERROR(SMALL($E$10:$I$264,14),0) -> 9.101258 | Z36: =IFERROR(IF(U36="","",RANK(U36,$U$10:$Y$264,1)),0) -> 14 | AA36: =IFERROR(INDEX($K$10:$K$264,MATCH(U36,$E$10:$E$264,0),1),0) | AE36: 68 | AH36: : | AI36: 84 | AL36: 3 | AO36: : | AP36: 6 | AS36: 1 | AV36: : | AW36: 3 | AZ36: =IFERROR(IF(E36="","",RANK(E36,$E$10:$I$264,1)),0) -> 121 | BE36: 6 | BH36: Participant 14 | BP36: =IF(BE36>0,VLOOKUP(BE36,'Infos joueurs'!$B:$BT,11,FALSE)," ")&" "&IF(BE36>0,VLOOKUP(BE36,'Infos joueurs'!$B:$BT,27,FALSE)," ") -> Giroudin Quentin | CD36: 14 | CH36: =AA36 | CU36: =IFERROR(INDEX($BE$10:$BE$269,MATCH(CH36,$BP$10:$BP$269,0)),0) -> 0
E38: =IFERROR(IF(BP38="","-",RANK(S38,$S$10:$T$264,0)+RANK(Q38,$Q$10:$R$264,0)%+RANK(O38,$O$10:$P$264,0)%%+ROW()%%%),"-") -> 120.11204 | J38: =IFERROR(IF(E38="","",RANK(E38,$E$10:$I$264,1)),"-") -> 120 | K38: =BP38 -> Bibi Joachim | O38: =SUM(AE38-AI38) -> -9 | Q38: =SUM(AL38-AP38) -> 0 | S38: =SUM(AS38-AW38) -> -2 | U38: =IFERROR(SMALL($E$10:$I$264,15),0) -> 9.10126 | Z38: =IFERROR(IF(U38="","",RANK(U38,$U$10:$Y$264,1)),0) -> 15 | AA38: =IFERROR(INDEX($K$10:$K$264,MATCH(U38,$E$10:$E$264,0),1),0) | AE38: 118 | AH38: : | AI38: 127 | AL38: 6 | AO38: : | AP38: 6 | AS38: 1 | AV38: : | AW38: 3 | AZ38: =IFERROR(IF(E38="","",RANK(E38,$E$10:$I$264,1)),0) -> 120 | BE38: 3 | BH38: Participant 15 | BP38: =IF(BE38>0,VLOOKUP(BE38,'Infos joueurs'!$B:$BT,11,FALSE)," ")&" "&IF(BE38>0,VLOOKUP(BE38,'Infos joueurs'!$B:$BT,27,FALSE)," ") -> Bibi Joachim | CD38: 15 | CH38: =AA38 | CU38: =IFERROR(INDEX($BE$10:$BE$269,MATCH(CH38,$BP$10:$BP$269,0)),0) -> 0
E40: =IFERROR(IF(BP40="","-",RANK(S40,$S$10:$T$264,0)+RANK(Q40,$Q$10:$R$264,0)%+RANK(O40,$O$10:$P$264,0)%%+ROW()%%%),"-") -> 121.23224 | J40: =IFERROR(IF(E40="","",RANK(E40,$E$10:$I$264,1)),"-") -> 122 | K40: =BP40 -> Ciffère Lois | O40: =SUM(AE40-AI40) -> -24 | Q40: =SUM(AL40-AP40) -> -4 | S40: =SUM(AS40-AW40) -> -2 | U40: =IFERROR(SMALL($E$10:$I$264,16),0) -> 9.101262 | Z40: =IFERROR(IF(U40="","",RANK(U40,$U$10:$Y$264,1)),0) -> 16 | AA40: =IFERROR(INDEX($K$10:$K$264,MATCH(U40,$E$10:$E$264,0),1),0) | AE40: 54 | AH40: : | AI40: 78 | AL40: 2 | AO40: : | AP40: 6 | AS40: 1 | AV40: : | AW40: 3 | AZ40: =IFERROR(IF(E40="","",RANK(E40,$E$10:$I$264,1)),0) -> 122 | BE40: 4 | BH40: Participant 16 | BP40: =IF(BE40>0,VLOOKUP(BE40,'Infos joueurs'!$B:$BT,11,FALSE)," ")&" "&IF(BE40>0,VLOOKUP(BE40,'Infos joueurs'!$B:$BT,27,FALSE)," ") -> Ciffère Lois | CD40: 16 | CH40: =AA40 | CU40: =IFERROR(INDEX($BE$10:$BE$269,MATCH(CH40,$BP$10:$BP$269,0)),0) -> 0
E42: =IFERROR(IF(BP42="","-",RANK(S42,$S$10:$T$264,0)+RANK(Q42,$Q$10:$R$264,0)%+RANK(O42,$O$10:$P$264,0)%%+ROW()%%%),"-") -> 126.27284 | J42: =IFERROR(IF(E42="","",RANK(E42,$E$10:$I$264,1)),"-") -> 128 | K42: =BP42 -> Giroudin Pascal | O42: =SUM(AE42-AI42) -> -88 | Q42: =SUM(AL42-AP42) -> -8 | S42: =SUM(AS42-AW42) -> -4 | U42: =IFERROR(SMALL($E$10:$I$264,17),0) -> 9.101264 | Z42: =IFERROR(IF(U42="","",RANK(U42,$U$10:$Y$264,1)),0) -> 17 | AA42: =IFERROR(INDEX($K$10:$K$264,MATCH(U42,$E$10:$E$264,0),1),0) | AE42: 0 | AH42: : | AI42: 88 | AL42: 0 | AO42: : | AP42: 8 | AS42: 0 | AV42: : | AW42: 4 | AZ42: =IFERROR(IF(E42="","",RANK(E42,$E$10:$I$264,1)),0) -> 128 | BE42: 5 | BH42: Participant 17 | BP42: =IF(BE42>0,VLOOKUP(BE42,'Infos joueurs'!$B:$BT,11,FALSE)," ")&" "&IF(BE42>0,VLOOKUP(BE42,'Infos joueurs'!$B:$BT,27,FALSE)," ") -> Giroudin Pascal | CD42: 17 | CH42: =AA42 | CU42: =IFERROR(INDEX($BE$10:$BE$269,MATCH(CH42,$BP$10:$BP$269,0)),0) -> 0
E44: =IFERROR(IF(BP44="","-",RANK(S44,$S$10:$T$264,0)+RANK(Q44,$Q$10:$R$264,0)%+RANK(O44,$O$10:$P$264,0)%%+ROW()%%%),"-") -> 126.27264 | J44: =IFERROR(IF(E44="","",RANK(E44,$E$10:$I$264,1)),"-") -> 126 | K44: =BP44 -> Zuffer Marièle | O44: =SUM(AE44-AI44) -> -39 | Q44: =SUM(AL44-AP44) -> -8 | S44: =SUM(AS44-AW44) -> -4 | U44: =IFERROR(SMALL($E$10:$I$264,18),0) -> 9.101266 | Z44: =IFERROR(IF(U44="","",RANK(U44,$U$10:$Y$264,1)),0) -> 18 | AA44: =IFERROR(INDEX($K$10:$K$264,MATCH(U44,$E$10:$E$264,0),1),0) | AE44: 50 | AH44: : | AI44: 89 | AL44: 0 | AO44: : | AP44: 8 | AS44: 0 | AV44: : | AW44: 4 | AZ44: =IFERROR(IF(E44="","",RANK(E44,$E$10:$I$264,1)),0) -> 126 | BE44: 19 | BH44: Participant 18 | BP44: =IF(BE44>0,VLOOKUP(BE44,'Infos joueurs'!$B:$BT,11,FALSE)," ")&" "&IF(BE44>0,VLOOKUP(BE44,'Infos joueurs'!$B:$BT,27,FALSE)," ") -> Zuffer Marièle | CD44: 18 | CH44: =AA44 | CU44: =IFERROR(INDEX($BE$10:$BE$269,MATCH(CH44,$BP$10:$BP$269,0)),0) -> 0
E46: =IFERROR(IF(BP46="","-",RANK(S46,$S$10:$T$264,0)+RANK(Q46,$Q$10:$R$264,0)%+RANK(O46,$O$10:$P$264,0)%%+ROW()%%%),"-") -> 121.25235 | J46: =IFERROR(IF(E46="","",RANK(E46,$E$10:$I$264,1)),"-") -> 124 | K46: =BP46 -> Jean Jacques | O46: =SUM(AE46-AI46) -> -26 | Q46: =SUM(AL46-AP46) -> -5 | S46: =SUM(AS46-AW46) -> -2 | U46: =IFERROR(SMALL($E$10:$I$264,19),0) -> 9.101268 | Z46: =IFERROR(IF(U46="","",RANK(U46,$U$10:$Y$264,1)),0) -> 19 | AA46: =IFERROR(INDEX($K$10:$K$264,MATCH(U46,$E$10:$E$264,0),1),0) | AE46: 91 | AH46: : | AI46: 117 | AL46: 3 | AO46: : | AP46: 8 | AS46: 1 | AV46: : | AW46: 3 | AZ46: =IFERROR(IF(E46="","",RANK(E46,$E$10:$I$264,1)),0) -> 124 | BE46: 8 | BH46: Participant 19 | BP46: =IF(BE46>0,VLOOKUP(BE46,'Infos joueurs'!$B:$BT,11,FALSE)," ")&" "&IF(BE46>0,VLOOKUP(BE46,'Infos joueurs'!$B:$BT,27,FALSE)," ") -> Jean Jacques | CD46: 19 | CH46: =AA46 | CU46: =IFERROR(INDEX($BE$10:$BE$269,MATCH(CH46,$BP$10:$BP$269,0)),0) -> 0
E48: =IFERROR(IF(BP48="","-",RANK(S48,$S$10:$T$264,0)+RANK(Q48,$Q$10:$R$264,0)%+RANK(O48,$O$10:$P$264,0)%%+ROW()%%%),"-") -> 126.27275 | J48: =IFERROR(IF(E48="","",RANK(E48,$E$10:$I$264,1)),"-") -> 127 | K48: =BP48 | O48: =SUM(AE48-AI48) -> -50 | Q48: =SUM(AL48-AP48) -> -8 | S48: =SUM(AS48-AW48) -> -4 | U48: =IFERROR(SMALL($E$10:$I$264,20),0) -> 9.10127 | Z48: =IFERROR(IF(U48="","",RANK(U48,$U$10:$Y$264,1)),0) -> 20 | AA48: =IFERROR(INDEX($K$10:$K$264,MATCH(U48,$E$10:$E$264,0),1),0) | AE48: 38 | AH48: : | AI48: 88 | AL48: 0 | AO48: : | AP48: 8 | AS48: 0 | AV48: : | AW48: 4 | AZ48: =IFERROR(IF(E48="","",RANK(E48,$E$10:$I$264,1)),0) -> 127 | BH48: Participant 20 | BP48: =IF(BE48>0,VLOOKUP(BE48,'Infos joueurs'!$B:$BT,11,FALSE)," ")&" "&IF(BE48>0,VLOOKUP(BE48,'Infos joueurs'!$B:$BT,27,FALSE)," ") | CD48: 20 | CH48: =AA48 | CU48: =IFERROR(INDEX($BE$10:$BE$269,MATCH(CH48,$BP$10:$BP$269,0)),0) -> 0
E50: =IFERROR(IF(BP50="","-",RANK(S50,$S$10:$T$264,0)+RANK(Q50,$Q$10:$R$264,0)%+RANK(O50,$O$10:$P$264,0)%%+ROW()%%%),"-") -> 126.26255 | J50: =IFERROR(IF(E50="","",RANK(E50,$E$10:$I$264,1)),"-") -> 125 | K50: =BP50 | O50: =SUM(AE50-AI50) -> -31 | Q50: =SUM(AL50-AP50) -> -7 | S50: =SUM(AS50-AW50) -> -4 | U50: =IFERROR(SMALL($E$10:$I$264,21),0) -> 9.101272 | Z50: =IFERROR(IF(U50="","",RANK(U50,$U$10:$Y$264,1)),0) -> 21 | AA50: =IFERROR(INDEX($K$10:$K$264,MATCH(U50,$E$10:$E$264,0),1),0) | AE50: 92 | AH50: : | AI50: 123 | AL50: 2 | AO50: : | AP50: 9 | AS50: 0 | AV50: : | AW50: 4 | AZ50: =IFERROR(IF(E50="","",RANK(E50,$E$10:$I$264,1)),0) -> 125 | BH50: Participant 21 | BP50: =IF(BE50>0,VLOOKUP(BE50,'Infos joueurs'!$B:$BT,11,FALSE)," ")&" "&IF(BE50>0,VLOOKUP(BE50,'Infos joueurs'!$B:$BT,27,FALSE)," ") | CD50: 21 | CH50: =AA50 | CU50: =IFERROR(INDEX($BE$10:$BE$269,MATCH(CH50,$BP$10:$BP$269,0)),0) -> 0
E52: =IFERROR(IF(BP52="","-",RANK(S52,$S$10:$T$264,0)+RANK(Q52,$Q$10:$R$264,0)%+RANK(O52,$O$10:$P$264,0)%%+ROW()%%%),"-") -> 9.101252 | J52: =IFERROR(IF(E52="","",RANK(E52,$E$10:$I$264,1)),"-") -> 11 | K52: =BP52 | O52: =SUM(AE52-AI52) -> 0 | Q52: =SUM(AL52-AP52) -> 0 | S52: =SUM(AS52-AW52) -> 0 | U52: =IFERROR(SMALL($E$10:$I$264,22),0) -> 9.101274 | Z52: =IFERROR(IF(U52="","",RANK(U52,$U$10:$Y$264,1)),0) -> 22 | AA52: =IFERROR(INDEX($K$10:$K$264,MATCH(U52,$E$10:$E$264,0),1),0) | AH52: : | AO52: : | AV52: : | AZ52: =IFERROR(IF(E52="","",RANK(E52,$E$10:$I$264,1)),0) -> 11 | BH52: Participant 22 | BP52: =IF(BE52>0,VLOOKUP(BE52,'Infos joueurs'!$B:$BT,11,FALSE)," ")&" "&IF(BE52>0,VLOOKUP(BE52,'Infos joueurs'!$B:$BT,27,FALSE)," ") | CD52: 22 | CH52: =AA52 | CU52: =IFERROR(INDEX($BE$10:$BE$269,MATCH(CH52,$BP$10:$BP$269,0)),0) -> 0
E54: =IFERROR(IF(BP54="","-",RANK(S54,$S$10:$T$264,0)+RANK(Q54,$Q$10:$R$264,0)%+RANK(O54,$O$10:$P$264,0)%%+ROW()%%%),"-") -> 9.101254 | J54: =IFERROR(IF(E54="","",RANK(E54,$E$10:$I$264,1)),"-") -> 12 | K54: =BP54 | O54: =SUM(AE54-AI54) -> 0 | Q54: =SUM(AL54-AP54) -> 0 | S54: =SUM(AS54-AW54) -> 0 | U54: =IFERROR(SMALL($E$10:$I$264,23),0) -> 9.101276 | Z54: =IFERROR(IF(U54="","",RANK(U54,$U$10:$Y$264,1)),0) -> 23 | AA54: =IFERROR(INDEX($K$10:$K$264,MATCH(U54,$E$10:$E$264,0),1),0) | AH54: : | AO54: : | AV54: : | AZ54: =IFERROR(IF(E54="","",RANK(E54,$E$10:$I$264,1)),0) -> 12 | BH54: Participant 23 | BP54: =IF(BE54>0,VLOOKUP(BE54,'Infos joueurs'!$B:$BT,11,FALSE)," ")&" "&IF(BE54>0,VLOOKUP(BE54,'Infos joueurs'!$B:$BT,27,FALSE)," ") | CD54: 23 | CH54: =AA54 | CU54: =IFERROR(INDEX($BE$10:$BE$269,MATCH(CH54,$BP$10:$BP$269,0)),0) -> 0
E56: =IFERROR(IF(BP56="","-",RANK(S56,$S$10:$T$264,0)+RANK(Q56,$Q$10:$R$264,0)%+RANK(O56,$O$10:$P$264,0)%%+ROW()%%%),"-") -> 9.101256 | J56: =IFERROR(IF(E56="","",RANK(E56,$E$10:$I$264,1)),"-") -> 13 | K56: =BP56 | O56: =SUM(AE56-AI56) -> 0 | Q56: =SUM(AL56-AP56) -> 0 | S56: =SUM(AS56-AW56) -> 0 | U56: =IFERROR(SMALL($E$10:$I$264,24),0) -> 9.101278 | Z56: =IFERROR(IF(U56="","",RANK(U56,$U$10:$Y$264,1)),0) -> 24 | AA56: =IFERROR(INDEX($K$10:$K$264,MATCH(U56,$E$10:$E$264,0),1),0) | AH56: : | AO56: : | AV56: : | AZ56: =IFERROR(IF(E56="","",RANK(E56,$E$10:$I$264,1)),0) -> 13 | BH56: Participant 24 | BP56: =IF(BE56>0,VLOOKUP(BE56,'Infos joueurs'!$B:$BT,11,FALSE)," ")&" "&IF(BE56>0,VLOOKUP(BE56,'Infos joueurs'!$B:$BT,27,FALSE)," ") | CD56: 24 | CH56: =AA56 | CU56: =IFERROR(INDEX($BE$10:$BE$269,MATCH(CH56,$BP$10:$BP$269,0)),0) -> 0
E58: =IFERROR(IF(BP58="","-",RANK(S58,$S$10:$T$264,0)+RANK(Q58,$Q$10:$R$264,0)%+RANK(O58,$O$10:$P$264,0)%%+ROW()%%%),"-") -> 9.101258 | J58: =IFERROR(IF(E58="","",RANK(E58,$E$10:$I$264,1)),"-") -> 14 | K58: =BP58 | O58: =SUM(AE58-AI58) -> 0 | Q58: =SUM(AL58-AP58) -> 0 | S58: =SUM(AS58-AW58) -> 0 | U58: =IFERROR(SMALL($E$10:$I$264,25),0) -> 9.10128 | Z58: =IFERROR(IF(U58="","",RANK(U58,$U$10:$Y$264,1)),0) -> 25 | AA58: =IFERROR(INDEX($K$10:$K$264,MATCH(U58,$E$10:$E$264,0),1),0) | AH58: : | AO58: : | AV58: : | AZ58: =IFERROR(IF(E58="","",RANK(E58,$E$10:$I$264,1)),0) -> 14 | BH58: Participant 25 | BP58: =IF(BE58>0,VLOOKUP(BE58,'Infos joueurs'!$B:$BT,11,FALSE)," ")&" "&IF(BE58>0,VLOOKUP(BE58,'Infos joueurs'!$B:$BT,27,FALSE)," ") | CD58: 25 | CH58: =AA58 | CU58: =IFERROR(INDEX($BE$10:$BE$269,MATCH(CH58,$BP$10:$BP$269,0)),0) -> 0
E60: =IFERROR(IF(BP60="","-",RANK(S60,$S$10:$T$264,0)+RANK(Q60,$Q$10:$R$264,0)%+RANK(O60,$O$10:$P$264,0)%%+ROW()%%%),"-") -> 9.10126 | J60: =IFERROR(IF(E60="","",RANK(E60,$E$10:$I$264,1)),"-") -> 15 | K60: =BP60 | O60: =SUM(AE60-AI60) -> 0 | Q60: =SUM(AL60-AP60) -> 0 | S60: =SUM(AS60-AW60) -> 0 | U60: =IFERROR(SMALL($E$10:$I$264,26),0) -> 9.101282 | Z60: =IFERROR(IF(U60="","",RANK(U60,$U$10:$Y$264,1)),0) -> 26 | AA60: =IFERROR(INDEX($K$10:$K$264,MATCH(U60,$E$10:$E$264,0),1),0) | AH60: : | AO60: : | AV60: : | AZ60: =IFERROR(IF(E60="","",RANK(E60,$E$10:$I$264,1)),0) -> 15 | BH60: Participant 26 | BP60: =IF(BE60>0,VLOOKUP(BE60,'Infos joueurs'!$B:$BT,11,FALSE)," ")&" "&IF(BE60>0,VLOOKUP(BE60,'Infos joueurs'!$B:$BT,27,FALSE)," ") | CD60: 26 | CH60: =AA60 | CU60: =IFERROR(INDEX($BE$10:$BE$269,MATCH(CH60,$BP$10:$BP$269,0)),0) -> 0
E62: =IFERROR(IF(BP62="","-",RANK(S62,$S$10:$T$264,0)+RANK(Q62,$Q$10:$R$264,0)%+RANK(O62,$O$10:$P$264,0)%%+ROW()%%%),"-") -> 9.101262 | J62: =IFERROR(IF(E62="","",RANK(E62,$E$10:$I$264,1)),"-") -> 16 | K62: =BP62 | O62: =SUM(AE62-AI62) -> 0 | Q62: =SUM(AL62-AP62) -> 0 | S62: =SUM(AS62-AW62) -> 0 | U62: =IFERROR(SMALL($E$10:$I$264,27),0) -> 9.101284 | Z62: =IFERROR(IF(U62="","",RANK(U62,$U$10:$Y$264,1)),0) -> 27 | AA62: =IFERROR(INDEX($K$10:$K$264,MATCH(U62,$E$10:$E$264,0),1),0) | AH62: : | AO62: : | AV62: : | AZ62: =IFERROR(IF(E62="","",RANK(E62,$E$10:$I$264,1)),0) -> 16 | BH62: Participant 27 | BP62: =IF(BE62>0,VLOOKUP(BE62,'Infos joueurs'!$B:$BT,11,FALSE)," ")&" "&IF(BE62>0,VLOOKUP(BE62,'Infos joueurs'!$B:$BT,27,FALSE)," ") | CD62: 27 | CH62: =AA62 | CU62: =IFERROR(INDEX($BE$10:$BE$269,MATCH(CH62,$BP$10:$BP$269,0)),0) -> 0
E64: =IFERROR(IF(BP64="","-",RANK(S64,$S$10:$T$264,0)+RANK(Q64,$Q$10:$R$264,0)%+RANK(O64,$O$10:$P$264,0)%%+ROW()%%%),"-") -> 9.101264 | J64: =IFERROR(IF(E64="","",RANK(E64,$E$10:$I$264,1)),"-") -> 17 | K64: =BP64 | O64: =SUM(AE64-AI64) -> 0 | Q64: =SUM(AL64-AP64) -> 0 | S64: =SUM(AS64-AW64) -> 0 | U64: =IFERROR(SMALL($E$10:$I$264,28),0) -> 9.101286 | Z64: =IFERROR(IF(U64="","",RANK(U64,$U$10:$Y$264,1)),0) -> 28 | AA64: =IFERROR(INDEX($K$10:$K$264,MATCH(U64,$E$10:$E$264,0),1),0) | AH64: : | AO64: : | AV64: : | AZ64: =IFERROR(IF(E64="","",RANK(E64,$E$10:$I$264,1)),0) -> 17 | BH64: Participant 28 | BP64: =IF(BE64>0,VLOOKUP(BE64,'Infos joueurs'!$B:$BT,11,FALSE)," ")&" "&IF(BE64>0,VLOOKUP(BE64,'Infos joueurs'!$B:$BT,27,FALSE)," ") | CD64: 28 | CH64: =AA64 | CU64: =IFERROR(INDEX($BE$10:$BE$269,MATCH(CH64,$BP$10:$BP$269,0)),0) -> 0
E66: =IFERROR(IF(BP66="","-",RANK(S66,$S$10:$T$264,0)+RANK(Q66,$Q$10:$R$264,0)%+RANK(O66,$O$10:$P$264,0)%%+ROW()%%%),"-") -> 9.101266 | J66: =IFERROR(IF(E66="","",RANK(E66,$E$10:$I$264,1)),"-") -> 18 | K66: =BP66 | O66: =SUM(AE66-AI66) -> 0 | Q66: =SUM(AL66-AP66) -> 0 | S66: =SUM(AS66-AW66) -> 0 | U66: =IFERROR(SMALL($E$10:$I$264,29),0) -> 9.101288 | Z66: =IFERROR(IF(U66="","",RANK(U66,$U$10:$Y$264,1)),0) -> 29 | AA66: =IFERROR(INDEX($K$10:$K$264,MATCH(U66,$E$10:$E$264,0),1),0) | AH66: : | AO66: : | AV66: : | AZ66: =IFERROR(IF(E66="","",RANK(E66,$E$10:$I$264,1)),0) -> 18 | BH66: Participant 29 | BP66: =IF(BE66>0,VLOOKUP(BE66,'Infos joueurs'!$B:$BT,11,FALSE)," ")&" "&IF(BE66>0,VLOOKUP(BE66,'Infos joueurs'!$B:$BT,27,FALSE)," ") | CD66: 29 | CH66: =AA66 | CU66: =IFERROR(INDEX($BE$10:$BE$269,MATCH(CH66,$BP$10:$BP$269,0)),0) -> 0
E68: =IFERROR(IF(BP68="","-",RANK(S68,$S$10:$T$264,0)+RANK(Q68,$Q$10:$R$264,0)%+RANK(O68,$O$10:$P$264,0)%%+ROW()%%%),"-") -> 9.101268 | J68: =IFERROR(IF(E68="","",RANK(E68,$E$10:$I$264,1)),"-") -> 19 | K68: =BP68 | O68: =SUM(AE68-AI68) -> 0 | Q68: =SUM(AL68-AP68) -> 0 | S68: =SUM(AS68-AW68) -> 0 | U68: =IFERROR(SMALL($E$10:$I$264,30),0) -> 9.10129 | Z68: =IFERROR(IF(U68="","",RANK(U68,$U$10:$Y$264,1)),0) -> 30 | AA68: =IFERROR(INDEX($K$10:$K$264,MATCH(U68,$E$10:$E$264,0),1),0) | AH68: : | AO68: : | AV68: : | AZ68: =IFERROR(IF(E68="","",RANK(E68,$E$10:$I$264,1)),0) -> 19 | BH68: Participant 30 | BP68: =IF(BE68>0,VLOOKUP(BE68,'Infos joueurs'!$B:$BT,11,FALSE)," ")&" "&IF(BE68>0,VLOOKUP(BE68,'Infos joueurs'!$B:$BT,27,FALSE)," ") | CD68: 30 | CH68: =AA68 | CU68: =IFERROR(INDEX($BE$10:$BE$269,MATCH(CH68,$BP$10:$BP$269,0)),0) -> 0
E70: =IFERROR(IF(BP70="","-",RANK(S70,$S$10:$T$264,0)+RANK(Q70,$Q$10:$R$264,0)%+RANK(O70,$O$10:$P$264,0)%%+ROW()%%%),"-") -> 9.10127 | J70: =IFERROR(IF(E70="","",RANK(E70,$E$10:$I$264,1)),"-") -> 20 | K70: =BP70 | O70: =SUM(AE70-AI70) -> 0 | Q70: =SUM(AL70-AP70) -> 0 | S70: =SUM(AS70-AW70) -> 0 | U70: =IFERROR(SMALL($E$10:$I$264,31),0) -> 9.101292 | Z70: =IFERROR(IF(U70="","",RANK(U70,$U$10:$Y$264,1)),0) -> 31 | AA70: =IFERROR(INDEX($K$10:$K$264,MATCH(U70,$E$10:$E$264,0),1),0) | AH70: : | AO70: : | AV70: : | AZ70: =IFERROR(IF(E70="","",RANK(E70,$E$10:$I$264,1)),0) -> 20 | BH70: Participant 31 | BP70: =IF(BE70>0,VLOOKUP(BE70,'Infos joueurs'!$B:$BT,11,FALSE)," ")&" "&IF(BE70>0,VLOOKUP(BE70,'Infos joueurs'!$B:$BT,27,FALSE)," ") | CD70: 31 | CH70: =AA70 | CU70: =IFERROR(INDEX($BE$10:$BE$269,MATCH(CH70,$BP$10:$BP$269,0)),0) -> 0
E72: =IFERROR(IF(BP72="","-",RANK(S72,$S$10:$T$264,0)+RANK(Q72,$Q$10:$R$264,0)%+RANK(O72,$O$10:$P$264,0)%%+ROW()%%%),"-") -> 9.101272 | J72: =IFERROR(IF(E72="","",RANK(E72,$E$10:$I$264,1)),"-") -> 21 | K72: =BP72 | O72: =SUM(AE72-AI72) -> 0 | Q72: =SUM(AL72-AP72) -> 0 | S72: =SUM(AS72-AW72) -> 0 | U72: =IFERROR(SMALL($E$10:$I$264,32),0) -> 9.101294 | Z72: =IFERROR(IF(U72="","",RANK(U72,$U$10:$Y$264,1)),0) -> 32 | AA72: =IFERROR(INDEX($K$10:$K$264,MATCH(U72,$E$10:$E$264,0),1),0) | AH72: : | AO72: : | AV72: : | AZ72: =IFERROR(IF(E72="","",RANK(E72,$E$10:$I$264,1)),0) -> 21 | BH72: Participant 32 | BP72: =IF(BE72>0,VLOOKUP(BE72,'Infos joueurs'!$B:$BT,11,FALSE)," ")&" "&IF(BE72>0,VLOOKUP(BE72,'Infos joueurs'!$B:$BT,27,FALSE)," ") | CD72: 32 | CH72: =AA72 | CU72: =IFERROR(INDEX($BE$10:$BE$269,MATCH(CH72,$BP$10:$BP$269,0)),0) -> 0
E74: =IFERROR(IF(BP74="","-",RANK(S74,$S$10:$T$264,0)+RANK(Q74,$Q$10:$R$264,0)%+RANK(O74,$O$10:$P$264,0)%%+ROW()%%%),"-") -> 9.101274 | J74: =IFERROR(IF(E74="","",RANK(E74,$E$10:$I$264,1)),"-") -> 22 | K74: =BP74 | O74: =SUM(AE74-AI74) -> 0 | Q74: =SUM(AL74-AP74) -> 0 | S74: =SUM(AS74-AW74) -> 0 | U74: =IFERROR(SMALL($E$10:$I$264,33),0) -> 9.101296 | Z74: =IFERROR(IF(U74="","",RANK(U74,$U$10:$Y$264,1)),0) -> 33 | AA74: =IFERROR(INDEX($K$10:$K$264,MATCH(U74,$E$10:$E$264,0),1),0) | AH74: : | AO74: : | AV74: : | AZ74: =IFERROR(IF(E74="","",RANK(E74,$E$10:$I$264,1)),0) -> 22 | BH74: Participant 33 | BP74: =IF(BE74>0,VLOOKUP(BE74,'Infos joueurs'!$B:$BT,11,FALSE)," ")&" "&IF(BE74>0,VLOOKUP(BE74,'Infos joueurs'!$B:$BT,27,FALSE)," ") | CD74: 33 | CH74: =AA74 | CU74: =IFERROR(INDEX($BE$10:$BE$269,MATCH(CH74,$BP$10:$BP$269,0)),0) -> 0
E76: =IFERROR(IF(BP76="","-",RANK(S76,$S$10:$T$264,0)+RANK(Q76,$Q$10:$R$264,0)%+RANK(O76,$O$10:$P$264,0)%%+ROW()%%%),"-") -> 9.101276 | J76: =IFERROR(IF(E76="","",RANK(E76,$E$10:$I$264,1)),"-") -> 23 | K76: =BP76 | O76: =SUM(AE76-AI76) -> 0 | Q76: =SUM(AL76-AP76) -> 0 | S76: =SUM(AS76-AW76) -> 0 | U76: =IFERROR(SMALL($E$10:$I$264,34),0) -> 9.101298 | Z76: =IFERROR(IF(U76="","",RANK(U76,$U$10:$Y$264,1)),0) -> 34 | AA76: =IFERROR(INDEX($K$10:$K$264,MATCH(U76,$E$10:$E$264,0),1),0) | AH76: : | AO76: : | AV76: : | AZ76: =IFERROR(IF(E76="","",RANK(E76,$E$10:$I$264,1)),0) -> 23 | BH76: Participant 34 | BP76: =IF(BE76>0,VLOOKUP(BE76,'Infos joueurs'!$B:$BT,11,FALSE)," ")&" "&IF(BE76>0,VLOOKUP(BE76,'Infos joueurs'!$B:$BT,27,FALSE)," ") | CD76: 34 | CH76: =AA76 | CU76: =IFERROR(INDEX($BE$10:$BE$269,MATCH(CH76,$BP$10:$BP$269,0)),0) -> 0
E78: =IFERROR(IF(BP78="","-",RANK(S78,$S$10:$T$264,0)+RANK(Q78,$Q$10:$R$264,0)%+RANK(O78,$O$10:$P$264,0)%%+ROW()%%%),"-") -> 9.101278 | J78: =IFERROR(IF(E78="","",RANK(E78,$E$10:$I$264,1)),"-") -> 24 | K78: =BP78 | O78: =SUM(AE78-AI78) -> 0 | Q78: =SUM(AL78-AP78) -> 0 | S78: =SUM(AS78-AW78) -> 0 | U78: =IFERROR(SMALL($E$10:$I$264,35),0) -> 9.1013 | Z78: =IFERROR(IF(U78="","",RANK(U78,$U$10:$Y$264,1)),0) -> 35 | AA78: =IFERROR(INDEX($K$10:$K$264,MATCH(U78,$E$10:$E$264,0),1),0) | AH78: : | AO78: : | AV78: : | AZ78: =IFERROR(IF(E78="","",RANK(E78,$E$10:$I$264,1)),0) -> 24 | BH78: Participant 35 | BP78: =IF(BE78>0,VLOOKUP(BE78,'Infos joueurs'!$B:$BT,11,FALSE)," ")&" "&IF(BE78>0,VLOOKUP(BE78,'Infos joueurs'!$B:$BT,27,FALSE)," ") | CD78: 35 | CH78: =AA78 | CU78: =IFERROR(INDEX($BE$10:$BE$269,MATCH(CH78,$BP$10:$BP$269,0)),0) -> 0
...
