Workbook
Name Daten: [1]Eingabe!$A$4:$E$30
Name Daten___0: [1]Eingabe!$A$4:$E$30
Name Daten___5: [2]Eingabe!$A$4:$E$30
Name Daten___6: [2]Eingabe!$A$4:$E$30
Name Daten___8: [2]Eingabe!$A$4:$E$30

Sheet Infos joueurs
CC1: T1 | CY1: T2 | DU1: T3 | EQ1: T13 | FM1: T14 | GI1: T15
BZ4: =IF(CF1>0,VLOOKUP(CF1,$B:$BT,11,FALSE)," ")&" "&IF(CF1>0,VLOOKUP(CF1,$B:$BT,27,FALSE)," ") | CV4: =IF(DB1>0,VLOOKUP(DB1,$B:$BT,11,FALSE)," ")&" "&IF(DB1>0,VLOOKUP(DB1,$B:$BT,27,FALSE)," ") | DR4: =IF(DX1>0,VLOOKUP(DX1,$B:$BT,11,FALSE)," ")&" "&IF(DX1>0,VLOOKUP(DX1,$B:$BT,27,FALSE)," ") | EN4: =IF(ET1>0,VLOOKUP(ET1,$B:$BT,11,FALSE)," ")&" "&IF(ET1>0,VLOOKUP(ET1,$B:$BT,27,FALSE)," ") | FJ4: =IF(FP1>0,VLOOKUP(FP1,$B:$BT,11,FALSE)," ")&" "&IF(FP1>0,VLOOKUP(FP1,$B:$BT,27,FALSE)," ") | GF4: =IF(GL1>0,VLOOKUP(GL1,$B:$BT,11,FALSE)," ")&" "&IF(GL1>0,VLOOKUP(GL1,$B:$BT,27,FALSE)," ")
BZ14: =IF(CI1>0,VLOOKUP(CI1,$B:$BT,11,FALSE)," ")&" "&IF(CI1>0,VLOOKUP(CI1,$B:$BT,27,FALSE)," ") | CV14: =IF(DE1>0,VLOOKUP(DE1,$B:$BT,11,FALSE)," ")&" "&IF(DE1>0,VLOOKUP(DE1,$B:$BT,27,FALSE)," ") | DR14: =IF(EA1>0,VLOOKUP(EA1,$B:$BT,11,FALSE)," ")&" "&IF(EA1>0,VLOOKUP(EA1,$B:$BT,27,FALSE)," ") | EN14: =IF(EW1>0,VLOOKUP(EW1,$B:$BT,11,FALSE)," ")&" "&IF(EW1>0,VLOOKUP(EW1,$B:$BT,27,FALSE)," ") | FJ14: =IF(FS1>0,VLOOKUP(FS1,$B:$BT,11,FALSE)," ")&" "&IF(FS1>0,VLOOKUP(FS1,$B:$BT,27,FALSE)," ") | GF14: =IF(GO1>0,VLOOKUP(GO1,$B:$BT,11,FALSE)," ")&" "&IF(GO1>0,VLOOKUP(GO1,$B:$BT,27,FALSE)," ")
B16: =IF('[3]Info générale'!B1>0,'[3]Info générale'!B1,"") -> Championnat des écoles de tennis de table 2017-2018
B23: =IF('[3]Info générale'!B1>0,'[3]Info générale'!B4,"") -> 43001
CC27: T4 | CY27: T5 | DU27: T6 | EQ27: T16 | FM27: T17 | GI27: T18
BZ30: =IF(CF27>0,VLOOKUP(CF27,$B:$BT,11,FALSE)," ")&" "&IF(CF27>0,VLOOKUP(CF27,$B:$BT,27,FALSE)," ") | CV30: =IF(DB27>0,VLOOKUP(DB27,$B:$BT,11,FALSE)," ")&" "&IF(DB27>0,VLOOKUP(DB27,$B:$BT,27,FALSE)," ") | DR30: =IF(DX27>0,VLOOKUP(DX27,$B:$BT,11,FALSE)," ")&" "&IF(DX27>0,VLOOKUP(DX27,$B:$BT,27,FALSE)," ") | EN30: =IF(ET27>0,VLOOKUP(ET27,$B:$BT,11,FALSE)," ")&" "&IF(ET27>0,VLOOKUP(ET27,$B:$BT,27,FALSE)," ") | FJ30: =IF(FP27>0,VLOOKUP(FP27,$B:$BT,11,FALSE)," ")&" "&IF(FP27>0,VLOOKUP(FP27,$B:$BT,27,FALSE)," ") | GF30: =IF(GL27>0,VLOOKUP(GL27,$B:$BT,11,FALSE)," ")&" "&IF(GL27>0,VLOOKUP(GL27,$B:$BT,27,FALSE)," ")
B31: N° | E31: Né le | L31: Nom | AB31: Prénom | AR31: Clubs | BC31: Points | BI31: Catégories
B33: 1 | E33: 1 | L33: Dupond | AB33: Maxime | BQ33: =IF(OR($CF$1=B33,$CI$1=B33,$DB$1=B33,$DE$1=B33,$DX$1=B33,$EA$1=B33,$CF$27=B33,$CI$27=B33,$DB$27=B33,$DE$27=B33,$DX$27=B33,$EA$27=B33,$CF$53=B33,$CI$53=B33,$DB$53=B33,$DE$53=B33,$DX$53=B33,$EA$53=B33,$CF$79=B33,$CI$79=B33,$DB$79=B33,$DE$79=B33,$DX$79=B33,$EA$79=B33,$ET$1=B33,$EW$1=B33,$FP$1=B33,$FS$1=B33,$GL$1=B33,$GO$1=B33,$ET$27=B33,$EW$27=B33,$FP$27=B33,$FS$27=B33,$GL$27=B33,$GO$27=B33,$ET$53=B33,$EW$53=B33,$FP$53=B33,$FS$53=B33,$GL$53=B33,$GO$53=B33,$ET$79=B33,$EW$79=B33,$FP$79=B33,$FS$79=B33,$GL$79=B33,$GO$79=B33),1,0) -> 0
B35: 2 | E35: 1 | L35: Barcals | AB35: Leticia | BQ35: =IF(OR($CF$1=B35,$CI$1=B35,$DB$1=B35,$DE$1=B35,$DX$1=B35,$EA$1=B35,$CF$27=B35,$CI$27=B35,$DB$27=B35,$DE$27=B35,$DX$27=B35,$EA$27=B35,$CF$53=B35,$CI$53=B35,$DB$53=B35,$DE$53=B35,$DX$53=B35,$EA$53=B35,$CF$79=B35,$CI$79=B35,$DB$79=B35,$DE$79=B35,$DX$79=B35,$EA$79=B35,$ET$1=B35,$EW$1=B35,$FP$1=B35,$FS$1=B35,$GL$1=B35,$GO$1=B35,$ET$27=B35,$EW$27=B35,$FP$27=B35,$FS$27=B35,$GL$27=B35,$GO$27=B35,$ET$53=B35,$EW$53=B35,$FP$53=B35,$FS$53=B35,$GL$53=B35,$GO$53=B35,$ET$79=B35,$EW$79=B35,$FP$79=B35,$FS$79=B35,$GL$79=B35,$GO$79=B35),1,0) -> 0
B37: 3 | E37: 1 | L37: Bibi | AB37: Joachim | BQ37: =IF(OR($CF$1=B37,$CI$1=B37,$DB$1=B37,$DE$1=B37,$DX$1=B37,$EA$1=B37,$CF$27=B37,$CI$27=B37,$DB$27=B37,$DE$27=B37,$DX$27=B37,$EA$27=B37,$CF$53=B37,$CI$53=B37,$DB$53=B37,$DE$53=B37,$DX$53=B37,$EA$53=B37,$CF$79=B37,$CI$79=B37,$DB$79=B37,$DE$79=B37,$DX$79=B37,$EA$79=B37,$ET$1=B37,$EW$1=B37,$FP$1=B37,$FS$1=B37,$GL$1=B37,$GO$1=B37,$ET$27=B37,$EW$27=B37,$FP$27=B37,$FS$27=B37,$GL$27=B37,$GO$27=B37,$ET$53=B37,$EW$53=B37,$FP$53=B37,$FS$53=B37,$GL$53=B37,$GO$53=B37,$ET$79=B37,$EW$79=B37,$FP$79=B37,$FS$79=B37,$GL$79=B37,$GO$79=B37),1,0) -> 0
B39: 4 | E39: 1 | L39: Ciffère | AB39: Lois | BQ39: =IF(OR($CF$1=B39,$CI$1=B39,$DB$1=B39,$DE$1=B39,$DX$1=B39,$EA$1=B39,$CF$27=B39,$CI$27=B39,$DB$27=B39,$DE$27=B39,$DX$27=B39,$EA$27=B39,$CF$53=B39,$CI$53=B39,$DB$53=B39,$DE$53=B39,$DX$53=B39,$EA$53=B39,$CF$79=B39,$CI$79=B39,$DB$79=B39,$DE$79=B39,$DX$79=B39,$EA$79=B39,$ET$1=B39,$EW$1=B39,$FP$1=B39,$FS$1=B39,$GL$1=B39,$GO$1=B39,$ET$27=B39,$EW$27=B39,$FP$27=B39,$FS$27=B39,$GL$27=B39,$GO$27=B39,$ET$53=B39,$EW$53=B39,$FP$53=B39,$FS$53=B39,$GL$53=B39,$GO$53=B39,$ET$79=B39,$EW$79=B39,$FP$79=B39,$FS$79=B39,$GL$79=B39,$GO$79=B39),1,0) -> 0
BZ40: =IF(CI27>0,VLOOKUP(CI27,$B:$BT,11,FALSE)," ")&" "&IF(CI27>0,VLOOKUP(CI27,$B:$BT,27,FALSE)," ") | CV40: =IF(DE27>0,VLOOKUP(DE27,$B:$BT,11,FALSE)," ")&" "&IF(DE27>0,VLOOKUP(DE27,$B:$BT,27,FALSE)," ") | DR40: =IF(EA27>0,VLOOKUP(EA27,$B:$BT,11,FALSE)," ")&" "&IF(EA27>0,VLOOKUP(EA27,$B:$BT,27,FALSE)," ") | EN40: =IF(EW27>0,VLOOKUP(EW27,$B:$BT,11,FALSE)," ")&" "&IF(EW27>0,VLOOKUP(EW27,$B:$BT,27,FALSE)," ") | FJ40: =IF(FS27>0,VLOOKUP(FS27,$B:$BT,11,FALSE)," ")&" "&IF(FS27>0,VLOOKUP(FS27,$B:$BT,27,FALSE)," ") | GF40: =IF(GO27>0,VLOOKUP(GO27,$B:$BT,11,FALSE)," ")&" "&IF(GO27>0,VLOOKUP(GO27,$B:$BT,27,FALSE)," ")
B41: 5 | E41: 1 | L41: Giroudin | AB41: Pascal | BQ41: =IF(OR($CF$1=B41,$CI$1=B41,$DB$1=B41,$DE$1=B41,$DX$1=B41,$EA$1=B41,$CF$27=B41,$CI$27=B41,$DB$27=B41,$DE$27=B41,$DX$27=B41,$EA$27=B41,$CF$53=B41,$CI$53=B41,$DB$53=B41,$DE$53=B41,$DX$53=B41,$EA$53=B41,$CF$79=B41,$CI$79=B41,$DB$79=B41,$DE$79=B41,$DX$79=B41,$EA$79=B41,$ET$1=B41,$EW$1=B41,$FP$1=B41,$FS$1=B41,$GL$1=B41,$GO$1=B41,$ET$27=B41,$EW$27=B41,$FP$27=B41,$FS$27=B41,$GL$27=B41,$GO$27=B41,$ET$53=B41,$EW$53=B41,$FP$53=B41,$FS$53=B41,$GL$53=B41,$GO$53=B41,$ET$79=B41,$EW$79=B41,$FP$79=B41,$FS$79=B41,$GL$79=B41,$GO$79=B41),1,0) -> 0
B43: 6 | E43: 1 | L43: Giroudin | AB43: Quentin | BQ43: =IF(OR($CF$1=B43,$CI$1=B43,$DB$1=B43,$DE$1=B43,$DX$1=B43,$EA$1=B43,$CF$27=B43,$CI$27=B43,$DB$27=B43,$DE$27=B43,$DX$27=B43,$EA$27=B43,$CF$53=B43,$CI$53=B43,$DB$53=B43,$DE$53=B43,$DX$53=B43,$EA$53=B43,$CF$79=B43,$CI$79=B43,$DB$79=B43,$DE$79=B43,$DX$79=B43,$EA$79=B43,$ET$1=B43,$EW$1=B43,$FP$1=B43,$FS$1=B43,$GL$1=B43,$GO$1=B43,$ET$27=B43,$EW$27=B43,$FP$27=B43,$FS$27=B43,$GL$27=B43,$GO$27=B43,$ET$53=B43,$EW$53=B43,$FP$53=B43,$FS$53=B43,$GL$53=B43,$GO$53=B43,$ET$79=B43,$EW$79=B43,$FP$79=B43,$FS$79=B43,$GL$79=B43,$GO$79=B43),1,0) -> 0
B45: 7 | E45: 1 | L45: Giroudin | AB45: Bryan | BQ45: =IF(OR($CF$1=B45,$CI$1=B45,$DB$1=B45,$DE$1=B45,$DX$1=B45,$EA$1=B45,$CF$27=B45,$CI$27=B45,$DB$27=B45,$DE$27=B45,$DX$27=B45,$EA$27=B45,$CF$53=B45,$CI$53=B45,$DB$53=B45,$DE$53=B45,$DX$53=B45,$EA$53=B45,$CF$79=B45,$CI$79=B45,$DB$79=B45,$DE$79=B45,$DX$79=B45,$EA$79=B45,$ET$1=B45,$EW$1=B45,$FP$1=B45,$FS$1=B45,$GL$1=B45,$GO$1=B45,$ET$27=B45,$EW$27=B45,$FP$27=B45,$FS$27=B45,$GL$27=B45,$GO$27=B45,$ET$53=B45,$EW$53=B45,$FP$53=B45,$FS$53=B45,$GL$53=B45,$GO$53=B45,$ET$79=B45,$EW$79=B45,$FP$79=B45,$FS$79=B45,$GL$79=B45,$GO$79=B45),1,0) -> 0
B47: 8 | E47: 1 | L47: Jean | AB47: Jacques | BQ47: =IF(OR($CF$1=B47,$CI$1=B47,$DB$1=B47,$DE$1=B47,$DX$1=B47,$EA$1=B47,$CF$27=B47,$CI$27=B47,$DB$27=B47,$DE$27=B47,$DX$27=B47,$EA$27=B47,$CF$53=B47,$CI$53=B47,$DB$53=B47,$DE$53=B47,$DX$53=B47,$EA$53=B47,$CF$79=B47,$CI$79=B47,$DB$79=B47,$DE$79=B47,$DX$79=B47,$EA$79=B47,$ET$1=B47,$EW$1=B47,$FP$1=B47,$FS$1=B47,$GL$1=B47,$GO$1=B47,$ET$27=B47,$EW$27=B47,$FP$27=B47,$FS$27=B47,$GL$27=B47,$GO$27=B47,$ET$53=B47,$EW$53=B47,$FP$53=B47,$FS$53=B47,$GL$53=B47,$GO$53=B47,$ET$79=B47,$EW$79=B47,$FP$79=B47,$FS$79=B47,$GL$79=B47,$GO$79=B47),1,0) -> 0
B49: 9 | E49: 1 | L49: Princesse | AB49: Matilde | BQ49: =IF(OR($CF$1=B49,$CI$1=B49,$DB$1=B49,$DE$1=B49,$DX$1=B49,$EA$1=B49,$CF$27=B49,$CI$27=B49,$DB$27=B49,$DE$27=B49,$DX$27=B49,$EA$27=B49,$CF$53=B49,$CI$53=B49,$DB$53=B49,$DE$53=B49,$DX$53=B49,$EA$53=B49,$CF$79=B49,$CI$79=B49,$DB$79=B49,$DE$79=B49,$DX$79=B49,$EA$79=B49,$ET$1=B49,$EW$1=B49,$FP$1=B49,$FS$1=B49,$GL$1=B49,$GO$1=B49,$ET$27=B49,$EW$27=B49,$FP$27=B49,$FS$27=B49,$GL$27=B49,$GO$27=B49,$ET$53=B49,$EW$53=B49,$FP$53=B49,$FS$53=B49,$GL$53=B49,$GO$53=B49,$ET$79=B49,$EW$79=B49,$FP$79=B49,$FS$79=B49,$GL$79=B49,$GO$79=B49),1,0) -> 0
B51: 10 | E51: 1 | L51: Lucch | AB51: Cédric | BQ51: =IF(OR($CF$1=B51,$CI$1=B51,$DB$1=B51,$DE$1=B51,$DX$1=B51,$EA$1=B51,$CF$27=B51,$CI$27=B51,$DB$27=B51,$DE$27=B51,$DX$27=B51,$EA$27=B51,$CF$53=B51,$CI$53=B51,$DB$53=B51,$DE$53=B51,$DX$53=B51,$EA$53=B51,$CF$79=B51,$CI$79=B51,$DB$79=B51,$DE$79=B51,$DX$79=B51,$EA$79=B51,$ET$1=B51,$EW$1=B51,$FP$1=B51,$FS$1=B51,$GL$1=B51,$GO$1=B51,$ET$27=B51,$EW$27=B51,$FP$27=B51,$FS$27=B51,$GL$27=B51,$GO$27=B51,$ET$53=B51,$EW$53=B51,$FP$53=B51,$FS$53=B51,$GL$53=B51,$GO$53=B51,$ET$79=B51,$EW$79=B51,$FP$79=B51,$FS$79=B51,$GL$79=B51,$GO$79=B51),1,0) -> 0
B53: 11 | E53: 1 | L53: Nurohr | AB53: Sebastien | BQ53: =IF(OR($CF$1=B53,$CI$1=B53,$DB$1=B53,$DE$1=B53,$DX$1=B53,$EA$1=B53,$CF$27=B53,$CI$27=B53,$DB$27=B53,$DE$27=B53,$DX$27=B53,$EA$27=B53,$CF$53=B53,$CI$53=B53,$DB$53=B53,$DE$53=B53,$DX$53=B53,$EA$53=B53,$CF$79=B53,$CI$79=B53,$DB$79=B53,$DE$79=B53,$DX$79=B53,$EA$79=B53,$ET$1=B53,$EW$1=B53,$FP$1=B53,$FS$1=B53,$GL$1=B53,$GO$1=B53,$ET$27=B53,$EW$27=B53,$FP$27=B53,$FS$27=B53,$GL$27=B53,$GO$27=B53,$ET$53=B53,$EW$53=B53,$FP$53=B53,$FS$53=B53,$GL$53=B53,$GO$53=B53,$ET$79=B53,$EW$79=B53,$FP$79=B53,$FS$79=B53,$GL$79=B53,$GO$79=B53),1,0) -> 0 | CC53: T7 | CY53: T8 | DU53: T9 | EQ53: T19 | FM53: T20 | GI53: T21
B55: 12 | E55: 1 | L55: Nichinitti | AB55: Mathieu | BQ55: =IF(OR($CF$1=B55,$CI$1=B55,$DB$1=B55,$DE$1=B55,$DX$1=B55,$EA$1=B55,$CF$27=B55,$CI$27=B55,$DB$27=B55,$DE$27=B55,$DX$27=B55,$EA$27=B55,$CF$53=B55,$CI$53=B55,$DB$53=B55,$DE$53=B55,$DX$53=B55,$EA$53=B55,$CF$79=B55,$CI$79=B55,$DB$79=B55,$DE$79=B55,$DX$79=B55,$EA$79=B55,$ET$1=B55,$EW$1=B55,$FP$1=B55,$FS$1=B55,$GL$1=B55,$GO$1=B55,$ET$27=B55,$EW$27=B55,$FP$27=B55,$FS$27=B55,$GL$27=B55,$GO$27=B55,$ET$53=B55,$EW$53=B55,$FP$53=B55,$FS$53=B55,$GL$53=B55,$GO$53=B55,$ET$79=B55,$EW$79=B55,$FP$79=B55,$FS$79=B55,$GL$79=B55,$GO$79=B55),1,0) -> 0
BZ56: =IF(CF53>0,VLOOKUP(CF53,$B:$BT,11,FALSE)," ")&" "&IF(CF53>0,VLOOKUP(CF53,$B:$BT,27,FALSE)," ") | CV56: =IF(DB53>0,VLOOKUP(DB53,$B:$BT,11,FALSE)," ")&" "&IF(DB53>0,VLOOKUP(DB53,$B:$BT,27,FALSE)," ") | DR56: =IF(DX53>0,VLOOKUP(DX53,$B:$BT,11,FALSE)," ")&" "&IF(DX53>0,VLOOKUP(DX53,$B:$BT,27,FALSE)," ") | EN56: =IF(ET53>0,VLOOKUP(ET53,$B:$BT,11,FALSE)," ")&" "&IF(ET53>0,VLOOKUP(ET53,$B:$BT,27,FALSE)," ") | FJ56: =IF(FP53>0,VLOOKUP(FP53,$B:$BT,11,FALSE)," ")&" "&IF(FP53>0,VLOOKUP(FP53,$B:$BT,27,FALSE)," ") | GF56: =IF(GL53>0,VLOOKUP(GL53,$B:$BT,11,FALSE)," ")&" "&IF(GL53>0,VLOOKUP(GL53,$B:$BT,27,FALSE)," ")
B57: 13 | E57: 1 | L57: Reholtafin | AB57: Stéphane | BQ57: =IF(OR($CF$1=B57,$CI$1=B57,$DB$1=B57,$DE$1=B57,$DX$1=B57,$EA$1=B57,$CF$27=B57,$CI$27=B57,$DB$27=B57,$DE$27=B57,$DX$27=B57,$EA$27=B57,$CF$53=B57,$CI$53=B57,$DB$53=B57,$DE$53=B57,$DX$53=B57,$EA$53=B57,$CF$79=B57,$CI$79=B57,$DB$79=B57,$DE$79=B57,$DX$79=B57,$EA$79=B57,$ET$1=B57,$EW$1=B57,$FP$1=B57,$FS$1=B57,$GL$1=B57,$GO$1=B57,$ET$27=B57,$EW$27=B57,$FP$27=B57,$FS$27=B57,$GL$27=B57,$GO$27=B57,$ET$53=B57,$EW$53=B57,$FP$53=B57,$FS$53=B57,$GL$53=B57,$GO$53=B57,$ET$79=B57,$EW$79=B57,$FP$79=B57,$FS$79=B57,$GL$79=B57,$GO$79=B57),1,0) -> 0
B59: 14 | E59: 1 | L59: Rovin | AB59: Mariève | BQ59: =IF(OR($CF$1=B59,$CI$1=B59,$DB$1=B59,$DE$1=B59,$DX$1=B59,$EA$1=B59,$CF$27=B59,$CI$27=B59,$DB$27=B59,$DE$27=B59,$DX$27=B59,$EA$27=B59,$CF$53=B59,$CI$53=B59,$DB$53=B59,$DE$53=B59,$DX$53=B59,$EA$53=B59,$CF$79=B59,$CI$79=B59,$DB$79=B59,$DE$79=B59,$DX$79=B59,$EA$79=B59,$ET$1=B59,$EW$1=B59,$FP$1=B59,$FS$1=B59,$GL$1=B59,$GO$1=B59,$ET$27=B59,$EW$27=B59,$FP$27=B59,$FS$27=B59,$GL$27=B59,$GO$27=B59,$ET$53=B59,$EW$53=B59,$FP$53=B59,$FS$53=B59,$GL$53=B59,$GO$53=B59,$ET$79=B59,$EW$79=B59,$FP$79=B59,$FS$79=B59,$GL$79=B59,$GO$79=B59),1,0) -> 0
B61: 15 | E61: 1 | L61: Salamindarin | AB61: Elona | BQ61: =IF(OR($CF$1=B61,$CI$1=B61,$DB$1=B61,$DE$1=B61,$DX$1=B61,$EA$1=B61,$CF$27=B61,$CI$27=B61,$DB$27=B61,$DE$27=B61,$DX$27=B61,$EA$27=B61,$CF$53=B61,$CI$53=B61,$DB$53=B61,$DE$53=B61,$DX$53=B61,$EA$53=B61,$CF$79=B61,$CI$79=B61,$DB$79=B61,$DE$79=B61,$DX$79=B61,$EA$79=B61,$ET$1=B61,$EW$1=B61,$FP$1=B61,$FS$1=B61,$GL$1=B61,$GO$1=B61,$ET$27=B61,$EW$27=B61,$FP$27=B61,$FS$27=B61,$GL$27=B61,$GO$27=B61,$ET$53=B61,$EW$53=B61,$FP$53=B61,$FS$53=B61,$GL$53=B61,$GO$53=B61,$ET$79=B61,$EW$79=B61,$FP$79=B61,$FS$79=B61,$GL$79=B61,$GO$79=B61),1,0) -> 0
B63: 16 | E63: 1 | L63: Salamindarin | AB63: Jimmy | BQ63: =IF(OR($CF$1=B63,$CI$1=B63,$DB$1=B63,$DE$1=B63,$DX$1=B63,$EA$1=B63,$CF$27=B63,$CI$27=B63,$DB$27=B63,$DE$27=B63,$DX$27=B63,$EA$27=B63,$CF$53=B63,$CI$53=B63,$DB$53=B63,$DE$53=B63,$DX$53=B63,$EA$53=B63,$CF$79=B63,$CI$79=B63,$DB$79=B63,$DE$79=B63,$DX$79=B63,$EA$79=B63,$ET$1=B63,$EW$1=B63,$FP$1=B63,$FS$1=B63,$GL$1=B63,$GO$1=B63,$ET$27=B63,$EW$27=B63,$FP$27=B63,$FS$27=B63,$GL$27=B63,$GO$27=B63,$ET$53=B63,$EW$53=B63,$FP$53=B63,$FS$53=B63,$GL$53=B63,$GO$53=B63,$ET$79=B63,$EW$79=B63,$FP$79=B63,$FS$79=B63,$GL$79=B63,$GO$79=B63),1,0) -> 0
B65: 17 | E65: 1 | L65: Siggenager | AB65: Dann | BQ65: =IF(OR($CF$1=B65,$CI$1=B65,$DB$1=B65,$DE$1=B65,$DX$1=B65,$EA$1=B65,$CF$27=B65,$CI$27=B65,$DB$27=B65,$DE$27=B65,$DX$27=B65,$EA$27=B65,$CF$53=B65,$CI$53=B65,$DB$53=B65,$DE$53=B65,$DX$53=B65,$EA$53=B65,$CF$79=B65,$CI$79=B65,$DB$79=B65,$DE$79=B65,$DX$79=B65,$EA$79=B65,$ET$1=B65,$EW$1=B65,$FP$1=B65,$FS$1=B65,$GL$1=B65,$GO$1=B65,$ET$27=B65,$EW$27=B65,$FP$27=B65,$FS$27=B65,$GL$27=B65,$GO$27=B65,$ET$53=B65,$EW$53=B65,$FP$53=B65,$FS$53=B65,$GL$53=B65,$GO$53=B65,$ET$79=B65,$EW$79=B65,$FP$79=B65,$FS$79=B65,$GL$79=B65,$GO$79=B65),1,0) -> 0
BZ66: =IF(CI53>0,VLOOKUP(CI53,$B:$BT,11,FALSE)," ")&" "&IF(CI53>0,VLOOKUP(CI53,$B:$BT,27,FALSE)," ") | CV66: =IF(DE53>0,VLOOKUP(DE53,$B:$BT,11,FALSE)," ")&" "&IF(DE53>0,VLOOKUP(DE53,$B:$BT,27,FALSE)," ") | DR66: =IF(EA53>0,VLOOKUP(EA53,$B:$BT,11,FALSE)," ")&" "&IF(EA53>0,VLOOKUP(EA53,$B:$BT,27,FALSE)," ") | EN66: =IF(EW53>0,VLOOKUP(EW53,$B:$BT,11,FALSE)," ")&" "&IF(EW53>0,VLOOKUP(EW53,$B:$BT,27,FALSE)," ") | FJ66: =IF(FS53>0,VLOOKUP(FS53,$B:$BT,11,FALSE)," ")&" "&IF(FS53>0,VLOOKUP(FS53,$B:$BT,27,FALSE)," ") | GF66: =IF(GO53>0,VLOOKUP(GO53,$B:$BT,11,FALSE)," ")&" "&IF(GO53>0,VLOOKUP(GO53,$B:$BT,27,FALSE)," ")
B67: 18 | E67: 1 | L67: Solarha | AB67: Noam | BQ67: =IF(OR($CF$1=B67,$CI$1=B67,$DB$1=B67,$DE$1=B67,$DX$1=B67,$EA$1=B67,$CF$27=B67,$CI$27=B67,$DB$27=B67,$DE$27=B67,$DX$27=B67,$EA$27=B67,$CF$53=B67,$CI$53=B67,$DB$53=B67,$DE$53=B67,$DX$53=B67,$EA$53=B67,$CF$79=B67,$CI$79=B67,$DB$79=B67,$DE$79=B67,$DX$79=B67,$EA$79=B67,$ET$1=B67,$EW$1=B67,$FP$1=B67,$FS$1=B67,$GL$1=B67,$GO$1=B67,$ET$27=B67,$EW$27=B67,$FP$27=B67,$FS$27=B67,$GL$27=B67,$GO$27=B67,$ET$53=B67,$EW$53=B67,$FP$53=B67,$FS$53=B67,$GL$53=B67,$GO$53=B67,$ET$79=B67,$EW$79=B67,$FP$79=B67,$FS$79=B67,$GL$79=B67,$GO$79=B67),1,0) -> 0
B69: 19 | E69: 1 | L69: Zuffer | AB69: Marièle | BQ69: =IF(OR($CF$1=B69,$CI$1=B69,$DB$1=B69,$DE$1=B69,$DX$1=B69,$EA$1=B69,$CF$27=B69,$CI$27=B69,$DB$27=B69,$DE$27=B69,$DX$27=B69,$EA$27=B69,$CF$53=B69,$CI$53=B69,$DB$53=B69,$DE$53=B69,$DX$53=B69,$EA$53=B69,$CF$79=B69,$CI$79=B69,$DB$79=B69,$DE$79=B69,$DX$79=B69,$EA$79=B69,$ET$1=B69,$EW$1=B69,$FP$1=B69,$FS$1=B69,$GL$1=B69,$GO$1=B69,$ET$27=B69,$EW$27=B69,$FP$27=B69,$FS$27=B69,$GL$27=B69,$GO$27=B69,$ET$53=B69,$EW$53=B69,$FP$53=B69,$FS$53=B69,$GL$53=B69,$GO$53=B69,$ET$79=B69,$EW$79=B69,$FP$79=B69,$FS$79=B69,$GL$79=B69,$GO$79=B69),1,0) -> 0
B71: 20 | E71: 1 | BQ71: =IF(OR($CF$1=B71,$CI$1=B71,$DB$1=B71,$DE$1=B71,$DX$1=B71,$EA$1=B71,$CF$27=B71,$CI$27=B71,$DB$27=B71,$DE$27=B71,$DX$27=B71,$EA$27=B71,$CF$53=B71,$CI$53=B71,$DB$53=B71,$DE$53=B71,$DX$53=B71,$EA$53=B71,$CF$79=B71,$CI$79=B71,$DB$79=B71,$DE$79=B71,$DX$79=B71,$EA$79=B71,$ET$1=B71,$EW$1=B71,$FP$1=B71,$FS$1=B71,$GL$1=B71,$GO$1=B71,$ET$27=B71,$EW$27=B71,$FP$27=B71,$FS$27=B71,$GL$27=B71,$GO$27=B71,$ET$53=B71,$EW$53=B71,$FP$53=B71,$FS$53=B71,$GL$53=B71,$GO$53=B71,$ET$79=B71,$EW$79=B71,$FP$79=B71,$FS$79=B71,$GL$79=B71,$GO$79=B71),1,0) -> 0
B73: 21 | BQ73: =IF(OR($CF$1=B73,$CI$1=B73,$DB$1=B73,$DE$1=B73,$DX$1=B73,$EA$1=B73,$CF$27=B73,$CI$27=B73,$DB$27=B73,$DE$27=B73,$DX$27=B73,$EA$27=B73,$CF$53=B73,$CI$53=B73,$DB$53=B73,$DE$53=B73,$DX$53=B73,$EA$53=B73,$CF$79=B73,$CI$79=B73,$DB$79=B73,$DE$79=B73,$DX$79=B73,$EA$79=B73,$ET$1=B73,$EW$1=B73,$FP$1=B73,$FS$1=B73,$GL$1=B73,$GO$1=B73,$ET$27=B73,$EW$27=B73,$FP$27=B73,$FS$27=B73,$GL$27=B73,$GO$27=B73,$ET$53=B73,$EW$53=B73,$FP$53=B73,$FS$53=B73,$GL$53=B73,$GO$53=B73,$ET$79=B73,$EW$79=B73,$FP$79=B73,$FS$79=B73,$GL$79=B73,$GO$79=B73),1,0) -> 0
B75: 22 | BQ75: =IF(OR($CF$1=B75,$CI$1=B75,$DB$1=B75,$DE$1=B75,$DX$1=B75,$EA$1=B75,$CF$27=B75,$CI$27=B75,$DB$27=B75,$DE$27=B75,$DX$27=B75,$EA$27=B75,$CF$53=B75,$CI$53=B75,$DB$53=B75,$DE$53=B75,$DX$53=B75,$EA$53=B75,$CF$79=B75,$CI$79=B75,$DB$79=B75,$DE$79=B75,$DX$79=B75,$EA$79=B75,$ET$1=B75,$EW$1=B75,$FP$1=B75,$FS$1=B75,$GL$1=B75,$GO$1=B75,$ET$27=B75,$EW$27=B75,$FP$27=B75,$FS$27=B75,$GL$27=B75,$GO$27=B75,$ET$53=B75,$EW$53=B75,$FP$53=B75,$FS$53=B75,$GL$53=B75,$GO$53=B75,$ET$79=B75,$EW$79=B75,$FP$79=B75,$FS$79=B75,$GL$79=B75,$GO$79=B75),1,0) -> 0
B77: 23 | BQ77: =IF(OR($CF$1=B77,$CI$1=B77,$DB$1=B77,$DE$1=B77,$DX$1=B77,$EA$1=B77,$CF$27=B77,$CI$27=B77,$DB$27=B77,$DE$27=B77,$DX$27=B77,$EA$27=B77,$CF$53=B77,$CI$53=B77,$DB$53=B77,$DE$53=B77,$DX$53=B77,$EA$53=B77,$CF$79=B77,$CI$79=B77,$DB$79=B77,$DE$79=B77,$DX$79=B77,$EA$79=B77,$ET$1=B77,$EW$1=B77,$FP$1=B77,$FS$1=B77,$GL$1=B77,$GO$1=B77,$ET$27=B77,$EW$27=B77,$FP$27=B77,$FS$27=B77,$GL$27=B77,$GO$27=B77,$ET$53=B77,$EW$53=B77,$FP$53=B77,$FS$53=B77,$GL$53=B77,$GO$53=B77,$ET$79=B77,$EW$79=B77,$FP$79=B77,$FS$79=B77,$GL$79=B77,$GO$79=B77),1,0) -> 0
B79: 24 | BQ79: =IF(OR($CF$1=B79,$CI$1=B79,$DB$1=B79,$DE$1=B79,$DX$1=B79,$EA$1=B79,$CF$27=B79,$CI$27=B79,$DB$27=B79,$DE$27=B79,$DX$27=B79,$EA$27=B79,$CF$53=B79,$CI$53=B79,$DB$53=B79,$DE$53=B79,$DX$53=B79,$EA$53=B79,$CF$79=B79,$CI$79=B79,$DB$79=B79,$DE$79=B79,$DX$79=B79,$EA$79=B79,$ET$1=B79,$EW$1=B79,$FP$1=B79,$FS$1=B79,$GL$1=B79,$GO$1=B79,$ET$27=B79,$EW$27=B79,$FP$27=B79,$FS$27=B79,$GL$27=B79,$GO$27=B79,$ET$53=B79,$EW$53=B79,$FP$53=B79,$FS$53=B79,$GL$53=B79,$GO$53=B79,$ET$79=B79,$EW$79=B79,$FP$79=B79,$FS$79=B79,$GL$79=B79,$GO$79=B79),1,0) -> 0 | CC79: T10 | CY79: T11 | DU79: T12 | EQ79: T22 | FM79: T23 | GI79: T24
B81: 25 | BQ81: =IF(OR($CF$1=B81,$CI$1=B81,$DB$1=B81,$DE$1=B81,$DX$1=B81,$EA$1=B81,$CF$27=B81,$CI$27=B81,$DB$27=B81,$DE$27=B81,$DX$27=B81,$EA$27=B81,$CF$53=B81,$CI$53=B81,$DB$53=B81,$DE$53=B81,$DX$53=B81,$EA$53=B81,$CF$79=B81,$CI$79=B81,$DB$79=B81,$DE$79=B81,$DX$79=B81,$EA$79=B81,$ET$1=B81,$EW$1=B81,$FP$1=B81,$FS$1=B81,$GL$1=B81,$GO$1=B81,$ET$27=B81,$EW$27=B81,$FP$27=B81,$FS$27=B81,$GL$27=B81,$GO$27=B81,$ET$53=B81,$EW$53=B81,$FP$53=B81,$FS$53=B81,$GL$53=B81,$GO$53=B81,$ET$79=B81,$EW$79=B81,$FP$79=B81,$FS$79=B81,$GL$79=B81,$GO$79=B81),1,0) -> 0
BZ82: =IF(CF79>0,VLOOKUP(CF79,$B:$BT,11,FALSE)," ")&" "&IF(CF79>0,VLOOKUP(CF79,$B:$BT,27,FALSE)," ") | CV82: =IF(DB79>0,VLOOKUP(DB79,$B:$BT,11,FALSE)," ")&" "&IF(DB79>0,VLOOKUP(DB79,$B:$BT,27,FALSE)," ") | DR82: =IF(DX79>0,VLOOKUP(DX79,$B:$BT,11,FALSE)," ")&" "&IF(DX79>0,VLOOKUP(DX79,$B:$BT,27,FALSE)," ") | EN82: =IF(ET79>0,VLOOKUP(ET79,$B:$BT,11,FALSE)," ")&" "&IF(ET79>0,VLOOKUP(ET79,$B:$BT,27,FALSE)," ") | FJ82: =IF(FP79>0,VLOOKUP(FP79,$B:$BT,11,FALSE)," ")&" "&IF(FP79>0,VLOOKUP(FP79,$B:$BT,27,FALSE)," ") | GF82: =IF(GL79>0,VLOOKUP(GL79,$B:$BT,11,FALSE)," ")&" "&IF(GL79>0,VLOOKUP(GL79,$B:$BT,27,FALSE)," ")
B83: 26 | BQ83: =IF(OR($CF$1=B83,$CI$1=B83,$DB$1=B83,$DE$1=B83,$DX$1=B83,$EA$1=B83,$CF$27=B83,$CI$27=B83,$DB$27=B83,$DE$27=B83,$DX$27=B83,$EA$27=B83,$CF$53=B83,$CI$53=B83,$DB$53=B83,$DE$53=B83,$DX$53=B83,$EA$53=B83,$CF$79=B83,$CI$79=B83,$DB$79=B83,$DE$79=B83,$DX$79=B83,$EA$79=B83,$ET$1=B83,$EW$1=B83,$FP$1=B83,$FS$1=B83,$GL$1=B83,$GO$1=B83,$ET$27=B83,$EW$27=B83,$FP$27=B83,$FS$27=B83,$GL$27=B83,$GO$27=B83,$ET$53=B83,$EW$53=B83,$FP$53=B83,$FS$53=B83,$GL$53=B83,$GO$53=B83,$ET$79=B83,$EW$79=B83,$FP$79=B83,$FS$79=B83,$GL$79=B83,$GO$79=B83),1,0) -> 0
B85: 27 | BQ85: =IF(OR($CF$1=B85,$CI$1=B85,$DB$1=B85,$DE$1=B85,$DX$1=B85,$EA$1=B85,$CF$27=B85,$CI$27=B85,$DB$27=B85,$DE$27=B85,$DX$27=B85,$EA$27=B85,$CF$53=B85,$CI$53=B85,$DB$53=B85,$DE$53=B85,$DX$53=B85,$EA$53=B85,$CF$79=B85,$CI$79=B85,$DB$79=B85,$DE$79=B85,$DX$79=B85,$EA$79=B85,$ET$1=B85,$EW$1=B85,$FP$1=B85,$FS$1=B85,$GL$1=B85,$GO$1=B85,$ET$27=B85,$EW$27=B85,$FP$27=B85,$FS$27=B85,$GL$27=B85,$GO$27=B85,$ET$53=B85,$EW$53=B85,$FP$53=B85,$FS$53=B85,$GL$53=B85,$GO$53=B85,$ET$79=B85,$EW$79=B85,$FP$79=B85,$FS$79=B85,$GL$79=B85,$GO$79=B85),1,0) -> 0
B87: 28 | BQ87: =IF(OR($CF$1=B87,$CI$1=B87,$DB$1=B87,$DE$1=B87,$DX$1=B87,$EA$1=B87,$CF$27=B87,$CI$27=B87,$DB$27=B87,$DE$27=B87,$DX$27=B87,$EA$27=B87,$CF$53=B87,$CI$53=B87,$DB$53=B87,$DE$53=B87,$DX$53=B87,$EA$53=B87,$CF$79=B87,$CI$79=B87,$DB$79=B87,$DE$79=B87,$DX$79=B87,$EA$79=B87,$ET$1=B87,$EW$1=B87,$FP$1=B87,$FS$1=B87,$GL$1=B87,$GO$1=B87,$ET$27=B87,$EW$27=B87,$FP$27=B87,$FS$27=B87,$GL$27=B87,$GO$27=B87,$ET$53=B87,$EW$53=B87,$FP$53=B87,$FS$53=B87,$GL$53=B87,$GO$53=B87,$ET$79=B87,$EW$79=B87,$FP$79=B87,$FS$79=B87,$GL$79=B87,$GO$79=B87),1,0) -> 0
B89: 29 | BQ89: =IF(OR($CF$1=B89,$CI$1=B89,$DB$1=B89,$DE$1=B89,$DX$1=B89,$EA$1=B89,$CF$27=B89,$CI$27=B89,$DB$27=B89,$DE$27=B89,$DX$27=B89,$EA$27=B89,$CF$53=B89,$CI$53=B89,$DB$53=B89,$DE$53=B89,$DX$53=B89,$EA$53=B89,$CF$79=B89,$CI$79=B89,$DB$79=B89,$DE$79=B89,$DX$79=B89,$EA$79=B89,$ET$1=B89,$EW$1=B89,$FP$1=B89,$FS$1=B89,$GL$1=B89,$GO$1=B89,$ET$27=B89,$EW$27=B89,$FP$27=B89,$FS$27=B89,$GL$27=B89,$GO$27=B89,$ET$53=B89,$EW$53=B89,$FP$53=B89,$FS$53=B89,$GL$53=B89,$GO$53=B89,$ET$79=B89,$EW$79=B89,$FP$79=B89,$FS$79=B89,$GL$79=B89,$GO$79=B89),1,0) -> 0
B91: 30 | BQ91: =IF(OR($CF$1=B91,$CI$1=B91,$DB$1=B91,$DE$1=B91,$DX$1=B91,$EA$1=B91,$CF$27=B91,$CI$27=B91,$DB$27=B91,$DE$27=B91,$DX$27=B91,$EA$27=B91,$CF$53=B91,$CI$53=B91,$DB$53=B91,$DE$53=B91,$DX$53=B91,$EA$53=B91,$CF$79=B91,$CI$79=B91,$DB$79=B91,$DE$79=B91,$DX$79=B91,$EA$79=B91,$ET$1=B91,$EW$1=B91,$FP$1=B91,$FS$1=B91,$GL$1=B91,$GO$1=B91,$ET$27=B91,$EW$27=B91,$FP$27=B91,$FS$27=B91,$GL$27=B91,$GO$27=B91,$ET$53=B91,$EW$53=B91,$FP$53=B91,$FS$53=B91,$GL$53=B91,$GO$53=B91,$ET$79=B91,$EW$79=B91,$FP$79=B91,$FS$79=B91,$GL$79=B91,$GO$79=B91),1,0) -> 0
BZ92: =IF(CI79>0,VLOOKUP(CI79,$B:$BT,11,FALSE)," ")&" "&IF(CI79>0,VLOOKUP(CI79,$B:$BT,27,FALSE)," ") | CV92: =IF(DE79>0,VLOOKUP(DE79,$B:$BT,11,FALSE)," ")&" "&IF(DE79>0,VLOOKUP(DE79,$B:$BT,27,FALSE)," ") | DR92: =IF(EA79>0,VLOOKUP(EA79,$B:$BT,11,FALSE)," ")&" "&IF(EA79>0,VLOOKUP(EA79,$B:$BT,27,FALSE)," ") | EN92: =IF(EW79>0,VLOOKUP(EW79,$B:$BT,11,FALSE)," ")&" "&IF(EW79>0,VLOOKUP(EW79,$B:$BT,27,FALSE)," ") | FJ92: =IF(FS79>0,VLOOKUP(FS79,$B:$BT,11,FALSE)," ")&" "&IF(FS79>0,VLOOKUP(FS79,$B:$BT,27,FALSE)," ") | GF92: =IF(GO79>0,VLOOKUP(GO79,$B:$BT,11,FALSE)," ")&" "&IF(GO79>0,VLOOKUP(GO79,$B:$BT,27,FALSE)," ")
B93: 31 | BQ93: =IF(OR($CF$1=B93,$CI$1=B93,$DB$1=B93,$DE$1=B93,$DX$1=B93,$EA$1=B93,$CF$27=B93,$CI$27=B93,$DB$27=B93,$DE$27=B93,$DX$27=B93,$EA$27=B93,$CF$53=B93,$CI$53=B93,$DB$53=B93,$DE$53=B93,$DX$53=B93,$EA$53=B93,$CF$79=B93,$CI$79=B93,$DB$79=B93,$DE$79=B93,$DX$79=B93,$EA$79=B93,$ET$1=B93,$EW$1=B93,$FP$1=B93,$FS$1=B93,$GL$1=B93,$GO$1=B93,$ET$27=B93,$EW$27=B93,$FP$27=B93,$FS$27=B93,$GL$27=B93,$GO$27=B93,$ET$53=B93,$EW$53=B93,$FP$53=B93,$FS$53=B93,$GL$53=B93,$GO$53=B93,$ET$79=B93,$EW$79=B93,$FP$79=B93,$FS$79=B93,$GL$79=B93,$GO$79=B93),1,0) -> 0
B95: 32 | BQ95: =IF(OR($CF$1=B95,$CI$1=B95,$DB$1=B95,$DE$1=B95,$DX$1=B95,$EA$1=B95,$CF$27=B95,$CI$27=B95,$DB$27=B95,$DE$27=B95,$DX$27=B95,$EA$27=B95,$CF$53=B95,$CI$53=B95,$DB$53=B95,$DE$53=B95,$DX$53=B95,$EA$53=B95,$CF$79=B95,$CI$79=B95,$DB$79=B95,$DE$79=B95,$DX$79=B95,$EA$79=B95,$ET$1=B95,$EW$1=B95,$FP$1=B95,$FS$1=B95,$GL$1=B95,$GO$1=B95,$ET$27=B95,$EW$27=B95,$FP$27=B95,$FS$27=B95,$GL$27=B95,$GO$27=B95,$ET$53=B95,$EW$53=B95,$FP$53=B95,$FS$53=B95,$GL$53=B95,$GO$53=B95,$ET$79=B95,$EW$79=B95,$FP$79=B95,$FS$79=B95,$GL$79=B95,$GO$79=B95),1,0) -> 0
B98: Participants : | Q98: =COUNTA(E33:K96,E103:K200,E204:K297) -> 20 | V98: Genre de tournoi : | AG98: ='[3]Info générale'!B2 -> Tournoi de Classement
B103: 33 | BQ103: =IF(OR($CF$1=B103,$CI$1=B103,$DB$1=B103,$DE$1=B103,$DX$1=B103,$EA$1=B103,$CF$27=B103,$CI$27=B103,$DB$27=B103,$DE$27=B103,$DX$27=B103,$EA$27=B103,$CF$53=B103,$CI$53=B103,$DB$53=B103,$DE$53=B103,$DX$53=B103,$EA$53=B103,$CF$79=B103,$CI$79=B103,$DB$79=B103,$DE$79=B103,$DX$79=B103,$EA$79=B103,$ET$1=B103,$EW$1=B103,$FP$1=B103,$FS$1=B103,$GL$1=B103,$GO$1=B103,$ET$27=B103,$EW$27=B103,$FP$27=B103,$FS$27=B103,$GL$27=B103,$GO$27=B103,$ET$53=B103,$EW$53=B103,$FP$53=B103,$FS$53=B103,$GL$53=B103,$GO$53=B103,$ET$79=B103,$EW$79=B103,$FP$79=B103,$FS$79=B103,$GL$79=B103,$GO$79=B103),1,0) -> 0
B105: 34 | BQ105: =IF(OR($CF$1=B105,$CI$1=B105,$DB$1=B105,$DE$1=B105,$DX$1=B105,$EA$1=B105,$CF$27=B105,$CI$27=B105,$DB$27=B105,$DE$27=B105,$DX$27=B105,$EA$27=B105,$CF$53=B105,$CI$53=B105,$DB$53=B105,$DE$53=B105,$DX$53=B105,$EA$53=B105,$CF$79=B105,$CI$79=B105,$DB$79=B105,$DE$79=B105,$DX$79=B105,$EA$79=B105,$ET$1=B105,$EW$1=B105,$FP$1=B105,$FS$1=B105,$GL$1=B105,$GO$1=B105,$ET$27=B105,$EW$27=B105,$FP$27=B105,$FS$27=B105,$GL$27=B105,$GO$27=B105,$ET$53=B105,$EW$53=B105,$FP$53=B105,$FS$53=B105,$GL$53=B105,$GO$53=B105,$ET$79=B105,$EW$79=B105,$FP$79=B105,$FS$79=B105,$GL$79=B105,$GO$79=B105),1,0) -> 0
B107: 35 | BQ107: =IF(OR($CF$1=B107,$CI$1=B107,$DB$1=B107,$DE$1=B107,$DX$1=B107,$EA$1=B107,$CF$27=B107,$CI$27=B107,$DB$27=B107,$DE$27=B107,$DX$27=B107,$EA$27=B107,$CF$53=B107,$CI$53=B107,$DB$53=B107,$DE$53=B107,$DX$53=B107,$EA$53=B107,$CF$79=B107,$CI$79=B107,$DB$79=B107,$DE$79=B107,$DX$79=B107,$EA$79=B107,$ET$1=B107,$EW$1=B107,$FP$1=B107,$FS$1=B107,$GL$1=B107,$GO$1=B107,$ET$27=B107,$EW$27=B107,$FP$27=B107,$FS$27=B107,$GL$27=B107,$GO$27=B107,$ET$53=B107,$EW$53=B107,$FP$53=B107,$FS$53=B107,$GL$53=B107,$GO$53=B107,$ET$79=B107,$EW$79=B107,$FP$79=B107,$FS$79=B107,$GL$79=B107,$GO$79=B107),1,0) -> 0
B109: 36 | BQ109: =IF(OR($CF$1=B109,$CI$1=B109,$DB$1=B109,$DE$1=B109,$DX$1=B109,$EA$1=B109,$CF$27=B109,$CI$27=B109,$DB$27=B109,$DE$27=B109,$DX$27=B109,$EA$27=B109,$CF$53=B109,$CI$53=B109,$DB$53=B109,$DE$53=B109,$DX$53=B109,$EA$53=B109,$CF$79=B109,$CI$79=B109,$DB$79=B109,$DE$79=B109,$DX$79=B109,$EA$79=B109,$ET$1=B109,$EW$1=B109,$FP$1=B109,$FS$1=B109,$GL$1=B109,$GO$1=B109,$ET$27=B109,$EW$27=B109,$FP$27=B109,$FS$27=B109,$GL$27=B109,$GO$27=B109,$ET$53=B109,$EW$53=B109,$FP$53=B109,$FS$53=B109,$GL$53=B109,$GO$53=B109,$ET$79=B109,$EW$79=B109,$FP$79=B109,$FS$79=B109,$GL$79=B109,$GO$79=B109),1,0) -> 0
B111: 37 | BQ111: =IF(OR($CF$1=B111,$CI$1=B111,$DB$1=B111,$DE$1=B111,$DX$1=B111,$EA$1=B111,$CF$27=B111,$CI$27=B111,$DB$27=B111,$DE$27=B111,$DX$27=B111,$EA$27=B111,$CF$53=B111,$CI$53=B111,$DB$53=B111,$DE$53=B111,$DX$53=B111,$EA$53=B111,$CF$79=B111,$CI$79=B111,$DB$79=B111,$DE$79=B111,$DX$79=B111,$EA$79=B111,$ET$1=B111,$EW$1=B111,$FP$1=B111,$FS$1=B111,$GL$1=B111,$GO$1=B111,$ET$27=B111,$EW$27=B111,$FP$27=B111,$FS$27=B111,$GL$27=B111,$GO$27=B111,$ET$53=B111,$EW$53=B111,$FP$53=B111,$FS$53=B111,$GL$53=B111,$GO$53=B111,$ET$79=B111,$EW$79=B111,$FP$79=B111,$FS$79=B111,$GL$79=B111,$GO$79=B111),1,0) -> 0
B113: 38 | BQ113: =IF(OR($CF$1=B113,$CI$1=B113,$DB$1=B113,$DE$1=B113,$DX$1=B113,$EA$1=B113,$CF$27=B113,$CI$27=B113,$DB$27=B113,$DE$27=B113,$DX$27=B113,$EA$27=B113,$CF$53=B113,$CI$53=B113,$DB$53=B113,$DE$53=B113,$DX$53=B113,$EA$53=B113,$CF$79=B113,$CI$79=B113,$DB$79=B113,$DE$79=B113,$DX$79=B113,$EA$79=B113,$ET$1=B113,$EW$1=B113,$FP$1=B113,$FS$1=B113,$GL$1=B113,$GO$1=B113,$ET$27=B113,$EW$27=B113,$FP$27=B113,$FS$27=B113,$GL$27=B113,$GO$27=B113,$ET$53=B113,$EW$53=B113,$FP$53=B113,$FS$53=B113,$GL$53=B113,$GO$53=B113,$ET$79=B113,$EW$79=B113,$FP$79=B113,$FS$79=B113,$GL$79=B113,$GO$79=B113),1,0) -> 0
B115: 39 | BQ115: =IF(OR($CF$1=B115,$CI$1=B115,$DB$1=B115,$DE$1=B115,$DX$1=B115,$EA$1=B115,$CF$27=B115,$CI$27=B115,$DB$27=B115,$DE$27=B115,$DX$27=B115,$EA$27=B115,$CF$53=B115,$CI$53=B115,$DB$53=B115,$DE$53=B115,$DX$53=B115,$EA$53=B115,$CF$79=B115,$CI$79=B115,$DB$79=B115,$DE$79=B115,$DX$79=B115,$EA$79=B115,$ET$1=B115,$EW$1=B115,$FP$1=B115,$FS$1=B115,$GL$1=B115,$GO$1=B115,$ET$27=B115,$EW$27=B115,$FP$27=B115,$FS$27=B115,$GL$27=B115,$GO$27=B115,$ET$53=B115,$EW$53=B115,$FP$53=B115,$FS$53=B115,$GL$53=B115,$GO$53=B115,$ET$79=B115,$EW$79=B115,$FP$79=B115,$FS$79=B115,$GL$79=B115,$GO$79=B115),1,0) -> 0
B117: 40 | BQ117: =IF(OR($CF$1=B117,$CI$1=B117,$DB$1=B117,$DE$1=B117,$DX$1=B117,$EA$1=B117,$CF$27=B117,$CI$27=B117,$DB$27=B117,$DE$27=B117,$DX$27=B117,$EA$27=B117,$CF$53=B117,$CI$53=B117,$DB$53=B117,$DE$53=B117,$DX$53=B117,$EA$53=B117,$CF$79=B117,$CI$79=B117,$DB$79=B117,$DE$79=B117,$DX$79=B117,$EA$79=B117,$ET$1=B117,$EW$1=B117,$FP$1=B117,$FS$1=B117,$GL$1=B117,$GO$1=B117,$ET$27=B117,$EW$27=B117,$FP$27=B117,$FS$27=B117,$GL$27=B117,$GO$27=B117,$ET$53=B117,$EW$53=B117,$FP$53=B117,$FS$53=B117,$GL$53=B117,$GO$53=B117,$ET$79=B117,$EW$79=B117,$FP$79=B117,$FS$79=B117,$GL$79=B117,$GO$79=B117),1,0) -> 0
B119: 41 | BQ119: =IF(OR($CF$1=B119,$CI$1=B119,$DB$1=B119,$DE$1=B119,$DX$1=B119,$EA$1=B119,$CF$27=B119,$CI$27=B119,$DB$27=B119,$DE$27=B119,$DX$27=B119,$EA$27=B119,$CF$53=B119,$CI$53=B119,$DB$53=B119,$DE$53=B119,$DX$53=B119,$EA$53=B119,$CF$79=B119,$CI$79=B119,$DB$79=B119,$DE$79=B119,$DX$79=B119,$EA$79=B119,$ET$1=B119,$EW$1=B119,$FP$1=B119,$FS$1=B119,$GL$1=B119,$GO$1=B119,$ET$27=B119,$EW$27=B119,$FP$27=B119,$FS$27=B119,$GL$27=B119,$GO$27=B119,$ET$53=B119,$EW$53=B119,$FP$53=B119,$FS$53=B119,$GL$53=B119,$GO$53=B119,$ET$79=B119,$EW$79=B119,$FP$79=B119,$FS$79=B119,$GL$79=B119,$GO$79=B119),1,0) -> 0
B121: 42 | BQ121: =IF(OR($CF$1=B121,$CI$1=B121,$DB$1=B121,$DE$1=B121,$DX$1=B121,$EA$1=B121,$CF$27=B121,$CI$27=B121,$DB$27=B121,$DE$27=B121,$DX$27=B121,$EA$27=B121,$CF$53=B121,$CI$53=B121,$DB$53=B121,$DE$53=B121,$DX$53=B121,$EA$53=B121,$CF$79=B121,$CI$79=B121,$DB$79=B121,$DE$79=B121,$DX$79=B121,$EA$79=B121,$ET$1=B121,$EW$1=B121,$FP$1=B121,$FS$1=B121,$GL$1=B121,$GO$1=B121,$ET$27=B121,$EW$27=B121,$FP$27=B121,$FS$27=B121,$GL$27=B121,$GO$27=B121,$ET$53=B121,$EW$53=B121,$FP$53=B121,$FS$53=B121,$GL$53=B121,$GO$53=B121,$ET$79=B121,$EW$79=B121,$FP$79=B121,$FS$79=B121,$GL$79=B121,$GO$79=B121),1,0) -> 0
B123: 43 | BQ123: =IF(OR($CF$1=B123,$CI$1=B123,$DB$1=B123,$DE$1=B123,$DX$1=B123,$EA$1=B123,$CF$27=B123,$CI$27=B123,$DB$27=B123,$DE$27=B123,$DX$27=B123,$EA$27=B123,$CF$53=B123,$CI$53=B123,$DB$53=B123,$DE$53=B123,$DX$53=B123,$EA$53=B123,$CF$79=B123,$CI$79=B123,$DB$79=B123,$DE$79=B123,$DX$79=B123,$EA$79=B123,$ET$1=B123,$EW$1=B123,$FP$1=B123,$FS$1=B123,$GL$1=B123,$GO$1=B123,$ET$27=B123,$EW$27=B123,$FP$27=B123,$FS$27=B123,$GL$27=B123,$GO$27=B123,$ET$53=B123,$EW$53=B123,$FP$53=B123,$FS$53=B123,$GL$53=B123,$GO$53=B123,$ET$79=B123,$EW$79=B123,$FP$79=B123,$FS$79=B123,$GL$79=B123,$GO$79=B123),1,0) -> 0
B125: 44 | BQ125: =IF(OR($CF$1=B125,$CI$1=B125,$DB$1=B125,$DE$1=B125,$DX$1=B125,$EA$1=B125,$CF$27=B125,$CI$27=B125,$DB$27=B125,$DE$27=B125,$DX$27=B125,$EA$27=B125,$CF$53=B125,$CI$53=B125,$DB$53=B125,$DE$53=B125,$DX$53=B125,$EA$53=B125,$CF$79=B125,$CI$79=B125,$DB$79=B125,$DE$79=B125,$DX$79=B125,$EA$79=B125,$ET$1=B125,$EW$1=B125,$FP$1=B125,$FS$1=B125,$GL$1=B125,$GO$1=B125,$ET$27=B125,$EW$27=B125,$FP$27=B125,$FS$27=B125,$GL$27=B125,$GO$27=B125,$ET$53=B125,$EW$53=B125,$FP$53=B125,$FS$53=B125,$GL$53=B125,$GO$53=B125,$ET$79=B125,$EW$79=B125,$FP$79=B125,$FS$79=B125,$GL$79=B125,$GO$79=B125),1,0) -> 0
... B296: 128 | BQ296: =IF(OR($CF$1=B296,$CI$1=B296,$DB$1=B296,$DE$1=B296,$DX$1=B296,$EA$1=B296,$CF$27=B296,$CI$27=B296,$DB$27=B296,$DE$27=B296,$DX$27=B296,$EA$27=B296,$CF$53=B296,$CI$53=B296,$DB$53=B296,$DE$53=B296,$DX$53=B296,$EA$53=B296,$CF$79=B296,$CI$79=B296,$DB$79=B296,$DE$79=B296,$DX$79=B296,$EA$79=B296,$ET$1=B296,$EW$1=B296,$FP$1=B296,$FS$1=B296,$GL$1=B296,$GO$1=B296,$ET$27=B296,$EW$27=B296,$FP$27=B296,$FS$27=B296,$GL$27=B296,$GO$27=B296,$ET$53=B296,$EW$53=B296,$FP$53=B296,$FS$53=B296,$GL$53=B296,$GO$53=B296,$ET$79=B296,$EW$79=B296,$FP$79=B296,$FS$79=B296,$GL$79=B296,$GO$79=B296),1,0) -> 0

Sheet Classements 128 j
A1: Remplacer les lettres suivantes par le nombre de participants :
A3: E | C3: I | E3: K | G3: P | I3: R | K3: T | M3: Y
A5: Exemple : | G5: $T$264 = 128 joueurs | S5: $T$136 = 64 joueurs | AE5: $T$72 = 32 joueurs | AQ5: $T$40 = 16 joueurs
CD6: Cl | CH6: Nom / Prénom | CU6: N°
AE8: Points | AL8: Sets | AS8: Match | AZ8: Rang
E10: =IFERROR(IF(BP10="","-",RANK(S10,$S$10:$T$264,0)+RANK(Q10,$Q$10:$R$264,0)%+RANK(O10,$O$10:$P$264,0)%%+ROW()%%%),"-") -> 1.02011 | J10: =IFERROR(IF(E10="","",RANK(E10,$E$10:$I$264,1)),"-") -> 2 | K10: =BP10 -> Rovin Mariève | O10: =SUM(AE10-AI10) -> 63 | Q10: =SUM(AL10-AP10) -> 7 | S10: =SUM(AS10-AW10) -> 4 | U10: =IFERROR(SMALL($E$10:$I$264,1),0) -> 1.010414 | Z10: =IFERROR(IF(U10="","",RANK(U10,$U$10:$Y$264,1)),0) -> 1 | AA10: =IFERROR(INDEX($K$10:$K$264,MATCH(U10,$E$10:$E$264,0),1),0) -> Solarha Noam | AE10: 99 | AH10: : | AI10: 36 | AL10: 8 | AO10: : | AP10: 1 | AS10: 4 | AV10: : | AW10: 0 | AZ10: =IFERROR(IF(E10="","",RANK(E10,$E$10:$I$264,1)),0) -> 2 | BE10: 14 | BH10: Participant 1 | BP10: =IF(BE10>0,VLOOKUP(BE10,'Infos joueurs'!$B:$BT,11,FALSE)," ")&" "&IF(BE10>0,VLOOKUP(BE10,'Infos joueurs'!$B:$BT,27,FALSE)," ") -> Rovin Mariève | CD10: 1 | CH10: =AA10 -> Solarha Noam | CU10: =IFERROR(INDEX($BE$10:$BE$269,MATCH(CH10,$BP$10:$BP$269,0)),0) -> 18
E12: =IFERROR(IF(BP12="","-",RANK(S12,$S$10:$T$264,0)+RANK(Q12,$Q$10:$R$264,0)%+RANK(O12,$O$10:$P$264,0)%%+ROW()%%%),"-") -> 1.020612 | J12: =IFERROR(IF(E12="","",RANK(E12,$E$10:$I$264,1)),"-") -> 4 | K12: =BP12 -> Siggenager Dann | O12: =SUM(AE12-AI12) -> 25 | Q12: =SUM(AL12-AP12) -> 7 | S12: =SUM(AS12-AW12) -> 4 | U12: =IFERROR(SMALL($E$10:$I$264,2),0) -> 1.02011 | Z12: =IFERROR(IF(U12="","",RANK(U12,$U$10:$Y$264,1)),0) -> 2 | AA12: =IFERROR(INDEX($K$10:$K$264,MATCH(U12,$E$10:$E$264,0),1),0) -> Rovin Mariève | AE12: 98 | AH12: : | AI12: 73 | AL12: 8 | AO12: : | AP12: 1 | AS12: 4 | AV12: : | AW12: 0 | AZ12: =IFERROR(IF(E12="","",RANK(E12,$E$10:$I$264,1)),0) -> 4 | BE12: 17 | BH12: Participant 2 | BP12: =IF(BE12>0,VLOOKUP(BE12,'Infos joueurs'!$B:$BT,11,FALSE)," ")&" "&IF(BE12>0,VLOOKUP(BE12,'Infos joueurs'!$B:$BT,27,FALSE)," ") -> Siggenager Dann | CD12: 2 | CH12: =AA12 -> Rovin Mariève | CU12: =IFERROR(INDEX($BE$10:$BE$269,MATCH(CH12,$BP$10:$BP$269,0)),0) -> 14
E14: =IFERROR(IF(BP14="","-",RANK(S14,$S$10:$T$264,0)+RANK(Q14,$Q$10:$R$264,0)%+RANK(O14,$O$10:$P$264,0)%%+ROW()%%%),"-") -> 1.010414 | J14: =IFERROR(IF(E14="","",RANK(E14,$E$10:$I$264,1)),"-") -> 1 | K14: =BP14 -> Solarha Noam | O14: =SUM(AE14-AI14) -> 42 | Q14: =SUM(AL14-AP14) -> 9 | S14: =SUM(AS14-AW14) -> 4 | U14: =IFERROR(SMALL($E$10:$I$264,3),0) -> 1.020516 | Z14: =IFERROR(IF(U14="","",RANK(U14,$U$10:$Y$264,1)),0) -> 3 | AA14: =IFERROR(INDEX($K$10:$K$264,MATCH(U14,$E$10:$E$264,0),1),0) -> Giroudin Quentin | AE14: 123 | AH14: : | AI14: 81 | AL14: 10 | AO14: : | AP14: 1 | AS14: 4 | AV14: : | AW14: 0 | AZ14: =IFERROR(IF(E14="","",RANK(E14,$E$10:$I$264,1)),0) -> 1 | BE14: 18 | BH14: Participant 3 | BP14: =IF(BE14>0,VLOOKUP(BE14,'Infos joueurs'!$B:$BT,11,FALSE)," ")&" "&IF(BE14>0,VLOOKUP(BE14,'Infos joueurs'!$B:$BT,27,FALSE)," ") -> Solarha Noam | CD14: 3 | CH14: =AA14 -> Giroudin Quentin | CU14: =IFERROR(INDEX($BE$10:$BE$269,MATCH(CH14,$BP$10:$BP$269,0)),0) -> 6
E16: =IFERROR(IF(BP16="","-",RANK(S16,$S$10:$T$264,0)+RANK(Q16,$Q$10:$R$264,0)%+RANK(O16,$O$10:$P$264,0)%%+ROW()%%%),"-") -> 1.020516 | J16: =IFERROR(IF(E16="","",RANK(E16,$E$10:$I$264,1)),"-") -> 3 | K16: =BP16 -> Giroudin Quentin | O16: =SUM(AE16-AI16) -> 34 | Q16: =SUM(AL16-AP16) -> 7 | S16: =SUM(AS16-AW16) -> 4 | U16: =IFERROR(SMALL($E$10:$I$264,4),0) -> 1.020612 | Z16: =IFERROR(IF(U16="","",RANK(U16,$U$10:$Y$264,1)),0) -> 4 | AA16: =IFERROR(INDEX($K$10:$K$264,MATCH(U16,$E$10:$E$264,0),1),0) -> Siggenager Dann | AE16: 91 | AH16: : | AI16: 57 | AL16: 8 | AO16: : | AP16: 1 | AS16: 4 | AV16: : | AW16: 0 | AZ16: =IFERROR(IF(E16="","",RANK(E16,$E$10:$I$264,1)),0) -> 3 | BE16: 6 | BH16: Participant 4 | BP16: =IF(BE16>0,VLOOKUP(BE16,'Infos joueurs'!$B:$BT,11,FALSE)," ")&" "&IF(BE16>0,VLOOKUP(BE16,'Infos joueurs'!$B:$BT,27,FALSE)," ") -> Giroudin Quentin | CD16: 4 | CH16: =AA16 -> Siggenager Dann | CU16: =IFERROR(INDEX($BE$10:$BE$269,MATCH(CH16,$BP$10:$BP$269,0)),0) -> 17
E18: =IFERROR(IF(BP18="","-",RANK(S18,$S$10:$T$264,0)+RANK(Q18,$Q$10:$R$264,0)%+RANK(O18,$O$10:$P$264,0)%%+ROW()%%%),"-") -> 5.050218 | J18: =IFERROR(IF(E18="","",RANK(E18,$E$10:$I$264,1)),"-") -> 5 | K18: =BP18 -> Nurohr Sebastien | O18: =SUM(AE18-AI18) -> 44 | Q18: =SUM(AL18-AP18) -> 5 | S18: =SUM(AS18-AW18) -> 2 | U18: =IFERROR(SMALL($E$10:$I$264,5),0) -> 5.050218 | Z18: =IFERROR(IF(U18="","",RANK(U18,$U$10:$Y$264,1)),0) -> 5 | AA18: =IFERROR(INDEX($K$10:$K$264,MATCH(U18,$E$10:$E$264,0),1),0) -> Nurohr Sebastien | AE18: 91 | AH18: : | AI18: 47 | AL18: 7 | AO18: : | AP18: 2 | AS18: 3 | AV18: : | AW18: 1 | AZ18: =IFERROR(IF(E18="","",RANK(E18,$E$10:$I$264,1)),0) -> 5 | BE18: 11 | BH18: Participant 5 | BP18: =IF(BE18>0,VLOOKUP(BE18,'Infos joueurs'!$B:$BT,11,FALSE)," ")&" "&IF(BE18>0,VLOOKUP(BE18,'Infos joueurs'!$B:$BT,27,FALSE)," ") -> Nurohr Sebastien | CD18: 5 | CH18: =AA18 -> Nurohr Sebastien | CU18: =IFERROR(INDEX($BE$10:$BE$269,MATCH(CH18,$BP$10:$BP$269,0)),0) -> 11
E20: =IFERROR(IF(BP20="","-",RANK(S20,$S$10:$T$264,0)+RANK(Q20,$Q$10:$R$264,0)%+RANK(O20,$O$10:$P$264,0)%%+ROW()%%%),"-") -> 5.07082 | J20: =IFERROR(IF(E20="","",RANK(E20,$E$10:$I$264,1)),"-") -> 8 | K20: =BP20 -> Reholtafin Stéphane | O20: =SUM(AE20-AI20) -> 20 | Q20: =SUM(AL20-AP20) -> 4 | S20: =SUM(AS20-AW20) -> 2 | U20: =IFERROR(SMALL($E$10:$I$264,6),0) -> 5.050722 | Z20: =IFERROR(IF(U20="","",RANK(U20,$U$10:$Y$264,1)),0) -> 6 | AA20: =IFERROR(INDEX($K$10:$K$264,MATCH(U20,$E$10:$E$264,0),1),0) -> Salamindarin Jimmy | AE20: 103 | AH20: : | AI20: 83 | AL20: 7 | AO20: : | AP20: 3 | AS20: 3 | AV20: : | AW20: 1 | AZ20: =IFERROR(IF(E20="","",RANK(E20,$E$10:$I$264,1)),0) -> 8 | BE20: 13 | BH20: Participant 6 | BP20: =IF(BE20>0,VLOOKUP(BE20,'Infos joueurs'!$B:$BT,11,FALSE)," ")&" "&IF(BE20>0,VLOOKUP(BE20,'Infos joueurs'!$B:$BT,27,FALSE)," ") -> Reholtafin Stéphane | CD20: 6 | CH20: =AA20 -> Salamindarin Jimmy | CU20: =IFERROR(INDEX($BE$10:$BE$269,MATCH(CH20,$BP$10:$BP$269,0)),0) -> 16
E22: =IFERROR(IF(BP22="","-",RANK(S22,$S$10:$T$264,0)+RANK(Q22,$Q$10:$R$264,0)%+RANK(O22,$O$10:$P$264,0)%%+ROW()%%%),"-") -> 5.050722 | J22: =IFERROR(IF(E22="","",RANK(E22,$E$10:$I$264,1)),"-") -> 6 | K22: =BP22 -> Salamindarin Jimmy | O22: =SUM(AE22-AI22) -> 22 | Q22: =SUM(AL22-AP22) -> 5 | S22: =SUM(AS22-AW22) -> 2 | U22: =IFERROR(SMALL($E$10:$I$264,7),0) -> 5.070224 | Z22: =IFERROR(IF(U22="","",RANK(U22,$U$10:$Y$264,1)),0) -> 7 | AA22: =IFERROR(INDEX($K$10:$K$264,MATCH(U22,$E$10:$E$264,0),1),0) -> Salamindarin Elona | AE22: 142 | AH22: : | AI22: 120 | AL22: 9 | AO22: : | AP22: 4 | AS22: 3 | AV22: : | AW22: 1 | AZ22: =IFERROR(IF(E22="","",RANK(E22,$E$10:$I$264,1)),0) -> 6 | BE22: 16 | BH22: Participant 7 | BP22: =IF(BE22>0,VLOOKUP(BE22,'Infos joueurs'!$B:$BT,11,FALSE)," ")&" "&IF(BE22>0,VLOOKUP(BE22,'Infos joueurs'!$B:$BT,27,FALSE)," ") -> Salamindarin Jimmy | CD22: 7 | CH22: =AA22 -> Salamindarin Elona | CU22: =IFERROR(INDEX($BE$10:$BE$269,MATCH(CH22,$BP$10:$BP$269,0)),0) -> 15
E24: =IFERROR(IF(BP24="","-",RANK(S24,$S$10:$T$264,0)+RANK(Q24,$Q$10:$R$264,0)%+RANK(O24,$O$10:$P$264,0)%%+ROW()%%%),"-") -> 5.070224 | J24: =IFERROR(IF(E24="","",RANK(E24,$E$10:$I$264,1)),"-") -> 7 | K24: =BP24 -> Salamindarin Elona | O24: =SUM(AE24-AI24) -> 44 | Q24: =SUM(AL24-AP24) -> 4 | S24: =SUM(AS24-AW24) -> 2 | U24: =IFERROR(SMALL($E$10:$I$264,8),0) -> 5.07082 | Z24: =IFERROR(IF(U24="","",RANK(U24,$U$10:$Y$264,1)),0) -> 8 | AA24: =IFERROR(INDEX($K$10:$K$264,MATCH(U24,$E$10:$E$264,0),1),0) -> Reholtafin Stéphane | AE24: 78 | AH24: : | AI24: 34 | AL24: 6 | AO24: : | AP24: 2 | AS24: 3 | AV24: : | AW24: 1 | AZ24: =IFERROR(IF(E24="","",RANK(E24,$E$10:$I$264,1)),0) -> 7 | BE24: 15 | BH24: Participant 8 | BP24: =IF(BE24>0,VLOOKUP(BE24,'Infos joueurs'!$B:$BT,11,FALSE)," ")&" "&IF(BE24>0,VLOOKUP(BE24,'Infos joueurs'!$B:$BT,27,FALSE)," ") -> Salamindarin Elona | CD24: 8 | CH24: =AA24 -> Reholtafin Stéphane | CU24: =IFERROR(INDEX($BE$10:$BE$269,MATCH(CH24,$BP$10:$BP$269,0)),0) -> 13
E26: =IFERROR(IF(BP26="","-",RANK(S26,$S$10:$T$264,0)+RANK(Q26,$Q$10:$R$264,0)%+RANK(O26,$O$10:$P$264,0)%%+ROW()%%%),"-") -> 9.101026 | J26: =IFERROR(IF(E26="","",RANK(E26,$E$10:$I$264,1)),"-") -> 10 | K26: =BP26 -> Dupond Maxime | O26: =SUM(AE26-AI26) -> 7 | Q26: =SUM(AL26-AP26) -> 0 | S26: =SUM(AS26-AW26) -> 0 | U26: =IFERROR(SMALL($E$10:$I$264,9),0) -> 9.100928 | Z26: =IFERROR(IF(U26="","",RANK(U26,$U$10:$Y$264,1)),0) -> 9 | AA26: =IFERROR(INDEX($K$10:$K$264,MATCH(U26,$E$10:$E$264,0),1),0) -> Lucch Cédric | AE26: 59 | AH26: : | AI26: 52 | AL26: 4 | AO26: : | AP26: 4 | AS26: 2 | AV26: : | AW26: 2 | AZ26: =IFERROR(IF(E26="","",RANK(E26,$E$10:$I$264,1)),0) -> 10 | BE26: 1 | BH26: Participant 9 | BP26: =IF(BE26>0,VLOOKUP(BE26,'Infos joueurs'!$B:$BT,11,FALSE)," ")&" "&IF(BE26>0,VLOOKUP(BE26,'Infos joueurs'!$B:$BT,27,FALSE)," ") -> Dupond Maxime | CD26: 9 | CH26: =AA26 -> Lucch Cédric | CU26: =IFERROR(INDEX($BE$10:$BE$269,MATCH(CH26,$BP$10:$BP$269,0)),0) -> 10
E28: =IFERROR(IF(BP28="","-",RANK(S28,$S$10:$T$264,0)+RANK(Q28,$Q$10:$R$264,0)%+RANK(O28,$O$10:$P$264,0)%%+ROW()%%%),"-") -> 9.100928 | J28: =IFERROR(IF(E28="","",RANK(E28,$E$10:$I$264,1)),"-") -> 9 | K28: =BP28 -> Lucch Cédric | O28: =SUM(AE28-AI28) -> 10 | Q28: =SUM(AL28-AP28) -> 0 | S28: =SUM(AS28-AW28) -> 0 | U28: =IFERROR(SMALL($E$10:$I$264,10),0) -> 9.101026 | Z28: =IFERROR(IF(U28="","",RANK(U28,$U$10:$Y$264,1)),0) -> 10 | AA28: =IFERROR(INDEX($K$10:$K$264,MATCH(U28,$E$10:$E$264,0),1),0) -> Dupond Maxime | AE28: 77 | AH28: : | AI28: 67 | AL28: 4 | AO28: : | AP28: 4 | AS28: 2 | AV28: : | AW28: 2 | AZ28: =IFERROR(IF(E28="","",RANK(E28,$E$10:$I$264,1)),0) -> 9 | BE28: 10 | BH28: Participant 10 | BP28: =IF(BE28>0,VLOOKUP(BE28,'Infos joueurs'!$B:$BT,11,FALSE)," ")&" "&IF(BE28>0,VLOOKUP(BE28,'Infos joueurs'!$B:$BT,27,FALSE)," ") -> Lucch Cédric | CD28: 10 | CH28: =AA28 -> Dupond Maxime | CU28: =IFERROR(INDEX($BE$10:$BE$269,MATCH(CH28,$BP$10:$BP$269,0)),0) -> 1
E30: =IFERROR(IF(BP30="","-",RANK(S30,$S$10:$T$264,0)+RANK(Q30,$Q$10:$R$264,0)%+RANK(O30,$O$10:$P$264,0)%%+ROW()%%%),"-") -> 10.20113 | J30: =IFERROR(IF(E30="","",RANK(E30,$E$10:$I$264,1)),"-") -> 119 | K30: =BP30 -> Barcals Leticia | O30: =SUM(AE30-AI30) -> 2 | Q30: =SUM(AL30-AP30) -> -2 | S30: =SUM(AS30-AW30) -> 0 | U30: =IFERROR(SMALL($E$10:$I$264,11),0) -> 9.101252 | Z30: =IFERROR(IF(U30="","",RANK(U30,$U$10:$Y$264,1)),0) -> 11 | AA30: =IFERROR(INDEX($K$10:$K$264,MATCH(U30,$E$10:$E$264,0),1),0) | AE30: 95 | AH30: : | AI30: 93 | AL30: 4 | AO30: : | AP30: 6 | AS30: 2 | AV30: : | AW30: 2 | AZ30: =IFERROR(IF(E30="","",RANK(E30,$E$10:$I$264,1)),0) -> 119 | BE30: 2 | BH30: Participant 11 | BP30: =IF(BE30>0,VLOOKUP(BE30,'Infos joueurs'!$B:$BT,11,FALSE)," ")&" "&IF(BE30>0,VLOOKUP(BE30,'Infos joueurs'!$B:$BT,27,FALSE)," ") -> Barcals Leticia | CD30: 11 | CH30: =AA30 | CU30: =IFERROR(INDEX($BE$10:$BE$269,MATCH(CH30,$BP$10:$BP$269,0)),0) -> 0
E32: =IFERROR(IF(BP32="","-",RANK(S32,$S$10:$T$264,0)+RANK(Q32,$Q$10:$R$264,0)%+RANK(O32,$O$10:$P$264,0)%%+ROW()%%%),"-") -> 9.101932 | J32: =IFERROR(IF(E32="","",RANK(E32,$E$10:$I$264,1)),"-") -> 118 | K32: =BP32 -> Giroudin Bryan | O32: =SUM(AE32-AI32) -> -2 | Q32: =SUM(AL32-AP32) -> 1 | S32: =SUM(AS32-AW32) -> 0 | U32: =IFERROR(SMALL($E$10:$I$264,12),0) -> 9.101254 | Z32: =IFERROR(IF(U32="","",RANK(U32,$U$10:$Y$264,1)),0) -> 12 | AA32: =IFERROR(INDEX($K$10:$K$264,MATCH(U32,$E$10:$E$264,0),1),0) | AE32: 73 | AH32: : | AI32: 75 | AL32: 5 | AO32: : | AP32: 4 | AS32: 2 | AV32: : | AW32: 2 | AZ32: =IFERROR(IF(E32="","",RANK(E32,$E$10:$I$264,1)),0) -> 118 | BE32: 7 | BH32: Participant 12 | BP32: =IF(BE32>0,VLOOKUP(BE32,'Infos joueurs'!$B:$BT,11,FALSE)," ")&" "&IF(BE32>0,VLOOKUP(BE32,'Infos joueurs'!$B:$BT,27,FALSE)," ") -> Giroudin Bryan | CD32: 12 | CH32: =AA32 | CU32: =IFERROR(INDEX($BE$10:$BE$269,MATCH(CH32,$BP$10:$BP$269,0)),0) -> 0
E34: =IFERROR(IF(BP34="","-",RANK(S34,$S$10:$T$264,0)+RANK(Q34,$Q$10:$R$264,0)%+RANK(O34,$O$10:$P$264,0)%%+ROW()%%%),"-") -> 121.23233 | J34: =IFERROR(IF(E34="","",RANK(E34,$E$10:$I$264,1)),"-") -> 123 | K34: =BP34 -> Nichinitti Mathieu | O34: =SUM(AE34-AI34) -> -26 | Q34: =SUM(AL34-AP34) -> -4 | S34: =SUM(AS34-AW34) -> -2 | U34: =IFERROR(SMALL($E$10:$I$264,13),0) -> 9.101256 | Z34: =IFERROR(IF(U34="","",RANK(U34,$U$10:$Y$264,1)),0) -> 13 | AA34: =IFERROR(INDEX($K$10:$K$264,MATCH(U34,$E$10:$E$264,0),1),0) | AE34: 40 | AH34: : | AI34: 66 | AL34: 2 | AO34: : | AP34: 6 | AS34: 1 | AV34: : | AW34: 3 | AZ34: =IFERROR(IF(E34="","",RANK(E34,$E$10:$I$264,1)),0) -> 123 | BE34: 12 | BH34: Participant 13 | BP34: =IF(BE34>0,VLOOKUP(BE34,'Infos joueurs'!$B:$BT,11,FALSE)," ")&" "&IF(BE34>0,VLOOKUP(BE34,'Infos joueurs'!$B:$BT,27,FALSE)," ") -> Nichinitti Mathieu | CD34: 13 | CH34: =AA34 | CU34: =IFERROR(INDEX($BE$10:$BE$269,MATCH(CH34,$BP$10:$BP$269,0)),0) -> 0
E36: =IFERROR(IF(BP36="","-",RANK(S36,$S$10:$T$264,0)+RANK(Q36,$Q$10:$R$264,0)%+RANK(O36,$O$10:$P$264,0)%%+ROW()%%%),"-") -> 121.22214 | J36: =IFERROR(IF(E36="","",RANK(E36,$E$10:$I$264,1)),"-") -> 121 | K36: =BP36 -> Giroudin Quentin | O36: =SUM(AE36-AI36) -> -16 | Q36: =SUM(AL36-AP36) -> -3 | S36: =SUM(AS36-AW36) -> -2 | U36: =IFERROR(SMALL($E$10:$I$264,14),0) -> 9.101258 | Z36: =IFERROR(IF(U36="","",RANK(U36,$U$10:$Y$264,1)),0) -> 14 | AA36: =IFERROR(INDEX($K$10:$K$264,MATCH(U36,$E$10:$E$264,0),1),0) | AE36: 68 | AH36: : | AI36: 84 | AL36: 3 | AO36: : | AP36: 6 | AS36: 1 | AV36: : | AW36: 3 | AZ36: =IFERROR(IF(E36="","",RANK(E36,$E$10:$I$264,1)),0) -> 121 | BE36: 6 | BH36: Participant 14 | BP36: =IF(BE36>0,VLOOKUP(BE36,'Infos joueurs'!$B:$BT,11,FALSE)," ")&" "&IF(BE36>0,VLOOKUP(BE36,'Infos joueurs'!$B:$BT,27,FALSE)," ") -> Giroudin Quentin | CD36: 14 | CH36: =AA36 | CU36: =IFERROR(INDEX($BE$10:$BE$269,MATCH(CH36,$BP$10:$BP$269,0)),0) -> 0
E38: =IFERROR(IF(BP38="","-",RANK(S38,$S$10:$T$264,0)+RANK(Q38,$Q$10:$R$264,0)%+RANK(O38,$O$10:$P$264,0)%%+ROW()%%%),"-") -> 120.11204 | J38: =IFERROR(IF(E38="","",RANK(E38,$E$10:$I$264,1)),"-") -> 120 | K38: =BP38 -> Bibi Joachim | O38: =SUM(AE38-AI38) -> -9 | Q38: =SUM(AL38-AP38) -> 0 | S38: =SUM(AS38-AW38) -> -2 | U38: =IFERROR(SMALL($E$10:$I$264,15),0) -> 9.10126 | Z38: =IFERROR(IF(U38="","",RANK(U38,$U$10:$Y$264,1)),0) -> 15 | AA38: =IFERROR(INDEX($K$10:$K$264,MATCH(U38,$E$10:$E$264,0),1),0) | AE38: 118 | AH38: : | AI38: 127 | AL38: 6 | AO38: : | AP38: 6 | AS38: 1 | AV38: : | AW38: 3 | AZ38: =IFERROR(IF(E38="","",RANK(E38,$E$10:$I$264,1)),0) -> 120 | BE38: 3 | BH38: Participant 15 | BP38: =IF(BE38>0,VLOOKUP(BE38,'Infos joueurs'!$B:$BT,11,FALSE)," ")&" "&IF(BE38>0,VLOOKUP(BE38,'Infos joueurs'!$B:$BT,27,FALSE)," ") -> Bibi Joachim | CD38: 15 | CH38: =AA38 | CU38: =IFERROR(INDEX($BE$10:$BE$269,MATCH(CH38,$BP$10:$BP$269,0)),0) -> 0
E40: =IFERROR(IF(BP40="","-",RANK(S40,$S$10:$T$264,0)+RANK(Q40,$Q$10:$R$264,0)%+RANK(O40,$O$10:$P$264,0)%%+ROW()%%%),"-") -> 121.23224 | J40: =IFERROR(IF(E40="","",RANK(E40,$E$10:$I$264,1)),"-") -> 122 | K40: =BP40 -> Ciffère Lois | O40: =SUM(AE40-AI40) -> -24 | Q40: =SUM(AL40-AP40) -> -4 | S40: =SUM(AS40-AW40) -> -2 | U40: =IFERROR(SMALL($E$10:$I$264,16),0) -> 9.101262 | Z40: =IFERROR(IF(U40="","",RANK(U40,$U$10:$Y$264,1)),0) -> 16 | AA40: =IFERROR(INDEX($K$10:$K$264,MATCH(U40,$E$10:$E$264,0),1),0) | AE40: 54 | AH40: : | AI40: 78 | AL40: 2 | AO40: : | AP40: 6 | AS40: 1 | AV40: : | AW40: 3 | AZ40: =IFERROR(IF(E40="","",RANK(E40,$E$10:$I$264,1)),0) -> 122 | BE40: 4 | BH40: Participant 16 | BP40: =IF(BE40>0,VLOOKUP(BE40,'Infos joueurs'!$B:$BT,11,FALSE)," ")&" "&IF(BE40>0,VLOOKUP(BE40,'Infos joueurs'!$B:$BT,27,FALSE)," ") -> Ciffère Lois | CD40: 16 | CH40: =AA40 | CU40: =IFERROR(INDEX($BE$10:$BE$269,MATCH(CH40,$BP$10:$BP$269,0)),0) -> 0
E42: =IFERROR(IF(BP42="","-",RANK(S42,$S$10:$T$264,0)+RANK(Q42,$Q$10:$R$264,0)%+RANK(O42,$O$10:$P$264,0)%%+ROW()%%%),"-") -> 126.27284 | J42: =IFERROR(IF(E42="","",RANK(E42,$E$10:$I$264,1)),"-") -> 128 | K42: =BP42 -> Giroudin Pascal | O42: =SUM(AE42-AI42) -> -88 | Q42: =SUM(AL42-AP42) -> -8 | S42: =SUM(AS42-AW42) -> -4 | U42: =IFERROR(SMALL($E$10:$I$264,17),0) -> 9.101264 | Z42: =IFERROR(IF(U42="","",RANK(U42,$U$10:$Y$264,1)),0) -> 17 | AA42: =IFERROR(INDEX($K$10:$K$264,MATCH(U42,$E$10:$E$264,0),1),0) | AE42: 0 | AH42: : | AI42: 88 | AL42: 0 | AO42: : | AP42: 8 | AS42: 0 | AV42: : | AW42: 4 | AZ42: =IFERROR(IF(E42="","",RANK(E42,$E$10:$I$264,1)),0) -> 128 | BE42: 5 | BH42: Participant 17 | BP42: =IF(BE42>0,VLOOKUP(BE42,'Infos joueurs'!$B:$BT,11,FALSE)," ")&" "&IF(BE42>0,VLOOKUP(BE42,'Infos joueurs'!$B:$BT,27,FALSE)," ") -> Giroudin Pascal | CD42: 17 | CH42: =AA42 | CU42: =IFERROR(INDEX($BE$10:$BE$269,MATCH(CH42,$BP$10:$BP$269,0)),0) -> 0
E44: =IFERROR(IF(BP44="","-",RANK(S44,$S$10:$T$264,0)+RANK(Q44,$Q$10:$R$264,0)%+RANK(O44,$O$10:$P$264,0)%%+ROW()%%%),"-") -> 126.27264 | J44: =IFERROR(IF(E44="","",RANK(E44,$E$10:$I$264,1)),"-") -> 126 | K44: =BP44 -> Zuffer Marièle | O44: =SUM(AE44-AI44) -> -39 | Q44: =SUM(AL44-AP44) -> -8 | S44: =SUM(AS44-AW44) -> -4 | U44: =IFERROR(SMALL($E$10:$I$264,18),0) -> 9.101266 | Z44: =IFERROR(IF(U44="","",RANK(U44,$U$10:$Y$264,1)),0) -> 18 | AA44: =IFERROR(INDEX($K$10:$K$264,MATCH(U44,$E$10:$E$264,0),1),0) | AE44: 50 | AH44: : | AI44: 89 | AL44: 0 | AO44: : | AP44: 8 | AS44: 0 | AV44: : | AW44: 4 | AZ44: =IFERROR(IF(E44="","",RANK(E44,$E$10:$I$264,1)),0) -> 126 | BE44: 19 | BH44: Participant 18 | BP44: =IF(BE44>0,VLOOKUP(BE44,'Infos joueurs'!$B:$BT,11,FALSE)," ")&" "&IF(BE44>0,VLOOKUP(BE44,'Infos joueurs'!$B:$BT,27,FALSE)," ") -> Zuffer Marièle | CD44: 18 | CH44: =AA44 | CU44: =IFERROR(INDEX($BE$10:$BE$269,MATCH(CH44,$BP$10:$BP$269,0)),0) -> 0
E46: =IFERROR(IF(BP46="","-",RANK(S46,$S$10:$T$264,0)+RANK(Q46,$Q$10:$R$264,0)%+RANK(O46,$O$10:$P$264,0)%%+ROW()%%%),"-") -> 121.25235 | J46: =IFERROR(IF(E46="","",RANK(E46,$E$10:$I$264,1)),"-") -> 124 | K46: =BP46 -> Jean Jacques | O46: =SUM(AE46-AI46) -> -26 | Q46: =SUM(AL46-AP46) -> -5 | S46: =SUM(AS46-AW46) -> -2 | U46: =IFERROR(SMALL($E$10:$I$264,19),0) -> 9.101268 | Z46: =IFERROR(IF(U46="","",RANK(U46,$U$10:$Y$264,1)),0) -> 19 | AA46: =IFERROR(INDEX($K$10:$K$264,MATCH(U46,$E$10:$E$264,0),1),0) | AE46: 91 | AH46: : | AI46: 117 | AL46: 3 | AO46: : | AP46: 8 | AS46: 1 | AV46: : | AW46: 3 | AZ46: =IFERROR(IF(E46="","",RANK(E46,$E$10:$I$264,1)),0) -> 124 | BE46: 8 | BH46: Participant 19 | BP46: =IF(BE46>0,VLOOKUP(BE46,'Infos joueurs'!$B:$BT,11,FALSE)," ")&" "&IF(BE46>0,VLOOKUP(BE46,'Infos joueurs'!$B:$BT,27,FALSE)," ") -> Jean Jacques | CD46: 19 | CH46: =AA46 | CU46: =IFERROR(INDEX($BE$10:$BE$269,MATCH(CH46,$BP$10:$BP$269,0)),0) -> 0
E48: =IFERROR(IF(BP48="","-",RANK(S48,$S$10:$T$264,0)+RANK(Q48,$Q$10:$R$264,0)%+RANK(O48,$O$10:$P$264,0)%%+ROW()%%%),"-") -> 126.27275 | J48: =IFERROR(IF(E48="","",RANK(E48,$E$10:$I$264,1)),"-") -> 127 | K48: =BP48 | O48: =SUM(AE48-AI48) -> -50 | Q48: =SUM(AL48-AP48) -> -8 | S48: =SUM(AS48-AW48) -> -4 | U48: =IFERROR(SMALL($E$10:$I$264,20),0) -> 9.10127 | Z48: =IFERROR(IF(U48="","",RANK(U48,$U$10:$Y$264,1)),0) -> 20 | AA48: =IFERROR(INDEX($K$10:$K$264,MATCH(U48,$E$10:$E$264,0),1),0) | AE48: 38 | AH48: : | AI48: 88 | AL48: 0 | AO48: : | AP48: 8 | AS48: 0 | AV48: : | AW48: 4 | AZ48: =IFERROR(IF(E48="","",RANK(E48,$E$10:$I$264,1)),0) -> 127 | BH48: Participant 20 | BP48: =IF(BE48>0,VLOOKUP(BE48,'Infos joueurs'!$B:$BT,11,FALSE)," ")&" "&IF(BE48>0,VLOOKUP(BE48,'Infos joueurs'!$B:$BT,27,FALSE)," ") | CD48: 20 | CH48: =AA48 | CU48: =IFERROR(INDEX($BE$10:$BE$269,MATCH(CH48,$BP$10:$BP$269,0)),0) -> 0
E50: =IFERROR(IF(BP50="","-",RANK(S50,$S$10:$T$264,0)+RANK(Q50,$Q$10:$R$264,0)%+RANK(O50,$O$10:$P$264,0)%%+ROW()%%%),"-") -> 126.26255 | J50: =IFERROR(IF(E50="","",RANK(E50,$E$10:$I$264,1)),"-") -> 125 | K50: =BP50 | O50: =SUM(AE50-AI50) -> -31 | Q50: =SUM(AL50-AP50) -> -7 | S50: =SUM(AS50-AW50) -> -4 | U50: =IFERROR(SMALL($E$10:$I$264,21),0) -> 9.101272 | Z50: =IFERROR(IF(U50="","",RANK(U50,$U$10:$Y$264,1)),0) -> 21 | AA50: =IFERROR(INDEX($K$10:$K$264,MATCH(U50,$E$10:$E$264,0),1),0) | AE50: 92 | AH50: : | AI50: 123 | AL50: 2 | AO50: : | AP50: 9 | AS50: 0 | AV50: : | AW50: 4 | AZ50: =IFERROR(IF(E50="","",RANK(E50,$E$10:$I$264,1)),0) -> 125 | BH50: Participant 21 | BP50: =IF(BE50>0,VLOOKUP(BE50,'Infos joueurs'!$B:$BT,11,FALSE)," ")&" "&IF(BE50>0,VLOOKUP(BE50,'Infos joueurs'!$B:$BT,27,FALSE)," ") | CD50: 21 | CH50: =AA50 | CU50: =IFERROR(INDEX($BE$10:$BE$269,MATCH(CH50,$BP$10:$BP$269,0)),0) -> 0
E52: =IFERROR(IF(BP52="","-",RANK(S52,$S$10:$T$264,0)+RANK(Q52,$Q$10:$R$264,0)%+RANK(O52,$O$10:$P$264,0)%%+ROW()%%%),"-") -> 9.101252 | J52: =IFERROR(IF(E52="","",RANK(E52,$E$10:$I$264,1)),"-") -> 11 | K52: =BP52 | O52: =SUM(AE52-AI52) -> 0 | Q52: =SUM(AL52-AP52) -> 0 | S52: =SUM(AS52-AW52) -> 0 | U52: =IFERROR(SMALL($E$10:$I$264,22),0) -> 9.101274 | Z52: =IFERROR(IF(U52="","",RANK(U52,$U$10:$Y$264,1)),0) -> 22 | AA52: =IFERROR(INDEX($K$10:$K$264,MATCH(U52,$E$10:$E$264,0),1),0) | AH52: : | AO52: : | AV52: : | AZ52: =IFERROR(IF(E52="","",RANK(E52,$E$10:$I$264,1)),0) -> 11 | BH52: Participant 22 | BP52: =IF(BE52>0,VLOOKUP(BE52,'Infos joueurs'!$B:$BT,11,FALSE)," ")&" "&IF(BE52>0,VLOOKUP(BE52,'Infos joueurs'!$B:$BT,27,FALSE)," ") | CD52: 22 | CH52: =AA52 | CU52: =IFERROR(INDEX($BE$10:$BE$269,MATCH(CH52,$BP$10:$BP$269,0)),0) -> 0
E54: =IFERROR(IF(BP54="","-",RANK(S54,$S$10:$T$264,0)+RANK(Q54,$Q$10:$R$264,0)%+RANK(O54,$O$10:$P$264,0)%%+ROW()%%%),"-") -> 9.101254 | J54: =IFERROR(IF(E54="","",RANK(E54,$E$10:$I$264,1)),"-") -> 12 | K54: =BP54 | O54: =SUM(AE54-AI54) -> 0 | Q54: =SUM(AL54-AP54) -> 0 | S54: =SUM(AS54-AW54) -> 0 | U54: =IFERROR(SMALL($E$10:$I$264,23),0) -> 9.101276 | Z54: =IFERROR(IF(U54="","",RANK(U54,$U$10:$Y$264,1)),0) -> 23 | AA54: =IFERROR(INDEX($K$10:$K$264,MATCH(U54,$E$10:$E$264,0),1),0) | AH54: : | AO54: : | AV54: : | AZ54: =IFERROR(IF(E54="","",RANK(E54,$E$10:$I$264,1)),0) -> 12 | BH54: Participant 23 | BP54: =IF(BE54>0,VLOOKUP(BE54,'Infos joueurs'!$B:$BT,11,FALSE)," ")&" "&IF(BE54>0,VLOOKUP(BE54,'Infos joueurs'!$B:$BT,27,FALSE)," ") | CD54: 23 | CH54: =AA54 | CU54: =IFERROR(INDEX($BE$10:$BE$269,MATCH(CH54,$BP$10:$BP$269,0)),0) -> 0
E56: =IFERROR(IF(BP56="","-",RANK(S56,$S$10:$T$264,0)+RANK(Q56,$Q$10:$R$264,0)%+RANK(O56,$O$10:$P$264,0)%%+ROW()%%%),"-") -> 9.101256 | J56: =IFERROR(IF(E56="","",RANK(E56,$E$10:$I$264,1)),"-") -> 13 | K56: =BP56 | O56: =SUM(AE56-AI56) -> 0 | Q56: =SUM(AL56-AP56) -> 0 | S56: =SUM(AS56-AW56) -> 0 | U56: =IFERROR(SMALL($E$10:$I$264,24),0) -> 9.101278 | Z56: =IFERROR(IF(U56="","",RANK(U56,$U$10:$Y$264,1)),0) -> 24 | AA56: =IFERROR(INDEX($K$10:$K$264,MATCH(U56,$E$10:$E$264,0),1),0) | AH56: : | AO56: : | AV56: : | AZ56: =IFERROR(IF(E56="","",RANK(E56,$E$10:$I$264,1)),0) -> 13 | BH56: Participant 24 | BP56: =IF(BE56>0,VLOOKUP(BE56,'Infos joueurs'!$B:$BT,11,FALSE)," ")&" "&IF(BE56>0,VLOOKUP(BE56,'Infos joueurs'!$B:$BT,27,FALSE)," ") | CD56: 24 | CH56: =AA56 | CU56: =IFERROR(INDEX($BE$10:$BE$269,MATCH(CH56,$BP$10:$BP$269,0)),0) -> 0
E58: =IFERROR(IF(BP58="","-",RANK(S58,$S$10:$T$264,0)+RANK(Q58,$Q$10:$R$264,0)%+RANK(O58,$O$10:$P$264,0)%%+ROW()%%%),"-") -> 9.101258 | J58: =IFERROR(IF(E58="","",RANK(E58,$E$10:$I$264,1)),"-") -> 14 | K58: =BP58 | O58: =SUM(AE58-AI58) -> 0 | Q58: =SUM(AL58-AP58) -> 0 | S58: =SUM(AS58-AW58) -> 0 | U58: =IFERROR(SMALL($E$10:$I$264,25),0) -> 9.10128 | Z58: =IFERROR(IF(U58="","",RANK(U58,$U$10:$Y$264,1)),0) -> 25 | AA58: =IFERROR(INDEX($K$10:$K$264,MATCH(U58,$E$10:$E$264,0),1),0) | AH58: : | AO58: : | AV58: : | AZ58: =IFERROR(IF(E58="","",RANK(E58,$E$10:$I$264,1)),0) -> 14 | BH58: Participant 25 | BP58: =IF(BE58>0,VLOOKUP(BE58,'Infos joueurs'!$B:$BT,11,FALSE)," ")&" "&IF(BE58>0,VLOOKUP(BE58,'Infos joueurs'!$B:$BT,27,FALSE)," ") | CD58: 25 | CH58: =AA58 | CU58: =IFERROR(INDEX($BE$10:$BE$269,MATCH(CH58,$BP$10:$BP$269,0)),0) -> 0
E60: =IFERROR(IF(BP60="","-",RANK(S60,$S$10:$T$264,0)+RANK(Q60,$Q$10:$R$264,0)%+RANK(O60,$O$10:$P$264,0)%%+ROW()%%%),"-") -> 9.10126 | J60: =IFERROR(IF(E60="","",RANK(E60,$E$10:$I$264,1)),"-") -> 15 | K60: =BP60 | O60: =SUM(AE60-AI60) -> 0 | Q60: =SUM(AL60-AP60) -> 0 | S60: =SUM(AS60-AW60) -> 0 | U60: =IFERROR(SMALL($E$10:$I$264,26),0) -> 9.101282 | Z60: =IFERROR(IF(U60="","",RANK(U60,$U$10:$Y$264,1)),0) -> 26 | AA60: =IFERROR(INDEX($K$10:$K$264,MATCH(U60,$E$10:$E$264,0),1),0) | AH60: : | AO60: : | AV60: : | AZ60: =IFERROR(IF(E60="","",RANK(E60,$E$10:$I$264,1)),0) -> 15 | BH60: Participant 26 | BP60: =IF(BE60>0,VLOOKUP(BE60,'Infos joueurs'!$B:$BT,11,FALSE)," ")&" "&IF(BE60>0,VLOOKUP(BE60,'Infos joueurs'!$B:$BT,27,FALSE)," ") | CD60: 26 | CH60: =AA60 | CU60: =IFERROR(INDEX($BE$10:$BE$269,MATCH(CH60,$BP$10:$BP$269,0)),0) -> 0
E62: =IFERROR(IF(BP62="","-",RANK(S62,$S$10:$T$264,0)+RANK(Q62,$Q$10:$R$264,0)%+RANK(O62,$O$10:$P$264,0)%%+ROW()%%%),"-") -> 9.101262 | J62: =IFERROR(IF(E62="","",RANK(E62,$E$10:$I$264,1)),"-") -> 16 | K62: =BP62 | O62: =SUM(AE62-AI62) -> 0 | Q62: =SUM(AL62-AP62) -> 0 | S62: =SUM(AS62-AW62) -> 0 | U62: =IFERROR(SMALL($E$10:$I$264,27),0) -> 9.101284 | Z62: =IFERROR(IF(U62="","",RANK(U62,$U$10:$Y$264,1)),0) -> 27 | AA62: =IFERROR(INDEX($K$10:$K$264,MATCH(U62,$E$10:$E$264,0),1),0) | AH62: : | AO62: : | AV62: : | AZ62: =IFERROR(IF(E62="","",RANK(E62,$E$10:$I$264,1)),0) -> 16 | BH62: Participant 27 | BP62: =IF(BE62>0,VLOOKUP(BE62,'Infos joueurs'!$B:$BT,11,FALSE)," ")&" "&IF(BE62>0,VLOOKUP(BE62,'Infos joueurs'!$B:$BT,27,FALSE)," ") | CD62: 27 | CH62: =AA62 | CU62: =IFERROR(INDEX($BE$10:$BE$269,MATCH(CH62,$BP$10:$BP$269,0)),0) -> 0
E64: =IFERROR(IF(BP64="","-",RANK(S64,$S$10:$T$264,0)+RANK(Q64,$Q$10:$R$264,0)%+RANK(O64,$O$10:$P$264,0)%%+ROW()%%%),"-") -> 9.101264 | J64: =IFERROR(IF(E64="","",RANK(E64,$E$10:$I$264,1)),"-") -> 17 | K64: =BP64 | O64: =SUM(AE64-AI64) -> 0 | Q64: =SUM(AL64-AP64) -> 0 | S64: =SUM(AS64-AW64) -> 0 | U64: =IFERROR(SMALL($E$10:$I$264,28),0) -> 9.101286 | Z64: =IFERROR(IF(U64="","",RANK(U64,$U$10:$Y$264,1)),0) -> 28 | AA64: =IFERROR(INDEX($K$10:$K$264,MATCH(U64,$E$10:$E$264,0),1),0) | AH64: : | AO64: : | AV64: : | AZ64: =IFERROR(IF(E64="","",RANK(E64,$E$10:$I$264,1)),0) -> 17 | BH64: Participant 28 | BP64: =IF(BE64>0,VLOOKUP(BE64,'Infos joueurs'!$B:$BT,11,FALSE)," ")&" "&IF(BE64>0,VLOOKUP(BE64,'Infos joueurs'!$B:$BT,27,FALSE)," ") | CD64: 28 | CH64: =AA64 | CU64: =IFERROR(INDEX($BE$10:$BE$269,MATCH(CH64,$BP$10:$BP$269,0)),0) -> 0
E66: =IFERROR(IF(BP66="","-",RANK(S66,$S$10:$T$264,0)+RANK(Q66,$Q$10:$R$264,0)%+RANK(O66,$O$10:$P$264,0)%%+ROW()%%%),"-") -> 9.101266 | J66: =IFERROR(IF(E66="","",RANK(E66,$E$10:$I$264,1)),"-") -> 18 | K66: =BP66 | O66: =SUM(AE66-AI66) -> 0 | Q66: =SUM(AL66-AP66) -> 0 | S66: =SUM(AS66-AW66) -> 0 | U66: =IFERROR(SMALL($E$10:$I$264,29),0) -> 9.101288 | Z66: =IFERROR(IF(U66="","",RANK(U66,$U$10:$Y$264,1)),0) -> 29 | AA66: =IFERROR(INDEX($K$10:$K$264,MATCH(U66,$E$10:$E$264,0),1),0) | AH66: : | AO66: : | AV66: : | AZ66: =IFERROR(IF(E66="","",RANK(E66,$E$10:$I$264,1)),0) -> 18 | BH66: Participant 29 | BP66: =IF(BE66>0,VLOOKUP(BE66,'Infos joueurs'!$B:$BT,11,FALSE)," ")&" "&IF(BE66>0,VLOOKUP(BE66,'Infos joueurs'!$B:$BT,27,FALSE)," ") | CD66: 29 | CH66: =AA66 | CU66: =IFERROR(INDEX($BE$10:$BE$269,MATCH(CH66,$BP$10:$BP$269,0)),0) -> 0
E68: =IFERROR(IF(BP68="","-",RANK(S68,$S$10:$T$264,0)+RANK(Q68,$Q$10:$R$264,0)%+RANK(O68,$O$10:$P$264,0)%%+ROW()%%%),"-") -> 9.101268 | J68: =IFERROR(IF(E68="","",RANK(E68,$E$10:$I$264,1)),"-") -> 19 | K68: =BP68 | O68: =SUM(AE68-AI68) -> 0 | Q68: =SUM(AL68-AP68) -> 0 | S68: =SUM(AS68-AW68) -> 0 | U68: =IFERROR(SMALL($E$10:$I$264,30),0) -> 9.10129 | Z68: =IFERROR(IF(U68="","",RANK(U68,$U$10:$Y$264,1)),0) -> 30 | AA68: =IFERROR(INDEX($K$10:$K$264,MATCH(U68,$E$10:$E$264,0),1),0) | AH68: : | AO68: : | AV68: : | AZ68: =IFERROR(IF(E68="","",RANK(E68,$E$10:$I$264,1)),0) -> 19 | BH68: Participant 30 | BP68: =IF(BE68>0,VLOOKUP(BE68,'Infos joueurs'!$B:$BT,11,FALSE)," ")&" "&IF(BE68>0,VLOOKUP(BE68,'Infos joueurs'!$B:$BT,27,FALSE)," ") | CD68: 30 | CH68: =AA68 | CU68: =IFERROR(INDEX($BE$10:$BE$269,MATCH(CH68,$BP$10:$BP$269,0)),0) -> 0
E70: =IFERROR(IF(BP70="","-",RANK(S70,$S$10:$T$264,0)+RANK(Q70,$Q$10:$R$264,0)%+RANK(O70,$O$10:$P$264,0)%%+ROW()%%%),"-") -> 9.10127 | J70: =IFERROR(IF(E70="","",RANK(E70,$E$10:$I$264,1)),"-") -> 20 | K70: =BP70 | O70: =SUM(AE70-AI70) -> 0 | Q70: =SUM(AL70-AP70) -> 0 | S70: =SUM(AS70-AW70) -> 0 | U70: =IFERROR(SMALL($E$10:$I$264,31),0) -> 9.101292 | Z70: =IFERROR(IF(U70="","",RANK(U70,$U$10:$Y$264,1)),0) -> 31 | AA70: =IFERROR(INDEX($K$10:$K$264,MATCH(U70,$E$10:$E$264,0),1),0) | AH70: : | AO70: : | AV70: : | AZ70: =IFERROR(IF(E70="","",RANK(E70,$E$10:$I$264,1)),0) -> 20 | BH70: Participant 31 | BP70: =IF(BE70>0,VLOOKUP(BE70,'Infos joueurs'!$B:$BT,11,FALSE)," ")&" "&IF(BE70>0,VLOOKUP(BE70,'Infos joueurs'!$B:$BT,27,FALSE)," ") | CD70: 31 | CH70: =AA70 | CU70: =IFERROR(INDEX($BE$10:$BE$269,MATCH(CH70,$BP$10:$BP$269,0)),0) -> 0
E72: =IFERROR(IF(BP72="","-",RANK(S72,$S$10:$T$264,0)+RANK(Q72,$Q$10:$R$264,0)%+RANK(O72,$O$10:$P$264,0)%%+ROW()%%%),"-") -> 9.101272 | J72: =IFERROR(IF(E72="","",RANK(E72,$E$10:$I$264,1)),"-") -> 21 | K72: =BP72 | O72: =SUM(AE72-AI72) -> 0 | Q72: =SUM(AL72-AP72) -> 0 | S72: =SUM(AS72-AW72) -> 0 | U72: =IFERROR(SMALL($E$10:$I$264,32),0) -> 9.101294 | Z72: =IFERROR(IF(U72="","",RANK(U72,$U$10:$Y$264,1)),0) -> 32 | AA72: =IFERROR(INDEX($K$10:$K$264,MATCH(U72,$E$10:$E$264,0),1),0) | AH72: : | AO72: : | AV72: : | AZ72: =IFERROR(IF(E72="","",RANK(E72,$E$10:$I$264,1)),0) -> 21 | BH72: Participant 32 | BP72: =IF(BE72>0,VLOOKUP(BE72,'Infos joueurs'!$B:$BT,11,FALSE)," ")&" "&IF(BE72>0,VLOOKUP(BE72,'Infos joueurs'!$B:$BT,27,FALSE)," ") | CD72: 32 | CH72: =AA72 | CU72: =IFERROR(INDEX($BE$10:$BE$269,MATCH(CH72,$BP$10:$BP$269,0)),0) -> 0
E74: =IFERROR(IF(BP74="","-",RANK(S74,$S$10:$T$264,0)+RANK(Q74,$Q$10:$R$264,0)%+RANK(O74,$O$10:$P$264,0)%%+ROW()%%%),"-") -> 9.101274 | J74: =IFERROR(IF(E74="","",RANK(E74,$E$10:$I$264,1)),"-") -> 22 | K74: =BP74 | O74: =SUM(AE74-AI74) -> 0 | Q74: =SUM(AL74-AP74) -> 0 | S74: =SUM(AS74-AW74) -> 0 | U74: =IFERROR(SMALL($E$10:$I$264,33),0) -> 9.101296 | Z74: =IFERROR(IF(U74="","",RANK(U74,$U$10:$Y$264,1)),0) -> 33 | AA74: =IFERROR(INDEX($K$10:$K$264,MATCH(U74,$E$10:$E$264,0),1),0) | AH74: : | AO74: : | AV74: : | AZ74: =IFERROR(IF(E74="","",RANK(E74,$E$10:$I$264,1)),0) -> 22 | BH74: Participant 33 | BP74: =IF(BE74>0,VLOOKUP(BE74,'Infos joueurs'!$B:$BT,11,FALSE)," ")&" "&IF(BE74>0,VLOOKUP(BE74,'Infos joueurs'!$B:$BT,27,FALSE)," ") | CD74: 33 | CH74: =AA74 | CU74: =IFERROR(INDEX($BE$10:$BE$269,MATCH(CH74,$BP$10:$BP$269,0)),0) -> 0
E76: =IFERROR(IF(BP76="","-",RANK(S76,$S$10:$T$264,0)+RANK(Q76,$Q$10:$R$264,0)%+RANK(O76,$O$10:$P$264,0)%%+ROW()%%%),"-") -> 9.101276 | J76: =IFERROR(IF(E76="","",RANK(E76,$E$10:$I$264,1)),"-") -> 23 | K76: =BP76 | O76: =SUM(AE76-AI76) -> 0 | Q76: =SUM(AL76-AP76) -> 0 | S76: =SUM(AS76-AW76) -> 0 | U76: =IFERROR(SMALL($E$10:$I$264,34),0) -> 9.101298 | Z76: =IFERROR(IF(U76="","",RANK(U76,$U$10:$Y$264,1)),0) -> 34 | AA76: =IFERROR(INDEX($K$10:$K$264,MATCH(U76,$E$10:$E$264,0),1),0) | AH76: : | AO76: : | AV76: : | AZ76: =IFERROR(IF(E76="","",RANK(E76,$E$10:$I$264,1)),0) -> 23 | BH76: Participant 34 | BP76: =IF(BE76>0,VLOOKUP(BE76,'Infos joueurs'!$B:$BT,11,FALSE)," ")&" "&IF(BE76>0,VLOOKUP(BE76,'Infos joueurs'!$B:$BT,27,FALSE)," ") | CD76: 34 | CH76: =AA76 | CU76: =IFERROR(INDEX($BE$10:$BE$269,MATCH(CH76,$BP$10:$BP$269,0)),0) -> 0
E78: =IFERROR(IF(BP78="","-",RANK(S78,$S$10:$T$264,0)+RANK(Q78,$Q$10:$R$264,0)%+RANK(O78,$O$10:$P$264,0)%%+ROW()%%%),"-") -> 9.101278 | J78: =IFERROR(IF(E78="","",RANK(E78,$E$10:$I$264,1)),"-") -> 24 | K78: =BP78 | O78: =SUM(AE78-AI78) -> 0 | Q78: =SUM(AL78-AP78) -> 0 | S78: =SUM(AS78-AW78) -> 0 | U78: =IFERROR(SMALL($E$10:$I$264,35),0) -> 9.1013 | Z78: =IFERROR(IF(U78="","",RANK(U78,$U$10:$Y$264,1)),0) -> 35 | AA78: =IFERROR(INDEX($K$10:$K$264,MATCH(U78,$E$10:$E$264,0),1),0) | AH78: : | AO78: : | AV78: : | AZ78: =IFERROR(IF(E78="","",RANK(E78,$E$10:$I$264,1)),0) -> 24 | BH78: Participant 35 | BP78: =IF(BE78>0,VLOOKUP(BE78,'Infos joueurs'!$B:$BT,11,FALSE)," ")&" "&IF(BE78>0,VLOOKUP(BE78,'Infos joueurs'!$B:$BT,27,FALSE)," ") | CD78: 35 | CH78: =AA78 | CU78: =IFERROR(INDEX($BE$10:$BE$269,MATCH(CH78,$BP$10:$BP$269,0)),0) -> 0
E80: =IFERROR(IF(BP80="","-",RANK(S80,$S$10:$T$264,0)+RANK(Q80,$Q$10:$R$264,0)%+RANK(O80,$O$10:$P$264,0)%%+ROW()%%%),"-") -> 9.10128 | J80: =IFERROR(IF(E80="","",RANK(E80,$E$10:$I$264,1)),"-") -> 25 | K80: =BP80 | O80: =SUM(AE80-AI80) -> 0 | Q80: =SUM(AL80-AP80) -> 0 | S80: =SUM(AS80-AW80) -> 0 | U80: =IFERROR(SMALL($E$10:$I$264,36),0) -> 9.101302 | Z80: =IFERROR(IF(U80="","",RANK(U80,$U$10:$Y$264,1)),0) -> 36 | AA80: =IFERROR(INDEX($K$10:$K$264,MATCH(U80,$E$10:$E$264,0),1),0) | AH80: : | AO80: : | AV80: : | AZ80: =IFERROR(IF(E80="","",RANK(E80,$E$10:$I$264,1)),0) -> 25 | BH80: Participant 36 | BP80: =IF(BE80>0,VLOOKUP(BE80,'Infos joueurs'!$B:$BT,11,FALSE)," ")&" "&IF(BE80>0,VLOOKUP(BE80,'Infos joueurs'!$B:$BT,27,FALSE)," ") | CD80: 36 | CH80: =AA80 | CU80: =IFERROR(INDEX($BE$10:$BE$269,MATCH(CH80,$BP$10:$BP$269,0)),0) -> 0
E82: =IFERROR(IF(BP82="","-",RANK(S82,$S$10:$T$264,0)+RANK(Q82,$Q$10:$R$264,0)%+RANK(O82,$O$10:$P$264,0)%%+ROW()%%%),"-") -> 9.101282 | J82: =IFERROR(IF(E82="","",RANK(E82,$E$10:$I$264,1)),"-") -> 26 | K82: =BP82 | O82: =SUM(AE82-AI82) -> 0 | Q82: =SUM(AL82-AP82) -> 0 | S82: =SUM(AS82-AW82) -> 0 | U82: =IFERROR(SMALL($E$10:$I$264,37),0) -> 9.101304 | Z82: =IFERROR(IF(U82="","",RANK(U82,$U$10:$Y$264,1)),0) -> 37 | AA82: =IFERROR(INDEX($K$10:$K$264,MATCH(U82,$E$10:$E$264,0),1),0) | AH82: : | AO82: : | AV82: : | AZ82: =IFERROR(IF(E82="","",RANK(E82,$E$10:$I$264,1)),0) -> 26 | BH82: Participant 37 | BP82: =IF(BE82>0,VLOOKUP(BE82,'Infos joueurs'!$B:$BT,11,FALSE)," ")&" "&IF(BE82>0,VLOOKUP(BE82,'Infos joueurs'!$B:$BT,27,FALSE)," ") | CD82: 37 | CH82: =AA82 | CU82: =IFERROR(INDEX($BE$10:$BE$269,MATCH(CH82,$BP$10:$BP$269,0)),0) -> 0
E84: =IFERROR(IF(BP84="","-",RANK(S84,$S$10:$T$264,0)+RANK(Q84,$Q$10:$R$264,0)%+RANK(O84,$O$10:$P$264,0)%%+ROW()%%%),"-") -> 9.101284 | J84: =IFERROR(IF(E84="","",RANK(E84,$E$10:$I$264,1)),"-") -> 27 | K84: =BP84 | O84: =SUM(AE84-AI84) -> 0 | Q84: =SUM(AL84-AP84) -> 0 | S84: =SUM(AS84-AW84) -> 0 | U84: =IFERROR(SMALL($E$10:$I$264,38),0) -> 9.101306 | Z84: =IFERROR(IF(U84="","",RANK(U84,$U$10:$Y$264,1)),0) -> 38 | AA84: =IFERROR(INDEX($K$10:$K$264,MATCH(U84,$E$10:$E$264,0),1),0) | AH84: : | AO84: : | AV84: : | AZ84: =IFERROR(IF(E84="","",RANK(E84,$E$10:$I$264,1)),0) -> 27 | BH84: Participant 38 | BP84: =IF(BE84>0,VLOOKUP(BE84,'Infos joueurs'!$B:$BT,11,FALSE)," ")&" "&IF(BE84>0,VLOOKUP(BE84,'Infos joueurs'!$B:$BT,27,FALSE)," ") | CD84: 38 | CH84: =AA84 | CU84: =IFERROR(INDEX($BE$10:$BE$269,MATCH(CH84,$BP$10:$BP$269,0)),0) -> 0
E86: =IFERROR(IF(BP86="","-",RANK(S86,$S$10:$T$264,0)+RANK(Q86,$Q$10:$R$264,0)%+RANK(O86,$O$10:$P$264,0)%%+ROW()%%%),"-") -> 9.101286 | J86: =IFERROR(IF(E86="","",RANK(E86,$E$10:$I$264,1)),"-") -> 28 | K86: =BP86 | O86: =SUM(AE86-AI86) -> 0 | Q86: =SUM(AL86-AP86) -> 0 | S86: =SUM(AS86-AW86) -> 0 | U86: =IFERROR(SMALL($E$10:$I$264,39),0) -> 9.101308 | Z86: =IFERROR(IF(U86="","",RANK(U86,$U$10:$Y$264,1)),0) -> 39 | AA86: =IFERROR(INDEX($K$10:$K$264,MATCH(U86,$E$10:$E$264,0),1),0) | AH86: : | AO86: : | AV86: : | AZ86: =IFERROR(IF(E86="","",RANK(E86,$E$10:$I$264,1)),0) -> 28 | BH86: Participant 39 | BP86: =IF(BE86>0,VLOOKUP(BE86,'Infos joueurs'!$B:$BT,11,FALSE)," ")&" "&IF(BE86>0,VLOOKUP(BE86,'Infos joueurs'!$B:$BT,27,FALSE)," ") | CD86: 39 | CH86: =AA86 | CU86: =IFERROR(INDEX($BE$10:$BE$269,MATCH(CH86,$BP$10:$BP$269,0)),0) -> 0
E88: =IFERROR(IF(BP88="","-",RANK(S88,$S$10:$T$264,0)+RANK(Q88,$Q$10:$R$264,0)%+RANK(O88,$O$10:$P$264,0)%%+ROW()%%%),"-") -> 9.101288 | J88: =IFERROR(IF(E88="","",RANK(E88,$E$10:$I$264,1)),"-") -> 29 | K88: =BP88 | O88: =SUM(AE88-AI88) -> 0 | Q88: =SUM(AL88-AP88) -> 0 | S88: =SUM(AS88-AW88) -> 0 | U88: =IFERROR(SMALL($E$10:$I$264,40),0) -> 9.10131 | Z88: =IFERROR(IF(U88="","",RANK(U88,$U$10:$Y$264,1)),0) -> 40 | AA88: =IFERROR(INDEX($K$10:$K$264,MATCH(U88,$E$10:$E$264,0),1),0) | AH88: : | AO88: : | AV88: : | AZ88: =IFERROR(IF(E88="","",RANK(E88,$E$10:$I$264,1)),0) -> 29 | BH88: Participant 40 | BP88: =IF(BE88>0,VLOOKUP(BE88,'Infos joueurs'!$B:$BT,11,FALSE)," ")&" "&IF(BE88>0,VLOOKUP(BE88,'Infos joueurs'!$B:$BT,27,FALSE)," ") | CD88: 40 | CH88: =AA88 | CU88: =IFERROR(INDEX($BE$10:$BE$269,MATCH(CH88,$BP$10:$BP$269,0)),0) -> 0
E90: =IFERROR(IF(BP90="","-",RANK(S90,$S$10:$T$264,0)+RANK(Q90,$Q$10:$R$264,0)%+RANK(O90,$O$10:$P$264,0)%%+ROW()%%%),"-") -> 9.10129 | J90: =IFERROR(IF(E90="","",RANK(E90,$E$10:$I$264,1)),"-") -> 30 | K90: =BP90 | O90: =SUM(AE90-AI90) -> 0 | Q90: =SUM(AL90-AP90) -> 0 | S90: =SUM(AS90-AW90) -> 0 | U90: =IFERROR(SMALL($E$10:$I$264,41),0) -> 9.101312 | Z90: =IFERROR(IF(U90="","",RANK(U90,$U$10:$Y$264,1)),0) -> 41 | AA90: =IFERROR(INDEX($K$10:$K$264,MATCH(U90,$E$10:$E$264,0),1),0) | AH90: : | AO90: : | AV90: : | AZ90: =IFERROR(IF(E90="","",RANK(E90,$E$10:$I$264,1)),0) -> 30 | BH90: Participant 41 | BP90: =IF(BE90>0,VLOOKUP(BE90,'Infos joueurs'!$B:$BT,11,FALSE)," ")&" "&IF(BE90>0,VLOOKUP(BE90,'Infos joueurs'!$B:$BT,27,FALSE)," ") | CD90: 41 | CH90: =AA90 | CU90: =IFERROR(INDEX($BE$10:$BE$269,MATCH(CH90,$BP$10:$BP$269,0)),0) -> 0
E92: =IFERROR(IF(BP92="","-",RANK(S92,$S$10:$T$264,0)+RANK(Q92,$Q$10:$R$264,0)%+RANK(O92,$O$10:$P$264,0)%%+ROW()%%%),"-") -> 9.101292 | J92: =IFERROR(IF(E92="","",RANK(E92,$E$10:$I$264,1)),"-") -> 31 | K92: =BP92 | O92: =SUM(AE92-AI92) -> 0 | Q92: =SUM(AL92-AP92) -> 0 | S92: =SUM(AS92-AW92) -> 0 | U92: =IFERROR(SMALL($E$10:$I$264,42),0) -> 9.101314 | Z92: =IFERROR(IF(U92="","",RANK(U92,$U$10:$Y$264,1)),0) -> 42 | AA92: =IFERROR(INDEX($K$10:$K$264,MATCH(U92,$E$10:$E$264,0),1),0) | AH92: : | AO92: : | AV92: : | AZ92: =IFERROR(IF(E92="","",RANK(E92,$E$10:$I$264,1)),0) -> 31 | BH92: Participant 42 | BP92: =IF(BE92>0,VLOOKUP(BE92,'Infos joueurs'!$B:$BT,11,FALSE)," ")&" "&IF(BE92>0,VLOOKUP(BE92,'Infos joueurs'!$B:$BT,27,FALSE)," ") | CD92: 42 | CH92: =AA92 | CU92: =IFERROR(INDEX($BE$10:$BE$269,MATCH(CH92,$BP$10:$BP$269,0)),0) -> 0
E94: =IFERROR(IF(BP94="","-",RANK(S94,$S$10:$T$264,0)+RANK(Q94,$Q$10:$R$264,0)%+RANK(O94,$O$10:$P$264,0)%%+ROW()%%%),"-") -> 9.101294 | J94: =IFERROR(IF(E94="","",RANK(E94,$E$10:$I$264,1)),"-") -> 32 | K94: =BP94 | O94: =SUM(AE94-AI94) -> 0 | Q94: =SUM(AL94-AP94) -> 0 | S94: =SUM(AS94-AW94) -> 0 | U94: =IFERROR(SMALL($E$10:$I$264,43),0) -> 9.101316 | Z94: =IFERROR(IF(U94="","",RANK(U94,$U$10:$Y$264,1)),0) -> 43 | AA94: =IFERROR(INDEX($K$10:$K$264,MATCH(U94,$E$10:$E$264,0),1),0) | AH94: : | AO94: : | AV94: : | AZ94: =IFERROR(IF(E94="","",RANK(E94,$E$10:$I$264,1)),0) -> 32 | BH94: Participant 43 | BP94: =IF(BE94>0,VLOOKUP(BE94,'Infos joueurs'!$B:$BT,11,FALSE)," ")&" "&IF(BE94>0,VLOOKUP(BE94,'Infos joueurs'!$B:$BT,27,FALSE)," ") | CD94: 43 | CH94: =AA94 | CU94: =IFERROR(INDEX($BE$10:$BE$269,MATCH(CH94,$BP$10:$BP$269,0)),0) -> 0
E96: =IFERROR(IF(BP96="","-",RANK(S96,$S$10:$T$264,0)+RANK(Q96,$Q$10:$R$264,0)%+RANK(O96,$O$10:$P$264,0)%%+ROW()%%%),"-") -> 9.101296 | J96: =IFERROR(IF(E96="","",RANK(E96,$E$10:$I$264,1)),"-") -> 33 | K96: =BP96 | O96: =SUM(AE96-AI96) -> 0 | Q96: =SUM(AL96-AP96) -> 0 | S96: =SUM(AS96-AW96) -> 0 | U96: =IFERROR(SMALL($E$10:$I$264,44),0) -> 9.101318 | Z96: =IFERROR(IF(U96="","",RANK(U96,$U$10:$Y$264,1)),0) -> 44 | AA96: =IFERROR(INDEX($K$10:$K$264,MATCH(U96,$E$10:$E$264,0),1),0) | AH96: : | AO96: : | AV96: : | AZ96: =IFERROR(IF(E96="","",RANK(E96,$E$10:$I$264,1)),0) -> 33 | BH96: Participant 44 | BP96: =IF(BE96>0,VLOOKUP(BE96,'Infos joueurs'!$B:$BT,11,FALSE)," ")&" "&IF(BE96>0,VLOOKUP(BE96,'Infos joueurs'!$B:$BT,27,FALSE)," ") | CD96: 44 | CH96: =AA96 | CU96: =IFERROR(INDEX($BE$10:$BE$269,MATCH(CH96,$BP$10:$BP$269,0)),0) -> 0
E98: =IFERROR(IF(BP98="","-",RANK(S98,$S$10:$T$264,0)+RANK(Q98,$Q$10:$R$264,0)%+RANK(O98,$O$10:$P$264,0)%%+ROW()%%%),"-") -> 9.101298 | J98: =IFERROR(IF(E98="","",RANK(E98,$E$10:$I$264,1)),"-") -> 34 | K98: =BP98 | O98: =SUM(AE98-AI98) -> 0 | Q98: =SUM(AL98-AP98) -> 0 | S98: =SUM(AS98-AW98) -> 0 | U98: =IFERROR(SMALL($E$10:$I$264,45),0) -> 9.10132 | Z98: =IFERROR(IF(U98="","",RANK(U98,$U$10:$Y$264,1)),0) -> 45 | AA98: =IFERROR(INDEX($K$10:$K$264,MATCH(U98,$E$10:$E$264,0),1),0) | AH98: : | AO98: : | AV98: : | AZ98: =IFERROR(IF(E98="","",RANK(E98,$E$10:$I$264,1)),0) -> 34 | BH98: Participant 45 | BP98: =IF(BE98>0,VLOOKUP(BE98,'Infos joueurs'!$B:$BT,11,FALSE)," ")&" "&IF(BE98>0,VLOOKUP(BE98,'Infos joueurs'!$B:$BT,27,FALSE)," ") | CD98: 45 | CH98: =AA98 | CU98: =IFERROR(INDEX($BE$10:$BE$269,MATCH(CH98,$BP$10:$BP$269,0)),0) -> 0
E100: =IFERROR(IF(BP100="","-",RANK(S100,$S$10:$T$264,0)+RANK(Q100,$Q$10:$R$264,0)%+RANK(O100,$O$10:$P$264,0)%%+ROW()%%%),"-") -> 9.1013 | J100: =IFERROR(IF(E100="","",RANK(E100,$E$10:$I$264,1)),"-") -> 35 | K100: =BP100 | O100: =SUM(AE100-AI100) -> 0 | Q100: =SUM(AL100-AP100) -> 0 | S100: =SUM(AS100-AW100) -> 0 | U100: =IFERROR(SMALL($E$10:$I$264,46),0) -> 9.101322 | Z100: =IFERROR(IF(U100="","",RANK(U100,$U$10:$Y$264,1)),0) -> 46 | AA100: =IFERROR(INDEX($K$10:$K$264,MATCH(U100,$E$10:$E$264,0),1),0) | AH100: : | AO100: : | AV100: : | AZ100: =IFERROR(IF(E100="","",RANK(E100,$E$10:$I$264,1)),0) -> 35 | BH100: Participant 46 | BP100: =IF(BE100>0,VLOOKUP(BE100,'Infos joueurs'!$B:$BT,11,FALSE)," ")&" "&IF(BE100>0,VLOOKUP(BE100,'Infos joueurs'!$B:$BT,27,FALSE)," ") | CD100: 46 | CH100: =AA100 | CU100: =IFERROR(INDEX($BE$10:$BE$269,MATCH(CH100,$BP$10:$BP$269,0)),0) -> 0
E102: =IFERROR(IF(BP102="","-",RANK(S102,$S$10:$T$264,0)+RANK(Q102,$Q$10:$R$264,0)%+RANK(O102,$O$10:$P$264,0)%%+ROW()%%%),"-") -> 9.101302 | J102: =IFERROR(IF(E102="","",RANK(E102,$E$10:$I$264,1)),"-") -> 36 | K102: =BP102 | O102: =SUM(AE102-AI102) -> 0 | Q102: =SUM(AL102-AP102) -> 0 | S102: =SUM(AS102-AW102) -> 0 | U102: =IFERROR(SMALL($E$10:$I$264,47),0) -> 9.101324 | Z102: =IFERROR(IF(U102="","",RANK(U102,$U$10:$Y$264,1)),0) -> 47 | AA102: =IFERROR(INDEX($K$10:$K$264,MATCH(U102,$E$10:$E$264,0),1),0) | AH102: : | AO102: : | AV102: : | AZ102: =IFERROR(IF(E102="","",RANK(E102,$E$10:$I$264,1)),0) -> 36 | BH102: Participant 47 | BP102: =IF(BE102>0,VLOOKUP(BE102,'Infos joueurs'!$B:$BT,11,FALSE)," ")&" "&IF(BE102>0,VLOOKUP(BE102,'Infos joueurs'!$B:$BT,27,FALSE)," ") | CD102: 47 | CH102: =AA102 | CU102: =IFERROR(INDEX($BE$10:$BE$269,MATCH(CH102,$BP$10:$BP$269,0)),0) -> 0
E104: =IFERROR(IF(BP104="","-",RANK(S104,$S$10:$T$264,0)+RANK(Q104,$Q$10:$R$264,0)%+RANK(O104,$O$10:$P$264,0)%%+ROW()%%%),"-") -> 9.101304 | J104: =IFERROR(IF(E104="","",RANK(E104,$E$10:$I$264,1)),"-") -> 37 | K104: =BP104 | O104: =SUM(AE104-AI104) -> 0 | Q104: =SUM(AL104-AP104) -> 0 | S104: =SUM(AS104-AW104) -> 0 | U104: =IFERROR(SMALL($E$10:$I$264,48),0) -> 9.101326 | Z104: =IFERROR(IF(U104="","",RANK(U104,$U$10:$Y$264,1)),0) -> 48 | AA104: =IFERROR(INDEX($K$10:$K$264,MATCH(U104,$E$10:$E$264,0),1),0) | AH104: : | AO104: : | AV104: : | AZ104: =IFERROR(IF(E104="","",RANK(E104,$E$10:$I$264,1)),0) -> 37 | BH104: Participant 48 | BP104: =IF(BE104>0,VLOOKUP(BE104,'Infos joueurs'!$B:$BT,11,FALSE)," ")&" "&IF(BE104>0,VLOOKUP(BE104,'Infos joueurs'!$B:$BT,27,FALSE)," ") | CD104: 48 | CH104: =AA104 | CU104: =IFERROR(INDEX($BE$10:$BE$269,MATCH(CH104,$BP$10:$BP$269,0)),0) -> 0
E106: =IFERROR(IF(BP106="","-",RANK(S106,$S$10:$T$264,0)+RANK(Q106,$Q$10:$R$264,0)%+RANK(O106,$O$10:$P$264,0)%%+ROW()%%%),"-") -> 9.101306 | J106: =IFERROR(IF(E106="","",RANK(E106,$E$10:$I$264,1)),"-") -> 38 | K106: =BP106 | O106: =SUM(AE106-AI106) -> 0 | Q106: =SUM(AL106-AP106) -> 0 | S106: =SUM(AS106-AW106) -> 0 | U106: =IFERROR(SMALL($E$10:$I$264,49),0) -> 9.101328 | Z106: =IFERROR(IF(U106="","",RANK(U106,$U$10:$Y$264,1)),0) -> 49 | AA106: =IFERROR(INDEX($K$10:$K$264,MATCH(U106,$E$10:$E$264,0),1),0) | AH106: : | AO106: : | AV106: : | AZ106: =IFERROR(IF(E106="","",RANK(E106,$E$10:$I$264,1)),0) -> 38 | BH106: Participant 49 | BP106: =IF(BE106>0,VLOOKUP(BE106,'Infos joueurs'!$B:$BT,11,FALSE)," ")&" "&IF(BE106>0,VLOOKUP(BE106,'Infos joueurs'!$B:$BT,27,FALSE)," ") | CD106: 49 | CH106: =AA106 | CU106: =IFERROR(INDEX($BE$10:$BE$269,MATCH(CH106,$BP$10:$BP$269,0)),0) -> 0
E108: =IFERROR(IF(BP108="","-",RANK(S108,$S$10:$T$264,0)+RANK(Q108,$Q$10:$R$264,0)%+RANK(O108,$O$10:$P$264,0)%%+ROW()%%%),"-") -> 9.101308 | J108: =IFERROR(IF(E108="","",RANK(E108,$E$10:$I$264,1)),"-") -> 39 | K108: =BP108 | O108: =SUM(AE108-AI108) -> 0 | Q108: =SUM(AL108-AP108) -> 0 | S108: =SUM(AS108-AW108) -> 0 | U108: =IFERROR(SMALL($E$10:$I$264,50),0) -> 9.10133 | Z108: =IFERROR(IF(U108="","",RANK(U108,$U$10:$Y$264,1)),0) -> 50 | AA108: =IFERROR(INDEX($K$10:$K$264,MATCH(U108,$E$10:$E$264,0),1),0) | AH108: : | AO108: : | AV108: : | AZ108: =IFERROR(IF(E108="","",RANK(E108,$E$10:$I$264,1)),0) -> 39 | BH108: Participant 50 | BP108: =IF(BE108>0,VLOOKUP(BE108,'Infos joueurs'!$B:$BT,11,FALSE)," ")&" "&IF(BE108>0,VLOOKUP(BE108,'Infos joueurs'!$B:$BT,27,FALSE)," ") | CD108: 50 | CH108: =AA108 | CU108: =IFERROR(INDEX($BE$10:$BE$269,MATCH(CH108,$BP$10:$BP$269,0)),0) -> 0
E110: =IFERROR(IF(BP110="","-",RANK(S110,$S$10:$T$264,0)+RANK(Q110,$Q$10:$R$264,0)%+RANK(O110,$O$10:$P$264,0)%%+ROW()%%%),"-") -> 9.10131 | J110: =IFERROR(IF(E110="","",RANK(E110,$E$10:$I$264,1)),"-") -> 40 | K110: =BP110 | O110: =SUM(AE110-AI110) -> 0 | Q110: =SUM(AL110-AP110) -> 0 | S110: =SUM(AS110-AW110) -> 0 | U110: =IFERROR(SMALL($E$10:$I$264,51),0) -> 9.101332 | Z110: =IFERROR(IF(U110="","",RANK(U110,$U$10:$Y$264,1)),0) -> 51 | AA110: =IFERROR(INDEX($K$10:$K$264,MATCH(U110,$E$10:$E$264,0),1),0) | AH110: : | AO110: : | AV110: : | AZ110: =IFERROR(IF(E110="","",RANK(E110,$E$10:$I$264,1)),0) -> 40 | BH110: Participant 51 | BP110: =IF(BE110>0,VLOOKUP(BE110,'Infos joueurs'!$B:$BT,11,FALSE)," ")&" "&IF(BE110>0,VLOOKUP(BE110,'Infos joueurs'!$B:$BT,27,FALSE)," ") | CD110: 51 | CH110: =AA110 | CU110: =IFERROR(INDEX($BE$10:$BE$269,MATCH(CH110,$BP$10:$BP$269,0)),0) -> 0
E112: =IFERROR(IF(BP112="","-",RANK(S112,$S$10:$T$264,0)+RANK(Q112,$Q$10:$R$264,0)%+RANK(O112,$O$10:$P$264,0)%%+ROW()%%%),"-") -> 9.101312 | J112: =IFERROR(IF(E112="","",RANK(E112,$E$10:$I$264,1)),"-") -> 41 | K112: =BP112 | O112: =SUM(AE112-AI112) -> 0 | Q112: =SUM(AL112-AP112) -> 0 | S112: =SUM(AS112-AW112) -> 0 | U112: =IFERROR(SMALL($E$10:$I$264,52),0) -> 9.101334 | Z112: =IFERROR(IF(U112="","",RANK(U112,$U$10:$Y$264,1)),0) -> 52 | AA112: =IFERROR(INDEX($K$10:$K$264,MATCH(U112,$E$10:$E$264,0),1),0) | AH112: : | AO112: : | AV112: : | AZ112: =IFERROR(IF(E112="","",RANK(E112,$E$10:$I$264,1)),0) -> 41 | BH112: Participant 52 | BP112: =IF(BE112>0,VLOOKUP(BE112,'Infos joueurs'!$B:$BT,11,FALSE)," ")&" "&IF(BE112>0,VLOOKUP(BE112,'Infos joueurs'!$B:$BT,27,FALSE)," ") | CD112: 52 | CH112: =AA112 | CU112: =IFERROR(INDEX($BE$10:$BE$269,MATCH(CH112,$BP$10:$BP$269,0)),0) -> 0
E114: =IFERROR(IF(BP114="","-",RANK(S114,$S$10:$T$264,0)+RANK(Q114,$Q$10:$R$264,0)%+RANK(O114,$O$10:$P$264,0)%%+ROW()%%%),"-") -> 9.101314 | J114: =IFERROR(IF(E114="","",RANK(E114,$E$10:$I$264,1)),"-") -> 42 | K114: =BP114 | O114: =SUM(AE114-AI114) -> 0 | Q114: =SUM(AL114-AP114) -> 0 | S114: =SUM(AS114-AW114) -> 0 | U114: =IFERROR(SMALL($E$10:$I$264,53),0) -> 9.101336 | Z114: =IFERROR(IF(U114="","",RANK(U114,$U$10:$Y$264,1)),0) -> 53 | AA114: =IFERROR(INDEX($K$10:$K$264,MATCH(U114,$E$10:$E$264,0),1),0) | AH114: : | AO114: : | AV114: : | AZ114: =IFERROR(IF(E114="","",RANK(E114,$E$10:$I$264,1)),0) -> 42 | BH114: Participant 53 | BP114: =IF(BE114>0,VLOOKUP(BE114,'Infos joueurs'!$B:$BT,11,FALSE)," ")&" "&IF(BE114>0,VLOOKUP(BE114,'Infos joueurs'!$B:$BT,27,FALSE)," ") | CD114: 53 | CH114: =AA114 | CU114: =IFERROR(INDEX($BE$10:$BE$269,MATCH(CH114,$BP$10:$BP$269,0)),0) -> 0
E116: =IFERROR(IF(BP116="","-",RANK(S116,$S$10:$T$264,0)+RANK(Q116,$Q$10:$R$264,0)%+RANK(O116,$O$10:$P$264,0)%%+ROW()%%%),"-") -> 9.101316 | J116: =IFERROR(IF(E116="","",RANK(E116,$E$10:$I$264,1)),"-") -> 43 | K116: =BP116 | O116: =SUM(AE116-AI116) -> 0 | Q116: =SUM(AL116-AP116) -> 0 | S116: =SUM(AS116-AW116) -> 0 | U116: =IFERROR(SMALL($E$10:$I$264,54),0) -> 9.101338 | Z116: =IFERROR(IF(U116="","",RANK(U116,$U$10:$Y$264,1)),0) -> 54 | AA116: =IFERROR(INDEX($K$10:$K$264,MATCH(U116,$E$10:$E$264,0),1),0) | AH116: : | AO116: : | AV116: : | AZ116: =IFERROR(IF(E116="","",RANK(E116,$E$10:$I$264,1)),0) -> 43 | BH116: Participant 54 | BP116: =IF(BE116>0,VLOOKUP(BE116,'Infos joueurs'!$B:$BT,11,FALSE)," ")&" "&IF(BE116>0,VLOOKUP(BE116,'Infos joueurs'!$B:$BT,27,FALSE)," ") | CD116: 54 | CH116: =AA116 | CU116: =IFERROR(INDEX($BE$10:$BE$269,MATCH(CH116,$BP$10:$BP$269,0)),0) -> 0
E118: =IFERROR(IF(BP118="","-",RANK(S118,$S$10:$T$264,0)+RANK(Q118,$Q$10:$R$264,0)%+RANK(O118,$O$10:$P$264,0)%%+ROW()%%%),"-") -> 9.101318 | J118: =IFERROR(IF(E118="","",RANK(E118,$E$10:$I$264,1)),"-") -> 44 | K118: =BP118 | O118: =SUM(AE118-AI118) -> 0 | Q118: =SUM(AL118-AP118) -> 0 | S118: =SUM(AS118-AW118) -> 0 | U118: =IFERROR(SMALL($E$10:$I$264,55),0) -> 9.10134 | Z118: =IFERROR(IF(U118="","",RANK(U118,$U$10:$Y$264,1)),0) -> 55 | AA118: =IFERROR(INDEX($K$10:$K$264,MATCH(U118,$E$10:$E$264,0),1),0) | AH118: : | AO118: : | AV118: : | AZ118: =IFERROR(IF(E118="","",RANK(E118,$E$10:$I$264,1)),0) -> 44 | BH118: Participant 55 | BP118: =IF(BE118>0,VLOOKUP(BE118,'Infos joueurs'!$B:$BT,11,FALSE)," ")&" "&IF(BE118>0,VLOOKUP(BE118,'Infos joueurs'!$B:$BT,27,FALSE)," ") | CD118: 55 | CH118: =AA118 | CU118: =IFERROR(INDEX($BE$10:$BE$269,MATCH(CH118,$BP$10:$BP$269,0)),0) -> 0
E120: =IFERROR(IF(BP120="","-",RANK(S120,$S$10:$T$264,0)+RANK(Q120,$Q$10:$R$264,0)%+RANK(O120,$O$10:$P$264,0)%%+ROW()%%%),"-") -> 9.10132 | J120: =IFERROR(IF(E120="","",RANK(E120,$E$10:$I$264,1)),"-") -> 45 | K120: =BP120 | O120: =SUM(AE120-AI120) -> 0 | Q120: =SUM(AL120-AP120) -> 0 | S120: =SUM(AS120-AW120) -> 0 | U120: =IFERROR(SMALL($E$10:$I$264,56),0) -> 9.101342 | Z120: =IFERROR(IF(U120="","",RANK(U120,$U$10:$Y$264,1)),0) -> 56 | AA120: =IFERROR(INDEX($K$10:$K$264,MATCH(U120,$E$10:$E$264,0),1),0) | AH120: : | AO120: : | AV120: : | AZ120: =IFERROR(IF(E120="","",RANK(E120,$E$10:$I$264,1)),0) -> 45 | BH120: Participant 56 | BP120: =IF(BE120>0,VLOOKUP(BE120,'Infos joueurs'!$B:$BT,11,FALSE)," ")&" "&IF(BE120>0,VLOOKUP(BE120,'Infos joueurs'!$B:$BT,27,FALSE)," ") | CD120: 56 | CH120: =AA120 | CU120: =IFERROR(INDEX($BE$10:$BE$269,MATCH(CH120,$BP$10:$BP$269,0)),0) -> 0
E122: =IFERROR(IF(BP122="","-",RANK(S122,$S$10:$T$264,0)+RANK(Q122,$Q$10:$R$264,0)%+RANK(O122,$O$10:$P$264,0)%%+ROW()%%%),"-") -> 9.101322 | J122: =IFERROR(IF(E122="","",RANK(E122,$E$10:$I$264,1)),"-") -> 46 | K122: =BP122 | O122: =SUM(AE122-AI122) -> 0 | Q122: =SUM(AL122-AP122) -> 0 | S122: =SUM(AS122-AW122) -> 0 | U122: =IFERROR(SMALL($E$10:$I$264,57),0) -> 9.101344 | Z122: =IFERROR(IF(U122="","",RANK(U122,$U$10:$Y$264,1)),0) -> 57 | AA122: =IFERROR(INDEX($K$10:$K$264,MATCH(U122,$E$10:$E$264,0),1),0) | AH122: : | AO122: : | AV122: : | AZ122: =IFERROR(IF(E122="","",RANK(E122,$E$10:$I$264,1)),0) -> 46 | BH122: Participant 57 | BP122: =IF(BE122>0,VLOOKUP(BE122,'Infos joueurs'!$B:$BT,11,FALSE)," ")&" "&IF(BE122>0,VLOOKUP(BE122,'Infos joueurs'!$B:$BT,27,FALSE)," ") | CD122: 57 | CH122: =AA122 | CU122: =IFERROR(INDEX($BE$10:$BE$269,MATCH(CH122,$BP$10:$BP$269,0)),0) -> 0
E124: =IFERROR(IF(BP124="","-",RANK(S124,$S$10:$T$264,0)+RANK(Q124,$Q$10:$R$264,0)%+RANK(O124,$O$10:$P$264,0)%%+ROW()%%%),"-") -> 9.101324 | J124: =IFERROR(IF(E124="","",RANK(E124,$E$10:$I$264,1)),"-") -> 47 | K124: =BP124 | O124: =SUM(AE124-AI124) -> 0 | Q124: =SUM(AL124-AP124) -> 0 | S124: =SUM(AS124-AW124) -> 0 | U124: =IFERROR(SMALL($E$10:$I$264,58),0) -> 9.101346 | Z124: =IFERROR(IF(U124="","",RANK(U124,$U$10:$Y$264,1)),0) -> 58 | AA124: =IFERROR(INDEX($K$10:$K$264,MATCH(U124,$E$10:$E$264,0),1),0) | AH124: : | AO124: : | AV124: : | AZ124: =IFERROR(IF(E124="","",RANK(E124,$E$10:$I$264,1)),0) -> 47 | BH124: Participant 58 | BP124: =IF(BE124>0,VLOOKUP(BE124,'Infos joueurs'!$B:$BT,11,FALSE)," ")&" "&IF(BE124>0,VLOOKUP(BE124,'Infos joueurs'!$B:$BT,27,FALSE)," ") | CD124: 58 | CH124: =AA124 | CU124: =IFERROR(INDEX($BE$10:$BE$269,MATCH(CH124,$BP$10:$BP$269,0)),0) -> 0
E126: =IFERROR(IF(BP126="","-",RANK(S126,$S$10:$T$264,0)+RANK(Q126,$Q$10:$R$264,0)%+RANK(O126,$O$10:$P$264,0)%%+ROW()%%%),"-") -> 9.101326 | J126: =IFERROR(IF(E126="","",RANK(E126,$E$10:$I$264,1)),"-") -> 48 | K126: =BP126 | O126: =SUM(AE126-AI126) -> 0 | Q126: =SUM(AL126-AP126) -> 0 | S126: =SUM(AS126-AW126) -> 0 | U126: =IFERROR(SMALL($E$10:$I$264,59),0) -> 9.101348 | Z126: =IFERROR(IF(U126="","",RANK(U126,$U$10:$Y$264,1)),0) -> 59 | AA126: =IFERROR(INDEX($K$10:$K$264,MATCH(U126,$E$10:$E$264,0),1),0) | AH126: : | AO126: : | AV126: : | AZ126: =IFERROR(IF(E126="","",RANK(E126,$E$10:$I$264,1)),0) -> 48 | BH126: Participant 59 | BP126: =IF(BE126>0,VLOOKUP(BE126,'Infos joueurs'!$B:$BT,11,FALSE)," ")&" "&IF(BE126>0,VLOOKUP(BE126,'Infos joueurs'!$B:$BT,27,FALSE)," ") | CD126: 59 | CH126: =AA126 | CU126: =IFERROR(INDEX($BE$10:$BE$269,MATCH(CH126,$BP$10:$BP$269,0)),0) -> 0
E128: =IFERROR(IF(BP128="","-",RANK(S128,$S$10:$T$264,0)+RANK(Q128,$Q$10:$R$264,0)%+RANK(O128,$O$10:$P$264,0)%%+ROW()%%%),"-") -> 9.101328 | J128: =IFERROR(IF(E128="","",RANK(E128,$E$10:$I$264,1)),"-") -> 49 | K128: =BP128 | O128: =SUM(AE128-AI128) -> 0 | Q128: =SUM(AL128-AP128) -> 0 | S128: =SUM(AS128-AW128) -> 0 | U128: =IFERROR(SMALL($E$10:$I$264,60),0) -> 9.10135 | Z128: =IFERROR(IF(U128="","",RANK(U128,$U$10:$Y$264,1)),0) -> 60 | AA128: =IFERROR(INDEX($K$10:$K$264,MATCH(U128,$E$10:$E$264,0),1),0) | AH128: : | AO128: : | AV128: : | AZ128: =IFERROR(IF(E128="","",RANK(E128,$E$10:$I$264,1)),0) -> 49 | BH128: Participant 60 | BP128: =IF(BE128>0,VLOOKUP(BE128,'Infos joueurs'!$B:$BT,11,FALSE)," ")&" "&IF(BE128>0,VLOOKUP(BE128,'Infos joueurs'!$B:$BT,27,FALSE)," ") | CD128: 60 | CH128: =AA128 | CU128: =IFERROR(INDEX($BE$10:$BE$269,MATCH(CH128,$BP$10:$BP$269,0)),0) -> 0
E130: =IFERROR(IF(BP130="","-",RANK(S130,$S$10:$T$264,0)+RANK(Q130,$Q$10:$R$264,0)%+RANK(O130,$O$10:$P$264,0)%%+ROW()%%%),"-") -> 9.10133 | J130: =IFERROR(IF(E130="","",RANK(E130,$E$10:$I$264,1)),"-") -> 50 | K130: =BP130 | O130: =SUM(AE130-AI130) -> 0 | Q130: =SUM(AL130-AP130) -> 0 | S130: =SUM(AS130-AW130) -> 0 | U130: =IFERROR(SMALL($E$10:$I$264,61),0) -> 9.101352 | Z130: =IFERROR(IF(U130="","",RANK(U130,$U$10:$Y$264,1)),0) -> 61 | AA130: =IFERROR(INDEX($K$10:$K$264,MATCH(U130,$E$10:$E$264,0),1),0) | AH130: : | AO130: : | AV130: : | AZ130: =IFERROR(IF(E130="","",RANK(E130,$E$10:$I$264,1)),0) -> 50 | BH130: Participant 61 | BP130: =IF(BE130>0,VLOOKUP(BE130,'Infos joueurs'!$B:$BT,11,FALSE)," ")&" "&IF(BE130>0,VLOOKUP(BE130,'Infos joueurs'!$B:$BT,27,FALSE)," ") | CD130: 61 | CH130: =AA130 | CU130: =IFERROR(INDEX($BE$10:$BE$269,MATCH(CH130,$BP$10:$BP$269,0)),0) -> 0
E132: =IFERROR(IF(BP132="","-",RANK(S132,$S$10:$T$264,0)+RANK(Q132,$Q$10:$R$264,0)%+RANK(O132,$O$10:$P$264,0)%%+ROW()%%%),"-") -> 9.101332 | J132: =IFERROR(IF(E132="","",RANK(E132,$E$10:$I$264,1)),"-") -> 51 | K132: =BP132 | O132: =SUM(AE132-AI132) -> 0 | Q132: =SUM(AL132-AP132) -> 0 | S132: =SUM(AS132-AW132) -> 0 | U132: =IFERROR(SMALL($E$10:$I$264,62),0) -> 9.101354 | Z132: =IFERROR(IF(U132="","",RANK(U132,$U$10:$Y$264,1)),0) -> 62 | AA132: =IFERROR(INDEX($K$10:$K$264,MATCH(U132,$E$10:$E$264,0),1),0) | AH132: : | AO132: : | AV132: : | AZ132: =IFERROR(IF(E132="","",RANK(E132,$E$10:$I$264,1)),0) -> 51 | BH132: Participant 62 | BP132: =IF(BE132>0,VLOOKUP(BE132,'Infos joueurs'!$B:$BT,11,FALSE)," ")&" "&IF(BE132>0,VLOOKUP(BE132,'Infos joueurs'!$B:$BT,27,FALSE)," ") | CD132: 62 | CH132: =AA132 | CU132: =IFERROR(INDEX($BE$10:$BE$269,MATCH(CH132,$BP$10:$BP$269,0)),0) -> 0
E134: =IFERROR(IF(BP134="","-",RANK(S134,$S$10:$T$264,0)+RANK(Q134,$Q$10:$R$264,0)%+RANK(O134,$O$10:$P$264,0)%%+ROW()%%%),"-") -> 9.101334 | J134: =IFERROR(IF(E134="","",RANK(E134,$E$10:$I$264,1)),"-") -> 52 | K134: =BP134 | O134: =SUM(AE134-AI134) -> 0 | Q134: =SUM(AL134-AP134) -> 0 | S134: =SUM(AS134-AW134) -> 0 | U134: =IFERROR(SMALL($E$10:$I$264,63),0) -> 9.101356 | Z134: =IFERROR(IF(U134="","",RANK(U134,$U$10:$Y$264,1)),0) -> 63 | AA134: =IFERROR(INDEX($K$10:$K$264,MATCH(U134,$E$10:$E$264,0),1),0) | AH134: : | AO134: : | AV134: : | AZ134: =IFERROR(IF(E134="","",RANK(E134,$E$10:$I$264,1)),0) -> 52 | BH134: Participant 63 | BP134: =IF(BE134>0,VLOOKUP(BE134,'Infos joueurs'!$B:$BT,11,FALSE)," ")&" "&IF(BE134>0,VLOOKUP(BE134,'Infos joueurs'!$B:$BT,27,FALSE)," ") | CD134: 63 | CH134: =AA134 | CU134: =IFERROR(INDEX($BE$10:$BE$269,MATCH(CH134,$BP$10:$BP$269,0)),0) -> 0
E136: =IFERROR(IF(BP136="","-",RANK(S136,$S$10:$T$264,0)+RANK(Q136,$Q$10:$R$264,0)%+RANK(O136,$O$10:$P$264,0)%%+ROW()%%%),"-") -> 9.101336 | J136: =IFERROR(IF(E136="","",RANK(E136,$E$10:$I$264,1)),"-") -> 53 | K136: =BP136 | O136: =SUM(AE136-AI136) -> 0 | Q136: =SUM(AL136-AP136) -> 0 | S136: =SUM(AS136-AW136) -> 0 | U136: =IFERROR(SMALL($E$10:$I$264,64),0) -> 9.101358 | Z136: =IFERROR(IF(U136="","",RANK(U136,$U$10:$Y$264,1)),0) -> 64 | AA136: =IFERROR(INDEX($K$10:$K$264,MATCH(U136,$E$10:$E$264,0),1),0) | AH136: : | AO136: : | AV136: : | AZ136: =IFERROR(IF(E136="","",RANK(E136,$E$10:$I$264,1)),0) -> 53 | BH136: Participant 64 | BP136: =IF(BE136>0,VLOOKUP(BE136,'Infos joueurs'!$B:$BT,11,FALSE)," ")&" "&IF(BE136>0,VLOOKUP(BE136,'Infos joueurs'!$B:$BT,27,FALSE)," ") | CD136: 64 | CH136: =AA136 | CU136: =IFERROR(INDEX($BE$10:$BE$269,MATCH(CH136,$BP$10:$BP$269,0)),0) -> 0
E138: =IFERROR(IF(BP138="","-",RANK(S138,$S$10:$T$264,0)+RANK(Q138,$Q$10:$R$264,0)%+RANK(O138,$O$10:$P$264,0)%%+ROW()%%%),"-") -> 9.101338 | J138: =IFERROR(IF(E138="","",RANK(E138,$E$10:$I$264,1)),"-") -> 54 | K138: =BP138 | O138: =SUM(AE138-AI138) -> 0 | Q138: =SUM(AL138-AP138) -> 0 | S138: =SUM(AS138-AW138) -> 0 | U138: =IFERROR(SMALL($E$10:$I$264,65),0) -> 9.10136 | Z138: =IFERROR(IF(U138="","",RANK(U138,$U$10:$Y$264,1)),0) -> 65 | AA138: =IFERROR(INDEX($K$10:$K$264,MATCH(U138,$E$10:$E$264,0),1),0) | AH138: : | AO138: : | AV138: : | AZ138: =IFERROR(IF(E138="","",RANK(E138,$E$10:$I$264,1)),0) -> 54 | BH138: Participant 65 | BP138: =IF(BE138>0,VLOOKUP(BE138,'Infos joueurs'!$B:$BT,11,FALSE)," ")&" "&IF(BE138>0,VLOOKUP(BE138,'Infos joueurs'!$B:$BT,27,FALSE)," ") | CD138: 65 | CH138: =AA138 | CU138: =IFERROR(INDEX($BE$10:$BE$269,MATCH(CH138,$BP$10:$BP$269,0)),0) -> 0
E140: =IFERROR(IF(BP140="","-",RANK(S140,$S$10:$T$264,0)+RANK(Q140,$Q$10:$R$264,0)%+RANK(O140,$O$10:$P$264,0)%%+ROW()%%%),"-") -> 9.10134 | J140: =IFERROR(IF(E140="","",RANK(E140,$E$10:$I$264,1)),"-") -> 55 | K140: =BP140 | O140: =SUM(AE140-AI140) -> 0 | Q140: =SUM(AL140-AP140) -> 0 | S140: =SUM(AS140-AW140) -> 0 | U140: =IFERROR(SMALL($E$10:$I$264,66),0) -> 9.101362 | Z140: =IFERROR(IF(U140="","",RANK(U140,$U$10:$Y$264,1)),0) -> 66 | AA140: =IFERROR(INDEX($K$10:$K$264,MATCH(U140,$E$10:$E$264,0),1),0) | AH140: : | AO140: : | AV140: : | AZ140: =IFERROR(IF(E140="","",RANK(E140,$E$10:$I$264,1)),0) -> 55 | BH140: Participant 66 | BP140: =IF(BE140>0,VLOOKUP(BE140,'Infos joueurs'!$B:$BT,11,FALSE)," ")&" "&IF(BE140>0,VLOOKUP(BE140,'Infos joueurs'!$B:$BT,27,FALSE)," ") | CD140: 66 | CH140: =AA140 | CU140: =IFERROR(INDEX($BE$10:$BE$269,MATCH(CH140,$BP$10:$BP$269,0)),0) -> 0
E142: =IFERROR(IF(BP142="","-",RANK(S142,$S$10:$T$264,0)+RANK(Q142,$Q$10:$R$264,0)%+RANK(O142,$O$10:$P$264,0)%%+ROW()%%%),"-") -> 9.101342 | J142: =IFERROR(IF(E142="","",RANK(E142,$E$10:$I$264,1)),"-") -> 56 | K142: =BP142 | O142: =SUM(AE142-AI142) -> 0 | Q142: =SUM(AL142-AP142) -> 0 | S142: =SUM(AS142-AW142) -> 0 | U142: =IFERROR(SMALL($E$10:$I$264,67),0) -> 9.101364 | Z142: =IFERROR(IF(U142="","",RANK(U142,$U$10:$Y$264,1)),0) -> 67 | AA142: =IFERROR(INDEX($K$10:$K$264,MATCH(U142,$E$10:$E$264,0),1),0) | AH142: : | AO142: : | AV142: : | AZ142: =IFERROR(IF(E142="","",RANK(E142,$E$10:$I$264,1)),0) -> 56 | BH142: Participant 67 | BP142: =IF(BE142>0,VLOOKUP(BE142,'Infos joueurs'!$B:$BT,11,FALSE)," ")&" "&IF(BE142>0,VLOOKUP(BE142,'Infos joueurs'!$B:$BT,27,FALSE)," ") | CD142: 67 | CH142: =AA142 | CU142: =IFERROR(INDEX($BE$10:$BE$269,MATCH(CH142,$BP$10:$BP$269,0)),0) -> 0
E144: =IFERROR(IF(BP144="","-",RANK(S144,$S$10:$T$264,0)+RANK(Q144,$Q$10:$R$264,0)%+RANK(O144,$O$10:$P$264,0)%%+ROW()%%%),"-") -> 9.101344 | J144: =IFERROR(IF(E144="","",RANK(E144,$E$10:$I$264,1)),"-") -> 57 | K144: =BP144 | O144: =SUM(AE144-AI144) -> 0 | Q144: =SUM(AL144-AP144) -> 0 | S144: =SUM(AS144-AW144) -> 0 | U144: =IFERROR(SMALL($E$10:$I$264,68),0) -> 9.101366 | Z144: =IFERROR(IF(U144="","",RANK(U144,$U$10:$Y$264,1)),0) -> 68 | AA144: =IFERROR(INDEX($K$10:$K$264,MATCH(U144,$E$10:$E$264,0),1),0) | AH144: : | AO144: : | AV144: : | AZ144: =IFERROR(IF(E144="","",RANK(E144,$E$10:$I$264,1)),0) -> 57 | BH144: Participant 68 | BP144: =IF(BE144>0,VLOOKUP(BE144,'Infos joueurs'!$B:$BT,11,FALSE)," ")&" "&IF(BE144>0,VLOOKUP(BE144,'Infos joueurs'!$B:$BT,27,FALSE)," ") | CD144: 68 | CH144: =AA144 | CU144: =IFERROR(INDEX($BE$10:$BE$269,MATCH(CH144,$BP$10:$BP$269,0)),0) -> 0
E146: =IFERROR(IF(BP146="","-",RANK(S146,$S$10:$T$264,0)+RANK(Q146,$Q$10:$R$264,0)%+RANK(O146,$O$10:$P$264,0)%%+ROW()%%%),"-") -> 9.101346 | J146: =IFERROR(IF(E146="","",RANK(E146,$E$10:$I$264,1)),"-") -> 58 | K146: =BP146 | O146: =SUM(AE146-AI146) -> 0 | Q146: =SUM(AL146-AP146) -> 0 | S146: =SUM(AS146-AW146) -> 0 | U146: =IFERROR(SMALL($E$10:$I$264,69),0) -> 9.101368 | Z146: =IFERROR(IF(U146="","",RANK(U146,$U$10:$Y$264,1)),0) -> 69 | AA146: =IFERROR(INDEX($K$10:$K$264,MATCH(U146,$E$10:$E$264,0),1),0) | AH146: : | AO146: : | AV146: : | AZ146: =IFERROR(IF(E146="","",RANK(E146,$E$10:$I$264,1)),0) -> 58 | BH146: Participant 69 | BP146: =IF(BE146>0,VLOOKUP(BE146,'Infos joueurs'!$B:$BT,11,FALSE)," ")&" "&IF(BE146>0,VLOOKUP(BE146,'Infos joueurs'!$B:$BT,27,FALSE)," ") | CD146: 69 | CH146: =AA146 | CU146: =IFERROR(INDEX($BE$10:$BE$269,MATCH(CH146,$BP$10:$BP$269,0)),0) -> 0
E148: =IFERROR(IF(BP148="","-",RANK(S148,$S$10:$T$264,0)+RANK(Q148,$Q$10:$R$264,0)%+RANK(O148,$O$10:$P$264,0)%%+ROW()%%%),"-") -> 9.101348 | J148: =IFERROR(IF(E148="","",RANK(E148,$E$10:$I$264,1)),"-") -> 59 | K148: =BP148 | O148: =SUM(AE148-AI148) -> 0 | Q148: =SUM(AL148-AP148) -> 0 | S148: =SUM(AS148-AW148) -> 0 | U148: =IFERROR(SMALL($E$10:$I$264,70),0) -> 9.10137 | Z148: =IFERROR(IF(U148="","",RANK(U148,$U$10:$Y$264,1)),0) -> 70 | AA148: =IFERROR(INDEX($K$10:$K$264,MATCH(U148,$E$10:$E$264,0),1),0) | AH148: : | AO148: : | AV148: : | AZ148: =IFERROR(IF(E148="","",RANK(E148,$E$10:$I$264,1)),0) -> 59 | BH148: Participant 70 | BP148: =IF(BE148>0,VLOOKUP(BE148,'Infos joueurs'!$B:$BT,11,FALSE)," ")&" "&IF(BE148>0,VLOOKUP(BE148,'Infos joueurs'!$B:$BT,27,FALSE)," ") | CD148: 70 | CH148: =AA148 | CU148: =IFERROR(INDEX($BE$10:$BE$269,MATCH(CH148,$BP$10:$BP$269,0)),0) -> 0
E150: =IFERROR(IF(BP150="","-",RANK(S150,$S$10:$T$264,0)+RANK(Q150,$Q$10:$R$264,0)%+RANK(O150,$O$10:$P$264,0)%%+ROW()%%%),"-") -> 9.10135 | J150: =IFERROR(IF(E150="","",RANK(E150,$E$10:$I$264,1)),"-") -> 60 | K150: =BP150 | O150: =SUM(AE150-AI150) -> 0 | Q150: =SUM(AL150-AP150) -> 0 | S150: =SUM(AS150-AW150) -> 0 | U150: =IFERROR(SMALL($E$10:$I$264,71),0) -> 9.101372 | Z150: =IFERROR(IF(U150="","",RANK(U150,$U$10:$Y$264,1)),0) -> 71 | AA150: =IFERROR(INDEX($K$10:$K$264,MATCH(U150,$E$10:$E$264,0),1),0) | AH150: : | AO150: : | AV150: : | AZ150: =IFERROR(IF(E150="","",RANK(E150,$E$10:$I$264,1)),0) -> 60 | BH150: Participant 71 | BP150: =IF(BE150>0,VLOOKUP(BE150,'Infos joueurs'!$B:$BT,11,FALSE)," ")&" "&IF(BE150>0,VLOOKUP(BE150,'Infos joueurs'!$B:$BT,27,FALSE)," ") | CD150: 71 | CH150: =AA150 | CU150: =IFERROR(INDEX($BE$10:$BE$269,MATCH(CH150,$BP$10:$BP$269,0)),0) -> 0
E152: =IFERROR(IF(BP152="","-",RANK(S152,$S$10:$T$264,0)+RANK(Q152,$Q$10:$R$264,0)%+RANK(O152,$O$10:$P$264,0)%%+ROW()%%%),"-") -> 9.101352 | J152: =IFERROR(IF(E152="","",RANK(E152,$E$10:$I$264,1)),"-") -> 61 | K152: =BP152 | O152: =SUM(AE152-AI152) -> 0 | Q152: =SUM(AL152-AP152) -> 0 | S152: =SUM(AS152-AW152) -> 0 | U152: =IFERROR(SMALL($E$10:$I$264,72),0) -> 9.101374 | Z152: =IFERROR(IF(U152="","",RANK(U152,$U$10:$Y$264,1)),0) -> 72 | AA152: =IFERROR(INDEX($K$10:$K$264,MATCH(U152,$E$10:$E$264,0),1),0) | AH152: : | AO152: : | AV152: : | AZ152: =IFERROR(IF(E152="","",RANK(E152,$E$10:$I$264,1)),0) -> 61 | BH152: Participant 72 | BP152: =IF(BE152>0,VLOOKUP(BE152,'Infos joueurs'!$B:$BT,11,FALSE)," ")&" "&IF(BE152>0,VLOOKUP(BE152,'Infos joueurs'!$B:$BT,27,FALSE)," ") | CD152: 72 | CH152: =AA152 | CU152: =IFERROR(INDEX($BE$10:$BE$269,MATCH(CH152,$BP$10:$BP$269,0)),0) -> 0
E154: =IFERROR(IF(BP154="","-",RANK(S154,$S$10:$T$264,0)+RANK(Q154,$Q$10:$R$264,0)%+RANK(O154,$O$10:$P$264,0)%%+ROW()%%%),"-") -> 9.101354 | J154: =IFERROR(IF(E154="","",RANK(E154,$E$10:$I$264,1)),"-") -> 62 | K154: =BP154 | O154: =SUM(AE154-AI154) -> 0 | Q154: =SUM(AL154-AP154) -> 0 | S154: =SUM(AS154-AW154) -> 0 | U154: =IFERROR(SMALL($E$10:$I$264,73),0) -> 9.101376 | Z154: =IFERROR(IF(U154="","",RANK(U154,$U$10:$Y$264,1)),0) -> 73 | AA154: =IFERROR(INDEX($K$10:$K$264,MATCH(U154,$E$10:$E$264,0),1),0) | AH154: : | AO154: : | AV154: : | AZ154: =IFERROR(IF(E154="","",RANK(E154,$E$10:$I$264,1)),0) -> 62 | BH154: Participant 73 | BP154: =IF(BE154>0,VLOOKUP(BE154,'Infos joueurs'!$B:$BT,11,FALSE)," ")&" "&IF(BE154>0,VLOOKUP(BE154,'Infos joueurs'!$B:$BT,27,FALSE)," ") | CD154: 73 | CH154: =AA154 | CU154: =IFERROR(INDEX($BE$10:$BE$269,MATCH(CH154,$BP$10:$BP$269,0)),0) -> 0
E156: =IFERROR(IF(BP156="","-",RANK(S156,$S$10:$T$264,0)+RANK(Q156,$Q$10:$R$264,0)%+RANK(O156,$O$10:$P$264,0)%%+ROW()%%%),"-") -> 9.101356 | J156: =IFERROR(IF(E156="","",RANK(E156,$E$10:$I$264,1)),"-") -> 63 | K156: =BP156 | O156: =SUM(AE156-AI156) -> 0 | Q156: =SUM(AL156-AP156) -> 0 | S156: =SUM(AS156-AW156) -> 0 | U156: =IFERROR(SMALL($E$10:$I$264,74),0) -> 9.101378 | Z156: =IFERROR(IF(U156="","",RANK(U156,$U$10:$Y$264,1)),0) -> 74 | AA156: =IFERROR(INDEX($K$10:$K$264,MATCH(U156,$E$10:$E$264,0),1),0) | AH156: : | AO156: : | AV156: : | AZ156: =IFERROR(IF(E156="","",RANK(E156,$E$10:$I$264,1)),0) -> 63 | BH156: Participant 74 | BP156: =IF(BE156>0,VLOOKUP(BE156,'Infos joueurs'!$B:$BT,11,FALSE)," ")&" "&IF(BE156>0,VLOOKUP(BE156,'Infos joueurs'!$B:$BT,27,FALSE)," ") | CD156: 74 | CH156: =AA156 | CU156: =IFERROR(INDEX($BE$10:$BE$269,MATCH(CH156,$BP$10:$BP$269,0)),0) -> 0
E158: =IFERROR(IF(BP158="","-",RANK(S158,$S$10:$T$264,0)+RANK(Q158,$Q$10:$R$264,0)%+RANK(O158,$O$10:$P$264,0)%%+ROW()%%%),"-") -> 9.101358 | J158: =IFERROR(IF(E158="","",RANK(E158,$E$10:$I$264,1)),"-") -> 64 | K158: =BP158 | O158: =SUM(AE158-AI158) -> 0 | Q158: =SUM(AL158-AP158) -> 0 | S158: =SUM(AS158-AW158) -> 0 | U158: =IFERROR(SMALL($E$10:$I$264,75),0) -> 9.10138 | Z158: =IFERROR(IF(U158="","",RANK(U158,$U$10:$Y$264,1)),0) -> 75 | AA158: =IFERROR(INDEX($K$10:$K$264,MATCH(U158,$E$10:$E$264,0),1),0) | AH158: : | AO158: : | AV158: : | AZ158: =IFERROR(IF(E158="","",RANK(E158,$E$10:$I$264,1)),0) -> 64 | BH158: Participant 75 | BP158: =IF(BE158>0,VLOOKUP(BE158,'Infos joueurs'!$B:$BT,11,FALSE)," ")&" "&IF(BE158>0,VLOOKUP(BE158,'Infos joueurs'!$B:$BT,27,FALSE)," ") | CD158: 75 | CH158: =AA158 | CU158: =IFERROR(INDEX($BE$10:$BE$269,MATCH(CH158,$BP$10:$BP$269,0)),0) -> 0
E160: =IFERROR(IF(BP160="","-",RANK(S160,$S$10:$T$264,0)+RANK(Q160,$Q$10:$R$264,0)%+RANK(O160,$O$10:$P$264,0)%%+ROW()%%%),"-") -> 9.10136 | J160: =IFERROR(IF(E160="","",RANK(E160,$E$10:$I$264,1)),"-") -> 65 | K160: =BP160 | O160: =SUM(AE160-AI160) -> 0 | Q160: =SUM(AL160-AP160) -> 0 | S160: =SUM(AS160-AW160) -> 0 | U160: =IFERROR(SMALL($E$10:$I$264,76),0) -> 9.101382 | Z160: =IFERROR(IF(U160="","",RANK(U160,$U$10:$Y$264,1)),0) -> 76 | AA160: =IFERROR(INDEX($K$10:$K$264,MATCH(U160,$E$10:$E$264,0),1),0) | AH160: : | AO160: : | AV160: : | AZ160: =IFERROR(IF(E160="","",RANK(E160,$E$10:$I$264,1)),0) -> 65 | BH160: Participant 76 | BP160: =IF(BE160>0,VLOOKUP(BE160,'Infos joueurs'!$B:$BT,11,FALSE)," ")&" "&IF(BE160>0,VLOOKUP(BE160,'Infos joueurs'!$B:$BT,27,FALSE)," ") | CD160: 76 | CH160: =AA160 | CU160: =IFERROR(INDEX($BE$10:$BE$269,MATCH(CH160,$BP$10:$BP$269,0)),0) -> 0
E162: =IFERROR(IF(BP162="","-",RANK(S162,$S$10:$T$264,0)+RANK(Q162,$Q$10:$R$264,0)%+RANK(O162,$O$10:$P$264,0)%%+ROW()%%%),"-") -> 9.101362 | J162: =IFERROR(IF(E162="","",RANK(E162,$E$10:$I$264,1)),"-") -> 66 | K162: =BP162 | O162: =SUM(AE162-AI162) -> 0 | Q162: =SUM(AL162-AP162) -> 0 | S162: =SUM(AS162-AW162) -> 0 | U162: =IFERROR(SMALL($E$10:$I$264,77),0) -> 9.101384 | Z162: =IFERROR(IF(U162="","",RANK(U162,$U$10:$Y$264,1)),0) -> 77 | AA162: =IFERROR(INDEX($K$10:$K$264,MATCH(U162,$E$10:$E$264,0),1),0) | AH162: : | AO162: : | AV162: : | AZ162: =IFERROR(IF(E162="","",RANK(E162,$E$10:$I$264,1)),0) -> 66 | BH162: Participant 77 | BP162: =IF(BE162>0,VLOOKUP(BE162,'Infos joueurs'!$B:$BT,11,FALSE)," ")&" "&IF(BE162>0,VLOOKUP(BE162,'Infos joueurs'!$B:$BT,27,FALSE)," ") | CD162: 77 | CH162: =AA162 | CU162: =IFERROR(INDEX($BE$10:$BE$269,MATCH(CH162,$BP$10:$BP$269,0)),0) -> 0
E164: =IFERROR(IF(BP164="","-",RANK(S164,$S$10:$T$264,0)+RANK(Q164,$Q$10:$R$264,0)%+RANK(O164,$O$10:$P$264,0)%%+ROW()%%%),"-") -> 9.101364 | J164: =IFERROR(IF(E164="","",RANK(E164,$E$10:$I$264,1)),"-") -> 67 | K164: =BP164 | O164: =SUM(AE164-AI164) -> 0 | Q164: =SUM(AL164-AP164) -> 0 | S164: =SUM(AS164-AW164) -> 0 | U164: =IFERROR(SMALL($E$10:$I$264,78),0) -> 9.101386 | Z164: =IFERROR(IF(U164="","",RANK(U164,$U$10:$Y$264,1)),0) -> 78 | AA164: =IFERROR(INDEX($K$10:$K$264,MATCH(U164,$E$10:$E$264,0),1),0) | AH164: : | AO164: : | AV164: : | AZ164: =IFERROR(IF(E164="","",RANK(E164,$E$10:$I$264,1)),0) -> 67 | BH164: Participant 78 | BP164: =IF(BE164>0,VLOOKUP(BE164,'Infos joueurs'!$B:$BT,11,FALSE)," ")&" "&IF(BE164>0,VLOOKUP(BE164,'Infos joueurs'!$B:$BT,27,FALSE)," ") | CD164: 78 | CH164: =AA164 | CU164: =IFERROR(INDEX($BE$10:$BE$269,MATCH(CH164,$BP$10:$BP$269,0)),0) -> 0
E166: =IFERROR(IF(BP166="","-",RANK(S166,$S$10:$T$264,0)+RANK(Q166,$Q$10:$R$264,0)%+RANK(O166,$O$10:$P$264,0)%%+ROW()%%%),"-") -> 9.101366 | J166: =IFERROR(IF(E166="","",RANK(E166,$E$10:$I$264,1)),"-") -> 68 | K166: =BP166 | O166: =SUM(AE166-AI166) -> 0 | Q166: =SUM(AL166-AP166) -> 0 | S166: =SUM(AS166-AW166) -> 0 | U166: =IFERROR(SMALL($E$10:$I$264,79),0) -> 9.101388 | Z166: =IFERROR(IF(U166="","",RANK(U166,$U$10:$Y$264,1)),0) -> 79 | AA166: =IFERROR(INDEX($K$10:$K$264,MATCH(U166,$E$10:$E$264,0),1),0) | AH166: : | AO166: : | AV166: : | AZ166: =IFERROR(IF(E166="","",RANK(E166,$E$10:$I$264,1)),0) -> 68 | BH166: Participant 79 | BP166: =IF(BE166>0,VLOOKUP(BE166,'Infos joueurs'!$B:$BT,11,FALSE)," ")&" "&IF(BE166>0,VLOOKUP(BE166,'Infos joueurs'!$B:$BT,27,FALSE)," ") | CD166: 79 | CH166: =AA166 | CU166: =IFERROR(INDEX($BE$10:$BE$269,MATCH(CH166,$BP$10:$BP$269,0)),0) -> 0
E168: =IFERROR(IF(BP168="","-",RANK(S168,$S$10:$T$264,0)+RANK(Q168,$Q$10:$R$264,0)%+RANK(O168,$O$10:$P$264,0)%%+ROW()%%%),"-") -> 9.101368 | J168: =IFERROR(IF(E168="","",RANK(E168,$E$10:$I$264,1)),"-") -> 69 | K168: =BP168 | O168: =SUM(AE168-AI168) -> 0 | Q168: =SUM(AL168-AP168) -> 0 | S168: =SUM(AS168-AW168) -> 0 | U168: =IFERROR(SMALL($E$10:$I$264,80),0) -> 9.10139 | Z168: =IFERROR(IF(U168="","",RANK(U168,$U$10:$Y$264,1)),0) -> 80 | AA168: =IFERROR(INDEX($K$10:$K$264,MATCH(U168,$E$10:$E$264,0),1),0) | AH168: : | AO168: : | AV168: : | AZ168: =IFERROR(IF(E168="","",RANK(E168,$E$10:$I$264,1)),0) -> 69 | BH168: Participant 80 | BP168: =IF(BE168>0,VLOOKUP(BE168,'Infos joueurs'!$B:$BT,11,FALSE)," ")&" "&IF(BE168>0,VLOOKUP(BE168,'Infos joueurs'!$B:$BT,27,FALSE)," ") | CD168: 80 | CH168: =AA168 | CU168: =IFERROR(INDEX($BE$10:$BE$269,MATCH(CH168,$BP$10:$BP$269,0)),0) -> 0
E170: =IFERROR(IF(BP170="","-",RANK(S170,$S$10:$T$264,0)+RANK(Q170,$Q$10:$R$264,0)%+RANK(O170,$O$10:$P$264,0)%%+ROW()%%%),"-") -> 9.10137 | J170: =IFERROR(IF(E170="","",RANK(E170,$E$10:$I$264,1)),"-") -> 70 | K170: =BP170 | O170: =SUM(AE170-AI170) -> 0 | Q170: =SUM(AL170-AP170) -> 0 | S170: =SUM(AS170-AW170) -> 0 | U170: =IFERROR(SMALL($E$10:$I$264,81),0) -> 9.101392 | Z170: =IFERROR(IF(U170="","",RANK(U170,$U$10:$Y$264,1)),0) -> 81 | AA170: =IFERROR(INDEX($K$10:$K$264,MATCH(U170,$E$10:$E$264,0),1),0) | AH170: : | AO170: : | AV170: : | AZ170: =IFERROR(IF(E170="","",RANK(E170,$E$10:$I$264,1)),0) -> 70 | BH170: Participant 81 | BP170: =IF(BE170>0,VLOOKUP(BE170,'Infos joueurs'!$B:$BT,11,FALSE)," ")&" "&IF(BE170>0,VLOOKUP(BE170,'Infos joueurs'!$B:$BT,27,FALSE)," ") | CD170: 81 | CH170: =AA170 | CU170: =IFERROR(INDEX($BE$10:$BE$269,MATCH(CH170,$BP$10:$BP$269,0)),0) -> 0
E172: =IFERROR(IF(BP172="","-",RANK(S172,$S$10:$T$264,0)+RANK(Q172,$Q$10:$R$264,0)%+RANK(O172,$O$10:$P$264,0)%%+ROW()%%%),"-") -> 9.101372 | J172: =IFERROR(IF(E172="","",RANK(E172,$E$10:$I$264,1)),"-") -> 71 | K172: =BP172 | O172: =SUM(AE172-AI172) -> 0 | Q172: =SUM(AL172-AP172) -> 0 | S172: =SUM(AS172-AW172) -> 0 | U172: =IFERROR(SMALL($E$10:$I$264,82),0) -> 9.101394 | Z172: =IFERROR(IF(U172="","",RANK(U172,$U$10:$Y$264,1)),0) -> 82 | AA172: =IFERROR(INDEX($K$10:$K$264,MATCH(U172,$E$10:$E$264,0),1),0) | AH172: : | AO172: : | AV172: : | AZ172: =IFERROR(IF(E172="","",RANK(E172,$E$10:$I$264,1)),0) -> 71 | BH172: Participant 82 | BP172: =IF(BE172>0,VLOOKUP(BE172,'Infos joueurs'!$B:$BT,11,FALSE)," ")&" "&IF(BE172>0,VLOOKUP(BE172,'Infos joueurs'!$B:$BT,27,FALSE)," ") | CD172: 82 | CH172: =AA172 | CU172: =IFERROR(INDEX($BE$10:$BE$269,MATCH(CH172,$BP$10:$BP$269,0)),0) -> 0
E174: =IFERROR(IF(BP174="","-",RANK(S174,$S$10:$T$264,0)+RANK(Q174,$Q$10:$R$264,0)%+RANK(O174,$O$10:$P$264,0)%%+ROW()%%%),"-") -> 9.101374 | J174: =IFERROR(IF(E174="","",RANK(E174,$E$10:$I$264,1)),"-") -> 72 | K174: =BP174 | O174: =SUM(AE174-AI174) -> 0 | Q174: =SUM(AL174-AP174) -> 0 | S174: =SUM(AS174-AW174) -> 0 | U174: =IFERROR(SMALL($E$10:$I$264,83),0) -> 9.101396 | Z174: =IFERROR(IF(U174="","",RANK(U174,$U$10:$Y$264,1)),0) -> 83 | AA174: =IFERROR(INDEX($K$10:$K$264,MATCH(U174,$E$10:$E$264,0),1),0) | AH174: : | AO174: : | AV174: : | AZ174: =IFERROR(IF(E174="","",RANK(E174,$E$10:$I$264,1)),0) -> 72 | BH174: Participant 83 | BP174: =IF(BE174>0,VLOOKUP(BE174,'Infos joueurs'!$B:$BT,11,FALSE)," ")&" "&IF(BE174>0,VLOOKUP(BE174,'Infos joueurs'!$B:$BT,27,FALSE)," ") | CD174: 83 | CH174: =AA174 | CU174: =IFERROR(INDEX($BE$10:$BE$269,MATCH(CH174,$BP$10:$BP$269,0)),0) -> 0
E176: =IFERROR(IF(BP176="","-",RANK(S176,$S$10:$T$264,0)+RANK(Q176,$Q$10:$R$264,0)%+RANK(O176,$O$10:$P$264,0)%%+ROW()%%%),"-") -> 9.101376 | J176: =IFERROR(IF(E176="","",RANK(E176,$E$10:$I$264,1)),"-") -> 73 | K176: =BP176 | O176: =SUM(AE176-AI176) -> 0 | Q176: =SUM(AL176-AP176) -> 0 | S176: =SUM(AS176-AW176) -> 0 | U176: =IFERROR(SMALL($E$10:$I$264,84),0) -> 9.101398 | Z176: =IFERROR(IF(U176="","",RANK(U176,$U$10:$Y$264,1)),0) -> 84 | AA176: =IFERROR(INDEX($K$10:$K$264,MATCH(U176,$E$10:$E$264,0),1),0) | AH176: : | AO176: : | AV176: : | AZ176: =IFERROR(IF(E176="","",RANK(E176,$E$10:$I$264,1)),0) -> 73 | BH176: Participant 84 | BP176: =IF(BE176>0,VLOOKUP(BE176,'Infos joueurs'!$B:$BT,11,FALSE)," ")&" "&IF(BE176>0,VLOOKUP(BE176,'Infos joueurs'!$B:$BT,27,FALSE)," ") | CD176: 84 | CH176: =AA176 | CU176: =IFERROR(INDEX($BE$10:$BE$269,MATCH(CH176,$BP$10:$BP$269,0)),0) -> 0
E178: =IFERROR(IF(BP178="","-",RANK(S178,$S$10:$T$264,0)+RANK(Q178,$Q$10:$R$264,0)%+RANK(O178,$O$10:$P$264,0)%%+ROW()%%%),"-") -> 9.101378 | J178: =IFERROR(IF(E178="","",RANK(E178,$E$10:$I$264,1)),"-") -> 74 | K178: =BP178 | O178: =SUM(AE178-AI178) -> 0 | Q178: =SUM(AL178-AP178) -> 0 | S178: =SUM(AS178-AW178) -> 0 | U178: =IFERROR(SMALL($E$10:$I$264,85),0) -> 9.1014 | Z178: =IFERROR(IF(U178="","",RANK(U178,$U$10:$Y$264,1)),0) -> 85 | AA178: =IFERROR(INDEX($K$10:$K$264,MATCH(U178,$E$10:$E$264,0),1),0) | AH178: : | AO178: : | AV178: : | AZ178: =IFERROR(IF(E178="","",RANK(E178,$E$10:$I$264,1)),0) -> 74 | BH178: Participant 85 | BP178: =IF(BE178>0,VLOOKUP(BE178,'Infos joueurs'!$B:$BT,11,FALSE)," ")&" "&IF(BE178>0,VLOOKUP(BE178,'Infos joueurs'!$B:$BT,27,FALSE)," ") | CD178: 85 | CH178: =AA178 | CU178: =IFERROR(INDEX($BE$10:$BE$269,MATCH(CH178,$BP$10:$BP$269,0)),0) -> 0
E180: =IFERROR(IF(BP180="","-",RANK(S180,$S$10:$T$264,0)+RANK(Q180,$Q$10:$R$264,0)%+RANK(O180,$O$10:$P$264,0)%%+ROW()%%%),"-") -> 9.10138 | J180: =IFERROR(IF(E180="","",RANK(E180,$E$10:$I$264,1)),"-") -> 75 | K180: =BP180 | O180: =SUM(AE180-AI180) -> 0 | Q180: =SUM(AL180-AP180) -> 0 | S180: =SUM(AS180-AW180) -> 0 | U180: =IFERROR(SMALL($E$10:$I$264,86),0) -> 9.101402 | Z180: =IFERROR(IF(U180="","",RANK(U180,$U$10:$Y$264,1)),0) -> 86 | AA180: =IFERROR(INDEX($K$10:$K$264,MATCH(U180,$E$10:$E$264,0),1),0) | AH180: : | AO180: : | AV180: : | AZ180: =IFERROR(IF(E180="","",RANK(E180,$E$10:$I$264,1)),0) -> 75 | BH180: Participant 86 | BP180: =IF(BE180>0,VLOOKUP(BE180,'Infos joueurs'!$B:$BT,11,FALSE)," ")&" "&IF(BE180>0,VLOOKUP(BE180,'Infos joueurs'!$B:$BT,27,FALSE)," ") | CD180: 86 | CH180: =AA180 | CU180: =IFERROR(INDEX($BE$10:$BE$269,MATCH(CH180,$BP$10:$BP$269,0)),0) -> 0
E182: =IFERROR(IF(BP182="","-",RANK(S182,$S$10:$T$264,0)+RANK(Q182,$Q$10:$R$264,0)%+RANK(O182,$O$10:$P$264,0)%%+ROW()%%%),"-") -> 9.101382 | J182: =IFERROR(IF(E182="","",RANK(E182,$E$10:$I$264,1)),"-") -> 76 | K182: =BP182 | O182: =SUM(AE182-AI182) -> 0 | Q182: =SUM(AL182-AP182) -> 0 | S182: =SUM(AS182-AW182) -> 0 | U182: =IFERROR(SMALL($E$10:$I$264,87),0) -> 9.101404 | Z182: =IFERROR(IF(U182="","",RANK(U182,$U$10:$Y$264,1)),0) -> 87 | AA182: =IFERROR(INDEX($K$10:$K$264,MATCH(U182,$E$10:$E$264,0),1),0) | AH182: : | AO182: : | AV182: : | AZ182: =IFERROR(IF(E182="","",RANK(E182,$E$10:$I$264,1)),0) -> 76 | BH182: Participant 87 | BP182: =IF(BE182>0,VLOOKUP(BE182,'Infos joueurs'!$B:$BT,11,FALSE)," ")&" "&IF(BE182>0,VLOOKUP(BE182,'Infos joueurs'!$B:$BT,27,FALSE)," ") | CD182: 87 | CH182: =AA182 | CU182: =IFERROR(INDEX($BE$10:$BE$269,MATCH(CH182,$BP$10:$BP$269,0)),0) -> 0
E184: =IFERROR(IF(BP184="","-",RANK(S184,$S$10:$T$264,0)+RANK(Q184,$Q$10:$R$264,0)%+RANK(O184,$O$10:$P$264,0)%%+ROW()%%%),"-") -> 9.101384 | J184: =IFERROR(IF(E184="","",RANK(E184,$E$10:$I$264,1)),"-") -> 77 | K184: =BP184 | O184: =SUM(AE184-AI184) -> 0 | Q184: =SUM(AL184-AP184) -> 0 | S184: =SUM(AS184-AW184) -> 0 | U184: =IFERROR(SMALL($E$10:$I$264,88),0) -> 9.101406 | Z184: =IFERROR(IF(U184="","",RANK(U184,$U$10:$Y$264,1)),0) -> 88 | AA184: =IFERROR(INDEX($K$10:$K$264,MATCH(U184,$E$10:$E$264,0),1),0) | AH184: : | AO184: : | AV184: : | AZ184: =IFERROR(IF(E184="","",RANK(E184,$E$10:$I$264,1)),0) -> 77 | BH184: Participant 88 | BP184: =IF(BE184>0,VLOOKUP(BE184,'Infos joueurs'!$B:$BT,11,FALSE)," ")&" "&IF(BE184>0,VLOOKUP(BE184,'Infos joueurs'!$B:$BT,27,FALSE)," ") | CD184: 88 | CH184: =AA184 | CU184: =IFERROR(INDEX($BE$10:$BE$269,MATCH(CH184,$BP$10:$BP$269,0)),0) -> 0
E186: =IFERROR(IF(BP186="","-",RANK(S186,$S$10:$T$264,0)+RANK(Q186,$Q$10:$R$264,0)%+RANK(O186,$O$10:$P$264,0)%%+ROW()%%%),"-") -> 9.101386 | J186: =IFERROR(IF(E186="","",RANK(E186,$E$10:$I$264,1)),"-") -> 78 | K186: =BP186 | O186: =SUM(AE186-AI186) -> 0 | Q186: =SUM(AL186-AP186) -> 0 | S186: =SUM(AS186-AW186) -> 0 | U186: =IFERROR(SMALL($E$10:$I$264,89),0) -> 9.101408 | Z186: =IFERROR(IF(U186="","",RANK(U186,$U$10:$Y$264,1)),0) -> 89 | AA186: =IFERROR(INDEX($K$10:$K$264,MATCH(U186,$E$10:$E$264,0),1),0) | AH186: : | AO186: : | AV186: : | AZ186: =IFERROR(IF(E186="","",RANK(E186,$E$10:$I$264,1)),0) -> 78 | BH186: Participant 89 | BP186: =IF(BE186>0,VLOOKUP(BE186,'Infos joueurs'!$B:$BT,11,FALSE)," ")&" "&IF(BE186>0,VLOOKUP(BE186,'Infos joueurs'!$B:$BT,27,FALSE)," ") | CD186: 89 | CH186: =AA186 | CU186: =IFERROR(INDEX($BE$10:$BE$269,MATCH(CH186,$BP$10:$BP$269,0)),0) -> 0
E188: =IFERROR(IF(BP188="","-",RANK(S188,$S$10:$T$264,0)+RANK(Q188,$Q$10:$R$264,0)%+RANK(O188,$O$10:$P$264,0)%%+ROW()%%%),"-") -> 9.101388 | J188: =IFERROR(IF(E188="","",RANK(E188,$E$10:$I$264,1)),"-") -> 79 | K188: =BP188 | O188: =SUM(AE188-AI188) -> 0 | Q188: =SUM(AL188-AP188) -> 0 | S188: =SUM(AS188-AW188) -> 0 | U188: =IFERROR(SMALL($E$10:$I$264,90),0) -> 9.10141 | Z188: =IFERROR(IF(U188="","",RANK(U188,$U$10:$Y$264,1)),0) -> 90 | AA188: =IFERROR(INDEX($K$10:$K$264,MATCH(U188,$E$10:$E$264,0),1),0) | AH188: : | AO188: : | AV188: : | AZ188: =IFERROR(IF(E188="","",RANK(E188,$E$10:$I$264,1)),0) -> 79 | BH188: Participant 90 | BP188: =IF(BE188>0,VLOOKUP(BE188,'Infos joueurs'!$B:$BT,11,FALSE)," ")&" "&IF(BE188>0,VLOOKUP(BE188,'Infos joueurs'!$B:$BT,27,FALSE)," ") | CD188: 90 | CH188: =AA188 | CU188: =IFERROR(INDEX($BE$10:$BE$269,MATCH(CH188,$BP$10:$BP$269,0)),0) -> 0
E190: =IFERROR(IF(BP190="","-",RANK(S190,$S$10:$T$264,0)+RANK(Q190,$Q$10:$R$264,0)%+RANK(O190,$O$10:$P$264,0)%%+ROW()%%%),"-") -> 9.10139 | J190: =IFERROR(IF(E190="","",RANK(E190,$E$10:$I$264,1)),"-") -> 80 | K190: =BP190 | O190: =SUM(AE190-AI190) -> 0 | Q190: =SUM(AL190-AP190) -> 0 | S190: =SUM(AS190-AW190) -> 0 | U190: =IFERROR(SMALL($E$10:$I$264,91),0) -> 9.101412 | Z190: =IFERROR(IF(U190="","",RANK(U190,$U$10:$Y$264,1)),0) -> 91 | AA190: =IFERROR(INDEX($K$10:$K$264,MATCH(U190,$E$10:$E$264,0),1),0) | AH190: : | AO190: : | AV190: : | AZ190: =IFERROR(IF(E190="","",RANK(E190,$E$10:$I$264,1)),0) -> 80 | BH190: Participant 91 | BP190: =IF(BE190>0,VLOOKUP(BE190,'Infos joueurs'!$B:$BT,11,FALSE)," ")&" "&IF(BE190>0,VLOOKUP(BE190,'Infos joueurs'!$B:$BT,27,FALSE)," ") | CD190: 91 | CH190: =AA190 | CU190: =IFERROR(INDEX($BE$10:$BE$269,MATCH(CH190,$BP$10:$BP$269,0)),0) -> 0
E192: =IFERROR(IF(BP192="","-",RANK(S192,$S$10:$T$264,0)+RANK(Q192,$Q$10:$R$264,0)%+RANK(O192,$O$10:$P$264,0)%%+ROW()%%%),"-") -> 9.101392 | J192: =IFERROR(IF(E192="","",RANK(E192,$E$10:$I$264,1)),"-") -> 81 | K192: =BP192 | O192: =SUM(AE192-AI192) -> 0 | Q192: =SUM(AL192-AP192) -> 0 | S192: =SUM(AS192-AW192) -> 0 | U192: =IFERROR(SMALL($E$10:$I$264,92),0) -> 9.101414 | Z192: =IFERROR(IF(U192="","",RANK(U192,$U$10:$Y$264,1)),0) -> 92 | AA192: =IFERROR(INDEX($K$10:$K$264,MATCH(U192,$E$10:$E$264,0),1),0) | AH192: : | AO192: : | AV192: : | AZ192: =IFERROR(IF(E192="","",RANK(E192,$E$10:$I$264,1)),0) -> 81 | BH192: Participant 92 | BP192: =IF(BE192>0,VLOOKUP(BE192,'Infos joueurs'!$B:$BT,11,FALSE)," ")&" "&IF(BE192>0,VLOOKUP(BE192,'Infos joueurs'!$B:$BT,27,FALSE)," ") | CD192: 92 | CH192: =AA192 | CU192: =IFERROR(INDEX($BE$10:$BE$269,MATCH(CH192,$BP$10:$BP$269,0)),0) -> 0
E194: =IFERROR(IF(BP194="","-",RANK(S194,$S$10:$T$264,0)+RANK(Q194,$Q$10:$R$264,0)%+RANK(O194,$O$10:$P$264,0)%%+ROW()%%%),"-") -> 9.101394 | J194: =IFERROR(IF(E194="","",RANK(E194,$E$10:$I$264,1)),"-") -> 82 | K194: =BP194 | O194: =SUM(AE194-AI194) -> 0 | Q194: =SUM(AL194-AP194) -> 0 | S194: =SUM(AS194-AW194) -> 0 | U194: =IFERROR(SMALL($E$10:$I$264,93),0) -> 9.101416 | Z194: =IFERROR(IF(U194="","",RANK(U194,$U$10:$Y$264,1)),0) -> 93 | AA194: =IFERROR(INDEX($K$10:$K$264,MATCH(U194,$E$10:$E$264,0),1),0) | AH194: : | AO194: : | AV194: : | AZ194: =IFERROR(IF(E194="","",RANK(E194,$E$10:$I$264,1)),0) -> 82 | BH194: Participant 93 | BP194: =IF(BE194>0,VLOOKUP(BE194,'Infos joueurs'!$B:$BT,11,FALSE)," ")&" "&IF(BE194>0,VLOOKUP(BE194,'Infos joueurs'!$B:$BT,27,FALSE)," ") | CD194: 93 | CH194: =AA194 | CU194: =IFERROR(INDEX($BE$10:$BE$269,MATCH(CH194,$BP$10:$BP$269,0)),0) -> 0
E196: =IFERROR(IF(BP196="","-",RANK(S196,$S$10:$T$264,0)+RANK(Q196,$Q$10:$R$264,0)%+RANK(O196,$O$10:$P$264,0)%%+ROW()%%%),"-") -> 9.101396 | J196: =IFERROR(IF(E196="","",RANK(E196,$E$10:$I$264,1)),"-") -> 83 | K196: =BP196 | O196: =SUM(AE196-AI196) -> 0 | Q196: =SUM(AL196-AP196) -> 0 | S196: =SUM(AS196-AW196) -> 0 | U196: =IFERROR(SMALL($E$10:$I$264,94),0) -> 9.101418 | Z196: =IFERROR(IF(U196="","",RANK(U196,$U$10:$Y$264,1)),0) -> 94 | AA196: =IFERROR(INDEX($K$10:$K$264,MATCH(U196,$E$10:$E$264,0),1),0) | AH196: : | AO196: : | AV196: : | AZ196: =IFERROR(IF(E196="","",RANK(E196,$E$10:$I$264,1)),0) -> 83 | BH196: Participant 94 | BP196: =IF(BE196>0,VLOOKUP(BE196,'Infos joueurs'!$B:$BT,11,FALSE)," ")&" "&IF(BE196>0,VLOOKUP(BE196,'Infos joueurs'!$B:$BT,27,FALSE)," ") | CD196: 94 | CH196: =AA196 | CU196: =IFERROR(INDEX($BE$10:$BE$269,MATCH(CH196,$BP$10:$BP$269,0)),0) -> 0
E198: =IFERROR(IF(BP198="","-",RANK(S198,$S$10:$T$264,0)+RANK(Q198,$Q$10:$R$264,0)%+RANK(O198,$O$10:$P$264,0)%%+ROW()%%%),"-") -> 9.101398 | J198: =IFERROR(IF(E198="","",RANK(E198,$E$10:$I$264,1)),"-") -> 84 | K198: =BP198 | O198: =SUM(AE198-AI198) -> 0 | Q198: =SUM(AL198-AP198) -> 0 | S198: =SUM(AS198-AW198) -> 0 | U198: =IFERROR(SMALL($E$10:$I$264,95),0) -> 9.10142 | Z198: =IFERROR(IF(U198="","",RANK(U198,$U$10:$Y$264,1)),0) -> 95 | AA198: =IFERROR(INDEX($K$10:$K$264,MATCH(U198,$E$10:$E$264,0),1),0) | AH198: : | AO198: : | AV198: : | AZ198: =IFERROR(IF(E198="","",RANK(E198,$E$10:$I$264,1)),0) -> 84 | BH198: Participant 95 | BP198: =IF(BE198>0,VLOOKUP(BE198,'Infos joueurs'!$B:$BT,11,FALSE)," ")&" "&IF(BE198>0,VLOOKUP(BE198,'Infos joueurs'!$B:$BT,27,FALSE)," ") | CD198: 95 | CH198: =AA198 | CU198: =IFERROR(INDEX($BE$10:$BE$269,MATCH(CH198,$BP$10:$BP$269,0)),0) -> 0
...
