Workbook

Sheet Agence
A1: N° | B1: Zone | C1: Ilôt | D1: Position | E1: Emplacement | F1: Poste n° | G1: Attribué à
A2: 1SR | B2: Open | C2: 1 | D2: Sud | E2: Rhône | F2: =IFERROR(IF(HLOOKUP(Tableau1[[#This Row],[N°]],'P06'!$1:$2,2,FALSE)=0,"",HLOOKUP(Tableau1[[#This Row],[N°]],'P06'!$1:$2,2,FALSE)),"") | G2: =IFERROR(IF(HLOOKUP(Tableau1[[#This Row],[N°]],'P06'!J$1:J$2,2,FALSE)=0,"",HLOOKUP(Tableau1[[#This Row],[N°]],'P06'!J$1:J$2,2,FALSE)),"")
A3: 1SM | B3: Open | C3: 1 | D3: Sud | E3: Milieu | F3: =IFERROR(IF(HLOOKUP(Tableau1[[#This Row],[N°]],'P06'!$1:$2,2,FALSE)=0,"",HLOOKUP(Tableau1[[#This Row],[N°]],'P06'!$1:$2,2,FALSE)),"") | G3: =IFERROR(IF(HLOOKUP(Tableau1[[#This Row],[N°]],'P06'!J$1:J$2,2,FALSE)=0,"",HLOOKUP(Tableau1[[#This Row],[N°]],'P06'!J$1:J$2,2,FALSE)),"")
A4: 1SS | B4: Open | C4: 1 | D4: Sud | E4: Saône | F4: =IFERROR(IF(HLOOKUP(Tableau1[[#This Row],[N°]],'P06'!$1:$2,2,FALSE)=0,"",HLOOKUP(Tableau1[[#This Row],[N°]],'P06'!$1:$2,2,FALSE)),"") -> P06 | G4: =IFERROR(IF(HLOOKUP(Tableau1[[#This Row],[N°]],'P06'!J$1:J$2,2,FALSE)=0,"",HLOOKUP(Tableau1[[#This Row],[N°]],'P06'!J$1:J$2,2,FALSE)),"") -> roman Feuilleton
A5: 1NR | B5: Open | C5: 1 | D5: Nord | E5: Rhône | F5: =IFERROR(IF(HLOOKUP(Tableau1[[#This Row],[N°]],'P06'!$1:$2,2,FALSE)=0,"",HLOOKUP(Tableau1[[#This Row],[N°]],'P06'!$1:$2,2,FALSE)),"") | G5: =IFERROR(IF(HLOOKUP(Tableau1[[#This Row],[N°]],'P06'!J$1:J$2,2,FALSE)=0,"",HLOOKUP(Tableau1[[#This Row],[N°]],'P06'!J$1:J$2,2,FALSE)),"")
A6: 1NM | B6: Open | C6: 1 | D6: Nord | E6: Milieu | F6: =IFERROR(IF(HLOOKUP(Tableau1[[#This Row],[N°]],'P06'!$1:$2,2,FALSE)=0,"",HLOOKUP(Tableau1[[#This Row],[N°]],'P06'!$1:$2,2,FALSE)),"") | G6: =IFERROR(IF(HLOOKUP(Tableau1[[#This Row],[N°]],'P06'!J$1:J$2,2,FALSE)=0,"",HLOOKUP(Tableau1[[#This Row],[N°]],'P06'!J$1:J$2,2,FALSE)),"")
A7: 1NS | B7: Open | C7: 1 | D7: Nord | E7: Saône | F7: =IFERROR(IF(HLOOKUP(Tableau1[[#This Row],[N°]],'P06'!$1:$2,2,FALSE)=0,"",HLOOKUP(Tableau1[[#This Row],[N°]],'P06'!$1:$2,2,FALSE)),"") | G7: =IFERROR(IF(HLOOKUP(Tableau1[[#This Row],[N°]],'P06'!J$1:J$2,2,FALSE)=0,"",HLOOKUP(Tableau1[[#This Row],[N°]],'P06'!J$1:J$2,2,FALSE)),"")
A8: 2SR | B8: Open | C8: 2 | D8: Sud | E8: Rhône | F8: =IFERROR(IF(HLOOKUP(Tableau1[[#This Row],[N°]],'P06'!$1:$2,2,FALSE)=0,"",HLOOKUP(Tableau1[[#This Row],[N°]],'P06'!$1:$2,2,FALSE)),"") | G8: =IFERROR(IF(HLOOKUP(Tableau1[[#This Row],[N°]],'P06'!J$1:J$2,2,FALSE)=0,"",HLOOKUP(Tableau1[[#This Row],[N°]],'P06'!J$1:J$2,2,FALSE)),"")
F9: =IFERROR(IF(HLOOKUP(Tableau1[[#This Row],[N°]],'P06'!$1:$2,2,FALSE)=0,"",HLOOKUP(Tableau1[[#This Row],[N°]],'P06'!$1:$2,2,FALSE)),"") | G9: =IFERROR(IF(HLOOKUP(Tableau1[[#This Row],[N°]],'P06'!J$1:J$2,2,FALSE)=0,"",HLOOKUP(Tableau1[[#This Row],[N°]],'P06'!J$1:J$2,2,FALSE)),"")
F10: =IFERROR(IF(HLOOKUP(Tableau1[[#This Row],[N°]],'P06'!$1:$2,2,FALSE)=0,"",HLOOKUP(Tableau1[[#This Row],[N°]],'P06'!$1:$2,2,FALSE)),"") | G10: =IFERROR(IF(HLOOKUP(Tableau1[[#This Row],[N°]],'P06'!J$1:J$2,2,FALSE)=0,"",HLOOKUP(Tableau1[[#This Row],[N°]],'P06'!J$1:J$2,2,FALSE)),"")

Sheet P06
A1: =A4 -> 1SS | J1: =A1 -> 1SS
A2: P06 | J2: roman Feuilleton
A3: Place Open Space | I3: 43291 | J3: CDI
A4: 1SS | H4: Date de début | J4: 43283
H5: Date de fin | J5: 401951
A6: Configuration du poste
A7: Entrée : | B7: 40219 | H7: Sortie :
A8: Type PC | C8: Fixe
A9: Marque PC
A10: N° de série PC
A11: OS
A12: N° de série OS
A13: Processeur | C13: Intel 7 - 6700 - 3,40GHz
A14: Carte graphique | C14: K2200 | D14: Nvidia | E14: Quadro | G14: Mémoire vidéo : | I14: 4GO
A15: Connecteurs CG | C15: DVI : | D15: 1 | G15: HDMI : | H15: 0
C16: VGA : | D16: 0 | G16: DP : | H16: 2
A17: Disque dur 1 | C17: Samsung EVO 850 | F17: 250 | G17: SSD : | J17: oui
A18: Disque dur 2 | C18: WDC WD10EZEX | F18: 1000 | G18: SSD : | J18: non
A19: Mémoire RAM | C19: 16 Go | F19: 4x4Go
A22: Designation périphériques
A23: Ecran | C23: ST2210b | D23: Dell | E23: 21,5" | F23: 1920*1080 | G23: 272S4 | H23: Philips | I23: 27" | J23: 2560*1440
A24: Connect. écrans | C24: DVI : | D24: VGA : | E24: HDMI : | F24: DisplayP : | G24: DVI : | H24: VGA : | I24: HDMI : | J24: DisplayP :
C25: 1 | D25: 1 | E25: 1 | F25: 0 | G25: 1 | H25: 1 | I25: 1 | J25: 1
A26: Souris | C26: Logitech - M500
A27: Clavier | C27: Logitech - K290
A28: Autres
A30: Designation logiciels
A31: Bureautique | C31: Logiciel | D31: Version | E31: N° de série | J31: Product Key
A32: Bureautique | C32: Office
A33: Antivirus | C33: Trend micro
A34: CAO
A35: Autodesk | B35: 3ds MAX | J35: 128H1
A38: Vray
A39: PAO
A40: Adobe
A44: SPECIFIQUE
A45: Ms Project
A46: Hermès

Sheet P07
A1: =A4 -> 2SR | J1: =A1 -> 2SR
A2: P07 | J2: Caravane
A3: Place Open Space | I3: 43291 | J3: CDI
A4: 2SR | H4: Date de début | J4: 43283
H5: Date de fin | J5: 401951
A6: Configuration du poste
A7: Entrée : | B7: 40219 | H7: Sortie :
A8: Type PC | C8: Fixe
A9: Marque PC
A10: N° de série PC
A11: OS
A12: N° de série OS
A13: Processeur | C13: Intel 7 - 6700 - 3,40GHz
A14: Carte graphique | C14: K2200 | D14: Nvidia | E14: Quadro | G14: Mémoire vidéo : | I14: 4GO
A15: Connecteurs CG | C15: DVI : | D15: 1 | G15: HDMI : | H15: 0
C16: VGA : | D16: 0 | G16: DP : | H16: 2
A17: Disque dur 1 | C17: Samsung EVO 850 | F17: 250 | G17: SSD : | J17: oui
A18: Disque dur 2 | C18: WDC WD10EZEX | F18: 1000 | G18: SSD : | J18: non
A19: Mémoire RAM | C19: 16 Go | F19: 4x4Go
A22: Designation périphériques
A23: Ecran | C23: ST2210b | D23: Dell | E23: 21,5" | F23: 1920*1080 | G23: 272S4 | H23: Philips | I23: 27" | J23: 2560*1440
A24: Connect. écrans | C24: DVI : | D24: VGA : | E24: HDMI : | F24: DisplayP : | G24: DVI : | H24: VGA : | I24: HDMI : | J24: DisplayP :
C25: 1 | D25: 1 | E25: 1 | F25: 0 | G25: 1 | H25: 1 | I25: 1 | J25: 1
A26: Souris | C26: Logitech - M500
A27: Clavier | C27: Logitech - K290
A28: Autres
A30: Designation logiciels
A31: Bureautique | C31: Logiciel | D31: Version | E31: N° de série | J31: Product Key
A32: Bureautique | C32: Office
A33: Antivirus | C33: Trend micro
A34: CAO
A35: Autodesk | B35: 3ds MAX | J35: 128H1
A38: Vray
A39: PAO
A40: Adobe
A44: SPECIFIQUE
A45: Ms Project
A46: Hermès

Sheet Feuil3
