Workbook
Name rng: Feuil4!$A$2:$A$530

Sheet Feuil1
A1: CLIENTS | B1: CA CLIENT | C1: % CA CLIENT | D1: MARGE BRUTE | E1: % MB/CA | F1: MO reelle | G1: % MO | H1: %MO/CA | I1: NAF
A2: Total ALTERVAL | B2: =SUMIFS(Feuil4!C:C,Feuil4!A:A,A2) -> 88117.5 | C2: =B2/$B$62 -> 0.15414644 | D2: =SUMIFS(Feuil4!P:P,Feuil4!A:A,A2) -> 7408.57 | E2: =D2/B2 -> 0.084076035 | F2: =SUMIFS(Feuil4!M:M,Feuil4!A:A,A2) -> 46590.04 | G2: =F2/$F$62 -> 0.13630823 | H2: =F2/B2 -> 0.5287263 | I2: =ROUND(LEFT(VLOOKUP(RIGHT(A2,LEN(A2)-6),Feuil4!A:B,2,0),3),-1) & "000" -> 500000 | J2: OK
A3: Total APN | B3: =SUMIFS(Feuil4!C:C,Feuil4!A:A,A3) -> 2515 | C3: =B3/$B$62 -> 0.0043995609 | D3: =SUMIFS(Feuil4!P:P,Feuil4!A:A,A3) -> 1289.17 | E3: =D3/B3 -> 0.51259245 | F3: =SUMIFS(Feuil4!M:M,Feuil4!A:A,A3) -> 831.33 | G3: =F3/$F$62 -> 0.0024322177 | H3: =F3/B3 -> 0.33054871 | I3: =ROUND(LEFT(VLOOKUP(RIGHT(A3,LEN(A3)-6),Feuil4!A:B,2,0),3),-1) & "000" -> 300000 | J3: OK
A4: Total ESTEVE SAS | B4: =SUMIFS(Feuil4!C:C,Feuil4!A:A,A4) -> 17151 | C4: =B4/$B$62 -> 0.030002731 | D4: =SUMIFS(Feuil4!P:P,Feuil4!A:A,A4) -> 623.39 | E4: =D4/B4 -> 0.036347152 | F4: =SUMIFS(Feuil4!M:M,Feuil4!A:A,A4) -> 10522.41 | G4: =F4/$F$62 -> 0.030785359 | H4: =F4/B4 -> 0.61351583 | I4: =ROUND(LEFT(VLOOKUP(RIGHT(A4,LEN(A4)-6),Feuil4!A:B,2,0),3),-1) & "000" -> 300000
A5: Total FEMAAG | B5: =SUMIFS(Feuil4!C:C,Feuil4!A:A,A5) -> 273.56 | C5: =B5/$B$62 -> 0.00047854627 | D5: =SUMIFS(Feuil4!P:P,Feuil4!A:A,A5) -> 82.1 | E5: =D5/B5 -> 0.30011698 | F5: =SUMIFS(Feuil4!M:M,Feuil4!A:A,A5) -> 153.41 | G5: =F5/$F$62 -> 0.00044883081 | H5: =F5/B5 -> 0.56079105 | I5: =ROUND(LEFT(VLOOKUP(RIGHT(A5,LEN(A5)-6),Feuil4!A:B,2,0),3),-1) & "000" -> 300000
A6: Total FILMAG | B6: =SUMIFS(Feuil4!C:C,Feuil4!A:A,A6) -> 16239.1 | C6: =B6/$B$62 -> 0.028407519 | D6: =SUMIFS(Feuil4!P:P,Feuil4!A:A,A6) -> 1026.16 | E6: =D6/B6 -> 0.063190694 | F6: =SUMIFS(Feuil4!M:M,Feuil4!A:A,A6) -> 10921.33 | G6: =F6/$F$62 -> 0.031952477 | H6: =F6/B6 -> 0.67253296 | I6: =ROUND(LEFT(VLOOKUP(RIGHT(A6,LEN(A6)-6),Feuil4!A:B,2,0),3),-1) & "000" -> 300000
A7: Total GETELEC | B7: =SUMIFS(Feuil4!C:C,Feuil4!A:A,A7) -> 863.9 | C7: =B7/$B$62 -> 0.0015112448 | D7: =SUMIFS(Feuil4!P:P,Feuil4!A:A,A7) -> 386.27 | E7: =D7/B7 -> 0.44712351 | F7: =SUMIFS(Feuil4!M:M,Feuil4!A:A,A7) -> 149.91 | G7: =F7/$F$62 -> 0.00043859088 | H7: =F7/B7 -> 0.17352703 | I7: =ROUND(LEFT(VLOOKUP(RIGHT(A7,LEN(A7)-6),Feuil4!A:B,2,0),3),-1) & "000" -> 300000
A8: Total GYRDIS | B8: =SUMIFS(Feuil4!C:C,Feuil4!A:A,A8) -> 13150 | C8: =B8/$B$62 -> 0.023003668 | D8: =SUMIFS(Feuil4!P:P,Feuil4!A:A,A8) -> 1990.92 | E8: =D8/B8 -> 0.15140076 | F8: =SUMIFS(Feuil4!M:M,Feuil4!A:A,A8) -> 5348 | G8: =F8/$F$62 -> 0.015646615 | H8: =F8/B8 -> 0.40669202 | I8: =ROUND(LEFT(VLOOKUP(RIGHT(A8,LEN(A8)-6),Feuil4!A:B,2,0),3),-1) & "000" -> 300000
A9: Total LE CAILLEBOTIS DIAMOND | B9: =SUMIFS(Feuil4!C:C,Feuil4!A:A,A9) -> 56 | C9: =B9/$B$62 -> 9.7962389e-05 | D9: =SUMIFS(Feuil4!P:P,Feuil4!A:A,A9) -> 0.39 | E9: =D9/B9 -> 0.0069642857 | F9: =SUMIFS(Feuil4!M:M,Feuil4!A:A,A9) -> 37.75 | G9: =F9/$F$62 -> 0.00011044497 | H9: =F9/B9 -> 0.67410714 | I9: =ROUND(LEFT(VLOOKUP(RIGHT(A9,LEN(A9)-6),Feuil4!A:B,2,0),3),-1) & "000" -> 300000
A10: Total MECA + SERVICES | B10: =SUMIFS(Feuil4!C:C,Feuil4!A:A,A10) -> 4380 | C10: =B10/$B$62 -> 0.0076620583 | D10: =SUMIFS(Feuil4!P:P,Feuil4!A:A,A10) -> 393.15 | E10: =D10/B10 -> 0.089760274 | F10: =SUMIFS(Feuil4!M:M,Feuil4!A:A,A10) -> 1363.71 | G10: =F10/$F$62 -> 0.003989799 | H10: =F10/B10 -> 0.31134932 | I10: =ROUND(LEFT(VLOOKUP(RIGHT(A10,LEN(A10)-6),Feuil4!A:B,2,0),3),-1) & "000" -> 300000
A11: Total METALU-PLAST | B11: =SUMIFS(Feuil4!C:C,Feuil4!A:A,A11) -> 14043.56 | C11: =B11/$B$62 -> 0.024566798 | D11: =SUMIFS(Feuil4!P:P,Feuil4!A:A,A11) -> -426.38 | E11: =D11/B11 -> -0.030361247 | F11: =SUMIFS(Feuil4!M:M,Feuil4!A:A,A11) -> 8376.92 | G11: =F11/$F$62 -> 0.02450831 | H11: =F11/B11 -> 0.59649548 | I11: =ROUND(LEFT(VLOOKUP(RIGHT(A11,LEN(A11)-6),Feuil4!A:B,2,0),3),-1) & "000" -> 300000
A12: Total SAS LEDIA | B12: =SUMIFS(Feuil4!C:C,Feuil4!A:A,A12) -> 8147.19 | C12: =B12/$B$62 -> 0.014252111 | D12: =SUMIFS(Feuil4!P:P,Feuil4!A:A,A12) -> 3423.51 | E12: =D12/B12 -> 0.42020746 | F12: =SUMIFS(Feuil4!M:M,Feuil4!A:A,A12) -> 3085.24 | G12: =F12/$F$62 -> 0.0090264701 | H12: =F12/B12 -> 0.37868762 | I12: =ROUND(LEFT(VLOOKUP(RIGHT(A12,LEN(A12)-6),Feuil4!A:B,2,0),3),-1) & "000" -> 300000
A13: Total SEPRA AUTOMATISATION | B13: =SUMIFS(Feuil4!C:C,Feuil4!A:A,A13) -> 5923.32 | C13: =B13/$B$62 -> 0.010361832 | D13: =SUMIFS(Feuil4!P:P,Feuil4!A:A,A13) -> 793.89 | E13: =D13/B13 -> 0.13402788 | F13: =SUMIFS(Feuil4!M:M,Feuil4!A:A,A13) -> 3754.61 | G13: =F13/$F$62 -> 0.010984842 | H13: =F13/B13 -> 0.63386918 | I13: =ROUND(LEFT(VLOOKUP(RIGHT(A13,LEN(A13)-6),Feuil4!A:B,2,0),3),-1) & "000" -> 300000
A14: Total VAN'S BARBOT | B14: =SUMIFS(Feuil4!C:C,Feuil4!A:A,A14) -> 1020 | C14: =B14/$B$62 -> 0.0017843149 | D14: =SUMIFS(Feuil4!P:P,Feuil4!A:A,A14) -> 555.22 | E14: =D14/B14 -> 0.54433333 | F14: =SUMIFS(Feuil4!M:M,Feuil4!A:A,A14) -> 293.33 | G14: =F14/$F$62 -> 0.00085819401 | H14: =F14/B14 -> 0.28757843 | I14: =ROUND(LEFT(VLOOKUP(RIGHT(A14,LEN(A14)-6),Feuil4!A:B,2,0),3),-1) & "000" -> 300000
A15: Total TOUCH INNOVATION | B15: =SUMIFS(Feuil4!C:C,Feuil4!A:A,A15) -> 4820 | C15: =B15/$B$62 -> 0.0084317628 | D15: =SUMIFS(Feuil4!P:P,Feuil4!A:A,A15) -> -1107.94 | E15: =D15/B15 -> -0.22986307 | F15: =SUMIFS(Feuil4!M:M,Feuil4!A:A,A15) -> 5286.55 | G15: =F15/$F$62 -> 0.015466831 | H15: =F15/B15 -> 1.0967946 | I15: =ROUND(LEFT(VLOOKUP(RIGHT(A15,LEN(A15)-6),Feuil4!A:B,2,0),3),-1) & "000" -> 300000
... A22: Total CMI | B22: =SUMIFS(Feuil4!C:C,Feuil4!A:A,A22) -> 280 | C22: =B22/$B$62 -> 0.00048981195 | D22: =SUMIFS(Feuil4!P:P,Feuil4!A:A,A22) -> 52.81 | E22: =D22/B22 -> 0.18860714 | F22: =SUMIFS(Feuil4!M:M,Feuil4!A:A,A22) -> 126.33 | G22: =F22/$F$62 -> 0.000369603 | H22: =F22/B22 -> 0.45117857 | I22: =ROUND(LEFT(VLOOKUP(RIGHT(A22,LEN(A22)-6),Feuil4!A:B,2,0),3),-1) & "000" -> 300000
A23: Total DIVERS | B23: =SUMIFS(Feuil4!C:C,Feuil4!A:A,A23) -> 946.1 | C23: =B23/$B$62 -> 0.0016550396 | D23: =SUMIFS(Feuil4!P:P,Feuil4!A:A,A23) -> 275.16 | E23: =D23/B23 -> 0.29083606 | F23: =SUMIFS(Feuil4!M:M,Feuil4!A:A,A23) -> 312.24 | G23: =F23/$F$62 -> 0.00091351889 | H23: =F23/B23 -> 0.33002854 | I23: =ROUND(LEFT(VLOOKUP(RIGHT(A23,LEN(A23)-6),Feuil4!A:B,2,0),3),-1) & "000" -> 100000 | J23: OK SAUF TOTAL APN DEVRAIT ETRE 100000
A24: Total CERMEX SAS - SITE DE LISIEUX | B24: =SUMIFS(Feuil4!C:C,Feuil4!A:A,A24) -> -35331.67 | C24: =B24/$B$62 -> -0.061806693 | D24: =SUMIFS(Feuil4!P:P,Feuil4!A:A,A24) -> -39618.98 | E24: =D24/B24 -> 1.1213447 | F24: =SUMIFS(Feuil4!M:M,Feuil4!A:A,A24) -> 2847.84 | G24: =F24/$F$62 -> 0.0083319102 | H24: =F24/B24 -> -0.08060304 | I24: =ROUND(LEFT(VLOOKUP(RIGHT(A24,LEN(A24)-6),Feuil4!A:B,2,0),3),-1) & "000" -> 100000
A25: Total KNORR BREMSE SYSTEME PR VEHICULES FRANCE | B25: =SUMIFS(Feuil4!C:C,Feuil4!A:A,A25) -> 1463 | C25: =B25/$B$62 -> 0.0025592674 | D25: =SUMIFS(Feuil4!P:P,Feuil4!A:A,A25) -> 637.96 | E25: =D25/B25 -> 0.43606288 | F25: =SUMIFS(Feuil4!M:M,Feuil4!A:A,A25) -> 647.33 | G25: =F25/$F$62 -> 0.0018938899 | H25: =F25/B25 -> 0.44246753 | I25: =ROUND(LEFT(VLOOKUP(RIGHT(A25,LEN(A25)-6),Feuil4!A:B,2,0),3),-1) & "000" -> 100000
A26: Total PLANQUE | B26: =SUMIFS(Feuil4!C:C,Feuil4!A:A,A26) -> 369.9 | C26: =B26/$B$62 -> 0.00064707657 | D26: =SUMIFS(Feuil4!P:P,Feuil4!A:A,A26) -> 142.04 | E26: =D26/B26 -> 0.38399567 | F26: =SUMIFS(Feuil4!M:M,Feuil4!A:A,A26) -> 198.66 | G26: =F26/$F$62 -> 0.0005812185 | H26: =F26/B26 -> 0.53706407 | I26: =ROUND(LEFT(VLOOKUP(RIGHT(A26,LEN(A26)-6),Feuil4!A:B,2,0),3),-1) & "000" -> 100000
A27: Total SAS SNIME | B27: =SUMIFS(Feuil4!C:C,Feuil4!A:A,A27) -> 190.4 | C27: =B27/$B$62 -> 0.00033307212 | D27: =SUMIFS(Feuil4!P:P,Feuil4!A:A,A27) -> 42.42 | E27: =D27/B27 -> 0.22279412 | F27: =SUMIFS(Feuil4!M:M,Feuil4!A:A,A27) -> 134.42 | G27: =F27/$F$62 -> 0.00039327187 | H27: =F27/B27 -> 0.70598739 | I27: =ROUND(LEFT(VLOOKUP(RIGHT(A27,LEN(A27)-6),Feuil4!A:B,2,0),3),-1) & "000" -> 100000
A28: Total GAUDFRIN | B28: =SUMIFS(Feuil4!C:C,Feuil4!A:A,A28) -> 5354.04 | C28: =B28/$B$62 -> 0.0093659741 | D28: =SUMIFS(Feuil4!P:P,Feuil4!A:A,A28) -> 64.192 | E28: =D28/B28 -> 0.011989451 | F28: =SUMIFS(Feuil4!M:M,Feuil4!A:A,A28) -> 2354.34 | G28: =F28/$F$62 -> 0.0068880799 | H28: =F28/B28 -> 0.43973149 | I28: =ROUND(LEFT(VLOOKUP(RIGHT(A28,LEN(A28)-6),Feuil4!A:B,2,0),3),-1) & "000" -> 100000
A29: Total GEBO PACKAGING SOLUTIONS FRANCE | B29: =SUMIFS(Feuil4!C:C,Feuil4!A:A,A29) -> 1436.42 | C29: =B29/$B$62 -> 0.0025127703 | D29: =SUMIFS(Feuil4!P:P,Feuil4!A:A,A29) -> 437.76 | E29: =D29/B29 -> 0.30475766 | F29: =SUMIFS(Feuil4!M:M,Feuil4!A:A,A29) -> 779.09 | G29: =F29/$F$62 -> 0.0022793794 | H29: =F29/B29 -> 0.54238315 | I29: =ROUND(LEFT(VLOOKUP(RIGHT(A29,LEN(A29)-6),Feuil4!A:B,2,0),3),-1) & "000" -> 100000
A30: Total PKB | B30: =SUMIFS(Feuil4!C:C,Feuil4!A:A,A30) -> 1721.8 | C30: =B30/$B$62 -> 0.0030119936 | D30: =SUMIFS(Feuil4!P:P,Feuil4!A:A,A30) -> 79.07 | E30: =D30/B30 -> 0.045922871 | F30: =SUMIFS(Feuil4!M:M,Feuil4!A:A,A30) -> 1374.49 | G30: =F30/$F$62 -> 0.004021338 | H30: =F30/B30 -> 0.79828668 | I30: =ROUND(LEFT(VLOOKUP(RIGHT(A30,LEN(A30)-6),Feuil4!A:B,2,0),3),-1) & "000" -> 100000
A31: Total HEURTAUX SAS | B31: =SUMIFS(Feuil4!C:C,Feuil4!A:A,A31) -> 18705.3 | C31: =B31/$B$62 -> 0.032721712 | D31: =SUMIFS(Feuil4!P:P,Feuil4!A:A,A31) -> 2428.63 | E31: =D31/B31 -> 0.12983646 | F31: =SUMIFS(Feuil4!M:M,Feuil4!A:A,A31) -> 10757.93 | G31: =F31/$F$62 -> 0.031474418 | H31: =F31/B31 -> 0.57512737 | I31: =ROUND(LEFT(VLOOKUP(RIGHT(A31,LEN(A31)-6),Feuil4!A:B,2,0),3),-1) & "000" -> 100000
A32: Total LOXOS | B32: =SUMIFS(Feuil4!C:C,Feuil4!A:A,A32) -> 1550.5 | C32: =B32/$B$62 -> 0.0027123337 | D32: =SUMIFS(Feuil4!P:P,Feuil4!A:A,A32) -> -103.73 | E32: =D32/B32 -> -0.066901 | F32: =SUMIFS(Feuil4!M:M,Feuil4!A:A,A32) -> 1474.25 | G32: =F32/$F$62 -> 0.0043132053 | H32: =F32/B32 -> 0.95082232 | I32: =ROUND(LEFT(VLOOKUP(RIGHT(A32,LEN(A32)-6),Feuil4!A:B,2,0),3),-1) & "000" -> 100000
A33: Total MERAND MECAPATE | B33: =SUMIFS(Feuil4!C:C,Feuil4!A:A,A33) -> 4023.05 | C33: =B33/$B$62 -> 0.0070376355 | D33: =SUMIFS(Feuil4!P:P,Feuil4!A:A,A33) -> -106.34 | E33: =D33/B33 -> -0.026432682 | F33: =SUMIFS(Feuil4!M:M,Feuil4!A:A,A33) -> 2906.82 | G33: =F33/$F$62 -> 0.0085044677 | H33: =F33/B33 -> 0.72254136 | I33: =ROUND(LEFT(VLOOKUP(RIGHT(A33,LEN(A33)-6),Feuil4!A:B,2,0),3),-1) & "000" -> 100000
A34: Total SARGI | B34: =SUMIFS(Feuil4!C:C,Feuil4!A:A,A34) -> 1338 | C34: =B34/$B$62 -> 0.0023406014 | D34: =SUMIFS(Feuil4!P:P,Feuil4!A:A,A34) -> 370.06 | E34: =D34/B34 -> 0.27657698 | F34: =SUMIFS(Feuil4!M:M,Feuil4!A:A,A34) -> 681.42 | G34: =F34/$F$62 -> 0.0019936268 | H34: =F34/B34 -> 0.50928251 | I34: =ROUND(LEFT(VLOOKUP(RIGHT(A34,LEN(A34)-6),Feuil4!A:B,2,0),3),-1) & "000" -> 100000
A35: Total SARL LAMIDEL MACHINES-OUTILS | B35: =SUMIFS(Feuil4!C:C,Feuil4!A:A,A35) -> 695.14 | C35: =B35/$B$62 -> 0.0012160281 | D35: =SUMIFS(Feuil4!P:P,Feuil4!A:A,A35) -> 191.91 | E35: =D35/B35 -> 0.27607388 | F35: =SUMIFS(Feuil4!M:M,Feuil4!A:A,A35) -> 398 | G35: =F35/$F$62 -> 0.0011644265 | H35: =F35/B35 -> 0.57254654 | I35: =ROUND(LEFT(VLOOKUP(RIGHT(A35,LEN(A35)-6),Feuil4!A:B,2,0),3),-1) & "000" -> 100000
... A39: Total APN | B39: =SUMIFS(Feuil4!C:C,Feuil4!A:A,A39) -> 2515 | C39: =B39/$B$62 -> 0.0043995609 | D39: =SUMIFS(Feuil4!P:P,Feuil4!A:A,A39) -> 1289.17 | E39: =D39/B39 -> 0.51259245 | F39: =SUMIFS(Feuil4!M:M,Feuil4!A:A,A39) -> 831.33 | G39: =F39/$F$62 -> 0.0024322177 | H39: =F39/B39 -> 0.33054871 | I39: =ROUND(LEFT(VLOOKUP(RIGHT(A39,LEN(A39)-6),Feuil4!A:B,2,0),3),-1) & "000" -> 300000
A40: Total IDPACK | B40: =SUMIFS(Feuil4!C:C,Feuil4!A:A,A40) -> 48980.75 | C40: =B40/$B$62 -> 0.085683416 | D40: =SUMIFS(Feuil4!P:P,Feuil4!A:A,A40) -> 313.99 | E40: =D40/B40 -> 0.0064104776 | F40: =SUMIFS(Feuil4!M:M,Feuil4!A:A,A40) -> 29973.08 | G40: =F40/$F$62 -> 0.08769208 | H40: =F40/B40 -> 0.61193591 | I40: =ROUND(LEFT(VLOOKUP(RIGHT(A40,LEN(A40)-6),Feuil4!A:B,2,0),3),-1) & "000" -> 410000 | J40: DEVRAIT ETRE 400000
A41: Total NSE BU INTEGRATIONS | B41: =SUMIFS(Feuil4!C:C,Feuil4!A:A,A41) -> 1830 | C41: =B41/$B$62 -> 0.0032012709 | D41: =SUMIFS(Feuil4!P:P,Feuil4!A:A,A41) -> -3.22 | E41: =D41/B41 -> -0.0017595628 | F41: =SUMIFS(Feuil4!M:M,Feuil4!A:A,A41) -> 794.5 | G41: =F41/$F$62 -> 0.0023244644 | H41: =F41/B41 -> 0.43415301 | I41: =ROUND(LEFT(VLOOKUP(RIGHT(A41,LEN(A41)-6),Feuil4!A:B,2,0),3),-1) & "000" -> 410000
A42: Total REYES INTEGRATION | B42: =SUMIFS(Feuil4!C:C,Feuil4!A:A,A42) -> 915 | C42: =B42/$B$62 -> 0.0016006355 | D42: =SUMIFS(Feuil4!P:P,Feuil4!A:A,A42) -> 641.6 | E42: =D42/B42 -> 0.70120219 | F42: =SUMIFS(Feuil4!M:M,Feuil4!A:A,A42) -> 91.52 | G42: =F42/$F$62 -> 0.00026775957 | H42: =F42/B42 -> 0.10002186 | I42: =ROUND(LEFT(VLOOKUP(RIGHT(A42,LEN(A42)-6),Feuil4!A:B,2,0),3),-1) & "000" -> 410000
A43: Total TIAMA | B43: =SUMIFS(Feuil4!C:C,Feuil4!A:A,A43) -> 18226.9 | C43: =B43/$B$62 -> 0.031884833 | D43: =SUMIFS(Feuil4!P:P,Feuil4!A:A,A43) -> 2361.42 | E43: =D43/B43 -> 0.12955686 | F43: =SUMIFS(Feuil4!M:M,Feuil4!A:A,A43) -> 9064.3 | G43: =F43/$F$62 -> 0.026519374 | H43: =F43/B43 -> 0.49730344 | I43: =ROUND(LEFT(VLOOKUP(RIGHT(A43,LEN(A43)-6),Feuil4!A:B,2,0),3),-1) & "000" -> 410000
A44: Total TOKHEIM FRANCE SAS | B44: =SUMIFS(Feuil4!C:C,Feuil4!A:A,A44) -> 19361.95 | C44: =B44/$B$62 -> 0.033870409 | D44: =SUMIFS(Feuil4!P:P,Feuil4!A:A,A44) -> 3629.2 | E44: =D44/B44 -> 0.1874398 | F44: =SUMIFS(Feuil4!M:M,Feuil4!A:A,A44) -> 13231.31 | G44: =F44/$F$62 -> 0.038710773 | H44: =F44/B44 -> 0.6833666 | I44: =ROUND(LEFT(VLOOKUP(RIGHT(A44,LEN(A44)-6),Feuil4!A:B,2,0),3),-1) & "000" -> 410000
A45: Total TOKHEIM SOFITAM APPLICATIONS | B45: =SUMIFS(Feuil4!C:C,Feuil4!A:A,A45) -> 236 | C45: =B45/$B$62 -> 0.0004128415 | D45: =SUMIFS(Feuil4!P:P,Feuil4!A:A,A45) -> -26 | E45: =D45/B45 -> -0.11016949 | F45: =SUMIFS(Feuil4!M:M,Feuil4!A:A,A45) -> 220.92 | G45: =F45/$F$62 -> 0.00064634446 | H45: =F45/B45 -> 0.93610169 | I45: =ROUND(LEFT(VLOOKUP(RIGHT(A45,LEN(A45)-6),Feuil4!A:B,2,0),3),-1) & "000" -> 410000
A46: Total AMC | B46: =SUMIFS(Feuil4!C:C,Feuil4!A:A,A46) -> 1495.69 | C46: =B46/$B$62 -> 0.002616453 | D46: =SUMIFS(Feuil4!P:P,Feuil4!A:A,A46) -> -429.37 | E46: =D46/B46 -> -0.28707152 | F46: =SUMIFS(Feuil4!M:M,Feuil4!A:A,A46) -> 1427.18 | G46: =F46/$F$62 -> 0.0041754929 | H46: =F46/B46 -> 0.95419505 | I46: =ROUND(LEFT(VLOOKUP(RIGHT(A46,LEN(A46)-6),Feuil4!A:B,2,0),3),-1) & "000" -> 210000 | J46: DEVRAIT ETRE 200000 + PROBLEME SUR 2 LIGNE
A47: Total BERNAY AUTOMATION | B47: =SUMIFS(Feuil4!C:C,Feuil4!A:A,A47) -> 6018.59 | C47: =B47/$B$62 -> 0.01052849 | D47: =SUMIFS(Feuil4!P:P,Feuil4!A:A,A47) -> 1183.98 | E47: =D47/B47 -> 0.19672049 | F47: =SUMIFS(Feuil4!M:M,Feuil4!A:A,A47) -> 4040.76 | G47: =F47/$F$62 -> 0.01182203 | H47: =F47/B47 -> 0.67137984 | I47: =ROUND(LEFT(VLOOKUP(RIGHT(A47,LEN(A47)-6),Feuil4!A:B,2,0),3),-1) & "000" -> #N/A
A48: Total DBS | B48: =SUMIFS(Feuil4!C:C,Feuil4!A:A,A48) -> 19836.12 | C48: =B48/$B$62 -> 0.034699888 | D48: =SUMIFS(Feuil4!P:P,Feuil4!A:A,A48) -> 4258.93 | E48: =D48/B48 -> 0.2147058 | F48: =SUMIFS(Feuil4!M:M,Feuil4!A:A,A48) -> 9539.58 | G48: =F48/$F$62 -> 0.027909898 | H48: =F48/B48 -> 0.48091966 | I48: =ROUND(LEFT(VLOOKUP(RIGHT(A48,LEN(A48)-6),Feuil4!A:B,2,0),3),-1) & "000" -> 210000
A49: Total SAM LABIGNE EQUIPEMENT | B49: =SUMIFS(Feuil4!C:C,Feuil4!A:A,A49) -> 133223.63 | C49: =B49/$B$62 -> 0.23305188 | D49: =SUMIFS(Feuil4!P:P,Feuil4!A:A,A49) -> 15316.86 | E49: =D49/B49 -> 0.11497105 | F49: =SUMIFS(Feuil4!M:M,Feuil4!A:A,A49) -> 70658.61 | G49: =F49/$F$62 -> 0.20672552 | H49: =F49/B49 -> 0.53037596 | I49: =ROUND(LEFT(VLOOKUP(RIGHT(A49,LEN(A49)-6),Feuil4!A:B,2,0),3),-1) & "000" -> 210000
A50: Total SANCHEZ S.A.S | B50: =SUMIFS(Feuil4!C:C,Feuil4!A:A,A50) -> 3772.36 | C50: =B50/$B$62 -> 0.0065990964 | D50: =SUMIFS(Feuil4!P:P,Feuil4!A:A,A50) -> 672.69 | E50: =D50/B50 -> 0.17832073 | F50: =SUMIFS(Feuil4!M:M,Feuil4!A:A,A50) -> 1426.69 | G50: =F50/$F$62 -> 0.0041740593 | H50: =F50/B50 -> 0.37819561 | I50: =ROUND(LEFT(VLOOKUP(RIGHT(A50,LEN(A50)-6),Feuil4!A:B,2,0),3),-1) & "000" -> 210000
A51: Total ZALKIN ANDRE | B51: =SUMIFS(Feuil4!C:C,Feuil4!A:A,A51) -> 24957.83 | C51: =B51/$B$62 -> 0.04365944 | D51: =SUMIFS(Feuil4!P:P,Feuil4!A:A,A51) -> 4458.06 | E51: =D51/B51 -> 0.1786237 | F51: =SUMIFS(Feuil4!M:M,Feuil4!A:A,A51) -> 13589.94 | G51: =F51/$F$62 -> 0.039760015 | H51: =F51/B51 -> 0.54451609 | I51: =ROUND(LEFT(VLOOKUP(RIGHT(A51,LEN(A51)-6),Feuil4!A:B,2,0),3),-1) & "000" -> 210000
A52: Total ASCA | B52: =SUMIFS(Feuil4!C:C,Feuil4!A:A,A52) -> 3433.64 | C52: =B52/$B$62 -> 0.0060065639 | D52: =SUMIFS(Feuil4!P:P,Feuil4!A:A,A52) -> 419.99 | E52: =D52/B52 -> 0.12231626 | F52: =SUMIFS(Feuil4!M:M,Feuil4!A:A,A52) -> 1399.08 | G52: =F52/$F$62 -> 0.0040932809 | H52: =F52/B52 -> 0.40746263 | I52: =ROUND(LEFT(VLOOKUP(RIGHT(A52,LEN(A52)-6),Feuil4!A:B,2,0),3),-1) & "000" -> 210000
A53: Total BRUNO JEAN EURL | B53: =SUMIFS(Feuil4!C:C,Feuil4!A:A,A53) -> 66.18 | C53: =B53/$B$62 -> 0.00011577055 | D53: =SUMIFS(Feuil4!P:P,Feuil4!A:A,A53) -> -4.16 | E53: =D53/B53 -> -0.06285887 | F53: =SUMIFS(Feuil4!M:M,Feuil4!A:A,A53) -> 48.33 | G53: =F53/$F$62 -> 0.00014139882 | H53: =F53/B53 -> 0.73028105 | I53: =ROUND(LEFT(VLOOKUP(RIGHT(A53,LEN(A53)-6),Feuil4!A:B,2,0),3),-1) & "000" -> 210000
A54: Total CMAT | B54: =SUMIFS(Feuil4!C:C,Feuil4!A:A,A54) -> 1457.99 | C54: =B54/$B$62 -> 0.0025505033 | D54: =SUMIFS(Feuil4!P:P,Feuil4!A:A,A54) -> 341.47 | E54: =D54/B54 -> 0.234206 | F54: =SUMIFS(Feuil4!M:M,Feuil4!A:A,A54) -> 574.91 | G54: =F54/$F$62 -> 0.0016820111 | H54: =F54/B54 -> 0.39431683 | I54: =ROUND(LEFT(VLOOKUP(RIGHT(A54,LEN(A54)-6),Feuil4!A:B,2,0),3),-1) & "000" -> 210000
A55: Total DISTILLERIE BUSNEL SAS | B55: =SUMIFS(Feuil4!C:C,Feuil4!A:A,A55) -> 2130.42 | C55: =B55/$B$62 -> 0.0037268042 | D55: =SUMIFS(Feuil4!P:P,Feuil4!A:A,A55) -> 637.75 | E55: =D55/B55 -> 0.29935412 | F55: =SUMIFS(Feuil4!M:M,Feuil4!A:A,A55) -> 993.18 | G55: =F55/$F$62 -> 0.0029057414 | H55: =F55/B55 -> 0.46618977 | I55: =ROUND(LEFT(VLOOKUP(RIGHT(A55,LEN(A55)-6),Feuil4!A:B,2,0),3),-1) & "000" -> 210000
A56: Total ERPI | B56: =SUMIFS(Feuil4!C:C,Feuil4!A:A,A56) -> 10817.15 | C56: =B56/$B$62 -> 0.018922747 | D56: =SUMIFS(Feuil4!P:P,Feuil4!A:A,A56) -> 3468.92 | E56: =D56/B56 -> 0.32068706 | F56: =SUMIFS(Feuil4!M:M,Feuil4!A:A,A56) -> 4473.43 | G56: =F56/$F$62 -> 0.01308789 | H56: =F56/B56 -> 0.41354978 | I56: =ROUND(LEFT(VLOOKUP(RIGHT(A56,LEN(A56)-6),Feuil4!A:B,2,0),3),-1) & "000" -> 210000
A57: Total MANUVIT | B57: =SUMIFS(Feuil4!C:C,Feuil4!A:A,A57) -> 6876.96 | C57: =B57/$B$62 -> 0.012030061 | D57: =SUMIFS(Feuil4!P:P,Feuil4!A:A,A57) -> 1340.25 | E57: =D57/B57 -> 0.19488989 | F57: =SUMIFS(Feuil4!M:M,Feuil4!A:A,A57) -> 3423.16 | G57: =F57/$F$62 -> 0.010015121 | H57: =F57/B57 -> 0.49777227 | I57: =ROUND(LEFT(VLOOKUP(RIGHT(A57,LEN(A57)-6),Feuil4!A:B,2,0),3),-1) & "000" -> 210000
A58: Total OCTE | B58: =SUMIFS(Feuil4!C:C,Feuil4!A:A,A58) -> 461.62 | C58: =B58/$B$62 -> 0.00080752497 | D58: =SUMIFS(Feuil4!P:P,Feuil4!A:A,A58) -> 35.92 | E58: =D58/B58 -> 0.07781292 | F58: =SUMIFS(Feuil4!M:M,Feuil4!A:A,A58) -> 336 | G58: =F58/$F$62 -> 0.0009830334 | H58: =F58/B58 -> 0.72787141 | I58: =ROUND(LEFT(VLOOKUP(RIGHT(A58,LEN(A58)-6),Feuil4!A:B,2,0),3),-1) & "000" -> 200000
... A61: Total IMETAL | B61: =SUMIFS(Feuil4!C:C,Feuil4!A:A,A61) -> 27766.93 | C61: =B61/$B$62 -> 0.048573479 | D61: =SUMIFS(Feuil4!P:P,Feuil4!A:A,A61) -> 4743.44 | E61: =D61/B61 -> 0.17083055 | F61: =SUMIFS(Feuil4!M:M,Feuil4!A:A,A61) -> 19426.7 | G61: =F61/$F$62 -> 0.056836592 | H61: =F61/B61 -> 0.69963442 | I61: =ROUND(LEFT(VLOOKUP(RIGHT(A61,LEN(A61)-6),Feuil4!A:B,2,0),3),-1) & "000" -> #VALUE!
A62: TOTAL GENERAL | B62: =SUBTOTAL(9,B2:B61) -> 571647.96 | C62: =SUM(C2:C61) -> 1 | D62: =SUBTOTAL(9,D2:D61) -> 30951.822 | F62: =SUBTOTAL(9,F2:F61) -> 341799.17 | G62: =SUM(G2:G61) -> 1
A63: 2515apn

Sheet Feuil2
D2: NAF | I2: =INDEX(A1:A1000,MATCH(9^9^9,A1:A1000,1)) -> 300000
D3: Total ALTERVAL | E3: =ROUND(LEFT(VLOOKUP(RIGHT(D3,LEN(D3)-6),A:B,2,0),3),-1) & "000" -> 500000 | F3: =LEFT(VLOOKUP(MID(D3,FIND(" ",D3,1)+1,10),A:B,2),1)*100000 -> 500000 | I3: =IF(D3=VLOOKUP(D3,$A$1:$B$1000,1,FALSE),INDEX(A1:A1000,MATCH(9^9^9,A1:A1000,1)),"seb") -> 300000 | J3: =IF(D3=VLOOKUP(D3,$A$1:$B$1000,1,FALSE),INDEX($A$1:$B$1000,MATCH("NAF*",$B$1:B$1000,0),1),0) -> 500000
A4: 500000 | B4: NAF | D4: Total Apn | E4: =ROUND(LEFT(VLOOKUP(RIGHT(D4,LEN(D4)-6),A:B,2,0),3),-1) & "000" -> 300000 | F4: =LEFT(VLOOKUP(MID(D4,FIND(" ",D4,1)+1,10),A:B,2),1)*100000 -> 300000 | I4: =IF(D4=VLOOKUP(D4,$A$1:$B$1000,1,FALSE),LOOKUP(9^9,A1:A1000),"seb") -> 300000 | J4: =IF(D4=VLOOKUP(D4,$A$2:$B$100,1,FALSE),INDEX($A$1:$B$1000,MATCH("NAF*",$B$1:B$1000,0),1),0) -> 500000
A5: ALTERVAL | B5: 500 069 | D5: Total ESTEVE SAS | E5: =ROUND(LEFT(VLOOKUP(RIGHT(D5,LEN(D5)-6),A:B,2,0),3),-1) & "000" -> 300000 | F5: =LEFT(VLOOKUP(MID(D5,FIND(" ",D5,1)+1,10),A:B,2),1)*100000 -> 300000 | I5: =IF(D5=VLOOKUP(D5,$A$1:$B$1000,1,FALSE),LOOKUP(9^9,A:A),"seb") -> 300000 | J5: =IF(D5=VLOOKUP(D5,$A$2:$B$100,1,FALSE),INDEX($A$1:$B$1000,MATCH("NAF*",$B$1:B$1000,0),1),0) -> 500000
B6: 500 092 | D6: Total FEMAAG | E6: =ROUND(LEFT(VLOOKUP(RIGHT(D6,LEN(D6)-6),A:B,2,0),3),-1) & "000" -> 300000 | F6: =LEFT(VLOOKUP(MID(D6,FIND(" ",D6,1)+1,10),A:B,2),1)*100000 -> 300000 | J6: =IF(D6=VLOOKUP(D6,$A$2:$B$100,1,FALSE),INDEX($A$1:$B$1000,MATCH("NAF*",$B$1:B$1000,0),1),0) -> 500000
B7: 500 101
B8: 500 103
B9: 500 104
B10: 500 105
B11: 500 109
B12: 500 110
B13: 500 111
B14: 500 114
A15: Total ALTERVAL
A18: 300000 | B18: NAF
A19: APN | B19: 304 137
A20: Total APN
A21: ESTEVE SAS | B21: 304 101
B22: 304 102
B23: 304 103
B24: 304 154
B25: 304 258
A26: Total ESTEVE SAS
A27: FEMAAG | B27: 303 926
B28: 304 244
A29: Total FEMAAG
A30: FILMAG | B30: 304 131
B31: 304 133

Sheet Feuil3
A1: Chargés Affaires | B1: NAF | C1: Données Facturé | D1: M.P. | E1: Fourn. | F1: STR Méca | G1: STR Laser | H1: STR Peint. | I1: STR Trait. | J1: STR Autres | K1: Transp. | L1: ACHATS | M1: MO Réelle | N1: MO Réelle + Achats | O1: MO Facturable | P1: Marge / Fact.
A2: Bruno | B2: 500000 | C2: =SUMIFS([1]Octobre!$C$1:$C$65536,[1]Octobre!$B$1:$B$65536,"5*") -> #VALUE! | D2: =SUMIFS([1]Octobre!$D$1:$D$65536,[1]Octobre!$B$1:$B$65536,"5*") -> #VALUE! | E2: =SUMIFS([1]Octobre!$E$1:$E$65536,[1]Octobre!$B$1:$B$65536,"5*") -> #VALUE! | F2: =SUMIFS([1]Octobre!$F$1:$F$65536,[1]Octobre!$B$1:$B$65536,"5*") -> #VALUE! | G2: =SUMIFS([1]Octobre!$G$1:$G$65536,[1]Octobre!$B$1:$B$65536,"5*") -> #VALUE! | H2: =SUMIFS([1]Octobre!$H$1:$H$65536,[1]Octobre!$B$1:$B$65536,"5*") -> #VALUE! | I2: =SUMIFS([1]Octobre!$I$1:$I$65536,[1]Octobre!$B$1:$B$65536,"5*") -> #VALUE! | J2: =SUMIFS([1]Octobre!$J$1:$J$65536,[1]Octobre!$B$1:$B$65536,"5*") -> #VALUE! | K2: =SUMIFS([1]Octobre!$K$1:$K$65536,[1]Octobre!$B$1:$B$65536,"5*") -> #VALUE! | L2: =SUM(D2:K2) -> #VALUE! | M2: =SUMIFS([1]Octobre!$M$1:$M$65536,[1]Octobre!$B$1:$B$65536,"5*") -> #VALUE! | N2: =SUM(L2:M2) -> #VALUE! | O2: =SUMIFS([1]Octobre!$O$1:$O$65536,[1]Octobre!$B$1:$B$65536,"5*") -> #VALUE! | P2: =O2-M2 -> #VALUE!
A3: Pauline | B3: 300000 | C3: =SUMIFS([1]Octobre!$C$1:$C$65536,[1]Octobre!$B$1:$B$65536,"3*") -> #VALUE! | D3: =SUMIFS([1]Octobre!$D$1:$D$65536,[1]Octobre!$B$1:$B$65536,"3*") -> #VALUE! | E3: =SUMIFS([1]Octobre!$E$1:$E$65536,[1]Octobre!$B$1:$B$65536,"3*") -> #VALUE! | F3: =SUMIFS([1]Octobre!$F$1:$F$65536,[1]Octobre!$B$1:$B$65536,"3*") -> #VALUE! | G3: =SUMIFS([1]Octobre!$G$1:$G$65536,[1]Octobre!$B$1:$B$65536,"3*") -> #VALUE! | H3: =SUMIFS([1]Octobre!$H$1:$H$65536,[1]Octobre!$B$1:$B$65536,"3*") -> #VALUE! | I3: =SUMIFS([1]Octobre!$I$1:$I$65536,[1]Octobre!$B$1:$B$65536,"3*") -> #VALUE! | J3: =SUMIFS([1]Octobre!$J$1:$J$65536,[1]Octobre!$B$1:$B$65536,"3*") -> #VALUE! | K3: =SUMIFS([1]Octobre!$K$1:$K$65536,[1]Octobre!$B$1:$B$65536,"3*") -> #VALUE! | L3: =SUM(D3:K3) -> #VALUE! | M3: =SUMIFS([1]Octobre!$M$1:$M$65536,[1]Octobre!$B$1:$B$65536,"3*") -> #VALUE! | N3: =SUM(L3:M3) -> #VALUE! | O3: =SUMIFS([1]Octobre!$O$1:$O$65536,[1]Octobre!$B$1:$B$65536,"3*") -> #VALUE! | P3: =O3-M3 -> #VALUE!
A4: Gérard | B4: 100000 | C4: =SUMIFS([1]Octobre!$C$1:$C$65536,[1]Octobre!$B$1:$B$65536,"1*") -> #VALUE! | D4: =SUMIFS([1]Octobre!$D$1:$D$65536,[1]Octobre!$B$1:$B$65536,"1*") -> #VALUE! | E4: =SUMIFS([1]Octobre!$E$1:$E$65536,[1]Octobre!$B$1:$B$65536,"1*") -> #VALUE! | F4: =SUMIFS([1]Octobre!$F$1:$F$65536,[1]Octobre!$B$1:$B$65536,"1*") -> #VALUE! | G4: =SUMIFS([1]Octobre!$G$1:$G$65536,[1]Octobre!$B$1:$B$65536,"1*") -> #VALUE! | H4: =SUMIFS([1]Octobre!$H$1:$H$65536,[1]Octobre!$B$1:$B$65536,"1*") -> #VALUE! | I4: =SUMIFS([1]Octobre!$I$1:$I$65536,[1]Octobre!$B$1:$B$65536,"1*") -> #VALUE! | J4: =SUMIFS([1]Octobre!$J$1:$J$65536,[1]Octobre!$B$1:$B$65536,"1*") -> #VALUE! | K4: =SUMIFS([1]Octobre!$K$1:$K$65536,[1]Octobre!$B$1:$B$65536,"1*") -> #VALUE! | L4: =SUM(D4:K4) -> #VALUE! | M4: =SUMIFS([1]Octobre!$M$1:$M$65536,[1]Octobre!$B$1:$B$65536,"1*") -> #VALUE! | N4: =SUM(L4:M4) -> #VALUE! | O4: =SUMIFS([1]Octobre!$O$1:$O$65536,[1]Octobre!$B$1:$B$65536,"1*") -> #VALUE! | P4: =O4-M4 -> #VALUE!
A5: Gregory | B5: 400000 | C5: =SUMIFS([1]Octobre!$C$1:$C$65536,[1]Octobre!$B$1:$B$65536,"4*") -> #VALUE! | D5: =SUMIFS([1]Octobre!$D$1:$D$65536,[1]Octobre!$B$1:$B$65536,"4*") -> #VALUE! | E5: =SUMIFS([1]Octobre!$E$1:$E$65536,[1]Octobre!$B$1:$B$65536,"4*") -> #VALUE! | F5: =SUMIFS([1]Octobre!$F$1:$F$65536,[1]Octobre!$B$1:$B$65536,"4*") -> #VALUE! | G5: =SUMIFS([1]Octobre!$G$1:$G$65536,[1]Octobre!$B$1:$B$65536,"4*") -> #VALUE! | H5: =SUMIFS([1]Octobre!$H$1:$H$65536,[1]Octobre!$B$1:$B$65536,"4*") -> #VALUE! | I5: =SUMIFS([1]Octobre!$I$1:$I$65536,[1]Octobre!$B$1:$B$65536,"4*") -> #VALUE! | J5: =SUMIFS([1]Octobre!$J$1:$J$65536,[1]Octobre!$B$1:$B$65536,"4*") -> #VALUE! | K5: =SUMIFS([1]Octobre!$K$1:$K$65536,[1]Octobre!$B$1:$B$65536,"4*") -> #VALUE! | L5: =SUM(D5:K5) -> #VALUE! | M5: =SUMIFS([1]Octobre!$M$1:$M$65536,[1]Octobre!$B$1:$B$65536,"4*") -> #VALUE! | N5: =SUM(L5:M5) -> #VALUE! | O5: =SUMIFS([1]Octobre!$O$1:$O$65536,[1]Octobre!$B$1:$B$65536,"4*") -> #VALUE! | P5: =O5-M5 -> #VALUE!
A6: Jérome | B6: 200000 | C6: =SUMIFS([1]Octobre!$C$1:$C$65536,[1]Octobre!$B$1:$B$65536,"2*") -> #VALUE! | D6: =SUMIFS([1]Octobre!$D$1:$D$65536,[1]Octobre!$B$1:$B$65536,"2*") -> #VALUE! | E6: =SUMIFS([1]Octobre!$E$1:$E$65536,[1]Octobre!$B$1:$B$65536,"2*") -> #VALUE! | F6: =SUMIFS([1]Octobre!$F$1:$F$65536,[1]Octobre!$B$1:$B$65536,"2*") -> #VALUE! | G6: =SUMIFS([1]Octobre!$G$1:$G$65536,[1]Octobre!$B$1:$B$65536,"2*") -> #VALUE! | H6: =SUMIFS([1]Octobre!$H$1:$H$65536,[1]Octobre!$B$1:$B$65536,"2*") -> #VALUE! | I6: =SUMIFS([1]Octobre!$I$1:$I$65536,[1]Octobre!$B$1:$B$65536,"2*") -> #VALUE! | J6: =SUMIFS([1]Octobre!$J$1:$J$65536,[1]Octobre!$B$1:$B$65536,"2*") -> #VALUE! | K6: =SUMIFS([1]Octobre!$K$1:$K$65536,[1]Octobre!$B$1:$B$65536,"2*") -> #VALUE! | L6: =SUM(D6:K6) -> #VALUE! | M6: =SUMIFS([1]Octobre!$M$1:$M$65536,[1]Octobre!$B$1:$B$65536,"2*") -> #VALUE! | N6: =SUM(L6:M6) -> #VALUE! | O6: =SUMIFS([1]Octobre!$O$1:$O$65536,[1]Octobre!$B$1:$B$65536,"2*") -> #VALUE! | P6: =O6-M6 -> #VALUE!
A7: Eric IMETAL | B7: 600000 | C7: =SUMIFS([1]Octobre!$C$1:$C$65536,[1]Octobre!$B$1:$B$65536,"6*") -> #VALUE! | D7: =SUMIFS([1]Octobre!$D$1:$D$65536,[1]Octobre!$B$1:$B$65536,"6*") -> #VALUE! | E7: =SUMIFS([1]Octobre!$E$1:$E$65536,[1]Octobre!$B$1:$B$65536,"6*") -> #VALUE! | F7: =SUMIFS([1]Octobre!$F$1:$F$65536,[1]Octobre!$B$1:$B$65536,"6*") -> #VALUE! | G7: =SUMIFS([1]Octobre!$G$1:$G$65536,[1]Octobre!$B$1:$B$65536,"6*") -> #VALUE! | H7: =SUMIFS([1]Octobre!$H$1:$H$65536,[1]Octobre!$B$1:$B$65536,"6*") -> #VALUE! | I7: =SUMIFS([1]Octobre!$I$1:$I$65536,[1]Octobre!$B$1:$B$65536,"6*") -> #VALUE! | J7: =SUMIFS([1]Octobre!$J$1:$J$65536,[1]Octobre!$B$1:$B$65536,"6*") -> #VALUE! | K7: =SUMIFS([1]Octobre!$K$1:$K$65536,[1]Octobre!$B$1:$B$65536,"6*") -> #VALUE! | L7: =SUM(D7:K7) -> #VALUE! | M7: =SUMIFS([1]Octobre!$M$1:$M$65536,[1]Octobre!$B$1:$B$65536,"6*") -> #VALUE! | N7: =SUM(L7:M7) -> #VALUE! | O7: =SUMIFS([1]Octobre!$O$1:$O$65536,[1]Octobre!$B$1:$B$65536,"6*") -> #VALUE! | P7: =O7-M7 -> #VALUE!
C8: =SUM(C2:C7) -> #VALUE! | D8: =SUM(D2:D7) -> #VALUE! | E8: =SUM(E2:E7) -> #VALUE! | F8: =SUM(F2:F7) -> #VALUE! | G8: =SUM(G2:G7) -> #VALUE! | H8: =SUM(H2:H7) -> #VALUE! | I8: =SUM(I2:I7) -> #VALUE! | J8: =SUM(J2:J7) -> #VALUE! | ... P8: =SUM(P2:P7) -> #VALUE!
D9: =D8/$C$8 -> #VALUE! | E9: =E8/$C$8 -> #VALUE! | F9: =F8/$C$8 -> #VALUE! | G9: =G8/$C$8 -> #VALUE! | H9: =H8/$C$8 -> #VALUE! | I9: =I8/$C$8 -> #VALUE! | J9: =J8/$C$8 -> #VALUE! | K9: =K8/$C$8 -> #VALUE! | ... P9: =P8/$C$8 -> #VALUE!
N10: Réelle | O10: =+P8/M8 -> #VALUE! | P10: =P9 -> #VALUE!
N11: Objectif | O11: 0.1017 | P11: 0.06
N12: Ecart | O12: =+O10-O11 -> #VALUE! | P12: =+P10-P11 -> #VALUE!

Sheet Feuil4
C1: Données
A2: 500000 | B2: NAF | C2: Facturé | D2: M.P. | E2: Fourn. | F2: STR Méca | G2: STR Laser | H2: STR Peint. | I2: STR Trait. | J2: STR Autres | K2: Transp. | L2: ACHATS | M2: MO Réelle | N2: MO Réelle + Achats | O2: MO Facturable | P2: Marge / Fact. | R2: CLIENT | S2: CA CLIENT | T2: % CA CLIENT | U2: MARGE BRUTE | V2: % MB/CA | W2: MO | X2: % MO | Y2: %MO/CA
A3: ALTERVAL | B3: 500 069 | C3: 41812.5 | D3: 8252.43 | E3: 1061.36 | F3: 2328.83 | G3: 1648 | H3: 2701.07 | I3: 37.08 | J3: 979.16 | L3: 17007.93 | M3: 23342.2 | N3: 40350.13 | O3: 24804.57 | P3: 1462.37 | R3: ALTERVAL | S3: =C14 -> 88117.5 | T3: =S3/$S$4*100 -> 100 | U3: =P14 -> 7408.57 | V3: =U3/S3*100 -> 8.4076035 | W3: =M14 -> 46590.04 | X3: =W3/$W$4*100 -> 100 | Y3: =W3/S3*100 -> 52.87263
B4: 500 092 | C4: 25631 | D4: 4077.55 | E4: 429.16 | F4: 1816.92 | G4: 803.4 | H4: 1453.54 | I4: 64.27 | J4: 540.75 | L4: 9185.59 | M4: 13059.59 | N4: 22245.18 | O4: 16445.41 | P4: 3385.82 | R4: TOTAL | S4: =SUM(S3) -> 88117.5 | T4: =S4/$S$4*100 -> 100 | U4: =SUM(U3) -> 7408.57 | V4: =U4/S4*100 -> 8.4076035 | W4: =SUM(W3) -> 46590.04 | X4: =W4/$W$4*100 -> 100 | Y4: =W4/S4*100 -> 52.87263
B5: 500 101 | C5: 12593.7 | D5: 2621.58 | E5: 3.51 | H5: 908.05 | I5: 1068.63 | J5: 769.41 | K5: 226.6 | L5: 5597.78 | M5: 4755.08 | N5: 10352.86 | O5: 6995.92 | P5: 2240.84
B6: 500 103 | C6: 2405 | D6: 457.35 | E6: 8.28 | H6: 185.4 | K6: 180.25 | L6: 831.28 | M6: 1729.75 | N6: 2561.03 | O6: 1573.72 | P6: -156.03 | W6: naf | X6: =HLOOKUP(W6,A1:B14,MATCH(V7,A1:B14,FALSE),FALSE) -> #N/A
B7: 500 104 | C7: 568.1 | D7: 111.22 | E7: 1.19 | L7: 112.41 | M7: 499.33 | N7: 611.74 | O7: 455.69 | P7: -43.64 | R7: =LOOKUP(9^9,A$1:A14) -> 500000 | V7: Total ALTERVAL
B8: 500 105 | C8: 495 | D8: 77.25 | H8: 25.75 | L8: 103 | M8: 484.67 | N8: 587.67 | O8: 392 | P8: -92.67 | R8: =LOOKUP("Client*",A$1:A20) -> ALTERVAL | T8: =COUNTIF(A:A,"B"&"*") -> 1 | X8: =HLOOKUP(C3,'[2]donnees source BO'!B4:E9,MATCH(B4,'[2]donnees source BO'!B4:B9,0),0) -> #N/A
B9: 500 109 | C9: 2168.5 | D9: 333.33 | H9: 133.39 | L9: 466.72 | M9: 665.09 | N9: 1131.81 | O9: 1701.78 | P9: 1036.69 | R9: =LOOKUP("Client 5",A1:A17,A1:A17) -> ALTERVAL | U9: =INDEX(A1:C14, 2, 1) -> 500000 | V9: =INDEX(A1:B14, MATCH("NAF",$A$1:$B$14,0), MATCH(A13,$A$1:$B$14,0)) -> #N/A
B10: 500 110 | C10: 2011 | D10: 549.14 | H10: 167.07 | L10: 716.21 | M10: 1391.91 | N10: 2108.12 | O10: 1294.79 | P10: -97.12
B11: 500 111 | C11: 348 | D11: 72.08 | L11: 72.08 | M11: 592.59 | N11: 664.67 | O11: 275.92 | P11: -316.67
B12: 500 114 | C12: 84.7 | D12: 8.31 | K12: 17.58 | L12: 25.89 | M12: 69.83 | N12: 95.72 | O12: 58.81 | P12: -11.02
A13: Total ALTERVAL | B13: seb | C13: 88117.5 | D13: 16560.24 | E13: 1503.5 | F13: 4145.75 | G13: 2451.4 | H13: 5574.27 | I13: 1169.98 | J13: 2289.32 | K13: 424.43 | L13: 34118.89 | M13: 46590.04 | N13: 80708.93 | O13: 53998.61 | P13: 7408.57
C14: 88117.5 | D14: 16560.24 | E14: 1503.5 | F14: 4145.75 | G14: 2451.4 | H14: 5574.27 | I14: 1169.98 | J14: 2289.32 | K14: 424.43 | L14: 34118.89 | M14: 46590.04 | N14: 80708.93 | O14: 53998.61 | P14: 7408.57
C15: Données | R15: CLIENT | S15: CA CLIENT | T15: % CA CLIENT | U15: MARGE BRUTE | V15: % MB/CA | W15: MO | X15: % MO | Y15: %MO/CA
A16: 300000 | B16: NAF | C16: Facturé | D16: M.P. | E16: Fourn. | F16: STR Méca | G16: STR Laser | H16: STR Peint. | I16: STR Trait. | J16: STR Autres | K16: Transp. | L16: ACHATS | M16: MO Réelle | N16: MO Réelle + Achats | O16: MO Facturable | P16: Marge / Fact. | R16: APN | S16: 1345 | T16: =S16/$S$36*100 -> 1.0836266 | U16: 123.75 | V16: =U16/S16*100 -> 9.2007435 | W16: 826.75 | X16: =W16/$W$36*100 -> 1.1333392 | Y16: =W16/S16*100 -> 61.468401
A17: APN | B17: 304 137 | C17: 1345 | D17: 394.5 | L17: 394.5 | M17: 826.75 | N17: 1221.25 | O17: 950.5 | P17: 123.75 | R17: ESTEVE | S17: 17151 | T17: =S17/$S$36*100 -> 13.818051 | U17: 623.39 | V17: =U17/S17*100 -> 3.6347152 | W17: 10522.41 | X17: =W17/$W$36*100 -> 14.424506 | Y17: =W17/S17*100 -> 61.351583
A18: Total APN | C18: 1345 | D18: 394.5 | L18: 394.5 | M18: 826.75 | N18: 1221.25 | O18: 950.5 | P18: 123.75 | R18: FEMAAG | S18: 273.56 | T18: =S18/$S$36*100 -> 0.22039917 | U18: 82.1 | V18: =U18/S18*100 -> 30.011698 | W18: 153.41 | X18: =W18/$W$36*100 -> 0.21030006 | Y18: =W18/S18*100 -> 56.079105
A19: ESTEVE SAS | B19: 304 101 | C19: 1780 | D19: 787.34 | E19: 2.23 | L19: 789.57 | M19: 952.17 | N19: 1741.74 | O19: 990.43 | P19: 38.26 | R19: FILMAG | S19: 16239.1 | T19: =S19/$S$36*100 -> 13.083361 | U19: 1026.16 | V19: =U19/S19*100 -> 6.3190694 | W19: 10921.33 | X19: =W19/$W$36*100 -> 14.97136 | Y19: =W19/S19*100 -> 67.253296
B20: 304 102 | C20: 4236 | D20: 24.75 | L20: 24.75 | M20: 3598.25 | N20: 3623 | O20: 4211.25 | P20: 613 | R20: GETELEC | S20: 863.9 | T20: =S20/$S$36*100 -> 0.69601858 | U20: 386.27 | V20: =U20/S20*100 -> 44.712351 | W20: 149.91 | X20: =W20/$W$36*100 -> 0.20550213 | Y20: =W20/S20*100 -> 17.352703
B21: 304 103 | C21: 4820 | D21: 2574 | L21: 2574 | M21: 2713.25 | N21: 5287.25 | O21: 2246 | P21: -467.25 | R21: GYRDIS | S21: 13150 | T21: =S21/$S$36*100 -> 10.594565 | U21: 1990.92 | V21: =U21/S21*100 -> 15.140076 | W21: 5348 | X21: =W21/$W$36*100 -> 7.3312346 | Y21: =W21/S21*100 -> 40.669202
B22: 304 154 | C22: 5840 | D22: 2146.06 | E22: 84.79 | K22: 328.57 | L22: 2559.42 | M22: 3254.16 | N22: 5813.58 | O22: 3280.58 | P22: 26.42 | R22: DIAMOND | S22: 56 | T22: =S22/$S$36*100 -> 0.045117537 | U22: 0.39 | V22: =U22/S22*100 -> 0.69642857 | W22: 37.75 | X22: =W22/$W$36*100 -> 0.051749085 | Y22: =W22/S22*100 -> 67.410714
B23: 304 258 | C23: 475 | D23: 57.46 | L23: 57.46 | M23: 4.58 | N23: 62.04 | O23: 417.54 | P23: 412.96 | R23: MECA+SERVICES | S23: 4380 | T23: =S23/$S$36*100 -> 3.5288359 | U23: 393.15 | V23: =U23/S23*100 -> 8.9760274 | W23: 1363.71 | X23: =W23/$W$36*100 -> 1.8694237 | Y23: =W23/S23*100 -> 31.134932
A24: Total ESTEVE SAS | C24: 17151 | D24: 5589.61 | E24: 87.02 | K24: 328.57 | L24: 6005.2 | M24: 10522.41 | N24: 16527.61 | O24: 11145.8 | P24: 623.39 | R24: METALU-PLAST | S24: 14043.56 | T24: =S24/$S$36*100 -> 11.314479 | U24: -426.38 | V24: =U24/S24*100 -> -3.0361247 | W24: 8376.92 | X24: =W24/$W$36*100 -> 11.483389 | Y24: =W24/S24*100 -> 59.649548
A25: FEMAAG | B25: 303 926 | C25: 224 | D25: 36.77 | L25: 36.77 | M25: 117.08 | N25: 153.85 | O25: 187.23 | P25: 70.15 | R25: LEDIA | S25: 8147.19 | T25: =S25/$S$36*100 -> 6.5639491 | U25: 3423.51 | V25: =U25/S25*100 -> 42.020746 | W25: 3085.24 | X25: =W25/$W$36*100 -> 4.2293602 | Y25: =W25/S25*100 -> 37.868762
B26: 304 244 | C26: 49.56 | D26: 1.28 | L26: 1.28 | M26: 36.33 | N26: 37.61 | O26: 48.28 | P26: 11.95 | R26: SEPRA AUTO | S26: 5923.32 | T26: =S26/$S$36*100 -> 4.772243 | U26: 793.89 | V26: =U26/S26*100 -> 13.402788 | W26: 3754.61 | X26: =W26/$W$36*100 -> 5.1469571 | Y26: =W26/S26*100 -> 63.386918
A27: Total FEMAAG | C27: 273.56 | D27: 38.05 | L27: 38.05 | M27: 153.41 | N27: 191.46 | O27: 235.51 | P27: 82.1 | R27: VAN'S BARBOT | S27: 1020 | T27: =S27/$S$36*100 -> 0.82178371 | U27: 555.22 | V27: =U27/S27*100 -> 54.433333 | W27: 293.33 | X27: =W27/$W$36*100 -> 0.40210752 | Y27: =W27/S27*100 -> 28.757843
A28: FILMAG | B28: 304 131 | C28: 837.96 | D28: 62.83 | L28: 62.83 | M28: 871.67 | N28: 934.5 | O28: 775.13 | P28: -96.54 | R28: TOUCH IN | S28: 4820 | T28: =S28/$S$36*100 -> 3.8833309 | U28: -1107.94 | V28: =U28/S28*100 -> -22.986307 | W28: 5286.55 | X28: =W28/$W$36*100 -> 7.2469967 | Y28: =W28/S28*100 -> 109.67946
B29: 304 133 | C29: 1280 | D29: 262.29 | L29: 262.29 | M29: 1015.42 | N29: 1277.71 | O29: 1017.71 | P29: 2.29 | R29: NAITE | S29: 1244.26 | T29: =S29/$S$36*100 -> 1.0024633 | U29: -428.57 | V29: =U29/S29*100 -> -34.443766 | W29: 924.42 | X29: =W29/$W$36*100 -> 1.2672288 | Y29: =W29/S29*100 -> 74.294762
B30: 304 134 | C30: 520.36 | D30: 132.05 | L30: 132.05 | M30: 296.33 | N30: 428.38 | O30: 388.31 | P30: 91.98 | R30: THIBAUT | S30: 18593.66 | T30: =S30/$S$36*100 -> 14.98036 | U30: 4990.83 | V30: =U30/S30*100 -> 26.841569 | W30: 8166.74 | X30: =W30/$W$36*100 -> 11.195267 | Y30: =W30/S30*100 -> 43.922176
B31: 304 157 | C31: 453.17 | D31: 111.78 | L31: 111.78 | M31: 415.58 | N31: 527.36 | O31: 341.39 | P31: -74.19 | R31: VAN'S THEAULT | S31: 14615.2 | T31: =S31/$S$36*100 -> 11.775033 | U31: 2514.6 | V31: =U31/S31*100 -> 17.205375 | W31: 9125.26 | X31: =W31/$W$36*100 -> 12.509241 | Y31: =W31/S31*100 -> 62.436778
B32: 304 173 | C32: 1788 | D32: 455.3 | L32: 455.3 | M32: 1086 | N32: 1541.3 | O32: 1332.7 | P32: 246.7 | R32: ACTIA AUTO | S32: 2450 | T32: =S32/$S$36*100 -> 1.9738923 | U32: -815.75 | V32: =U32/S32*100 -> -33.295918 | W32: 2190.23 | X32: =W32/$W$36*100 -> 3.0024476 | Y32: =W32/S32*100 -> 89.397143
B33: 304 174 | C33: 99.56 | D33: 44.33 | L33: 44.33 | M33: 87.17 | N33: 131.5 | O33: 55.23 | P33: -31.94 | R33: VULCAIN | S33: -4425 | T33: =S33/$S$36*100 -> -3.5650911 | U33: -4425 | V33: =U33/S33*100 -> 100 | W33: 0 | X33: =W33/$W$36*100 -> 0 | Y33: =W33/S33*100 -> 0
B34: 304 175 | C34: 427.2 | D34: 125.11 | L34: 125.11 | M34: 184.42 | N34: 309.53 | O34: 302.09 | P34: 117.67 | R34: DENIOS | S34: 3949.5 | T34: =S34/$S$36*100 -> 3.1819949 | U34: -322.83 | V34: =U34/S34*100 -> -8.1739461 | W34: 2295.25 | X34: =W34/$W$36*100 -> 3.1464129 | Y34: =W34/S34*100 -> 58.114951
B35: 304 176 | C35: 972.33 | D35: 755.73 | L35: 755.73 | M35: 505.5 | N35: 1261.23 | O35: 216.6 | P35: -288.9 | R35: CMI | S35: 280 | T35: =S35/$S$36*100 -> 0.22558769 | U35: 52.81 | V35: =U35/S35*100 -> 18.860714 | W35: 126.33 | X35: =W35/$W$36*100 -> 0.1731778 | Y35: =W35/S35*100 -> 45.117857
B36: 304 177 | C36: 320.36 | D36: 86.93 | L36: 86.93 | M36: 178.83 | N36: 265.76 | O36: 233.43 | P36: 54.6 | R36: TOTAL | S36: =SUM(S16:S35) -> 124120.25 | T36: =S36/$S$36*100 -> 100 | U36: =SUM(U16:U35) -> 9430.52 | V36: =U36/S36*100 -> 7.5978899 | W36: =SUM(W16:W35) -> 72948.15 | X36: =W36/$W$36*100 -> 100 | Y36: =W36/S36*100 -> 58.772158
B37: 304 178 | C37: 174.04 | D37: 42.11 | L37: 42.11 | M37: 187.5 | N37: 229.61 | O37: 131.93 | P37: -55.57
B38: 304 179 | C38: 123 | D38: 17.32 | L38: 17.32 | M38: 91.59 | N38: 108.91 | O38: 105.68 | P38: 14.09
B39: 304 180 | C39: 414.62 | D39: 152.86 | L39: 152.86 | M39: 722.41 | N39: 875.27 | O39: 261.76 | P39: -460.65
B40: 304 181 | C40: 3667.78 | D40: 1295.23 | L40: 1295.23 | M40: 1537.25 | N40: 2832.48 | O40: 2372.55 | P40: 835.3
B41: 304 182 | C41: 3355.6 | D41: 199.23 | L41: 199.23 | M41: 2419.33 | N41: 2618.56 | O41: 3156.37 | P41: 737.04
B42: 304 211 | C42: 165 | D42: 55.28 | L42: 55.28 | M42: 90.25 | N42: 145.53 | O42: 109.72 | P42: 19.47
B43: 304 212 | C43: 777.5 | D43: 269.45 | L43: 269.45 | M43: 412.5 | N43: 681.95 | O43: 508.05 | P43: 95.55
B44: 304 213 | C44: 320 | D44: 47.4 | L44: 47.4 | M44: 119.42 | N44: 166.82 | O44: 272.6 | P44: 153.18
B45: 304 214 | C45: 152 | D45: 37.29 | L45: 37.29 | M45: 119.25 | N45: 156.54 | O45: 114.71 | P45: -4.54
B46: 304 215 | C46: 23.26 | D46: 11.43 | L46: 11.43 | M46: 39.17 | N46: 50.6 | O46: 11.83 | P46: -27.34
B47: 304 216 | C47: 182.96 | D47: 61.47 | L47: 61.47 | M47: 172.58 | N47: 234.05 | O47: 121.49 | P47: -51.09
B48: 304 217 | C48: 66.54 | D48: 27.18 | L48: 27.18 | M48: 98.5 | N48: 125.68 | O48: 39.36 | P48: -59.14
B49: 304 279 | C49: 117.86 | D49: 39.01 | L49: 39.01 | M49: 270.66 | N49: 309.67 | O49: 78.85 | P49: -191.81
A50: Total FILMAG | C50: 16239.1 | D50: 4291.61 | L50: 4291.61 | M50: 10921.33 | N50: 15212.94 | O50: 11947.49 | P50: 1026.16
A51: GETELEC | B51: 304 019 | C51: 309.9 | D51: 3.48 | K51: 22.51 | L51: 25.99 | M51: 48.33 | N51: 74.32 | O51: 283.91 | P51: 235.58
B52: 304 233 | C52: 406 | F52: 236.9 | K52: 22.51 | L52: 259.41 | M52: 56.08 | N52: 315.49 | O52: 146.59 | P52: 90.51
B53: 304 234 | C53: 148 | D53: 11.39 | K53: 30.93 | L53: 42.32 | M53: 45.5 | N53: 87.82 | O53: 105.68 | P53: 60.18
A54: Total GETELEC | C54: 863.9 | D54: 14.87 | F54: 236.9 | K54: 75.95 | L54: 327.72 | M54: 149.91 | N54: 477.63 | O54: 536.18 | P54: 386.27
A55: GYRDIS | B55: 304 092 | C55: 1150 | F55: 973.35 | K55: 30.93 | L55: 1004.28 | M55: 41.25 | N55: 1045.53 | O55: 145.72 | P55: 104.47
B56: 304 093 | C56: 12000 | D56: 2508.71 | E56: 696.44 | H56: 1287.5 | K56: 314.15 | L56: 4806.8 | M56: 5306.75 | N56: 10113.55 | O56: 7193.2 | P56: 1886.45
A57: Total GYRDIS | C57: 13150 | D57: 2508.71 | E57: 696.44 | F57: 973.35 | H57: 1287.5 | K57: 345.08 | L57: 5811.08 | M57: 5348 | N57: 11159.08 | O57: 7338.92 | P57: 1990.92
A58: LE CAILLEBOTIS DIAMOND | B58: 304 060 | C58: 56 | D58: 17.86 | L58: 17.86 | M58: 37.75 | N58: 55.61 | O58: 38.14 | P58: 0.39
A59: Total LE CAILLEBOTIS DIAMOND | C59: 56 | D59: 17.86 | L59: 17.86 | M59: 37.75 | N59: 55.61 | O59: 38.14 | P59: 0.39
A60: MECA + SERVICES | B60: 304 229 | C60: 4380 | D60: 2527.39 | K60: 95.75 | L60: 2623.14 | M60: 1363.71 | N60: 3986.85 | O60: 1756.86 | P60: 393.15
A61: Total MECA + SERVICES | C61: 4380 | D61: 2527.39 | K61: 95.75 | L61: 2623.14 | M61: 1363.71 | N61: 3986.85 | O61: 1756.86 | P61: 393.15
A62: METALU-PLAST | B62: 304 119 | C62: 4803 | D62: 613.45 | I62: 699.55 | K62: 206 | L62: 1519 | M62: 1963.41 | N62: 3482.41 | O62: 3284 | P62: 1320.59
B63: 304 123 | C63: 228 | D63: 10.72 | K63: 10.52 | L63: 21.24 | M63: 128.42 | N63: 149.66 | O63: 206.76 | P63: 78.34
B64: 304 124 | C64: 575 | D64: 263.77 | K64: 102.55 | L64: 366.32 | M64: 171.5 | N64: 537.82 | O64: 208.68 | P64: 37.18
B65: 304 158 | C65: 253.6 | D65: 18.08 | L65: 18.08 | M65: 110.5 | N65: 128.58 | O65: 235.52 | P65: 125.02
B66: 304 159 | C66: 1420 | D66: 211.44 | L66: 211.44 | M66: 1464 | N66: 1675.44 | O66: 1208.56 | P66: -255.44
B67: 304 160 | C67: 78 | D67: 12.22 | L67: 12.22 | M67: 46.58 | N67: 58.8 | O67: 65.78 | P67: 19.2
B68: 304 161 | C68: 527.1 | D68: 179.34 | L68: 179.34 | M68: 388.5 | N68: 567.84 | O68: 347.76 | P68: -40.74
B69: 304 162 | C69: 563 | D69: 207.8 | L69: 207.8 | M69: 699.58 | N69: 907.38 | O69: 355.2 | P69: -344.38
B70: 304 219 | C70: 809 | D70: 143.69 | L70: 143.69 | M70: 387.75 | N70: 531.44 | O70: 665.31 | P70: 277.56
B71: 304 220 | C71: 180.26 | D71: 208.66 | L71: 208.66 | M71: 451.09 | N71: 659.75 | O71: -28.4 | P71: -479.49
B72: 304 221 | C72: 1050 | D72: 347.96 | I72: 386.25 | L72: 734.21 | M72: 811.92 | N72: 1546.13 | O72: 315.79 | P72: -496.13
B73: 304 222 | C73: 150.6 | D73: 17.67 | L73: 17.67 | M73: 48 | N73: 65.67 | O73: 132.93 | P73: 84.93
B74: 304 223 | D74: 4.48 | H74: 41.2 | L74: 45.68 | M74: 59.59 | N74: 105.27 | O74: -45.68 | P74: -105.27
B75: 304 224 | C75: 3406 | D75: 2407.67 | L75: 2407.67 | M75: 1646.08 | N75: 4053.75 | O75: 998.33 | P75: -647.75
A76: Total METALU-PLAST | C76: 14043.56 | D76: 4646.95 | H76: 41.2 | I76: 1085.8 | K76: 319.07 | L76: 6093.02 | M76: 8376.92 | N76: 14469.94 | O76: 7950.54 | P76: -426.38
A77: SAS LEDIA | B77: 304 153 | C77: 298.43 | D77: 6.59 | L77: 6.59 | M77: 69.5 | N77: 76.09 | O77: 291.84 | P77: 222.34
B78: 304 163 | C78: 303.58 | D78: 8.55 | L78: 8.55 | M78: 143.58 | N78: 152.13 | O78: 295.03 | P78: 151.45
B79: 304 164 | C79: 382.26 | D79: 22.5 | L79: 22.5 | M79: 327.58 | N79: 350.08 | O79: 359.76 | P79: 32.18
B80: 304 195 | C80: 1116.02 | D80: 37.13 | L80: 37.13 | M80: 236.5 | N80: 273.63 | O80: 1078.89 | P80: 842.39
B81: 304 196 | C81: 571.7 | D81: 21.08 | L81: 21.08 | M81: 123.83 | N81: 144.91 | O81: 550.62 | P81: 426.79
B82: 304 197 | C82: 86.5 | D82: 1.43 | L82: 1.43 | M82: 22.92 | N82: 24.35 | O82: 85.07 | P82: 62.15
B83: 304 198 | C83: 1059.48 | D83: 560.32 | L83: 560.32 | M83: 257.09 | N83: 817.41 | O83: 499.16 | P83: 242.07
B84: 304 199 | C84: 238.56 | D84: 17.62 | L84: 17.62 | M84: 162.25 | N84: 179.87 | O84: 220.94 | P84: 58.69
B85: 304 239 | C85: 85.72 | D85: 32.11 | L85: 32.11 | M85: 42.33 | N85: 74.44 | O85: 53.61 | P85: 11.28
B86: 304 251 | C86: 1423.47 | D86: 481.87 | L86: 481.87 | M86: 351.84 | N86: 833.71 | O86: 941.6 | P86: 589.76
B87: 304 252 | C87: 590.26 | D87: 43.11 | L87: 43.11 | M87: 121.33 | N87: 164.44 | O87: 547.15 | P87: 425.82
B88: 304 253 | C88: 108.64 | D88: 8.34 | L88: 8.34 | M88: 149.5 | N88: 157.84 | O88: 100.3 | P88: -49.2
B89: 304 254 | C89: 840 | D89: 133.49 | L89: 133.49 | M89: 507.58 | N89: 641.07 | O89: 706.51 | P89: 198.93
... B92: 304 275 | C92: 600.39 | D92: 104.3 | L92: 104.3 | M92: 412.08 | N92: 516.38 | O92: 496.09 | P92: 84.01
A93: Total SAS LEDIA | C93: 8147.19 | D93: 1638.44 | L93: 1638.44 | M93: 3085.24 | N93: 4723.68 | O93: 6508.75 | P93: 3423.51
A94: SEPRA AUTOMATISATION | B94: 304 141 | C94: 116 | D94: 0.53 | K94: 23.69 | L94: 24.22 | M94: 63.84 | N94: 88.06 | O94: 91.78 | P94: 27.94
B95: 304 183 | C95: 2400 | D95: 165.95 | F95: 220.09 | H95: 150.38 | I95: 47.9 | K95: 129.85 | L95: 714.17 | M95: 1911.25 | N95: 2625.42 | O95: 1685.83 | P95: -225.42
B96: 304 184 | C96: 198 | D96: 56.35 | K96: 20.02 | L96: 76.37 | M96: 106.92 | N96: 183.29 | O96: 121.63 | P96: 14.71
B97: 304 190 | C97: 2562.12 | D97: 263.41 | H97: 89.88 | I97: 79.36 | K97: 53.61 | L97: 486.26 | M97: 1329.1 | N97: 1815.36 | O97: 2075.86 | P97: 746.76
B98: 304 201 | C98: 197.88 | D98: 29.55 | H98: 28.84 | L98: 58.39 | M98: 194 | N98: 252.39 | O98: 139.49 | P98: -54.51
B99: 304 202 | C99: 264.48 | D99: 0.85 | I99: 10.2 | L99: 11.05 | M99: 85 | N99: 96.05 | O99: 253.43 | P99: 168.43
B100: 304 203 | C100: 184.84 | D100: 4.36 | L100: 4.36 | M100: 64.5 | N100: 68.86 | O100: 180.48 | P100: 115.98
A101: Total SEPRA AUTOMATISATION | C101: 5923.32 | D101: 521 | F101: 220.09 | H101: 269.1 | I101: 137.46 | K101: 227.17 | L101: 1374.82 | M101: 3754.61 | N101: 5129.43 | O101: 4548.5 | P101: 793.89
A102: VAN'S BARBOT | B102: 304 048 | C102: 1020 | D102: 171.45 | L102: 171.45 | M102: 293.33 | N102: 464.78 | O102: 848.55 | P102: 555.22
...

Sheet Feuil5
A1: CLIENTS | B1: CA CLIENT | C1: % CA CLIENT | D1: MARGE BRUTE | E1: % MB/CA | F1: MO reelle | G1: % MO | H1: %MO/CA | I1: NAF | J1: Lignes
A2: {=IF(ROWS($2:2)<=COUNTA(rng),INDEX(rng,SMALL(IF(LEFT(rng,5)="Total",ROW(rng)-MIN(ROW(rng))+1),ROWS($2:2))),"")} -> Total ALTERVAL | B2: =INDIRECT("Feuil4!C"&$J2) -> 88117.5 | D2: =INDIRECT("Feuil4!P"&$J2) -> 7408.57 | E2: =D2/B2 -> 0.084076035 | F2: =INDIRECT("Feuil4!M"&$J2) -> 46590.04 | H2: =F2/B2 -> 0.5287263 | I2: =VLOOKUP(9.99999999999999E+307,INDIRECT("Feuil4!A1"&":A"&J2),1) -> 500000 | J2: {=IF(ROWS($2:2)<=COUNTA(rng),SMALL(IF(LEFT(rng,5)="Total",ROW(rng)-MIN(ROW(rng))+1),ROWS($2:2)),"")+1} -> 13
A3: {=IF(ROWS($2:3)<=COUNTA(rng),INDEX(rng,SMALL(IF(LEFT(rng,5)="Total",ROW(rng)-MIN(ROW(rng))+1),ROWS($2:3))),"")} -> Total APN | B3: =INDIRECT("Feuil4!C"&$J3) -> 1345 | D3: =INDIRECT("Feuil4!P"&$J3) -> 123.75 | E3: =D3/B3 -> 0.092007435 | F3: =INDIRECT("Feuil4!M"&$J3) -> 826.75 | H3: =F3/B3 -> 0.61468401 | I3: =VLOOKUP(9.99999999999999E+307,INDIRECT("Feuil4!A1"&":A"&J3),1) -> 300000 | J3: {=IF(ROWS($2:3)<=COUNTA(rng),SMALL(IF(LEFT(rng,5)="Total",ROW(rng)-MIN(ROW(rng))+1),ROWS($2:3)),"")+1} -> 18
A4: {=IF(ROWS($2:4)<=COUNTA(rng),INDEX(rng,SMALL(IF(LEFT(rng,5)="Total",ROW(rng)-MIN(ROW(rng))+1),ROWS($2:4))),"")} -> Total ESTEVE SAS | B4: =INDIRECT("Feuil4!C"&$J4) -> 17151 | D4: =INDIRECT("Feuil4!P"&$J4) -> 623.39 | E4: =D4/B4 -> 0.036347152 | F4: =INDIRECT("Feuil4!M"&$J4) -> 10522.41 | H4: =F4/B4 -> 0.61351583 | I4: =VLOOKUP(9.99999999999999E+307,INDIRECT("Feuil4!A1"&":A"&J4),1) -> 300000 | J4: {=IF(ROWS($2:4)<=COUNTA(rng),SMALL(IF(LEFT(rng,5)="Total",ROW(rng)-MIN(ROW(rng))+1),ROWS($2:4)),"")+1} -> 24
A5: {=IF(ROWS($2:5)<=COUNTA(rng),INDEX(rng,SMALL(IF(LEFT(rng,5)="Total",ROW(rng)-MIN(ROW(rng))+1),ROWS($2:5))),"")} -> Total FEMAAG | B5: =INDIRECT("Feuil4!C"&$J5) -> 273.56 | D5: =INDIRECT("Feuil4!P"&$J5) -> 82.1 | E5: =D5/B5 -> 0.30011698 | F5: =INDIRECT("Feuil4!M"&$J5) -> 153.41 | H5: =F5/B5 -> 0.56079105 | I5: =VLOOKUP(9.99999999999999E+307,INDIRECT("Feuil4!A1"&":A"&J5),1) -> 300000 | J5: {=IF(ROWS($2:5)<=COUNTA(rng),SMALL(IF(LEFT(rng,5)="Total",ROW(rng)-MIN(ROW(rng))+1),ROWS($2:5)),"")+1} -> 27
A6: {=IF(ROWS($2:6)<=COUNTA(rng),INDEX(rng,SMALL(IF(LEFT(rng,5)="Total",ROW(rng)-MIN(ROW(rng))+1),ROWS($2:6))),"")} -> Total FILMAG | B6: =INDIRECT("Feuil4!C"&$J6) -> 16239.1 | D6: =INDIRECT("Feuil4!P"&$J6) -> 1026.16 | E6: =D6/B6 -> 0.063190694 | F6: =INDIRECT("Feuil4!M"&$J6) -> 10921.33 | H6: =F6/B6 -> 0.67253296 | I6: =VLOOKUP(9.99999999999999E+307,INDIRECT("Feuil4!A1"&":A"&J6),1) -> 300000 | J6: {=IF(ROWS($2:6)<=COUNTA(rng),SMALL(IF(LEFT(rng,5)="Total",ROW(rng)-MIN(ROW(rng))+1),ROWS($2:6)),"")+1} -> 50
A7: {=IF(ROWS($2:7)<=COUNTA(rng),INDEX(rng,SMALL(IF(LEFT(rng,5)="Total",ROW(rng)-MIN(ROW(rng))+1),ROWS($2:7))),"")} -> Total GETELEC | B7: =INDIRECT("Feuil4!C"&$J7) -> 863.9 | D7: =INDIRECT("Feuil4!P"&$J7) -> 386.27 | E7: =D7/B7 -> 0.44712351 | F7: =INDIRECT("Feuil4!M"&$J7) -> 149.91 | H7: =F7/B7 -> 0.17352703 | I7: =VLOOKUP(9.99999999999999E+307,INDIRECT("Feuil4!A1"&":A"&J7),1) -> 300000 | J7: {=IF(ROWS($2:7)<=COUNTA(rng),SMALL(IF(LEFT(rng,5)="Total",ROW(rng)-MIN(ROW(rng))+1),ROWS($2:7)),"")+1} -> 54
A8: {=IF(ROWS($2:8)<=COUNTA(rng),INDEX(rng,SMALL(IF(LEFT(rng,5)="Total",ROW(rng)-MIN(ROW(rng))+1),ROWS($2:8))),"")} -> Total GYRDIS | B8: =INDIRECT("Feuil4!C"&$J8) -> 13150 | D8: =INDIRECT("Feuil4!P"&$J8) -> 1990.92 | E8: =D8/B8 -> 0.15140076 | F8: =INDIRECT("Feuil4!M"&$J8) -> 5348 | H8: =F8/B8 -> 0.40669202 | I8: =VLOOKUP(9.99999999999999E+307,INDIRECT("Feuil4!A1"&":A"&J8),1) -> 300000 | J8: {=IF(ROWS($2:8)<=COUNTA(rng),SMALL(IF(LEFT(rng,5)="Total",ROW(rng)-MIN(ROW(rng))+1),ROWS($2:8)),"")+1} -> 57
A9: {=IF(ROWS($2:9)<=COUNTA(rng),INDEX(rng,SMALL(IF(LEFT(rng,5)="Total",ROW(rng)-MIN(ROW(rng))+1),ROWS($2:9))),"")} -> Total LE CAILLEBOTIS DIAMOND | B9: =INDIRECT("Feuil4!C"&$J9) -> 56 | D9: =INDIRECT("Feuil4!P"&$J9) -> 0.39 | E9: =D9/B9 -> 0.0069642857 | F9: =INDIRECT("Feuil4!M"&$J9) -> 37.75 | H9: =F9/B9 -> 0.67410714 | I9: =VLOOKUP(9.99999999999999E+307,INDIRECT("Feuil4!A1"&":A"&J9),1) -> 300000 | J9: {=IF(ROWS($2:9)<=COUNTA(rng),SMALL(IF(LEFT(rng,5)="Total",ROW(rng)-MIN(ROW(rng))+1),ROWS($2:9)),"")+1} -> 59
A10: {=IF(ROWS($2:10)<=COUNTA(rng),INDEX(rng,SMALL(IF(LEFT(rng,5)="Total",ROW(rng)-MIN(ROW(rng))+1),ROWS($2:10))),"")} -> Total MECA + SERVICES | B10: =INDIRECT("Feuil4!C"&$J10) -> 4380 | D10: =INDIRECT("Feuil4!P"&$J10) -> 393.15 | E10: =D10/B10 -> 0.089760274 | F10: =INDIRECT("Feuil4!M"&$J10) -> 1363.71 | H10: =F10/B10 -> 0.31134932 | I10: =VLOOKUP(9.99999999999999E+307,INDIRECT("Feuil4!A1"&":A"&J10),1) -> 300000 | J10: {=IF(ROWS($2:10)<=COUNTA(rng),SMALL(IF(LEFT(rng,5)="Total",ROW(rng)-MIN(ROW(rng))+1),ROWS($2:10)),"")+1} -> 61
A11: {=IF(ROWS($2:11)<=COUNTA(rng),INDEX(rng,SMALL(IF(LEFT(rng,5)="Total",ROW(rng)-MIN(ROW(rng))+1),ROWS($2:11))),"")} -> Total METALU-PLAST | B11: =INDIRECT("Feuil4!C"&$J11) -> 14043.56 | D11: =INDIRECT("Feuil4!P"&$J11) -> -426.38 | E11: =D11/B11 -> -0.030361247 | F11: =INDIRECT("Feuil4!M"&$J11) -> 8376.92 | H11: =F11/B11 -> 0.59649548 | I11: =VLOOKUP(9.99999999999999E+307,INDIRECT("Feuil4!A1"&":A"&J11),1) -> 300000 | J11: {=IF(ROWS($2:11)<=COUNTA(rng),SMALL(IF(LEFT(rng,5)="Total",ROW(rng)-MIN(ROW(rng))+1),ROWS($2:11)),"")+1} -> 76
A12: {=IF(ROWS($2:12)<=COUNTA(rng),INDEX(rng,SMALL(IF(LEFT(rng,5)="Total",ROW(rng)-MIN(ROW(rng))+1),ROWS($2:12))),"")} -> Total SAS LEDIA | B12: =INDIRECT("Feuil4!C"&$J12) -> 8147.19 | D12: =INDIRECT("Feuil4!P"&$J12) -> 3423.51 | E12: =D12/B12 -> 0.42020746 | F12: =INDIRECT("Feuil4!M"&$J12) -> 3085.24 | H12: =F12/B12 -> 0.37868762 | I12: =VLOOKUP(9.99999999999999E+307,INDIRECT("Feuil4!A1"&":A"&J12),1) -> 300000 | J12: {=IF(ROWS($2:12)<=COUNTA(rng),SMALL(IF(LEFT(rng,5)="Total",ROW(rng)-MIN(ROW(rng))+1),ROWS($2:12)),"")+1} -> 93
A13: {=IF(ROWS($2:13)<=COUNTA(rng),INDEX(rng,SMALL(IF(LEFT(rng,5)="Total",ROW(rng)-MIN(ROW(rng))+1),ROWS($2:13))),"")} -> Total SEPRA AUTOMATISATION | B13: =INDIRECT("Feuil4!C"&$J13) -> 5923.32 | D13: =INDIRECT("Feuil4!P"&$J13) -> 793.89 | E13: =D13/B13 -> 0.13402788 | F13: =INDIRECT("Feuil4!M"&$J13) -> 3754.61 | H13: =F13/B13 -> 0.63386918 | I13: =VLOOKUP(9.99999999999999E+307,INDIRECT("Feuil4!A1"&":A"&J13),1) -> 300000 | J13: {=IF(ROWS($2:13)<=COUNTA(rng),SMALL(IF(LEFT(rng,5)="Total",ROW(rng)-MIN(ROW(rng))+1),ROWS($2:13)),"")+1} -> 101
A14: {=IF(ROWS($2:14)<=COUNTA(rng),INDEX(rng,SMALL(IF(LEFT(rng,5)="Total",ROW(rng)-MIN(ROW(rng))+1),ROWS($2:14))),"")} -> Total VAN'S BARBOT | B14: =INDIRECT("Feuil4!C"&$J14) -> 1020 | D14: =INDIRECT("Feuil4!P"&$J14) -> 555.22 | E14: =D14/B14 -> 0.54433333 | F14: =INDIRECT("Feuil4!M"&$J14) -> 293.33 | H14: =F14/B14 -> 0.28757843 | I14: =VLOOKUP(9.99999999999999E+307,INDIRECT("Feuil4!A1"&":A"&J14),1) -> 300000 | J14: {=IF(ROWS($2:14)<=COUNTA(rng),SMALL(IF(LEFT(rng,5)="Total",ROW(rng)-MIN(ROW(rng))+1),ROWS($2:14)),"")+1} -> 103
A15: {=IF(ROWS($2:15)<=COUNTA(rng),INDEX(rng,SMALL(IF(LEFT(rng,5)="Total",ROW(rng)-MIN(ROW(rng))+1),ROWS($2:15))),"")} -> Total TOUCH INNOVATION | B15: =INDIRECT("Feuil4!C"&$J15) -> 4820 | D15: =INDIRECT("Feuil4!P"&$J15) -> -1107.94 | E15: =D15/B15 -> -0.22986307 | F15: =INDIRECT("Feuil4!M"&$J15) -> 5286.55 | H15: =F15/B15 -> 1.0967946 | I15: =VLOOKUP(9.99999999999999E+307,INDIRECT("Feuil4!A1"&":A"&J15),1) -> 300000 | J15: {=IF(ROWS($2:15)<=COUNTA(rng),SMALL(IF(LEFT(rng,5)="Total",ROW(rng)-MIN(ROW(rng))+1),ROWS($2:15)),"")+1} -> 108
A16: {=IF(ROWS($2:16)<=COUNTA(rng),INDEX(rng,SMALL(IF(LEFT(rng,5)="Total",ROW(rng)-MIN(ROW(rng))+1),ROWS($2:16))),"")} -> Total NAITE | B16: =INDIRECT("Feuil4!C"&$J16) -> 1244.26 | D16: =INDIRECT("Feuil4!P"&$J16) -> -428.57 | E16: =D16/B16 -> -0.34443766 | F16: =INDIRECT("Feuil4!M"&$J16) -> 924.42 | H16: =F16/B16 -> 0.74294762 | I16: =VLOOKUP(9.99999999999999E+307,INDIRECT("Feuil4!A1"&":A"&J16),1) -> 300000 | J16: {=IF(ROWS($2:16)<=COUNTA(rng),SMALL(IF(LEFT(rng,5)="Total",ROW(rng)-MIN(ROW(rng))+1),ROWS($2:16)),"")+1} -> 111
A17: {=IF(ROWS($2:17)<=COUNTA(rng),INDEX(rng,SMALL(IF(LEFT(rng,5)="Total",ROW(rng)-MIN(ROW(rng))+1),ROWS($2:17))),"")} -> Total THIBAUT | B17: =INDIRECT("Feuil4!C"&$J17) -> 18593.66 | D17: =INDIRECT("Feuil4!P"&$J17) -> 4990.83 | E17: =D17/B17 -> 0.26841569 | F17: =INDIRECT("Feuil4!M"&$J17) -> 8166.74 | H17: =F17/B17 -> 0.43922176 | I17: =VLOOKUP(9.99999999999999E+307,INDIRECT("Feuil4!A1"&":A"&J17),1) -> 300000 | J17: {=IF(ROWS($2:17)<=COUNTA(rng),SMALL(IF(LEFT(rng,5)="Total",ROW(rng)-MIN(ROW(rng))+1),ROWS($2:17)),"")+1} -> 120
A18: {=IF(ROWS($2:18)<=COUNTA(rng),INDEX(rng,SMALL(IF(LEFT(rng,5)="Total",ROW(rng)-MIN(ROW(rng))+1),ROWS($2:18))),"")} -> Total GSC VANS THEAULT | B18: =INDIRECT("Feuil4!C"&$J18) -> 14615.2 | D18: =INDIRECT("Feuil4!P"&$J18) -> 2514.6 | E18: =D18/B18 -> 0.17205375 | F18: =INDIRECT("Feuil4!M"&$J18) -> 9125.26 | H18: =F18/B18 -> 0.62436778 | I18: =VLOOKUP(9.99999999999999E+307,INDIRECT("Feuil4!A1"&":A"&J18),1) -> 300000 | J18: {=IF(ROWS($2:18)<=COUNTA(rng),SMALL(IF(LEFT(rng,5)="Total",ROW(rng)-MIN(ROW(rng))+1),ROWS($2:18)),"")+1} -> 123
A19: {=IF(ROWS($2:19)<=COUNTA(rng),INDEX(rng,SMALL(IF(LEFT(rng,5)="Total",ROW(rng)-MIN(ROW(rng))+1),ROWS($2:19))),"")} -> Total ACTIA AUTOMOTIVE | B19: =INDIRECT("Feuil4!C"&$J19) -> 2450 | D19: =INDIRECT("Feuil4!P"&$J19) -> -815.75 | E19: =D19/B19 -> -0.33295918 | F19: =INDIRECT("Feuil4!M"&$J19) -> 2190.23 | H19: =F19/B19 -> 0.89397143 | I19: =VLOOKUP(9.99999999999999E+307,INDIRECT("Feuil4!A1"&":A"&J19),1) -> 300000 | J19: {=IF(ROWS($2:19)<=COUNTA(rng),SMALL(IF(LEFT(rng,5)="Total",ROW(rng)-MIN(ROW(rng))+1),ROWS($2:19)),"")+1} -> 125
A20: {=IF(ROWS($2:20)<=COUNTA(rng),INDEX(rng,SMALL(IF(LEFT(rng,5)="Total",ROW(rng)-MIN(ROW(rng))+1),ROWS($2:20))),"")} -> Total VULCAIN | B20: =INDIRECT("Feuil4!C"&$J20) -> -4425 | D20: =INDIRECT("Feuil4!P"&$J20) -> -4425 | E20: =D20/B20 -> 1 | F20: =INDIRECT("Feuil4!M"&$J20) -> 0 | H20: =F20/B20 -> 0 | I20: =VLOOKUP(9.99999999999999E+307,INDIRECT("Feuil4!A1"&":A"&J20),1) -> 300000 | J20: {=IF(ROWS($2:20)<=COUNTA(rng),SMALL(IF(LEFT(rng,5)="Total",ROW(rng)-MIN(ROW(rng))+1),ROWS($2:20)),"")+1} -> 127
A21: {=IF(ROWS($2:21)<=COUNTA(rng),INDEX(rng,SMALL(IF(LEFT(rng,5)="Total",ROW(rng)-MIN(ROW(rng))+1),ROWS($2:21))),"")} -> Total DENIOS | B21: =INDIRECT("Feuil4!C"&$J21) -> 3949.5 | D21: =INDIRECT("Feuil4!P"&$J21) -> -322.83 | E21: =D21/B21 -> -0.081739461 | F21: =INDIRECT("Feuil4!M"&$J21) -> 2295.25 | H21: =F21/B21 -> 0.58114951 | I21: =VLOOKUP(9.99999999999999E+307,INDIRECT("Feuil4!A1"&":A"&J21),1) -> 300000 | J21: {=IF(ROWS($2:21)<=COUNTA(rng),SMALL(IF(LEFT(rng,5)="Total",ROW(rng)-MIN(ROW(rng))+1),ROWS($2:21)),"")+1} -> 131
A22: {=IF(ROWS($2:22)<=COUNTA(rng),INDEX(rng,SMALL(IF(LEFT(rng,5)="Total",ROW(rng)-MIN(ROW(rng))+1),ROWS($2:22))),"")} -> Total CMI | B22: =INDIRECT("Feuil4!C"&$J22) -> 280 | D22: =INDIRECT("Feuil4!P"&$J22) -> 52.81 | E22: =D22/B22 -> 0.18860714 | F22: =INDIRECT("Feuil4!M"&$J22) -> 126.33 | H22: =F22/B22 -> 0.45117857 | I22: =VLOOKUP(9.99999999999999E+307,INDIRECT("Feuil4!A1"&":A"&J22),1) -> 300000 | J22: {=IF(ROWS($2:22)<=COUNTA(rng),SMALL(IF(LEFT(rng,5)="Total",ROW(rng)-MIN(ROW(rng))+1),ROWS($2:22)),"")+1} -> 133
A23: {=IF(ROWS($2:23)<=COUNTA(rng),INDEX(rng,SMALL(IF(LEFT(rng,5)="Total",ROW(rng)-MIN(ROW(rng))+1),ROWS($2:23))),"")} -> Total DIVERS | B23: =INDIRECT("Feuil4!C"&$J23) -> 946.1 | D23: =INDIRECT("Feuil4!P"&$J23) -> 275.16 | E23: =D23/B23 -> 0.29083606 | F23: =INDIRECT("Feuil4!M"&$J23) -> 312.24 | H23: =F23/B23 -> 0.33002854 | I23: =VLOOKUP(9.99999999999999E+307,INDIRECT("Feuil4!A1"&":A"&J23),1) -> 100000 | J23: {=IF(ROWS($2:23)<=COUNTA(rng),SMALL(IF(LEFT(rng,5)="Total",ROW(rng)-MIN(ROW(rng))+1),ROWS($2:23)),"")+1} -> 140
A24: {=IF(ROWS($2:24)<=COUNTA(rng),INDEX(rng,SMALL(IF(LEFT(rng,5)="Total",ROW(rng)-MIN(ROW(rng))+1),ROWS($2:24))),"")} -> Total CERMEX SAS - SITE DE LISIEUX | B24: =INDIRECT("Feuil4!C"&$J24) -> -35331.67 | D24: =INDIRECT("Feuil4!P"&$J24) -> -39618.98 | E24: =D24/B24 -> 1.1213447 | F24: =INDIRECT("Feuil4!M"&$J24) -> 2847.84 | H24: =F24/B24 -> -0.08060304 | I24: =VLOOKUP(9.99999999999999E+307,INDIRECT("Feuil4!A1"&":A"&J24),1) -> 100000 | J24: {=IF(ROWS($2:24)<=COUNTA(rng),SMALL(IF(LEFT(rng,5)="Total",ROW(rng)-MIN(ROW(rng))+1),ROWS($2:24)),"")+1} -> 155
A25: {=IF(ROWS($2:25)<=COUNTA(rng),INDEX(rng,SMALL(IF(LEFT(rng,5)="Total",ROW(rng)-MIN(ROW(rng))+1),ROWS($2:25))),"")} -> Total KNORR BREMSE SYSTEME PR VEHICULES FRANCE | B25: =INDIRECT("Feuil4!C"&$J25) -> 1463 | D25: =INDIRECT("Feuil4!P"&$J25) -> 637.96 | E25: =D25/B25 -> 0.43606288 | F25: =INDIRECT("Feuil4!M"&$J25) -> 647.33 | H25: =F25/B25 -> 0.44246753 | I25: =VLOOKUP(9.99999999999999E+307,INDIRECT("Feuil4!A1"&":A"&J25),1) -> 100000 | J25: {=IF(ROWS($2:25)<=COUNTA(rng),SMALL(IF(LEFT(rng,5)="Total",ROW(rng)-MIN(ROW(rng))+1),ROWS($2:25)),"")+1} -> 160
A26: {=IF(ROWS($2:26)<=COUNTA(rng),INDEX(rng,SMALL(IF(LEFT(rng,5)="Total",ROW(rng)-MIN(ROW(rng))+1),ROWS($2:26))),"")} -> Total PLANQUE | B26: =INDIRECT("Feuil4!C"&$J26) -> 369.9 | D26: =INDIRECT("Feuil4!P"&$J26) -> 142.04 | E26: =D26/B26 -> 0.38399567 | F26: =INDIRECT("Feuil4!M"&$J26) -> 198.66 | H26: =F26/B26 -> 0.53706407 | I26: =VLOOKUP(9.99999999999999E+307,INDIRECT("Feuil4!A1"&":A"&J26),1) -> 100000 | J26: {=IF(ROWS($2:26)<=COUNTA(rng),SMALL(IF(LEFT(rng,5)="Total",ROW(rng)-MIN(ROW(rng))+1),ROWS($2:26)),"")+1} -> 162
A27: {=IF(ROWS($2:27)<=COUNTA(rng),INDEX(rng,SMALL(IF(LEFT(rng,5)="Total",ROW(rng)-MIN(ROW(rng))+1),ROWS($2:27))),"")} -> Total SAS SNIME | B27: =INDIRECT("Feuil4!C"&$J27) -> 190.4 | D27: =INDIRECT("Feuil4!P"&$J27) -> 42.42 | E27: =D27/B27 -> 0.22279412 | F27: =INDIRECT("Feuil4!M"&$J27) -> 134.42 | H27: =F27/B27 -> 0.70598739 | I27: =VLOOKUP(9.99999999999999E+307,INDIRECT("Feuil4!A1"&":A"&J27),1) -> 100000 | J27: {=IF(ROWS($2:27)<=COUNTA(rng),SMALL(IF(LEFT(rng,5)="Total",ROW(rng)-MIN(ROW(rng))+1),ROWS($2:27)),"")+1} -> 166
A28: {=IF(ROWS($2:28)<=COUNTA(rng),INDEX(rng,SMALL(IF(LEFT(rng,5)="Total",ROW(rng)-MIN(ROW(rng))+1),ROWS($2:28))),"")} -> Total GAUDFRIN | B28: =INDIRECT("Feuil4!C"&$J28) -> 5354.04 | D28: =INDIRECT("Feuil4!P"&$J28) -> 64.192 | E28: =D28/B28 -> 0.011989451 | F28: =INDIRECT("Feuil4!M"&$J28) -> 2354.34 | H28: =F28/B28 -> 0.43973149 | I28: =VLOOKUP(9.99999999999999E+307,INDIRECT("Feuil4!A1"&":A"&J28),1) -> 100000 | J28: {=IF(ROWS($2:28)<=COUNTA(rng),SMALL(IF(LEFT(rng,5)="Total",ROW(rng)-MIN(ROW(rng))+1),ROWS($2:28)),"")+1} -> 170
A29: {=IF(ROWS($2:29)<=COUNTA(rng),INDEX(rng,SMALL(IF(LEFT(rng,5)="Total",ROW(rng)-MIN(ROW(rng))+1),ROWS($2:29))),"")} -> Total GEBO PACKAGING SOLUTIONS FRANCE | B29: =INDIRECT("Feuil4!C"&$J29) -> 1436.42 | D29: =INDIRECT("Feuil4!P"&$J29) -> 437.76 | E29: =D29/B29 -> 0.30475766 | F29: =INDIRECT("Feuil4!M"&$J29) -> 779.09 | H29: =F29/B29 -> 0.54238315 | I29: =VLOOKUP(9.99999999999999E+307,INDIRECT("Feuil4!A1"&":A"&J29),1) -> 100000 | J29: {=IF(ROWS($2:29)<=COUNTA(rng),SMALL(IF(LEFT(rng,5)="Total",ROW(rng)-MIN(ROW(rng))+1),ROWS($2:29)),"")+1} -> 174
A30: {=IF(ROWS($2:30)<=COUNTA(rng),INDEX(rng,SMALL(IF(LEFT(rng,5)="Total",ROW(rng)-MIN(ROW(rng))+1),ROWS($2:30))),"")} -> Total PKB | B30: =INDIRECT("Feuil4!C"&$J30) -> 1721.8 | D30: =INDIRECT("Feuil4!P"&$J30) -> 79.07 | E30: =D30/B30 -> 0.045922871 | F30: =INDIRECT("Feuil4!M"&$J30) -> 1374.49 | H30: =F30/B30 -> 0.79828668 | I30: =VLOOKUP(9.99999999999999E+307,INDIRECT("Feuil4!A1"&":A"&J30),1) -> 100000 | J30: {=IF(ROWS($2:30)<=COUNTA(rng),SMALL(IF(LEFT(rng,5)="Total",ROW(rng)-MIN(ROW(rng))+1),ROWS($2:30)),"")+1} -> 183
A31: {=IF(ROWS($2:31)<=COUNTA(rng),INDEX(rng,SMALL(IF(LEFT(rng,5)="Total",ROW(rng)-MIN(ROW(rng))+1),ROWS($2:31))),"")} -> Total HEURTAUX SAS | B31: =INDIRECT("Feuil4!C"&$J31) -> 18705.3 | D31: =INDIRECT("Feuil4!P"&$J31) -> 2428.63 | E31: =D31/B31 -> 0.12983646 | F31: =INDIRECT("Feuil4!M"&$J31) -> 10757.93 | H31: =F31/B31 -> 0.57512737 | I31: =VLOOKUP(9.99999999999999E+307,INDIRECT("Feuil4!A1"&":A"&J31),1) -> 100000 | J31: {=IF(ROWS($2:31)<=COUNTA(rng),SMALL(IF(LEFT(rng,5)="Total",ROW(rng)-MIN(ROW(rng))+1),ROWS($2:31)),"")+1} -> 191
A32: {=IF(ROWS($2:32)<=COUNTA(rng),INDEX(rng,SMALL(IF(LEFT(rng,5)="Total",ROW(rng)-MIN(ROW(rng))+1),ROWS($2:32))),"")} -> Total LOXOS | B32: =INDIRECT("Feuil4!C"&$J32) -> 1550.5 | D32: =INDIRECT("Feuil4!P"&$J32) -> -103.73 | E32: =D32/B32 -> -0.066901 | F32: =INDIRECT("Feuil4!M"&$J32) -> 1474.25 | H32: =F32/B32 -> 0.95082232 | I32: =VLOOKUP(9.99999999999999E+307,INDIRECT("Feuil4!A1"&":A"&J32),1) -> 100000 | J32: {=IF(ROWS($2:32)<=COUNTA(rng),SMALL(IF(LEFT(rng,5)="Total",ROW(rng)-MIN(ROW(rng))+1),ROWS($2:32)),"")+1} -> 193
A33: {=IF(ROWS($2:33)<=COUNTA(rng),INDEX(rng,SMALL(IF(LEFT(rng,5)="Total",ROW(rng)-MIN(ROW(rng))+1),ROWS($2:33))),"")} -> Total MERAND MECAPATE | B33: =INDIRECT("Feuil4!C"&$J33) -> 4023.05 | D33: =INDIRECT("Feuil4!P"&$J33) -> -106.34 | E33: =D33/B33 -> -0.026432682 | F33: =INDIRECT("Feuil4!M"&$J33) -> 2906.82 | H33: =F33/B33 -> 0.72254136 | I33: =VLOOKUP(9.99999999999999E+307,INDIRECT("Feuil4!A1"&":A"&J33),1) -> 100000 | J33: {=IF(ROWS($2:33)<=COUNTA(rng),SMALL(IF(LEFT(rng,5)="Total",ROW(rng)-MIN(ROW(rng))+1),ROWS($2:33)),"")+1} -> 202
A34: {=IF(ROWS($2:34)<=COUNTA(rng),INDEX(rng,SMALL(IF(LEFT(rng,5)="Total",ROW(rng)-MIN(ROW(rng))+1),ROWS($2:34))),"")} -> Total SARGI | B34: =INDIRECT("Feuil4!C"&$J34) -> 1338 | D34: =INDIRECT("Feuil4!P"&$J34) -> 370.06 | E34: =D34/B34 -> 0.27657698 | F34: =INDIRECT("Feuil4!M"&$J34) -> 681.42 | H34: =F34/B34 -> 0.50928251 | I34: =VLOOKUP(9.99999999999999E+307,INDIRECT("Feuil4!A1"&":A"&J34),1) -> 100000 | J34: {=IF(ROWS($2:34)<=COUNTA(rng),SMALL(IF(LEFT(rng,5)="Total",ROW(rng)-MIN(ROW(rng))+1),ROWS($2:34)),"")+1} -> 204
A35: {=IF(ROWS($2:35)<=COUNTA(rng),INDEX(rng,SMALL(IF(LEFT(rng,5)="Total",ROW(rng)-MIN(ROW(rng))+1),ROWS($2:35))),"")} -> Total SARL LAMIDEL MACHINES-OUTILS | B35: =INDIRECT("Feuil4!C"&$J35) -> 695.14 | D35: =INDIRECT("Feuil4!P"&$J35) -> 191.91 | E35: =D35/B35 -> 0.27607388 | F35: =INDIRECT("Feuil4!M"&$J35) -> 398 | H35: =F35/B35 -> 0.57254654 | I35: =VLOOKUP(9.99999999999999E+307,INDIRECT("Feuil4!A1"&":A"&J35),1) -> 100000 | J35: {=IF(ROWS($2:35)<=COUNTA(rng),SMALL(IF(LEFT(rng,5)="Total",ROW(rng)-MIN(ROW(rng))+1),ROWS($2:35)),"")+1} -> 207
A36: {=IF(ROWS($2:36)<=COUNTA(rng),INDEX(rng,SMALL(IF(LEFT(rng,5)="Total",ROW(rng)-MIN(ROW(rng))+1),ROWS($2:36))),"")} -> Total ADIAL | B36: =INDIRECT("Feuil4!C"&$J36) -> 790 | D36: =INDIRECT("Feuil4!P"&$J36) -> 80.78 | E36: =D36/B36 -> 0.10225316 | F36: =INDIRECT("Feuil4!M"&$J36) -> 557.75 | H36: =F36/B36 -> 0.70601266 | I36: =VLOOKUP(9.99999999999999E+307,INDIRECT("Feuil4!A1"&":A"&J36),1) -> 100000 | J36: {=IF(ROWS($2:36)<=COUNTA(rng),SMALL(IF(LEFT(rng,5)="Total",ROW(rng)-MIN(ROW(rng))+1),ROWS($2:36)),"")+1} -> 209
A37: {=IF(ROWS($2:37)<=COUNTA(rng),INDEX(rng,SMALL(IF(LEFT(rng,5)="Total",ROW(rng)-MIN(ROW(rng))+1),ROWS($2:37))),"")} -> Total MSR | B37: =INDIRECT("Feuil4!C"&$J37) -> 197.5 | D37: =INDIRECT("Feuil4!P"&$J37) -> 106.61 | E37: =D37/B37 -> 0.53979747 | F37: =INDIRECT("Feuil4!M"&$J37) -> 87.83 | H37: =F37/B37 -> 0.44470886 | I37: =VLOOKUP(9.99999999999999E+307,INDIRECT("Feuil4!A1"&":A"&J37),1) -> 100000 | J37: {=IF(ROWS($2:37)<=COUNTA(rng),SMALL(IF(LEFT(rng,5)="Total",ROW(rng)-MIN(ROW(rng))+1),ROWS($2:37)),"")+1} -> 211
A38: {=IF(ROWS($2:38)<=COUNTA(rng),INDEX(rng,SMALL(IF(LEFT(rng,5)="Total",ROW(rng)-MIN(ROW(rng))+1),ROWS($2:38))),"")} -> Total POULINGUE SAS | B38: =INDIRECT("Feuil4!C"&$J38) -> 210 | D38: =INDIRECT("Feuil4!P"&$J38) -> -89.72 | E38: =D38/B38 -> -0.4272381 | F38: =INDIRECT("Feuil4!M"&$J38) -> 127 | H38: =F38/B38 -> 0.6047619 | I38: =VLOOKUP(9.99999999999999E+307,INDIRECT("Feuil4!A1"&":A"&J38),1) -> 100000 | J38: {=IF(ROWS($2:38)<=COUNTA(rng),SMALL(IF(LEFT(rng,5)="Total",ROW(rng)-MIN(ROW(rng))+1),ROWS($2:38)),"")+1} -> 213
A39: {=IF(ROWS($2:39)<=COUNTA(rng),INDEX(rng,SMALL(IF(LEFT(rng,5)="Total",ROW(rng)-MIN(ROW(rng))+1),ROWS($2:39))),"")} -> Total APN | B39: =INDIRECT("Feuil4!C"&$J39) -> 1170 | D39: =INDIRECT("Feuil4!P"&$J39) -> 1165.42 | E39: =D39/B39 -> 0.99608547 | F39: =INDIRECT("Feuil4!M"&$J39) -> 4.58 | H39: =F39/B39 -> 0.0039145299 | I39: =VLOOKUP(9.99999999999999E+307,INDIRECT("Feuil4!A1"&":A"&J39),1) -> 400000 | J39: {=IF(ROWS($2:39)<=COUNTA(rng),SMALL(IF(LEFT(rng,5)="Total",ROW(rng)-MIN(ROW(rng))+1),ROWS($2:39)),"")+1} -> 218
A40: {=IF(ROWS($2:40)<=COUNTA(rng),INDEX(rng,SMALL(IF(LEFT(rng,5)="Total",ROW(rng)-MIN(ROW(rng))+1),ROWS($2:40))),"")} -> Total IDPACK | B40: =INDIRECT("Feuil4!C"&$J40) -> 48980.75 | D40: =INDIRECT("Feuil4!P"&$J40) -> 313.99 | E40: =D40/B40 -> 0.0064104776 | F40: =INDIRECT("Feuil4!M"&$J40) -> 29973.08 | H40: =F40/B40 -> 0.61193591 | I40: =VLOOKUP(9.99999999999999E+307,INDIRECT("Feuil4!A1"&":A"&J40),1) -> 400000 | J40: {=IF(ROWS($2:40)<=COUNTA(rng),SMALL(IF(LEFT(rng,5)="Total",ROW(rng)-MIN(ROW(rng))+1),ROWS($2:40)),"")+1} -> 275
A41: {=IF(ROWS($2:41)<=COUNTA(rng),INDEX(rng,SMALL(IF(LEFT(rng,5)="Total",ROW(rng)-MIN(ROW(rng))+1),ROWS($2:41))),"")} -> Total NSE BU INTEGRATIONS | B41: =INDIRECT("Feuil4!C"&$J41) -> 1830 | D41: =INDIRECT("Feuil4!P"&$J41) -> -3.22 | E41: =D41/B41 -> -0.0017595628 | F41: =INDIRECT("Feuil4!M"&$J41) -> 794.5 | H41: =F41/B41 -> 0.43415301 | I41: =VLOOKUP(9.99999999999999E+307,INDIRECT("Feuil4!A1"&":A"&J41),1) -> 400000 | J41: {=IF(ROWS($2:41)<=COUNTA(rng),SMALL(IF(LEFT(rng,5)="Total",ROW(rng)-MIN(ROW(rng))+1),ROWS($2:41)),"")+1} -> 277
A42: {=IF(ROWS($2:42)<=COUNTA(rng),INDEX(rng,SMALL(IF(LEFT(rng,5)="Total",ROW(rng)-MIN(ROW(rng))+1),ROWS($2:42))),"")} -> Total REYES INTEGRATION | B42: =INDIRECT("Feuil4!C"&$J42) -> 915 | D42: =INDIRECT("Feuil4!P"&$J42) -> 641.6 | E42: =D42/B42 -> 0.70120219 | F42: =INDIRECT("Feuil4!M"&$J42) -> 91.52 | H42: =F42/B42 -> 0.10002186 | I42: =VLOOKUP(9.99999999999999E+307,INDIRECT("Feuil4!A1"&":A"&J42),1) -> 400000 | J42: {=IF(ROWS($2:42)<=COUNTA(rng),SMALL(IF(LEFT(rng,5)="Total",ROW(rng)-MIN(ROW(rng))+1),ROWS($2:42)),"")+1} -> 279
A43: {=IF(ROWS($2:43)<=COUNTA(rng),INDEX(rng,SMALL(IF(LEFT(rng,5)="Total",ROW(rng)-MIN(ROW(rng))+1),ROWS($2:43))),"")} -> Total TIAMA | B43: =INDIRECT("Feuil4!C"&$J43) -> 18226.9 | D43: =INDIRECT("Feuil4!P"&$J43) -> 2361.42 | E43: =D43/B43 -> 0.12955686 | F43: =INDIRECT("Feuil4!M"&$J43) -> 9064.3 | H43: =F43/B43 -> 0.49730344 | I43: =VLOOKUP(9.99999999999999E+307,INDIRECT("Feuil4!A1"&":A"&J43),1) -> 400000 | J43: {=IF(ROWS($2:43)<=COUNTA(rng),SMALL(IF(LEFT(rng,5)="Total",ROW(rng)-MIN(ROW(rng))+1),ROWS($2:43)),"")+1} -> 289
A44: {=IF(ROWS($2:44)<=COUNTA(rng),INDEX(rng,SMALL(IF(LEFT(rng,5)="Total",ROW(rng)-MIN(ROW(rng))+1),ROWS($2:44))),"")} -> Total TOKHEIM FRANCE SAS | B44: =INDIRECT("Feuil4!C"&$J44) -> 19361.95 | D44: =INDIRECT("Feuil4!P"&$J44) -> 3629.2 | E44: =D44/B44 -> 0.1874398 | F44: =INDIRECT("Feuil4!M"&$J44) -> 13231.31 | H44: =F44/B44 -> 0.6833666 | I44: =VLOOKUP(9.99999999999999E+307,INDIRECT("Feuil4!A1"&":A"&J44),1) -> 400000 | J44: {=IF(ROWS($2:44)<=COUNTA(rng),SMALL(IF(LEFT(rng,5)="Total",ROW(rng)-MIN(ROW(rng))+1),ROWS($2:44)),"")+1} -> 308
A45: {=IF(ROWS($2:45)<=COUNTA(rng),INDEX(rng,SMALL(IF(LEFT(rng,5)="Total",ROW(rng)-MIN(ROW(rng))+1),ROWS($2:45))),"")} -> Total TOKHEIM SOFITAM APPLICATIONS | B45: =INDIRECT("Feuil4!C"&$J45) -> 236 | D45: =INDIRECT("Feuil4!P"&$J45) -> -26 | E45: =D45/B45 -> -0.11016949 | F45: =INDIRECT("Feuil4!M"&$J45) -> 220.92 | H45: =F45/B45 -> 0.93610169 | I45: =VLOOKUP(9.99999999999999E+307,INDIRECT("Feuil4!A1"&":A"&J45),1) -> 400000 | J45: {=IF(ROWS($2:45)<=COUNTA(rng),SMALL(IF(LEFT(rng,5)="Total",ROW(rng)-MIN(ROW(rng))+1),ROWS($2:45)),"")+1} -> 310
A46: {=IF(ROWS($2:46)<=COUNTA(rng),INDEX(rng,SMALL(IF(LEFT(rng,5)="Total",ROW(rng)-MIN(ROW(rng))+1),ROWS($2:46))),"")} -> Total AMC | B46: =INDIRECT("Feuil4!C"&$J46) -> 1495.69 | D46: =INDIRECT("Feuil4!P"&$J46) -> -429.37 | E46: =D46/B46 -> -0.28707152 | F46: =INDIRECT("Feuil4!M"&$J46) -> 1427.18 | H46: =F46/B46 -> 0.95419505 | I46: =VLOOKUP(9.99999999999999E+307,INDIRECT("Feuil4!A1"&":A"&J46),1) -> 200000 | J46: {=IF(ROWS($2:46)<=COUNTA(rng),SMALL(IF(LEFT(rng,5)="Total",ROW(rng)-MIN(ROW(rng))+1),ROWS($2:46)),"")+1} -> 319
A47: {=IF(ROWS($2:47)<=COUNTA(rng),INDEX(rng,SMALL(IF(LEFT(rng,5)="Total",ROW(rng)-MIN(ROW(rng))+1),ROWS($2:47))),"")} -> Total BERNAY AUTOMATION | B47: =INDIRECT("Feuil4!C"&$J47) -> 6018.59 | D47: =INDIRECT("Feuil4!P"&$J47) -> 1183.98 | E47: =D47/B47 -> 0.19672049 | F47: =INDIRECT("Feuil4!M"&$J47) -> 4040.76 | H47: =F47/B47 -> 0.67137984 | I47: =VLOOKUP(9.99999999999999E+307,INDIRECT("Feuil4!A1"&":A"&J47),1) -> 200000 | J47: {=IF(ROWS($2:47)<=COUNTA(rng),SMALL(IF(LEFT(rng,5)="Total",ROW(rng)-MIN(ROW(rng))+1),ROWS($2:47)),"")+1} -> 329
A48: {=IF(ROWS($2:48)<=COUNTA(rng),INDEX(rng,SMALL(IF(LEFT(rng,5)="Total",ROW(rng)-MIN(ROW(rng))+1),ROWS($2:48))),"")} -> Total DBS | B48: =INDIRECT("Feuil4!C"&$J48) -> 19836.12 | D48: =INDIRECT("Feuil4!P"&$J48) -> 4258.93 | E48: =D48/B48 -> 0.2147058 | F48: =INDIRECT("Feuil4!M"&$J48) -> 9539.58 | H48: =F48/B48 -> 0.48091966 | I48: =VLOOKUP(9.99999999999999E+307,INDIRECT("Feuil4!A1"&":A"&J48),1) -> 200000 | J48: {=IF(ROWS($2:48)<=COUNTA(rng),SMALL(IF(LEFT(rng,5)="Total",ROW(rng)-MIN(ROW(rng))+1),ROWS($2:48)),"")+1} -> 341
A49: {=IF(ROWS($2:49)<=COUNTA(rng),INDEX(rng,SMALL(IF(LEFT(rng,5)="Total",ROW(rng)-MIN(ROW(rng))+1),ROWS($2:49))),"")} -> Total SAM LABIGNE EQUIPEMENT | B49: =INDIRECT("Feuil4!C"&$J49) -> 133223.63 | D49: =INDIRECT("Feuil4!P"&$J49) -> 15316.86 | E49: =D49/B49 -> 0.11497105 | F49: =INDIRECT("Feuil4!M"&$J49) -> 70658.61 | H49: =F49/B49 -> 0.53037596 | I49: =VLOOKUP(9.99999999999999E+307,INDIRECT("Feuil4!A1"&":A"&J49),1) -> 200000 | J49: {=IF(ROWS($2:49)<=COUNTA(rng),SMALL(IF(LEFT(rng,5)="Total",ROW(rng)-MIN(ROW(rng))+1),ROWS($2:49)),"")+1} -> 392
A50: {=IF(ROWS($2:50)<=COUNTA(rng),INDEX(rng,SMALL(IF(LEFT(rng,5)="Total",ROW(rng)-MIN(ROW(rng))+1),ROWS($2:50))),"")} -> Total SANCHEZ S.A.S | B50: =INDIRECT("Feuil4!C"&$J50) -> 3772.36 | D50: =INDIRECT("Feuil4!P"&$J50) -> 672.69 | E50: =D50/B50 -> 0.17832073 | F50: =INDIRECT("Feuil4!M"&$J50) -> 1426.69 | H50: =F50/B50 -> 0.37819561 | I50: =VLOOKUP(9.99999999999999E+307,INDIRECT("Feuil4!A1"&":A"&J50),1) -> 200000 | J50: {=IF(ROWS($2:50)<=COUNTA(rng),SMALL(IF(LEFT(rng,5)="Total",ROW(rng)-MIN(ROW(rng))+1),ROWS($2:50)),"")+1} -> 403
A51: {=IF(ROWS($2:51)<=COUNTA(rng),INDEX(rng,SMALL(IF(LEFT(rng,5)="Total",ROW(rng)-MIN(ROW(rng))+1),ROWS($2:51))),"")} -> Total ZALKIN ANDRE | B51: =INDIRECT("Feuil4!C"&$J51) -> 24957.83 | D51: =INDIRECT("Feuil4!P"&$J51) -> 4458.06 | E51: =D51/B51 -> 0.1786237 | F51: =INDIRECT("Feuil4!M"&$J51) -> 13589.94 | H51: =F51/B51 -> 0.54451609 | I51: =VLOOKUP(9.99999999999999E+307,INDIRECT("Feuil4!A1"&":A"&J51),1) -> 200000 | J51: {=IF(ROWS($2:51)<=COUNTA(rng),SMALL(IF(LEFT(rng,5)="Total",ROW(rng)-MIN(ROW(rng))+1),ROWS($2:51)),"")+1} -> 432
A52: {=IF(ROWS($2:52)<=COUNTA(rng),INDEX(rng,SMALL(IF(LEFT(rng,5)="Total",ROW(rng)-MIN(ROW(rng))+1),ROWS($2:52))),"")} -> Total ASCA | B52: =INDIRECT("Feuil4!C"&$J52) -> 3433.64 | D52: =INDIRECT("Feuil4!P"&$J52) -> 419.99 | E52: =D52/B52 -> 0.12231626 | F52: =INDIRECT("Feuil4!M"&$J52) -> 1399.08 | H52: =F52/B52 -> 0.40746263 | I52: =VLOOKUP(9.99999999999999E+307,INDIRECT("Feuil4!A1"&":A"&J52),1) -> 200000 | J52: {=IF(ROWS($2:52)<=COUNTA(rng),SMALL(IF(LEFT(rng,5)="Total",ROW(rng)-MIN(ROW(rng))+1),ROWS($2:52)),"")+1} -> 436
A53: {=IF(ROWS($2:53)<=COUNTA(rng),INDEX(rng,SMALL(IF(LEFT(rng,5)="Total",ROW(rng)-MIN(ROW(rng))+1),ROWS($2:53))),"")} -> Total BRUNO JEAN EURL | B53: =INDIRECT("Feuil4!C"&$J53) -> 66.18 | D53: =INDIRECT("Feuil4!P"&$J53) -> -4.16 | E53: =D53/B53 -> -0.06285887 | F53: =INDIRECT("Feuil4!M"&$J53) -> 48.33 | H53: =F53/B53 -> 0.73028105 | I53: =VLOOKUP(9.99999999999999E+307,INDIRECT("Feuil4!A1"&":A"&J53),1) -> 200000 | J53: {=IF(ROWS($2:53)<=COUNTA(rng),SMALL(IF(LEFT(rng,5)="Total",ROW(rng)-MIN(ROW(rng))+1),ROWS($2:53)),"")+1} -> 438
A54: {=IF(ROWS($2:54)<=COUNTA(rng),INDEX(rng,SMALL(IF(LEFT(rng,5)="Total",ROW(rng)-MIN(ROW(rng))+1),ROWS($2:54))),"")} -> Total CMAT | B54: =INDIRECT("Feuil4!C"&$J54) -> 1457.99 | D54: =INDIRECT("Feuil4!P"&$J54) -> 341.47 | E54: =D54/B54 -> 0.234206 | F54: =INDIRECT("Feuil4!M"&$J54) -> 574.91 | H54: =F54/B54 -> 0.39431683 | I54: =VLOOKUP(9.99999999999999E+307,INDIRECT("Feuil4!A1"&":A"&J54),1) -> 200000 | J54: {=IF(ROWS($2:54)<=COUNTA(rng),SMALL(IF(LEFT(rng,5)="Total",ROW(rng)-MIN(ROW(rng))+1),ROWS($2:54)),"")+1} -> 441
A55: {=IF(ROWS($2:55)<=COUNTA(rng),INDEX(rng,SMALL(IF(LEFT(rng,5)="Total",ROW(rng)-MIN(ROW(rng))+1),ROWS($2:55))),"")} -> Total DISTILLERIE BUSNEL SAS | B55: =INDIRECT("Feuil4!C"&$J55) -> 2130.42 | D55: =INDIRECT("Feuil4!P"&$J55) -> 637.75 | E55: =D55/B55 -> 0.29935412 | F55: =INDIRECT("Feuil4!M"&$J55) -> 993.18 | H55: =F55/B55 -> 0.46618977 | I55: =VLOOKUP(9.99999999999999E+307,INDIRECT("Feuil4!A1"&":A"&J55),1) -> 200000 | J55: {=IF(ROWS($2:55)<=COUNTA(rng),SMALL(IF(LEFT(rng,5)="Total",ROW(rng)-MIN(ROW(rng))+1),ROWS($2:55)),"")+1} -> 444
A56: {=IF(ROWS($2:56)<=COUNTA(rng),INDEX(rng,SMALL(IF(LEFT(rng,5)="Total",ROW(rng)-MIN(ROW(rng))+1),ROWS($2:56))),"")} -> Total ERPI | B56: =INDIRECT("Feuil4!C"&$J56) -> 10817.15 | D56: =INDIRECT("Feuil4!P"&$J56) -> 3468.92 | E56: =D56/B56 -> 0.32068706 | F56: =INDIRECT("Feuil4!M"&$J56) -> 4473.43 | H56: =F56/B56 -> 0.41354978 | I56: =VLOOKUP(9.99999999999999E+307,INDIRECT("Feuil4!A1"&":A"&J56),1) -> 200000 | J56: {=IF(ROWS($2:56)<=COUNTA(rng),SMALL(IF(LEFT(rng,5)="Total",ROW(rng)-MIN(ROW(rng))+1),ROWS($2:56)),"")+1} -> 465
A57: {=IF(ROWS($2:57)<=COUNTA(rng),INDEX(rng,SMALL(IF(LEFT(rng,5)="Total",ROW(rng)-MIN(ROW(rng))+1),ROWS($2:57))),"")} -> Total MANUVIT | B57: =INDIRECT("Feuil4!C"&$J57) -> 6876.96 | D57: =INDIRECT("Feuil4!P"&$J57) -> 1340.25 | E57: =D57/B57 -> 0.19488989 | F57: =INDIRECT("Feuil4!M"&$J57) -> 3423.16 | H57: =F57/B57 -> 0.49777227 | I57: =VLOOKUP(9.99999999999999E+307,INDIRECT("Feuil4!A1"&":A"&J57),1) -> 200000 | J57: {=IF(ROWS($2:57)<=COUNTA(rng),SMALL(IF(LEFT(rng,5)="Total",ROW(rng)-MIN(ROW(rng))+1),ROWS($2:57)),"")+1} -> 471
A58: {=IF(ROWS($2:58)<=COUNTA(rng),INDEX(rng,SMALL(IF(LEFT(rng,5)="Total",ROW(rng)-MIN(ROW(rng))+1),ROWS($2:58))),"")} -> Total OCTE | B58: =INDIRECT("Feuil4!C"&$J58) -> 461.62 | D58: =INDIRECT("Feuil4!P"&$J58) -> 35.92 | E58: =D58/B58 -> 0.07781292 | F58: =INDIRECT("Feuil4!M"&$J58) -> 336 | H58: =F58/B58 -> 0.72787141 | I58: =VLOOKUP(9.99999999999999E+307,INDIRECT("Feuil4!A1"&":A"&J58),1) -> 200000 | J58: {=IF(ROWS($2:58)<=COUNTA(rng),SMALL(IF(LEFT(rng,5)="Total",ROW(rng)-MIN(ROW(rng))+1),ROWS($2:58)),"")+1} -> 474
A59: {=IF(ROWS($2:59)<=COUNTA(rng),INDEX(rng,SMALL(IF(LEFT(rng,5)="Total",ROW(rng)-MIN(ROW(rng))+1),ROWS($2:59))),"")} -> Total OCTE INDUSTRY | B59: =INDIRECT("Feuil4!C"&$J59) -> 2215.1 | D59: =INDIRECT("Feuil4!P"&$J59) -> 475.78 | E59: =D59/B59 -> 0.2147894 | F59: =INDIRECT("Feuil4!M"&$J59) -> 442.75 | H59: =F59/B59 -> 0.19987811 | I59: =VLOOKUP(9.99999999999999E+307,INDIRECT("Feuil4!A1"&":A"&J59),1) -> 200000 | J59: {=IF(ROWS($2:59)<=COUNTA(rng),SMALL(IF(LEFT(rng,5)="Total",ROW(rng)-MIN(ROW(rng))+1),ROWS($2:59)),"")+1} -> 477
A60: {=IF(ROWS($2:60)<=COUNTA(rng),INDEX(rng,SMALL(IF(LEFT(rng,5)="Total",ROW(rng)-MIN(ROW(rng))+1),ROWS($2:60))),"")} -> Total SHOP CONCEPT & SERVICES | B60: =INDIRECT("Feuil4!C"&$J60) -> 17984.92 | D60: =INDIRECT("Feuil4!P"&$J60) -> 2882.82 | E60: =D60/B60 -> 0.16029095 | F60: =INDIRECT("Feuil4!M"&$J60) -> 10609.73 | H60: =F60/B60 -> 0.58992367 | I60: =VLOOKUP(9.99999999999999E+307,INDIRECT("Feuil4!A1"&":A"&J60),1) -> 200000 | J60: {=IF(ROWS($2:60)<=COUNTA(rng),SMALL(IF(LEFT(rng,5)="Total",ROW(rng)-MIN(ROW(rng))+1),ROWS($2:60)),"")+1} -> 502
A61: {=IF(ROWS($2:61)<=COUNTA(rng),INDEX(rng,SMALL(IF(LEFT(rng,5)="Total",ROW(rng)-MIN(ROW(rng))+1),ROWS($2:61))),"")} -> Total IMETAL | B61: =INDIRECT("Feuil4!C"&$J61) -> 27766.93 | D61: =INDIRECT("Feuil4!P"&$J61) -> 4743.44 | E61: =D61/B61 -> 0.17083055 | F61: =INDIRECT("Feuil4!M"&$J61) -> 19426.7 | H61: =F61/B61 -> 0.69963442 | I61: =VLOOKUP(9.99999999999999E+307,INDIRECT("Feuil4!A1"&":A"&J61),1) -> 600000 | J61: {=IF(ROWS($2:61)<=COUNTA(rng),SMALL(IF(LEFT(rng,5)="Total",ROW(rng)-MIN(ROW(rng))+1),ROWS($2:61)),"")+1} -> 527
