Workbook
Name ateliers: [1]LISTES!$C$4:$C$12
Name fOURNISSEUR: [1]LISTES!$B$4:$B$12
Name LIste: '[2]Listes déroulantes'!$A$1:$G$1
Name nom: [1]LISTES!$A$3:$A$8
Name Panne: '[2]Listes déroulantes'!$F$2:$F$9

Sheet 1
A1: Date | B1: 43070 | F1: TEMPS ARRET (minutes ou X pour 15)
A2: Heure | B2: COCHER | C2: N° OF | D2: Nb Cols | E2: Nb Cols rebuts | F2: Activité | G2: Machine en panne ou réglage | H2: Temps de panne ou réglage | I2: Commentaires
A3: 0.33333333 | H3: =+IF(G3<>"",15,"")
A4: 0.34375 | F4: Contrôle ou attente info | H4: =+IF(G4<>"",15,"")
A5: 0.35416667 | F5: Attente Matière sèche/ arrêt dégorgement
A6: 0.36458333 | F6: Panne | G6: Etiquetteuse | H6: =+IF(G6<>"",15,"") -> 15 | I6: Pièce cassée
A7: 0.375 | F7: Autre activité/gyros | H7: =+IF(G7<>"",15,"")
A8: 0.38541667 | F8: Autre activité/gyros | H8: =+IF(G8<>"",15,"")
A9: 0.39583333 | F9: Changement d'habillage | H9: =+IF(G9<>"",15,"")
A10: 0.40625 | H10: =+IF(G10<>"",15,"")
A11: 0.41666667 | H11: =+IF(G11<>"",15,"")
A12: 0.42708333 | H12: =+IF(G12<>"",15,"")
A13: 0.4375 | H13: =+IF(G13<>"",15,"")
A14: 0.44791667 | H14: =+IF(G14<>"",15,"")
A15: 0.45833333 | H15: =+IF(G15<>"",15,"")
A16: 0.46875 | H16: =+IF(G16<>"",15,"")
A17: 0.47916667 | H17: =+IF(G17<>"",15,"")
A18: 0.48958333 | H18: =+IF(G18<>"",15,"")
A19: 0.5 | H19: =+IF(G19<>"",15,"")
A20: 0.51041667 | H20: =+IF(G20<>"",15,"")
A21: 0.52083333 | H21: =+IF(G21<>"",15,"")
... A42: 0.73958333 | H42: =+IF(G42<>"",15,"")
A43: 0.75
A44: 0.76041667 | H44: =+IF(G44<>"",15,"")
A45: 0.77083333 | H45: =+IF(G45<>"",15,"")
A46: 0.78125 | H46: =+IF(G46<>"",15,"")
A47: 0.79166667 | H47: =+IF(G47<>"",15,"")
D50: =SUM(D3:D43) -> 0 | E50: =SUM(E3:E47) -> 0 | F50: =(COUNTIF(X_5578[Activité],"Changement d'habillage")+COUNTIF(X_5578[Activité],"Autre activité")+COUNTIF(X_5578[Activité],"Changement de tirage")+COUNTIF(X_5578[Activité],"Autre activité/gyros")+COUNTIF(X_5578[Activité],"Panne")+COUNTIF(X_5578[Activité],"Reglage"))*15 -> 60
A55: Temps ouverture | B55: Changement d'habillage | C55: Autre activité/gyros | D55: Attente Matière sèche/ arrêt dégorgement | E55: Contrôle ou attente info | F55: Nettoyage/Maintenance | G55: LAVEUSE | I55: MARQUAGE BOUTEILLES | K55: COIFFEUSE | M55: ETIQUETTEUSE | O55: SCOTCHEUSE | Q55: MARQUAGE CARTONS | S55: CONVOYEURS | U55: COMPRESSEUR
A56: =COUNTIF(B4:B43,B28) -> 0 | B56: =+COUNTIF(X_5578[Activité],B55) -> 1 | C56: =+COUNTIF(X_5578[Activité],C55) -> 2 | D56: =+COUNTIF(X_5578[Activité],D55) -> 1 | E56: =+COUNTIF(X_5578[Activité],E55) -> 1 | F56: =+COUNTIF(X_5578[Activité],F55) -> 0 | G56: Panne | H56: Réglage | I56: Panne | J56: Réglage | K56: Panne | L56: Réglage | M56: Panne | N56: Réglage | O56: Panne | P56: Réglage | Q56: Panne | R56: Réglage | S56: Panne | T56: Réglage | U56: Panne | V56: Réglage
A57: =A56*15 -> 0 | B57: =+B56*15 -> 15 | C57: =+C56*15 -> 30 | D57: =+D56*15 -> 15 | E57: =+E56*15 -> 15 | F57: =+F56*15 -> 0 | G57: =+SUMIFS(H3:H47,G3:G47,G55,F3:F47,G56) -> 0 | H57: =+SUMIFS($H$3:$H$43,$G$3:$G$43,G55,$F$3:$F$43,H56) -> 0 | I57: =+SUMIFS($H$3:$H$43,$G$3:$G$43,I55,$F$3:$F$43,I56) -> 0 | J57: =+SUMIFS($H$3:$H$43,$G$3:$G$43,I55,$F$3:$F$43,J56) -> 0 | K57: =+SUMIFS($H$3:$H$43,$G$3:$G$43,K55,$F$3:$F$43,K56) -> 0 | L57: =+SUMIFS($H$3:$H$43,$G$3:$G$43,K55,$F$3:$F$43,L56) -> 0 | M57: =+SUMIFS($H$3:$H$43,$G$3:$G$43,M55,$F$3:$F$43,M56) -> 15 | N57: =+SUMIFS($H$3:$H$43,$G$3:$G$43,M55,$F$3:$F$43,N56) -> 0 | O57: =+SUMIFS($H$3:$H$43,$G$3:$G$43,O55,$F$3:$F$43,O56) -> 0 | P57: =+SUMIFS($H$3:$H$43,$G$3:$G$43,O55,$F$3:$F$43,P56) -> 0 | Q57: =+SUMIFS($H$3:$H$43,$G$3:$G$43,Q55,$F$3:$F$43,Q56) -> 0 | R57: =+SUMIFS($H$3:$H$43,$G$3:$G$43,Q55,$F$3:$F$43,R56) -> 0 | S57: =+SUMIFS($H$3:$H$43,$G$3:$G$43,S55,$F$3:$F$43,S56) -> 0 | T57: =+SUMIFS($H$3:$H$43,$G$3:$G$43,S55,$F$3:$F$43,T56) -> 0 | U57: =+SUMIFS($H$3:$H$43,$G$3:$G$43,U55,$F$3:$F$43,U56) -> 0 | V57: =+SUMIFS($H$3:$H$43,$G$3:$G$43,U55,$F$3:$F$43,V56) -> 0

Sheet 2
A1: Date | B1: 43071 | F1: TEMPS ARRET (minutes ou X pour 15)
A2: Heure | B2: COCHER | C2: N° OF | D2: Nb Cols | E2: Nb Cols rebuts | F2: Activité | G2: Machine en panne ou réglage | H2: Temps de panne ou réglage | I2: Commentaires
A3: 0.33333333 | H3: =+IF(G3<>"",15,"")
A4: 0.34375 | H4: =+IF(G4<>"",15,"")
A5: 0.35416667 | F5: Nettoyage/Maintenance
A6: 0.36458333 | F6: Contrôle ou attente info | H6: =+IF(G6<>"",15,"")
A7: 0.375 | F7: Contrôle ou attente info | H7: =+IF(G7<>"",15,"")
A8: 0.38541667 | F8: Autre activité/gyros | H8: =+IF(G8<>"",15,"")
A9: 0.39583333 | F9: Panne | G9: Marquage bouteilles | H9: =+IF(G9<>"",15,"") -> 15 | I9: Pb étiquette
A10: 0.40625 | H10: =+IF(G10<>"",15,"")
A11: 0.41666667 | H11: =+IF(G11<>"",15,"")
A12: 0.42708333 | H12: =+IF(G12<>"",15,"")
A13: 0.4375 | H13: =+IF(G13<>"",15,"")
A14: 0.44791667 | H14: =+IF(G14<>"",15,"")
A15: 0.45833333 | H15: =+IF(G15<>"",15,"")
A16: 0.46875 | H16: =+IF(G16<>"",15,"")
A17: 0.47916667 | H17: =+IF(G17<>"",15,"")
A18: 0.48958333 | H18: =+IF(G18<>"",15,"")
A19: 0.5 | H19: =+IF(G19<>"",15,"")
A20: 0.51041667 | H20: =+IF(G20<>"",15,"")
A21: 0.52083333 | H21: =+IF(G21<>"",15,"")
... A42: 0.73958333 | H42: =+IF(G42<>"",15,"")
A43: 0.75
A44: 0.76041667 | H44: =+IF(G44<>"",15,"")
A45: 0.77083333 | H45: =+IF(G45<>"",15,"")
A46: 0.78125 | H46: =+IF(G46<>"",15,"")
A47: 0.79166667 | H47: =+IF(G47<>"",15,"")
D50: =SUM(D3:D43) -> 0 | E50: =SUM(E3:E47) -> 0 | F50: =(COUNTIF(X_55783[Activité],"Changement d'habillage")+COUNTIF(X_55783[Activité],"Autre activité")+COUNTIF(X_55783[Activité],"Changement de tirage")+COUNTIF(X_55783[Activité],"Autre activité/gyros")+COUNTIF(X_55783[Activité],"Panne")+COUNTIF(X_55783[Activité],"Reglage"))*15 -> 30
A55: Temps ouverture | B55: Changement d'habillage | C55: Autre activité/gyros | D55: Attente Matière sèche/ arrêt dégorgement | E55: Contrôle ou attente info | F55: Nettoyage/Maintenance | G55: LAVEUSE | I55: MARQUAGE BOUTEILLES | K55: COIFFEUSE | M55: ETIQUETTEUSE | O55: SCOTCHEUSE | Q55: MARQUAGE CARTONS | S55: CONVOYEURS | U55: COMPRESSEUR
A56: =COUNTIF(B4:B43,B28) -> 0 | B56: =+COUNTIF(X_55783[Activité],B55) -> 0 | C56: =+COUNTIF(X_55783[Activité],C55) -> 1 | D56: =+COUNTIF(X_55783[Activité],D55) -> 0 | E56: =+COUNTIF(X_55783[Activité],E55) -> 2 | F56: =+COUNTIF(X_55783[Activité],F55) -> 1 | G56: Panne | H56: Réglage | I56: Panne | J56: Réglage | K56: Panne | L56: Réglage | M56: Panne | N56: Réglage | O56: Panne | P56: Réglage | Q56: Panne | R56: Réglage | S56: Panne | T56: Réglage | U56: Panne | V56: Réglage
A57: =A56*15 -> 0 | B57: =+B56*15 -> 0 | C57: =+C56*15 -> 15 | D57: =+D56*15 -> 0 | E57: =+E56*15 -> 30 | F57: =+F56*15 -> 15 | G57: =+SUMIFS(H3:H47,G3:G47,G55,F3:F47,G56) -> 0 | H57: =+SUMIFS($H$3:$H$43,$G$3:$G$43,G55,$F$3:$F$43,H56) -> 0 | I57: =+SUMIFS($H$3:$H$43,$G$3:$G$43,I55,$F$3:$F$43,I56) -> 15 | J57: =+SUMIFS($H$3:$H$43,$G$3:$G$43,I55,$F$3:$F$43,J56) -> 0 | K57: =+SUMIFS($H$3:$H$43,$G$3:$G$43,K55,$F$3:$F$43,K56) -> 0 | L57: =+SUMIFS($H$3:$H$43,$G$3:$G$43,K55,$F$3:$F$43,L56) -> 0 | M57: =+SUMIFS($H$3:$H$43,$G$3:$G$43,M55,$F$3:$F$43,M56) -> 0 | N57: =+SUMIFS($H$3:$H$43,$G$3:$G$43,M55,$F$3:$F$43,N56) -> 0 | O57: =+SUMIFS($H$3:$H$43,$G$3:$G$43,O55,$F$3:$F$43,O56) -> 0 | P57: =+SUMIFS($H$3:$H$43,$G$3:$G$43,O55,$F$3:$F$43,P56) -> 0 | Q57: =+SUMIFS($H$3:$H$43,$G$3:$G$43,Q55,$F$3:$F$43,Q56) -> 0 | R57: =+SUMIFS($H$3:$H$43,$G$3:$G$43,Q55,$F$3:$F$43,R56) -> 0 | S57: =+SUMIFS($H$3:$H$43,$G$3:$G$43,S55,$F$3:$F$43,S56) -> 0 | T57: =+SUMIFS($H$3:$H$43,$G$3:$G$43,S55,$F$3:$F$43,T56) -> 0 | U57: =+SUMIFS($H$3:$H$43,$G$3:$G$43,U55,$F$3:$F$43,U56) -> 0 | V57: =+SUMIFS($H$3:$H$43,$G$3:$G$43,U55,$F$3:$F$43,V56) -> 0

Sheet 3
A1: Date | B1: 43072 | F1: TEMPS ARRET (minutes ou X pour 15)
A2: Heure | B2: COCHER | C2: N° OF | D2: Nb Cols | E2: Nb Cols rebuts | F2: Activité | G2: Machine en panne ou réglage | H2: Temps de panne ou réglage | I2: Commentaires
A3: 0.33333333 | H3: =+IF(G3<>"",15,"")
A4: 0.34375 | F4: Nettoyage/Maintenance | H4: =+IF(G4<>"",15,"")
A5: 0.35416667 | F5: Nettoyage/Maintenance
A6: 0.36458333 | F6: Panne | G6: Etiquetteuse | H6: =+IF(G6<>"",15,"") -> 15 | I6: Pièce cassée
A7: 0.375 | F7: Panne | G7: Etiquetteuse | H7: =+IF(G7<>"",15,"") -> 15
A8: 0.38541667 | H8: =+IF(G8<>"",15,"")
A9: 0.39583333 | H9: =+IF(G9<>"",15,"")
A10: 0.40625 | H10: =+IF(G10<>"",15,"")
A11: 0.41666667 | H11: =+IF(G11<>"",15,"")
A12: 0.42708333 | H12: =+IF(G12<>"",15,"")
A13: 0.4375 | H13: =+IF(G13<>"",15,"")
A14: 0.44791667 | H14: =+IF(G14<>"",15,"")
A15: 0.45833333 | H15: =+IF(G15<>"",15,"")
A16: 0.46875 | H16: =+IF(G16<>"",15,"")
A17: 0.47916667 | H17: =+IF(G17<>"",15,"")
A18: 0.48958333 | H18: =+IF(G18<>"",15,"")
A19: 0.5 | H19: =+IF(G19<>"",15,"")
... A42: 0.73958333 | H42: =+IF(G42<>"",15,"")
A43: 0.75
A44: 0.76041667 | H44: =+IF(G44<>"",15,"")
A45: 0.77083333 | H45: =+IF(G45<>"",15,"")
A46: 0.78125 | H46: =+IF(G46<>"",15,"")
A47: 0.79166667 | H47: =+IF(G47<>"",15,"")
D50: =SUM(D3:D43) -> 0 | E50: =SUM(E3:E47) -> 0 | F50: =(COUNTIF(X_55784[Activité],"Changement d'habillage")+COUNTIF(X_55784[Activité],"Autre activité")+COUNTIF(X_55784[Activité],"Changement de tirage")+COUNTIF(X_55784[Activité],"Autre activité/gyros")+COUNTIF(X_55784[Activité],"Panne")+COUNTIF(X_55784[Activité],"Reglage"))*15 -> 30
A55: Temps ouverture | B55: Changement d'habillage | C55: Autre activité/gyros | D55: Attente Matière sèche/ arrêt dégorgement | E55: Contrôle ou attente info | F55: Nettoyage/Maintenance | G55: LAVEUSE | I55: MARQUAGE BOUTEILLES | K55: COIFFEUSE | M55: ETIQUETTEUSE | O55: SCOTCHEUSE | Q55: MARQUAGE CARTONS | S55: CONVOYEURS | U55: COMPRESSEUR
A56: =COUNTIF(B4:B43,B28) -> 0 | B56: =+COUNTIF(X_55784[Activité],B55) -> 0 | C56: =+COUNTIF(X_55784[Activité],C55) -> 0 | D56: =+COUNTIF(X_55784[Activité],D55) -> 0 | E56: =+COUNTIF(X_55784[Activité],E55) -> 0 | F56: =+COUNTIF(X_55784[Activité],F55) -> 2 | G56: Panne | H56: Réglage | I56: Panne | J56: Réglage | K56: Panne | L56: Réglage | M56: Panne | N56: Réglage | O56: Panne | P56: Réglage | Q56: Panne | R56: Réglage | S56: Panne | T56: Réglage | U56: Panne | V56: Réglage
A57: =A56*15 -> 0 | B57: =+B56*15 -> 0 | C57: =+C56*15 -> 0 | D57: =+D56*15 -> 0 | E57: =+E56*15 -> 0 | F57: =+F56*15 -> 30 | G57: =+SUMIFS(H3:H47,G3:G47,G55,F3:F47,G56) -> 0 | H57: =+SUMIFS($H$3:$H$43,$G$3:$G$43,G55,$F$3:$F$43,H56) -> 0 | I57: =+SUMIFS($H$3:$H$43,$G$3:$G$43,I55,$F$3:$F$43,I56) -> 0 | J57: =+SUMIFS($H$3:$H$43,$G$3:$G$43,I55,$F$3:$F$43,J56) -> 0 | K57: =+SUMIFS($H$3:$H$43,$G$3:$G$43,K55,$F$3:$F$43,K56) -> 0 | L57: =+SUMIFS($H$3:$H$43,$G$3:$G$43,K55,$F$3:$F$43,L56) -> 0 | M57: =+SUMIFS($H$3:$H$43,$G$3:$G$43,M55,$F$3:$F$43,M56) -> 30 | N57: =+SUMIFS($H$3:$H$43,$G$3:$G$43,M55,$F$3:$F$43,N56) -> 0 | O57: =+SUMIFS($H$3:$H$43,$G$3:$G$43,O55,$F$3:$F$43,O56) -> 0 | P57: =+SUMIFS($H$3:$H$43,$G$3:$G$43,O55,$F$3:$F$43,P56) -> 0 | Q57: =+SUMIFS($H$3:$H$43,$G$3:$G$43,Q55,$F$3:$F$43,Q56) -> 0 | R57: =+SUMIFS($H$3:$H$43,$G$3:$G$43,Q55,$F$3:$F$43,R56) -> 0 | S57: =+SUMIFS($H$3:$H$43,$G$3:$G$43,S55,$F$3:$F$43,S56) -> 0 | T57: =+SUMIFS($H$3:$H$43,$G$3:$G$43,S55,$F$3:$F$43,T56) -> 0 | U57: =+SUMIFS($H$3:$H$43,$G$3:$G$43,U55,$F$3:$F$43,U56) -> 0 | V57: =+SUMIFS($H$3:$H$43,$G$3:$G$43,U55,$F$3:$F$43,V56) -> 0

Sheet Synthèse
A1: N° intervention | B1: Date | C1: Nom | D1: Atelier | E1: EQUIPEMENT | F1: Commentaire | G1: Type d'intervention | H1: Origine du probleme | I1: Tps interv (min) | J1: Fournisseur | K1: Elements defectueux | L1: Elements changés | M1: Tps interv (min) | N1: Type pièce | O1: Réf. Pièce | P1: Qté | Q1: Prix unitaire | R1: cout pieces | S1: cout intervention | T1: Coût total | U1: Prévoir
B2: ='1'!B1 -> 43070 | D2: Habillage | E2: Etiquetteuse | F2: Pièce cassée | I2: 15
B3: ='2'!B1 -> 43071 | D3: Habillage | E3: Marquage bouteille | F3: Pb étiquette | I3: 15
B4: ='3'!B1 -> 43072 | D4: Habillage | E4: Etiquetteuse | F4: Pièce cassée | I4: 30
D5: Habillage
D6: Habillage
D7: Habillage
D8: Habillage
D9: Habillage
D10: Habillage
D11: Habillage
D12: Habillage
D13: Habillage
D14: Habillage
D15: Habillage
D16: Habillage
... D25: Habillage
D26: Habillage | E26: =IF(B26="","",INDEX('[2]25'!F11:F55,MATCH(G64,'[2]25'!G11:G55,0)))

Sheet Synthèse (2)
A1: N° intervention | B1: Date | C1: Nom | D1: Atelier | E1: EQUIPEMENT | F1: Commentaire | G1: Type d'intervention | H1: Origine du probleme | I1: Tps interv (min) | J1: Fournisseur | K1: Elements defectueux | L1: Elements changés | M1: Tps interv (min) | N1: Type pièce | O1: Réf. Pièce | P1: Qté | Q1: Prix unitaire | R1: cout pieces | S1: cout intervention | T1: Coût total | U1: Prévoir
A2: 1 | B2: ='1'!B1 -> 43070 | D2: Habillage | E2: =VLOOKUP("Panne",INDIRECT("'"&$A2&"'"&"!$F$3:$I$47"),2,0) -> Etiquetteuse | F2: =VLOOKUP("Panne",INDIRECT("'"&$A2&"'"&"!$F$3:$I$47"),4,0) -> Pièce cassée | I2: =VLOOKUP("Panne",INDIRECT("'"&$A2&"'"&"!$F$3:$I$47"),3,0) -> 15
A3: 2 | B3: ='2'!B1 -> 43071 | D3: Habillage | E3: =VLOOKUP("Panne",INDIRECT("'"&$A3&"'"&"!$F$3:$I$47"),2,0) -> Marquage bouteilles | F3: =VLOOKUP("Panne",INDIRECT("'"&$A3&"'"&"!$F$3:$I$47"),4,0) -> Pb étiquette | I3: =VLOOKUP("Panne",INDIRECT("'"&$A3&"'"&"!$F$3:$I$47"),3,0) -> 15
A4: 3 | B4: ='3'!B1 -> 43072 | D4: Habillage | E4: =VLOOKUP("Panne",INDIRECT("'"&$A4&"'"&"!$F$3:$I$47"),2,0) -> Etiquetteuse | F4: =VLOOKUP("Panne",INDIRECT("'"&$A4&"'"&"!$F$3:$I$47"),4,0) -> Pièce cassée | I4: =VLOOKUP("Panne",INDIRECT("'"&$A4&"'"&"!$F$3:$I$47"),3,0) -> 15
D5: Habillage
D6: Habillage
D7: Habillage
D8: Habillage
D9: Habillage
D10: Habillage
D11: Habillage
D12: Habillage
D13: Habillage
D14: Habillage
D15: Habillage
D16: Habillage
... D25: Habillage
D26: Habillage | E26: =IF(B26="","",INDEX('[2]25'!F11:F55,MATCH(G64,'[2]25'!G11:G55,0)))

Sheet Listes déroulantes
A1: Changement d'habillage | B1: Autre activité/gyros | C1: Attente Matière sèche/ arrêt dégorgement | D1: Contrôle ou attente info | E1: Nettoyage/Maintenance | F1: Panne | G1: Réglage
F2: Laveuse | G2: Laveuse
F3: Marquage bouteilles | G3: Marquage bouteilles
F4: Coiffeuse | G4: Coiffeuse
F5: Etiquetteuse | G5: Etiquetteuse
F6: Scotcheuse | G6: Scotcheuse
F7: Marquage cartons | G7: Marquage cartons
F8: Convoyeurs | G8: Convoyeurs
F9: Compresseur | G9: Compresseur
