Workbook
Name CLIENTS: CLIENTS!$A$1:$R$41
Name HOROSAISONALITE: Feuil1!$A$10:$G$14
Name nbre_sites: #REF!
Name NUM_CLIENTS: CLIENTS!$A$3:$A$41
Name Offre: #REF!

Sheet Feuil1
B1: C2/C3 | C1: C4 | D1: C4 POINTE | E1: C5 BASE | F1: C5 HP HC
B2: HPH | C2: HPH | D2: HPH | E2: BASE | F2: HP
B3: HCH | C3: HCH | D3: HCH | E3: CAR | F3: HC
B4: HPE | C4: HPE | D4: HPE | F4: CAR
B5: HCE | C5: HCE | D5: HCE
B6: POINTE | C6: CAR | D6: POINTE
B7: CAR | D7: CAR
A10: C2/C3 | B10: HPH | C10: HPE | D10: HCH | E10: HCE | F10: POINTE | G10: CAR
A11: C4 | B11: HPH | C11: HPE | D11: HCH | E11: HCE | F11: CAR
A12: C4 POINTE | B12: HPH | C12: HPE | D12: HCH | E12: HCE | F12: POINTE | G12: CAR
A13: C5 BASE | B13: BASE | C13: CAR
A14: C5 HP HC | B14: HP | C14: HC | D14: CAR

Sheet OFFRE COMMERCIALE
A1: N° Client | B1: ACHEMINEMENT | C1: HOROSAISONALITÉ
A3: CL000001 | B3: =CLIENTS!M3 -> C2/C3 | C3: =VLOOKUP(B3,HOROSAISONALITE,2) -> HPH | D3: =VLOOKUP(B3,HOROSAISONALITE,3) -> HPE | E3: =VLOOKUP(B3,HOROSAISONALITE,4) -> HCH | F3: =VLOOKUP(B3,HOROSAISONALITE,5) -> HCE | G3: =VLOOKUP(B3,HOROSAISONALITE,6) -> POINTE | H3: =VLOOKUP(B3,HOROSAISONALITE,7) -> CAR
C4: 250000 | D4: 13000 | E4: 23004 | F4: 23044 | G4: 24042
A5: CL000002 | B5: =CLIENTS!M5 -> C2/C3 | C5: =VLOOKUP(B5,HOROSAISONALITE,2) -> HPH | D5: =VLOOKUP(B5,HOROSAISONALITE,3) -> HPE | E5: =VLOOKUP(B5,HOROSAISONALITE,4) -> HCH | F5: =VLOOKUP(B5,HOROSAISONALITE,5) -> HCE | G5: =VLOOKUP(B5,HOROSAISONALITE,6) -> POINTE | H5: =VLOOKUP(B5,HOROSAISONALITE,7) -> CAR
C6: 203944 | D6: 230442 | E6: 23455 | F6: 2345 | G6: 543543
A7: CL000003 | B7: =CLIENTS!M7 -> C5 HP HC | C7: =VLOOKUP(B7,HOROSAISONALITE,2) -> HP | D7: =VLOOKUP(B7,HOROSAISONALITE,3) -> HC | E7: =VLOOKUP(B7,HOROSAISONALITE,4) -> CAR | F7: =VLOOKUP(B7,HOROSAISONALITE,5) -> 0 | G7: =VLOOKUP(B7,HOROSAISONALITE,6) -> 0 | H7: =VLOOKUP(B7,HOROSAISONALITE,7) -> 0
C8: 90000 | D8: 12000
A9: CL000004 | B9: =CLIENTS!M9 -> C2/C3 | C9: =VLOOKUP(B9,HOROSAISONALITE,2) -> HPH | D9: =VLOOKUP(B9,HOROSAISONALITE,3) -> HPE | E9: =VLOOKUP(B9,HOROSAISONALITE,4) -> HCH | F9: =VLOOKUP(B9,HOROSAISONALITE,5) -> HCE | G9: =VLOOKUP(B9,HOROSAISONALITE,6) -> POINTE | H9: =VLOOKUP(B9,HOROSAISONALITE,7) -> CAR
C10: 10000 | D10: 232432 | E10: 432432 | F10: 32432 | G10: 432432
A11: CL000005 | B11: =CLIENTS!M11 -> C5 BASE | C11: =VLOOKUP(B11,HOROSAISONALITE,2) -> BASE | D11: =VLOOKUP(B11,HOROSAISONALITE,3) -> CAR | E11: =VLOOKUP(B11,HOROSAISONALITE,4) -> 0 | F11: =VLOOKUP(B11,HOROSAISONALITE,5) -> 0 | G11: =VLOOKUP(B11,HOROSAISONALITE,6) -> 0 | H11: =VLOOKUP(B11,HOROSAISONALITE,7) -> 0
C12: 232143
A13: CL000006 | B13: =CLIENTS!M13 -> C2/C3 | C13: =VLOOKUP(B13,HOROSAISONALITE,2) -> HPH | D13: =VLOOKUP(B13,HOROSAISONALITE,3) -> HPE | E13: =VLOOKUP(B13,HOROSAISONALITE,4) -> HCH | F13: =VLOOKUP(B13,HOROSAISONALITE,5) -> HCE | G13: =VLOOKUP(B13,HOROSAISONALITE,6) -> POINTE | H13: =VLOOKUP(B13,HOROSAISONALITE,7) -> CAR
C14: 4324324 | D14: 423432 | E14: 4324 | F14: 4324 | G14: 4324
A15: CL000007 | B15: =CLIENTS!M15 -> C5 BASE | C15: =VLOOKUP(B15,HOROSAISONALITE,2) -> BASE | D15: =VLOOKUP(B15,HOROSAISONALITE,3) -> CAR | E15: =VLOOKUP(B15,HOROSAISONALITE,4) -> 0 | F15: =VLOOKUP(B15,HOROSAISONALITE,5) -> 0 | G15: =VLOOKUP(B15,HOROSAISONALITE,6) -> 0 | H15: =VLOOKUP(B15,HOROSAISONALITE,7) -> 0
C16: 32423
A17: CL000008 | B17: =CLIENTS!M17 -> C4 | C17: =VLOOKUP(B17,HOROSAISONALITE,2) -> HPH | D17: =VLOOKUP(B17,HOROSAISONALITE,3) -> HPE | E17: =VLOOKUP(B17,HOROSAISONALITE,4) -> HCH | F17: =VLOOKUP(B17,HOROSAISONALITE,5) -> HCE | G17: =VLOOKUP(B17,HOROSAISONALITE,6) -> CAR | H17: =VLOOKUP(B17,HOROSAISONALITE,7) -> 0
C18: 324234 | D18: 543534 | E18: 543543 | F18: 67575
A19: CL000009 | B19: =CLIENTS!M19 -> C4 POINTE | C19: =VLOOKUP(B19,HOROSAISONALITE,2) -> HPH | D19: =VLOOKUP(B19,HOROSAISONALITE,3) -> HPE | E19: =VLOOKUP(B19,HOROSAISONALITE,4) -> HCH | F19: =VLOOKUP(B19,HOROSAISONALITE,5) -> HCE | G19: =VLOOKUP(B19,HOROSAISONALITE,6) -> POINTE | H19: =VLOOKUP(B19,HOROSAISONALITE,7) -> CAR
C20: 324324 | D20: 54353 | E20: 6546 | F20: 5345 | G20: 43242
A21: CL000010 | B21: =CLIENTS!M21 -> C4 POINTE | C21: =VLOOKUP(B21,HOROSAISONALITE,2) -> HPH | D21: =VLOOKUP(B21,HOROSAISONALITE,3) -> HPE | E21: =VLOOKUP(B21,HOROSAISONALITE,4) -> HCH | F21: =VLOOKUP(B21,HOROSAISONALITE,5) -> HCE | G21: =VLOOKUP(B21,HOROSAISONALITE,6) -> POINTE | H21: =VLOOKUP(B21,HOROSAISONALITE,7) -> CAR
C22: 432432 | D22: 543543 | E22: 654654 | F22: 5453 | G22: 43242
A23: CL000011 | B23: =CLIENTS!M23 -> C5 BASE | C23: =VLOOKUP(B23,HOROSAISONALITE,2) -> BASE | D23: =VLOOKUP(B23,HOROSAISONALITE,3) -> CAR | E23: =VLOOKUP(B23,HOROSAISONALITE,4) -> 0 | F23: =VLOOKUP(B23,HOROSAISONALITE,5) -> 0 | G23: =VLOOKUP(B23,HOROSAISONALITE,6) -> 0 | H23: =VLOOKUP(B23,HOROSAISONALITE,7) -> 0
C24: 4324
A25: CL000012 | B25: =CLIENTS!M25 -> C5 HP HC | C25: =VLOOKUP(B25,HOROSAISONALITE,2) -> HP | D25: =VLOOKUP(B25,HOROSAISONALITE,3) -> HC | E25: =VLOOKUP(B25,HOROSAISONALITE,4) -> CAR | F25: =VLOOKUP(B25,HOROSAISONALITE,5) -> 0 | G25: =VLOOKUP(B25,HOROSAISONALITE,6) -> 0 | H25: =VLOOKUP(B25,HOROSAISONALITE,7) -> 0
C26: 43242 | D26: 54353
A27: CL000013 | B27: =CLIENTS!M27 -> C2/C3 | C27: =VLOOKUP(B27,HOROSAISONALITE,2) -> HPH | D27: =VLOOKUP(B27,HOROSAISONALITE,3) -> HPE | E27: =VLOOKUP(B27,HOROSAISONALITE,4) -> HCH | F27: =VLOOKUP(B27,HOROSAISONALITE,5) -> HCE | G27: =VLOOKUP(B27,HOROSAISONALITE,6) -> POINTE | H27: =VLOOKUP(B27,HOROSAISONALITE,7) -> CAR
C28: 432432 | D28: 54353 | E28: 65464 | F28: 534543 | G28: 4324
A29: CL000014 | B29: =CLIENTS!M29 -> C5 BASE | C29: =VLOOKUP(B29,HOROSAISONALITE,2) -> BASE | D29: =VLOOKUP(B29,HOROSAISONALITE,3) -> CAR | E29: =VLOOKUP(B29,HOROSAISONALITE,4) -> 0 | F29: =VLOOKUP(B29,HOROSAISONALITE,5) -> 0 | G29: =VLOOKUP(B29,HOROSAISONALITE,6) -> 0 | H29: =VLOOKUP(B29,HOROSAISONALITE,7) -> 0
C30: 64564
A31: CL000015 | B31: =CLIENTS!M31 -> C2/C3 | C31: =VLOOKUP(B31,HOROSAISONALITE,2) -> HPH | D31: =VLOOKUP(B31,HOROSAISONALITE,3) -> HPE | E31: =VLOOKUP(B31,HOROSAISONALITE,4) -> HCH | F31: =VLOOKUP(B31,HOROSAISONALITE,5) -> HCE | G31: =VLOOKUP(B31,HOROSAISONALITE,6) -> POINTE | H31: =VLOOKUP(B31,HOROSAISONALITE,7) -> CAR
C32: 65464 | D32: 5435 | E32: 654654 | F32: 6546 | G32: 43242
A33: CL000016 | B33: =CLIENTS!M33 -> C5 BASE | C33: =VLOOKUP(B33,HOROSAISONALITE,2) -> BASE | D33: =VLOOKUP(B33,HOROSAISONALITE,3) -> CAR | E33: =VLOOKUP(B33,HOROSAISONALITE,4) -> 0 | F33: =VLOOKUP(B33,HOROSAISONALITE,5) -> 0 | G33: =VLOOKUP(B33,HOROSAISONALITE,6) -> 0 | H33: =VLOOKUP(B33,HOROSAISONALITE,7) -> 0
C34: 543543
A35: CL000017 | B35: =CLIENTS!M35 -> C5 HP HC | C35: =VLOOKUP(B35,HOROSAISONALITE,2) -> HP | D35: =VLOOKUP(B35,HOROSAISONALITE,3) -> HC | E35: =VLOOKUP(B35,HOROSAISONALITE,4) -> CAR | F35: =VLOOKUP(B35,HOROSAISONALITE,5) -> 0 | G35: =VLOOKUP(B35,HOROSAISONALITE,6) -> 0 | H35: =VLOOKUP(B35,HOROSAISONALITE,7) -> 0
C36: 654646 | D36: 54353
A37: CL000018 | B37: =CLIENTS!M37 -> C4 POINTE | C37: =VLOOKUP(B37,HOROSAISONALITE,2) -> HPH | D37: =VLOOKUP(B37,HOROSAISONALITE,3) -> HPE | E37: =VLOOKUP(B37,HOROSAISONALITE,4) -> HCH | F37: =VLOOKUP(B37,HOROSAISONALITE,5) -> HCE | G37: =VLOOKUP(B37,HOROSAISONALITE,6) -> POINTE | H37: =VLOOKUP(B37,HOROSAISONALITE,7) -> CAR
C38: 5435 | D38: 543543 | E38: 654654 | F38: 5435 | G38: 423423
A39: CL000019 | B39: =CLIENTS!M39 -> C4 | C39: =VLOOKUP(B39,HOROSAISONALITE,2) -> HPH | D39: =VLOOKUP(B39,HOROSAISONALITE,3) -> HPE | E39: =VLOOKUP(B39,HOROSAISONALITE,4) -> HCH | F39: =VLOOKUP(B39,HOROSAISONALITE,5) -> HCE | G39: =VLOOKUP(B39,HOROSAISONALITE,6) -> CAR | H39: =VLOOKUP(B39,HOROSAISONALITE,7) -> 0
C40: 54353 | D40: 5435 | E40: 65464 | F40: 53453
A41: CL000020 | B41: =CLIENTS!M41 -> C5 BASE | C41: =VLOOKUP(B41,HOROSAISONALITE,2) -> BASE | D41: =VLOOKUP(B41,HOROSAISONALITE,3) -> CAR | E41: =VLOOKUP(B41,HOROSAISONALITE,4) -> 0 | F41: =VLOOKUP(B41,HOROSAISONALITE,5) -> 0 | G41: =VLOOKUP(B41,HOROSAISONALITE,6) -> 0 | H41: =VLOOKUP(B41,HOROSAISONALITE,7) -> 0
C42: 543

Sheet CLIENTS
A1: N° Client | B1: RAISON SOCIALE | C1: SIRET | D1: APE | E1: NOM | F1: PRÉNOM | G1: TEL FIXE | H1: TEL MOBILE | I1: MAIL | J1: ADRESSE CONSOMMATION | K1: ADRESSE FACTURATION | L1: PDL | M1: ACHEMIMENT | N1: PUISSANCE
A3: CL000001 | B3: APPLE | C3: 240303901552098 | D3: 1923F | E3: COOK | F3: TIM | G3: 492839454 | H3: 611030292 | I3: tim.cook@apple.com | J3: 14 RUE PAUL ELIE DUBOIS 25200 MONTBELIARD | L3: 82734827364993 | M3: C2/C3 | N3: 90 | O3: ='OFFRE COMMERCIALE'!C3 -> HPH | P3: ='OFFRE COMMERCIALE'!D3 -> HPE | Q3: ='OFFRE COMMERCIALE'!E3 -> HCH | R3: ='OFFRE COMMERCIALE'!F3 -> HCE | S3: ='OFFRE COMMERCIALE'!G3 -> POINTE | T3: ='OFFRE COMMERCIALE'!H3 -> CAR
O4: ='OFFRE COMMERCIALE'!C4 -> 250000 | P4: ='OFFRE COMMERCIALE'!D4 -> 13000 | Q4: ='OFFRE COMMERCIALE'!E4 -> 23004 | R4: ='OFFRE COMMERCIALE'!F4 -> 23044 | S4: ='OFFRE COMMERCIALE'!G4 -> 24042 | T4: ='OFFRE COMMERCIALE'!H4 -> 0
A5: CL000002 | B5: ARTE | C5: 290038380203650 | D5: 3402D | E5: PRINCE | F5: HENRY | G5: 04 90 91 15 33 | H5: 06 11 33 01 03 | I5: prince.henry@arte.com | J5: 18 RUE DE LA REPUBLIQUE 84000 AVIGNON | L5: 39484929283343 | M5: C2/C3 | N5: 120 | O5: ='OFFRE COMMERCIALE'!C5 -> HPH | P5: ='OFFRE COMMERCIALE'!D5 -> HPE | Q5: ='OFFRE COMMERCIALE'!E5 -> HCH | R5: ='OFFRE COMMERCIALE'!F5 -> HCE | S5: ='OFFRE COMMERCIALE'!G5 -> POINTE | T5: ='OFFRE COMMERCIALE'!H5 -> CAR
O6: ='OFFRE COMMERCIALE'!C6 -> 203944 | P6: ='OFFRE COMMERCIALE'!D6 -> 230442 | Q6: ='OFFRE COMMERCIALE'!E6 -> 23455 | R6: ='OFFRE COMMERCIALE'!F6 -> 2345 | S6: ='OFFRE COMMERCIALE'!G6 -> 543543 | T6: ='OFFRE COMMERCIALE'!H6 -> 0
A7: CL000003 | B7: BEATS | C7: 339772858855201 | D7: 2345F | E7: CHARLES | F7: BASS | G7: 04 90 91 15 33 | H7: 06 11 33 01 03 | I7: charles.bass@beats.com | J7: 15 RUE PAUL ELIE DUBOIS 25200 MONTBELIARD | L7: 82734827362393 | M7: C5 HP HC | N7: 77 | O7: ='OFFRE COMMERCIALE'!C7 -> HP | P7: ='OFFRE COMMERCIALE'!D7 -> HC | Q7: ='OFFRE COMMERCIALE'!E7 -> CAR | R7: ='OFFRE COMMERCIALE'!F7 -> 0 | S7: ='OFFRE COMMERCIALE'!G7 -> 0 | T7: ='OFFRE COMMERCIALE'!H7 -> 0
O8: ='OFFRE COMMERCIALE'!C8 -> 90000 | P8: ='OFFRE COMMERCIALE'!D8 -> 12000 | Q8: ='OFFRE COMMERCIALE'!E8 -> 0 | R8: ='OFFRE COMMERCIALE'!F8 -> 0 | S8: ='OFFRE COMMERCIALE'!G8 -> 0 | T8: ='OFFRE COMMERCIALE'!H8 -> 0
A9: CL000004 | B9: BOUYGUES | C9: 389507337506752 | D9: 2345P | E9: BOUYGUES | F9: MARTIN | G9: 04 90 91 15 33 | H9: 06 11 33 01 03 | I9: martin@bouygues.com | J9: 19 RUE DE LA REPUBLIQUE 84000 AVIGNON | L9: 12598472544122 | M9: C2/C3 | N9: 250 | O9: ='OFFRE COMMERCIALE'!C9 -> HPH | P9: ='OFFRE COMMERCIALE'!D9 -> HPE | Q9: ='OFFRE COMMERCIALE'!E9 -> HCH | R9: ='OFFRE COMMERCIALE'!F9 -> HCE | S9: ='OFFRE COMMERCIALE'!G9 -> POINTE | T9: ='OFFRE COMMERCIALE'!H9 -> CAR
O10: ='OFFRE COMMERCIALE'!C10 -> 10000 | P10: ='OFFRE COMMERCIALE'!D10 -> 232432 | Q10: ='OFFRE COMMERCIALE'!E10 -> 432432 | R10: ='OFFRE COMMERCIALE'!F10 -> 32432 | S10: ='OFFRE COMMERCIALE'!G10 -> 432432 | T10: ='OFFRE COMMERCIALE'!H10 -> 0
A11: CL000005 | B11: CANAL | C11: 321324332423432 | D11: 9283Z | E11: BOLLORE | F11: VINCENT | G11: 04 90 91 15 33 | H11: 06 11 33 01 03 | I11: vincent@canal.fr | J11: 16 RUE PAUL ELIE DUBOIS 25200 MONTBELIARD | L11: 12598472542822 | M11: C5 BASE | N11: 130 | O11: ='OFFRE COMMERCIALE'!C11 -> BASE | P11: ='OFFRE COMMERCIALE'!D11 -> CAR | Q11: ='OFFRE COMMERCIALE'!E11 -> 0 | R11: ='OFFRE COMMERCIALE'!F11 -> 0 | S11: ='OFFRE COMMERCIALE'!G11 -> 0 | T11: ='OFFRE COMMERCIALE'!H11 -> 0
O12: ='OFFRE COMMERCIALE'!C12 -> 232143 | P12: ='OFFRE COMMERCIALE'!D12 -> 0 | Q12: ='OFFRE COMMERCIALE'!E12 -> 0 | R12: ='OFFRE COMMERCIALE'!F12 -> 0 | S12: ='OFFRE COMMERCIALE'!G12 -> 0 | T12: ='OFFRE COMMERCIALE'!H12 -> 0
A13: CL000006 | B13: ETABLE | C13: 240303901552098 | D13: 2394D | E13: JOHN | F13: SON | G13: 04 90 91 15 33 | H13: 06 11 33 01 03 | I13: son@etable.fr | J13: 20 RUE DE LA REPUBLIQUE 84000 AVIGNON | L13: 82734827364993 | M13: C2/C3 | N13: 42 | O13: ='OFFRE COMMERCIALE'!C13 -> HPH | P13: ='OFFRE COMMERCIALE'!D13 -> HPE | Q13: ='OFFRE COMMERCIALE'!E13 -> HCH | R13: ='OFFRE COMMERCIALE'!F13 -> HCE | S13: ='OFFRE COMMERCIALE'!G13 -> POINTE | T13: ='OFFRE COMMERCIALE'!H13 -> CAR
O14: ='OFFRE COMMERCIALE'!C14 -> 4324324 | P14: ='OFFRE COMMERCIALE'!D14 -> 423432 | Q14: ='OFFRE COMMERCIALE'!E14 -> 4324 | R14: ='OFFRE COMMERCIALE'!F14 -> 4324 | S14: ='OFFRE COMMERCIALE'!G14 -> 4324 | T14: ='OFFRE COMMERCIALE'!H14 -> 0
A15: CL000007 | B15: FREE | C15: 290038380203650 | D15: 4958D | E15: NIEL | F15: XAVIER | G15: 04 90 91 15 33 | H15: 06 11 33 01 03 | I15: xavier@free.fr | J15: 17 RUE PAUL ELIE DUBOIS 25200 MONTBELIARD | L15: 39484929283343 | M15: C5 BASE | N15: 77 | O15: ='OFFRE COMMERCIALE'!C15 -> BASE | P15: ='OFFRE COMMERCIALE'!D15 -> CAR | Q15: ='OFFRE COMMERCIALE'!E15 -> 0 | R15: ='OFFRE COMMERCIALE'!F15 -> 0 | S15: ='OFFRE COMMERCIALE'!G15 -> 0 | T15: ='OFFRE COMMERCIALE'!H15 -> 0
O16: ='OFFRE COMMERCIALE'!C16 -> 32423 | P16: ='OFFRE COMMERCIALE'!D16 -> 0 | Q16: ='OFFRE COMMERCIALE'!E16 -> 0 | R16: ='OFFRE COMMERCIALE'!F16 -> 0 | S16: ='OFFRE COMMERCIALE'!G16 -> 0 | T16: ='OFFRE COMMERCIALE'!H16 -> 0
A17: CL000008 | B17: JAUNE | C17: 339772858855201 | D17: 3948Z | E17: SONG | F17: SAM | G17: 04 90 91 15 33 | H17: 06 11 33 01 03 | I17: sam@jaune.fr | J17: 21 RUE DE LA REPUBLIQUE 84000 AVIGNON | L17: 82734827362393 | M17: C4 | N17: 90 | O17: ='OFFRE COMMERCIALE'!C17 -> HPH | P17: ='OFFRE COMMERCIALE'!D17 -> HPE | Q17: ='OFFRE COMMERCIALE'!E17 -> HCH | R17: ='OFFRE COMMERCIALE'!F17 -> HCE | S17: ='OFFRE COMMERCIALE'!G17 -> CAR | T17: ='OFFRE COMMERCIALE'!H17 -> 0
O18: ='OFFRE COMMERCIALE'!C18 -> 324234 | P18: ='OFFRE COMMERCIALE'!D18 -> 543534 | Q18: ='OFFRE COMMERCIALE'!E18 -> 543543 | R18: ='OFFRE COMMERCIALE'!F18 -> 67575 | S18: ='OFFRE COMMERCIALE'!G18 -> 0 | T18: ='OFFRE COMMERCIALE'!H18 -> 0
A19: CL000009 | B19: MAY TEA | C19: 389507337506752 | D19: 2384J | E19: DO | F19: JOHN | G19: 04 90 91 15 33 | H19: 06 11 33 01 03 | I19: john@do.fr | J19: 18 RUE PAUL ELIE DUBOIS 25200 MONTBELIARD | L19: 12598472544122 | M19: C4 POINTE | N19: 90 | O19: ='OFFRE COMMERCIALE'!C19 -> HPH | P19: ='OFFRE COMMERCIALE'!D19 -> HPE | Q19: ='OFFRE COMMERCIALE'!E19 -> HCH | R19: ='OFFRE COMMERCIALE'!F19 -> HCE | S19: ='OFFRE COMMERCIALE'!G19 -> POINTE | T19: ='OFFRE COMMERCIALE'!H19 -> CAR
O20: ='OFFRE COMMERCIALE'!C20 -> 324324 | P20: ='OFFRE COMMERCIALE'!D20 -> 54353 | Q20: ='OFFRE COMMERCIALE'!E20 -> 6546 | R20: ='OFFRE COMMERCIALE'!F20 -> 5345 | S20: ='OFFRE COMMERCIALE'!G20 -> 43242 | T20: ='OFFRE COMMERCIALE'!H20 -> 0
A21: CL000010 | B21: MICROSOFT | C21: 439241816158304 | D21: 3404K | E21: MARTIN | F21: CHARLOTTE | G21: 04 90 91 15 33 | H21: 06 11 33 01 03 | I21: charlottes@microsoft.com | J21: 22 RUE DE LA REPUBLIQUE 84000 AVIGNON | L21: 12598472542822 | M21: C4 POINTE | N21: 120 | O21: ='OFFRE COMMERCIALE'!C21 -> HPH | P21: ='OFFRE COMMERCIALE'!D21 -> HPE | Q21: ='OFFRE COMMERCIALE'!E21 -> HCH | R21: ='OFFRE COMMERCIALE'!F21 -> HCE | S21: ='OFFRE COMMERCIALE'!G21 -> POINTE | T21: ='OFFRE COMMERCIALE'!H21 -> CAR
O22: ='OFFRE COMMERCIALE'!C22 -> 432432 | P22: ='OFFRE COMMERCIALE'!D22 -> 543543 | Q22: ='OFFRE COMMERCIALE'!E22 -> 654654 | R22: ='OFFRE COMMERCIALE'!F22 -> 5453 | S22: ='OFFRE COMMERCIALE'!G22 -> 43242 | T22: ='OFFRE COMMERCIALE'!H22 -> 0
A23: CL000011 | B23: NIEL | C23: 488976294809855 | D23: 1923F | E23: JACKSON | F23: MICHAEL | G23: 04 90 91 15 33 | H23: 06 11 33 01 03 | I23: michael@scofield.com | J23: 19 RUE PAUL ELIE DUBOIS 25200 MONTBELIARD | L23: 82734827364993 | M23: C5 BASE | N23: 77 | O23: ='OFFRE COMMERCIALE'!C23 -> BASE | P23: ='OFFRE COMMERCIALE'!D23 -> CAR | Q23: ='OFFRE COMMERCIALE'!E23 -> 0 | R23: ='OFFRE COMMERCIALE'!F23 -> 0 | S23: ='OFFRE COMMERCIALE'!G23 -> 0 | T23: ='OFFRE COMMERCIALE'!H23 -> 0
O24: ='OFFRE COMMERCIALE'!C24 -> 4324 | P24: ='OFFRE COMMERCIALE'!D24 -> 0 | Q24: ='OFFRE COMMERCIALE'!E24 -> 0 | R24: ='OFFRE COMMERCIALE'!F24 -> 0 | S24: ='OFFRE COMMERCIALE'!G24 -> 0 | T24: ='OFFRE COMMERCIALE'!H24 -> 0
A25: CL000012 | B25: ORANGE | C25: 538710773461406 | D25: 3402D | E25: RICHARD | F25: STEPHANE | G25: 04 90 91 15 33 | H25: 06 11 33 01 03 | I25: stephane@orange.fr | J25: 23 RUE DE LA REPUBLIQUE 84000 AVIGNON | L25: 39484929283343 | M25: C5 HP HC | N25: 250 | O25: ='OFFRE COMMERCIALE'!C25 -> HP | P25: ='OFFRE COMMERCIALE'!D25 -> HC | Q25: ='OFFRE COMMERCIALE'!E25 -> CAR | R25: ='OFFRE COMMERCIALE'!F25 -> 0 | S25: ='OFFRE COMMERCIALE'!G25 -> 0 | T25: ='OFFRE COMMERCIALE'!H25 -> 0
O26: ='OFFRE COMMERCIALE'!C26 -> 43242 | P26: ='OFFRE COMMERCIALE'!D26 -> 54353 | Q26: ='OFFRE COMMERCIALE'!E26 -> 0 | R26: ='OFFRE COMMERCIALE'!F26 -> 0 | S26: ='OFFRE COMMERCIALE'!G26 -> 0 | T26: ='OFFRE COMMERCIALE'!H26 -> 0
A27: CL000013 | B27: PAGES | C27: 588445252112958 | D27: 2345F | E27: PHILIPPE | F27: EDOUARD | G27: 04 90 91 15 33 | H27: 06 11 33 01 03 | I27: edouard@gouvernement.com | J27: 20 RUE PAUL ELIE DUBOIS 25200 MONTBELIARD | L27: 82734827362393 | M27: C2/C3 | N27: 130 | O27: ='OFFRE COMMERCIALE'!C27 -> HPH | P27: ='OFFRE COMMERCIALE'!D27 -> HPE | Q27: ='OFFRE COMMERCIALE'!E27 -> HCH | R27: ='OFFRE COMMERCIALE'!F27 -> HCE | S27: ='OFFRE COMMERCIALE'!G27 -> POINTE | T27: ='OFFRE COMMERCIALE'!H27 -> CAR
O28: ='OFFRE COMMERCIALE'!C28 -> 432432 | P28: ='OFFRE COMMERCIALE'!D28 -> 54353 | Q28: ='OFFRE COMMERCIALE'!E28 -> 65464 | R28: ='OFFRE COMMERCIALE'!F28 -> 534543 | S28: ='OFFRE COMMERCIALE'!G28 -> 4324 | T28: ='OFFRE COMMERCIALE'!H28 -> 0
A29: CL000014 | B29: SAMSUNG | C29: 638179730764509 | D29: 2345P | E29: PING | F29: PONG | G29: 04 90 91 15 33 | H29: 06 11 33 01 03 | I29: pingpong@tchong.com | J29: 24 RUE DE LA REPUBLIQUE 84000 AVIGNON | L29: 82734827364993 | M29: C5 BASE | N29: 90 | O29: ='OFFRE COMMERCIALE'!C29 -> BASE | P29: ='OFFRE COMMERCIALE'!D29 -> CAR | Q29: ='OFFRE COMMERCIALE'!E29 -> 0 | R29: ='OFFRE COMMERCIALE'!F29 -> 0 | S29: ='OFFRE COMMERCIALE'!G29 -> 0 | T29: ='OFFRE COMMERCIALE'!H29 -> 0
O30: ='OFFRE COMMERCIALE'!C30 -> 64564 | P30: ='OFFRE COMMERCIALE'!D30 -> 0 | Q30: ='OFFRE COMMERCIALE'!E30 -> 0 | R30: ='OFFRE COMMERCIALE'!F30 -> 0 | S30: ='OFFRE COMMERCIALE'!G30 -> 0 | T30: ='OFFRE COMMERCIALE'!H30 -> 0
A31: CL000015 | B31: SFR | C31: 687914209416060 | D31: 9283Z | E31: BOURBON | F31: LOUIS | G31: 04 90 91 15 33 | H31: 06 11 33 01 03 | I31: louis@debourbon.com | J31: 21 RUE PAUL ELIE DUBOIS 25200 MONTBELIARD | L31: 39484929283343 | M31: C2/C3 | N31: 120 | O31: ='OFFRE COMMERCIALE'!C31 -> HPH | P31: ='OFFRE COMMERCIALE'!D31 -> HPE | Q31: ='OFFRE COMMERCIALE'!E31 -> HCH | R31: ='OFFRE COMMERCIALE'!F31 -> HCE | S31: ='OFFRE COMMERCIALE'!G31 -> POINTE | T31: ='OFFRE COMMERCIALE'!H31 -> CAR
O32: ='OFFRE COMMERCIALE'!C32 -> 65464 | P32: ='OFFRE COMMERCIALE'!D32 -> 5435 | Q32: ='OFFRE COMMERCIALE'!E32 -> 654654 | R32: ='OFFRE COMMERCIALE'!F32 -> 6546 | S32: ='OFFRE COMMERCIALE'!G32 -> 43242 | T32: ='OFFRE COMMERCIALE'!H32 -> 0
A33: CL000016 | B33: SONY | C33: 737648688067611 | D33: 1923F | E33: TAKASHI | F33: MIYAMOTO | G33: 04 90 91 15 33 | H33: 06 11 33 01 03 | I33: miyamoyo@nintendo.com | J33: 25 RUE DE LA REPUBLIQUE 84000 AVIGNON | L33: 82734827362393 | M33: C5 BASE | N33: 77 | O33: ='OFFRE COMMERCIALE'!C33 -> BASE | P33: ='OFFRE COMMERCIALE'!D33 -> CAR | Q33: ='OFFRE COMMERCIALE'!E33 -> 0 | R33: ='OFFRE COMMERCIALE'!F33 -> 0 | S33: ='OFFRE COMMERCIALE'!G33 -> 0 | T33: ='OFFRE COMMERCIALE'!H33 -> 0
O34: ='OFFRE COMMERCIALE'!C34 -> 543543 | P34: ='OFFRE COMMERCIALE'!D34 -> 0 | Q34: ='OFFRE COMMERCIALE'!E34 -> 0 | R34: ='OFFRE COMMERCIALE'!F34 -> 0 | S34: ='OFFRE COMMERCIALE'!G34 -> 0 | T34: ='OFFRE COMMERCIALE'!H34 -> 0
A35: CL000017 | B35: TESLA | C35: 787383166719163 | D35: 3402D | E35: MUSK | F35: ELON | G35: 04 90 91 15 33 | H35: 06 11 33 01 03 | I35: elon@tesla.com | J35: 22 RUE PAUL ELIE DUBOIS 25200 MONTBELIARD | L35: 12598472544122 | M35: C5 HP HC | N35: 250 | O35: ='OFFRE COMMERCIALE'!C35 -> HP | P35: ='OFFRE COMMERCIALE'!D35 -> HC | Q35: ='OFFRE COMMERCIALE'!E35 -> CAR | R35: ='OFFRE COMMERCIALE'!F35 -> 0 | S35: ='OFFRE COMMERCIALE'!G35 -> 0 | T35: ='OFFRE COMMERCIALE'!H35 -> 0
O36: ='OFFRE COMMERCIALE'!C36 -> 654646 | P36: ='OFFRE COMMERCIALE'!D36 -> 54353 | Q36: ='OFFRE COMMERCIALE'!E36 -> 0 | R36: ='OFFRE COMMERCIALE'!F36 -> 0 | S36: ='OFFRE COMMERCIALE'!G36 -> 0 | T36: ='OFFRE COMMERCIALE'!H36 -> 0
A37: CL000018 | B37: TF1 | C37: 837117645370714 | D37: 2345F | E37: BASS | F37: CHUCK | G37: 04 90 91 15 33 | H37: 06 11 33 01 03 | I37: chuck@bass.fr | J37: 26 RUE DE LA REPUBLIQUE 84000 AVIGNON | L37: 12598472542822 | M37: C4 POINTE | N37: 130 | O37: ='OFFRE COMMERCIALE'!C37 -> HPH | P37: ='OFFRE COMMERCIALE'!D37 -> HPE | Q37: ='OFFRE COMMERCIALE'!E37 -> HCH | R37: ='OFFRE COMMERCIALE'!F37 -> HCE | S37: ='OFFRE COMMERCIALE'!G37 -> POINTE | T37: ='OFFRE COMMERCIALE'!H37 -> CAR
O38: ='OFFRE COMMERCIALE'!C38 -> 5435 | P38: ='OFFRE COMMERCIALE'!D38 -> 543543 | Q38: ='OFFRE COMMERCIALE'!E38 -> 654654 | R38: ='OFFRE COMMERCIALE'!F38 -> 5435 | S38: ='OFFRE COMMERCIALE'!G38 -> 423423 | T38: ='OFFRE COMMERCIALE'!H38 -> 0
A39: CL000019 | B39: VERT | C39: 886852124022265 | D39: 2345P | E39: SNOW | F39: JON | G39: 04 90 91 15 33 | H39: 06 11 33 01 03 | I39: jonsnow@winterfell.com | J39: 23 RUE PAUL ELIE DUBOIS 25200 MONTBELIARD | L39: 3404308394944 | M39: C4 | N39: 42 | O39: ='OFFRE COMMERCIALE'!C39 -> HPH | P39: ='OFFRE COMMERCIALE'!D39 -> HPE | Q39: ='OFFRE COMMERCIALE'!E39 -> HCH | R39: ='OFFRE COMMERCIALE'!F39 -> HCE | S39: ='OFFRE COMMERCIALE'!G39 -> CAR | T39: ='OFFRE COMMERCIALE'!H39 -> 0
O40: ='OFFRE COMMERCIALE'!C40 -> 54353 | P40: ='OFFRE COMMERCIALE'!D40 -> 5435 | Q40: ='OFFRE COMMERCIALE'!E40 -> 65464 | R40: ='OFFRE COMMERCIALE'!F40 -> 53453 | S40: ='OFFRE COMMERCIALE'!G40 -> 0 | T40: ='OFFRE COMMERCIALE'!H40 -> 0
A41: CL000020 | B41: WORD | C41: 936586602673817 | D41: 9283Z | E41: STARK | F41: ARYA | G41: 04 90 91 15 33 | H41: 06 11 33 01 03 | I41: arya@stark.com | J41: 27 RUE DE LA REPUBLIQUE 84000 AVIGNON | L41: 3330277032523 | M41: C5 BASE | N41: 77 | O41: ='OFFRE COMMERCIALE'!C41 -> BASE | P41: ='OFFRE COMMERCIALE'!D41 -> CAR | Q41: ='OFFRE COMMERCIALE'!E41 -> 0 | R41: ='OFFRE COMMERCIALE'!F41 -> 0 | S41: ='OFFRE COMMERCIALE'!G41 -> 0 | T41: ='OFFRE COMMERCIALE'!H41 -> 0

Sheet COMPARATIF C4
A2: CLIENT | B2: CL000001 | E2: CONSOMMATION
A4: RAISON SOCIALE | B4: =(VLOOKUP(B2,CLIENTS,2)) -> APPLE | E4: ADRESSE CONSO. | F4: =(VLOOKUP(B2,CLIENTS,10)) -> 14 RUE PAUL ELIE DUBOIS 25200 MONTBELIARD
A5: SIRET | B5: =(VLOOKUP(B2,CLIENTS,3)) -> 240303901552098 | E5: PDL | F5: =(VLOOKUP(B2,CLIENTS,12)) -> 82734827364993
A6: APE | B6: =(VLOOKUP(B2,CLIENTS,4)) -> 1923F | E6: ACHEMINEMENT | F6: =(VLOOKUP(B2,CLIENTS,13)) -> C2/C3
A7: NOM | B7: =(VLOOKUP(B2,CLIENTS,5)) -> COOK | E7: PUISSANCE (kva) | F7: =(VLOOKUP(B2,CLIENTS,14)) -> 90
A8: PRENOM | B8: =(VLOOKUP(B2,CLIENTS,6)) -> TIM | E8: =IFERROR(OFFSET(Feuil1!$A$2,ROW()-8,MATCH($F$6,Feuil1!$B$1:$F$1,0)),"") -> HPH | F8: =(VLOOKUP(B2,CLIENTS!A1:V41,15)) -> HPH
A9: TEL FIXE | B9: =VLOOKUP(B2,CLIENTS,7) -> 492839454 | E9: =IFERROR(OFFSET(Feuil1!$A$2,ROW()-8,MATCH($F$6,Feuil1!$B$1:$F$1,0)),"") -> HCH | F9: =(VLOOKUP(B2,CLIENTS,16)) -> HPE
A10: TEL MOBILE | B10: =(VLOOKUP(B2,CLIENTS,8)) -> 611030292 | E10: =IFERROR(OFFSET(Feuil1!$A$2,ROW()-8,MATCH($F$6,Feuil1!$B$1:$F$1,0)),"") -> HPE | F10: =(VLOOKUP(B2,CLIENTS,17)) -> HCH
A11: MAIL | B11: =(VLOOKUP(B2,CLIENTS,9)) -> tim.cook@apple.com | E11: =IFERROR(OFFSET(Feuil1!$A$2,ROW()-8,MATCH($F$6,Feuil1!$B$1:$F$1,0)),"") -> HCE | F11: =(VLOOKUP(B2,CLIENTS,18)) -> HCE
E12: =IFERROR(OFFSET(Feuil1!$A$2,ROW()-8,MATCH($F$6,Feuil1!$B$1:$F$1,0)),"") -> POINTE
E13: =IFERROR(OFFSET(Feuil1!$A$2,ROW()-8,MATCH($F$6,Feuil1!$B$1:$F$1,0)),"") -> CAR
