Workbook

Sheet Présences
B1: RESERVATION JEUNES – VACANCES noel 2017
B3: 43102 | C3: 43102 | D3: 43103 | E3: 43103 | F3: 43104 | G3: 43105
A4: Nb hr | B4: 4 | C4: 4 | D4: 4 | E4: 5 | F4: 4 | G4: 4
B5: aerofresque | C5: accueil libre | D5: Cuisine / deco | E5: Soirée | F5: Patinoire | G5: Bracelet
A6: 1 | B6: Robin | D6: Léo Redon | E6: Léo Redon | F6: Lucien | G6: Robin
A7: 2 | B7: Léo Redon | D7: Camille | E7: Camille | F7: Robin | G7: Léo Redon
A8: 3 | B8: Camille | D8: Marion | E8: Marion | F8: Léo Redon | G8: Youmene
A9: 4 | B9: Thomas G | D9: Maxime | E9: Maxime | F9: Camille | G9: Rilasse
A10: 5 | D10: Youmene | E10: Youmene | F10: Marion | G10: Shayna
A11: 6 | D11: Rilasse | E11: Rilasse | F11: Maxime | G11: Giovanni
A12: 7 | D12: Shayna | E12: Shayna | F12: Youmene | G12: Thomas G
A13: 8 | D13: Giovanni | E13: Giovanni | F13: Rilasse
A14: 9 | F14: Axel Monestier
A15: 10 | F15: Shayna
A16: 11 | F16: Giovanni
A17: 12
A18: 13
A19: 14
A20: 15
A21: 16
A22: 17
A23: 18
A24: 19
A25: 20
A26: 21
A27: 22
A28: 23
A29: 24 | E29: Lorine
A30: Nb jeunes | B30: =COUNTA(B6:B29) -> 4 | C30: =COUNTA(C6:C29) -> 0 | D30: =COUNTA(D6:D29) -> 8 | E30: =COUNTA(E6:E29) -> 9 | F30: =COUNTA(F6:F29) -> 11 | G30: =COUNTA(G6:G29) -> 7
A31: ACTES | B31: =B30*B4 -> 16 | C31: =C30*C4 -> 0 | D31: =D30*D4 -> 32 | E31: =E30*E4 -> 45 | F31: =F30*F4 -> 44 | G31: =G30*G4 -> 28 | H31: =SUM(B31:G31) -> 165

Sheet Facturation
H5: Règlement
A6: Nom Prénom | B6: QF | C6: aerofresque | D6: Soirée | E6: Patinoire | F6: Bracelet | G6: TOTAL dû | H6: Chèque | I6: Espèces | J6: PC / Réduc
A7: Robin | C7: =IF($B7="","",VLOOKUP($B7,Tarifs!$A$7:$E$11,2,FALSE)) | D7: =IF($B7="","",VLOOKUP($B7,Tarifs!$A$7:$E$11,3,FALSE)) | E7: =IF($B7="","",VLOOKUP($B7,Tarifs!$A$7:$E$11,4,FALSE)) | F7: =IF($B7="","",VLOOKUP($B7,Tarifs!$A$7:$E$11,5,FALSE)) | G7: =SUM(C7:F7) -> 0 | K7: =G7-H7-I7-J7 -> 0
A8: Léo Redon | C8: =IF($B8="","",VLOOKUP($B8,Tarifs!$A$7:$E$11,2,FALSE)) | D8: =IF($B8="","",VLOOKUP($B8,Tarifs!$A$7:$E$11,3,FALSE)) | E8: =IF($B8="","",VLOOKUP($B8,Tarifs!$A$7:$E$11,4,FALSE)) | F8: =IF($B8="","",VLOOKUP($B8,Tarifs!$A$7:$E$11,5,FALSE)) | G8: =SUM(C8:F8) -> 0 | K8: =G8-H8-I8-J8 -> 0
A9: Camille | B9: 5 | C9: =IF($B9="","",VLOOKUP($B9,Tarifs!$A$7:$E$11,2,FALSE)) -> 14.5 | D9: =IF($B9="","",VLOOKUP($B9,Tarifs!$A$7:$E$11,3,FALSE)) -> 2.5 | E9: =IF($B9="","",VLOOKUP($B9,Tarifs!$A$7:$E$11,4,FALSE)) -> 8.5 | F9: =IF($B9="","",VLOOKUP($B9,Tarifs!$A$7:$E$11,5,FALSE)) -> 1.5 | G9: =SUM(C9:F9) -> 27 | K9: =G9-H9-I9-J9 -> 27
A10: Thomas G | C10: =IF($B10="","",VLOOKUP($B10,Tarifs!$A$7:$E$11,2,FALSE)) | D10: =IF($B10="","",VLOOKUP($B10,Tarifs!$A$7:$E$11,3,FALSE)) | E10: =IF($B10="","",VLOOKUP($B10,Tarifs!$A$7:$E$11,4,FALSE)) | F10: =IF($B10="","",VLOOKUP($B10,Tarifs!$A$7:$E$11,5,FALSE)) | G10: =SUM(C10:F10) -> 0 | K10: =G10-H10-I10-J10 -> 0
A11: Marion | B11: 5 | C11: =IF($B11="","",VLOOKUP($B11,Tarifs!$A$7:$E$11,2,FALSE)) -> 14.5 | D11: =IF($B11="","",VLOOKUP($B11,Tarifs!$A$7:$E$11,3,FALSE)) -> 2.5 | E11: =IF($B11="","",VLOOKUP($B11,Tarifs!$A$7:$E$11,4,FALSE)) -> 8.5 | F11: =IF($B11="","",VLOOKUP($B11,Tarifs!$A$7:$E$11,5,FALSE)) -> 1.5 | G11: =SUM(C11:F11) -> 27 | K11: =G11-H11-I11-J11 -> 27
A12: Maxime | B12: 5 | C12: =IF($B12="","",VLOOKUP($B12,Tarifs!$A$7:$E$11,2,FALSE)) -> 14.5 | D12: =IF($B12="","",VLOOKUP($B12,Tarifs!$A$7:$E$11,3,FALSE)) -> 2.5 | E12: =IF($B12="","",VLOOKUP($B12,Tarifs!$A$7:$E$11,4,FALSE)) -> 8.5 | F12: =IF($B12="","",VLOOKUP($B12,Tarifs!$A$7:$E$11,5,FALSE)) -> 1.5 | G12: =SUM(C12:F12) -> 27 | K12: =G12-H12-I12-J12 -> 27
A13: Youmene | B13: 2 | C13: =IF($B13="","",VLOOKUP($B13,Tarifs!$A$7:$E$11,2,FALSE)) -> 9 | D13: =IF($B13="","",VLOOKUP($B13,Tarifs!$A$7:$E$11,3,FALSE)) -> 2.5 | E13: =IF($B13="","",VLOOKUP($B13,Tarifs!$A$7:$E$11,4,FALSE)) -> 5.5 | F13: =IF($B13="","",VLOOKUP($B13,Tarifs!$A$7:$E$11,5,FALSE)) -> 1.5 | G13: =SUM(C13:F13) -> 18.5 | K13: =G13-H13-I13-J13 -> 18.5
A14: Rilasse | B14: 2 | C14: =IF($B14="","",VLOOKUP($B14,Tarifs!$A$7:$E$11,2,FALSE)) -> 9 | D14: =IF($B14="","",VLOOKUP($B14,Tarifs!$A$7:$E$11,3,FALSE)) -> 2.5 | E14: =IF($B14="","",VLOOKUP($B14,Tarifs!$A$7:$E$11,4,FALSE)) -> 5.5 | F14: =IF($B14="","",VLOOKUP($B14,Tarifs!$A$7:$E$11,5,FALSE)) -> 1.5 | G14: =SUM(C14:F14) -> 18.5 | K14: =G14-H14-I14-J14 -> 18.5
A15: Shayna | C15: =IF($B15="","",VLOOKUP($B15,Tarifs!$A$7:$E$11,2,FALSE)) | D15: =IF($B15="","",VLOOKUP($B15,Tarifs!$A$7:$E$11,3,FALSE)) | E15: =IF($B15="","",VLOOKUP($B15,Tarifs!$A$7:$E$11,4,FALSE)) | F15: =IF($B15="","",VLOOKUP($B15,Tarifs!$A$7:$E$11,5,FALSE)) | G15: =SUM(C15:F15) -> 0 | K15: =G15-H15-I15-J15 -> 0
A16: Giovanni | C16: =IF($B16="","",VLOOKUP($B16,Tarifs!$A$7:$E$11,2,FALSE)) | D16: =IF($B16="","",VLOOKUP($B16,Tarifs!$A$7:$E$11,3,FALSE)) | E16: =IF($B16="","",VLOOKUP($B16,Tarifs!$A$7:$E$11,4,FALSE)) | F16: =IF($B16="","",VLOOKUP($B16,Tarifs!$A$7:$E$11,5,FALSE)) | G16: =SUM(C16:F16) -> 0 | K16: =G16-H16-I16-J16 -> 0
A17: Lucien | C17: =IF($B17="","",VLOOKUP($B17,Tarifs!$A$7:$E$11,2,FALSE)) | D17: =IF($B17="","",VLOOKUP($B17,Tarifs!$A$7:$E$11,3,FALSE)) | E17: =IF($B17="","",VLOOKUP($B17,Tarifs!$A$7:$E$11,4,FALSE)) | F17: =IF($B17="","",VLOOKUP($B17,Tarifs!$A$7:$E$11,5,FALSE)) | G17: =SUM(C17:F17) -> 0 | K17: =G17-H17-I17-J17 -> 0
A18: Axel Monestier | C18: =IF($B18="","",VLOOKUP($B18,Tarifs!$A$7:$E$11,2,FALSE)) | D18: =IF($B18="","",VLOOKUP($B18,Tarifs!$A$7:$E$11,3,FALSE)) | E18: =IF($B18="","",VLOOKUP($B18,Tarifs!$A$7:$E$11,4,FALSE)) | F18: =IF($B18="","",VLOOKUP($B18,Tarifs!$A$7:$E$11,5,FALSE)) | G18: =SUM(C18:F18) -> 0 | K18: =G18-H18-I18-J18 -> 0
B19: =IF(A19="","",VLOOKUP(A19,'[1]QF familles'!$B$5:$C$8,2,FALSE)) | C19: =IF($B19="","",VLOOKUP($B19,Tarifs!$A$7:$E$11,2,FALSE)) | D19: =IF($B19="","",VLOOKUP($B19,Tarifs!$A$7:$E$11,3,FALSE)) | E19: =IF($B19="","",VLOOKUP($B19,Tarifs!$A$7:$E$11,4,FALSE)) | F19: =IF($B19="","",VLOOKUP($B19,Tarifs!$A$7:$E$11,5,FALSE)) | G19: =SUM(C19:F19) -> 0 | K19: =G19-H19-I19-J19 -> 0
B20: =IF(A20="","",VLOOKUP(A20,'[1]QF familles'!$B$5:$C$8,2,FALSE)) | C20: =IF($B20="","",VLOOKUP($B20,Tarifs!$A$7:$E$11,2,FALSE)) | D20: =IF($B20="","",VLOOKUP($B20,Tarifs!$A$7:$E$11,3,FALSE)) | E20: =IF($B20="","",VLOOKUP($B20,Tarifs!$A$7:$E$11,4,FALSE)) | F20: =IF($B20="","",VLOOKUP($B20,Tarifs!$A$7:$E$11,5,FALSE)) | G20: =SUM(C20:F20) -> 0 | K20: =G20-H20-I20-J20 -> 0
G24: =SUM(G7:G20) -> 118 | K24: =SUM(K7:K20) -> 118

Sheet a supprimer
H5: Règlement
A6: Nom Prénom | B6: QF | C6: aerofresque | D6: Soirée | E6: Patinoire | F6: Bracelet | G6: TOTAL dû | H6: Chèque | I6: Espèces | J6: PC / Réduc
A7: Robin | B7: 5 | G7: =SUM(C7:G7) -> 0 | K7: =G7-H7-I7-J7 -> 0
A8: Léo Redon | G8: =SUM(C8:G8) -> 0 | K8: =G8-H8-I8-J8 -> 0
A9: Camille | B9: 5 | G9: =SUM(C9:G9) -> 0 | K9: =G9-H9-I9-J9 -> 0
A10: Thomas G | G10: =SUM(C10:G10) -> 0 | K10: =G10-H10-I10-J10 -> 0
A11: Marion | B11: 5 | G11: =SUM(C11:G11) -> 0 | K11: =G11-H11-I11-J11 -> 0
A12: Maxime | B12: 5 | G12: =SUM(C12:G12) -> 0 | K12: =G12-H12-I12-J12 -> 0
A13: Youmene | B13: 2 | G13: =SUM(C13:G13) -> 0 | K13: =G13-H13-I13-J13 -> 0
A14: Rilasse | B14: 2 | G14: =SUM(C14:G14) -> 0 | K14: =G14-H14-I14-J14 -> 0
A15: Shayna | G15: =SUM(C15:G15) -> 0 | K15: =G15-H15-I15-J15 -> 0
A16: Giovanni | G16: =SUM(C16:G16) -> 0 | K16: =G16-H16-I16-J16 -> 0
A17: Lucien | G17: =SUM(C17:G17) -> 0 | K17: =G17-H17-I17-J17 -> 0
A18: Axel Monestier | G18: =SUM(C18:G18) -> 0 | K18: =G18-H18-I18-J18 -> 0
B19: =IF(A19="","",VLOOKUP(A19,'[1]QF familles'!$B$5:$C$8,2,FALSE)) | C19: =IF(A19="","",[1]Pointage!Z19*[1]Facturation!$C20) | D19: =IF(A19="","",[1]Pointage!AA19*[1]Facturation!$C20) | E19: =IF(A19="","",[1]Pointage!Y19*'[1]Infos Garderie'!$D$21) | G19: =SUM(C19:G19) -> 0 | K19: =G19-H19-I19-J19 -> 0
B20: =IF(A20="","",VLOOKUP(A20,'[1]QF familles'!$B$5:$C$8,2,FALSE)) | C20: =IF(A20="","",[1]Pointage!Z20*[1]Facturation!$C21) | D20: =IF(A20="","",[1]Pointage!AA20*[1]Facturation!$C21) | E20: =IF(A20="","",[1]Pointage!Y20*'[1]Infos Garderie'!$D$21) | G20: =SUM(C20:G20) -> 0 | K20: =G20-H20-I20-J20 -> 0

Sheet Tarifs
B6: aerofresque | C6: Soirée | D6: Patinoire | E6: Bracelet
A7: 1 | B7: 7 | C7: 2.5 | D7: 4 | E7: 1.5
A8: 2 | B8: 9 | C8: 2.5 | D8: 5.5 | E8: 1.5
A9: 3 | B9: 11 | C9: 2.5 | D9: 6.5 | E9: 1.5
A10: 4 | B10: 13 | C10: 2.5 | D10: 7.5 | E10: 1.5
A11: 5 | B11: 14.5 | C11: 2.5 | D11: 8.5 | E11: 1.5
