Workbook
Name Fournisseur1: base!$D$5:$D$7
Name Fournisseur2: base!$E$5:$E$7
Name Fournisseur3: base!$F$5:$F$7
Name Fournisseurs: base!$B$5:$B$7
Name Mouvements: base!$H$5:$H$7
Name Papier1: base!$D$14:$D$16
Name papier2: base!$E$14:$E$16
Name Papier3: base!$F$14:$F$16
Name papier4: base!$G$14:$G$16
Name Papier5: base!$H$14:$H$16
Name Papier6: base!$I$14:$I$16
Name Papier7: base!$J$14:$J$16
Name Papier8: base!$K$14:$K$16
Name Papier9: base!$L$14:$L$16

Sheet Mouvements
B2: N° dossier | C2: Client | D2: Date | E2: fournisseur | F2: Mouvement | G2: Référence papier | H2: Laize | I2: Quantité
B4: e1 | D4: 43055 | E4: Fournisseur1 | F4: Entrée | G4: papier1 | H4: 333
B5: R2 | D5: 43055 | E5: Fournisseur1 | F5: Réservation | G5: papier1 | H5: 333 | I5: 2001
B6: e3 | D6: 43055 | E6: Fournisseur3 | F6: Entrée | G6: Papier7 | H6: 240 | I6: 0
B7: r4 | D7: 43055 | E7: Fournisseur3 | F7: Réservation | G7: Papier7 | H7: 240 | I7: 1500
B8: r5 | D8: 43055 | E8: Fournisseur3 | F8: Réservation | G8: Papier7 | H8: 240 | I8: 1500

Sheet base
B4: Fournisseurs | D4: papier | H4: Mouvements
B5: Fournisseur1 | D5: papier1 | E5: papier4 | F5: Papier7 | H5: Entrée
B6: Fournisseur2 | D6: Papier2 | E6: Papier5 | F6: Papier8 | H6: Réservation
B7: Fournisseur3 | D7: Papier3 | E7: Papier6 | F7: Papier9 | H7: Sortie
D13: papier1 | E13: papier2 | F13: Papier3 | G13: papier4 | H13: Papier5 | I13: Papier6 | J13: Papier7 | K13: Papier8 | L13: Papier9
D14: 333 | E14: 150 | F14: 280 | G14: 333 | H14: 260 | I14: 200 | J14: 240 | K14: 300 | L14: 150
D15: 280 | E15: 140 | F15: 260 | G15: 145 | H15: 210 | I15: 190 | J15: 120 | K15: 280 | L15: 145
D16: 260 | E16: 120 | F16: 145 | G16: 140 | H16: 160 | I16: 120 | J16: 100 | K16: 260 | L16: 100

Sheet Fournisseur1
B2: Référence papier | C2: Laize | D2: Stock Initial | E2: Entrée | F2: Réservation | G2: Sortie | H2: Stock théorique | I2: Stock réel
B4: papier1 | C4: 333 | D4: 0 | E4: =SUMIFS(Mouvements!$I$4:$I$7,Mouvements!$E$4:$E$7,"Fournisseur1",Mouvements!$F$4:$F$7,"Entrée",Mouvements!$G$4:$G$7,B4,Mouvements!$H$4:$H$7,C4) -> 0 | F4: =SUMIFS(Mouvements!$I$4:$I$7,Mouvements!$E$4:$E$7,"Fournisseur1",Mouvements!$F$4:$F$7,"Réservation",Mouvements!$G$4:$G$7,$B$4,Mouvements!$H$4:$H$7,$C$4) -> 2001 | G4: =SUMIFS(Mouvements!$I$4:$I$7,Mouvements!$E$4:$E$7,"Fournisseur1",Mouvements!$F$4:$F$7,"Sortie",Mouvements!$G$4:$G$7,$B$4,Mouvements!$H$4:$H$7,$C$4) -> 0 | H4: =D4+E4-F4 -> -2001 | I4: =D4+E4-G4 -> 0
B5: papier1 | C5: 280 | D5: 0 | E5: =SUMIFS(Mouvements!$I$4:$I$7,Mouvements!$E$4:$E$7,"Fournisseur1",Mouvements!$F$4:$F$7,"Entrée",Mouvements!$G$4:$G$7,B5,Mouvements!$H$4:$H$7,C5) -> 0 | F5: =SUMIFS(Mouvements!$I$4:$I$7,Mouvements!$E$4:$E$7,"Fournisseur1",Mouvements!$F$4:$F$7,"Réservation",Mouvements!$G$4:$G$7,B5,Mouvements!$H$4:$H$7,C5) -> 0 | G5: =SUMIFS(Mouvements!$I$4:$I$7,Mouvements!$E$4:$E$7,"Fournisseur1",Mouvements!$F$4:$F$7,"Sortie",Mouvements!$G$4:$G$7,$B$4,Mouvements!$H$4:$H$7,$C$4) -> 0 | H5: =D5+E5-F5 -> 0 | I5: =D5+E5-G5 -> 0
B6: papier1 | C6: 260 | D6: 0 | E6: =SUMIFS(Mouvements!$I$4:$I$7,Mouvements!$E$4:$E$7,"Fournisseur1",Mouvements!$F$4:$F$7,"Entrée",Mouvements!$G$4:$G$7,B6,Mouvements!$H$4:$H$7,C6) -> 0 | F6: =SUMIFS(Mouvements!$I$4:$I$7,Mouvements!$E$4:$E$7,"Fournisseur1",Mouvements!$F$4:$F$7,"Réservation",Mouvements!$G$4:$G$7,B6,Mouvements!$H$4:$H$7,C6) -> 0 | G6: =SUMIFS(Mouvements!$I$4:$I$7,Mouvements!$E$4:$E$7,"Fournisseur1",Mouvements!$F$4:$F$7,"Sortie",Mouvements!$G$4:$G$7,$B$4,Mouvements!$H$4:$H$7,$C$4) -> 0 | H6: =D6+E6-F6 -> 0 | I6: 0
B7: Papier2 | C7: 150 | D7: 0 | E7: =SUMIFS(Mouvements!$I$4:$I$7,Mouvements!$E$4:$E$7,"Fournisseur1",Mouvements!$F$4:$F$7,"Entrée",Mouvements!$G$4:$G$7,B7,Mouvements!$H$4:$H$7,C7) -> 0 | F7: =SUMIFS(Mouvements!$I$4:$I$7,Mouvements!$E$4:$E$7,"Fournisseur1",Mouvements!$F$4:$F$7,"Réservation",Mouvements!$G$4:$G$7,B7,Mouvements!$H$4:$H$7,C7) -> 0 | G7: =SUMIFS(Mouvements!$I$4:$I$7,Mouvements!$E$4:$E$7,"Fournisseur1",Mouvements!$F$4:$F$7,"Sortie",Mouvements!$G$4:$G$7,$B$4,Mouvements!$H$4:$H$7,$C$4) -> 0 | H7: =D7+E7-F7 -> 0 | I7: 0
B8: Papier2 | C8: 140 | D8: 0 | E8: =SUMIFS(Mouvements!$I$4:$I$7,Mouvements!$E$4:$E$7,"Fournisseur1",Mouvements!$F$4:$F$7,"Entrée",Mouvements!$G$4:$G$7,B8,Mouvements!$H$4:$H$7,C8) -> 0 | F8: =SUMIFS(Mouvements!$I$4:$I$7,Mouvements!$E$4:$E$7,"Fournisseur1",Mouvements!$F$4:$F$7,"Réservation",Mouvements!$G$4:$G$7,B8,Mouvements!$H$4:$H$7,C8) -> 0 | G8: =SUMIFS(Mouvements!$I$4:$I$7,Mouvements!$E$4:$E$7,"Fournisseur1",Mouvements!$F$4:$F$7,"Sortie",Mouvements!$G$4:$G$7,$B$4,Mouvements!$H$4:$H$7,$C$4) -> 0 | H8: =D8+E8-F8 -> 0 | I8: 0
B9: Papier2 | C9: 120 | D9: 0 | E9: =SUMIFS(Mouvements!$I$4:$I$7,Mouvements!$E$4:$E$7,"Fournisseur1",Mouvements!$F$4:$F$7,"Entrée",Mouvements!$G$4:$G$7,B9,Mouvements!$H$4:$H$7,C9) -> 0 | F9: =SUMIFS(Mouvements!$I$4:$I$7,Mouvements!$E$4:$E$7,"Fournisseur1",Mouvements!$F$4:$F$7,"Réservation",Mouvements!$G$4:$G$7,B9,Mouvements!$H$4:$H$7,C9) -> 0 | G9: =SUMIFS(Mouvements!$I$4:$I$7,Mouvements!$E$4:$E$7,"Fournisseur1",Mouvements!$F$4:$F$7,"Sortie",Mouvements!$G$4:$G$7,$B$4,Mouvements!$H$4:$H$7,$C$4) -> 0 | H9: =D9+E9-F9 -> 0 | I9: 0

Sheet Fournisseur2
B2: Référence papier | C2: Laize | D2: Stock Initial | E2: Entrée | F2: Réservation | G2: Sortie | H2: Stock théorique | I2: Stock réel
B4: papier4 | C4: 333 | D4: 0 | E4: =SUMIFS(Mouvements!$I$4:$I$7,Mouvements!$E$4:$E$7,"Fournisseur2",Mouvements!$F$4:$F$7,"Entrée",Mouvements!$G$4:$G$7,B4,Mouvements!$H$4:$H$7,C4) -> 0 | F4: =SUMIFS(Mouvements!$I$4:$I$7,Mouvements!$E$4:$E$7,"Fournisseur2",Mouvements!$F$4:$F$7,"Réservation",Mouvements!$G$4:$G$7,B4,Mouvements!$H$4:$H$7,C4) -> 0 | G4: =SUMIFS(Mouvements!$I$4:$I$7,Mouvements!$E$4:$E$7,"Fournisseur2",Mouvements!$F$4:$F$7,"Réservation",Mouvements!$G$4:$G$7,B4,Mouvements!$H$4:$H$7,C4) -> 0 | H4: =D4+E4-F4-G4 -> 0 | I4: =D4+E4-G4 -> 0
B5: Papier5 | C5: 260 | D5: 0 | E5: =SUMIFS(Mouvements!$I$4:$I$7,Mouvements!$E$4:$E$7,"Fournisseur2",Mouvements!$F$4:$F$7,"Entrée",Mouvements!$G$4:$G$7,B5,Mouvements!$H$4:$H$7,C5) -> 0 | F5: =SUMIFS(Mouvements!$I$4:$I$7,Mouvements!$E$4:$E$7,"Fournisseur2",Mouvements!$F$4:$F$7,"Réservation",Mouvements!$G$4:$G$7,B5,Mouvements!$H$4:$H$7,C5) -> 0 | G5: =SUMIFS(Mouvements!$I$4:$I$7,Mouvements!$E$4:$E$7,"Fournisseur2",Mouvements!$F$4:$F$7,"Réservation",Mouvements!$G$4:$G$7,B5,Mouvements!$H$4:$H$7,C5) -> 0 | H5: =D5+E5-F5-G5 -> 0 | I5: =D5+E5-G5 -> 0
B6: Papier6 | C6: 200 | D6: 0 | E6: =SUMIFS(Mouvements!$I$4:$I$7,Mouvements!$E$4:$E$7,"Fournisseur2",Mouvements!$F$4:$F$7,"Entrée",Mouvements!$G$4:$G$7,B6,Mouvements!$H$4:$H$7,C6) -> 0 | F6: =SUMIFS(Mouvements!$I$4:$I$7,Mouvements!$E$4:$E$7,"Fournisseur2",Mouvements!$F$4:$F$7,"Réservation",Mouvements!$G$4:$G$7,B6,Mouvements!$H$4:$H$7,C6) -> 0 | G6: =SUMIFS(Mouvements!$I$4:$I$7,Mouvements!$E$4:$E$7,"Fournisseur2",Mouvements!$F$4:$F$7,"Réservation",Mouvements!$G$4:$G$7,B6,Mouvements!$H$4:$H$7,C6) -> 0 | H6: 0 | I6: 0

Sheet Fournisseur3
B2: Référence papier | C2: Laize | D2: Stock Initial | E2: Entrée | F2: Réservation | G2: Sortie | H2: Stock théorique | I2: Stock réel
B4: Papier7 | C4: 240 | D4: 0 | E4: =SUMIFS(Mouvements!$I$4:$I$7,Mouvements!$E$4:$E$7,"Fournisseur3",Mouvements!$F$4:$F$7,"Entrée",Mouvements!$G$4:$G$7,B4,Mouvements!$H$4:$H$7,C4) -> 0 | F4: =SUMIFS(Mouvements!$I$4:$I$8,Mouvements!$E$4:$E$8,"Fournisseur3",Mouvements!$F$4:$F$8,"Réservation",Mouvements!$G$4:$G$8,B4,Mouvements!$H$4:$H$8,C4) -> 3000 | G4: =SUMIFS(Mouvements!$I$4:$I$7,Mouvements!$E$4:$E$7,"Fournisseur3",Mouvements!$F$4:$F$7,"Sortie",Mouvements!$G$4:$G$7,B4,Mouvements!$H$4:$H$7,C4) -> 0 | H4: =D4+E4-F4-G4 -> -3000 | I4: =D4+E4-G4 -> 0
B5: Papier8 | C5: 300 | D5: 0 | E5: =SUMIFS(Mouvements!$I$4:$I$7,Mouvements!$E$4:$E$7,"Fournisseur3",Mouvements!$F$4:$F$7,"Entrée",Mouvements!$G$4:$G$7,B5,Mouvements!$H$4:$H$7,C5) -> 0 | F5: =SUMIFS(Mouvements!$I$4:$I$7,Mouvements!$E$4:$E$7,"Fournisseur3",Mouvements!$F$4:$F$7,"Réservation",Mouvements!$G$4:$G$7,B5,Mouvements!$H$4:$H$7,C5) -> 0 | G5: =SUMIFS(Mouvements!$I$4:$I$7,Mouvements!$E$4:$E$7,"Fournisseur3",Mouvements!$F$4:$F$7,"Sortie",Mouvements!$G$4:$G$7,B5,Mouvements!$H$4:$H$7,C5) -> 0 | H5: =D5+E5-F5-G5 -> 0 | I5: =D5+E5-G5 -> 0
B6: Papier9 | C6: 150 | D6: 0 | E6: =SUMIFS(Mouvements!$I$4:$I$7,Mouvements!$E$4:$E$7,"Fournisseur3",Mouvements!$F$4:$F$7,"Entrée",Mouvements!$G$4:$G$7,B6,Mouvements!$H$4:$H$7,C6) -> 0 | F6: =SUMIFS(Mouvements!$I$4:$I$7,Mouvements!$E$4:$E$7,"Fournisseur3",Mouvements!$F$4:$F$7,"Réservation",Mouvements!$G$4:$G$7,B6,Mouvements!$H$4:$H$7,C6) -> 0 | G6: =SUMIFS(Mouvements!$I$4:$I$7,Mouvements!$E$4:$E$7,"Fournisseur3",Mouvements!$F$4:$F$7,"Sortie",Mouvements!$G$4:$G$7,B6,Mouvements!$H$4:$H$7,C6) -> 0 | H6: 0 | I6: 0
