Workbook

Sheet Importcsv
D1: Methode n°1 | F1: Methode n°2
A2: OT - CODE OEIE | B2: CRI - ASP | C2: FF - ETAT GDP | D2: POTEAUX | E2: CABLE | F2: POTEAUX | G2: CABLE
A3: 700119 | B3: DETCAx470.6 DETCAx858.5 DETCAx534.9 DETGTx15 DPCA1x534.9 DPCA1x470.6 DPCA1x838.5 DPGT1x15 | C3: Validée GDP | D3: =IF(SUMPRODUCT(--ISNUMBER(SEARCH(Artptx!$A$2:$A$82,$B3)))=0,"",INDEX(Artptx!$I$2:$I$82,SUMPRODUCT(--ISNUMBER(SEARCH(Artptx!$A$2:$A$82,$B3))*(ROW(Artptx!$A$2:$A$82))))) | E3: =IF(SUMPRODUCT(--ISNUMBER(SEARCH(Artcabl!$A$2:$A$697,$B3)))=0,"",INDEX(Artcabl!$I$2:$I$697,SUMPRODUCT(--ISNUMBER(SEARCH(Artcabl!$A$2:$A$697,$B3))*(ROW(Artcabl!$A$2:$A$697))))) -> câblage | F3: =IF(ISERROR(SEARCH(Artptx!$A$2:$A$82,$B3)),"","Poteau") | G3: =IF(ISERROR(SEARCH(Artcabl!$A$2:$A$697,$B3)),"","Cable")
A4: 800273 | B4: 4B204x37 4B206x1 ECLFOx1 EFM3x1 ISB22x1 NTUBx19 PBV33x1 PFB10x501 RFE2x114 | C4: Attente de validation | D4: =IF(SUMPRODUCT(--ISNUMBER(SEARCH(Artptx!$A$2:$A$82,$B4)))=0,"",INDEX(Artptx!$I$2:$I$82,SUMPRODUCT(--ISNUMBER(SEARCH(Artptx!$A$2:$A$82,$B4))*(ROW(Artptx!$A$2:$A$82))))) | E4: =IF(SUMPRODUCT(--ISNUMBER(SEARCH(Artcabl!$A$2:$A$697,$B4)))=0,"",INDEX(Artcabl!$I$2:$I$697,SUMPRODUCT(--ISNUMBER(SEARCH(Artcabl!$A$2:$A$697,$B4))*(ROW(Artcabl!$A$2:$A$697))))) -> #REF! | F4: =IF(ISERROR(SEARCH(Artptx!$A$2:$A$82,$B4)),"","Poteau") | G4: =IF(ISERROR(SEARCH(Artcabl!$A$2:$A$697,$B4)),"","Cable")
A5: 700625 | B5: x10 x2 x2100 4B303x7 4B308x1 4B704x14 BCDEx1 BTDEx1 DOM10x7 DOM10x25 DOM21x69 DOM21x247 DOM21x60 MSDEx2 MUTBEx2 MUTBEx1 MUTBRx3 MUTBRx26 NBDR3x6 NBDR3x2 PCS1x3 PMC10x165 PMC10x88 PMC10x53 PMC11x100 RPES1x3 | C5: Transférable | D5: =IF(SUMPRODUCT(--ISNUMBER(SEARCH(Artptx!$A$2:$A$82,$B5)))=0,"",INDEX(Artptx!$I$2:$I$82,SUMPRODUCT(--ISNUMBER(SEARCH(Artptx!$A$2:$A$82,$B5))*(ROW(Artptx!$A$2:$A$82))))) -> #REF! | E5: =IF(SUMPRODUCT(--ISNUMBER(SEARCH(Artcabl!$A$2:$A$697,$B5)))=0,"",INDEX(Artcabl!$I$2:$I$697,SUMPRODUCT(--ISNUMBER(SEARCH(Artcabl!$A$2:$A$697,$B5))*(ROW(Artcabl!$A$2:$A$697))))) -> #REF! | F5: =IF(ISERROR(SEARCH(Artptx!$A$2:$A$82,$B5)),"","Poteau") | G5: =IF(ISERROR(SEARCH(Artcabl!$A$2:$A$697,$B5)),"","Cable")
A6: 700145 | B6: MUTBRx1 x2 x110 4B308x1 DOM11x193 DPESx2 PCS2x2 PMC22x86 PMC21x4 RCPP1x112 RCPP1x112 RPES2x2 TSL00x1 | C6: Rejetée GDP | D6: =IF(SUMPRODUCT(--ISNUMBER(SEARCH(Artptx!$A$2:$A$82,$B6)))=0,"",INDEX(Artptx!$I$2:$I$82,SUMPRODUCT(--ISNUMBER(SEARCH(Artptx!$A$2:$A$82,$B6))*(ROW(Artptx!$A$2:$A$82))))) | E6: =IF(SUMPRODUCT(--ISNUMBER(SEARCH(Artcabl!$A$2:$A$697,$B6)))=0,"",INDEX(Artcabl!$I$2:$I$697,SUMPRODUCT(--ISNUMBER(SEARCH(Artcabl!$A$2:$A$697,$B6))*(ROW(Artcabl!$A$2:$A$697))))) -> #REF! | F6: =IF(ISERROR(SEARCH(Artptx!$A$2:$A$82,$B6)),"","Poteau") | G6: =IF(ISERROR(SEARCH(Artcabl!$A$2:$A$697,$B6)),"","Cable")
A7: 800301 | B7: x7 x1 4B301x1 DOM21x12 PMC21x16 QDC28x1 | C7: Attente de validation | D7: =IF(SUMPRODUCT(--ISNUMBER(SEARCH(Artptx!$A$2:$A$82,$B7)))=0,"",INDEX(Artptx!$I$2:$I$82,SUMPRODUCT(--ISNUMBER(SEARCH(Artptx!$A$2:$A$82,$B7))*(ROW(Artptx!$A$2:$A$82))))) | E7: =IF(SUMPRODUCT(--ISNUMBER(SEARCH(Artcabl!$A$2:$A$697,$B7)))=0,"",INDEX(Artcabl!$I$2:$I$697,SUMPRODUCT(--ISNUMBER(SEARCH(Artcabl!$A$2:$A$697,$B7))*(ROW(Artcabl!$A$2:$A$697))))) -> #REF! | F7: =IF(ISERROR(SEARCH(Artptx!$A$2:$A$82,$B7)),"","Poteau") | G7: =IF(ISERROR(SEARCH(Artcabl!$A$2:$A$697,$B7)),"","Cable")
A8: 700204 | B8: 4B303x3 BCDEx2 BSDEx2 DAPCOx6 DHAFx2 DOM10x15 DOM10x20 DOM21x85 DOM21x125 MUTBRx18 NBDR3x1 NDC14x1 NDC28x1 PCS1x2 PMC10x65 PMC10x130 RCPP1x12 RPES1x1 | C8: Transférable | D8: =IF(SUMPRODUCT(--ISNUMBER(SEARCH(Artptx!$A$2:$A$82,$B8)))=0,"",INDEX(Artptx!$I$2:$I$82,SUMPRODUCT(--ISNUMBER(SEARCH(Artptx!$A$2:$A$82,$B8))*(ROW(Artptx!$A$2:$A$82))))) -> #REF! | E8: =IF(SUMPRODUCT(--ISNUMBER(SEARCH(Artcabl!$A$2:$A$697,$B8)))=0,"",INDEX(Artcabl!$I$2:$I$697,SUMPRODUCT(--ISNUMBER(SEARCH(Artcabl!$A$2:$A$697,$B8))*(ROW(Artcabl!$A$2:$A$697))))) -> #REF! | F8: =IF(ISERROR(SEARCH(Artptx!$A$2:$A$82,$B8)),"","Poteau") | G8: =IF(ISERROR(SEARCH(Artcabl!$A$2:$A$697,$B8)),"","Cable")
A9: 800059 | B9: x2 4B102x1 4E812x3 DOM21x50 PCS1x2 PMC10x51 RCPP1x14 RCPP1x14 RPES1x2 | C9: Rejetée GDP | D9: =IF(SUMPRODUCT(--ISNUMBER(SEARCH(Artptx!$A$2:$A$82,$B9)))=0,"",INDEX(Artptx!$I$2:$I$82,SUMPRODUCT(--ISNUMBER(SEARCH(Artptx!$A$2:$A$82,$B9))*(ROW(Artptx!$A$2:$A$82))))) | E9: =IF(SUMPRODUCT(--ISNUMBER(SEARCH(Artcabl!$A$2:$A$697,$B9)))=0,"",INDEX(Artcabl!$I$2:$I$697,SUMPRODUCT(--ISNUMBER(SEARCH(Artcabl!$A$2:$A$697,$B9))*(ROW(Artcabl!$A$2:$A$697))))) -> #REF! | F9: =IF(ISERROR(SEARCH(Artptx!$A$2:$A$82,$B9)),"","Poteau") | G9: =IF(ISERROR(SEARCH(Artcabl!$A$2:$A$697,$B9)),"","Cable")
A10: 800429 | B10: BSDEx6 BSDEx1 BTDEx1 BTDEx2 | C10: Validée GDP | D10: =IF(SUMPRODUCT(--ISNUMBER(SEARCH(Artptx!$A$2:$A$82,$B10)))=0,"",INDEX(Artptx!$I$2:$I$82,SUMPRODUCT(--ISNUMBER(SEARCH(Artptx!$A$2:$A$82,$B10))*(ROW(Artptx!$A$2:$A$82))))) -> poteau | E10: =IF(SUMPRODUCT(--ISNUMBER(SEARCH(Artcabl!$A$2:$A$697,$B10)))=0,"",INDEX(Artcabl!$I$2:$I$697,SUMPRODUCT(--ISNUMBER(SEARCH(Artcabl!$A$2:$A$697,$B10))*(ROW(Artcabl!$A$2:$A$697))))) | F10: =IF(ISERROR(SEARCH(Artptx!$A$2:$A$82,$B10)),"","Poteau") | G10: =IF(ISERROR(SEARCH(Artcabl!$A$2:$A$697,$B10)),"","Cable")
A11: 800054 | B11: DOM10x51 PCS1x4 PMC10x86 PMC10x85 RCPP1x28 RCPP1x112 RPES1x4 | C11: Transférable | D11: =IF(SUMPRODUCT(--ISNUMBER(SEARCH(Artptx!$A$2:$A$82,$B11)))=0,"",INDEX(Artptx!$I$2:$I$82,SUMPRODUCT(--ISNUMBER(SEARCH(Artptx!$A$2:$A$82,$B11))*(ROW(Artptx!$A$2:$A$82))))) | E11: =IF(SUMPRODUCT(--ISNUMBER(SEARCH(Artcabl!$A$2:$A$697,$B11)))=0,"",INDEX(Artcabl!$I$2:$I$697,SUMPRODUCT(--ISNUMBER(SEARCH(Artcabl!$A$2:$A$697,$B11))*(ROW(Artcabl!$A$2:$A$697))))) -> #REF! | F11: =IF(ISERROR(SEARCH(Artptx!$A$2:$A$82,$B11)),"","Poteau") | G11: =IF(ISERROR(SEARCH(Artcabl!$A$2:$A$697,$B11)),"","Cable")
A12: 500959 | B12: x1200 PRCBNx23 PRCBRx6 | C12: Attente de validation | D12: =IF(SUMPRODUCT(--ISNUMBER(SEARCH(Artptx!$A$2:$A$82,$B12)))=0,"",INDEX(Artptx!$I$2:$I$82,SUMPRODUCT(--ISNUMBER(SEARCH(Artptx!$A$2:$A$82,$B12))*(ROW(Artptx!$A$2:$A$82))))) | E12: =IF(SUMPRODUCT(--ISNUMBER(SEARCH(Artcabl!$A$2:$A$697,$B12)))=0,"",INDEX(Artcabl!$I$2:$I$697,SUMPRODUCT(--ISNUMBER(SEARCH(Artcabl!$A$2:$A$697,$B12))*(ROW(Artcabl!$A$2:$A$697))))) -> #REF! | F12: =IF(ISERROR(SEARCH(Artptx!$A$2:$A$82,$B12)),"","Poteau") | G12: =IF(ISERROR(SEARCH(Artcabl!$A$2:$A$697,$B12)),"","Cable")
A13: 800274 | B13: x3 x1 x1 x1 x1 4E303x322 4E304x322 DOM11x16 DOM11x86 DPESx4 DRACx112 PCS2x6 PMC10x178 PMC11x12 PMC11x86 PMC11x12 PMC12x105 RCPP1x2688 RPES2x2 RPES3x3 | C13: Attente de validation | D13: =IF(SUMPRODUCT(--ISNUMBER(SEARCH(Artptx!$A$2:$A$82,$B13)))=0,"",INDEX(Artptx!$I$2:$I$82,SUMPRODUCT(--ISNUMBER(SEARCH(Artptx!$A$2:$A$82,$B13))*(ROW(Artptx!$A$2:$A$82))))) | E13: =IF(SUMPRODUCT(--ISNUMBER(SEARCH(Artcabl!$A$2:$A$697,$B13)))=0,"",INDEX(Artcabl!$I$2:$I$697,SUMPRODUCT(--ISNUMBER(SEARCH(Artcabl!$A$2:$A$697,$B13))*(ROW(Artcabl!$A$2:$A$697))))) -> #REF! | F13: =IF(ISERROR(SEARCH(Artptx!$A$2:$A$82,$B13)),"","Poteau") | G13: =IF(ISERROR(SEARCH(Artcabl!$A$2:$A$697,$B13)),"","Cable")
A14: 600892 | B14: x16 x750 4B301x2 4B303x6 4B710x9 4E808x36 DOM10x40 DOM10x70 DOM21x20 DPESx4 MUTBEx22 MUTBRx12 NBDR3x10 NDC14x1 NDC28x1 PMC10x307 RCPP1x2 RCPP1x7 PCS1x3 RCPP1x2 RCPP1x4 RCPP1x7 RCPP1x5 RCPP1x7 RPES1x7 | C14: Transférable | D14: =IF(SUMPRODUCT(--ISNUMBER(SEARCH(Artptx!$A$2:$A$82,$B14)))=0,"",INDEX(Artptx!$I$2:$I$82,SUMPRODUCT(--ISNUMBER(SEARCH(Artptx!$A$2:$A$82,$B14))*(ROW(Artptx!$A$2:$A$82))))) -> poteau | E14: =IF(SUMPRODUCT(--ISNUMBER(SEARCH(Artcabl!$A$2:$A$697,$B14)))=0,"",INDEX(Artcabl!$I$2:$I$697,SUMPRODUCT(--ISNUMBER(SEARCH(Artcabl!$A$2:$A$697,$B14))*(ROW(Artcabl!$A$2:$A$697))))) -> #REF! | F14: =IF(ISERROR(SEARCH(Artptx!$A$2:$A$82,$B14)),"","Poteau") | G14: =IF(ISERROR(SEARCH(Artcabl!$A$2:$A$697,$B14)),"","Cable") -> Cable
... A133: 800323 | B133: BCDRx1 BCPRx1 | C133: Rejetée GDP | D133: =IF(SUMPRODUCT(--ISNUMBER(SEARCH(Artptx!$A$2:$A$82,$B133)))=0,"",INDEX(Artptx!$I$2:$I$82,SUMPRODUCT(--ISNUMBER(SEARCH(Artptx!$A$2:$A$82,$B133))*(ROW(Artptx!$A$2:$A$82))))) -> poteau | E133: =IF(SUMPRODUCT(--ISNUMBER(SEARCH(Artcabl!$A$2:$A$697,$B133)))=0,"",INDEX(Artcabl!$I$2:$I$697,SUMPRODUCT(--ISNUMBER(SEARCH(Artcabl!$A$2:$A$697,$B133))*(ROW(Artcabl!$A$2:$A$697))))) | F133: =IF(ISERROR(SEARCH(Artptx!$A$2:$A$82,$B133)),"","Poteau") | G133: =IF(ISERROR(SEARCH(Artcabl!$A$2:$A$697,$B133)),"","Cable")
B134: LCMAEx2 | C134: Transférable | D134: =IF(SUMPRODUCT(--ISNUMBER(SEARCH(Artptx!$A$2:$A$82,$B134)))=0,"",INDEX(Artptx!$I$2:$I$82,SUMPRODUCT(--ISNUMBER(SEARCH(Artptx!$A$2:$A$82,$B134))*(ROW(Artptx!$A$2:$A$82))))) | E134: =IF(SUMPRODUCT(--ISNUMBER(SEARCH(Artcabl!$A$2:$A$697,$B134)))=0,"",INDEX(Artcabl!$I$2:$I$697,SUMPRODUCT(--ISNUMBER(SEARCH(Artcabl!$A$2:$A$697,$B134))*(ROW(Artcabl!$A$2:$A$697))))) -> câblage | F134: =IF(ISERROR(SEARCH(Artptx!$A$2:$A$82,$B134)),"","Poteau") | G134: =IF(ISERROR(SEARCH(Artcabl!$A$2:$A$697,$B134)),"","Cable")
A135: 800343 | B135: LCMAEx1 | C135: Attente de validation | D135: =IF(SUMPRODUCT(--ISNUMBER(SEARCH(Artptx!$A$2:$A$82,$B135)))=0,"",INDEX(Artptx!$I$2:$I$82,SUMPRODUCT(--ISNUMBER(SEARCH(Artptx!$A$2:$A$82,$B135))*(ROW(Artptx!$A$2:$A$82))))) | E135: =IF(SUMPRODUCT(--ISNUMBER(SEARCH(Artcabl!$A$2:$A$697,$B135)))=0,"",INDEX(Artcabl!$I$2:$I$697,SUMPRODUCT(--ISNUMBER(SEARCH(Artcabl!$A$2:$A$697,$B135))*(ROW(Artcabl!$A$2:$A$697))))) -> câblage | F135: =IF(ISERROR(SEARCH(Artptx!$A$2:$A$82,$B135)),"","Poteau") | G135: =IF(ISERROR(SEARCH(Artcabl!$A$2:$A$697,$B135)),"","Cable")
A136: 800343 | B136: LCMAEx1 PCA2x2 PMC50x200 RPEA2x2 | C136: Attente de validation | D136: =IF(SUMPRODUCT(--ISNUMBER(SEARCH(Artptx!$A$2:$A$82,$B136)))=0,"",INDEX(Artptx!$I$2:$I$82,SUMPRODUCT(--ISNUMBER(SEARCH(Artptx!$A$2:$A$82,$B136))*(ROW(Artptx!$A$2:$A$82))))) | E136: =IF(SUMPRODUCT(--ISNUMBER(SEARCH(Artcabl!$A$2:$A$697,$B136)))=0,"",INDEX(Artcabl!$I$2:$I$697,SUMPRODUCT(--ISNUMBER(SEARCH(Artcabl!$A$2:$A$697,$B136))*(ROW(Artcabl!$A$2:$A$697))))) -> #REF! | F136: =IF(ISERROR(SEARCH(Artptx!$A$2:$A$82,$B136)),"","Poteau") | G136: =IF(ISERROR(SEARCH(Artcabl!$A$2:$A$697,$B136)),"","Cable")
A137: 800343 | B137: SPCCx1 | C137: Attente de validation | D137: =IF(SUMPRODUCT(--ISNUMBER(SEARCH(Artptx!$A$2:$A$82,$B137)))=0,"",INDEX(Artptx!$I$2:$I$82,SUMPRODUCT(--ISNUMBER(SEARCH(Artptx!$A$2:$A$82,$B137))*(ROW(Artptx!$A$2:$A$82))))) | E137: =IF(SUMPRODUCT(--ISNUMBER(SEARCH(Artcabl!$A$2:$A$697,$B137)))=0,"",INDEX(Artcabl!$I$2:$I$697,SUMPRODUCT(--ISNUMBER(SEARCH(Artcabl!$A$2:$A$697,$B137))*(ROW(Artcabl!$A$2:$A$697))))) -> câblage | F137: =IF(ISERROR(SEARCH(Artptx!$A$2:$A$82,$B137)),"","Poteau") | G137: =IF(ISERROR(SEARCH(Artcabl!$A$2:$A$697,$B137)),"","Cable")
A138: 800343 | B138: LCMAEx1 | C138: Attente de validation | D138: =IF(SUMPRODUCT(--ISNUMBER(SEARCH(Artptx!$A$2:$A$82,$B138)))=0,"",INDEX(Artptx!$I$2:$I$82,SUMPRODUCT(--ISNUMBER(SEARCH(Artptx!$A$2:$A$82,$B138))*(ROW(Artptx!$A$2:$A$82))))) | E138: =IF(SUMPRODUCT(--ISNUMBER(SEARCH(Artcabl!$A$2:$A$697,$B138)))=0,"",INDEX(Artcabl!$I$2:$I$697,SUMPRODUCT(--ISNUMBER(SEARCH(Artcabl!$A$2:$A$697,$B138))*(ROW(Artcabl!$A$2:$A$697))))) -> câblage | F138: =IF(ISERROR(SEARCH(Artptx!$A$2:$A$82,$B138)),"","Poteau") | G138: =IF(ISERROR(SEARCH(Artcabl!$A$2:$A$697,$B138)),"","Cable")
A139: 800310 | B139: x90 4E813x2 BSPRx1 BTDRx1 | C139: Rejetée GDP | D139: =IF(SUMPRODUCT(--ISNUMBER(SEARCH(Artptx!$A$2:$A$82,$B139)))=0,"",INDEX(Artptx!$I$2:$I$82,SUMPRODUCT(--ISNUMBER(SEARCH(Artptx!$A$2:$A$82,$B139))*(ROW(Artptx!$A$2:$A$82))))) -> poteau | E139: =IF(SUMPRODUCT(--ISNUMBER(SEARCH(Artcabl!$A$2:$A$697,$B139)))=0,"",INDEX(Artcabl!$I$2:$I$697,SUMPRODUCT(--ISNUMBER(SEARCH(Artcabl!$A$2:$A$697,$B139))*(ROW(Artcabl!$A$2:$A$697))))) -> câblage | F139: =IF(ISERROR(SEARCH(Artptx!$A$2:$A$82,$B139)),"","Poteau") | G139: =IF(ISERROR(SEARCH(Artcabl!$A$2:$A$697,$B139)),"","Cable")
A140: 800028 | B140: x1 x1 LCMENx1 RPEE1x1 | C140: Attente de validation | D140: =IF(SUMPRODUCT(--ISNUMBER(SEARCH(Artptx!$A$2:$A$82,$B140)))=0,"",INDEX(Artptx!$I$2:$I$82,SUMPRODUCT(--ISNUMBER(SEARCH(Artptx!$A$2:$A$82,$B140))*(ROW(Artptx!$A$2:$A$82))))) | E140: =IF(SUMPRODUCT(--ISNUMBER(SEARCH(Artcabl!$A$2:$A$697,$B140)))=0,"",INDEX(Artcabl!$I$2:$I$697,SUMPRODUCT(--ISNUMBER(SEARCH(Artcabl!$A$2:$A$697,$B140))*(ROW(Artcabl!$A$2:$A$697))))) -> #REF! | F140: =IF(ISERROR(SEARCH(Artptx!$A$2:$A$82,$B140)),"","Poteau") | G140: =IF(ISERROR(SEARCH(Artcabl!$A$2:$A$697,$B140)),"","Cable")
A141: 800343 | B141: DOM21x135 DPEAx1 LCMAEx1 PCA1x2 PMC21x135 RCPP1x28 RPEA1x2 | C141: Attente de validation | D141: =IF(SUMPRODUCT(--ISNUMBER(SEARCH(Artptx!$A$2:$A$82,$B141)))=0,"",INDEX(Artptx!$I$2:$I$82,SUMPRODUCT(--ISNUMBER(SEARCH(Artptx!$A$2:$A$82,$B141))*(ROW(Artptx!$A$2:$A$82))))) | E141: =IF(SUMPRODUCT(--ISNUMBER(SEARCH(Artcabl!$A$2:$A$697,$B141)))=0,"",INDEX(Artcabl!$I$2:$I$697,SUMPRODUCT(--ISNUMBER(SEARCH(Artcabl!$A$2:$A$697,$B141))*(ROW(Artcabl!$A$2:$A$697))))) -> #REF! | F141: =IF(ISERROR(SEARCH(Artptx!$A$2:$A$82,$B141)),"","Poteau") | G141: =IF(ISERROR(SEARCH(Artcabl!$A$2:$A$697,$B141)),"","Cable")
B142: LCMAEx1 ZEROx1 | C142: Transférable | D142: =IF(SUMPRODUCT(--ISNUMBER(SEARCH(Artptx!$A$2:$A$82,$B142)))=0,"",INDEX(Artptx!$I$2:$I$82,SUMPRODUCT(--ISNUMBER(SEARCH(Artptx!$A$2:$A$82,$B142))*(ROW(Artptx!$A$2:$A$82))))) | E142: =IF(SUMPRODUCT(--ISNUMBER(SEARCH(Artcabl!$A$2:$A$697,$B142)))=0,"",INDEX(Artcabl!$I$2:$I$697,SUMPRODUCT(--ISNUMBER(SEARCH(Artcabl!$A$2:$A$697,$B142))*(ROW(Artcabl!$A$2:$A$697))))) -> câblage | F142: =IF(ISERROR(SEARCH(Artptx!$A$2:$A$82,$B142)),"","Poteau") | G142: =IF(ISERROR(SEARCH(Artcabl!$A$2:$A$697,$B142)),"","Cable")
A143: 800323 | B143: x1 x14 x1 4B102x1 4B307x1 4B308x1 BCDRx1 BCPRx1 DOM21x18 MUTBEx4 PCA1x1 PMC21x18 PRT43x1 QDC14x1 RCPP1x28 RPEA1x1 | C143: Rejetée GDP | D143: =IF(SUMPRODUCT(--ISNUMBER(SEARCH(Artptx!$A$2:$A$82,$B143)))=0,"",INDEX(Artptx!$I$2:$I$82,SUMPRODUCT(--ISNUMBER(SEARCH(Artptx!$A$2:$A$82,$B143))*(ROW(Artptx!$A$2:$A$82))))) -> poteau | E143: =IF(SUMPRODUCT(--ISNUMBER(SEARCH(Artcabl!$A$2:$A$697,$B143)))=0,"",INDEX(Artcabl!$I$2:$I$697,SUMPRODUCT(--ISNUMBER(SEARCH(Artcabl!$A$2:$A$697,$B143))*(ROW(Artcabl!$A$2:$A$697))))) -> #REF! | F143: =IF(ISERROR(SEARCH(Artptx!$A$2:$A$82,$B143)),"","Poteau") | G143: =IF(ISERROR(SEARCH(Artcabl!$A$2:$A$697,$B143)),"","Cable")
A144: 800310 | B144: BCDRx1 BSPRx1 | C144: Rejetée GDP | D144: =IF(SUMPRODUCT(--ISNUMBER(SEARCH(Artptx!$A$2:$A$82,$B144)))=0,"",INDEX(Artptx!$I$2:$I$82,SUMPRODUCT(--ISNUMBER(SEARCH(Artptx!$A$2:$A$82,$B144))*(ROW(Artptx!$A$2:$A$82))))) -> poteau | E144: =IF(SUMPRODUCT(--ISNUMBER(SEARCH(Artcabl!$A$2:$A$697,$B144)))=0,"",INDEX(Artcabl!$I$2:$I$697,SUMPRODUCT(--ISNUMBER(SEARCH(Artcabl!$A$2:$A$697,$B144))*(ROW(Artcabl!$A$2:$A$697))))) | F144: =IF(ISERROR(SEARCH(Artptx!$A$2:$A$82,$B144)),"","Poteau") | G144: =IF(ISERROR(SEARCH(Artcabl!$A$2:$A$697,$B144)),"","Cable")
B145: LCMAEx1 | C145: Transférable | D145: =IF(SUMPRODUCT(--ISNUMBER(SEARCH(Artptx!$A$2:$A$82,$B145)))=0,"",INDEX(Artptx!$I$2:$I$82,SUMPRODUCT(--ISNUMBER(SEARCH(Artptx!$A$2:$A$82,$B145))*(ROW(Artptx!$A$2:$A$82))))) | E145: =IF(SUMPRODUCT(--ISNUMBER(SEARCH(Artcabl!$A$2:$A$697,$B145)))=0,"",INDEX(Artcabl!$I$2:$I$697,SUMPRODUCT(--ISNUMBER(SEARCH(Artcabl!$A$2:$A$697,$B145))*(ROW(Artcabl!$A$2:$A$697))))) -> câblage | F145: =IF(ISERROR(SEARCH(Artptx!$A$2:$A$82,$B145)),"","Poteau") | G145: =IF(ISERROR(SEARCH(Artcabl!$A$2:$A$697,$B145)),"","Cable")
B146: LCMAEx1 | C146: Transférable | D146: =IF(SUMPRODUCT(--ISNUMBER(SEARCH(Artptx!$A$2:$A$82,$B146)))=0,"",INDEX(Artptx!$I$2:$I$82,SUMPRODUCT(--ISNUMBER(SEARCH(Artptx!$A$2:$A$82,$B146))*(ROW(Artptx!$A$2:$A$82))))) | E146: =IF(SUMPRODUCT(--ISNUMBER(SEARCH(Artcabl!$A$2:$A$697,$B146)))=0,"",INDEX(Artcabl!$I$2:$I$697,SUMPRODUCT(--ISNUMBER(SEARCH(Artcabl!$A$2:$A$697,$B146))*(ROW(Artcabl!$A$2:$A$697))))) -> câblage | F146: =IF(ISERROR(SEARCH(Artptx!$A$2:$A$82,$B146)),"","Poteau") | G146: =IF(ISERROR(SEARCH(Artcabl!$A$2:$A$697,$B146)),"","Cable")
A147: 800343 | B147: DPEAx3 LCMAEx3 PCA1x1 RCPP1x56 RPEA1x2 RPEA1x1 | C147: Attente de validation | D147: =IF(SUMPRODUCT(--ISNUMBER(SEARCH(Artptx!$A$2:$A$82,$B147)))=0,"",INDEX(Artptx!$I$2:$I$82,SUMPRODUCT(--ISNUMBER(SEARCH(Artptx!$A$2:$A$82,$B147))*(ROW(Artptx!$A$2:$A$82))))) | E147: =IF(SUMPRODUCT(--ISNUMBER(SEARCH(Artcabl!$A$2:$A$697,$B147)))=0,"",INDEX(Artcabl!$I$2:$I$697,SUMPRODUCT(--ISNUMBER(SEARCH(Artcabl!$A$2:$A$697,$B147))*(ROW(Artcabl!$A$2:$A$697))))) -> #REF! | F147: =IF(ISERROR(SEARCH(Artptx!$A$2:$A$82,$B147)),"","Poteau") | G147: =IF(ISERROR(SEARCH(Artcabl!$A$2:$A$697,$B147)),"","Cable")
A148: 800343 | B148: DOM10x150 DPESx2 LCMCOx1 PCS1x2 PMC10x150 RCPP1x28 RPES1x2 | C148: Attente de validation | D148: =IF(SUMPRODUCT(--ISNUMBER(SEARCH(Artptx!$A$2:$A$82,$B148)))=0,"",INDEX(Artptx!$I$2:$I$82,SUMPRODUCT(--ISNUMBER(SEARCH(Artptx!$A$2:$A$82,$B148))*(ROW(Artptx!$A$2:$A$82))))) | E148: =IF(SUMPRODUCT(--ISNUMBER(SEARCH(Artcabl!$A$2:$A$697,$B148)))=0,"",INDEX(Artcabl!$I$2:$I$697,SUMPRODUCT(--ISNUMBER(SEARCH(Artcabl!$A$2:$A$697,$B148))*(ROW(Artcabl!$A$2:$A$697))))) -> #REF! | F148: =IF(ISERROR(SEARCH(Artptx!$A$2:$A$82,$B148)),"","Poteau") | G148: =IF(ISERROR(SEARCH(Artcabl!$A$2:$A$697,$B148)),"","Cable")
A149: 800343 | B149: SPCCx1 | C149: Attente de validation | D149: =IF(SUMPRODUCT(--ISNUMBER(SEARCH(Artptx!$A$2:$A$82,$B149)))=0,"",INDEX(Artptx!$I$2:$I$82,SUMPRODUCT(--ISNUMBER(SEARCH(Artptx!$A$2:$A$82,$B149))*(ROW(Artptx!$A$2:$A$82))))) | E149: =IF(SUMPRODUCT(--ISNUMBER(SEARCH(Artcabl!$A$2:$A$697,$B149)))=0,"",INDEX(Artcabl!$I$2:$I$697,SUMPRODUCT(--ISNUMBER(SEARCH(Artcabl!$A$2:$A$697,$B149))*(ROW(Artcabl!$A$2:$A$697))))) -> câblage | F149: =IF(ISERROR(SEARCH(Artptx!$A$2:$A$82,$B149)),"","Poteau") | G149: =IF(ISERROR(SEARCH(Artcabl!$A$2:$A$697,$B149)),"","Cable")
B150: LCMAEx1 | C150: Transférable | D150: =IF(SUMPRODUCT(--ISNUMBER(SEARCH(Artptx!$A$2:$A$82,$B150)))=0,"",INDEX(Artptx!$I$2:$I$82,SUMPRODUCT(--ISNUMBER(SEARCH(Artptx!$A$2:$A$82,$B150))*(ROW(Artptx!$A$2:$A$82))))) | E150: =IF(SUMPRODUCT(--ISNUMBER(SEARCH(Artcabl!$A$2:$A$697,$B150)))=0,"",INDEX(Artcabl!$I$2:$I$697,SUMPRODUCT(--ISNUMBER(SEARCH(Artcabl!$A$2:$A$697,$B150))*(ROW(Artcabl!$A$2:$A$697))))) -> câblage | F150: =IF(ISERROR(SEARCH(Artptx!$A$2:$A$82,$B150)),"","Poteau") | G150: =IF(ISERROR(SEARCH(Artcabl!$A$2:$A$697,$B150)),"","Cable")
A151: 800343 | B151: SPCCx1 | C151: Attente de validation | D151: =IF(SUMPRODUCT(--ISNUMBER(SEARCH(Artptx!$A$2:$A$82,$B151)))=0,"",INDEX(Artptx!$I$2:$I$82,SUMPRODUCT(--ISNUMBER(SEARCH(Artptx!$A$2:$A$82,$B151))*(ROW(Artptx!$A$2:$A$82))))) | E151: =IF(SUMPRODUCT(--ISNUMBER(SEARCH(Artcabl!$A$2:$A$697,$B151)))=0,"",INDEX(Artcabl!$I$2:$I$697,SUMPRODUCT(--ISNUMBER(SEARCH(Artcabl!$A$2:$A$697,$B151))*(ROW(Artcabl!$A$2:$A$697))))) -> câblage | F151: =IF(ISERROR(SEARCH(Artptx!$A$2:$A$82,$B151)),"","Poteau") | G151: =IF(ISERROR(SEARCH(Artcabl!$A$2:$A$697,$B151)),"","Cable")
A152: 800343 | B152: DPESx1 LCMCOx1 | C152: Attente de validation | D152: =IF(SUMPRODUCT(--ISNUMBER(SEARCH(Artptx!$A$2:$A$82,$B152)))=0,"",INDEX(Artptx!$I$2:$I$82,SUMPRODUCT(--ISNUMBER(SEARCH(Artptx!$A$2:$A$82,$B152))*(ROW(Artptx!$A$2:$A$82))))) | E152: =IF(SUMPRODUCT(--ISNUMBER(SEARCH(Artcabl!$A$2:$A$697,$B152)))=0,"",INDEX(Artcabl!$I$2:$I$697,SUMPRODUCT(--ISNUMBER(SEARCH(Artcabl!$A$2:$A$697,$B152))*(ROW(Artcabl!$A$2:$A$697))))) -> #REF! | F152: =IF(ISERROR(SEARCH(Artptx!$A$2:$A$82,$B152)),"","Poteau") | G152: =IF(ISERROR(SEARCH(Artcabl!$A$2:$A$697,$B152)),"","Cable")
A153: 800343 | B153: LCMAEx1 | C153: Attente de validation | D153: =IF(SUMPRODUCT(--ISNUMBER(SEARCH(Artptx!$A$2:$A$82,$B153)))=0,"",INDEX(Artptx!$I$2:$I$82,SUMPRODUCT(--ISNUMBER(SEARCH(Artptx!$A$2:$A$82,$B153))*(ROW(Artptx!$A$2:$A$82))))) | E153: =IF(SUMPRODUCT(--ISNUMBER(SEARCH(Artcabl!$A$2:$A$697,$B153)))=0,"",INDEX(Artcabl!$I$2:$I$697,SUMPRODUCT(--ISNUMBER(SEARCH(Artcabl!$A$2:$A$697,$B153))*(ROW(Artcabl!$A$2:$A$697))))) -> câblage | F153: =IF(ISERROR(SEARCH(Artptx!$A$2:$A$82,$B153)),"","Poteau") | G153: =IF(ISERROR(SEARCH(Artcabl!$A$2:$A$697,$B153)),"","Cable")
A154: 800343 | B154: LCMAEx1 | C154: Attente de validation | D154: =IF(SUMPRODUCT(--ISNUMBER(SEARCH(Artptx!$A$2:$A$82,$B154)))=0,"",INDEX(Artptx!$I$2:$I$82,SUMPRODUCT(--ISNUMBER(SEARCH(Artptx!$A$2:$A$82,$B154))*(ROW(Artptx!$A$2:$A$82))))) | E154: =IF(SUMPRODUCT(--ISNUMBER(SEARCH(Artcabl!$A$2:$A$697,$B154)))=0,"",INDEX(Artcabl!$I$2:$I$697,SUMPRODUCT(--ISNUMBER(SEARCH(Artcabl!$A$2:$A$697,$B154))*(ROW(Artcabl!$A$2:$A$697))))) -> câblage | F154: =IF(ISERROR(SEARCH(Artptx!$A$2:$A$82,$B154)),"","Poteau") | G154: =IF(ISERROR(SEARCH(Artcabl!$A$2:$A$697,$B154)),"","Cable")
A155: 800343 | B155: SPCCx1 | C155: Attente de validation | D155: =IF(SUMPRODUCT(--ISNUMBER(SEARCH(Artptx!$A$2:$A$82,$B155)))=0,"",INDEX(Artptx!$I$2:$I$82,SUMPRODUCT(--ISNUMBER(SEARCH(Artptx!$A$2:$A$82,$B155))*(ROW(Artptx!$A$2:$A$82))))) | E155: =IF(SUMPRODUCT(--ISNUMBER(SEARCH(Artcabl!$A$2:$A$697,$B155)))=0,"",INDEX(Artcabl!$I$2:$I$697,SUMPRODUCT(--ISNUMBER(SEARCH(Artcabl!$A$2:$A$697,$B155))*(ROW(Artcabl!$A$2:$A$697))))) -> câblage | F155: =IF(ISERROR(SEARCH(Artptx!$A$2:$A$82,$B155)),"","Poteau") | G155: =IF(ISERROR(SEARCH(Artcabl!$A$2:$A$697,$B155)),"","Cable")
A156: 800343 | B156: LCMAEx1 | C156: Attente de validation | D156: =IF(SUMPRODUCT(--ISNUMBER(SEARCH(Artptx!$A$2:$A$82,$B156)))=0,"",INDEX(Artptx!$I$2:$I$82,SUMPRODUCT(--ISNUMBER(SEARCH(Artptx!$A$2:$A$82,$B156))*(ROW(Artptx!$A$2:$A$82))))) | E156: =IF(SUMPRODUCT(--ISNUMBER(SEARCH(Artcabl!$A$2:$A$697,$B156)))=0,"",INDEX(Artcabl!$I$2:$I$697,SUMPRODUCT(--ISNUMBER(SEARCH(Artcabl!$A$2:$A$697,$B156))*(ROW(Artcabl!$A$2:$A$697))))) -> câblage | F156: =IF(ISERROR(SEARCH(Artptx!$A$2:$A$82,$B156)),"","Poteau") | G156: =IF(ISERROR(SEARCH(Artcabl!$A$2:$A$697,$B156)),"","Cable")
A157: 800343 | B157: SPCCx1 | C157: Attente de validation | D157: =IF(SUMPRODUCT(--ISNUMBER(SEARCH(Artptx!$A$2:$A$82,$B157)))=0,"",INDEX(Artptx!$I$2:$I$82,SUMPRODUCT(--ISNUMBER(SEARCH(Artptx!$A$2:$A$82,$B157))*(ROW(Artptx!$A$2:$A$82))))) | E157: =IF(SUMPRODUCT(--ISNUMBER(SEARCH(Artcabl!$A$2:$A$697,$B157)))=0,"",INDEX(Artcabl!$I$2:$I$697,SUMPRODUCT(--ISNUMBER(SEARCH(Artcabl!$A$2:$A$697,$B157))*(ROW(Artcabl!$A$2:$A$697))))) -> câblage | F157: =IF(ISERROR(SEARCH(Artptx!$A$2:$A$82,$B157)),"","Poteau") | G157: =IF(ISERROR(SEARCH(Artcabl!$A$2:$A$697,$B157)),"","Cable")
A158: 800343 | B158: SPCCx1 | C158: Attente de validation | D158: =IF(SUMPRODUCT(--ISNUMBER(SEARCH(Artptx!$A$2:$A$82,$B158)))=0,"",INDEX(Artptx!$I$2:$I$82,SUMPRODUCT(--ISNUMBER(SEARCH(Artptx!$A$2:$A$82,$B158))*(ROW(Artptx!$A$2:$A$82))))) | E158: =IF(SUMPRODUCT(--ISNUMBER(SEARCH(Artcabl!$A$2:$A$697,$B158)))=0,"",INDEX(Artcabl!$I$2:$I$697,SUMPRODUCT(--ISNUMBER(SEARCH(Artcabl!$A$2:$A$697,$B158))*(ROW(Artcabl!$A$2:$A$697))))) -> câblage | F158: =IF(ISERROR(SEARCH(Artptx!$A$2:$A$82,$B158)),"","Poteau") | G158: =IF(ISERROR(SEARCH(Artcabl!$A$2:$A$697,$B158)),"","Cable")
...

Sheet Artptx
A1: Presta | B1: LIBELLE DE LA PRESTATION | C1: UO | D1: Partie | E1: Domaine | F1: CHAPITRE | G1: Activité | H1: Prix en euros | I1: type
A2: 4B702 | B2: IMPOSSIBILITE UTILISATION MOYEN MECANISE | C2: UN | E2: câblage | H2: 44.31 | I2: poteau
A3: 4B703 | B3: PIQUETAGE D'UNE ARTERE AERIENNE / APPUI | C3: UN | E3: câblage | H3: 6.96 | I3: poteau
A4: 4B704 | B4: DEPOSE APPUI FACADE METHODE SCIAGE | C4: UN | E4: câblage | H4: 34.81 | I4: poteau
A5: 4B705 | B5: DEPOSE APPUI FACADE METHODE DESCELLEMENT | C5: UN | E5: câblage | H5: 69.64 | I5: poteau
A6: 4B706 | B6: TRANSFERT CABLE SUR UN MEME APPUI | C6: UN | E6: câblage | H6: 10.44 | I6: poteau
A7: 4B707 | B7: TRANSFERT CABLES DECROCHES ET PROTEGES | C7: UN | E7: câblage | H7: 15.06 | I7: poteau
A8: 4B708 | B8: TRANSFERT CABLE SUR NOUVELLE ARTERE | C8: UN | E8: câblage | H8: 30.13 | I8: poteau
A9: 4B709 | B9: POSE ARMEMENT SUR APPUI DE TOUS TYPES | C9: UN | E9: câblage | H9: 13.93 | I9: poteau
A10: 4B710 | B10: DEPOSE ARMEMENT SUR APPUI TOUT TYPE | C10: UN | E10: câblage | H10: 6.96 | I10: poteau
A11: 4B711 | B11: REMPLACEMENT,MODIF,REFECTION ARMEMENT | C11: UN | E11: câblage | H11: 26.72 | I11: poteau
A12: 4B712 | B12: BADIGEON,POSE COIFFE,OBTURAT SUR POTEAU | C12: UN | E12: câblage | H12: 6.96 | I12: poteau
A13: 4B713 | B13: REMPLACEMENT D'UN HAUBAN SEUL | C13: UN | E13: câblage | H13: 15.06 | I13: poteau
... A66: PHSF | B66: POSE HAUBAN SANS FOUILLE | C66: UN | E66: câblage | H66: 62.67 | I66: poteau
A67: CCACF | B67: CALCUL DE CHARGE CU ET FO (PREMIER APPUI) | C67: UN | D67: 1 | E67: Cuivre | F67: 1 | G67: Etudes | H67: 58 | I67: poteau
A68: CCAFH | B68: CALCUL DE CHARGE FTTH (PREMIER APPUI) | C68: UN | D68: 2 | E68: FTTH | F68: 2 | G68: Etudes | H68: 58 | I68: poteau
A69: DAC1 | B69: DEPOSE APPUI COUPLE | C69: POT | D69: 1 | E69: Cuivre | F69: 5 | G69: Appuis | H69: 80.13 | I69: poteau
A70: DAM1 | B70: DEPOSE APPUI MOISE | C70: POT | D70: 1 | E70: Cuivre | F70: 5 | G70: Appuis | H70: 57.79 | I70: poteau
A71: DAS1 | B71: DEPOSE APPUI SIMPLE | C71: POT | D71: 1 | E71: Cuivre | F71: 5 | G71: Appuis | H71: 33.03 | I71: poteau
A72: DHB1 | B72: DEPOSE HAUBAN | C72: UN | D72: 1 | E72: Cuivre | F72: 5 | G72: Appuis | H72: 12.51 | I72: poteau
A73: ICRC1 | B73: INDEM COMPENSATRICE GARANTIE VOLUME ICR | C73: UN | D73: 2 | E73: Cuivre | F73: 8 | G73: CriseRéseau | H73: 1 | I73: poteau
A74: ICRIJ | B74: INDEMNITE JOURNALIERE POUR ICR | C74: UN | D74: 1 | E74: Cuivre | F74: 7 | G74: CriseRéseau | H74: 155 | I74: poteau
A75: PAC1 | B75: POSEAPPUICOUPLE | C75: POT | D75: 1 | E75: Cuivre | F75: 5 | G75: Appuis | H75: 262.87 | I75: poteau
A76: PAM1 | B76: POSEAPPUIMOISE | C76: POT | D76: 1 | E76: Cuivre | F76: 5 | G76: Appuis | H76: 160.51 | I76: poteau
A77: PAS1 | B77: POSEAPPUISIMPLE | C77: POT | D77: 1 | E77: Cuivre | F77: 5 | G77: Appuis | H77: 119.23 | I77: poteau
A78: PHB1 | B78: POSEHAUBAN | C78: UN | D78: 1 | E78: Cuivre | F78: 5 | G78: Appuis | H78: 113.4 | I78: poteau
... A82: RCP1 | B82: RECALAGE,REPLANTATION | C82: POT | D82: 1 | E82: Cuivre | F82: 5 | G82: Appuis | H82: 83.17 | I82: poteau

Sheet Artcabl
A1: Presta | B1: LIBELLE DE LA PRESTATION | C1: UO | D1: Partie | E1: Domaine | F1: CHAPITRE | G1: Activité | H1: Prix en euros | I1: type
A2: 4B101 | B2: REGLAGE ET/OU RACCROCHAGE CABLE AERIEN | C2: UN | E2: câblage | H2: 11.51 | I2: câblage
A3: 4B102 | B3: ARRET CABLE AERIEN EXISTANT / APPUI | C3: UN | E3: câblage | H3: 28.77 | I3: câblage
A4: 4B103 | B4: POSE FOURREAU PROTECTION CABLE OU BRT | C4: UN | E4: câblage | H4: 5.75 | I4: câblage
A5: 4B201 | B5: POSE DU CAPUCHON AVEC OU SANS VALVE | C5: UN | E5: câblage | H5: 2.88 | I5: câblage
A6: 4B204 | B6: POSE GAINE REPERAGE PR CABLE FO / METRE | C6: MT | E6: câblage | H6: 0.58 | I6: câblage
A7: 4B205 | B7: MISE A LA TERRE ENVELOPPE METAL CABLE | C7: UN | E7: câblage | H7: 27.21 | I7: câblage
A8: 4B206 | B8: LIVRABLE POUR LES OFFRES GC BLO | C8: UN | E8: câblage | H8: 34.53 | I8: câblage
A9: 4B212 | B9: MESURE REFLECT SUR BOUQUET 1ERE FIBRE | C9: UN | E9: câblage | H9: 84.34 | I9: câblage
A10: 4B213 | B10: PV A 4B212 PAR FIBRE SUPPL | C10: UN | E10: câblage | H10: 4.29 | I10: câblage
A11: 4B214 | B11: DEUXIEME MESURE PAR FIBRE | C11: UN | E11: câblage | H11: 1.05 | I11: câblage
A12: 4B301 | B12: POSE BOITE DISTRI,RP 4/7P SUR POT,FACADE | C12: UN | E12: câblage | H12: 9.63 | I12: câblage
A13: 4B302 | B13: POSE BOITE DISTRI,RP 4/7P DANS BORNE | C13: UN | E13: câblage | H13: 5.75 | I13: câblage
... A697: XRE14 | B697: REMPLT.DISPO.EXTREMITE EN PLEINE TERRE | C697: UN | E697: câblage | H697: 42.36 | I697: câblage
