Workbook
Name tarif_plein_adultes: Feuil1!$D$2
Name tarif_plein_enfants: Feuil1!$C$2
Name tarif_reduit_adulte: Feuil1!$D$3
Name tarif_reduit_enfants: Feuil1!$C$3

Sheet Feuil1
A1: tarif des cours | C1: enfants groupes 1 à 5 | D1: adultes groupe A | E1: observation
B2: tarif plein | C2: 125 | D2: 80
B3: tarif réduit | C3: =C2-(C2*0.1) -> 112.5 | D3: =D2-(D2*0.1) -> 72 | E3: réduction de 10%
A5: nom | B5: prénom | C5: groupes | D5: inscription cours | E5: montant dû | F5: Nb de famille | G5: Tarif | H5: Colonne prix | I5: Montant dû
A6: dupont | B6: pierre | C6: A | D6: x | E6: 72 | F6: =COUNTIF($A$6:$A$999,A6) -> 2 | G6: =IF(F6>1,"Tarif réduit","Tarif plein") -> Tarif réduit | H6: =IF(G6="Tarif réduit",3,2) -> 3 | I6: =IF(D6="x",VLOOKUP(C6,Prog!$A$1:$C$12,H6,FALSE),"") -> 72
A7: dupont | B7: paul | C7: 2 | D7: x | E7: 112.5 | F7: =COUNTIF($A$6:$A$999,A7) -> 2 | G7: =IF(F7>1,"Tarif réduit","Tarif plein") -> Tarif réduit | H7: =IF(G7="Tarif réduit",3,2) -> 3 | I7: =IF(D7="x",VLOOKUP(C7,Prog!$A$1:$C$12,H7,FALSE),"") -> 112.5
A8: thomas | B8: jean | C8: 1 | D8: x | E8: 125 | F8: =COUNTIF($A$6:$A$999,A8) -> 1 | G8: =IF(F8>1,"Tarif réduit","Tarif plein") -> Tarif plein | H8: =IF(G8="Tarif réduit",3,2) -> 2 | I8: =IF(D8="x",VLOOKUP(C8,Prog!$A$1:$C$12,H8,FALSE),"") -> 125
A9: durand | B9: catherine | C9: A | D9: x | E9: 72 | F9: =COUNTIF($A$6:$A$999,A9) -> 3 | G9: =IF(F9>1,"Tarif réduit","Tarif plein") -> Tarif réduit | H9: =IF(G9="Tarif réduit",3,2) -> 3 | I9: =IF(D9="x",VLOOKUP(C9,Prog!$A$1:$C$12,H9,FALSE),"") -> 72
A10: durand | B10: jacques | C10: 4 | D10: x | E10: 112.5 | F10: =COUNTIF($A$6:$A$999,A10) -> 3 | G10: =IF(F10>1,"Tarif réduit","Tarif plein") -> Tarif réduit | H10: =IF(G10="Tarif réduit",3,2) -> 3 | I10: =IF(D10="x",VLOOKUP(C10,Prog!$A$1:$C$12,H10,FALSE),"") -> 112.5
A11: durand | B11: fabrice | C11: 5 | D11: x | E11: 112.5 | F11: =COUNTIF($A$6:$A$999,A11) -> 3 | G11: =IF(F11>1,"Tarif réduit","Tarif plein") -> Tarif réduit | H11: =IF(G11="Tarif réduit",3,2) -> 3 | I11: =IF(D11="x",VLOOKUP(C11,Prog!$A$1:$C$12,H11,FALSE),"") -> 112.5
A12: martin | B12: christine | C12: A | D12: x | E12: 80 | F12: =COUNTIF($A$6:$A$999,A12) -> 1 | G12: =IF(F12>1,"Tarif réduit","Tarif plein") -> Tarif plein | H12: =IF(G12="Tarif réduit",3,2) -> 2 | I12: =IF(D12="x",VLOOKUP(C12,Prog!$A$1:$C$12,H12,FALSE),"") -> 80
A13: dubois | B13: jacques | C13: A | E13: 0 | F13: =COUNTIF($A$6:$A$999,A13) -> 1 | G13: =IF(F13>1,"Tarif réduit","Tarif plein") -> Tarif plein | H13: =IF(G13="Tarif réduit",3,2) -> 2 | I13: =IF(D13="x",VLOOKUP(C13,Prog!$A$1:$C$12,H13,FALSE),"")
F14: =COUNTIF($A$6:$A$999,A14) -> 0 | G14: =IF(F14>1,"Tarif réduit","Tarif plein") -> Tarif plein | H14: =IF(G14="Tarif réduit",3,2) -> 2 | I14: =IF(D14="x",VLOOKUP(C14,Prog!$A$1:$C$12,H14,FALSE),"")
F15: =COUNTIF($A$6:$A$999,A15) -> 0 | G15: =IF(F15>1,"Tarif réduit","Tarif plein") -> Tarif plein | H15: =IF(G15="Tarif réduit",3,2) -> 2 | I15: =IF(D15="x",VLOOKUP(C15,Prog!$A$1:$C$12,H15,FALSE),"")
F16: =COUNTIF($A$6:$A$999,A16) -> 0 | G16: =IF(F16>1,"Tarif réduit","Tarif plein") -> Tarif plein | H16: =IF(G16="Tarif réduit",3,2) -> 2 | I16: =IF(D16="x",VLOOKUP(C16,Prog!$A$1:$C$12,H16,FALSE),"")
F17: =COUNTIF($A$6:$A$999,A17) -> 0 | G17: =IF(F17>1,"Tarif réduit","Tarif plein") -> Tarif plein | H17: =IF(G17="Tarif réduit",3,2) -> 2 | I17: =IF(D17="x",VLOOKUP(C17,Prog!$A$1:$C$12,H17,FALSE),"")
F18: =COUNTIF($A$6:$A$999,A18) -> 0 | G18: =IF(F18>1,"Tarif réduit","Tarif plein") -> Tarif plein | H18: =IF(G18="Tarif réduit",3,2) -> 2 | I18: =IF(D18="x",VLOOKUP(C18,Prog!$A$1:$C$12,H18,FALSE),"")
F19: =COUNTIF($A$6:$A$999,A19) -> 0 | G19: =IF(F19>1,"Tarif réduit","Tarif plein") -> Tarif plein | H19: =IF(G19="Tarif réduit",3,2) -> 2 | I19: =IF(D19="x",VLOOKUP(C19,Prog!$A$1:$C$12,H19,FALSE),"") | K19: les adultes inscrits aux cours s'aquittent du montant suivant: 80,00 si une personne du même nom dans la liste (même famille) ou 72,00 si plus d'une personne du même nom
F20: =COUNTIF($A$6:$A$999,A20) -> 0 | G20: =IF(F20>1,"Tarif réduit","Tarif plein") -> Tarif plein | H20: =IF(G20="Tarif réduit",3,2) -> 2 | I20: =IF(D20="x",VLOOKUP(C20,Prog!$A$1:$C$12,H20,FALSE),"") | K20: les enfants inscrits aux cours s'aquittent du montant suivant: 125,00 si une personne du même nom dans la liste (même famille) ou 112,50 si plus d'une personne du même nom
F21: =COUNTIF($A$6:$A$999,A21) -> 0 | G21: =IF(F21>1,"Tarif réduit","Tarif plein") -> Tarif plein | H21: =IF(G21="Tarif réduit",3,2) -> 2 | I21: =IF(D21="x",VLOOKUP(C21,Prog!$A$1:$C$12,H21,FALSE),"")
F22: =COUNTIF($A$6:$A$999,A22) -> 0 | G22: =IF(F22>1,"Tarif réduit","Tarif plein") -> Tarif plein | H22: =IF(G22="Tarif réduit",3,2) -> 2 | I22: =IF(D22="x",VLOOKUP(C22,Prog!$A$1:$C$12,H22,FALSE),"")
F23: =COUNTIF($A$6:$A$999,A23) -> 0 | G23: =IF(F23>1,"Tarif réduit","Tarif plein") -> Tarif plein | H23: =IF(G23="Tarif réduit",3,2) -> 2 | I23: =IF(D23="x",VLOOKUP(C23,Prog!$A$1:$C$12,H23,FALSE),"")
F24: =COUNTIF($A$6:$A$999,A24) -> 0 | G24: =IF(F24>1,"Tarif réduit","Tarif plein") -> Tarif plein | H24: =IF(G24="Tarif réduit",3,2) -> 2 | I24: =IF(D24="x",VLOOKUP(C24,Prog!$A$1:$C$12,H24,FALSE),"")
F25: =COUNTIF($A$6:$A$999,A25) -> 0 | G25: =IF(F25>1,"Tarif réduit","Tarif plein") -> Tarif plein | H25: =IF(G25="Tarif réduit",3,2) -> 2 | I25: =IF(D25="x",VLOOKUP(C25,Prog!$A$1:$C$12,H25,FALSE),"")
F26: =COUNTIF($A$6:$A$999,A26) -> 0 | G26: =IF(F26>1,"Tarif réduit","Tarif plein") -> Tarif plein | H26: =IF(G26="Tarif réduit",3,2) -> 2 | I26: =IF(D26="x",VLOOKUP(C26,Prog!$A$1:$C$12,H26,FALSE),"")
F27: =COUNTIF($A$6:$A$999,A27) -> 0 | G27: =IF(F27>1,"Tarif réduit","Tarif plein") -> Tarif plein | H27: =IF(G27="Tarif réduit",3,2) -> 2 | I27: =IF(D27="x",VLOOKUP(C27,Prog!$A$1:$C$12,H27,FALSE),"")
F28: =COUNTIF($A$6:$A$999,A28) -> 0 | G28: =IF(F28>1,"Tarif réduit","Tarif plein") -> Tarif plein | H28: =IF(G28="Tarif réduit",3,2) -> 2 | I28: =IF(D28="x",VLOOKUP(C28,Prog!$A$1:$C$12,H28,FALSE),"")
F29: =COUNTIF($A$6:$A$999,A29) -> 0 | G29: =IF(F29>1,"Tarif réduit","Tarif plein") -> Tarif plein | H29: =IF(G29="Tarif réduit",3,2) -> 2 | I29: =IF(D29="x",VLOOKUP(C29,Prog!$A$1:$C$12,H29,FALSE),"")
F30: =COUNTIF($A$6:$A$999,A30) -> 0 | G30: =IF(F30>1,"Tarif réduit","Tarif plein") -> Tarif plein | H30: =IF(G30="Tarif réduit",3,2) -> 2 | I30: =IF(D30="x",VLOOKUP(C30,Prog!$A$1:$C$12,H30,FALSE),"")
F31: =COUNTIF($A$6:$A$999,A31) -> 0 | G31: =IF(F31>1,"Tarif réduit","Tarif plein") -> Tarif plein | H31: =IF(G31="Tarif réduit",3,2) -> 2 | I31: =IF(D31="x",VLOOKUP(C31,Prog!$A$1:$C$12,H31,FALSE),"")
F32: =COUNTIF($A$6:$A$999,A32) -> 0 | G32: =IF(F32>1,"Tarif réduit","Tarif plein") -> Tarif plein | H32: =IF(G32="Tarif réduit",3,2) -> 2 | I32: =IF(D32="x",VLOOKUP(C32,Prog!$A$1:$C$12,H32,FALSE),"")
... F999: =COUNTIF($A$6:$A$999,A999) -> 0 | G999: =IF(F999>1,"Tarif réduit","Tarif plein") -> Tarif plein | H999: =IF(G999="Tarif réduit",3,2) -> 2 | I999: =IF(D999="x",VLOOKUP(C999,Prog!$A$1:$C$12,H999,FALSE),"")

Sheet Prog
A1: Groupe | B1: Plein | C1: Réduit
A2: A | B2: =tarif_plein_adultes -> 80 | C2: =tarif_reduit_adulte -> 72
A3: 1 | B3: =tarif_plein_enfants -> 125 | C3: =tarif_reduit_enfants -> 112.5
A4: 2 | B4: =tarif_plein_enfants -> 125 | C4: =tarif_reduit_enfants -> 112.5
A5: 3 | B5: =tarif_plein_enfants -> 125 | C5: =tarif_reduit_enfants -> 112.5
A6: 4 | B6: =tarif_plein_enfants -> 125 | C6: =tarif_reduit_enfants -> 112.5
A7: 5 | B7: =tarif_plein_enfants -> 125 | C7: =tarif_reduit_enfants -> 112.5
A8: 6 | B8: =tarif_plein_enfants -> 125 | C8: =tarif_reduit_enfants -> 112.5
A9: 7 | B9: =tarif_plein_enfants -> 125 | C9: =tarif_reduit_enfants -> 112.5
A10: 8 | B10: =tarif_plein_enfants -> 125 | C10: =tarif_reduit_enfants -> 112.5
A11: 9 | B11: =tarif_plein_enfants -> 125 | C11: =tarif_reduit_enfants -> 112.5
A12: 10 | B12: =tarif_plein_enfants -> 125 | C12: =tarif_reduit_enfants -> 112.5
