Workbook

Sheet Listing
A1: #Dossier# | C1: Nom: | D1: Prénom: | E1: Date:
A2: =IF(C2<>"",IF(B2<10,"DOS_"&"000"&B2,IF(B2<100,"DOS_"&"00"&B2,IF(B2<1000,"DOS_"&"0"&B2,"DOS_"&B2))),"") -> DOS_0001 | B2: =IF(C2<>"",B1+1,"") -> 1 | C2: Delcroix | D2: Francis | E2: 34101
A3: =IF(C3<>"",IF(B3<10,"DOS_"&"000"&B3,IF(B3<100,"DOS_"&"00"&B3,IF(B3<1000,"DOS_"&"0"&B3,"DOS_"&B3))),"") -> DOS_0002 | B3: =IF(C3<>"",B2+1,"") -> 2 | C3: Grenier | D3: Emmanuel | E3: 33047
A4: =IF(C4<>"",IF(B4<10,"DOS_"&"000"&B4,IF(B4<100,"DOS_"&"00"&B4,IF(B4<1000,"DOS_"&"0"&B4,"DOS_"&B4))),"") -> DOS_0003 | B4: =IF(C4<>"",B3+1,"") -> 3 | C4: Mathieu | D4: Michel | E4: 38089
A5: =IF(C5<>"",IF(B5<10,"DOS_"&"000"&B5,IF(B5<100,"DOS_"&"00"&B5,IF(B5<1000,"DOS_"&"0"&B5,"DOS_"&B5))),"") -> DOS_0004 | B5: =IF(C5<>"",B4+1,"") -> 4 | C5: Deceuster | D5: Fabien | E5: 36428
A6: =IF(C6<>"",IF(B6<10,"DOS_"&"000"&B6,IF(B6<100,"DOS_"&"00"&B6,IF(B6<1000,"DOS_"&"0"&B6,"DOS_"&B6))),"") -> DOS_0005 | B6: =IF(C6<>"",B5+1,"") -> 5 | C6: Garden | D6: Raymond | E6: 41255
A7: =IF(C7<>"",IF(B7<10,"DOS_"&"000"&B7,IF(B7<100,"DOS_"&"00"&B7,IF(B7<1000,"DOS_"&"0"&B7,"DOS_"&B7))),"") -> DOS_0006 | B7: =IF(C7<>"",B6+1,"") -> 6 | C7: Croche | D7: Sarah | E7: 24264
A8: =IF(C8<>"",IF(B8<10,"DOS_"&"000"&B8,IF(B8<100,"DOS_"&"00"&B8,IF(B8<1000,"DOS_"&"0"&B8,"DOS_"&B8))),"") -> DOS_0007 | B8: =IF(C8<>"",B7+1,"") -> 7 | C8: Dentier | D8: Edmond | E8: 35639
A9: =IF(C9<>"",IF(B9<10,"DOS_"&"000"&B9,IF(B9<100,"DOS_"&"00"&B9,IF(B9<1000,"DOS_"&"0"&B9,"DOS_"&B9))),"") -> DOS_0008 | B9: =IF(C9<>"",B8+1,"") -> 8 | C9: Cabrel | D9: Francis | E9: 33047
A10: =IF(C10<>"",IF(B10<10,"DOS_"&"000"&B10,IF(B10<100,"DOS_"&"00"&B10,IF(B10<1000,"DOS_"&"0"&B10,"DOS_"&B10))),"") -> DOS_0009 | B10: =IF(C10<>"",B9+1,"") -> 9 | C10: Halliday | D10: Johnny | E10: 38089
A11: =IF(C11<>"",IF(B11<10,"DOS_"&"000"&B11,IF(B11<100,"DOS_"&"00"&B11,IF(B11<1000,"DOS_"&"0"&B11,"DOS_"&B11))),"") -> DOS_0010 | B11: =IF(C11<>"",B10+1,"") -> 10 | C11: Presley | D11: Elvis | E11: 36428
A12: =IF(C12<>"",IF(B12<10,"DOS_"&"000"&B12,IF(B12<100,"DOS_"&"00"&B12,IF(B12<1000,"DOS_"&"0"&B12,"DOS_"&B12))),"") -> DOS_0011 | B12: =IF(C12<>"",B11+1,"") -> 11 | C12: Coperfield | D12: David | E12: 23765
A13: =IF(C13<>"",IF(B13<10,"DOS_"&"000"&B13,IF(B13<100,"DOS_"&"00"&B13,IF(B13<1000,"DOS_"&"0"&B13,"DOS_"&B13))),"") | B13: =IF(C13<>"",B12+1,"")
A14: =IF(C14<>"",IF(B14<10,"DOS_"&"000"&B14,IF(B14<100,"DOS_"&"00"&B14,IF(B14<1000,"DOS_"&"0"&B14,"DOS_"&B14))),"") | B14: =IF(C14<>"",B13+1,"")
A15: =IF(C15<>"",IF(B15<10,"DOS_"&"000"&B15,IF(B15<100,"DOS_"&"00"&B15,IF(B15<1000,"DOS_"&"0"&B15,"DOS_"&B15))),"") | B15: =IF(C15<>"",B14+1,"")
A16: =IF(C16<>"",IF(B16<10,"DOS_"&"000"&B16,IF(B16<100,"DOS_"&"00"&B16,IF(B16<1000,"DOS_"&"0"&B16,"DOS_"&B16))),"") | B16: =IF(C16<>"",B15+1,"")
A17: =IF(C17<>"",IF(B17<10,"DOS_"&"000"&B17,IF(B17<100,"DOS_"&"00"&B17,IF(B17<1000,"DOS_"&"0"&B17,"DOS_"&B17))),"") | B17: =IF(C17<>"",B16+1,"")
A18: =IF(C18<>"",IF(B18<10,"DOS_"&"000"&B18,IF(B18<100,"DOS_"&"00"&B18,IF(B18<1000,"DOS_"&"0"&B18,"DOS_"&B18))),"") | B18: =IF(C18<>"",B17+1,"")
A19: =IF(C19<>"",IF(B19<10,"DOS_"&"000"&B19,IF(B19<100,"DOS_"&"00"&B19,IF(B19<1000,"DOS_"&"0"&B19,"DOS_"&B19))),"") | B19: =IF(C19<>"",B18+1,"")

Sheet Sorties
A1: Vehicule | B1: Matricule | C1: Dossier | D1: Date
A2: Toyota Corolla | B2: FTP - 666 | C2: 5 | D2: =Listing!E6 -> 41255 | E2: =Listing!E6 | F2: > =Page{Listing}!{Colonne(E)}{Ligne(C5+1)}
A3: Ford F-Seres | B3: LTH -123 | C3: 3 | D3: =Listing!E4 -> 38089
A4: Volksagen Golf | B4: DBZ - 127 | C4: 4 | D4: =Listing!E5 -> 36428
A5: Volksagen Coccinelle | B5: HTTP - 333 | C5: 11 | D5: =Listing!E12 -> 23765
A6: Fiat 124 | B6: LOL - 124 | C6: 1 | D6: =Listing!E2 -> 34101
A7: Ford Escort | B7: MISQ - 222 | C7: 2 | D7: =Listing!E3 -> 33047
