Workbook

Sheet Caractéristiques
A4: Liste des projets facturable: | C4: Description du projet : | G4: Collaborateurs :
A5: A | G5: Yohann
A6: B | G6: Eymeric
A7: C | G7: Jérome
A8: d | G8: Flavie
A9: e | G9: Pierre
A10: f | G10: Paul
A11: g | G11: Jacques
A12: h | G12: Consultant 0
A13: i | G13: Consultant 1
A14: j | G14: Consultant 2
A15: k | G15: Consultant 3
A16: l
A17: m
A20: NON FACTURABLE :
A21: Formation
A22: R&D
A23: Projet A.1
A24: Projet A.2
A25: Congé
A26: Maladie
A27: RTT
A28: Support à la vente

Sheet Synthèse mensuelle 
E2: 2018
B3: Janvier | C3: =Caractéristiques!$A$5 -> A | D3: =Caractéristiques!A6 -> B | E3: =Caractéristiques!A7 -> C | F3: D | G3: E | H3: F | Q3: G | R3: Total Facturable 1/2 journées | S3: Taux de staffing | T3: Janvier | U3: A.1 | V3: A.2 | W3: Total R&D | X3: Congé/Maladie/RTT | Y3: Formation | Z3: Support à la vente
B4: =Caractéristiques!G5 -> Yohann | C4: =IF('Synthèse mensuelle '!C3=Yohann!D55,Yohann!B55,"Faux") -> 14 | D4: =IF('Synthèse mensuelle '!D3=Yohann!D56,Yohann!B56,"Faux") -> 7 | E4: =IF('Synthèse mensuelle '!E3=Yohann!D57,Yohann!B57,"Faux") -> 2 | F4: =IF('Synthèse mensuelle '!F3=Yohann!D58,Yohann!B58,"Faux") -> 1 | G4: =LOOKUP(G3,Yohann!$D$50:$D$147,Yohann!$B$55:$B$147) -> 0 | H4: =LOOKUP(H3,Yohann!$D$50:$D$147,Yohann!$B$55:$B$147) -> 0 | R4: =SUM(C4:Q4) -> 24 | S4: =R4*0.5/(COUNTA(Yohann!C6:C49)-X4/2) -> 0.6 | W4: =SUM(U4:V4) -> 0 | X4: 4
B5: =Caractéristiques!G6 -> Eymeric | C5: =IF('Synthèse mensuelle '!C3=Eymeric!D55,Eymeric!B55,"Faux") -> 14 | R5: =SUM(C5:Q5) -> 14 | W5: =SUM(U5:V5) -> 0
B6: =Caractéristiques!G7 -> Jérome | R6: =SUM(C6:Q6) -> 0 | W6: =SUM(U6:V6) -> 0
B7: =Caractéristiques!G8 -> Flavie | R7: =SUM(C7:Q7) -> 0 | W7: =SUM(U7:V7) -> 0
B8: =Caractéristiques!G9 -> Pierre | R8: =SUM(C8:Q8) -> 0 | W8: =SUM(U8:V8) -> 0
B9: =Caractéristiques!G10 -> Paul | R9: =SUM(C9:Q9) -> 0 | W9: =SUM(U9:V9) -> 0
B10: =Caractéristiques!G11 -> Jacques | R10: =SUM(C10:Q10) -> 0 | W10: =SUM(U10:V10) -> 0
B11: =Caractéristiques!G12 -> Consultant 0 | R11: =SUM(C11:Q11) -> 0 | W11: =SUM(U11:V11) -> 0
B12: =Caractéristiques!G13 -> Consultant 1 | R12: =SUM(C12:Q12) -> 0 | W12: =SUM(U12:V12) -> 0
B13: =Caractéristiques!G14 -> Consultant 2 | R13: =SUM(C13:Q13) -> 0 | W13: =SUM(U13:V13) -> 0
B14: =Caractéristiques!G15 -> Consultant 3
B15: =Caractéristiques!G16 -> 0
B16: Total | C16: =SUM(C4:C15) -> 28 | D16: =SUM(D4:D15) -> 7 | E16: =SUM(E4:E15) -> 2 | F16: =SUM(F4:F15) -> 1 | G16: =SUM(G4:G15) -> 0 | H16: =SUM(H4:H15) -> 0 | Q16: =SUM(Q4:Q15) -> 0 | R16: =SUM(R4:R15) -> 38 | T16: Total | U16: =SUM(U4:U15) -> 0 | V16: =SUM(V4:V15) -> 0
Y17: et le détail des projets
B18: Février | C18: =Caractéristiques!$A$5 -> A | D18: =Caractéristiques!A6 -> B | E18: =Caractéristiques!A22 -> R&D | F18: D | G18: E | H18: F | Q18: G | R18: Total Facturable 1/2 journées | S18: Taux de staffing | T18: Janvier | U18: A.1 | V18: A.2 | W18: Total R&D | X18: Congé | Y18: Formation | Z18: Support à la vente
B19: =B4 -> Yohann | C19: =IF('Synthèse mensuelle '!C18=Yohann!D70,Yohann!B70,"Faux") -> Faux | D19: =IF('Synthèse mensuelle '!D18=Yohann!D71,Yohann!B71,"Faux") -> Faux | E19: =IF('Synthèse mensuelle '!E18=Yohann!D72,Yohann!B72,"Faux") -> 1 | F19: =IF('Synthèse mensuelle '!F18=Yohann!D73,Yohann!B73,"Faux") -> Faux | G19: =LOOKUP(G18,Yohann!$D$50:$D$147,Yohann!$B$55:$B$147) -> 0 | H19: =LOOKUP(H18,Yohann!$D$50:$D$147,Yohann!$B$55:$B$147) -> 0 | R19: =SUM(C19:Q19) -> 1 | S19: =R19*0.5/(COUNTA(Yohann!C21:C64)-X19/2) -> 0.041666667 | W19: =SUM(U19:V19) -> 0 | X19: 4
B20: =B5 -> Eymeric | C20: =IF('Synthèse mensuelle '!C18=Eymeric!D70,Eymeric!B70,"Faux") -> Faux | R20: =SUM(C20:Q20) -> 0 | W20: =SUM(U20:V20) -> 0
B21: =B6 -> Jérome | R21: =SUM(C21:Q21) -> 0 | W21: =SUM(U21:V21) -> 0
B22: =B7 -> Flavie | R22: =SUM(C22:Q22) -> 0 | W22: =SUM(U22:V22) -> 0
B23: =B8 -> Pierre | R23: =SUM(C23:Q23) -> 0 | W23: =SUM(U23:V23) -> 0
B24: =B9 -> Paul | R24: =SUM(C24:Q24) -> 0 | W24: =SUM(U24:V24) -> 0
B25: =B10 -> Jacques | R25: =SUM(C25:Q25) -> 0 | W25: =SUM(U25:V25) -> 0
B26: =B11 -> Consultant 0 | R26: =SUM(C26:Q26) -> 0 | W26: =SUM(U26:V26) -> 0
B27: =B12 -> Consultant 1 | R27: =SUM(C27:Q27) -> 0 | W27: =SUM(U27:V27) -> 0
B28: =B13 -> Consultant 2 | R28: =SUM(C28:Q28) -> 0 | W28: =SUM(U28:V28) -> 0
B29: =B14 -> Consultant 3
B30: =B15 -> 0
B31: Total | C31: =SUM(C19:C30) -> 0 | D31: =SUM(D19:D30) -> 0 | E31: =SUM(E19:E30) -> 1 | F31: =SUM(F19:F30) -> 0 | G31: =SUM(G19:G30) -> 0 | H31: =SUM(H19:H30) -> 0 | Q31: =SUM(Q19:Q30) -> 0 | R31: =SUM(R19:R30) -> 1 | T31: Total | U31: =SUM(U19:U30) -> 0 | V31: =SUM(V19:V30) -> 0

Sheet Yohann
B2: Janvier | F2: Février | J2: Mars | N2: Avril | R2: Mai | V2: Juin | Z2: Juillet | AD2: Août | AH2: Septembre | AL2: Octobre | AP2: Novembre | AT2: Décembre
B3: Jour | D3: Détail d'activité | F3: Jour | H3: Détail d'activité | J3: Jour | L3: Détail d'activité | N3: Jour | P3: Détail d'activité | R3: Jour | T3: Détail d'activité | V3: Jour | X3: Détail d'activité | Z3: Jour | AB3: Détail d'activité | AD3: Jour | AF3: Détail d'activité | AH3: Jour | AJ3: Détail d'activité | AL3: Jour | AN3: Détail d'activité | AP3: Jour | AR3: Détail d'activité | AT3: Jour | AV3: Détail d'activité
B4: Lundi | C4: 1 | F4: Jeudi | G4: 1 | J4: Jeudi | K4: 1 | N4: Lundi | O4: 2 | R4: Mardi | S4: 1 | V4: Vendredi | W4: 1 | Z4: Lundi | AA4: 2 | AD4: Mercredi | AE4: 1 | AH4: Lundi | AI4: 3 | AL4: Lundi | AM4: 1 | AP4: Jeudi | AQ4: 1 | AT4: Lundi | AU4: 3
B6: Mardi | C6: 2 | D6: A | F6: Vendredi | G6: 2 | J6: Vendredi | K6: 2 | N6: Mardi | O6: 3 | R6: Mercredi | S6: 2 | V6: Lundi | W6: 4 | Z6: Mardi | AA6: 3 | AD6: Jeudi | AE6: 2 | AH6: Mardi | AI6: 4 | AL6: Mardi | AM6: 2 | AP6: Vendredi | AQ6: 2 | AT6: Mardi | AU6: 4
D7: a
B8: Mercredi | C8: 3 | D8: b | F8: Lundi | G8: 5 | J8: Lundi | K8: 5 | N8: Mercredi | O8: 4 | R8: Jeudi | S8: 3 | V8: Mardi | W8: 5 | Z8: Mercredi | AA8: 4 | AD8: Vendredi | AE8: 3 | AH8: Mercredi | AI8: 5 | AL8: Mercredi | AM8: 3 | AP8: Lundi | AQ8: 5 | AT8: Mercredi | AU8: 5
D9: b
B10: Jeudi | C10: 4 | D10: b | F10: Mardi | G10: 6 | J10: Mardi | K10: 6 | N10: Jeudi | O10: 5 | R10: Vendredi | S10: 4 | V10: Mercredi | W10: 6 | Z10: Jeudi | AA10: 5 | AD10: Lundi | AE10: 6 | AH10: Jeudi | AI10: 6 | AL10: Jeudi | AM10: 4 | AP10: Mardi | AQ10: 6 | AT10: Jeudi | AU10: 6
D11: b
B12: Vendredi | C12: 5 | D12: c | F12: Mercredi | G12: 7 | J12: Mercredi | K12: 7 | N12: Vendredi | O12: 6 | R12: Lundi | S12: =S2+7 -> 7 | V12: Jeudi | W12: 7 | Z12: Vendredi | AA12: 6 | AD12: Mardi | AE12: 7 | AH12: Vendredi | AI12: 7 | AL12: Vendredi | AM12: 5 | AP12: Mercredi | AQ12: 7 | AT12: Vendredi | AU12: 7
D13: a | F13: Mercredi | G13: 7 | J13: Mercredi | K13: 7 | AP13: Mercredi | AQ13: 7
B14: Lundi | C14: =C4+7 -> 8 | D14: R&D | F14: Jeudi | G14: 8 | J14: Jeudi | K14: 8 | N14: Lundi | O14: =O4+7 -> 9 | R14: Mardi | S14: =S4+7 -> 8 | V14: Vendredi | W14: 8 | Z14: Lundi | AA14: =AA4+7 -> 9 | AD14: Mercredi | AE14: 8 | AH14: Lundi | AI14: =AI4+7 -> 10 | AL14: Lundi | AM14: =AM4+7 -> 8 | AP14: Jeudi | AQ14: 8 | AT14: Lundi | AU14: =AU4+7 -> 10
D15: Formation
B16: Mardi | C16: =C6+7 -> 9 | D16: a | F16: Vendredi | G16: 9 | J16: Vendredi | K16: 9 | N16: Mardi | O16: =O6+7 -> 10 | R16: Mercredi | S16: =S6+7 -> 9 | V16: Lundi | W16: =W6+7 -> 11 | Z16: Mardi | AA16: =AA6+7 -> 10 | AD16: Jeudi | AE16: 9 | AH16: Mardi | AI16: =AI6+7 -> 11 | AL16: Mardi | AM16: =AM6+7 -> 9 | AP16: Vendredi | AQ16: 9 | AT16: Mardi | AU16: =AU6+7 -> 11
D17: a
B18: Mercredi | C18: =C8+7 -> 10 | D18: a | F18: Lundi | G18: =G8+7 -> 12 | J18: Lundi | K18: =K8+7 -> 12 | N18: Mercredi | O18: =O8+7 -> 11 | R18: Jeudi | S18: =S8+7 -> 10 | V18: Mardi | W18: =W8+7 -> 12 | Z18: Mercredi | AA18: =AA8+7 -> 11 | AD18: Vendredi | AE18: 10 | AH18: Mercredi | AI18: =AI8+7 -> 12 | AL18: Mercredi | AM18: =AM8+7 -> 10 | AP18: Lundi | AQ18: =AQ8+7 -> 12 | AT18: Mercredi | AU18: =AU8+7 -> 12
D19: a
B20: Jeudi | C20: =C10+7 -> 11 | D20: a | F20: Mardi | G20: =G10+7 -> 13 | J20: Mardi | K20: =K10+7 -> 13 | N20: Jeudi | O20: =O10+7 -> 12 | R20: Vendredi | S20: =S10+7 -> 11 | V20: Mercredi | W20: =W10+7 -> 13 | Z20: Jeudi | AA20: =AA10+7 -> 12 | AD20: Lundi | AE20: =AE10+7 -> 13 | AH20: Jeudi | AI20: =AI10+7 -> 13 | AL20: Jeudi | AM20: =AM10+7 -> 11 | AP20: Mardi | AQ20: =AQ10+7 -> 13 | AT20: Jeudi | AU20: =AU10+7 -> 13
D21: b
B22: Vendredi | C22: =C12+7 -> 12 | D22: c | F22: Mercredi | G22: =G13+7 -> 14 | J22: Mercredi | K22: =K12+7 -> 14 | N22: Vendredi | O22: =O12+7 -> 13 | R22: Lundi | S22: =S12+7 -> 14 | V22: Jeudi | W22: =W12+7 -> 14 | Z22: Vendredi | AA22: =AA12+7 -> 13 | AD22: Mardi | AE22: =AE12+7 -> 14 | AH22: Vendredi | AI22: =AI12+7 -> 14 | AL22: Vendredi | AM22: =AM12+7 -> 12 | AP22: Mercredi | AQ22: =AQ12+7 -> 14 | AT22: Vendredi | AU22: =AU12+7 -> 14
D23: d | J23: Mercredi | AP23: Mercredi
B24: Lundi | C24: =C14+7 -> 15 | D24: a | F24: Jeudi | G24: =G14+7 -> 15 | J24: Jeudi | K24: =K14+7 -> 15 | N24: Lundi | O24: =O14+7 -> 16 | R24: Mardi | S24: =S14+7 -> 15 | V24: Vendredi | W24: =W14+7 -> 15 | Z24: Lundi | AA24: =AA14+7 -> 16 | AD24: Mercredi | AE24: =AE14+7 -> 15 | AH24: Lundi | AI24: =AI14+7 -> 17 | AL24: Lundi | AM24: =AM14+7 -> 15 | AP24: Jeudi | AQ24: =AQ14+7 -> 15 | AT24: Lundi | AU24: =AU14+7 -> 17
D25: b
B26: Mardi | C26: =C16+7 -> 16 | D26: b | F26: Vendredi | G26: =G16+7 -> 16 | J26: Vendredi | K26: =K16+7 -> 16 | N26: Mardi | O26: =O16+7 -> 17 | R26: Mercredi | S26: =S16+7 -> 16 | V26: Lundi | W26: =W16+7 -> 18 | Z26: Mardi | AA26: =AA16+7 -> 17 | AD26: Jeudi | AE26: =AE16+7 -> 16 | AH26: Mardi | AI26: =AI16+7 -> 18 | AL26: Mardi | AM26: =AM16+7 -> 16 | AP26: Vendredi | AQ26: =AQ16+7 -> 16 | AT26: Mardi | AU26: =AU16+7 -> 18
D27: a
B28: Mercredi | C28: =C18+7 -> 17 | D28: a | F28: Lundi | G28: =G18+7 -> 19 | J28: Lundi | K28: =K18+7 -> 19 | N28: Mercredi | O28: =O18+7 -> 18 | R28: Jeudi | S28: =S18+7 -> 17 | V28: Mardi | W28: =W18+7 -> 19 | Z28: Mercredi | AA28: =AA18+7 -> 18 | AD28: Vendredi | AE28: =AE18+7 -> 17 | AH28: Mercredi | AI28: =AI18+7 -> 19 | AL28: Mercredi | AM28: =AM18+7 -> 17 | AP28: Lundi | AQ28: =AQ18+7 -> 19 | AT28: Mercredi | AU28: =AU18+7 -> 19
D29: a
B30: Jeudi | C30: =C20+7 -> 18 | D30: a | F30: Mardi | G30: =G20+7 -> 20 | J30: Mardi | K30: =K20+7 -> 20 | N30: Jeudi | O30: =O20+7 -> 19 | R30: Vendredi | S30: =S20+7 -> 18 | V30: Mercredi | W30: =W20+7 -> 20 | Z30: Jeudi | AA30: =AA20+7 -> 19 | AD30: Lundi | AE30: =AE20+7 -> 20 | AH30: Jeudi | AI30: =AI20+7 -> 20 | AL30: Jeudi | AM30: =AM20+7 -> 18 | AP30: Mardi | AQ30: =AQ20+7 -> 20 | AT30: Jeudi | AU30: =AU20+7 -> 20
D31: a
B32: Vendredi | C32: =C22+7 -> 19 | D32: e | F32: Mercredi | G32: =G22+7 -> 21 | J32: Mercredi | K32: =K22+7 -> 21 | N32: Vendredi | O32: =O22+7 -> 20 | R32: Lundi | S32: =S22+7 -> 21 | V32: Jeudi | W32: =W22+7 -> 21 | Z32: Vendredi | AA32: =AA22+7 -> 20 | AD32: Mardi | AE32: =AE22+7 -> 21 | AH32: Vendredi | AI32: =AI22+7 -> 21 | AL32: Vendredi | AM32: =AM22+7 -> 19 | AP32: Mercredi | AQ32: =AQ22+7 -> 21 | AT32: Vendredi | AU32: =AU22+7 -> 21
J33: Mercredi | AP33: Mercredi
B34: Lundi | C34: =C24+7 -> 22 | F34: Jeudi | G34: =G24+7 -> 22 | J34: Jeudi | K34: =K24+7 -> 22 | N34: Lundi | O34: =O24+7 -> 23 | R34: Mardi | S34: =S24+7 -> 22 | V34: Vendredi | W34: =W24+7 -> 22 | Z34: Lundi | AA34: =AA24+7 -> 23 | AD34: Mercredi | AE34: =AE24+7 -> 22 | AH34: Lundi | AI34: =AI24+7 -> 24 | AL34: Lundi | AM34: =AM24+7 -> 22 | AP34: Jeudi | AQ34: =AQ24+7 -> 22 | AT34: Lundi | AU34: =AU24+7 -> 24
B36: Mardi | C36: =C26+7 -> 23 | F36: Vendredi | G36: =G26+7 -> 23 | J36: Vendredi | K36: =K26+7 -> 23 | N36: Mardi | O36: =O26+7 -> 24 | R36: Mercredi | S36: =S26+7 -> 23 | V36: Lundi | W36: =W26+7 -> 25 | Z36: Mardi | AA36: =AA26+7 -> 24 | AD36: Jeudi | AE36: =AE26+7 -> 23 | AH36: Mardi | AI36: =AI26+7 -> 25 | AL36: Mardi | AM36: =AM26+7 -> 23 | AP36: Vendredi | AQ36: =AQ26+7 -> 23 | AT36: Mardi | AU36: =AU26+7 -> 25
B38: Mercredi | C38: =C28+7 -> 24 | F38: Lundi | G38: =G28+7 -> 26 | J38: Lundi | K38: =K28+7 -> 26 | N38: Mercredi | O38: =O28+7 -> 25 | R38: Jeudi | S38: =S28+7 -> 24 | V38: Mardi | W38: =W28+7 -> 26 | Z38: Mercredi | AA38: =AA28+7 -> 25 | AD38: Vendredi | AE38: =AE28+7 -> 24 | AH38: Mercredi | AI38: =AI28+7 -> 26 | AL38: Mercredi | AM38: =AM28+7 -> 24 | AP38: Lundi | AQ38: =AQ28+7 -> 26 | AT38: Mercredi | AU38: =AU28+7 -> 26
B40: Jeudi | C40: =C30+7 -> 25 | F40: Mardi | G40: =G30+7 -> 27 | J40: Mardi | K40: =K30+7 -> 27 | N40: Jeudi | O40: =O30+7 -> 26 | R40: Vendredi | S40: =S30+7 -> 25 | V40: Mercredi | W40: =W30+7 -> 27 | Z40: Jeudi | AA40: =AA30+7 -> 26 | AD40: Lundi | AE40: =AE30+7 -> 27 | AH40: Jeudi | AI40: =AI30+7 -> 27 | AL40: Jeudi | AM40: =AM30+7 -> 25 | AP40: Mardi | AQ40: =AQ30+7 -> 27 | AT40: Jeudi | AU40: =AU30+7 -> 27
B42: Vendredi | C42: =C32+7 -> 26 | F42: Mercredi | G42: =G32+7 -> 28 | J42: Mercredi | K42: =K32+7 -> 28 | N42: Vendredi | O42: =O32+7 -> 27 | R42: Lundi | S42: =S32+7 -> 28 | V42: Jeudi | W42: =W32+7 -> 28 | Z42: Vendredi | AA42: =AA32+7 -> 27 | AD42: Mardi | AE42: =AE32+7 -> 28 | AH42: Vendredi | AI42: =AI32+7 -> 28 | AL42: Vendredi | AM42: =AM32+7 -> 26 | AP42: Mercredi | AQ42: =AQ32+7 -> 28 | AT42: Vendredi | AU42: =AU32+7 -> 28
J43: Mercredi | AP43: Mercredi
B44: Lundi | C44: =C34+7 -> 29 | J44: Jeudi | K44: =K34+7 -> 29 | N44: Lundi | O44: =O34+7 -> 30 | R44: Mardi | S44: =S34+7 -> 29 | V44: Vendredi | W44: =W34+7 -> 29 | Z44: Lundi | AA44: =AA34+7 -> 30 | AD44: Mercredi | AE44: =AE34+7 -> 29 | AH44: Lundi | AI44: =AI34+7 -> 31 | AL44: Lundi | AM44: =AM34+7 -> 29 | AP44: Jeudi | AQ44: =AQ34+7 -> 29 | AT44: Lundi | AU44: =AU34+7 -> 31
B46: Mardi | C46: =C36+7 -> 30 | J46: Vendredi | K46: =K36+7 -> 30 | R46: Mercredi | S46: =S36+7 -> 30 | Z46: Mardi | AA46: =AA36+7 -> 31 | AD46: Jeudi | AE46: =AE36+7 -> 30 | AL46: Mardi | AM46: =AM36+7 -> 30 | AP46: Vendredi | AQ46: =AQ36+7 -> 30
B48: Mercredi | C48: =C38+7 -> 31 | R48: Jeudi | S48: =S38+7 -> 31 | AD48: Vendredi | AE48: =AE38+7 -> 31 | AL48: Mercredi | AM48: =AM38+7 -> 31
B54: Apparition | D54: Description | F54: Apparition | H54: Description | J54: Apparition | L54: Description | N54: Apparition | P54: Description | R54: Apparition | T54: Description | V54: Apparition | X54: Description | Z54: Apparition | AB54: Description | AD54: Apparition | AF54: Description | AH54: Apparition | AJ54: Description | AL54: Apparition | AN54: Description | AP54: Apparition | AR54: Description | AT54: Apparition | AV54: Description
B55: =COUNTIF($D$4:$D$52,D55) -> 14 | D55: =Caractéristiques!$A5 -> A | F55: =COUNTIF($H$4:$H$52,H55) -> 0 | H55: =Caractéristiques!$A5 -> A | J55: =COUNTIF($J$4:$J$52,L55) -> 0 | L55: =Caractéristiques!$A5 -> A | N55: =COUNTIF($N$4:$N$52,P55) -> 0 | P55: =Caractéristiques!$A5 -> A | R55: =COUNTIF($R$4:$R$52,T55) -> 0 | T55: =Caractéristiques!$A5 -> A | V55: =COUNTIF($V$4:$V$52,X55) -> 0 | X55: =Caractéristiques!$A5 -> A | Z55: =COUNTIF($Z$4:$Z$52,AB55) -> 0 | AB55: =Caractéristiques!$A5 -> A | AD55: =COUNTIF($AD$4:$AD$52,AF55) -> 0 | AF55: =Caractéristiques!$A5 -> A | AH55: =COUNTIF($AH$4:$AH$52,AJ55) -> 0 | AJ55: =Caractéristiques!$A5 -> A | AL55: =COUNTIF($AL$4:$AL$52,AN55) -> 0 | AN55: =Caractéristiques!$A5 -> A | AP55: =COUNTIF($AP$4:$AP$52,AR55) -> 0 | AR55: =Caractéristiques!$A5 -> A | AT55: =COUNTIF($AT$4:$AT$52,AV55) -> 0 | AV55: =Caractéristiques!$A5 -> A
B56: =COUNTIF($D$4:$D$52,D56) -> 7 | D56: =Caractéristiques!$A6 -> B | F56: =COUNTIF($H$4:$H$52,H56) -> 0 | H56: =Caractéristiques!$A6 -> B | J56: =COUNTIF($J$4:$J$52,L56) -> 0 | L56: =Caractéristiques!$A6 -> B | N56: =COUNTIF($N$4:$N$52,P56) -> 0 | P56: =Caractéristiques!$A6 -> B | R56: =COUNTIF($N$4:$N$52,T56) -> 0 | T56: =Caractéristiques!$A6 -> B | V56: =COUNTIF($V$4:$V$52,X56) -> 0 | X56: =Caractéristiques!$A6 -> B | Z56: =COUNTIF($Z$4:$Z$52,AB56) -> 0 | AB56: =Caractéristiques!$A6 -> B | AD56: =COUNTIF($AD$4:$AD$52,AF56) -> 0 | AF56: =Caractéristiques!$A6 -> B | AH56: =COUNTIF($AH$4:$AH$52,AJ56) -> 0 | AJ56: =Caractéristiques!$A6 -> B | AL56: =COUNTIF($AL$4:$AL$52,AN56) -> 0 | AN56: =Caractéristiques!$A6 -> B | AP56: =COUNTIF($AP$4:$AP$52,AR56) -> 0 | AR56: =Caractéristiques!$A6 -> B | AT56: =COUNTIF($AT$4:$AT$52,AV56) -> 0 | AV56: =Caractéristiques!$A6 -> B
B57: =COUNTIF($D$4:$D$52,D57) -> 2 | D57: =Caractéristiques!$A7 -> C | F57: =COUNTIF($H$4:$H$52,H57) -> 0 | H57: =Caractéristiques!$A7 -> C | J57: =COUNTIF($J$4:$J$52,L57) -> 0 | L57: =Caractéristiques!$A7 -> C | N57: =COUNTIF($N$4:$N$52,P57) -> 0 | P57: =Caractéristiques!$A7 -> C | R57: =COUNTIF($N$4:$N$52,T57) -> 0 | T57: =Caractéristiques!$A7 -> C | V57: =COUNTIF($V$4:$V$52,X57) -> 0 | X57: =Caractéristiques!$A7 -> C | Z57: =COUNTIF($Z$4:$Z$52,AB57) -> 0 | AB57: =Caractéristiques!$A7 -> C | AD57: =COUNTIF($AD$4:$AD$52,AF57) -> 0 | AF57: =Caractéristiques!$A7 -> C | AH57: =COUNTIF($AH$4:$AH$52,AJ57) -> 0 | AJ57: =Caractéristiques!$A7 -> C | AL57: =COUNTIF($AL$4:$AL$52,AN57) -> 0 | AN57: =Caractéristiques!$A7 -> C | AP57: =COUNTIF($AP$4:$AP$52,AR57) -> 0 | AR57: =Caractéristiques!$A7 -> C | AT57: =COUNTIF($AT$4:$AT$52,AV57) -> 0 | AV57: =Caractéristiques!$A7 -> C
B58: =COUNTIF($D$4:$D$52,D58) -> 1 | D58: =Caractéristiques!$A8 -> d | F58: =COUNTIF($H$4:$H$52,H58) -> 0 | H58: =Caractéristiques!$A8 -> d | J58: =COUNTIF($J$4:$J$52,L58) -> 0 | L58: =Caractéristiques!$A8 -> d | N58: =COUNTIF($N$4:$N$52,P58) -> 0 | P58: =Caractéristiques!$A8 -> d | R58: =COUNTIF($N$4:$N$52,T58) -> 0 | T58: =Caractéristiques!$A8 -> d | V58: =COUNTIF($V$4:$V$52,X58) -> 0 | X58: =Caractéristiques!$A8 -> d | Z58: =COUNTIF($Z$4:$Z$52,AB58) -> 0 | AB58: =Caractéristiques!$A8 -> d | AD58: =COUNTIF($AD$4:$AD$52,AF58) -> 0 | AF58: =Caractéristiques!$A8 -> d | AH58: =COUNTIF($AH$4:$AH$52,AJ58) -> 0 | AJ58: =Caractéristiques!$A8 -> d | AL58: =COUNTIF($AL$4:$AL$52,AN58) -> 0 | AN58: =Caractéristiques!$A8 -> d | AP58: =COUNTIF($AP$4:$AP$52,AR58) -> 0 | AR58: =Caractéristiques!$A8 -> d | AT58: =COUNTIF($AT$4:$AT$52,AV58) -> 0 | AV58: =Caractéristiques!$A8 -> d
B59: =COUNTIF($D$4:$D$52,D59) -> 1 | D59: =Caractéristiques!$A9 -> e | F59: =COUNTIF($H$4:$H$52,H59) -> 0 | H59: =Caractéristiques!$A9 -> e | J59: =COUNTIF($J$4:$J$52,L59) -> 0 | L59: =Caractéristiques!$A9 -> e | N59: =COUNTIF($N$4:$N$52,P59) -> 0 | P59: =Caractéristiques!$A9 -> e | R59: =COUNTIF($N$4:$N$52,T59) -> 0 | T59: =Caractéristiques!$A9 -> e | V59: =COUNTIF($V$4:$V$52,X59) -> 0 | X59: =Caractéristiques!$A9 -> e | Z59: =COUNTIF($Z$4:$Z$52,AB59) -> 0 | AB59: =Caractéristiques!$A9 -> e | AD59: =COUNTIF($AD$4:$AD$52,AF59) -> 0 | AF59: =Caractéristiques!$A9 -> e | AH59: =COUNTIF($AH$4:$AH$52,AJ59) -> 0 | AJ59: =Caractéristiques!$A9 -> e | AL59: =COUNTIF($AL$4:$AL$52,AN59) -> 0 | AN59: =Caractéristiques!$A9 -> e | AP59: =COUNTIF($AP$4:$AP$52,AR59) -> 0 | AR59: =Caractéristiques!$A9 -> e | AT59: =COUNTIF($AT$4:$AT$52,AV59) -> 0 | AV59: =Caractéristiques!$A9 -> e
B60: =COUNTIF($D$4:$D$52,D60) -> 0 | D60: =Caractéristiques!$A10 -> f | F60: =COUNTIF($H$4:$H$52,H60) -> 0 | H60: =Caractéristiques!$A10 -> f | J60: =COUNTIF($J$4:$J$52,L60) -> 0 | L60: =Caractéristiques!$A10 -> f | N60: =COUNTIF($N$4:$N$52,P60) -> 0 | P60: =Caractéristiques!$A10 -> f | R60: =COUNTIF($N$4:$N$52,T60) -> 0 | T60: =Caractéristiques!$A10 -> f | V60: =COUNTIF($V$4:$V$52,X60) -> 0 | X60: =Caractéristiques!$A10 -> f | Z60: =COUNTIF($Z$4:$Z$52,AB60) -> 0 | AB60: =Caractéristiques!$A10 -> f | AD60: =COUNTIF($AD$4:$AD$52,AF60) -> 0 | AF60: =Caractéristiques!$A10 -> f | AH60: =COUNTIF($AH$4:$AH$52,AJ60) -> 0 | AJ60: =Caractéristiques!$A10 -> f | AL60: =COUNTIF($AL$4:$AL$52,AN60) -> 0 | AN60: =Caractéristiques!$A10 -> f | AP60: =COUNTIF($AP$4:$AP$52,AR60) -> 0 | AR60: =Caractéristiques!$A10 -> f | AT60: =COUNTIF($AT$4:$AT$52,AV60) -> 0 | AV60: =Caractéristiques!$A10 -> f
B61: =COUNTIF($D$4:$D$52,D61) -> 0 | D61: =Caractéristiques!$A11 -> g | F61: =COUNTIF($H$4:$H$52,H61) -> 0 | H61: =Caractéristiques!$A11 -> g | J61: =COUNTIF($J$4:$J$52,L61) -> 0 | L61: =Caractéristiques!$A11 -> g | N61: =COUNTIF($N$4:$N$52,P61) -> 0 | P61: =Caractéristiques!$A11 -> g | R61: =COUNTIF($N$4:$N$52,T61) -> 0 | T61: =Caractéristiques!$A11 -> g | V61: =COUNTIF($V$4:$V$52,X61) -> 0 | X61: =Caractéristiques!$A11 -> g | Z61: =COUNTIF($Z$4:$Z$52,AB61) -> 0 | AB61: =Caractéristiques!$A11 -> g | AD61: =COUNTIF($AD$4:$AD$52,AF61) -> 0 | AF61: =Caractéristiques!$A11 -> g | AH61: =COUNTIF($AH$4:$AH$52,AJ61) -> 0 | AJ61: =Caractéristiques!$A11 -> g | AL61: =COUNTIF($AL$4:$AL$52,AN61) -> 0 | AN61: =Caractéristiques!$A11 -> g | AP61: =COUNTIF($AP$4:$AP$52,AR61) -> 0 | AR61: =Caractéristiques!$A11 -> g | AT61: =COUNTIF($AT$4:$AT$52,AV61) -> 0 | AV61: =Caractéristiques!$A11 -> g
B62: =COUNTIF($D$4:$D$52,D62) -> 0 | D62: =Caractéristiques!$A12 -> h | F62: =COUNTIF($H$4:$H$52,H62) -> 0 | H62: =Caractéristiques!$A12 -> h | J62: =COUNTIF($J$4:$J$52,L62) -> 0 | L62: =Caractéristiques!$A12 -> h | N62: =COUNTIF($N$4:$N$52,P62) -> 0 | P62: =Caractéristiques!$A12 -> h | R62: =COUNTIF($N$4:$N$52,T62) -> 0 | T62: =Caractéristiques!$A12 -> h | V62: =COUNTIF($V$4:$V$52,X62) -> 0 | X62: =Caractéristiques!$A12 -> h | Z62: =COUNTIF($Z$4:$Z$52,AB62) -> 0 | AB62: =Caractéristiques!$A12 -> h | AD62: =COUNTIF($AD$4:$AD$52,AF62) -> 0 | AF62: =Caractéristiques!$A12 -> h | AH62: =COUNTIF($AH$4:$AH$52,AJ62) -> 0 | AJ62: =Caractéristiques!$A12 -> h | AL62: =COUNTIF($AL$4:$AL$52,AN62) -> 0 | AN62: =Caractéristiques!$A12 -> h | AP62: =COUNTIF($AP$4:$AP$52,AR62) -> 0 | AR62: =Caractéristiques!$A12 -> h | AT62: =COUNTIF($AT$4:$AT$52,AV62) -> 0 | AV62: =Caractéristiques!$A12 -> h
B63: =COUNTIF($D$4:$D$52,D63) -> 0 | D63: =Caractéristiques!$A13 -> i | F63: =COUNTIF($H$4:$H$52,H63) -> 0 | H63: =Caractéristiques!$A13 -> i | J63: =COUNTIF($J$4:$J$52,L63) -> 0 | L63: =Caractéristiques!$A13 -> i | N63: =COUNTIF($N$4:$N$52,P63) -> 0 | P63: =Caractéristiques!$A13 -> i | R63: =COUNTIF($N$4:$N$52,T63) -> 0 | T63: =Caractéristiques!$A13 -> i | V63: =COUNTIF($V$4:$V$52,X63) -> 0 | X63: =Caractéristiques!$A13 -> i | Z63: =COUNTIF($Z$4:$Z$52,AB63) -> 0 | AB63: =Caractéristiques!$A13 -> i | AD63: =COUNTIF($AD$4:$AD$52,AF63) -> 0 | AF63: =Caractéristiques!$A13 -> i | AH63: =COUNTIF($AH$4:$AH$52,AJ63) -> 0 | AJ63: =Caractéristiques!$A13 -> i | AL63: =COUNTIF($AL$4:$AL$52,AN63) -> 0 | AN63: =Caractéristiques!$A13 -> i | AP63: =COUNTIF($AP$4:$AP$52,AR63) -> 0 | AR63: =Caractéristiques!$A13 -> i | AT63: =COUNTIF($AT$4:$AT$52,AV63) -> 0 | AV63: =Caractéristiques!$A13 -> i
B64: =COUNTIF($D$4:$D$52,D64) -> 0 | D64: =Caractéristiques!$A14 -> j | F64: =COUNTIF($H$4:$H$52,H64) -> 0 | H64: =Caractéristiques!$A14 -> j | J64: =COUNTIF($J$4:$J$52,L64) -> 0 | L64: =Caractéristiques!$A14 -> j | N64: =COUNTIF($N$4:$N$52,P64) -> 0 | P64: =Caractéristiques!$A14 -> j | R64: =COUNTIF($N$4:$N$52,T64) -> 0 | T64: =Caractéristiques!$A14 -> j | V64: =COUNTIF($V$4:$V$52,X64) -> 0 | X64: =Caractéristiques!$A14 -> j | Z64: =COUNTIF($Z$4:$Z$52,AB64) -> 0 | AB64: =Caractéristiques!$A14 -> j | AD64: =COUNTIF($AD$4:$AD$52,AF64) -> 0 | AF64: =Caractéristiques!$A14 -> j | AH64: =COUNTIF($AH$4:$AH$52,AJ64) -> 0 | AJ64: =Caractéristiques!$A14 -> j | AL64: =COUNTIF($AL$4:$AL$52,AN64) -> 0 | AN64: =Caractéristiques!$A14 -> j | AP64: =COUNTIF($AP$4:$AP$52,AR64) -> 0 | AR64: =Caractéristiques!$A14 -> j | AT64: =COUNTIF($AT$4:$AT$52,AV64) -> 0 | AV64: =Caractéristiques!$A14 -> j
B65: =COUNTIF($D$4:$D$52,D65) -> 0 | D65: =Caractéristiques!$A15 -> k | F65: =COUNTIF($H$4:$H$52,H65) -> 0 | H65: =Caractéristiques!$A15 -> k | J65: =COUNTIF($J$4:$J$52,L65) -> 0 | L65: =Caractéristiques!$A15 -> k | N65: =COUNTIF($N$4:$N$52,P65) -> 0 | P65: =Caractéristiques!$A15 -> k | R65: =COUNTIF($N$4:$N$52,T65) -> 0 | T65: =Caractéristiques!$A15 -> k | V65: =COUNTIF($V$4:$V$52,X65) -> 0 | X65: =Caractéristiques!$A15 -> k | Z65: =COUNTIF($Z$4:$Z$52,AB65) -> 0 | AB65: =Caractéristiques!$A15 -> k | AD65: =COUNTIF($AD$4:$AD$52,AF65) -> 0 | AF65: =Caractéristiques!$A15 -> k | AH65: =COUNTIF($AH$4:$AH$52,AJ65) -> 0 | AJ65: =Caractéristiques!$A15 -> k | AL65: =COUNTIF($AL$4:$AL$52,AN65) -> 0 | AN65: =Caractéristiques!$A15 -> k | AP65: =COUNTIF($AP$4:$AP$52,AR65) -> 0 | AR65: =Caractéristiques!$A15 -> k | AT65: =COUNTIF($AT$4:$AT$52,AV65) -> 0 | AV65: =Caractéristiques!$A15 -> k
B66: =COUNTIF($D$4:$D$52,D66) -> 0 | D66: =Caractéristiques!$A16 -> l | F66: =COUNTIF($H$4:$H$52,H66) -> 0 | H66: =Caractéristiques!$A16 -> l | J66: =COUNTIF($J$4:$J$52,L66) -> 0 | L66: =Caractéristiques!$A16 -> l | N66: =COUNTIF($N$4:$N$52,P66) -> 0 | P66: =Caractéristiques!$A16 -> l | R66: =COUNTIF($N$4:$N$52,T66) -> 0 | T66: =Caractéristiques!$A16 -> l | V66: =COUNTIF($V$4:$V$52,X66) -> 0 | X66: =Caractéristiques!$A16 -> l | Z66: =COUNTIF($Z$4:$Z$52,AB66) -> 0 | AB66: =Caractéristiques!$A16 -> l | AD66: =COUNTIF($AD$4:$AD$52,AF66) -> 0 | AF66: =Caractéristiques!$A16 -> l | AH66: =COUNTIF($AH$4:$AH$52,AJ66) -> 0 | AJ66: =Caractéristiques!$A16 -> l | AL66: =COUNTIF($AL$4:$AL$52,AN66) -> 0 | AN66: =Caractéristiques!$A16 -> l | AP66: =COUNTIF($AP$4:$AP$52,AR66) -> 0 | AR66: =Caractéristiques!$A16 -> l | AT66: =COUNTIF($AT$4:$AT$52,AV66) -> 0 | AV66: =Caractéristiques!$A16 -> l
B67: =COUNTIF($D$4:$D$52,D67) -> 0 | D67: =Caractéristiques!$A17 -> m | F67: =COUNTIF($H$4:$H$52,H67) -> 0 | H67: =Caractéristiques!$A17 -> m | J67: =COUNTIF($J$4:$J$52,L67) -> 0 | L67: =Caractéristiques!$A17 -> m | N67: =COUNTIF($N$4:$N$52,P67) -> 0 | P67: =Caractéristiques!$A17 -> m | R67: =COUNTIF($N$4:$N$52,T67) -> 0 | T67: =Caractéristiques!$A17 -> m | V67: =COUNTIF($V$4:$V$52,X67) -> 0 | X67: =Caractéristiques!$A17 -> m | Z67: =COUNTIF($Z$4:$Z$52,AB67) -> 0 | AB67: =Caractéristiques!$A17 -> m | AD67: =COUNTIF($AD$4:$AD$52,AF67) -> 0 | AF67: =Caractéristiques!$A17 -> m | AH67: =COUNTIF($AH$4:$AH$52,AJ67) -> 0 | AJ67: =Caractéristiques!$A17 -> m | AL67: =COUNTIF($AL$4:$AL$52,AN67) -> 0 | AN67: =Caractéristiques!$A17 -> m | AP67: =COUNTIF($AP$4:$AP$52,AR67) -> 0 | AR67: =Caractéristiques!$A17 -> m | AT67: =COUNTIF($AT$4:$AT$52,AV67) -> 0 | AV67: =Caractéristiques!$A17 -> m
... B86: =COUNTIF($D$4:$D$52,D86) -> 0 | D86: =Caractéristiques!$A36 -> 0 | F86: =COUNTIF($H$4:$H$52,H86) -> 0 | H86: =Caractéristiques!$A36 -> 0 | J86: =COUNTIF($J$4:$J$52,L86) -> 0 | L86: =Caractéristiques!$A36 -> 0 | N86: =COUNTIF($N$4:$N$52,P86) -> 0 | P86: =Caractéristiques!$A36 -> 0 | R86: =COUNTIF($N$4:$N$52,T86) -> 0 | T86: =Caractéristiques!$A36 -> 0 | V86: =COUNTIF($V$4:$V$52,X86) -> 0 | X86: =Caractéristiques!$A36 -> 0 | Z86: =COUNTIF($Z$4:$Z$52,AB86) -> 0 | AB86: =Caractéristiques!$A36 -> 0 | AD86: =COUNTIF($AD$4:$AD$52,AF86) -> 0 | AF86: =Caractéristiques!$A36 -> 0 | AH86: =COUNTIF($AH$4:$AH$52,AJ86) -> 0 | AJ86: =Caractéristiques!$A36 -> 0 | AL86: =COUNTIF($AL$4:$AL$52,AN86) -> 0 | AN86: =Caractéristiques!$A36 -> 0 | AP86: =COUNTIF($AP$4:$AP$52,AR86) -> 0 | AR86: =Caractéristiques!$A36 -> 0 | AT86: =COUNTIF($AT$4:$AT$52,AV86) -> 0 | AV86: =Caractéristiques!$A36 -> 0

Sheet Eymeric
B2: Janvier | F2: Février | J2: Mars | N2: Avril | R2: Mai | V2: Juin | Z2: Juillet | AD2: Août | AH2: Septembre | AL2: Octobre | AP2: Novembre | AT2: Décembre
B3: Jour | D3: Détail d'activité | F3: Jour | H3: Détail d'activité | J3: Jour | L3: Détail d'activité | N3: Jour | P3: Détail d'activité | R3: Jour | T3: Détail d'activité | V3: Jour | X3: Détail d'activité | Z3: Jour | AB3: Détail d'activité | AD3: Jour | AF3: Détail d'activité | AH3: Jour | AJ3: Détail d'activité | AL3: Jour | AN3: Détail d'activité | AP3: Jour | AR3: Détail d'activité | AT3: Jour | AV3: Détail d'activité
B4: Lundi | C4: 1 | F4: Jeudi | G4: 1 | J4: Jeudi | K4: 1 | N4: Lundi | O4: 2 | R4: Mardi | S4: 1 | V4: Vendredi | W4: 1 | Z4: Lundi | AA4: 2 | AD4: Mercredi | AE4: 1 | AH4: Lundi | AI4: 3 | AL4: Lundi | AM4: 1 | AP4: Jeudi | AQ4: 1 | AT4: Lundi | AU4: 3
B6: Mardi | C6: 2 | D6: A | F6: Vendredi | G6: 2 | J6: Vendredi | K6: 2 | N6: Mardi | O6: 3 | R6: Mercredi | S6: 2 | V6: Lundi | W6: 4 | Z6: Mardi | AA6: 3 | AD6: Jeudi | AE6: 2 | AH6: Mardi | AI6: 4 | AL6: Mardi | AM6: 2 | AP6: Vendredi | AQ6: 2 | AT6: Mardi | AU6: 4
D7: a
B8: Mercredi | C8: 3 | D8: b | F8: Lundi | G8: 5 | J8: Lundi | K8: 5 | N8: Mercredi | O8: 4 | R8: Jeudi | S8: 3 | V8: Mardi | W8: 5 | Z8: Mercredi | AA8: 4 | AD8: Vendredi | AE8: 3 | AH8: Mercredi | AI8: 5 | AL8: Mercredi | AM8: 3 | AP8: Lundi | AQ8: 5 | AT8: Mercredi | AU8: 5
D9: b
B10: Jeudi | C10: 4 | D10: b | F10: Mardi | G10: 6 | J10: Mardi | K10: 6 | N10: Jeudi | O10: 5 | R10: Vendredi | S10: 4 | V10: Mercredi | W10: 6 | Z10: Jeudi | AA10: 5 | AD10: Lundi | AE10: 6 | AH10: Jeudi | AI10: 6 | AL10: Jeudi | AM10: 4 | AP10: Mardi | AQ10: 6 | AT10: Jeudi | AU10: 6
D11: b
B12: Vendredi | C12: 5 | D12: c | F12: Mercredi | G12: 7 | J12: Mercredi | K12: 7 | N12: Vendredi | O12: 6 | R12: Lundi | S12: 7 | V12: Jeudi | W12: 7 | Z12: Vendredi | AA12: 6 | AD12: Mardi | AE12: 7 | AH12: Vendredi | AI12: 7 | AL12: Vendredi | AM12: 5 | AP12: Mercredi | AQ12: 7 | AT12: Vendredi | AU12: 7
D13: a | F13: Mercredi | G13: 7 | J13: Mercredi | K13: 7 | AP13: Mercredi | AQ13: 7
B14: Lundi | C14: 8 | D14: R&D | F14: Jeudi | G14: 8 | J14: Jeudi | K14: 8 | N14: Lundi | O14: 9 | R14: Mardi | S14: 8 | V14: Vendredi | W14: 8 | Z14: Lundi | AA14: 9 | AD14: Mercredi | AE14: 8 | AH14: Lundi | AI14: 10 | AL14: Lundi | AM14: 8 | AP14: Jeudi | AQ14: 8 | AT14: Lundi | AU14: 10
D15: Formation
B16: Mardi | C16: 9 | D16: a | F16: Vendredi | G16: 9 | J16: Vendredi | K16: 9 | N16: Mardi | O16: 10 | R16: Mercredi | S16: 9 | V16: Lundi | W16: 11 | Z16: Mardi | AA16: 10 | AD16: Jeudi | AE16: 9 | AH16: Mardi | AI16: 11 | AL16: Mardi | AM16: 9 | AP16: Vendredi | AQ16: 9 | AT16: Mardi | AU16: 11
D17: a
B18: Mercredi | C18: 10 | D18: a | F18: Lundi | G18: 12 | J18: Lundi | K18: 12 | N18: Mercredi | O18: 11 | R18: Jeudi | S18: 10 | V18: Mardi | W18: 12 | Z18: Mercredi | AA18: 11 | AD18: Vendredi | AE18: 10 | AH18: Mercredi | AI18: 12 | AL18: Mercredi | AM18: 10 | AP18: Lundi | AQ18: 12 | AT18: Mercredi | AU18: 12
D19: a
B20: Jeudi | C20: 11 | D20: a | F20: Mardi | G20: 13 | J20: Mardi | K20: 13 | N20: Jeudi | O20: 12 | R20: Vendredi | S20: 11 | V20: Mercredi | W20: 13 | Z20: Jeudi | AA20: 12 | AD20: Lundi | AE20: 13 | AH20: Jeudi | AI20: 13 | AL20: Jeudi | AM20: 11 | AP20: Mardi | AQ20: 13 | AT20: Jeudi | AU20: 13
D21: b
B22: Vendredi | C22: 12 | D22: c | F22: Mercredi | G22: 14 | J22: Mercredi | K22: 14 | N22: Vendredi | O22: 13 | R22: Lundi | S22: 14 | V22: Jeudi | W22: 14 | Z22: Vendredi | AA22: 13 | AD22: Mardi | AE22: 14 | AH22: Vendredi | AI22: 14 | AL22: Vendredi | AM22: 12 | AP22: Mercredi | AQ22: 14 | AT22: Vendredi | AU22: 14
D23: d | J23: Mercredi | AP23: Mercredi
B24: Lundi | C24: 15 | D24: a | F24: Jeudi | G24: 15 | J24: Jeudi | K24: 15 | N24: Lundi | O24: 16 | R24: Mardi | S24: 15 | V24: Vendredi | W24: 15 | Z24: Lundi | AA24: 16 | AD24: Mercredi | AE24: 15 | AH24: Lundi | AI24: 17 | AL24: Lundi | AM24: 15 | AP24: Jeudi | AQ24: 15 | AT24: Lundi | AU24: 17
D25: b
B26: Mardi | C26: 16 | D26: b | F26: Vendredi | G26: 16 | J26: Vendredi | K26: 16 | N26: Mardi | O26: 17 | R26: Mercredi | S26: 16 | V26: Lundi | W26: 18 | Z26: Mardi | AA26: 17 | AD26: Jeudi | AE26: 16 | AH26: Mardi | AI26: 18 | AL26: Mardi | AM26: 16 | AP26: Vendredi | AQ26: 16 | AT26: Mardi | AU26: 18
D27: a
B28: Mercredi | C28: 17 | D28: a | F28: Lundi | G28: 19 | J28: Lundi | K28: 19 | N28: Mercredi | O28: 18 | R28: Jeudi | S28: 17 | V28: Mardi | W28: 19 | Z28: Mercredi | AA28: 18 | AD28: Vendredi | AE28: 17 | AH28: Mercredi | AI28: 19 | AL28: Mercredi | AM28: 17 | AP28: Lundi | AQ28: 19 | AT28: Mercredi | AU28: 19
D29: a
B30: Jeudi | C30: 18 | D30: a | F30: Mardi | G30: 20 | J30: Mardi | K30: 20 | N30: Jeudi | O30: 19 | R30: Vendredi | S30: 18 | V30: Mercredi | W30: 20 | Z30: Jeudi | AA30: 19 | AD30: Lundi | AE30: 20 | AH30: Jeudi | AI30: 20 | AL30: Jeudi | AM30: 18 | AP30: Mardi | AQ30: 20 | AT30: Jeudi | AU30: 20
D31: a
B32: Vendredi | C32: 19 | D32: e | F32: Mercredi | G32: 21 | J32: Mercredi | K32: 21 | N32: Vendredi | O32: 20 | R32: Lundi | S32: 21 | V32: Jeudi | W32: 21 | Z32: Vendredi | AA32: 20 | AD32: Mardi | AE32: 21 | AH32: Vendredi | AI32: 21 | AL32: Vendredi | AM32: 19 | AP32: Mercredi | AQ32: 21 | AT32: Vendredi | AU32: 21
J33: Mercredi | AP33: Mercredi
B34: Lundi | C34: 22 | F34: Jeudi | G34: 22 | J34: Jeudi | K34: 22 | N34: Lundi | O34: 23 | R34: Mardi | S34: 22 | V34: Vendredi | W34: 22 | Z34: Lundi | AA34: 23 | AD34: Mercredi | AE34: 22 | AH34: Lundi | AI34: 24 | AL34: Lundi | AM34: 22 | AP34: Jeudi | AQ34: 22 | AT34: Lundi | AU34: 24
B36: Mardi | C36: 23 | F36: Vendredi | G36: 23 | J36: Vendredi | K36: 23 | N36: Mardi | O36: 24 | R36: Mercredi | S36: 23 | V36: Lundi | W36: 25 | Z36: Mardi | AA36: 24 | AD36: Jeudi | AE36: 23 | AH36: Mardi | AI36: 25 | AL36: Mardi | AM36: 23 | AP36: Vendredi | AQ36: 23 | AT36: Mardi | AU36: 25
B38: Mercredi | C38: 24 | F38: Lundi | G38: 26 | J38: Lundi | K38: 26 | N38: Mercredi | O38: 25 | R38: Jeudi | S38: 24 | V38: Mardi | W38: 26 | Z38: Mercredi | AA38: 25 | AD38: Vendredi | AE38: 24 | AH38: Mercredi | AI38: 26 | AL38: Mercredi | AM38: 24 | AP38: Lundi | AQ38: 26 | AT38: Mercredi | AU38: 26
B40: Jeudi | C40: 25 | F40: Mardi | G40: 27 | J40: Mardi | K40: 27 | N40: Jeudi | O40: 26 | R40: Vendredi | S40: 25 | V40: Mercredi | W40: 27 | Z40: Jeudi | AA40: 26 | AD40: Lundi | AE40: 27 | AH40: Jeudi | AI40: 27 | AL40: Jeudi | AM40: 25 | AP40: Mardi | AQ40: 27 | AT40: Jeudi | AU40: 27
B42: Vendredi | C42: 26 | F42: Mercredi | G42: 28 | J42: Mercredi | K42: 28 | N42: Vendredi | O42: 27 | R42: Lundi | S42: 28 | V42: Jeudi | W42: 28 | Z42: Vendredi | AA42: 27 | AD42: Mardi | AE42: 28 | AH42: Vendredi | AI42: 28 | AL42: Vendredi | AM42: 26 | AP42: Mercredi | AQ42: 28 | AT42: Vendredi | AU42: 28
J43: Mercredi | AP43: Mercredi
B44: Lundi | C44: 29 | J44: Jeudi | K44: 29 | N44: Lundi | O44: 30 | R44: Mardi | S44: 29 | V44: Vendredi | W44: 29 | Z44: Lundi | AA44: 30 | AD44: Mercredi | AE44: 29 | AH44: Lundi | AI44: 31 | AL44: Lundi | AM44: 29 | AP44: Jeudi | AQ44: 29 | AT44: Lundi | AU44: 31
B46: Mardi | C46: 30 | J46: Vendredi | K46: 30 | R46: Mercredi | S46: 30 | Z46: Mardi | AA46: 31 | AD46: Jeudi | AE46: 30 | AL46: Mardi | AM46: 30 | AP46: Vendredi | AQ46: 30
B48: Mercredi | C48: 31 | R48: Jeudi | S48: 31 | AD48: Vendredi | AE48: 31 | AL48: Mercredi | AM48: 31
B54: Apparition | D54: Description | F54: Apparition | H54: Description | J54: Apparition | L54: Description | N54: Apparition | P54: Description | R54: Apparition | T54: Description | V54: Apparition | X54: Description | Z54: Apparition | AB54: Description | AD54: Apparition | AF54: Description | AH54: Apparition | AJ54: Description | AL54: Apparition | AN54: Description | AP54: Apparition | AR54: Description | AT54: Apparition | AV54: Description
B55: 14 | D55: A | F55: 0 | H55: A | J55: 0 | L55: A | N55: 0 | P55: A | R55: 0 | T55: A | V55: 0 | X55: A | Z55: 0 | AB55: A | AD55: 0 | AF55: A | AH55: 0 | AJ55: A | AL55: 0 | AN55: A | AP55: 0 | AR55: A | AT55: 0 | AV55: A
B56: 7 | D56: B | F56: 0 | H56: B | J56: 0 | L56: B | N56: 0 | P56: B | R56: 0 | T56: B | V56: 0 | X56: B | Z56: 0 | AB56: B | AD56: 0 | AF56: B | AH56: 0 | AJ56: B | AL56: 0 | AN56: B | AP56: 0 | AR56: B | AT56: 0 | AV56: B
B57: 2 | D57: C | F57: 0 | H57: C | J57: 0 | L57: C | N57: 0 | P57: C | R57: 0 | T57: C | V57: 0 | X57: C | Z57: 0 | AB57: C | AD57: 0 | AF57: C | AH57: 0 | AJ57: C | AL57: 0 | AN57: C | AP57: 0 | AR57: C | AT57: 0 | AV57: C
B58: 1 | D58: d | F58: 0 | H58: d | J58: 0 | L58: d | N58: 0 | P58: d | R58: 0 | T58: d | V58: 0 | X58: d | Z58: 0 | AB58: d | AD58: 0 | AF58: d | AH58: 0 | AJ58: d | AL58: 0 | AN58: d | AP58: 0 | AR58: d | AT58: 0 | AV58: d
B59: 1 | D59: e | F59: 0 | H59: e | J59: 0 | L59: e | N59: 0 | P59: e | R59: 0 | T59: e | V59: 0 | X59: e | Z59: 0 | AB59: e | AD59: 0 | AF59: e | AH59: 0 | AJ59: e | AL59: 0 | AN59: e | AP59: 0 | AR59: e | AT59: 0 | AV59: e
B60: 0 | D60: f | F60: 0 | H60: f | J60: 0 | L60: f | N60: 0 | P60: f | R60: 0 | T60: f | V60: 0 | X60: f | Z60: 0 | AB60: f | AD60: 0 | AF60: f | AH60: 0 | AJ60: f | AL60: 0 | AN60: f | AP60: 0 | AR60: f | AT60: 0 | AV60: f
B61: 0 | D61: g | F61: 0 | H61: g | J61: 0 | L61: g | N61: 0 | P61: g | R61: 0 | T61: g | V61: 0 | X61: g | Z61: 0 | AB61: g | AD61: 0 | AF61: g | AH61: 0 | AJ61: g | AL61: 0 | AN61: g | AP61: 0 | AR61: g | AT61: 0 | AV61: g
B62: 0 | D62: h | F62: 0 | H62: h | J62: 0 | L62: h | N62: 0 | P62: h | R62: 0 | T62: h | V62: 0 | X62: h | Z62: 0 | AB62: h | AD62: 0 | AF62: h | AH62: 0 | AJ62: h | AL62: 0 | AN62: h | AP62: 0 | AR62: h | AT62: 0 | AV62: h
B63: 0 | D63: i | F63: 0 | H63: i | J63: 0 | L63: i | N63: 0 | P63: i | R63: 0 | T63: i | V63: 0 | X63: i | Z63: 0 | AB63: i | AD63: 0 | AF63: i | AH63: 0 | AJ63: i | AL63: 0 | AN63: i | AP63: 0 | AR63: i | AT63: 0 | AV63: i
B64: 0 | D64: j | F64: 0 | H64: j | J64: 0 | L64: j | N64: 0 | P64: j | R64: 0 | T64: j | V64: 0 | X64: j | Z64: 0 | AB64: j | AD64: 0 | AF64: j | AH64: 0 | AJ64: j | AL64: 0 | AN64: j | AP64: 0 | AR64: j | AT64: 0 | AV64: j
B65: 0 | D65: k | F65: 0 | H65: k | J65: 0 | L65: k | N65: 0 | P65: k | R65: 0 | T65: k | V65: 0 | X65: k | Z65: 0 | AB65: k | AD65: 0 | AF65: k | AH65: 0 | AJ65: k | AL65: 0 | AN65: k | AP65: 0 | AR65: k | AT65: 0 | AV65: k
B66: 0 | D66: l | F66: 0 | H66: l | J66: 0 | L66: l | N66: 0 | P66: l | R66: 0 | T66: l | V66: 0 | X66: l | Z66: 0 | AB66: l | AD66: 0 | AF66: l | AH66: 0 | AJ66: l | AL66: 0 | AN66: l | AP66: 0 | AR66: l | AT66: 0 | AV66: l
... B76: 0 | D76: Support à la vente | F76: 0 | H76: Support à la vente | J76: 0 | L76: Support à la vente | N76: 0 | P76: Support à la vente | R76: 0 | T76: Support à la vente | V76: 0 | X76: Support à la vente | Z76: 0 | AB76: Support à la vente | AD76: 0 | AF76: Support à la vente | AH76: 0 | AJ76: Support à la vente | AL76: 0 | AN76: Support à la vente | AP76: 0 | AR76: Support à la vente | AT76: 0 | AV76: Support à la vente

Sheet Jérome
B2: Janvier | F2: Février | J2: Mars | N2: Avril | R2: Mai | V2: Juin | Z2: Juillet | AD2: Août | AH2: Septembre | AL2: Octobre | AP2: Novembre | AT2: Décembre
B3: Jour | D3: Détail d'activité | F3: Jour | H3: Détail d'activité | J3: Jour | L3: Détail d'activité | N3: Jour | P3: Détail d'activité | R3: Jour | T3: Détail d'activité | V3: Jour | X3: Détail d'activité | Z3: Jour | AB3: Détail d'activité | AD3: Jour | AF3: Détail d'activité | AH3: Jour | AJ3: Détail d'activité | AL3: Jour | AN3: Détail d'activité | AP3: Jour | AR3: Détail d'activité | AT3: Jour | AV3: Détail d'activité
B4: Lundi | C4: 1 | F4: Jeudi | G4: 1 | J4: Jeudi | K4: 1 | N4: Lundi | O4: 2 | R4: Mardi | S4: 1 | V4: Vendredi | W4: 1 | Z4: Lundi | AA4: 2 | AD4: Mercredi | AE4: 1 | AH4: Lundi | AI4: 3 | AL4: Lundi | AM4: 1 | AP4: Jeudi | AQ4: 1 | AT4: Lundi | AU4: 3
B6: Mardi | C6: 2 | D6: A | F6: Vendredi | G6: 2 | J6: Vendredi | K6: 2 | N6: Mardi | O6: 3 | R6: Mercredi | S6: 2 | V6: Lundi | W6: 4 | Z6: Mardi | AA6: 3 | AD6: Jeudi | AE6: 2 | AH6: Mardi | AI6: 4 | AL6: Mardi | AM6: 2 | AP6: Vendredi | AQ6: 2 | AT6: Mardi | AU6: 4
D7: a
B8: Mercredi | C8: 3 | D8: b | F8: Lundi | G8: 5 | J8: Lundi | K8: 5 | N8: Mercredi | O8: 4 | R8: Jeudi | S8: 3 | V8: Mardi | W8: 5 | Z8: Mercredi | AA8: 4 | AD8: Vendredi | AE8: 3 | AH8: Mercredi | AI8: 5 | AL8: Mercredi | AM8: 3 | AP8: Lundi | AQ8: 5 | AT8: Mercredi | AU8: 5
D9: b
B10: Jeudi | C10: 4 | D10: b | F10: Mardi | G10: 6 | J10: Mardi | K10: 6 | N10: Jeudi | O10: 5 | R10: Vendredi | S10: 4 | V10: Mercredi | W10: 6 | Z10: Jeudi | AA10: 5 | AD10: Lundi | AE10: 6 | AH10: Jeudi | AI10: 6 | AL10: Jeudi | AM10: 4 | AP10: Mardi | AQ10: 6 | AT10: Jeudi | AU10: 6
D11: b
B12: Vendredi | C12: 5 | D12: c | F12: Mercredi | G12: 7 | J12: Mercredi | K12: 7 | N12: Vendredi | O12: 6 | R12: Lundi | S12: 7 | V12: Jeudi | W12: 7 | Z12: Vendredi | AA12: 6 | AD12: Mardi | AE12: 7 | AH12: Vendredi | AI12: 7 | AL12: Vendredi | AM12: 5 | AP12: Mercredi | AQ12: 7 | AT12: Vendredi | AU12: 7
D13: a | F13: Mercredi | G13: 7 | J13: Mercredi | K13: 7 | AP13: Mercredi | AQ13: 7
B14: Lundi | C14: 8 | D14: R&D | F14: Jeudi | G14: 8 | J14: Jeudi | K14: 8 | N14: Lundi | O14: 9 | R14: Mardi | S14: 8 | V14: Vendredi | W14: 8 | Z14: Lundi | AA14: 9 | AD14: Mercredi | AE14: 8 | AH14: Lundi | AI14: 10 | AL14: Lundi | AM14: 8 | AP14: Jeudi | AQ14: 8 | AT14: Lundi | AU14: 10
D15: Formation
B16: Mardi | C16: 9 | D16: a | F16: Vendredi | G16: 9 | J16: Vendredi | K16: 9 | N16: Mardi | O16: 10 | R16: Mercredi | S16: 9 | V16: Lundi | W16: 11 | Z16: Mardi | AA16: 10 | AD16: Jeudi | AE16: 9 | AH16: Mardi | AI16: 11 | AL16: Mardi | AM16: 9 | AP16: Vendredi | AQ16: 9 | AT16: Mardi | AU16: 11
D17: a
B18: Mercredi | C18: 10 | D18: a | F18: Lundi | G18: 12 | J18: Lundi | K18: 12 | N18: Mercredi | O18: 11 | R18: Jeudi | S18: 10 | V18: Mardi | W18: 12 | Z18: Mercredi | AA18: 11 | AD18: Vendredi | AE18: 10 | AH18: Mercredi | AI18: 12 | AL18: Mercredi | AM18: 10 | AP18: Lundi | AQ18: 12 | AT18: Mercredi | AU18: 12
D19: a
B20: Jeudi | C20: 11 | D20: a | F20: Mardi | G20: 13 | J20: Mardi | K20: 13 | N20: Jeudi | O20: 12 | R20: Vendredi | S20: 11 | V20: Mercredi | W20: 13 | Z20: Jeudi | AA20: 12 | AD20: Lundi | AE20: 13 | AH20: Jeudi | AI20: 13 | AL20: Jeudi | AM20: 11 | AP20: Mardi | AQ20: 13 | AT20: Jeudi | AU20: 13
D21: b
B22: Vendredi | C22: 12 | D22: c | F22: Mercredi | G22: 14 | J22: Mercredi | K22: 14 | N22: Vendredi | O22: 13 | R22: Lundi | S22: 14 | V22: Jeudi | W22: 14 | Z22: Vendredi | AA22: 13 | AD22: Mardi | AE22: 14 | AH22: Vendredi | AI22: 14 | AL22: Vendredi | AM22: 12 | AP22: Mercredi | AQ22: 14 | AT22: Vendredi | AU22: 14
D23: d | J23: Mercredi | AP23: Mercredi
B24: Lundi | C24: 15 | D24: a | F24: Jeudi | G24: 15 | J24: Jeudi | K24: 15 | N24: Lundi | O24: 16 | R24: Mardi | S24: 15 | V24: Vendredi | W24: 15 | Z24: Lundi | AA24: 16 | AD24: Mercredi | AE24: 15 | AH24: Lundi | AI24: 17 | AL24: Lundi | AM24: 15 | AP24: Jeudi | AQ24: 15 | AT24: Lundi | AU24: 17
D25: b
B26: Mardi | C26: 16 | D26: b | F26: Vendredi | G26: 16 | J26: Vendredi | K26: 16 | N26: Mardi | O26: 17 | R26: Mercredi | S26: 16 | V26: Lundi | W26: 18 | Z26: Mardi | AA26: 17 | AD26: Jeudi | AE26: 16 | AH26: Mardi | AI26: 18 | AL26: Mardi | AM26: 16 | AP26: Vendredi | AQ26: 16 | AT26: Mardi | AU26: 18
D27: a
B28: Mercredi | C28: 17 | D28: a | F28: Lundi | G28: 19 | J28: Lundi | K28: 19 | N28: Mercredi | O28: 18 | R28: Jeudi | S28: 17 | V28: Mardi | W28: 19 | Z28: Mercredi | AA28: 18 | AD28: Vendredi | AE28: 17 | AH28: Mercredi | AI28: 19 | AL28: Mercredi | AM28: 17 | AP28: Lundi | AQ28: 19 | AT28: Mercredi | AU28: 19
D29: a
B30: Jeudi | C30: 18 | D30: a | F30: Mardi | G30: 20 | J30: Mardi | K30: 20 | N30: Jeudi | O30: 19 | R30: Vendredi | S30: 18 | V30: Mercredi | W30: 20 | Z30: Jeudi | AA30: 19 | AD30: Lundi | AE30: 20 | AH30: Jeudi | AI30: 20 | AL30: Jeudi | AM30: 18 | AP30: Mardi | AQ30: 20 | AT30: Jeudi | AU30: 20
D31: a
B32: Vendredi | C32: 19 | D32: e | F32: Mercredi | G32: 21 | J32: Mercredi | K32: 21 | N32: Vendredi | O32: 20 | R32: Lundi | S32: 21 | V32: Jeudi | W32: 21 | Z32: Vendredi | AA32: 20 | AD32: Mardi | AE32: 21 | AH32: Vendredi | AI32: 21 | AL32: Vendredi | AM32: 19 | AP32: Mercredi | AQ32: 21 | AT32: Vendredi | AU32: 21
J33: Mercredi | AP33: Mercredi
B34: Lundi | C34: 22 | F34: Jeudi | G34: 22 | J34: Jeudi | K34: 22 | N34: Lundi | O34: 23 | R34: Mardi | S34: 22 | V34: Vendredi | W34: 22 | Z34: Lundi | AA34: 23 | AD34: Mercredi | AE34: 22 | AH34: Lundi | AI34: 24 | AL34: Lundi | AM34: 22 | AP34: Jeudi | AQ34: 22 | AT34: Lundi | AU34: 24
B36: Mardi | C36: 23 | F36: Vendredi | G36: 23 | J36: Vendredi | K36: 23 | N36: Mardi | O36: 24 | R36: Mercredi | S36: 23 | V36: Lundi | W36: 25 | Z36: Mardi | AA36: 24 | AD36: Jeudi | AE36: 23 | AH36: Mardi | AI36: 25 | AL36: Mardi | AM36: 23 | AP36: Vendredi | AQ36: 23 | AT36: Mardi | AU36: 25
B38: Mercredi | C38: 24 | F38: Lundi | G38: 26 | J38: Lundi | K38: 26 | N38: Mercredi | O38: 25 | R38: Jeudi | S38: 24 | V38: Mardi | W38: 26 | Z38: Mercredi | AA38: 25 | AD38: Vendredi | AE38: 24 | AH38: Mercredi | AI38: 26 | AL38: Mercredi | AM38: 24 | AP38: Lundi | AQ38: 26 | AT38: Mercredi | AU38: 26
B40: Jeudi | C40: 25 | F40: Mardi | G40: 27 | J40: Mardi | K40: 27 | N40: Jeudi | O40: 26 | R40: Vendredi | S40: 25 | V40: Mercredi | W40: 27 | Z40: Jeudi | AA40: 26 | AD40: Lundi | AE40: 27 | AH40: Jeudi | AI40: 27 | AL40: Jeudi | AM40: 25 | AP40: Mardi | AQ40: 27 | AT40: Jeudi | AU40: 27
B42: Vendredi | C42: 26 | F42: Mercredi | G42: 28 | J42: Mercredi | K42: 28 | N42: Vendredi | O42: 27 | R42: Lundi | S42: 28 | V42: Jeudi | W42: 28 | Z42: Vendredi | AA42: 27 | AD42: Mardi | AE42: 28 | AH42: Vendredi | AI42: 28 | AL42: Vendredi | AM42: 26 | AP42: Mercredi | AQ42: 28 | AT42: Vendredi | AU42: 28
J43: Mercredi | AP43: Mercredi
B44: Lundi | C44: 29 | J44: Jeudi | K44: 29 | N44: Lundi | O44: 30 | R44: Mardi | S44: 29 | V44: Vendredi | W44: 29 | Z44: Lundi | AA44: 30 | AD44: Mercredi | AE44: 29 | AH44: Lundi | AI44: 31 | AL44: Lundi | AM44: 29 | AP44: Jeudi | AQ44: 29 | AT44: Lundi | AU44: 31
B46: Mardi | C46: 30 | J46: Vendredi | K46: 30 | R46: Mercredi | S46: 30 | Z46: Mardi | AA46: 31 | AD46: Jeudi | AE46: 30 | AL46: Mardi | AM46: 30 | AP46: Vendredi | AQ46: 30
B48: Mercredi | C48: 31 | R48: Jeudi | S48: 31 | AD48: Vendredi | AE48: 31 | AL48: Mercredi | AM48: 31
B54: Apparition | D54: Description | F54: Apparition | H54: Description | J54: Apparition | L54: Description | N54: Apparition | P54: Description | R54: Apparition | T54: Description | V54: Apparition | X54: Description | Z54: Apparition | AB54: Description | AD54: Apparition | AF54: Description | AH54: Apparition | AJ54: Description | AL54: Apparition | AN54: Description | AP54: Apparition | AR54: Description | AT54: Apparition | AV54: Description
B55: 14 | D55: A | F55: 0 | H55: A | J55: 0 | L55: A | N55: 0 | P55: A | R55: 0 | T55: A | V55: 0 | X55: A | Z55: 0 | AB55: A | AD55: 0 | AF55: A | AH55: 0 | AJ55: A | AL55: 0 | AN55: A | AP55: 0 | AR55: A | AT55: 0 | AV55: A
B56: 7 | D56: B | F56: 0 | H56: B | J56: 0 | L56: B | N56: 0 | P56: B | R56: 0 | T56: B | V56: 0 | X56: B | Z56: 0 | AB56: B | AD56: 0 | AF56: B | AH56: 0 | AJ56: B | AL56: 0 | AN56: B | AP56: 0 | AR56: B | AT56: 0 | AV56: B
B57: 2 | D57: C | F57: 0 | H57: C | J57: 0 | L57: C | N57: 0 | P57: C | R57: 0 | T57: C | V57: 0 | X57: C | Z57: 0 | AB57: C | AD57: 0 | AF57: C | AH57: 0 | AJ57: C | AL57: 0 | AN57: C | AP57: 0 | AR57: C | AT57: 0 | AV57: C
B58: 1 | D58: d | F58: 0 | H58: d | J58: 0 | L58: d | N58: 0 | P58: d | R58: 0 | T58: d | V58: 0 | X58: d | Z58: 0 | AB58: d | AD58: 0 | AF58: d | AH58: 0 | AJ58: d | AL58: 0 | AN58: d | AP58: 0 | AR58: d | AT58: 0 | AV58: d
B59: 1 | D59: e | F59: 0 | H59: e | J59: 0 | L59: e | N59: 0 | P59: e | R59: 0 | T59: e | V59: 0 | X59: e | Z59: 0 | AB59: e | AD59: 0 | AF59: e | AH59: 0 | AJ59: e | AL59: 0 | AN59: e | AP59: 0 | AR59: e | AT59: 0 | AV59: e
B60: 0 | D60: f | F60: 0 | H60: f | J60: 0 | L60: f | N60: 0 | P60: f | R60: 0 | T60: f | V60: 0 | X60: f | Z60: 0 | AB60: f | AD60: 0 | AF60: f | AH60: 0 | AJ60: f | AL60: 0 | AN60: f | AP60: 0 | AR60: f | AT60: 0 | AV60: f
B61: 0 | D61: g | F61: 0 | H61: g | J61: 0 | L61: g | N61: 0 | P61: g | R61: 0 | T61: g | V61: 0 | X61: g | Z61: 0 | AB61: g | AD61: 0 | AF61: g | AH61: 0 | AJ61: g | AL61: 0 | AN61: g | AP61: 0 | AR61: g | AT61: 0 | AV61: g
B62: 0 | D62: h | F62: 0 | H62: h | J62: 0 | L62: h | N62: 0 | P62: h | R62: 0 | T62: h | V62: 0 | X62: h | Z62: 0 | AB62: h | AD62: 0 | AF62: h | AH62: 0 | AJ62: h | AL62: 0 | AN62: h | AP62: 0 | AR62: h | AT62: 0 | AV62: h
B63: 0 | D63: i | F63: 0 | H63: i | J63: 0 | L63: i | N63: 0 | P63: i | R63: 0 | T63: i | V63: 0 | X63: i | Z63: 0 | AB63: i | AD63: 0 | AF63: i | AH63: 0 | AJ63: i | AL63: 0 | AN63: i | AP63: 0 | AR63: i | AT63: 0 | AV63: i
B64: 0 | D64: j | F64: 0 | H64: j | J64: 0 | L64: j | N64: 0 | P64: j | R64: 0 | T64: j | V64: 0 | X64: j | Z64: 0 | AB64: j | AD64: 0 | AF64: j | AH64: 0 | AJ64: j | AL64: 0 | AN64: j | AP64: 0 | AR64: j | AT64: 0 | AV64: j
B65: 0 | D65: k | F65: 0 | H65: k | J65: 0 | L65: k | N65: 0 | P65: k | R65: 0 | T65: k | V65: 0 | X65: k | Z65: 0 | AB65: k | AD65: 0 | AF65: k | AH65: 0 | AJ65: k | AL65: 0 | AN65: k | AP65: 0 | AR65: k | AT65: 0 | AV65: k
B66: 0 | D66: l | F66: 0 | H66: l | J66: 0 | L66: l | N66: 0 | P66: l | R66: 0 | T66: l | V66: 0 | X66: l | Z66: 0 | AB66: l | AD66: 0 | AF66: l | AH66: 0 | AJ66: l | AL66: 0 | AN66: l | AP66: 0 | AR66: l | AT66: 0 | AV66: l
... B76: 0 | D76: Support à la vente | F76: 0 | H76: Support à la vente | J76: 0 | L76: Support à la vente | N76: 0 | P76: Support à la vente | R76: 0 | T76: Support à la vente | V76: 0 | X76: Support à la vente | Z76: 0 | AB76: Support à la vente | AD76: 0 | AF76: Support à la vente | AH76: 0 | AJ76: Support à la vente | AL76: 0 | AN76: Support à la vente | AP76: 0 | AR76: Support à la vente | AT76: 0 | AV76: Support à la vente

Sheet Flavie
B2: Janvier | F2: Février | J2: Mars | N2: Avril | R2: Mai | V2: Juin | Z2: Juillet | AD2: Août | AH2: Septembre | AL2: Octobre | AP2: Novembre | AT2: Décembre
B3: Jour | D3: Détail d'activité | F3: Jour | H3: Détail d'activité | J3: Jour | L3: Détail d'activité | N3: Jour | P3: Détail d'activité | R3: Jour | T3: Détail d'activité | V3: Jour | X3: Détail d'activité | Z3: Jour | AB3: Détail d'activité | AD3: Jour | AF3: Détail d'activité | AH3: Jour | AJ3: Détail d'activité | AL3: Jour | AN3: Détail d'activité | AP3: Jour | AR3: Détail d'activité | AT3: Jour | AV3: Détail d'activité
B4: Lundi | C4: 1 | F4: Jeudi | G4: 1 | J4: Jeudi | K4: 1 | N4: Lundi | O4: 2 | R4: Mardi | S4: 1 | V4: Vendredi | W4: 1 | Z4: Lundi | AA4: 2 | AD4: Mercredi | AE4: 1 | AH4: Lundi | AI4: 3 | AL4: Lundi | AM4: 1 | AP4: Jeudi | AQ4: 1 | AT4: Lundi | AU4: 3
B6: Mardi | C6: 2 | D6: A | F6: Vendredi | G6: 2 | J6: Vendredi | K6: 2 | N6: Mardi | O6: 3 | R6: Mercredi | S6: 2 | V6: Lundi | W6: 4 | Z6: Mardi | AA6: 3 | AD6: Jeudi | AE6: 2 | AH6: Mardi | AI6: 4 | AL6: Mardi | AM6: 2 | AP6: Vendredi | AQ6: 2 | AT6: Mardi | AU6: 4
D7: a
B8: Mercredi | C8: 3 | D8: b | F8: Lundi | G8: 5 | J8: Lundi | K8: 5 | N8: Mercredi | O8: 4 | R8: Jeudi | S8: 3 | V8: Mardi | W8: 5 | Z8: Mercredi | AA8: 4 | AD8: Vendredi | AE8: 3 | AH8: Mercredi | AI8: 5 | AL8: Mercredi | AM8: 3 | AP8: Lundi | AQ8: 5 | AT8: Mercredi | AU8: 5
D9: b
B10: Jeudi | C10: 4 | D10: b | F10: Mardi | G10: 6 | J10: Mardi | K10: 6 | N10: Jeudi | O10: 5 | R10: Vendredi | S10: 4 | V10: Mercredi | W10: 6 | Z10: Jeudi | AA10: 5 | AD10: Lundi | AE10: 6 | AH10: Jeudi | AI10: 6 | AL10: Jeudi | AM10: 4 | AP10: Mardi | AQ10: 6 | AT10: Jeudi | AU10: 6
D11: b
B12: Vendredi | C12: 5 | D12: c | F12: Mercredi | G12: 7 | J12: Mercredi | K12: 7 | N12: Vendredi | O12: 6 | R12: Lundi | S12: 7 | V12: Jeudi | W12: 7 | Z12: Vendredi | AA12: 6 | AD12: Mardi | AE12: 7 | AH12: Vendredi | AI12: 7 | AL12: Vendredi | AM12: 5 | AP12: Mercredi | AQ12: 7 | AT12: Vendredi | AU12: 7
D13: a | F13: Mercredi | G13: 7 | J13: Mercredi | K13: 7 | AP13: Mercredi | AQ13: 7
B14: Lundi | C14: 8 | D14: R&D | F14: Jeudi | G14: 8 | J14: Jeudi | K14: 8 | N14: Lundi | O14: 9 | R14: Mardi | S14: 8 | V14: Vendredi | W14: 8 | Z14: Lundi | AA14: 9 | AD14: Mercredi | AE14: 8 | AH14: Lundi | AI14: 10 | AL14: Lundi | AM14: 8 | AP14: Jeudi | AQ14: 8 | AT14: Lundi | AU14: 10
D15: Formation
B16: Mardi | C16: 9 | D16: a | F16: Vendredi | G16: 9 | J16: Vendredi | K16: 9 | N16: Mardi | O16: 10 | R16: Mercredi | S16: 9 | V16: Lundi | W16: 11 | Z16: Mardi | AA16: 10 | AD16: Jeudi | AE16: 9 | AH16: Mardi | AI16: 11 | AL16: Mardi | AM16: 9 | AP16: Vendredi | AQ16: 9 | AT16: Mardi | AU16: 11
D17: a
B18: Mercredi | C18: 10 | D18: a | F18: Lundi | G18: 12 | J18: Lundi | K18: 12 | N18: Mercredi | O18: 11 | R18: Jeudi | S18: 10 | V18: Mardi | W18: 12 | Z18: Mercredi | AA18: 11 | AD18: Vendredi | AE18: 10 | AH18: Mercredi | AI18: 12 | AL18: Mercredi | AM18: 10 | AP18: Lundi | AQ18: 12 | AT18: Mercredi | AU18: 12
D19: a
B20: Jeudi | C20: 11 | D20: a | F20: Mardi | G20: 13 | J20: Mardi | K20: 13 | N20: Jeudi | O20: 12 | R20: Vendredi | S20: 11 | V20: Mercredi | W20: 13 | Z20: Jeudi | AA20: 12 | AD20: Lundi | AE20: 13 | AH20: Jeudi | AI20: 13 | AL20: Jeudi | AM20: 11 | AP20: Mardi | AQ20: 13 | AT20: Jeudi | AU20: 13
D21: b
B22: Vendredi | C22: 12 | D22: c | F22: Mercredi | G22: 14 | J22: Mercredi | K22: 14 | N22: Vendredi | O22: 13 | R22: Lundi | S22: 14 | V22: Jeudi | W22: 14 | Z22: Vendredi | AA22: 13 | AD22: Mardi | AE22: 14 | AH22: Vendredi | AI22: 14 | AL22: Vendredi | AM22: 12 | AP22: Mercredi | AQ22: 14 | AT22: Vendredi | AU22: 14
D23: d | J23: Mercredi | AP23: Mercredi
B24: Lundi | C24: 15 | D24: a | F24: Jeudi | G24: 15 | J24: Jeudi | K24: 15 | N24: Lundi | O24: 16 | R24: Mardi | S24: 15 | V24: Vendredi | W24: 15 | Z24: Lundi | AA24: 16 | AD24: Mercredi | AE24: 15 | AH24: Lundi | AI24: 17 | AL24: Lundi | AM24: 15 | AP24: Jeudi | AQ24: 15 | AT24: Lundi | AU24: 17
D25: b
B26: Mardi | C26: 16 | D26: b | F26: Vendredi | G26: 16 | J26: Vendredi | K26: 16 | N26: Mardi | O26: 17 | R26: Mercredi | S26: 16 | V26: Lundi | W26: 18 | Z26: Mardi | AA26: 17 | AD26: Jeudi | AE26: 16 | AH26: Mardi | AI26: 18 | AL26: Mardi | AM26: 16 | AP26: Vendredi | AQ26: 16 | AT26: Mardi | AU26: 18
D27: a
B28: Mercredi | C28: 17 | D28: a | F28: Lundi | G28: 19 | J28: Lundi | K28: 19 | N28: Mercredi | O28: 18 | R28: Jeudi | S28: 17 | V28: Mardi | W28: 19 | Z28: Mercredi | AA28: 18 | AD28: Vendredi | AE28: 17 | AH28: Mercredi | AI28: 19 | AL28: Mercredi | AM28: 17 | AP28: Lundi | AQ28: 19 | AT28: Mercredi | AU28: 19
D29: a
B30: Jeudi | C30: 18 | D30: a | F30: Mardi | G30: 20 | J30: Mardi | K30: 20 | N30: Jeudi | O30: 19 | R30: Vendredi | S30: 18 | V30: Mercredi | W30: 20 | Z30: Jeudi | AA30: 19 | AD30: Lundi | AE30: 20 | AH30: Jeudi | AI30: 20 | AL30: Jeudi | AM30: 18 | AP30: Mardi | AQ30: 20 | AT30: Jeudi | AU30: 20
D31: a
B32: Vendredi | C32: 19 | D32: e | F32: Mercredi | G32: 21 | J32: Mercredi | K32: 21 | N32: Vendredi | O32: 20 | R32: Lundi | S32: 21 | V32: Jeudi | W32: 21 | Z32: Vendredi | AA32: 20 | AD32: Mardi | AE32: 21 | AH32: Vendredi | AI32: 21 | AL32: Vendredi | AM32: 19 | AP32: Mercredi | AQ32: 21 | AT32: Vendredi | AU32: 21
J33: Mercredi | AP33: Mercredi
B34: Lundi | C34: 22 | F34: Jeudi | G34: 22 | J34: Jeudi | K34: 22 | N34: Lundi | O34: 23 | R34: Mardi | S34: 22 | V34: Vendredi | W34: 22 | Z34: Lundi | AA34: 23 | AD34: Mercredi | AE34: 22 | AH34: Lundi | AI34: 24 | AL34: Lundi | AM34: 22 | AP34: Jeudi | AQ34: 22 | AT34: Lundi | AU34: 24
B36: Mardi | C36: 23 | F36: Vendredi | G36: 23 | J36: Vendredi | K36: 23 | N36: Mardi | O36: 24 | R36: Mercredi | S36: 23 | V36: Lundi | W36: 25 | Z36: Mardi | AA36: 24 | AD36: Jeudi | AE36: 23 | AH36: Mardi | AI36: 25 | AL36: Mardi | AM36: 23 | AP36: Vendredi | AQ36: 23 | AT36: Mardi | AU36: 25
B38: Mercredi | C38: 24 | F38: Lundi | G38: 26 | J38: Lundi | K38: 26 | N38: Mercredi | O38: 25 | R38: Jeudi | S38: 24 | V38: Mardi | W38: 26 | Z38: Mercredi | AA38: 25 | AD38: Vendredi | AE38: 24 | AH38: Mercredi | AI38: 26 | AL38: Mercredi | AM38: 24 | AP38: Lundi | AQ38: 26 | AT38: Mercredi | AU38: 26
B40: Jeudi | C40: 25 | F40: Mardi | G40: 27 | J40: Mardi | K40: 27 | N40: Jeudi | O40: 26 | R40: Vendredi | S40: 25 | V40: Mercredi | W40: 27 | Z40: Jeudi | AA40: 26 | AD40: Lundi | AE40: 27 | AH40: Jeudi | AI40: 27 | AL40: Jeudi | AM40: 25 | AP40: Mardi | AQ40: 27 | AT40: Jeudi | AU40: 27
B42: Vendredi | C42: 26 | F42: Mercredi | G42: 28 | J42: Mercredi | K42: 28 | N42: Vendredi | O42: 27 | R42: Lundi | S42: 28 | V42: Jeudi | W42: 28 | Z42: Vendredi | AA42: 27 | AD42: Mardi | AE42: 28 | AH42: Vendredi | AI42: 28 | AL42: Vendredi | AM42: 26 | AP42: Mercredi | AQ42: 28 | AT42: Vendredi | AU42: 28
J43: Mercredi | AP43: Mercredi
B44: Lundi | C44: 29 | J44: Jeudi | K44: 29 | N44: Lundi | O44: 30 | R44: Mardi | S44: 29 | V44: Vendredi | W44: 29 | Z44: Lundi | AA44: 30 | AD44: Mercredi | AE44: 29 | AH44: Lundi | AI44: 31 | AL44: Lundi | AM44: 29 | AP44: Jeudi | AQ44: 29 | AT44: Lundi | AU44: 31
B46: Mardi | C46: 30 | J46: Vendredi | K46: 30 | R46: Mercredi | S46: 30 | Z46: Mardi | AA46: 31 | AD46: Jeudi | AE46: 30 | AL46: Mardi | AM46: 30 | AP46: Vendredi | AQ46: 30
B48: Mercredi | C48: 31 | R48: Jeudi | S48: 31 | AD48: Vendredi | AE48: 31 | AL48: Mercredi | AM48: 31
B54: Apparition | D54: Description | F54: Apparition | H54: Description | J54: Apparition | L54: Description | N54: Apparition | P54: Description | R54: Apparition | T54: Description | V54: Apparition | X54: Description | Z54: Apparition | AB54: Description | AD54: Apparition | AF54: Description | AH54: Apparition | AJ54: Description | AL54: Apparition | AN54: Description | AP54: Apparition | AR54: Description | AT54: Apparition | AV54: Description
B55: 14 | D55: A | F55: 0 | H55: A | J55: 0 | L55: A | N55: 0 | P55: A | R55: 0 | T55: A | V55: 0 | X55: A | Z55: 0 | AB55: A | AD55: 0 | AF55: A | AH55: 0 | AJ55: A | AL55: 0 | AN55: A | AP55: 0 | AR55: A | AT55: 0 | AV55: A
B56: 7 | D56: B | F56: 0 | H56: B | J56: 0 | L56: B | N56: 0 | P56: B | R56: 0 | T56: B | V56: 0 | X56: B | Z56: 0 | AB56: B | AD56: 0 | AF56: B | AH56: 0 | AJ56: B | AL56: 0 | AN56: B | AP56: 0 | AR56: B | AT56: 0 | AV56: B
B57: 2 | D57: C | F57: 0 | H57: C | J57: 0 | L57: C | N57: 0 | P57: C | R57: 0 | T57: C | V57: 0 | X57: C | Z57: 0 | AB57: C | AD57: 0 | AF57: C | AH57: 0 | AJ57: C | AL57: 0 | AN57: C | AP57: 0 | AR57: C | AT57: 0 | AV57: C
B58: 1 | D58: d | F58: 0 | H58: d | J58: 0 | L58: d | N58: 0 | P58: d | R58: 0 | T58: d | V58: 0 | X58: d | Z58: 0 | AB58: d | AD58: 0 | AF58: d | AH58: 0 | AJ58: d | AL58: 0 | AN58: d | AP58: 0 | AR58: d | AT58: 0 | AV58: d
B59: 1 | D59: e | F59: 0 | H59: e | J59: 0 | L59: e | N59: 0 | P59: e | R59: 0 | T59: e | V59: 0 | X59: e | Z59: 0 | AB59: e | AD59: 0 | AF59: e | AH59: 0 | AJ59: e | AL59: 0 | AN59: e | AP59: 0 | AR59: e | AT59: 0 | AV59: e
B60: 0 | D60: f | F60: 0 | H60: f | J60: 0 | L60: f | N60: 0 | P60: f | R60: 0 | T60: f | V60: 0 | X60: f | Z60: 0 | AB60: f | AD60: 0 | AF60: f | AH60: 0 | AJ60: f | AL60: 0 | AN60: f | AP60: 0 | AR60: f | AT60: 0 | AV60: f
B61: 0 | D61: g | F61: 0 | H61: g | J61: 0 | L61: g | N61: 0 | P61: g | R61: 0 | T61: g | V61: 0 | X61: g | Z61: 0 | AB61: g | AD61: 0 | AF61: g | AH61: 0 | AJ61: g | AL61: 0 | AN61: g | AP61: 0 | AR61: g | AT61: 0 | AV61: g
B62: 0 | D62: h | F62: 0 | H62: h | J62: 0 | L62: h | N62: 0 | P62: h | R62: 0 | T62: h | V62: 0 | X62: h | Z62: 0 | AB62: h | AD62: 0 | AF62: h | AH62: 0 | AJ62: h | AL62: 0 | AN62: h | AP62: 0 | AR62: h | AT62: 0 | AV62: h
B63: 0 | D63: i | F63: 0 | H63: i | J63: 0 | L63: i | N63: 0 | P63: i | R63: 0 | T63: i | V63: 0 | X63: i | Z63: 0 | AB63: i | AD63: 0 | AF63: i | AH63: 0 | AJ63: i | AL63: 0 | AN63: i | AP63: 0 | AR63: i | AT63: 0 | AV63: i
B64: 0 | D64: j | F64: 0 | H64: j | J64: 0 | L64: j | N64: 0 | P64: j | R64: 0 | T64: j | V64: 0 | X64: j | Z64: 0 | AB64: j | AD64: 0 | AF64: j | AH64: 0 | AJ64: j | AL64: 0 | AN64: j | AP64: 0 | AR64: j | AT64: 0 | AV64: j
B65: 0 | D65: k | F65: 0 | H65: k | J65: 0 | L65: k | N65: 0 | P65: k | R65: 0 | T65: k | V65: 0 | X65: k | Z65: 0 | AB65: k | AD65: 0 | AF65: k | AH65: 0 | AJ65: k | AL65: 0 | AN65: k | AP65: 0 | AR65: k | AT65: 0 | AV65: k
B66: 0 | D66: l | F66: 0 | H66: l | J66: 0 | L66: l | N66: 0 | P66: l | R66: 0 | T66: l | V66: 0 | X66: l | Z66: 0 | AB66: l | AD66: 0 | AF66: l | AH66: 0 | AJ66: l | AL66: 0 | AN66: l | AP66: 0 | AR66: l | AT66: 0 | AV66: l
... B76: 0 | D76: Support à la vente | F76: 0 | H76: Support à la vente | J76: 0 | L76: Support à la vente | N76: 0 | P76: Support à la vente | R76: 0 | T76: Support à la vente | V76: 0 | X76: Support à la vente | Z76: 0 | AB76: Support à la vente | AD76: 0 | AF76: Support à la vente | AH76: 0 | AJ76: Support à la vente | AL76: 0 | AN76: Support à la vente | AP76: 0 | AR76: Support à la vente | AT76: 0 | AV76: Support à la vente

Sheet Feuil4
B2: Janvier | F2: Février | J2: Mars | N2: Avril | R2: Mai | V2: Juin | Z2: Juillet | AD2: Août | AH2: Septembre | AL2: Octobre | AP2: Novembre | AT2: Décembre
B3: Jour | D3: Détail d'activité | F3: Jour | H3: Détail d'activité | J3: Jour | L3: Détail d'activité | N3: Jour | P3: Détail d'activité | R3: Jour | T3: Détail d'activité | V3: Jour | X3: Détail d'activité | Z3: Jour | AB3: Détail d'activité | AD3: Jour | AF3: Détail d'activité | AH3: Jour | AJ3: Détail d'activité | AL3: Jour | AN3: Détail d'activité | AP3: Jour | AR3: Détail d'activité | AT3: Jour | AV3: Détail d'activité
B4: Lundi | C4: 1 | F4: Jeudi | G4: 1 | J4: Jeudi | K4: 1 | N4: Lundi | O4: 2 | R4: Mardi | S4: 1 | V4: Vendredi | W4: 1 | Z4: Lundi | AA4: 2 | AD4: Mercredi | AE4: 1 | AH4: Lundi | AI4: 3 | AL4: Lundi | AM4: 1 | AP4: Jeudi | AQ4: 1 | AT4: Lundi | AU4: 3
B6: Mardi | C6: 2 | D6: A | F6: Vendredi | G6: 2 | J6: Vendredi | K6: 2 | N6: Mardi | O6: 3 | R6: Mercredi | S6: 2 | V6: Lundi | W6: 4 | Z6: Mardi | AA6: 3 | AD6: Jeudi | AE6: 2 | AH6: Mardi | AI6: 4 | AL6: Mardi | AM6: 2 | AP6: Vendredi | AQ6: 2 | AT6: Mardi | AU6: 4
D7: a
B8: Mercredi | C8: 3 | D8: b | F8: Lundi | G8: 5 | J8: Lundi | K8: 5 | N8: Mercredi | O8: 4 | R8: Jeudi | S8: 3 | V8: Mardi | W8: 5 | Z8: Mercredi | AA8: 4 | AD8: Vendredi | AE8: 3 | AH8: Mercredi | AI8: 5 | AL8: Mercredi | AM8: 3 | AP8: Lundi | AQ8: 5 | AT8: Mercredi | AU8: 5
D9: b
B10: Jeudi | C10: 4 | D10: b | F10: Mardi | G10: 6 | J10: Mardi | K10: 6 | N10: Jeudi | O10: 5 | R10: Vendredi | S10: 4 | V10: Mercredi | W10: 6 | Z10: Jeudi | AA10: 5 | AD10: Lundi | AE10: 6 | AH10: Jeudi | AI10: 6 | AL10: Jeudi | AM10: 4 | AP10: Mardi | AQ10: 6 | AT10: Jeudi | AU10: 6
D11: b
B12: Vendredi | C12: 5 | D12: c | F12: Mercredi | G12: 7 | J12: Mercredi | K12: 7 | N12: Vendredi | O12: 6 | R12: Lundi | S12: 7 | V12: Jeudi | W12: 7 | Z12: Vendredi | AA12: 6 | AD12: Mardi | AE12: 7 | AH12: Vendredi | AI12: 7 | AL12: Vendredi | AM12: 5 | AP12: Mercredi | AQ12: 7 | AT12: Vendredi | AU12: 7
D13: a | F13: Mercredi | G13: 7 | J13: Mercredi | K13: 7 | AP13: Mercredi | AQ13: 7
B14: Lundi | C14: 8 | D14: R&D | F14: Jeudi | G14: 8 | J14: Jeudi | K14: 8 | N14: Lundi | O14: 9 | R14: Mardi | S14: 8 | V14: Vendredi | W14: 8 | Z14: Lundi | AA14: 9 | AD14: Mercredi | AE14: 8 | AH14: Lundi | AI14: 10 | AL14: Lundi | AM14: 8 | AP14: Jeudi | AQ14: 8 | AT14: Lundi | AU14: 10
D15: Formation
B16: Mardi | C16: 9 | D16: a | F16: Vendredi | G16: 9 | J16: Vendredi | K16: 9 | N16: Mardi | O16: 10 | R16: Mercredi | S16: 9 | V16: Lundi | W16: 11 | Z16: Mardi | AA16: 10 | AD16: Jeudi | AE16: 9 | AH16: Mardi | AI16: 11 | AL16: Mardi | AM16: 9 | AP16: Vendredi | AQ16: 9 | AT16: Mardi | AU16: 11
D17: a
B18: Mercredi | C18: 10 | D18: a | F18: Lundi | G18: 12 | J18: Lundi | K18: 12 | N18: Mercredi | O18: 11 | R18: Jeudi | S18: 10 | V18: Mardi | W18: 12 | Z18: Mercredi | AA18: 11 | AD18: Vendredi | AE18: 10 | AH18: Mercredi | AI18: 12 | AL18: Mercredi | AM18: 10 | AP18: Lundi | AQ18: 12 | AT18: Mercredi | AU18: 12
D19: a
B20: Jeudi | C20: 11 | D20: a | F20: Mardi | G20: 13 | J20: Mardi | K20: 13 | N20: Jeudi | O20: 12 | R20: Vendredi | S20: 11 | V20: Mercredi | W20: 13 | Z20: Jeudi | AA20: 12 | AD20: Lundi | AE20: 13 | AH20: Jeudi | AI20: 13 | AL20: Jeudi | AM20: 11 | AP20: Mardi | AQ20: 13 | AT20: Jeudi | AU20: 13
D21: b
B22: Vendredi | C22: 12 | D22: c | F22: Mercredi | G22: 14 | J22: Mercredi | K22: 14 | N22: Vendredi | O22: 13 | R22: Lundi | S22: 14 | V22: Jeudi | W22: 14 | Z22: Vendredi | AA22: 13 | AD22: Mardi | AE22: 14 | AH22: Vendredi | AI22: 14 | AL22: Vendredi | AM22: 12 | AP22: Mercredi | AQ22: 14 | AT22: Vendredi | AU22: 14
D23: d | J23: Mercredi | AP23: Mercredi
B24: Lundi | C24: 15 | D24: a | F24: Jeudi | G24: 15 | J24: Jeudi | K24: 15 | N24: Lundi | O24: 16 | R24: Mardi | S24: 15 | V24: Vendredi | W24: 15 | Z24: Lundi | AA24: 16 | AD24: Mercredi | AE24: 15 | AH24: Lundi | AI24: 17 | AL24: Lundi | AM24: 15 | AP24: Jeudi | AQ24: 15 | AT24: Lundi | AU24: 17
D25: b
B26: Mardi | C26: 16 | D26: b | F26: Vendredi | G26: 16 | J26: Vendredi | K26: 16 | N26: Mardi | O26: 17 | R26: Mercredi | S26: 16 | V26: Lundi | W26: 18 | Z26: Mardi | AA26: 17 | AD26: Jeudi | AE26: 16 | AH26: Mardi | AI26: 18 | AL26: Mardi | AM26: 16 | AP26: Vendredi | AQ26: 16 | AT26: Mardi | AU26: 18
D27: a
B28: Mercredi | C28: 17 | D28: a | F28: Lundi | G28: 19 | J28: Lundi | K28: 19 | N28: Mercredi | O28: 18 | R28: Jeudi | S28: 17 | V28: Mardi | W28: 19 | Z28: Mercredi | AA28: 18 | AD28: Vendredi | AE28: 17 | AH28: Mercredi | AI28: 19 | AL28: Mercredi | AM28: 17 | AP28: Lundi | AQ28: 19 | AT28: Mercredi | AU28: 19
D29: a
B30: Jeudi | C30: 18 | D30: a | F30: Mardi | G30: 20 | J30: Mardi | K30: 20 | N30: Jeudi | O30: 19 | R30: Vendredi | S30: 18 | V30: Mercredi | W30: 20 | Z30: Jeudi | AA30: 19 | AD30: Lundi | AE30: 20 | AH30: Jeudi | AI30: 20 | AL30: Jeudi | AM30: 18 | AP30: Mardi | AQ30: 20 | AT30: Jeudi | AU30: 20
D31: a
B32: Vendredi | C32: 19 | D32: e | F32: Mercredi | G32: 21 | J32: Mercredi | K32: 21 | N32: Vendredi | O32: 20 | R32: Lundi | S32: 21 | V32: Jeudi | W32: 21 | Z32: Vendredi | AA32: 20 | AD32: Mardi | AE32: 21 | AH32: Vendredi | AI32: 21 | AL32: Vendredi | AM32: 19 | AP32: Mercredi | AQ32: 21 | AT32: Vendredi | AU32: 21
J33: Mercredi | AP33: Mercredi
B34: Lundi | C34: 22 | F34: Jeudi | G34: 22 | J34: Jeudi | K34: 22 | N34: Lundi | O34: 23 | R34: Mardi | S34: 22 | V34: Vendredi | W34: 22 | Z34: Lundi | AA34: 23 | AD34: Mercredi | AE34: 22 | AH34: Lundi | AI34: 24 | AL34: Lundi | AM34: 22 | AP34: Jeudi | AQ34: 22 | AT34: Lundi | AU34: 24
B36: Mardi | C36: 23 | F36: Vendredi | G36: 23 | J36: Vendredi | K36: 23 | N36: Mardi | O36: 24 | R36: Mercredi | S36: 23 | V36: Lundi | W36: 25 | Z36: Mardi | AA36: 24 | AD36: Jeudi | AE36: 23 | AH36: Mardi | AI36: 25 | AL36: Mardi | AM36: 23 | AP36: Vendredi | AQ36: 23 | AT36: Mardi | AU36: 25
B38: Mercredi | C38: 24 | F38: Lundi | G38: 26 | J38: Lundi | K38: 26 | N38: Mercredi | O38: 25 | R38: Jeudi | S38: 24 | V38: Mardi | W38: 26 | Z38: Mercredi | AA38: 25 | AD38: Vendredi | AE38: 24 | AH38: Mercredi | AI38: 26 | AL38: Mercredi | AM38: 24 | AP38: Lundi | AQ38: 26 | AT38: Mercredi | AU38: 26
B40: Jeudi | C40: 25 | F40: Mardi | G40: 27 | J40: Mardi | K40: 27 | N40: Jeudi | O40: 26 | R40: Vendredi | S40: 25 | V40: Mercredi | W40: 27 | Z40: Jeudi | AA40: 26 | AD40: Lundi | AE40: 27 | AH40: Jeudi | AI40: 27 | AL40: Jeudi | AM40: 25 | AP40: Mardi | AQ40: 27 | AT40: Jeudi | AU40: 27
B42: Vendredi | C42: 26 | F42: Mercredi | G42: 28 | J42: Mercredi | K42: 28 | N42: Vendredi | O42: 27 | R42: Lundi | S42: 28 | V42: Jeudi | W42: 28 | Z42: Vendredi | AA42: 27 | AD42: Mardi | AE42: 28 | AH42: Vendredi | AI42: 28 | AL42: Vendredi | AM42: 26 | AP42: Mercredi | AQ42: 28 | AT42: Vendredi | AU42: 28
J43: Mercredi | AP43: Mercredi
B44: Lundi | C44: 29 | J44: Jeudi | K44: 29 | N44: Lundi | O44: 30 | R44: Mardi | S44: 29 | V44: Vendredi | W44: 29 | Z44: Lundi | AA44: 30 | AD44: Mercredi | AE44: 29 | AH44: Lundi | AI44: 31 | AL44: Lundi | AM44: 29 | AP44: Jeudi | AQ44: 29 | AT44: Lundi | AU44: 31
B46: Mardi | C46: 30 | J46: Vendredi | K46: 30 | R46: Mercredi | S46: 30 | Z46: Mardi | AA46: 31 | AD46: Jeudi | AE46: 30 | AL46: Mardi | AM46: 30 | AP46: Vendredi | AQ46: 30
B48: Mercredi | C48: 31 | R48: Jeudi | S48: 31 | AD48: Vendredi | AE48: 31 | AL48: Mercredi | AM48: 31
B54: Apparition | D54: Description | F54: Apparition | H54: Description | J54: Apparition | L54: Description | N54: Apparition | P54: Description | R54: Apparition | T54: Description | V54: Apparition | X54: Description | Z54: Apparition | AB54: Description | AD54: Apparition | AF54: Description | AH54: Apparition | AJ54: Description | AL54: Apparition | AN54: Description | AP54: Apparition | AR54: Description | AT54: Apparition | AV54: Description
B55: 14 | D55: A | F55: 0 | H55: A | J55: 0 | L55: A | N55: 0 | P55: A | R55: 0 | T55: A | V55: 0 | X55: A | Z55: 0 | AB55: A | AD55: 0 | AF55: A | AH55: 0 | AJ55: A | AL55: 0 | AN55: A | AP55: 0 | AR55: A | AT55: 0 | AV55: A
B56: 7 | D56: B | F56: 0 | H56: B | J56: 0 | L56: B | N56: 0 | P56: B | R56: 0 | T56: B | V56: 0 | X56: B | Z56: 0 | AB56: B | AD56: 0 | AF56: B | AH56: 0 | AJ56: B | AL56: 0 | AN56: B | AP56: 0 | AR56: B | AT56: 0 | AV56: B
B57: 2 | D57: C | F57: 0 | H57: C | J57: 0 | L57: C | N57: 0 | P57: C | R57: 0 | T57: C | V57: 0 | X57: C | Z57: 0 | AB57: C | AD57: 0 | AF57: C | AH57: 0 | AJ57: C | AL57: 0 | AN57: C | AP57: 0 | AR57: C | AT57: 0 | AV57: C
B58: 1 | D58: d | F58: 0 | H58: d | J58: 0 | L58: d | N58: 0 | P58: d | R58: 0 | T58: d | V58: 0 | X58: d | Z58: 0 | AB58: d | AD58: 0 | AF58: d | AH58: 0 | AJ58: d | AL58: 0 | AN58: d | AP58: 0 | AR58: d | AT58: 0 | AV58: d
B59: 1 | D59: e | F59: 0 | H59: e | J59: 0 | L59: e | N59: 0 | P59: e | R59: 0 | T59: e | V59: 0 | X59: e | Z59: 0 | AB59: e | AD59: 0 | AF59: e | AH59: 0 | AJ59: e | AL59: 0 | AN59: e | AP59: 0 | AR59: e | AT59: 0 | AV59: e
B60: 0 | D60: f | F60: 0 | H60: f | J60: 0 | L60: f | N60: 0 | P60: f | R60: 0 | T60: f | V60: 0 | X60: f | Z60: 0 | AB60: f | AD60: 0 | AF60: f | AH60: 0 | AJ60: f | AL60: 0 | AN60: f | AP60: 0 | AR60: f | AT60: 0 | AV60: f
B61: 0 | D61: g | F61: 0 | H61: g | J61: 0 | L61: g | N61: 0 | P61: g | R61: 0 | T61: g | V61: 0 | X61: g | Z61: 0 | AB61: g | AD61: 0 | AF61: g | AH61: 0 | AJ61: g | AL61: 0 | AN61: g | AP61: 0 | AR61: g | AT61: 0 | AV61: g
B62: 0 | D62: h | F62: 0 | H62: h | J62: 0 | L62: h | N62: 0 | P62: h | R62: 0 | T62: h | V62: 0 | X62: h | Z62: 0 | AB62: h | AD62: 0 | AF62: h | AH62: 0 | AJ62: h | AL62: 0 | AN62: h | AP62: 0 | AR62: h | AT62: 0 | AV62: h
B63: 0 | D63: i | F63: 0 | H63: i | J63: 0 | L63: i | N63: 0 | P63: i | R63: 0 | T63: i | V63: 0 | X63: i | Z63: 0 | AB63: i | AD63: 0 | AF63: i | AH63: 0 | AJ63: i | AL63: 0 | AN63: i | AP63: 0 | AR63: i | AT63: 0 | AV63: i
B64: 0 | D64: j | F64: 0 | H64: j | J64: 0 | L64: j | N64: 0 | P64: j | R64: 0 | T64: j | V64: 0 | X64: j | Z64: 0 | AB64: j | AD64: 0 | AF64: j | AH64: 0 | AJ64: j | AL64: 0 | AN64: j | AP64: 0 | AR64: j | AT64: 0 | AV64: j
B65: 0 | D65: k | F65: 0 | H65: k | J65: 0 | L65: k | N65: 0 | P65: k | R65: 0 | T65: k | V65: 0 | X65: k | Z65: 0 | AB65: k | AD65: 0 | AF65: k | AH65: 0 | AJ65: k | AL65: 0 | AN65: k | AP65: 0 | AR65: k | AT65: 0 | AV65: k
B66: 0 | D66: l | F66: 0 | H66: l | J66: 0 | L66: l | N66: 0 | P66: l | R66: 0 | T66: l | V66: 0 | X66: l | Z66: 0 | AB66: l | AD66: 0 | AF66: l | AH66: 0 | AJ66: l | AL66: 0 | AN66: l | AP66: 0 | AR66: l | AT66: 0 | AV66: l
... B76: 0 | D76: Support à la vente | F76: 0 | H76: Support à la vente | J76: 0 | L76: Support à la vente | N76: 0 | P76: Support à la vente | R76: 0 | T76: Support à la vente | V76: 0 | X76: Support à la vente | Z76: 0 | AB76: Support à la vente | AD76: 0 | AF76: Support à la vente | AH76: 0 | AJ76: Support à la vente | AL76: 0 | AN76: Support à la vente | AP76: 0 | AR76: Support à la vente | AT76: 0 | AV76: Support à la vente

Sheet Feuil5
B2: Janvier | F2: Février | J2: Mars | N2: Avril | R2: Mai | V2: Juin | Z2: Juillet | AD2: Août | AH2: Septembre | AL2: Octobre | AP2: Novembre | AT2: Décembre
B3: Jour | D3: Détail d'activité | F3: Jour | H3: Détail d'activité | J3: Jour | L3: Détail d'activité | N3: Jour | P3: Détail d'activité | R3: Jour | T3: Détail d'activité | V3: Jour | X3: Détail d'activité | Z3: Jour | AB3: Détail d'activité | AD3: Jour | AF3: Détail d'activité | AH3: Jour | AJ3: Détail d'activité | AL3: Jour | AN3: Détail d'activité | AP3: Jour | AR3: Détail d'activité | AT3: Jour | AV3: Détail d'activité
B4: Lundi | C4: 1 | F4: Jeudi | G4: 1 | J4: Jeudi | K4: 1 | N4: Lundi | O4: 2 | R4: Mardi | S4: 1 | V4: Vendredi | W4: 1 | Z4: Lundi | AA4: 2 | AD4: Mercredi | AE4: 1 | AH4: Lundi | AI4: 3 | AL4: Lundi | AM4: 1 | AP4: Jeudi | AQ4: 1 | AT4: Lundi | AU4: 3
B6: Mardi | C6: 2 | D6: A | F6: Vendredi | G6: 2 | J6: Vendredi | K6: 2 | N6: Mardi | O6: 3 | R6: Mercredi | S6: 2 | V6: Lundi | W6: 4 | Z6: Mardi | AA6: 3 | AD6: Jeudi | AE6: 2 | AH6: Mardi | AI6: 4 | AL6: Mardi | AM6: 2 | AP6: Vendredi | AQ6: 2 | AT6: Mardi | AU6: 4
D7: a
B8: Mercredi | C8: 3 | D8: b | F8: Lundi | G8: 5 | J8: Lundi | K8: 5 | N8: Mercredi | O8: 4 | R8: Jeudi | S8: 3 | V8: Mardi | W8: 5 | Z8: Mercredi | AA8: 4 | AD8: Vendredi | AE8: 3 | AH8: Mercredi | AI8: 5 | AL8: Mercredi | AM8: 3 | AP8: Lundi | AQ8: 5 | AT8: Mercredi | AU8: 5
D9: b
B10: Jeudi | C10: 4 | D10: b | F10: Mardi | G10: 6 | J10: Mardi | K10: 6 | N10: Jeudi | O10: 5 | R10: Vendredi | S10: 4 | V10: Mercredi | W10: 6 | Z10: Jeudi | AA10: 5 | AD10: Lundi | AE10: 6 | AH10: Jeudi | AI10: 6 | AL10: Jeudi | AM10: 4 | AP10: Mardi | AQ10: 6 | AT10: Jeudi | AU10: 6
D11: b
B12: Vendredi | C12: 5 | D12: c | F12: Mercredi | G12: 7 | J12: Mercredi | K12: 7 | N12: Vendredi | O12: 6 | R12: Lundi | S12: 7 | V12: Jeudi | W12: 7 | Z12: Vendredi | AA12: 6 | AD12: Mardi | AE12: 7 | AH12: Vendredi | AI12: 7 | AL12: Vendredi | AM12: 5 | AP12: Mercredi | AQ12: 7 | AT12: Vendredi | AU12: 7
D13: a | F13: Mercredi | G13: 7 | J13: Mercredi | K13: 7 | AP13: Mercredi | AQ13: 7
B14: Lundi | C14: 8 | D14: R&D | F14: Jeudi | G14: 8 | J14: Jeudi | K14: 8 | N14: Lundi | O14: 9 | R14: Mardi | S14: 8 | V14: Vendredi | W14: 8 | Z14: Lundi | AA14: 9 | AD14: Mercredi | AE14: 8 | AH14: Lundi | AI14: 10 | AL14: Lundi | AM14: 8 | AP14: Jeudi | AQ14: 8 | AT14: Lundi | AU14: 10
D15: Formation
B16: Mardi | C16: 9 | D16: a | F16: Vendredi | G16: 9 | J16: Vendredi | K16: 9 | N16: Mardi | O16: 10 | R16: Mercredi | S16: 9 | V16: Lundi | W16: 11 | Z16: Mardi | AA16: 10 | AD16: Jeudi | AE16: 9 | AH16: Mardi | AI16: 11 | AL16: Mardi | AM16: 9 | AP16: Vendredi | AQ16: 9 | AT16: Mardi | AU16: 11
D17: a
B18: Mercredi | C18: 10 | D18: a | F18: Lundi | G18: 12 | J18: Lundi | K18: 12 | N18: Mercredi | O18: 11 | R18: Jeudi | S18: 10 | V18: Mardi | W18: 12 | Z18: Mercredi | AA18: 11 | AD18: Vendredi | AE18: 10 | AH18: Mercredi | AI18: 12 | AL18: Mercredi | AM18: 10 | AP18: Lundi | AQ18: 12 | AT18: Mercredi | AU18: 12
D19: a
B20: Jeudi | C20: 11 | D20: a | F20: Mardi | G20: 13 | J20: Mardi | K20: 13 | N20: Jeudi | O20: 12 | R20: Vendredi | S20: 11 | V20: Mercredi | W20: 13 | Z20: Jeudi | AA20: 12 | AD20: Lundi | AE20: 13 | AH20: Jeudi | AI20: 13 | AL20: Jeudi | AM20: 11 | AP20: Mardi | AQ20: 13 | AT20: Jeudi | AU20: 13
D21: b
B22: Vendredi | C22: 12 | D22: c | F22: Mercredi | G22: 14 | J22: Mercredi | K22: 14 | N22: Vendredi | O22: 13 | R22: Lundi | S22: 14 | V22: Jeudi | W22: 14 | Z22: Vendredi | AA22: 13 | AD22: Mardi | AE22: 14 | AH22: Vendredi | AI22: 14 | AL22: Vendredi | AM22: 12 | AP22: Mercredi | AQ22: 14 | AT22: Vendredi | AU22: 14
D23: d | J23: Mercredi | AP23: Mercredi
B24: Lundi | C24: 15 | D24: a | F24: Jeudi | G24: 15 | J24: Jeudi | K24: 15 | N24: Lundi | O24: 16 | R24: Mardi | S24: 15 | V24: Vendredi | W24: 15 | Z24: Lundi | AA24: 16 | AD24: Mercredi | AE24: 15 | AH24: Lundi | AI24: 17 | AL24: Lundi | AM24: 15 | AP24: Jeudi | AQ24: 15 | AT24: Lundi | AU24: 17
D25: b
B26: Mardi | C26: 16 | D26: b | F26: Vendredi | G26: 16 | J26: Vendredi | K26: 16 | N26: Mardi | O26: 17 | R26: Mercredi | S26: 16 | V26: Lundi | W26: 18 | Z26: Mardi | AA26: 17 | AD26: Jeudi | AE26: 16 | AH26: Mardi | AI26: 18 | AL26: Mardi | AM26: 16 | AP26: Vendredi | AQ26: 16 | AT26: Mardi | AU26: 18
D27: a
B28: Mercredi | C28: 17 | D28: a | F28: Lundi | G28: 19 | J28: Lundi | K28: 19 | N28: Mercredi | O28: 18 | R28: Jeudi | S28: 17 | V28: Mardi | W28: 19 | Z28: Mercredi | AA28: 18 | AD28: Vendredi | AE28: 17 | AH28: Mercredi | AI28: 19 | AL28: Mercredi | AM28: 17 | AP28: Lundi | AQ28: 19 | AT28: Mercredi | AU28: 19
D29: a
B30: Jeudi | C30: 18 | D30: a | F30: Mardi | G30: 20 | J30: Mardi | K30: 20 | N30: Jeudi | O30: 19 | R30: Vendredi | S30: 18 | V30: Mercredi | W30: 20 | Z30: Jeudi | AA30: 19 | AD30: Lundi | AE30: 20 | AH30: Jeudi | AI30: 20 | AL30: Jeudi | AM30: 18 | AP30: Mardi | AQ30: 20 | AT30: Jeudi | AU30: 20
D31: a
B32: Vendredi | C32: 19 | D32: e | F32: Mercredi | G32: 21 | J32: Mercredi | K32: 21 | N32: Vendredi | O32: 20 | R32: Lundi | S32: 21 | V32: Jeudi | W32: 21 | Z32: Vendredi | AA32: 20 | AD32: Mardi | AE32: 21 | AH32: Vendredi | AI32: 21 | AL32: Vendredi | AM32: 19 | AP32: Mercredi | AQ32: 21 | AT32: Vendredi | AU32: 21
J33: Mercredi | AP33: Mercredi
B34: Lundi | C34: 22 | F34: Jeudi | G34: 22 | J34: Jeudi | K34: 22 | N34: Lundi | O34: 23 | R34: Mardi | S34: 22 | V34: Vendredi | W34: 22 | Z34: Lundi | AA34: 23 | AD34: Mercredi | AE34: 22 | AH34: Lundi | AI34: 24 | AL34: Lundi | AM34: 22 | AP34: Jeudi | AQ34: 22 | AT34: Lundi | AU34: 24
B36: Mardi | C36: 23 | F36: Vendredi | G36: 23 | J36: Vendredi | K36: 23 | N36: Mardi | O36: 24 | R36: Mercredi | S36: 23 | V36: Lundi | W36: 25 | Z36: Mardi | AA36: 24 | AD36: Jeudi | AE36: 23 | AH36: Mardi | AI36: 25 | AL36: Mardi | AM36: 23 | AP36: Vendredi | AQ36: 23 | AT36: Mardi | AU36: 25
B38: Mercredi | C38: 24 | F38: Lundi | G38: 26 | J38: Lundi | K38: 26 | N38: Mercredi | O38: 25 | R38: Jeudi | S38: 24 | V38: Mardi | W38: 26 | Z38: Mercredi | AA38: 25 | AD38: Vendredi | AE38: 24 | AH38: Mercredi | AI38: 26 | AL38: Mercredi | AM38: 24 | AP38: Lundi | AQ38: 26 | AT38: Mercredi | AU38: 26
B40: Jeudi | C40: 25 | F40: Mardi | G40: 27 | J40: Mardi | K40: 27 | N40: Jeudi | O40: 26 | R40: Vendredi | S40: 25 | V40: Mercredi | W40: 27 | Z40: Jeudi | AA40: 26 | AD40: Lundi | AE40: 27 | AH40: Jeudi | AI40: 27 | AL40: Jeudi | AM40: 25 | AP40: Mardi | AQ40: 27 | AT40: Jeudi | AU40: 27
B42: Vendredi | C42: 26 | F42: Mercredi | G42: 28 | J42: Mercredi | K42: 28 | N42: Vendredi | O42: 27 | R42: Lundi | S42: 28 | V42: Jeudi | W42: 28 | Z42: Vendredi | AA42: 27 | AD42: Mardi | AE42: 28 | AH42: Vendredi | AI42: 28 | AL42: Vendredi | AM42: 26 | AP42: Mercredi | AQ42: 28 | AT42: Vendredi | AU42: 28
J43: Mercredi | AP43: Mercredi
B44: Lundi | C44: 29 | J44: Jeudi | K44: 29 | N44: Lundi | O44: 30 | R44: Mardi | S44: 29 | V44: Vendredi | W44: 29 | Z44: Lundi | AA44: 30 | AD44: Mercredi | AE44: 29 | AH44: Lundi | AI44: 31 | AL44: Lundi | AM44: 29 | AP44: Jeudi | AQ44: 29 | AT44: Lundi | AU44: 31
B46: Mardi | C46: 30 | J46: Vendredi | K46: 30 | R46: Mercredi | S46: 30 | Z46: Mardi | AA46: 31 | AD46: Jeudi | AE46: 30 | AL46: Mardi | AM46: 30 | AP46: Vendredi | AQ46: 30
B48: Mercredi | C48: 31 | R48: Jeudi | S48: 31 | AD48: Vendredi | AE48: 31 | AL48: Mercredi | AM48: 31
B54: Apparition | D54: Description | F54: Apparition | H54: Description | J54: Apparition | L54: Description | N54: Apparition | P54: Description | R54: Apparition | T54: Description | V54: Apparition | X54: Description | Z54: Apparition | AB54: Description | AD54: Apparition | AF54: Description | AH54: Apparition | AJ54: Description | AL54: Apparition | AN54: Description | AP54: Apparition | AR54: Description | AT54: Apparition | AV54: Description
B55: 14 | D55: A | F55: 0 | H55: A | J55: 0 | L55: A | N55: 0 | P55: A | R55: 0 | T55: A | V55: 0 | X55: A | Z55: 0 | AB55: A | AD55: 0 | AF55: A | AH55: 0 | AJ55: A | AL55: 0 | AN55: A | AP55: 0 | AR55: A | AT55: 0 | AV55: A
B56: 7 | D56: B | F56: 0 | H56: B | J56: 0 | L56: B | N56: 0 | P56: B | R56: 0 | T56: B | V56: 0 | X56: B | Z56: 0 | AB56: B | AD56: 0 | AF56: B | AH56: 0 | AJ56: B | AL56: 0 | AN56: B | AP56: 0 | AR56: B | AT56: 0 | AV56: B
B57: 2 | D57: C | F57: 0 | H57: C | J57: 0 | L57: C | N57: 0 | P57: C | R57: 0 | T57: C | V57: 0 | X57: C | Z57: 0 | AB57: C | AD57: 0 | AF57: C | AH57: 0 | AJ57: C | AL57: 0 | AN57: C | AP57: 0 | AR57: C | AT57: 0 | AV57: C
B58: 1 | D58: d | F58: 0 | H58: d | J58: 0 | L58: d | N58: 0 | P58: d | R58: 0 | T58: d | V58: 0 | X58: d | Z58: 0 | AB58: d | AD58: 0 | AF58: d | AH58: 0 | AJ58: d | AL58: 0 | AN58: d | AP58: 0 | AR58: d | AT58: 0 | AV58: d
B59: 1 | D59: e | F59: 0 | H59: e | J59: 0 | L59: e | N59: 0 | P59: e | R59: 0 | T59: e | V59: 0 | X59: e | Z59: 0 | AB59: e | AD59: 0 | AF59: e | AH59: 0 | AJ59: e | AL59: 0 | AN59: e | AP59: 0 | AR59: e | AT59: 0 | AV59: e
B60: 0 | D60: f | F60: 0 | H60: f | J60: 0 | L60: f | N60: 0 | P60: f | R60: 0 | T60: f | V60: 0 | X60: f | Z60: 0 | AB60: f | AD60: 0 | AF60: f | AH60: 0 | AJ60: f | AL60: 0 | AN60: f | AP60: 0 | AR60: f | AT60: 0 | AV60: f
B61: 0 | D61: g | F61: 0 | H61: g | J61: 0 | L61: g | N61: 0 | P61: g | R61: 0 | T61: g | V61: 0 | X61: g | Z61: 0 | AB61: g | AD61: 0 | AF61: g | AH61: 0 | AJ61: g | AL61: 0 | AN61: g | AP61: 0 | AR61: g | AT61: 0 | AV61: g
B62: 0 | D62: h | F62: 0 | H62: h | J62: 0 | L62: h | N62: 0 | P62: h | R62: 0 | T62: h | V62: 0 | X62: h | Z62: 0 | AB62: h | AD62: 0 | AF62: h | AH62: 0 | AJ62: h | AL62: 0 | AN62: h | AP62: 0 | AR62: h | AT62: 0 | AV62: h
B63: 0 | D63: i | F63: 0 | H63: i | J63: 0 | L63: i | N63: 0 | P63: i | R63: 0 | T63: i | V63: 0 | X63: i | Z63: 0 | AB63: i | AD63: 0 | AF63: i | AH63: 0 | AJ63: i | AL63: 0 | AN63: i | AP63: 0 | AR63: i | AT63: 0 | AV63: i
B64: 0 | D64: j | F64: 0 | H64: j | J64: 0 | L64: j | N64: 0 | P64: j | R64: 0 | T64: j | V64: 0 | X64: j | Z64: 0 | AB64: j | AD64: 0 | AF64: j | AH64: 0 | AJ64: j | AL64: 0 | AN64: j | AP64: 0 | AR64: j | AT64: 0 | AV64: j
B65: 0 | D65: k | F65: 0 | H65: k | J65: 0 | L65: k | N65: 0 | P65: k | R65: 0 | T65: k | V65: 0 | X65: k | Z65: 0 | AB65: k | AD65: 0 | AF65: k | AH65: 0 | AJ65: k | AL65: 0 | AN65: k | AP65: 0 | AR65: k | AT65: 0 | AV65: k
B66: 0 | D66: l | F66: 0 | H66: l | J66: 0 | L66: l | N66: 0 | P66: l | R66: 0 | T66: l | V66: 0 | X66: l | Z66: 0 | AB66: l | AD66: 0 | AF66: l | AH66: 0 | AJ66: l | AL66: 0 | AN66: l | AP66: 0 | AR66: l | AT66: 0 | AV66: l
... B76: 0 | D76: Support à la vente | F76: 0 | H76: Support à la vente | J76: 0 | L76: Support à la vente | N76: 0 | P76: Support à la vente | R76: 0 | T76: Support à la vente | V76: 0 | X76: Support à la vente | Z76: 0 | AB76: Support à la vente | AD76: 0 | AF76: Support à la vente | AH76: 0 | AJ76: Support à la vente | AL76: 0 | AN76: Support à la vente | AP76: 0 | AR76: Support à la vente | AT76: 0 | AV76: Support à la vente

Sheet Frais (Yohann)
