Workbook

Sheet Caractéristiques
A4: Liste des projets facturable: | C4: Description du projet : | G4: Collaborateurs :
A5: A | G5: Yohann
A6: B | G6: Eymeric
A7: C | G7: Jérome
A8: d | G8: Flavie
A9: e | G9: Pierre
A10: f | G10: Paul
A11: g | G11: Jacques
A12: h | G12: Consultant 0
A13: i | G13: Consultant 1
A14: j | G14: Consultant 2
A15: k | G15: Consultant 3
A16: l
A17: m
A20: NON FACTURABLE :
A21: Formation
A22: R&D
A23: Projet A.1
A24: Projet A.2
A25: Congé
A26: Maladie
A27: RTT
A28: Support à la vente

Sheet Synthèse mensuelle 
E2: 2018
B3: Janvier | C3: =Caractéristiques!$A$5 -> A | D3: =Caractéristiques!A6 -> B | E3: =Caractéristiques!A7 -> C | F3: D | G3: E | H3: F | Q3: G | R3: Total Facturable 1/2 journées | S3: Taux de staffing | T3: Janvier | U3: A.1 | V3: A.2 | W3: Total R&D | X3: Congé/Maladie/RTT | Y3: Formation | Z3: Support à la vente
B4: =Caractéristiques!G5 -> Yohann | C4: =IF('Synthèse mensuelle '!C3=Yohann!D55,Yohann!B55,"Faux") -> 14 | D4: =IF('Synthèse mensuelle '!D3=Yohann!D56,Yohann!B56,"Faux") -> 7 | E4: =IF('Synthèse mensuelle '!E3=Yohann!D57,Yohann!B57,"Faux") -> 2 | F4: =IF('Synthèse mensuelle '!F3=Yohann!D58,Yohann!B58,"Faux") -> 1 | G4: =LOOKUP(G3,Yohann!$D$50:$D$147,Yohann!$B$55:$B$147) -> 0 | H4: =LOOKUP(H3,Yohann!$D$50:$D$147,Yohann!$B$55:$B$147) -> 0 | R4: =SUM(C4:Q4) -> 24 | S4: =R4*0.5/(COUNTA(Yohann!C6:C49)-X4/2) -> 0.6 | W4: =SUM(U4:V4) -> 0 | X4: 4
B5: =Caractéristiques!G6 -> Eymeric | C5: =IF('Synthèse mensuelle '!C3=Eymeric!D55,Eymeric!B55,"Faux") -> 14 | R5: =SUM(C5:Q5) -> 14 | W5: =SUM(U5:V5) -> 0
B6: =Caractéristiques!G7 -> Jérome | R6: =SUM(C6:Q6) -> 0 | W6: =SUM(U6:V6) -> 0
B7: =Caractéristiques!G8 -> Flavie | R7: =SUM(C7:Q7) -> 0 | W7: =SUM(U7:V7) -> 0
B8: =Caractéristiques!G9 -> Pierre | R8: =SUM(C8:Q8) -> 0 | W8: =SUM(U8:V8) -> 0
B9: =Caractéristiques!G10 -> Paul | R9: =SUM(C9:Q9) -> 0 | W9: =SUM(U9:V9) -> 0
B10: =Caractéristiques!G11 -> Jacques | R10: =SUM(C10:Q10) -> 0 | W10: =SUM(U10:V10) -> 0
B11: =Caractéristiques!G12 -> Consultant 0 | R11: =SUM(C11:Q11) -> 0 | W11: =SUM(U11:V11) -> 0
B12: =Caractéristiques!G13 -> Consultant 1 | R12: =SUM(C12:Q12) -> 0 | W12: =SUM(U12:V12) -> 0
B13: =Caractéristiques!G14 -> Consultant 2 | R13: =SUM(C13:Q13) -> 0 | W13: =SUM(U13:V13) -> 0
B14: =Caractéristiques!G15 -> Consultant 3
B15: =Caractéristiques!G16 -> 0
B16: Total | C16: =SUM(C4:C15) -> 28 | D16: =SUM(D4:D15) -> 7 | E16: =SUM(E4:E15) -> 2 | F16: =SUM(F4:F15) -> 1 | G16: =SUM(G4:G15) -> 0 | H16: =SUM(H4:H15) -> 0 | Q16: =SUM(Q4:Q15) -> 0 | R16: =SUM(R4:R15) -> 38 | T16: Total | U16: =SUM(U4:U15) -> 0 | V16: =SUM(V4:V15) -> 0
Y17: et le détail des projets
B18: Février | C18: =Caractéristiques!$A$5 -> A | D18: =Caractéristiques!A6 -> B | E18: =Caractéristiques!A22 -> R&D | F18: D | G18: E | H18: F | Q18: G | R18: Total Facturable 1/2 journées | S18: Taux de staffing | T18: Janvier | U18: A.1 | V18: A.2 | W18: Total R&D | X18: Congé | Y18: Formation | Z18: Support à la vente
B19: =B4 -> Yohann | C19: =IF('Synthèse mensuelle '!C18=Yohann!D70,Yohann!B70,"Faux") -> Faux | D19: =IF('Synthèse mensuelle '!D18=Yohann!D71,Yohann!B71,"Faux") -> Faux | E19: =IF('Synthèse mensuelle '!E18=Yohann!D72,Yohann!B72,"Faux") -> 1 | F19: =IF('Synthèse mensuelle '!F18=Yohann!D73,Yohann!B73,"Faux") -> Faux | G19: =LOOKUP(G18,Yohann!$D$50:$D$147,Yohann!$B$55:$B$147) -> 0 | H19: =LOOKUP(H18,Yohann!$D$50:$D$147,Yohann!$B$55:$B$147) -> 0 | R19: =SUM(C19:Q19) -> 1 | S19: =R19*0.5/(COUNTA(Yohann!C21:C64)-X19/2) -> 0.041666667 | W19: =SUM(U19:V19) -> 0 | X19: 4
B20: =B5 -> Eymeric | C20: =IF('Synthèse mensuelle '!C18=Eymeric!D70,Eymeric!B70,"Faux") -> Faux | R20: =SUM(C20:Q20) -> 0 | W20: =SUM(U20:V20) -> 0
B21: =B6 -> Jérome | R21: =SUM(C21:Q21) -> 0 | W21: =SUM(U21:V21) -> 0
B22: =B7 -> Flavie | R22: =SUM(C22:Q22) -> 0 | W22: =SUM(U22:V22) -> 0
B23: =B8 -> Pierre | R23: =SUM(C23:Q23) -> 0 | W23: =SUM(U23:V23) -> 0
B24: =B9 -> Paul | R24: =SUM(C24:Q24) -> 0 | W24: =SUM(U24:V24) -> 0
B25: =B10 -> Jacques | R25: =SUM(C25:Q25) -> 0 | W25: =SUM(U25:V25) -> 0
B26: =B11 -> Consultant 0 | R26: =SUM(C26:Q26) -> 0 | W26: =SUM(U26:V26) -> 0
B27: =B12 -> Consultant 1 | R27: =SUM(C27:Q27) -> 0 | W27: =SUM(U27:V27) -> 0
B28: =B13 -> Consultant 2 | R28: =SUM(C28:Q28) -> 0 | W28: =SUM(U28:V28) -> 0
B29: =B14 -> Consultant 3
B30: =B15 -> 0
B31: Total | C31: =SUM(C19:C30) -> 0 | D31: =SUM(D19:D30) -> 0 | E31: =SUM(E19:E30) -> 1 | F31: =SUM(F19:F30) -> 0 | G31: =SUM(G19:G30) -> 0 | H31: =SUM(H19:H30) -> 0 | Q31: =SUM(Q19:Q30) -> 0 | R31: =SUM(R19:R30) -> 1 | T31: Total | U31: =SUM(U19:U30) -> 0 | V31: =SUM(V19:V30) -> 0

Sheet Yohann
B2: Janvier | F2: Février | J2: Mars | N2: Avril | R2: Mai | V2: Juin | Z2: Juillet | AD2: Août | AH2: Septembre | AL2: Octobre | AP2: Novembre | AT2: Décembre
B3: Jour | D3: Détail d'activité | F3: Jour | H3: Détail d'activité | J3: Jour | L3: Détail d'activité | N3: Jour | P3: Détail d'activité | R3: Jour | T3: Détail d'activité | V3: Jour | X3: Détail d'activité | Z3: Jour | AB3: Détail d'activité | AD3: Jour | AF3: Détail d'activité | AH3: Jour | AJ3: Détail d'activité | AL3: Jour | AN3: Détail d'activité | AP3: Jour | AR3: Détail d'activité | AT3: Jour | AV3: Détail d'activité
B4: Lundi | C4: 1 | F4: Jeudi | G4: 1 | J4: Jeudi | K4: 1 | N4: Lundi | O4: 2 | R4: Mardi | S4: 1 | V4: Vendredi | W4: 1 | Z4: Lundi | AA4: 2 | AD4: Mercredi | AE4: 1 | AH4: Lundi | AI4: 3 | AL4: Lundi | AM4: 1 | AP4: Jeudi | AQ4: 1 | AT4: Lundi | AU4: 3
B6: Mardi | C6: 2 | D6: A | F6: Vendredi | G6: 2 | J6: Vendredi | K6: 2 | N6: Mardi | O6: 3 | R6: Mercredi | S6: 2 | V6: Lundi | W6: 4 | Z6: Mardi | AA6: 3 | AD6: Jeudi | AE6: 2 | AH6: Mardi | AI6: 4 | AL6: Mardi | AM6: 2 | AP6: Vendredi | AQ6: 2 | AT6: Mardi | AU6: 4
D7: a
B8: Mercredi | C8: 3 | D8: b | F8: Lundi | G8: 5 | J8: Lundi | K8: 5 | N8: Mercredi | O8: 4 | R8: Jeudi | S8: 3 | V8: Mardi | W8: 5 | Z8: Mercredi | AA8: 4 | AD8: Vendredi | AE8: 3 | AH8: Mercredi | AI8: 5 | AL8: Mercredi | AM8: 3 | AP8: Lundi | AQ8: 5 | AT8: Mercredi | AU8: 5
D9: b
B10: Jeudi | C10: 4 | D10: b | F10: Mardi | G10: 6 | J10: Mardi | K10: 6 | N10: Jeudi | O10: 5 | R10: Vendredi | S10: 4 | V10: Mercredi | W10: 6 | Z10: Jeudi | AA10: 5 | AD10: Lundi | AE10: 6 | AH10: Jeudi | AI10: 6 | AL10: Jeudi | AM10: 4 | AP10: Mardi | AQ10: 6 | AT10: Jeudi | AU10: 6
D11: b
B12: Vendredi | C12: 5 | D12: c | F12: Mercredi | G12: 7 | J12: Mercredi | K12: 7 | N12: Vendredi | O12: 6 | R12: Lundi | S12: =S2+7 -> 7 | V12: Jeudi | W12: 7 | Z12: Vendredi | AA12: 6 | AD12: Mardi | AE12: 7 | AH12: Vendredi | AI12: 7 | AL12: Vendredi | AM12: 5 | AP12: Mercredi | AQ12: 7 | AT12: Vendredi | AU12: 7
D13: a | F13: Mercredi | G13: 7 | J13: Mercredi | K13: 7 | AP13: Mercredi | AQ13: 7
B14: Lundi | C14: =C4+7 -> 8 | D14: R&D | F14: Jeudi | G14: 8 | J14: Jeudi | K14: 8 | N14: Lundi | O14: =O4+7 -> 9 | R14: Mardi | S14: =S4+7 -> 8 | V14: Vendredi | W14: 8 | Z14: Lundi | AA14: =AA4+7 -> 9 | AD14: Mercredi | AE14: 8 | AH14: Lundi | AI14: =AI4+7 -> 10 | AL14: Lundi | AM14: =AM4+7 -> 8 | AP14: Jeudi | AQ14: 8 | AT14: Lundi | AU14: =AU4+7 -> 10
D15: Formation
B16: Mardi | C16: =C6+7 -> 9 | D16: a | F16: Vendredi | G16: 9 | J16: Vendredi | K16: 9 | N16: Mardi | O16: =O6+7 -> 10 | R16: Mercredi | S16: =S6+7 -> 9 | V16: Lundi | W16: =W6+7 -> 11 | Z16: Mardi | AA16: =AA6+7 -> 10 | AD16: Jeudi | AE16: 9 | AH16: Mardi | AI16: =AI6+7 -> 11 | AL16: Mardi | AM16: =AM6+7 -> 9 | AP16: Vendredi | AQ16: 9 | AT16: Mardi | AU16: =AU6+7 -> 11
D17: a
B18: Mercredi | C18: =C8+7 -> 10 | D18: a | F18: Lundi | G18: =G8+7 -> 12 | J18: Lundi | K18: =K8+7 -> 12 | N18: Mercredi | O18: =O8+7 -> 11 | R18: Jeudi | S18: =S8+7 -> 10 | V18: Mardi | W18: =W8+7 -> 12 | Z18: Mercredi | AA18: =AA8+7 -> 11 | AD18: Vendredi | AE18: 10 | AH18: Mercredi | AI18: =AI8+7 -> 12 | AL18: Mercredi | AM18: =AM8+7 -> 10 | AP18: Lundi | AQ18: =AQ8+7 -> 12 | AT18: Mercredi | AU18: =AU8+7 -> 12
D19: a
B20: Jeudi | C20: =C10+7 -> 11 | D20: a | F20: Mardi | G20: =G10+7 -> 13 | J20: Mardi | K20: =K10+7 -> 13 | N20: Jeudi | O20: =O10+7 -> 12 | R20: Vendredi | S20: =S10+7 -> 11 | V20: Mercredi | W20: =W10+7 -> 13 | Z20: Jeudi | AA20: =AA10+7 -> 12 | AD20: Lundi | AE20: =AE10+7 -> 13 | AH20: Jeudi | AI20: =AI10+7 -> 13 | AL20: Jeudi | AM20: =AM10+7 -> 11 | AP20: Mardi | AQ20: =AQ10+7 -> 13 | AT20: Jeudi | AU20: =AU10+7 -> 13
D21: b
B22: Vendredi | C22: =C12+7 -> 12 | D22: c | F22: Mercredi | G22: =G13+7 -> 14 | J22: Mercredi | K22: =K12+7 -> 14 | N22: Vendredi | O22: =O12+7 -> 13 | R22: Lundi | S22: =S12+7 -> 14 | V22: Jeudi | W22: =W12+7 -> 14 | Z22: Vendredi | AA22: =AA12+7 -> 13 | AD22: Mardi | AE22: =AE12+7 -> 14 | AH22: Vendredi | AI22: =AI12+7 -> 14 | AL22: Vendredi | AM22: =AM12+7 -> 12 | AP22: Mercredi | AQ22: =AQ12+7 -> 14 | AT22: Vendredi | AU22: =AU12+7 -> 14
D23: d | J23: Mercredi | AP23: Mercredi
B24: Lundi | C24: =C14+7 -> 15 | D24: a | F24: Jeudi | G24: =G14+7 -> 15 | J24: Jeudi | K24: =K14+7 -> 15 | N24: Lundi | O24: =O14+7 -> 16 | R24: Mardi | S24: =S14+7 -> 15 | V24: Vendredi | W24: =W14+7 -> 15 | Z24: Lundi | AA24: =AA14+7 -> 16 | AD24: Mercredi | AE24: =AE14+7 -> 15 | AH24: Lundi | AI24: =AI14+7 -> 17 | AL24: Lundi | AM24: =AM14+7 -> 15 | AP24: Jeudi | AQ24: =AQ14+7 -> 15 | AT24: Lundi | AU24: =AU14+7 -> 17
D25: b
B26: Mardi | C26: =C16+7 -> 16 | D26: b | F26: Vendredi | G26: =G16+7 -> 16 | J26: Vendredi | K26: =K16+7 -> 16 | N26: Mardi | O26: =O16+7 -> 17 | R26: Mercredi | S26: =S16+7 -> 16 | V26: Lundi | W26: =W16+7 -> 18 | Z26: Mardi | AA26: =AA16+7 -> 17 | AD26: Jeudi | AE26: =AE16+7 -> 16 | AH26: Mardi | AI26: =AI16+7 -> 18 | AL26: Mardi | AM26: =AM16+7 -> 16 | AP26: Vendredi | AQ26: =AQ16+7 -> 16 | AT26: Mardi | AU26: =AU16+7 -> 18
D27: a
B28: Mercredi | C28: =C18+7 -> 17 | D28: a | F28: Lundi | G28: =G18+7 -> 19 | J28: Lundi | K28: =K18+7 -> 19 | N28: Mercredi | O28: =O18+7 -> 18 | R28: Jeudi | S28: =S18+7 -> 17 | V28: Mardi | W28: =W18+7 -> 19 | Z28: Mercredi | AA28: =AA18+7 -> 18 | AD28: Vendredi | AE28: =AE18+7 -> 17 | AH28: Mercredi | AI28: =AI18+7 -> 19 | AL28: Mercredi | AM28: =AM18+7 -> 17 | AP28: Lundi | AQ28: =AQ18+7 -> 19 | AT28: Mercredi | AU28: =AU18+7 -> 19
D29: a
B30: Jeudi | C30: =C20+7 -> 18 | D30: a | F30: Mardi | G30: =G20+7 -> 20 | J30: Mardi | K30: =K20+7 -> 20 | N30: Jeudi | O30: =O20+7 -> 19 | R30: Vendredi | S30: =S20+7 -> 18 | V30: Mercredi | W30: =W20+7 -> 20 | Z30: Jeudi | AA30: =AA20+7 -> 19 | AD30: Lundi | AE30: =AE20+7 -> 20 | AH30: Jeudi | AI30: =AI20+7 -> 20 | AL30: Jeudi | AM30: =AM20+7 -> 18 | AP30: Mardi | AQ30: =AQ20+7 -> 20 | AT30: Jeudi | AU30: =AU20+7 -> 20
D31: a
B32: Vendredi | C32: =C22+7 -> 19 | D32: e | F32: Mercredi | G32: =G22+7 -> 21 | J32: Mercredi | K32: =K22+7 -> 21 | N32: Vendredi | O32: =O22+7 -> 20 | R32: Lundi | S32: =S22+7 -> 21 | V32: Jeudi | W32: =W22+7 -> 21 | Z32: Vendredi | AA32: =AA22+7 -> 20 | AD32: Mardi | AE32: =AE22+7 -> 21 | AH32: Vendredi | AI32: =AI22+7 -> 21 | AL32: Vendredi | AM32: =AM22+7 -> 19 | AP32: Mercredi | AQ32: =AQ22+7 -> 21 | AT32: Vendredi | AU32: =AU22+7 -> 21
J33: Mercredi | AP33: Mercredi
B34: Lundi | C34: =C24+7 -> 22 | F34: Jeudi | G34: =G24+7 -> 22 | J34: Jeudi | K34: =K24+7 -> 22 | N34: Lundi | O34: =O24+7 -> 23 | R34: Mardi | S34: =S24+7 -> 22 | V34: Vendredi | W34: =W24+7 -> 22 | Z34: Lundi | AA34: =AA24+7 -> 23 | AD34: Mercredi | AE34: =AE24+7 -> 22 | AH34: Lundi | AI34: =AI24+7 -> 24 | AL34: Lundi | AM34: =AM24+7 -> 22 | AP34: Jeudi | AQ34: =AQ24+7 -> 22 | AT34: Lundi | AU34: =AU24+7 -> 24
B36: Mardi | C36: =C26+7 -> 23 | F36: Vendredi | G36: =G26+7 -> 23 | J36: Vendredi | K36: =K26+7 -> 23 | N36: Mardi | O36: =O26+7 -> 24 | R36: Mercredi | S36: =S26+7 -> 23 | V36: Lundi | W36: =W26+7 -> 25 | Z36: Mardi | AA36: =AA26+7 -> 24 | AD36: Jeudi | AE36: =AE26+7 -> 23 | AH36: Mardi | AI36: =AI26+7 -> 25 | AL36: Mardi | AM36: =AM26+7 -> 23 | AP36: Vendredi | AQ36: =AQ26+7 -> 23 | AT36: Mardi | AU36: =AU26+7 -> 25
B38: Mercredi | C38: =C28+7 -> 24 | F38: Lundi | G38: =G28+7 -> 26 | J38: Lundi | K38: =K28+7 -> 26 | N38: Mercredi | O38: =O28+7 -> 25 | R38: Jeudi | S38: =S28+7 -> 24 | V38: Mardi | W38: =W28+7 -> 26 | Z38: Mercredi | AA38: =AA28+7 -> 25 | AD38: Vendredi | AE38: =AE28+7 -> 24 | AH38: Mercredi | AI38: =AI28+7 -> 26 | AL38: Mercredi | AM38: =AM28+7 -> 24 | AP38: Lundi | AQ38: =AQ28+7 -> 26 | AT38: Mercredi | AU38: =AU28+7 -> 26
B40: Jeudi | C40: =C30+7 -> 25 | F40: Mardi | G40: =G30+7 -> 27 | J40: Mardi | K40: =K30+7 -> 27 | N40: Jeudi | O40: =O30+7 -> 26 | R40: Vendredi | S40: =S30+7 -> 25 | V40: Mercredi | W40: =W30+7 -> 27 | Z40: Jeudi | AA40: =AA30+7 -> 26 | AD40: Lundi | AE40: =AE30+7 -> 27 | AH40: Jeudi | AI40: =AI30+7 -> 27 | AL40: Jeudi | AM40: =AM30+7 -> 25 | AP40: Mardi | AQ40: =AQ30+7 -> 27 | AT40: Jeudi | AU40: =AU30+7 -> 27
B42: Vendredi | C42: =C32+7 -> 26 | F42: Mercredi | G42: =G32+7 -> 28 | J42: Mercredi | K42: =K32+7 -> 28 | N42: Vendredi | O42: =O32+7 -> 27 | R42: Lundi | S42: =S32+7 -> 28 | V42: Jeudi | W42: =W32+7 -> 28 | Z42: Vendredi | AA42: =AA32+7 -> 27 | AD42: Mardi | AE42: =AE32+7 -> 28 | AH42: Vendredi | AI42: =AI32+7 -> 28 | AL42: Vendredi | AM42: =AM32+7 -> 26 | AP42: Mercredi | AQ42: =AQ32+7 -> 28 | AT42: Vendredi | AU42: =AU32+7 -> 28
J43: Mercredi | AP43: Mercredi
B44: Lundi | C44: =C34+7 -> 29 | J44: Jeudi | K44: =K34+7 -> 29 | N44: Lundi | O44: =O34+7 -> 30 | R44: Mardi | S44: =S34+7 -> 29 | V44: Vendredi | W44: =W34+7 -> 29 | Z44: Lundi | AA44: =AA34+7 -> 30 | AD44: Mercredi | AE44: =AE34+7 -> 29 | AH44: Lundi | AI44: =AI34+7 -> 31 | AL44: Lundi | AM44: =AM34+7 -> 29 | AP44: Jeudi | AQ44: =AQ34+7 -> 29 | AT44: Lundi | AU44: =AU34+7 -> 31
B46: Mardi | C46: =C36+7 -> 30 | J46: Vendredi | K46: =K36+7 -> 30 | R46: Mercredi | S46: =S36+7 -> 30 | Z46: Mardi | AA46: =AA36+7 -> 31 | AD46: Jeudi | AE46: =AE36+7 -> 30 | AL46: Mardi | AM46: =AM36+7 -> 30 | AP46: Vendredi | AQ46: =AQ36+7 -> 30
B48: Mercredi | C48: =C38+7 -> 31 | R48: Jeudi | S48: =S38+7 -> 31 | AD48: Vendredi | AE48: =AE38+7 -> 31 | AL48: Mercredi | AM48: =AM38+7 -> 31
...

Sheet Eymeric
B2: Janvier | F2: Février | J2: Mars | N2: Avril | R2: Mai | V2: Juin | Z2: Juillet | AD2: Août | AH2: Septembre | AL2: Octobre | AP2: Novembre | AT2: Décembre
B3: Jour | D3: Détail d'activité | F3: Jour | H3: Détail d'activité | J3: Jour | L3: Détail d'activité | N3: Jour | P3: Détail d'activité | R3: Jour | T3: Détail d'activité | V3: Jour | X3: Détail d'activité | Z3: Jour | AB3: Détail d'activité | AD3: Jour | AF3: Détail d'activité | AH3: Jour | AJ3: Détail d'activité | AL3: Jour | AN3: Détail d'activité | AP3: Jour | AR3: Détail d'activité | AT3: Jour | AV3: Détail d'activité
B4: Lundi | C4: 1 | F4: Jeudi | G4: 1 | J4: Jeudi | K4: 1 | N4: Lundi | O4: 2 | R4: Mardi | S4: 1 | V4: Vendredi | W4: 1 | Z4: Lundi | AA4: 2 | AD4: Mercredi | AE4: 1 | AH4: Lundi | AI4: 3 | AL4: Lundi | AM4: 1 | AP4: Jeudi | AQ4: 1 | AT4: Lundi | AU4: 3
B6: Mardi | C6: 2 | D6: A | F6: Vendredi | G6: 2 | J6: Vendredi | K6: 2 | N6: Mardi | O6: 3 | R6: Mercredi | S6: 2 | V6: Lundi | W6: 4 | Z6: Mardi | AA6: 3 | AD6: Jeudi | AE6: 2 | AH6: Mardi | AI6: 4 | AL6: Mardi | AM6: 2 | AP6: Vendredi | AQ6: 2 | AT6: Mardi | AU6: 4
D7: a
B8: Mercredi | C8: 3 | D8: b | F8: Lundi | G8: 5 | J8: Lundi | K8: 5 | N8: Mercredi | O8: 4 | R8: Jeudi | S8: 3 | V8: Mardi | W8: 5 | Z8: Mercredi | AA8: 4 | AD8: Vendredi | AE8: 3 | AH8: Mercredi | AI8: 5 | AL8: Mercredi | AM8: 3 | AP8: Lundi | AQ8: 5 | AT8: Mercredi | AU8: 5
D9: b
B10: Jeudi | C10: 4 | D10: b | F10: Mardi | G10: 6 | J10: Mardi | K10: 6 | N10: Jeudi | O10: 5 | R10: Vendredi | S10: 4 | V10: Mercredi | W10: 6 | Z10: Jeudi | AA10: 5 | AD10: Lundi | AE10: 6 | AH10: Jeudi | AI10: 6 | AL10: Jeudi | AM10: 4 | AP10: Mardi | AQ10: 6 | AT10: Jeudi | AU10: 6
D11: b
B12: Vendredi | C12: 5 | D12: c | F12: Mercredi | G12: 7 | J12: Mercredi | K12: 7 | N12: Vendredi | O12: 6 | R12: Lundi | S12: 7 | V12: Jeudi | W12: 7 | Z12: Vendredi | AA12: 6 | AD12: Mardi | AE12: 7 | AH12: Vendredi | AI12: 7 | AL12: Vendredi | AM12: 5 | AP12: Mercredi | AQ12: 7 | AT12: Vendredi | AU12: 7
D13: a | F13: Mercredi | G13: 7 | J13: Mercredi | K13: 7 | AP13: Mercredi | AQ13: 7
B14: Lundi | C14: 8 | D14: R&D | F14: Jeudi | G14: 8 | J14: Jeudi | K14: 8 | N14: Lundi | O14: 9 | R14: Mardi | S14: 8 | V14: Vendredi | W14: 8 | Z14: Lundi | AA14: 9 | AD14: Mercredi | AE14: 8 | AH14: Lundi | AI14: 10 | AL14: Lundi | AM14: 8 | AP14: Jeudi | AQ14: 8 | AT14: Lundi | AU14: 10
D15: Formation
B16: Mardi | C16: 9 | D16: a | F16: Vendredi | G16: 9 | J16: Vendredi | K16: 9 | N16: Mardi | O16: 10 | R16: Mercredi | S16: 9 | V16: Lundi | W16: 11 | Z16: Mardi | AA16: 10 | AD16: Jeudi | AE16: 9 | AH16: Mardi | AI16: 11 | AL16: Mardi | AM16: 9 | AP16: Vendredi | AQ16: 9 | AT16: Mardi | AU16: 11
D17: a
B18: Mercredi | C18: 10 | D18: a | F18: Lundi | G18: 12 | J18: Lundi | K18: 12 | N18: Mercredi | O18: 11 | R18: Jeudi | S18: 10 | V18: Mardi | W18: 12 | Z18: Mercredi | AA18: 11 | AD18: Vendredi | AE18: 10 | AH18: Mercredi | AI18: 12 | AL18: Mercredi | AM18: 10 | AP18: Lundi | AQ18: 12 | AT18: Mercredi | AU18: 12
D19: a
B20: Jeudi | C20: 11 | D20: a | F20: Mardi | G20: 13 | J20: Mardi | K20: 13 | N20: Jeudi | O20: 12 | R20: Vendredi | S20: 11 | V20: Mercredi | W20: 13 | Z20: Jeudi | AA20: 12 | AD20: Lundi | AE20: 13 | AH20: Jeudi | AI20: 13 | AL20: Jeudi | AM20: 11 | AP20: Mardi | AQ20: 13 | AT20: Jeudi | AU20: 13
D21: b
B22: Vendredi | C22: 12 | D22: c | F22: Mercredi | G22: 14 | J22: Mercredi | K22: 14 | N22: Vendredi | O22: 13 | R22: Lundi | S22: 14 | V22: Jeudi | W22: 14 | Z22: Vendredi | AA22: 13 | AD22: Mardi | AE22: 14 | AH22: Vendredi | AI22: 14 | AL22: Vendredi | AM22: 12 | AP22: Mercredi | AQ22: 14 | AT22: Vendredi | AU22: 14
D23: d | J23: Mercredi | AP23: Mercredi
B24: Lundi | C24: 15 | D24: a | F24: Jeudi | G24: 15 | J24: Jeudi | K24: 15 | N24: Lundi | O24: 16 | R24: Mardi | S24: 15 | V24: Vendredi | W24: 15 | Z24: Lundi | AA24: 16 | AD24: Mercredi | AE24: 15 | AH24: Lundi | AI24: 17 | AL24: Lundi | AM24: 15 | AP24: Jeudi | AQ24: 15 | AT24: Lundi | AU24: 17
D25: b
B26: Mardi | C26: 16 | D26: b | F26: Vendredi | G26: 16 | J26: Vendredi | K26: 16 | N26: Mardi | O26: 17 | R26: Mercredi | S26: 16 | V26: Lundi | W26: 18 | Z26: Mardi | AA26: 17 | AD26: Jeudi | AE26: 16 | AH26: Mardi | AI26: 18 | AL26: Mardi | AM26: 16 | AP26: Vendredi | AQ26: 16 | AT26: Mardi | AU26: 18
D27: a
B28: Mercredi | C28: 17 | D28: a | F28: Lundi | G28: 19 | J28: Lundi | K28: 19 | N28: Mercredi | O28: 18 | R28: Jeudi | S28: 17 | V28: Mardi | W28: 19 | Z28: Mercredi | AA28: 18 | AD28: Vendredi | AE28: 17 | AH28: Mercredi | AI28: 19 | AL28: Mercredi | AM28: 17 | AP28: Lundi | AQ28: 19 | AT28: Mercredi | AU28: 19
D29: a
B30: Jeudi | C30: 18 | D30: a | F30: Mardi | G30: 20 | J30: Mardi | K30: 20 | N30: Jeudi | O30: 19 | R30: Vendredi | S30: 18 | V30: Mercredi | W30: 20 | Z30: Jeudi | AA30: 19 | AD30: Lundi | AE30: 20 | AH30: Jeudi | AI30: 20 | AL30: Jeudi | AM30: 18 | AP30: Mardi | AQ30: 20 | AT30: Jeudi | AU30: 20
D31: a
B32: Vendredi | C32: 19 | D32: e | F32: Mercredi | G32: 21 | J32: Mercredi | K32: 21 | N32: Vendredi | O32: 20 | R32: Lundi | S32: 21 | V32: Jeudi | W32: 21 | Z32: Vendredi | AA32: 20 | AD32: Mardi | AE32: 21 | AH32: Vendredi | AI32: 21 | AL32: Vendredi | AM32: 19 | AP32: Mercredi | AQ32: 21 | AT32: Vendredi | AU32: 21
J33: Mercredi | AP33: Mercredi
B34: Lundi | C34: 22 | F34: Jeudi | G34: 22 | J34: Jeudi | K34: 22 | N34: Lundi | O34: 23 | R34: Mardi | S34: 22 | V34: Vendredi | W34: 22 | Z34: Lundi | AA34: 23 | AD34: Mercredi | AE34: 22 | AH34: Lundi | AI34: 24 | AL34: Lundi | AM34: 22 | AP34: Jeudi | AQ34: 22 | AT34: Lundi | AU34: 24
B36: Mardi | C36: 23 | F36: Vendredi | G36: 23 | J36: Vendredi | K36: 23 | N36: Mardi | O36: 24 | R36: Mercredi | S36: 23 | V36: Lundi | W36: 25 | Z36: Mardi | AA36: 24 | AD36: Jeudi | AE36: 23 | AH36: Mardi | AI36: 25 | AL36: Mardi | AM36: 23 | AP36: Vendredi | AQ36: 23 | AT36: Mardi | AU36: 25
B38: Mercredi | C38: 24 | F38: Lundi | G38: 26 | J38: Lundi | K38: 26 | N38: Mercredi | O38: 25 | R38: Jeudi | S38: 24 | V38: Mardi | W38: 26 | Z38: Mercredi | AA38: 25 | AD38: Vendredi | AE38: 24 | AH38: Mercredi | AI38: 26 | AL38: Mercredi | AM38: 24 | AP38: Lundi | AQ38: 26 | AT38: Mercredi | AU38: 26
B40: Jeudi | C40: 25 | F40: Mardi | G40: 27 | J40: Mardi | K40: 27 | N40: Jeudi | O40: 26 | R40: Vendredi | S40: 25 | V40: Mercredi | W40: 27 | Z40: Jeudi | AA40: 26 | AD40: Lundi | AE40: 27 | AH40: Jeudi | AI40: 27 | AL40: Jeudi | AM40: 25 | AP40: Mardi | AQ40: 27 | AT40: Jeudi | AU40: 27
B42: Vendredi | C42: 26 | F42: Mercredi | G42: 28 | J42: Mercredi | K42: 28 | N42: Vendredi | O42: 27 | R42: Lundi | S42: 28 | V42: Jeudi | W42: 28 | Z42: Vendredi | AA42: 27 | AD42: Mardi | AE42: 28 | AH42: Vendredi | AI42: 28 | AL42: Vendredi | AM42: 26 | AP42: Mercredi | AQ42: 28 | AT42: Vendredi | AU42: 28
J43: Mercredi | AP43: Mercredi
B44: Lundi | C44: 29 | J44: Jeudi | K44: 29 | N44: Lundi | O44: 30 | R44: Mardi | S44: 29 | V44: Vendredi | W44: 29 | Z44: Lundi | AA44: 30 | AD44: Mercredi | AE44: 29 | AH44: Lundi | AI44: 31 | AL44: Lundi | AM44: 29 | AP44: Jeudi | AQ44: 29 | AT44: Lundi | AU44: 31
B46: Mardi | C46: 30 | J46: Vendredi | K46: 30 | R46: Mercredi | S46: 30 | Z46: Mardi | AA46: 31 | AD46: Jeudi | AE46: 30 | AL46: Mardi | AM46: 30 | AP46: Vendredi | AQ46: 30
B48: Mercredi | C48: 31 | R48: Jeudi | S48: 31 | AD48: Vendredi | AE48: 31 | AL48: Mercredi | AM48: 31
...

Sheet Jérome
B2: Janvier | F2: Février | J2: Mars | N2: Avril | R2: Mai | V2: Juin | Z2: Juillet | AD2: Août | AH2: Septembre | AL2: Octobre | AP2: Novembre | AT2: Décembre
B3: Jour | D3: Détail d'activité | F3: Jour | H3: Détail d'activité | J3: Jour | L3: Détail d'activité | N3: Jour | P3: Détail d'activité | R3: Jour | T3: Détail d'activité | V3: Jour | X3: Détail d'activité | Z3: Jour | AB3: Détail d'activité | AD3: Jour | AF3: Détail d'activité | AH3: Jour | AJ3: Détail d'activité | AL3: Jour | AN3: Détail d'activité | AP3: Jour | AR3: Détail d'activité | AT3: Jour | AV3: Détail d'activité
B4: Lundi | C4: 1 | F4: Jeudi | G4: 1 | J4: Jeudi | K4: 1 | N4: Lundi | O4: 2 | R4: Mardi | S4: 1 | V4: Vendredi | W4: 1 | Z4: Lundi | AA4: 2 | AD4: Mercredi | AE4: 1 | AH4: Lundi | AI4: 3 | AL4: Lundi | AM4: 1 | AP4: Jeudi | AQ4: 1 | AT4: Lundi | AU4: 3
B6: Mardi | C6: 2 | D6: A | F6: Vendredi | G6: 2 | J6: Vendredi | K6: 2 | N6: Mardi | O6: 3 | R6: Mercredi | S6: 2 | V6: Lundi | W6: 4 | Z6: Mardi | AA6: 3 | AD6: Jeudi | AE6: 2 | AH6: Mardi | AI6: 4 | AL6: Mardi | AM6: 2 | AP6: Vendredi | AQ6: 2 | AT6: Mardi | AU6: 4
D7: a
B8: Mercredi | C8: 3 | D8: b | F8: Lundi | G8: 5 | J8: Lundi | K8: 5 | N8: Mercredi | O8: 4 | R8: Jeudi | S8: 3 | V8: Mardi | W8: 5 | Z8: Mercredi | AA8: 4 | AD8: Vendredi | AE8: 3 | AH8: Mercredi | AI8: 5 | AL8: Mercredi | AM8: 3 | AP8: Lundi | AQ8: 5 | AT8: Mercredi | AU8: 5
D9: b
B10: Jeudi | C10: 4 | D10: b | F10: Mardi | G10: 6 | J10: Mardi | K10: 6 | N10: Jeudi | O10: 5 | R10: Vendredi | S10: 4 | V10: Mercredi | W10: 6 | Z10: Jeudi | AA10: 5 | AD10: Lundi | AE10: 6 | AH10: Jeudi | AI10: 6 | AL10: Jeudi | AM10: 4 | AP10: Mardi | AQ10: 6 | AT10: Jeudi | AU10: 6
D11: b
B12: Vendredi | C12: 5 | D12: c | F12: Mercredi | G12: 7 | J12: Mercredi | K12: 7 | N12: Vendredi | O12: 6 | R12: Lundi | S12: 7 | V12: Jeudi | W12: 7 | Z12: Vendredi | AA12: 6 | AD12: Mardi | AE12: 7 | AH12: Vendredi | AI12: 7 | AL12: Vendredi | AM12: 5 | AP12: Mercredi | AQ12: 7 | AT12: Vendredi | AU12: 7
D13: a | F13: Mercredi | G13: 7 | J13: Mercredi | K13: 7 | AP13: Mercredi | AQ13: 7
B14: Lundi | C14: 8 | D14: R&D | F14: Jeudi | G14: 8 | J14: Jeudi | K14: 8 | N14: Lundi | O14: 9 | R14: Mardi | S14: 8 | V14: Vendredi | W14: 8 | Z14: Lundi | AA14: 9 | AD14: Mercredi | AE14: 8 | AH14: Lundi | AI14: 10 | AL14: Lundi | AM14: 8 | AP14: Jeudi | AQ14: 8 | AT14: Lundi | AU14: 10
D15: Formation
B16: Mardi | C16: 9 | D16: a | F16: Vendredi | G16: 9 | J16: Vendredi | K16: 9 | N16: Mardi | O16: 10 | R16: Mercredi | S16: 9 | V16: Lundi | W16: 11 | Z16: Mardi | AA16: 10 | AD16: Jeudi | AE16: 9 | AH16: Mardi | AI16: 11 | AL16: Mardi | AM16: 9 | AP16: Vendredi | AQ16: 9 | AT16: Mardi | AU16: 11
D17: a
B18: Mercredi | C18: 10 | D18: a | F18: Lundi | G18: 12 | J18: Lundi | K18: 12 | N18: Mercredi | O18: 11 | R18: Jeudi | S18: 10 | V18: Mardi | W18: 12 | Z18: Mercredi | AA18: 11 | AD18: Vendredi | AE18: 10 | AH18: Mercredi | AI18: 12 | AL18: Mercredi | AM18: 10 | AP18: Lundi | AQ18: 12 | AT18: Mercredi | AU18: 12
D19: a
B20: Jeudi | C20: 11 | D20: a | F20: Mardi | G20: 13 | J20: Mardi | K20: 13 | N20: Jeudi | O20: 12 | R20: Vendredi | S20: 11 | V20: Mercredi | W20: 13 | Z20: Jeudi | AA20: 12 | AD20: Lundi | AE20: 13 | AH20: Jeudi | AI20: 13 | AL20: Jeudi | AM20: 11 | AP20: Mardi | AQ20: 13 | AT20: Jeudi | AU20: 13
D21: b
B22: Vendredi | C22: 12 | D22: c | F22: Mercredi | G22: 14 | J22: Mercredi | K22: 14 | N22: Vendredi | O22: 13 | R22: Lundi | S22: 14 | V22: Jeudi | W22: 14 | Z22: Vendredi | AA22: 13 | AD22: Mardi | AE22: 14 | AH22: Vendredi | AI22: 14 | AL22: Vendredi | AM22: 12 | AP22: Mercredi | AQ22: 14 | AT22: Vendredi | AU22: 14
D23: d | J23: Mercredi | AP23: Mercredi
B24: Lundi | C24: 15 | D24: a | F24: Jeudi | G24: 15 | J24: Jeudi | K24: 15 | N24: Lundi | O24: 16 | R24: Mardi | S24: 15 | V24: Vendredi | W24: 15 | Z24: Lundi | AA24: 16 | AD24: Mercredi | AE24: 15 | AH24: Lundi | AI24: 17 | AL24: Lundi | AM24: 15 | AP24: Jeudi | AQ24: 15 | AT24: Lundi | AU24: 17
D25: b
B26: Mardi | C26: 16 | D26: b | F26: Vendredi | G26: 16 | J26: Vendredi | K26: 16 | N26: Mardi | O26: 17 | R26: Mercredi | S26: 16 | V26: Lundi | W26: 18 | Z26: Mardi | AA26: 17 | AD26: Jeudi | AE26: 16 | AH26: Mardi | AI26: 18 | AL26: Mardi | AM26: 16 | AP26: Vendredi | AQ26: 16 | AT26: Mardi | AU26: 18
D27: a
B28: Mercredi | C28: 17 | D28: a | F28: Lundi | G28: 19 | J28: Lundi | K28: 19 | N28: Mercredi | O28: 18 | R28: Jeudi | S28: 17 | V28: Mardi | W28: 19 | Z28: Mercredi | AA28: 18 | AD28: Vendredi | AE28: 17 | AH28: Mercredi | AI28: 19 | AL28: Mercredi | AM28: 17 | AP28: Lundi | AQ28: 19 | AT28: Mercredi | AU28: 19
D29: a
B30: Jeudi | C30: 18 | D30: a | F30: Mardi | G30: 20 | J30: Mardi | K30: 20 | N30: Jeudi | O30: 19 | R30: Vendredi | S30: 18 | V30: Mercredi | W30: 20 | Z30: Jeudi | AA30: 19 | AD30: Lundi | AE30: 20 | AH30: Jeudi | AI30: 20 | AL30: Jeudi | AM30: 18 | AP30: Mardi | AQ30: 20 | AT30: Jeudi | AU30: 20
D31: a
B32: Vendredi | C32: 19 | D32: e | F32: Mercredi | G32: 21 | J32: Mercredi | K32: 21 | N32: Vendredi | O32: 20 | R32: Lundi | S32: 21 | V32: Jeudi | W32: 21 | Z32: Vendredi | AA32: 20 | AD32: Mardi | AE32: 21 | AH32: Vendredi | AI32: 21 | AL32: Vendredi | AM32: 19 | AP32: Mercredi | AQ32: 21 | AT32: Vendredi | AU32: 21
J33: Mercredi | AP33: Mercredi
B34: Lundi | C34: 22 | F34: Jeudi | G34: 22 | J34: Jeudi | K34: 22 | N34: Lundi | O34: 23 | R34: Mardi | S34: 22 | V34: Vendredi | W34: 22 | Z34: Lundi | AA34: 23 | AD34: Mercredi | AE34: 22 | AH34: Lundi | AI34: 24 | AL34: Lundi | AM34: 22 | AP34: Jeudi | AQ34: 22 | AT34: Lundi | AU34: 24
B36: Mardi | C36: 23 | F36: Vendredi | G36: 23 | J36: Vendredi | K36: 23 | N36: Mardi | O36: 24 | R36: Mercredi | S36: 23 | V36: Lundi | W36: 25 | Z36: Mardi | AA36: 24 | AD36: Jeudi | AE36: 23 | AH36: Mardi | AI36: 25 | AL36: Mardi | AM36: 23 | AP36: Vendredi | AQ36: 23 | AT36: Mardi | AU36: 25
B38: Mercredi | C38: 24 | F38: Lundi | G38: 26 | J38: Lundi | K38: 26 | N38: Mercredi | O38: 25 | R38: Jeudi | S38: 24 | V38: Mardi | W38: 26 | Z38: Mercredi | AA38: 25 | AD38: Vendredi | AE38: 24 | AH38: Mercredi | AI38: 26 | AL38: Mercredi | AM38: 24 | AP38: Lundi | AQ38: 26 | AT38: Mercredi | AU38: 26
B40: Jeudi | C40: 25 | F40: Mardi | G40: 27 | J40: Mardi | K40: 27 | N40: Jeudi | O40: 26 | R40: Vendredi | S40: 25 | V40: Mercredi | W40: 27 | Z40: Jeudi | AA40: 26 | AD40: Lundi | AE40: 27 | AH40: Jeudi | AI40: 27 | AL40: Jeudi | AM40: 25 | AP40: Mardi | AQ40: 27 | AT40: Jeudi | AU40: 27
B42: Vendredi | C42: 26 | F42: Mercredi | G42: 28 | J42: Mercredi | K42: 28 | N42: Vendredi | O42: 27 | R42: Lundi | S42: 28 | V42: Jeudi | W42: 28 | Z42: Vendredi | AA42: 27 | AD42: Mardi | AE42: 28 | AH42: Vendredi | AI42: 28 | AL42: Vendredi | AM42: 26 | AP42: Mercredi | AQ42: 28 | AT42: Vendredi | AU42: 28
J43: Mercredi | AP43: Mercredi
B44: Lundi | C44: 29 | J44: Jeudi | K44: 29 | N44: Lundi | O44: 30 | R44: Mardi | S44: 29 | V44: Vendredi | W44: 29 | Z44: Lundi | AA44: 30 | AD44: Mercredi | AE44: 29 | AH44: Lundi | AI44: 31 | AL44: Lundi | AM44: 29 | AP44: Jeudi | AQ44: 29 | AT44: Lundi | AU44: 31
B46: Mardi | C46: 30 | J46: Vendredi | K46: 30 | R46: Mercredi | S46: 30 | Z46: Mardi | AA46: 31 | AD46: Jeudi | AE46: 30 | AL46: Mardi | AM46: 30 | AP46: Vendredi | AQ46: 30
B48: Mercredi | C48: 31 | R48: Jeudi | S48: 31 | AD48: Vendredi | AE48: 31 | AL48: Mercredi | AM48: 31
...

Sheet Flavie
B2: Janvier | F2: Février | J2: Mars | N2: Avril | R2: Mai | V2: Juin | Z2: Juillet | AD2: Août | AH2: Septembre | AL2: Octobre | AP2: Novembre | AT2: Décembre
B3: Jour | D3: Détail d'activité | F3: Jour | H3: Détail d'activité | J3: Jour | L3: Détail d'activité | N3: Jour | P3: Détail d'activité | R3: Jour | T3: Détail d'activité | V3: Jour | X3: Détail d'activité | Z3: Jour | AB3: Détail d'activité | AD3: Jour | AF3: Détail d'activité | AH3: Jour | AJ3: Détail d'activité | AL3: Jour | AN3: Détail d'activité | AP3: Jour | AR3: Détail d'activité | AT3: Jour | AV3: Détail d'activité
B4: Lundi | C4: 1 | F4: Jeudi | G4: 1 | J4: Jeudi | K4: 1 | N4: Lundi | O4: 2 | R4: Mardi | S4: 1 | V4: Vendredi | W4: 1 | Z4: Lundi | AA4: 2 | AD4: Mercredi | AE4: 1 | AH4: Lundi | AI4: 3 | AL4: Lundi | AM4: 1 | AP4: Jeudi | AQ4: 1 | AT4: Lundi | AU4: 3
B6: Mardi | C6: 2 | D6: A | F6: Vendredi | G6: 2 | J6: Vendredi | K6: 2 | N6: Mardi | O6: 3 | R6: Mercredi | S6: 2 | V6: Lundi | W6: 4 | Z6: Mardi | AA6: 3 | AD6: Jeudi | AE6: 2 | AH6: Mardi | AI6: 4 | AL6: Mardi | AM6: 2 | AP6: Vendredi | AQ6: 2 | AT6: Mardi | AU6: 4
D7: a
B8: Mercredi | C8: 3 | D8: b | F8: Lundi | G8: 5 | J8: Lundi | K8: 5 | N8: Mercredi | O8: 4 | R8: Jeudi | S8: 3 | V8: Mardi | W8: 5 | Z8: Mercredi | AA8: 4 | AD8: Vendredi | AE8: 3 | AH8: Mercredi | AI8: 5 | AL8: Mercredi | AM8: 3 | AP8: Lundi | AQ8: 5 | AT8: Mercredi | AU8: 5
D9: b
B10: Jeudi | C10: 4 | D10: b | F10: Mardi | G10: 6 | J10: Mardi | K10: 6 | N10: Jeudi | O10: 5 | R10: Vendredi | S10: 4 | V10: Mercredi | W10: 6 | Z10: Jeudi | AA10: 5 | AD10: Lundi | AE10: 6 | AH10: Jeudi | AI10: 6 | AL10: Jeudi | AM10: 4 | AP10: Mardi | AQ10: 6 | AT10: Jeudi | AU10: 6
D11: b
B12: Vendredi | C12: 5 | D12: c | F12: Mercredi | G12: 7 | J12: Mercredi | K12: 7 | N12: Vendredi | O12: 6 | R12: Lundi | S12: 7 | V12: Jeudi | W12: 7 | Z12: Vendredi | AA12: 6 | AD12: Mardi | AE12: 7 | AH12: Vendredi | AI12: 7 | AL12: Vendredi | AM12: 5 | AP12: Mercredi | AQ12: 7 | AT12: Vendredi | AU12: 7
D13: a | F13: Mercredi | G13: 7 | J13: Mercredi | K13: 7 | AP13: Mercredi | AQ13: 7
B14: Lundi | C14: 8 | D14: R&D | F14: Jeudi | G14: 8 | J14: Jeudi | K14: 8 | N14: Lundi | O14: 9 | R14: Mardi | S14: 8 | V14: Vendredi | W14: 8 | Z14: Lundi | AA14: 9 | AD14: Mercredi | AE14: 8 | AH14: Lundi | AI14: 10 | AL14: Lundi | AM14: 8 | AP14: Jeudi | AQ14: 8 | AT14: Lundi | AU14: 10
D15: Formation
B16: Mardi | C16: 9 | D16: a | F16: Vendredi | G16: 9 | J16: Vendredi | K16: 9 | N16: Mardi | O16: 10 | R16: Mercredi | S16: 9 | V16: Lundi | W16: 11 | Z16: Mardi | AA16: 10 | AD16: Jeudi | AE16: 9 | AH16: Mardi | AI16: 11 | AL16: Mardi | AM16: 9 | AP16: Vendredi | AQ16: 9 | AT16: Mardi | AU16: 11
D17: a
B18: Mercredi | C18: 10 | D18: a | F18: Lundi | G18: 12 | J18: Lundi | K18: 12 | N18: Mercredi | O18: 11 | R18: Jeudi | S18: 10 | V18: Mardi | W18: 12 | Z18: Mercredi | AA18: 11 | AD18: Vendredi | AE18: 10 | AH18: Mercredi | AI18: 12 | AL18: Mercredi | AM18: 10 | AP18: Lundi | AQ18: 12 | AT18: Mercredi | AU18: 12
D19: a
B20: Jeudi | C20: 11 | D20: a | F20: Mardi | G20: 13 | J20: Mardi | K20: 13 | N20: Jeudi | O20: 12 | R20: Vendredi | S20: 11 | V20: Mercredi | W20: 13 | Z20: Jeudi | AA20: 12 | AD20: Lundi | AE20: 13 | AH20: Jeudi | AI20: 13 | AL20: Jeudi | AM20: 11 | AP20: Mardi | AQ20: 13 | AT20: Jeudi | AU20: 13
D21: b
B22: Vendredi | C22: 12 | D22: c | F22: Mercredi | G22: 14 | J22: Mercredi | K22: 14 | N22: Vendredi | O22: 13 | R22: Lundi | S22: 14 | V22: Jeudi | W22: 14 | Z22: Vendredi | AA22: 13 | AD22: Mardi | AE22: 14 | AH22: Vendredi | AI22: 14 | AL22: Vendredi | AM22: 12 | AP22: Mercredi | AQ22: 14 | AT22: Vendredi | AU22: 14
D23: d | J23: Mercredi | AP23: Mercredi
B24: Lundi | C24: 15 | D24: a | F24: Jeudi | G24: 15 | J24: Jeudi | K24: 15 | N24: Lundi | O24: 16 | R24: Mardi | S24: 15 | V24: Vendredi | W24: 15 | Z24: Lundi | AA24: 16 | AD24: Mercredi | AE24: 15 | AH24: Lundi | AI24: 17 | AL24: Lundi | AM24: 15 | AP24: Jeudi | AQ24: 15 | AT24: Lundi | AU24: 17
D25: b
B26: Mardi | C26: 16 | D26: b | F26: Vendredi | G26: 16 | J26: Vendredi | K26: 16 | N26: Mardi | O26: 17 | R26: Mercredi | S26: 16 | V26: Lundi | W26: 18 | Z26: Mardi | AA26: 17 | AD26: Jeudi | AE26: 16 | AH26: Mardi | AI26: 18 | AL26: Mardi | AM26: 16 | AP26: Vendredi | AQ26: 16 | AT26: Mardi | AU26: 18
D27: a
B28: Mercredi | C28: 17 | D28: a | F28: Lundi | G28: 19 | J28: Lundi | K28: 19 | N28: Mercredi | O28: 18 | R28: Jeudi | S28: 17 | V28: Mardi | W28: 19 | Z28: Mercredi | AA28: 18 | AD28: Vendredi | AE28: 17 | AH28: Mercredi | AI28: 19 | AL28: Mercredi | AM28: 17 | AP28: Lundi | AQ28: 19 | AT28: Mercredi | AU28: 19
D29: a
B30: Jeudi | C30: 18 | D30: a | F30: Mardi | G30: 20 | J30: Mardi | K30: 20 | N30: Jeudi | O30: 19 | R30: Vendredi | S30: 18 | V30: Mercredi | W30: 20 | Z30: Jeudi | AA30: 19 | AD30: Lundi | AE30: 20 | AH30: Jeudi | AI30: 20 | AL30: Jeudi | AM30: 18 | AP30: Mardi | AQ30: 20 | AT30: Jeudi | AU30: 20
D31: a
B32: Vendredi | C32: 19 | D32: e | F32: Mercredi | G32: 21 | J32: Mercredi | K32: 21 | N32: Vendredi | O32: 20 | R32: Lundi | S32: 21 | V32: Jeudi | W32: 21 | Z32: Vendredi | AA32: 20 | AD32: Mardi | AE32: 21 | AH32: Vendredi | AI32: 21 | AL32: Vendredi | AM32: 19 | AP32: Mercredi | AQ32: 21 | AT32: Vendredi | AU32: 21
J33: Mercredi | AP33: Mercredi
B34: Lundi | C34: 22 | F34: Jeudi | G34: 22 | J34: Jeudi | K34: 22 | N34: Lundi | O34: 23 | R34: Mardi | S34: 22 | V34: Vendredi | W34: 22 | Z34: Lundi | AA34: 23 | AD34: Mercredi | AE34: 22 | AH34: Lundi | AI34: 24 | AL34: Lundi | AM34: 22 | AP34: Jeudi | AQ34: 22 | AT34: Lundi | AU34: 24
B36: Mardi | C36: 23 | F36: Vendredi | G36: 23 | J36: Vendredi | K36: 23 | N36: Mardi | O36: 24 | R36: Mercredi | S36: 23 | V36: Lundi | W36: 25 | Z36: Mardi | AA36: 24 | AD36: Jeudi | AE36: 23 | AH36: Mardi | AI36: 25 | AL36: Mardi | AM36: 23 | AP36: Vendredi | AQ36: 23 | AT36: Mardi | AU36: 25
B38: Mercredi | C38: 24 | F38: Lundi | G38: 26 | J38: Lundi | K38: 26 | N38: Mercredi | O38: 25 | R38: Jeudi | S38: 24 | V38: Mardi | W38: 26 | Z38: Mercredi | AA38: 25 | AD38: Vendredi | AE38: 24 | AH38: Mercredi | AI38: 26 | AL38: Mercredi | AM38: 24 | AP38: Lundi | AQ38: 26 | AT38: Mercredi | AU38: 26
B40: Jeudi | C40: 25 | F40: Mardi | G40: 27 | J40: Mardi | K40: 27 | N40: Jeudi | O40: 26 | R40: Vendredi | S40: 25 | V40: Mercredi | W40: 27 | Z40: Jeudi | AA40: 26 | AD40: Lundi | AE40: 27 | AH40: Jeudi | AI40: 27 | AL40: Jeudi | AM40: 25 | AP40: Mardi | AQ40: 27 | AT40: Jeudi | AU40: 27
B42: Vendredi | C42: 26 | F42: Mercredi | G42: 28 | J42: Mercredi | K42: 28 | N42: Vendredi | O42: 27 | R42: Lundi | S42: 28 | V42: Jeudi | W42: 28 | Z42: Vendredi | AA42: 27 | AD42: Mardi | AE42: 28 | AH42: Vendredi | AI42: 28 | AL42: Vendredi | AM42: 26 | AP42: Mercredi | AQ42: 28 | AT42: Vendredi | AU42: 28
J43: Mercredi | AP43: Mercredi
B44: Lundi | C44: 29 | J44: Jeudi | K44: 29 | N44: Lundi | O44: 30 | R44: Mardi | S44: 29 | V44: Vendredi | W44: 29 | Z44: Lundi | AA44: 30 | AD44: Mercredi | AE44: 29 | AH44: Lundi | AI44: 31 | AL44: Lundi | AM44: 29 | AP44: Jeudi | AQ44: 29 | AT44: Lundi | AU44: 31
B46: Mardi | C46: 30 | J46: Vendredi | K46: 30 | R46: Mercredi | S46: 30 | Z46: Mardi | AA46: 31 | AD46: Jeudi | AE46: 30 | AL46: Mardi | AM46: 30 | AP46: Vendredi | AQ46: 30
B48: Mercredi | C48: 31 | R48: Jeudi | S48: 31 | AD48: Vendredi | AE48: 31 | AL48: Mercredi | AM48: 31
...

Sheet Feuil4
B2: Janvier | F2: Février | J2: Mars | N2: Avril | R2: Mai | V2: Juin | Z2: Juillet | AD2: Août | AH2: Septembre | AL2: Octobre | AP2: Novembre | AT2: Décembre
B3: Jour | D3: Détail d'activité | F3: Jour | H3: Détail d'activité | J3: Jour | L3: Détail d'activité | N3: Jour | P3: Détail d'activité | R3: Jour | T3: Détail d'activité | V3: Jour | X3: Détail d'activité | Z3: Jour | AB3: Détail d'activité | AD3: Jour | AF3: Détail d'activité | AH3: Jour | AJ3: Détail d'activité | AL3: Jour | AN3: Détail d'activité | AP3: Jour | AR3: Détail d'activité | AT3: Jour | AV3: Détail d'activité
B4: Lundi | C4: 1 | F4: Jeudi | G4: 1 | J4: Jeudi | K4: 1 | N4: Lundi | O4: 2 | R4: Mardi | S4: 1 | V4: Vendredi | W4: 1 | Z4: Lundi | AA4: 2 | AD4: Mercredi | AE4: 1 | AH4: Lundi | AI4: 3 | AL4: Lundi | AM4: 1 | AP4: Jeudi | AQ4: 1 | AT4: Lundi | AU4: 3
B6: Mardi | C6: 2 | D6: A | F6: Vendredi | G6: 2 | J6: Vendredi | K6: 2 | N6: Mardi | O6: 3 | R6: Mercredi | S6: 2 | V6: Lundi | W6: 4 | Z6: Mardi | AA6: 3 | AD6: Jeudi | AE6: 2 | AH6: Mardi | AI6: 4 | AL6: Mardi | AM6: 2 | AP6: Vendredi | AQ6: 2 | AT6: Mardi | AU6: 4
D7: a
B8: Mercredi | C8: 3 | D8: b | F8: Lundi | G8: 5 | J8: Lundi | K8: 5 | N8: Mercredi | O8: 4 | R8: Jeudi | S8: 3 | V8: Mardi | W8: 5 | Z8: Mercredi | AA8: 4 | AD8: Vendredi | AE8: 3 | AH8: Mercredi | AI8: 5 | AL8: Mercredi | AM8: 3 | AP8: Lundi | AQ8: 5 | AT8: Mercredi | AU8: 5
D9: b
B10: Jeudi | C10: 4 | D10: b | F10: Mardi | G10: 6 | J10: Mardi | K10: 6 | N10: Jeudi | O10: 5 | R10: Vendredi | S10: 4 | V10: Mercredi | W10: 6 | Z10: Jeudi | AA10: 5 | AD10: Lundi | AE10: 6 | AH10: Jeudi | AI10: 6 | AL10: Jeudi | AM10: 4 | AP10: Mardi | AQ10: 6 | AT10: Jeudi | AU10: 6
D11: b
B12: Vendredi | C12: 5 | D12: c | F12: Mercredi | G12: 7 | J12: Mercredi | K12: 7 | N12: Vendredi | O12: 6 | R12: Lundi | S12: 7 | V12: Jeudi | W12: 7 | Z12: Vendredi | AA12: 6 | AD12: Mardi | AE12: 7 | AH12: Vendredi | AI12: 7 | AL12: Vendredi | AM12: 5 | AP12: Mercredi | AQ12: 7 | AT12: Vendredi | AU12: 7
D13: a | F13: Mercredi | G13: 7 | J13: Mercredi | K13: 7 | AP13: Mercredi | AQ13: 7
B14: Lundi | C14: 8 | D14: R&D | F14: Jeudi | G14: 8 | J14: Jeudi | K14: 8 | N14: Lundi | O14: 9 | R14: Mardi | S14: 8 | V14: Vendredi | W14: 8 | Z14: Lundi | AA14: 9 | AD14: Mercredi | AE14: 8 | AH14: Lundi | AI14: 10 | AL14: Lundi | AM14: 8 | AP14: Jeudi | AQ14: 8 | AT14: Lundi | AU14: 10
D15: Formation
B16: Mardi | C16: 9 | D16: a | F16: Vendredi | G16: 9 | J16: Vendredi | K16: 9 | N16: Mardi | O16: 10 | R16: Mercredi | S16: 9 | V16: Lundi | W16: 11 | Z16: Mardi | AA16: 10 | AD16: Jeudi | AE16: 9 | AH16: Mardi | AI16: 11 | AL16: Mardi | AM16: 9 | AP16: Vendredi | AQ16: 9 | AT16: Mardi | AU16: 11
D17: a
B18: Mercredi | C18: 10 | D18: a | F18: Lundi | G18: 12 | J18: Lundi | K18: 12 | N18: Mercredi | O18: 11 | R18: Jeudi | S18: 10 | V18: Mardi | W18: 12 | Z18: Mercredi | AA18: 11 | AD18: Vendredi | AE18: 10 | AH18: Mercredi | AI18: 12 | AL18: Mercredi | AM18: 10 | AP18: Lundi | AQ18: 12 | AT18: Mercredi | AU18: 12
D19: a
B20: Jeudi | C20: 11 | D20: a | F20: Mardi | G20: 13 | J20: Mardi | K20: 13 | N20: Jeudi | O20: 12 | R20: Vendredi | S20: 11 | V20: Mercredi | W20: 13 | Z20: Jeudi | AA20: 12 | AD20: Lundi | AE20: 13 | AH20: Jeudi | AI20: 13 | AL20: Jeudi | AM20: 11 | AP20: Mardi | AQ20: 13 | AT20: Jeudi | AU20: 13
D21: b
B22: Vendredi | C22: 12 | D22: c | F22: Mercredi | G22: 14 | J22: Mercredi | K22: 14 | N22: Vendredi | O22: 13 | R22: Lundi | S22: 14 | V22: Jeudi | W22: 14 | Z22: Vendredi | AA22: 13 | AD22: Mardi | AE22: 14 | AH22: Vendredi | AI22: 14 | AL22: Vendredi | AM22: 12 | AP22: Mercredi | AQ22: 14 | AT22: Vendredi | AU22: 14
D23: d | J23: Mercredi | AP23: Mercredi
B24: Lundi | C24: 15 | D24: a | F24: Jeudi | G24: 15 | J24: Jeudi | K24: 15 | N24: Lundi | O24: 16 | R24: Mardi | S24: 15 | V24: Vendredi | W24: 15 | Z24: Lundi | AA24: 16 | AD24: Mercredi | AE24: 15 | AH24: Lundi | AI24: 17 | AL24: Lundi | AM24: 15 | AP24: Jeudi | AQ24: 15 | AT24: Lundi | AU24: 17
D25: b
B26: Mardi | C26: 16 | D26: b | F26: Vendredi | G26: 16 | J26: Vendredi | K26: 16 | N26: Mardi | O26: 17 | R26: Mercredi | S26: 16 | V26: Lundi | W26: 18 | Z26: Mardi | AA26: 17 | AD26: Jeudi | AE26: 16 | AH26: Mardi | AI26: 18 | AL26: Mardi | AM26: 16 | AP26: Vendredi | AQ26: 16 | AT26: Mardi | AU26: 18
D27: a
B28: Mercredi | C28: 17 | D28: a | F28: Lundi | G28: 19 | J28: Lundi | K28: 19 | N28: Mercredi | O28: 18 | R28: Jeudi | S28: 17 | V28: Mardi | W28: 19 | Z28: Mercredi | AA28: 18 | AD28: Vendredi | AE28: 17 | AH28: Mercredi | AI28: 19 | AL28: Mercredi | AM28: 17 | AP28: Lundi | AQ28: 19 | AT28: Mercredi | AU28: 19
D29: a
B30: Jeudi | C30: 18 | D30: a | F30: Mardi | G30: 20 | J30: Mardi | K30: 20 | N30: Jeudi | O30: 19 | R30: Vendredi | S30: 18 | V30: Mercredi | W30: 20 | Z30: Jeudi | AA30: 19 | AD30: Lundi | AE30: 20 | AH30: Jeudi | AI30: 20 | AL30: Jeudi | AM30: 18 | AP30: Mardi | AQ30: 20 | AT30: Jeudi | AU30: 20
D31: a
B32: Vendredi | C32: 19 | D32: e | F32: Mercredi | G32: 21 | J32: Mercredi | K32: 21 | N32: Vendredi | O32: 20 | R32: Lundi | S32: 21 | V32: Jeudi | W32: 21 | Z32: Vendredi | AA32: 20 | AD32: Mardi | AE32: 21 | AH32: Vendredi | AI32: 21 | AL32: Vendredi | AM32: 19 | AP32: Mercredi | AQ32: 21 | AT32: Vendredi | AU32: 21
J33: Mercredi | AP33: Mercredi
B34: Lundi | C34: 22 | F34: Jeudi | G34: 22 | J34: Jeudi | K34: 22 | N34: Lundi | O34: 23 | R34: Mardi | S34: 22 | V34: Vendredi | W34: 22 | Z34: Lundi | AA34: 23 | AD34: Mercredi | AE34: 22 | AH34: Lundi | AI34: 24 | AL34: Lundi | AM34: 22 | AP34: Jeudi | AQ34: 22 | AT34: Lundi | AU34: 24
B36: Mardi | C36: 23 | F36: Vendredi | G36: 23 | J36: Vendredi | K36: 23 | N36: Mardi | O36: 24 | R36: Mercredi | S36: 23 | V36: Lundi | W36: 25 | Z36: Mardi | AA36: 24 | AD36: Jeudi | AE36: 23 | AH36: Mardi | AI36: 25 | AL36: Mardi | AM36: 23 | AP36: Vendredi | AQ36: 23 | AT36: Mardi | AU36: 25
B38: Mercredi | C38: 24 | F38: Lundi | G38: 26 | J38: Lundi | K38: 26 | N38: Mercredi | O38: 25 | R38: Jeudi | S38: 24 | V38: Mardi | W38: 26 | Z38: Mercredi | AA38: 25 | AD38: Vendredi | AE38: 24 | AH38: Mercredi | AI38: 26 | AL38: Mercredi | AM38: 24 | AP38: Lundi | AQ38: 26 | AT38: Mercredi | AU38: 26
B40: Jeudi | C40: 25 | F40: Mardi | G40: 27 | J40: Mardi | K40: 27 | N40: Jeudi | O40: 26 | R40: Vendredi | S40: 25 | V40: Mercredi | W40: 27 | Z40: Jeudi | AA40: 26 | AD40: Lundi | AE40: 27 | AH40: Jeudi | AI40: 27 | AL40: Jeudi | AM40: 25 | AP40: Mardi | AQ40: 27 | AT40: Jeudi | AU40: 27
B42: Vendredi | C42: 26 | F42: Mercredi | G42: 28 | J42: Mercredi | K42: 28 | N42: Vendredi | O42: 27 | R42: Lundi | S42: 28 | V42: Jeudi | W42: 28 | Z42: Vendredi | AA42: 27 | AD42: Mardi | AE42: 28 | AH42: Vendredi | AI42: 28 | AL42: Vendredi | AM42: 26 | AP42: Mercredi | AQ42: 28 | AT42: Vendredi | AU42: 28
J43: Mercredi | AP43: Mercredi
B44: Lundi | C44: 29 | J44: Jeudi | K44: 29 | N44: Lundi | O44: 30 | R44: Mardi | S44: 29 | V44: Vendredi | W44: 29 | Z44: Lundi | AA44: 30 | AD44: Mercredi | AE44: 29 | AH44: Lundi | AI44: 31 | AL44: Lundi | AM44: 29 | AP44: Jeudi | AQ44: 29 | AT44: Lundi | AU44: 31
B46: Mardi | C46: 30 | J46: Vendredi | K46: 30 | R46: Mercredi | S46: 30 | Z46: Mardi | AA46: 31 | AD46: Jeudi | AE46: 30 | AL46: Mardi | AM46: 30 | AP46: Vendredi | AQ46: 30
B48: Mercredi | C48: 31 | R48: Jeudi | S48: 31 | AD48: Vendredi | AE48: 31 | AL48: Mercredi | AM48: 31
...

Sheet Feuil5
B2: Janvier | F2: Février | J2: Mars | N2: Avril | R2: Mai | V2: Juin | Z2: Juillet | AD2: Août | AH2: Septembre | AL2: Octobre | AP2: Novembre | AT2: Décembre
B3: Jour | D3: Détail d'activité | F3: Jour | H3: Détail d'activité | J3: Jour | L3: Détail d'activité | N3: Jour | P3: Détail d'activité | R3: Jour | T3: Détail d'activité | V3: Jour | X3: Détail d'activité | Z3: Jour | AB3: Détail d'activité | AD3: Jour | AF3: Détail d'activité | AH3: Jour | AJ3: Détail d'activité | AL3: Jour | AN3: Détail d'activité | AP3: Jour | AR3: Détail d'activité | AT3: Jour | AV3: Détail d'activité
B4: Lundi | C4: 1 | F4: Jeudi | G4: 1 | J4: Jeudi | K4: 1 | N4: Lundi | O4: 2 | R4: Mardi | S4: 1 | V4: Vendredi | W4: 1 | Z4: Lundi | AA4: 2 | AD4: Mercredi | AE4: 1 | AH4: Lundi | AI4: 3 | AL4: Lundi | AM4: 1 | AP4: Jeudi | AQ4: 1 | AT4: Lundi | AU4: 3
B6: Mardi | C6: 2 | D6: A | F6: Vendredi | G6: 2 | J6: Vendredi | K6: 2 | N6: Mardi | O6: 3 | R6: Mercredi | S6: 2 | V6: Lundi | W6: 4 | Z6: Mardi | AA6: 3 | AD6: Jeudi | AE6: 2 | AH6: Mardi | AI6: 4 | AL6: Mardi | AM6: 2 | AP6: Vendredi | AQ6: 2 | AT6: Mardi | AU6: 4
D7: a
B8: Mercredi | C8: 3 | D8: b | F8: Lundi | G8: 5 | J8: Lundi | K8: 5 | N8: Mercredi | O8: 4 | R8: Jeudi | S8: 3 | V8: Mardi | W8: 5 | Z8: Mercredi | AA8: 4 | AD8: Vendredi | AE8: 3 | AH8: Mercredi | AI8: 5 | AL8: Mercredi | AM8: 3 | AP8: Lundi | AQ8: 5 | AT8: Mercredi | AU8: 5
D9: b
B10: Jeudi | C10: 4 | D10: b | F10: Mardi | G10: 6 | J10: Mardi | K10: 6 | N10: Jeudi | O10: 5 | R10: Vendredi | S10: 4 | V10: Mercredi | W10: 6 | Z10: Jeudi | AA10: 5 | AD10: Lundi | AE10: 6 | AH10: Jeudi | AI10: 6 | AL10: Jeudi | AM10: 4 | AP10: Mardi | AQ10: 6 | AT10: Jeudi | AU10: 6
D11: b
B12: Vendredi | C12: 5 | D12: c | F12: Mercredi | G12: 7 | J12: Mercredi | K12: 7 | N12: Vendredi | O12: 6 | R12: Lundi | S12: 7 | V12: Jeudi | W12: 7 | Z12: Vendredi | AA12: 6 | AD12: Mardi | AE12: 7 | AH12: Vendredi | AI12: 7 | AL12: Vendredi | AM12: 5 | AP12: Mercredi | AQ12: 7 | AT12: Vendredi | AU12: 7
D13: a | F13: Mercredi | G13: 7 | J13: Mercredi | K13: 7 | AP13: Mercredi | AQ13: 7
B14: Lundi | C14: 8 | D14: R&D | F14: Jeudi | G14: 8 | J14: Jeudi | K14: 8 | N14: Lundi | O14: 9 | R14: Mardi | S14: 8 | V14: Vendredi | W14: 8 | Z14: Lundi | AA14: 9 | AD14: Mercredi | AE14: 8 | AH14: Lundi | AI14: 10 | AL14: Lundi | AM14: 8 | AP14: Jeudi | AQ14: 8 | AT14: Lundi | AU14: 10
D15: Formation
B16: Mardi | C16: 9 | D16: a | F16: Vendredi | G16: 9 | J16: Vendredi | K16: 9 | N16: Mardi | O16: 10 | R16: Mercredi | S16: 9 | V16: Lundi | W16: 11 | Z16: Mardi | AA16: 10 | AD16: Jeudi | AE16: 9 | AH16: Mardi | AI16: 11 | AL16: Mardi | AM16: 9 | AP16: Vendredi | AQ16: 9 | AT16: Mardi | AU16: 11
D17: a
B18: Mercredi | C18: 10 | D18: a | F18: Lundi | G18: 12 | J18: Lundi | K18: 12 | N18: Mercredi | O18: 11 | R18: Jeudi | S18: 10 | V18: Mardi | W18: 12 | Z18: Mercredi | AA18: 11 | AD18: Vendredi | AE18: 10 | AH18: Mercredi | AI18: 12 | AL18: Mercredi | AM18: 10 | AP18: Lundi | AQ18: 12 | AT18: Mercredi | AU18: 12
D19: a
B20: Jeudi | C20: 11 | D20: a | F20: Mardi | G20: 13 | J20: Mardi | K20: 13 | N20: Jeudi | O20: 12 | R20: Vendredi | S20: 11 | V20: Mercredi | W20: 13 | Z20: Jeudi | AA20: 12 | AD20: Lundi | AE20: 13 | AH20: Jeudi | AI20: 13 | AL20: Jeudi | AM20: 11 | AP20: Mardi | AQ20: 13 | AT20: Jeudi | AU20: 13
D21: b
B22: Vendredi | C22: 12 | D22: c | F22: Mercredi | G22: 14 | J22: Mercredi | K22: 14 | N22: Vendredi | O22: 13 | R22: Lundi | S22: 14 | V22: Jeudi | W22: 14 | Z22: Vendredi | AA22: 13 | AD22: Mardi | AE22: 14 | AH22: Vendredi | AI22: 14 | AL22: Vendredi | AM22: 12 | AP22: Mercredi | AQ22: 14 | AT22: Vendredi | AU22: 14
D23: d | J23: Mercredi | AP23: Mercredi
B24: Lundi | C24: 15 | D24: a | F24: Jeudi | G24: 15 | J24: Jeudi | K24: 15 | N24: Lundi | O24: 16 | R24: Mardi | S24: 15 | V24: Vendredi | W24: 15 | Z24: Lundi | AA24: 16 | AD24: Mercredi | AE24: 15 | AH24: Lundi | AI24: 17 | AL24: Lundi | AM24: 15 | AP24: Jeudi | AQ24: 15 | AT24: Lundi | AU24: 17
D25: b
B26: Mardi | C26: 16 | D26: b | F26: Vendredi | G26: 16 | J26: Vendredi | K26: 16 | N26: Mardi | O26: 17 | R26: Mercredi | S26: 16 | V26: Lundi | W26: 18 | Z26: Mardi | AA26: 17 | AD26: Jeudi | AE26: 16 | AH26: Mardi | AI26: 18 | AL26: Mardi | AM26: 16 | AP26: Vendredi | AQ26: 16 | AT26: Mardi | AU26: 18
D27: a
B28: Mercredi | C28: 17 | D28: a | F28: Lundi | G28: 19 | J28: Lundi | K28: 19 | N28: Mercredi | O28: 18 | R28: Jeudi | S28: 17 | V28: Mardi | W28: 19 | Z28: Mercredi | AA28: 18 | AD28: Vendredi | AE28: 17 | AH28: Mercredi | AI28: 19 | AL28: Mercredi | AM28: 17 | AP28: Lundi | AQ28: 19 | AT28: Mercredi | AU28: 19
D29: a
B30: Jeudi | C30: 18 | D30: a | F30: Mardi | G30: 20 | J30: Mardi | K30: 20 | N30: Jeudi | O30: 19 | R30: Vendredi | S30: 18 | V30: Mercredi | W30: 20 | Z30: Jeudi | AA30: 19 | AD30: Lundi | AE30: 20 | AH30: Jeudi | AI30: 20 | AL30: Jeudi | AM30: 18 | AP30: Mardi | AQ30: 20 | AT30: Jeudi | AU30: 20
D31: a
B32: Vendredi | C32: 19 | D32: e | F32: Mercredi | G32: 21 | J32: Mercredi | K32: 21 | N32: Vendredi | O32: 20 | R32: Lundi | S32: 21 | V32: Jeudi | W32: 21 | Z32: Vendredi | AA32: 20 | AD32: Mardi | AE32: 21 | AH32: Vendredi | AI32: 21 | AL32: Vendredi | AM32: 19 | AP32: Mercredi | AQ32: 21 | AT32: Vendredi | AU32: 21
J33: Mercredi | AP33: Mercredi
B34: Lundi | C34: 22 | F34: Jeudi | G34: 22 | J34: Jeudi | K34: 22 | N34: Lundi | O34: 23 | R34: Mardi | S34: 22 | V34: Vendredi | W34: 22 | Z34: Lundi | AA34: 23 | AD34: Mercredi | AE34: 22 | AH34: Lundi | AI34: 24 | AL34: Lundi | AM34: 22 | AP34: Jeudi | AQ34: 22 | AT34: Lundi | AU34: 24
B36: Mardi | C36: 23 | F36: Vendredi | G36: 23 | J36: Vendredi | K36: 23 | N36: Mardi | O36: 24 | R36: Mercredi | S36: 23 | V36: Lundi | W36: 25 | Z36: Mardi | AA36: 24 | AD36: Jeudi | AE36: 23 | AH36: Mardi | AI36: 25 | AL36: Mardi | AM36: 23 | AP36: Vendredi | AQ36: 23 | AT36: Mardi | AU36: 25
B38: Mercredi | C38: 24 | F38: Lundi | G38: 26 | J38: Lundi | K38: 26 | N38: Mercredi | O38: 25 | R38: Jeudi | S38: 24 | V38: Mardi | W38: 26 | Z38: Mercredi | AA38: 25 | AD38: Vendredi | AE38: 24 | AH38: Mercredi | AI38: 26 | AL38: Mercredi | AM38: 24 | AP38: Lundi | AQ38: 26 | AT38: Mercredi | AU38: 26
B40: Jeudi | C40: 25 | F40: Mardi | G40: 27 | J40: Mardi | K40: 27 | N40: Jeudi | O40: 26 | R40: Vendredi | S40: 25 | V40: Mercredi | W40: 27 | Z40: Jeudi | AA40: 26 | AD40: Lundi | AE40: 27 | AH40: Jeudi | AI40: 27 | AL40: Jeudi | AM40: 25 | AP40: Mardi | AQ40: 27 | AT40: Jeudi | AU40: 27
B42: Vendredi | C42: 26 | F42: Mercredi | G42: 28 | J42: Mercredi | K42: 28 | N42: Vendredi | O42: 27 | R42: Lundi | S42: 28 | V42: Jeudi | W42: 28 | Z42: Vendredi | AA42: 27 | AD42: Mardi | AE42: 28 | AH42: Vendredi | AI42: 28 | AL42: Vendredi | AM42: 26 | AP42: Mercredi | AQ42: 28 | AT42: Vendredi | AU42: 28
J43: Mercredi | AP43: Mercredi
B44: Lundi | C44: 29 | J44: Jeudi | K44: 29 | N44: Lundi | O44: 30 | R44: Mardi | S44: 29 | V44: Vendredi | W44: 29 | Z44: Lundi | AA44: 30 | AD44: Mercredi | AE44: 29 | AH44: Lundi | AI44: 31 | AL44: Lundi | AM44: 29 | AP44: Jeudi | AQ44: 29 | AT44: Lundi | AU44: 31
B46: Mardi | C46: 30 | J46: Vendredi | K46: 30 | R46: Mercredi | S46: 30 | Z46: Mardi | AA46: 31 | AD46: Jeudi | AE46: 30 | AL46: Mardi | AM46: 30 | AP46: Vendredi | AQ46: 30
B48: Mercredi | C48: 31 | R48: Jeudi | S48: 31 | AD48: Vendredi | AE48: 31 | AL48: Mercredi | AM48: 31
...

Sheet Frais (Yohann)
