Workbook

Sheet FEUILLE 1
K6: (R 412-10) Changer de direction sans en avertir les usagers
K7: (R 412-10) Marche Arrière mal maitrisée
K8: (R 412-12) Ne pas respecter la distance de sécurité suffisante
K9: (R 412-6) Ne pas pouvoir manoeuvrer aisément et sans délai
K10: (R 412-7) Roule sur le trottoir
K11: (R 412-9) Circuler sur la partie gauche de la chaussée en marche normale
K12: (R 413-17) Absence de maîtrise
K13: (R 413-17) Vitesse non adaptée aux circonstances
K14: (R 414-1) Dépasser l'axe médian en cas de croisement de véhicules
K15: (R 415-10) Non respect de la priorité à un sens giratoire
K16: (R 415-5) Refuser la priorité de passage
K17: (R 415-6) Ne pas marquer un temps d'arrêt à une intersection signalée
... K23: Pas de faute
A26: Ordre | B26: SITE | C26: IMMATRICULATION | D26: N°TOURNEE | E26: NOM AGENT | F26: DATE DU SINISTRE | G26: TIERS | H26: RESPONSABILITE | I26: N° dossier SAG | J26: Suivi dossier | K26: CATEGORIE
A27: 1
A28: 2 | H28: 0
A29: 3
A30: 4
A31: 5
A32: 6
A33: 7
A34: 8
A35: 9
A36: 10
A37: 11
A38: 12
A39: 13
A40: 14
... A174: 148

Sheet FEUILLE 2
B3: Janvier | C3: Février | D3: Mars | E3: Avril | F3: Mai | G3: Juin | H3: Juillet | I3: Août | J3: Septembre | K3: Octobre | L3: Novembre | M3: Décembre | N3: Total
N5: Total
A6: (R 412-10) Changer de direction sans en avertir les usagers | B6: =SUMIF('FEUILLE 1'!$K$27:$K$174,'FEUILLE 1'!$K6,B$27:B$174) -> 0 | C6: =SUMIF('FEUILLE 1'!$K$27:$K$174,'FEUILLE 1'!$K6,C$27:C$174) -> 0 | D6: =SUMIF('FEUILLE 1'!$K$27:$K$174,'FEUILLE 1'!$K6,D$27:D$174) -> 0 | E6: =SUMIF('FEUILLE 1'!$K$27:$K$174,'FEUILLE 1'!$K6,E$27:E$174) -> 0 | F6: =SUMIF('FEUILLE 1'!$K$27:$K$174,'FEUILLE 1'!$K6,F$27:F$174) -> 0 | G6: =SUMIF('FEUILLE 1'!$K$27:$K$174,'FEUILLE 1'!$K6,G$27:G$174) -> 0 | H6: =SUMIF('FEUILLE 1'!$K$27:$K$174,'FEUILLE 1'!$K6,H$27:H$174) -> 0 | I6: =SUMIF('FEUILLE 1'!$K$27:$K$174,'FEUILLE 1'!$K6,I$27:I$174) -> 0 | ... M6: =SUMIF('FEUILLE 1'!$K$27:$K$174,'FEUILLE 1'!$K6,M$27:M$174) -> 0 | N6: =SUM(B6:M6) -> 0
A7: (R 412-10) Marche Arrière mal maitrisée | B7: =SUMIF('FEUILLE 1'!$K$27:$K$174,'FEUILLE 1'!$K7,B$27:B$174) -> 0 | C7: =SUMIF('FEUILLE 1'!$K$27:$K$174,'FEUILLE 1'!$K7,C$27:C$174) -> 0 | D7: =SUMIF('FEUILLE 1'!$K$27:$K$174,'FEUILLE 1'!$K7,D$27:D$174) -> 0 | E7: =SUMIF('FEUILLE 1'!$K$27:$K$174,'FEUILLE 1'!$K7,E$27:E$174) -> 0 | F7: =SUMIF('FEUILLE 1'!$K$27:$K$174,'FEUILLE 1'!$K7,F$27:F$174) -> 0 | G7: =SUMIF('FEUILLE 1'!$K$27:$K$174,'FEUILLE 1'!$K7,G$27:G$174) -> 0 | H7: =SUMIF('FEUILLE 1'!$K$27:$K$174,'FEUILLE 1'!$K7,H$27:H$174) -> 0 | I7: =SUMIF('FEUILLE 1'!$K$27:$K$174,'FEUILLE 1'!$K7,I$27:I$174) -> 0 | ... M7: =SUMIF('FEUILLE 1'!$K$27:$K$174,'FEUILLE 1'!$K7,M$27:M$174) -> 0 | N7: =SUM(B7:M7) -> 0
A8: (R 412-12) Ne pas respecter la distance de sécurité suffisante | B8: =SUMIF('FEUILLE 1'!$K$27:$K$174,'FEUILLE 1'!$K8,B$27:B$174) -> 0 | C8: =SUMIF('FEUILLE 1'!$K$27:$K$174,'FEUILLE 1'!$K8,C$27:C$174) -> 0 | D8: =SUMIF('FEUILLE 1'!$K$27:$K$174,'FEUILLE 1'!$K8,D$27:D$174) -> 0 | E8: =SUMIF('FEUILLE 1'!$K$27:$K$174,'FEUILLE 1'!$K8,E$27:E$174) -> 0 | F8: =SUMIF('FEUILLE 1'!$K$27:$K$174,'FEUILLE 1'!$K8,F$27:F$174) -> 0 | G8: =SUMIF('FEUILLE 1'!$K$27:$K$174,'FEUILLE 1'!$K8,G$27:G$174) -> 0 | H8: =SUMIF('FEUILLE 1'!$K$27:$K$174,'FEUILLE 1'!$K8,H$27:H$174) -> 0 | I8: =SUMIF('FEUILLE 1'!$K$27:$K$174,'FEUILLE 1'!$K8,I$27:I$174) -> 0 | ... M8: =SUMIF('FEUILLE 1'!$K$27:$K$174,'FEUILLE 1'!$K8,M$27:M$174) -> 0 | N8: =SUM(B8:M8) -> 0
A9: (R 412-6) Ne pas pouvoir manoeuvrer aisément et sans délai | B9: =SUMIF('FEUILLE 1'!$K$27:$K$174,'FEUILLE 1'!$K9,B$27:B$174) -> 0 | C9: =SUMIF('FEUILLE 1'!$K$27:$K$174,'FEUILLE 1'!$K9,C$27:C$174) -> 0 | D9: =SUMIF('FEUILLE 1'!$K$27:$K$174,'FEUILLE 1'!$K9,D$27:D$174) -> 0 | E9: =SUMIF('FEUILLE 1'!$K$27:$K$174,'FEUILLE 1'!$K9,E$27:E$174) -> 0 | F9: =SUMIF('FEUILLE 1'!$K$27:$K$174,'FEUILLE 1'!$K9,F$27:F$174) -> 0 | G9: =SUMIF('FEUILLE 1'!$K$27:$K$174,'FEUILLE 1'!$K9,G$27:G$174) -> 0 | H9: =SUMIF('FEUILLE 1'!$K$27:$K$174,'FEUILLE 1'!$K9,H$27:H$174) -> 0 | I9: =SUMIF('FEUILLE 1'!$K$27:$K$174,'FEUILLE 1'!$K9,I$27:I$174) -> 0 | ... M9: =SUMIF('FEUILLE 1'!$K$27:$K$174,'FEUILLE 1'!$K9,M$27:M$174) -> 0 | N9: =SUM(B9:M9) -> 0
A10: (R 412-7) Roule sur le trottoir | B10: =SUMIF('FEUILLE 1'!$K$27:$K$174,'FEUILLE 1'!$K10,B$27:B$174) -> 0 | C10: =SUMIF('FEUILLE 1'!$K$27:$K$174,'FEUILLE 1'!$K10,C$27:C$174) -> 0 | D10: =SUMIF('FEUILLE 1'!$K$27:$K$174,'FEUILLE 1'!$K10,D$27:D$174) -> 0 | E10: =SUMIF('FEUILLE 1'!$K$27:$K$174,'FEUILLE 1'!$K10,E$27:E$174) -> 0 | F10: =SUMIF('FEUILLE 1'!$K$27:$K$174,'FEUILLE 1'!$K10,F$27:F$174) -> 0 | G10: =SUMIF('FEUILLE 1'!$K$27:$K$174,'FEUILLE 1'!$K10,G$27:G$174) -> 0 | H10: =SUMIF('FEUILLE 1'!$K$27:$K$174,'FEUILLE 1'!$K10,H$27:H$174) -> 0 | I10: =SUMIF('FEUILLE 1'!$K$27:$K$174,'FEUILLE 1'!$K10,I$27:I$174) -> 0 | ... M10: =SUMIF('FEUILLE 1'!$K$27:$K$174,'FEUILLE 1'!$K10,M$27:M$174) -> 0 | N10: =SUM(B10:M10) -> 0
A11: (R 412-9) Circuler sur la partie gauche de la chaussée en marche normale | B11: =SUMIF('FEUILLE 1'!$K$27:$K$174,'FEUILLE 1'!$K11,B$27:B$174) -> 0 | C11: =SUMIF('FEUILLE 1'!$K$27:$K$174,'FEUILLE 1'!$K11,C$27:C$174) -> 0 | D11: =SUMIF('FEUILLE 1'!$K$27:$K$174,'FEUILLE 1'!$K11,D$27:D$174) -> 0 | E11: =SUMIF('FEUILLE 1'!$K$27:$K$174,'FEUILLE 1'!$K11,E$27:E$174) -> 0 | F11: =SUMIF('FEUILLE 1'!$K$27:$K$174,'FEUILLE 1'!$K11,F$27:F$174) -> 0 | G11: =SUMIF('FEUILLE 1'!$K$27:$K$174,'FEUILLE 1'!$K11,G$27:G$174) -> 0 | H11: =SUMIF('FEUILLE 1'!$K$27:$K$174,'FEUILLE 1'!$K11,H$27:H$174) -> 0 | I11: =SUMIF('FEUILLE 1'!$K$27:$K$174,'FEUILLE 1'!$K11,I$27:I$174) -> 0 | ... M11: =SUMIF('FEUILLE 1'!$K$27:$K$174,'FEUILLE 1'!$K11,M$27:M$174) -> 0 | N11: =SUM(B11:M11) -> 0
A12: (R 413-17) Absence de maîtrise | B12: =SUMIF('FEUILLE 1'!$K$27:$K$174,'FEUILLE 1'!$K12,B$27:B$174) -> 0 | C12: =SUMIF('FEUILLE 1'!$K$27:$K$174,'FEUILLE 1'!$K12,C$27:C$174) -> 0 | D12: =SUMIF('FEUILLE 1'!$K$27:$K$174,'FEUILLE 1'!$K12,D$27:D$174) -> 0 | E12: =SUMIF('FEUILLE 1'!$K$27:$K$174,'FEUILLE 1'!$K12,E$27:E$174) -> 0 | F12: =SUMIF('FEUILLE 1'!$K$27:$K$174,'FEUILLE 1'!$K12,F$27:F$174) -> 0 | G12: =SUMIF('FEUILLE 1'!$K$27:$K$174,'FEUILLE 1'!$K12,G$27:G$174) -> 0 | H12: =SUMIF('FEUILLE 1'!$K$27:$K$174,'FEUILLE 1'!$K12,H$27:H$174) -> 0 | I12: =SUMIF('FEUILLE 1'!$K$27:$K$174,'FEUILLE 1'!$K12,I$27:I$174) -> 0 | ... M12: =SUMIF('FEUILLE 1'!$K$27:$K$174,'FEUILLE 1'!$K12,M$27:M$174) -> 0 | N12: =SUM(B12:M12) -> 0
A13: (R 413-17) Vitesse non adaptée aux circonstances | B13: =SUMIF('FEUILLE 1'!$K$27:$K$174,'FEUILLE 1'!$K13,B$27:B$174) -> 0 | C13: =SUMIF('FEUILLE 1'!$K$27:$K$174,'FEUILLE 1'!$K13,C$27:C$174) -> 0 | D13: =SUMIF('FEUILLE 1'!$K$27:$K$174,'FEUILLE 1'!$K13,D$27:D$174) -> 0 | E13: =SUMIF('FEUILLE 1'!$K$27:$K$174,'FEUILLE 1'!$K13,E$27:E$174) -> 0 | F13: =SUMIF('FEUILLE 1'!$K$27:$K$174,'FEUILLE 1'!$K13,F$27:F$174) -> 0 | G13: =SUMIF('FEUILLE 1'!$K$27:$K$174,'FEUILLE 1'!$K13,G$27:G$174) -> 0 | H13: =SUMIF('FEUILLE 1'!$K$27:$K$174,'FEUILLE 1'!$K13,H$27:H$174) -> 0 | I13: =SUMIF('FEUILLE 1'!$K$27:$K$174,'FEUILLE 1'!$K13,I$27:I$174) -> 0 | ... M13: =SUMIF('FEUILLE 1'!$K$27:$K$174,'FEUILLE 1'!$K13,M$27:M$174) -> 0 | N13: =SUM(B13:M13) -> 0
A14: (R 414-1) Dépasser l'axe médian en cas de croisement de véhicules | B14: =SUMIF('FEUILLE 1'!$K$27:$K$174,'FEUILLE 1'!$K14,B$27:B$174) -> 0 | C14: =SUMIF('FEUILLE 1'!$K$27:$K$174,'FEUILLE 1'!$K14,C$27:C$174) -> 0 | D14: =SUMIF('FEUILLE 1'!$K$27:$K$174,'FEUILLE 1'!$K14,D$27:D$174) -> 0 | E14: =SUMIF('FEUILLE 1'!$K$27:$K$174,'FEUILLE 1'!$K14,E$27:E$174) -> 0 | F14: =SUMIF('FEUILLE 1'!$K$27:$K$174,'FEUILLE 1'!$K14,F$27:F$174) -> 0 | G14: =SUMIF('FEUILLE 1'!$K$27:$K$174,'FEUILLE 1'!$K14,G$27:G$174) -> 0 | H14: =SUMIF('FEUILLE 1'!$K$27:$K$174,'FEUILLE 1'!$K14,H$27:H$174) -> 0 | I14: =SUMIF('FEUILLE 1'!$K$27:$K$174,'FEUILLE 1'!$K14,I$27:I$174) -> 0 | ... M14: =SUMIF('FEUILLE 1'!$K$27:$K$174,'FEUILLE 1'!$K14,M$27:M$174) -> 0 | N14: =SUM(B14:M14) -> 0
A15: (R 415-10) Non respect de la priorité à un sens giratoire | B15: =SUMIF('FEUILLE 1'!$K$27:$K$174,'FEUILLE 1'!$K15,B$27:B$174) -> 0 | C15: =SUMIF('FEUILLE 1'!$K$27:$K$174,'FEUILLE 1'!$K15,C$27:C$174) -> 0 | D15: =SUMIF('FEUILLE 1'!$K$27:$K$174,'FEUILLE 1'!$K15,D$27:D$174) -> 0 | E15: =SUMIF('FEUILLE 1'!$K$27:$K$174,'FEUILLE 1'!$K15,E$27:E$174) -> 0 | F15: =SUMIF('FEUILLE 1'!$K$27:$K$174,'FEUILLE 1'!$K15,F$27:F$174) -> 0 | G15: =SUMIF('FEUILLE 1'!$K$27:$K$174,'FEUILLE 1'!$K15,G$27:G$174) -> 0 | H15: =SUMIF('FEUILLE 1'!$K$27:$K$174,'FEUILLE 1'!$K15,H$27:H$174) -> 0 | I15: =SUMIF('FEUILLE 1'!$K$27:$K$174,'FEUILLE 1'!$K15,I$27:I$174) -> 0 | ... M15: =SUMIF('FEUILLE 1'!$K$27:$K$174,'FEUILLE 1'!$K15,M$27:M$174) -> 0 | N15: =SUM(B15:M15) -> 0
A16: (R 415-5) Refuser la priorité de passage | B16: =SUMIF('FEUILLE 1'!$K$27:$K$174,'FEUILLE 1'!$K16,B$27:B$174) -> 0 | C16: =SUMIF('FEUILLE 1'!$K$27:$K$174,'FEUILLE 1'!$K16,C$27:C$174) -> 0 | D16: =SUMIF('FEUILLE 1'!$K$27:$K$174,'FEUILLE 1'!$K16,D$27:D$174) -> 0 | E16: =SUMIF('FEUILLE 1'!$K$27:$K$174,'FEUILLE 1'!$K16,E$27:E$174) -> 0 | F16: =SUMIF('FEUILLE 1'!$K$27:$K$174,'FEUILLE 1'!$K16,F$27:F$174) -> 0 | G16: =SUMIF('FEUILLE 1'!$K$27:$K$174,'FEUILLE 1'!$K16,G$27:G$174) -> 0 | H16: =SUMIF('FEUILLE 1'!$K$27:$K$174,'FEUILLE 1'!$K16,H$27:H$174) -> 0 | I16: =SUMIF('FEUILLE 1'!$K$27:$K$174,'FEUILLE 1'!$K16,I$27:I$174) -> 0 | ... M16: =SUMIF('FEUILLE 1'!$K$27:$K$174,'FEUILLE 1'!$K16,M$27:M$174) -> 0 | N16: =SUM(B16:M16) -> 0
A17: (R 415-6) Ne pas marquer un temps d'arrêt à une intersection signalée | B17: =SUMIF('FEUILLE 1'!$K$27:$K$174,'FEUILLE 1'!$K17,B$27:B$174) -> 0 | C17: =SUMIF('FEUILLE 1'!$K$27:$K$174,'FEUILLE 1'!$K17,C$27:C$174) -> 0 | D17: =SUMIF('FEUILLE 1'!$K$27:$K$174,'FEUILLE 1'!$K17,D$27:D$174) -> 0 | E17: =SUMIF('FEUILLE 1'!$K$27:$K$174,'FEUILLE 1'!$K17,E$27:E$174) -> 0 | F17: =SUMIF('FEUILLE 1'!$K$27:$K$174,'FEUILLE 1'!$K17,F$27:F$174) -> 0 | G17: =SUMIF('FEUILLE 1'!$K$27:$K$174,'FEUILLE 1'!$K17,G$27:G$174) -> 0 | H17: =SUMIF('FEUILLE 1'!$K$27:$K$174,'FEUILLE 1'!$K17,H$27:H$174) -> 0 | I17: =SUMIF('FEUILLE 1'!$K$27:$K$174,'FEUILLE 1'!$K17,I$27:I$174) -> 0 | ... M17: =SUMIF('FEUILLE 1'!$K$27:$K$174,'FEUILLE 1'!$K17,M$27:M$174) -> 0 | N17: =SUM(B17:M17) -> 0
... A21: (R 417-8) Ne pas prévenir tout risque d'accident, après stationnement | B21: =SUMIF('FEUILLE 1'!$K$27:$K$174,'FEUILLE 1'!$K21,B$27:B$174) -> 0 | C21: =SUMIF('FEUILLE 1'!$K$27:$K$174,'FEUILLE 1'!$K21,C$27:C$174) -> 0 | D21: =SUMIF('FEUILLE 1'!$K$27:$K$174,'FEUILLE 1'!$K21,D$27:D$174) -> 0 | E21: =SUMIF('FEUILLE 1'!$K$27:$K$174,'FEUILLE 1'!$K21,E$27:E$174) -> 0 | F21: =SUMIF('FEUILLE 1'!$K$27:$K$174,'FEUILLE 1'!$K21,F$27:F$174) -> 0 | G21: =SUMIF('FEUILLE 1'!$K$27:$K$174,'FEUILLE 1'!$K21,G$27:G$174) -> 0 | H21: =SUMIF('FEUILLE 1'!$K$27:$K$174,'FEUILLE 1'!$K21,H$27:H$174) -> 0 | I21: =SUMIF('FEUILLE 1'!$K$27:$K$174,'FEUILLE 1'!$K21,I$27:I$174) -> 0 | ... M21: =SUMIF('FEUILLE 1'!$K$27:$K$174,'FEUILLE 1'!$K21,M$27:M$174) -> 0 | N21: =SUM(B21:M21) -> 0
A22: (R417-8) Frein mal serré | B22: 0 | C22: 0 | D22: 0 | E22: 0 | F22: 0 | G22: 0 | H22: 0 | I22: 0 | J22: 0 | K22: 0 | L22: 0 | M22: 0 | N22: =SUM(B22:M22) -> 0
A23: Pas de faute | B23: 0 | C23: =SUMIF('FEUILLE 1'!$K$27:$K$174,'FEUILLE 1'!$K23,C$27:C$174) -> 0 | D23: =SUMIF('FEUILLE 1'!$K$27:$K$174,'FEUILLE 1'!$K23,D$27:D$174) -> 0 | E23: =SUMIF('FEUILLE 1'!$K$27:$K$174,'FEUILLE 1'!$K23,E$27:E$174) -> 0 | F23: =SUMIF('FEUILLE 1'!$K$27:$K$174,'FEUILLE 1'!$K23,F$27:F$174) -> 0 | G23: =SUMIF('FEUILLE 1'!$K$27:$K$174,'FEUILLE 1'!$K23,G$27:G$174) -> 0 | H23: =SUMIF('FEUILLE 1'!$K$27:$K$174,'FEUILLE 1'!$K23,H$27:H$174) -> 0 | I23: =SUMIF('FEUILLE 1'!$K$27:$K$174,'FEUILLE 1'!$K23,I$27:I$174) -> 0 | J23: =SUMIF('FEUILLE 1'!$K$27:$K$174,'FEUILLE 1'!$K23,J$27:J$174) -> 0 | ... M23: =SUMIF('FEUILLE 1'!$K$27:$K$174,'FEUILLE 1'!$K23,M$27:M$174) -> 0 | N23: =SUM(B23:M23) -> 0
B24: 0 | K24: 0 | L24: 0 | M24: 0 | N24: =SUM(B24:M24) -> 0
A26: CATEGORIE | B26: Janvier | C26: Février | D26: Mars | E26: Avril | F26: Mai | G26: Juin | H26: Juillet | I26: Août | J26: Septembre | K26: Octobre | L26: Novembre | M26: Décembre | N26: Total
A27: =IF('FEUILLE 1'!K27=0,"",'FEUILLE 1'!K27) | N27: =SUM(B27:M27) -> 0
A28: =IF('FEUILLE 1'!K28=0,"",'FEUILLE 1'!K28) | N28: =SUM(B28:M28) -> 0
A29: =IF('FEUILLE 1'!K29=0,"",'FEUILLE 1'!K29) | N29: =SUM(B29:M29) -> 0
A30: =IF('FEUILLE 1'!K30=0,"",'FEUILLE 1'!K30) | N30: =SUM(B30:M30) -> 0
A31: =IF('FEUILLE 1'!K31=0,"",'FEUILLE 1'!K31) | N31: =SUM(B31:M31) -> 0
A32: =IF('FEUILLE 1'!K32=0,"",'FEUILLE 1'!K32) | N32: =SUM(B32:M32) -> 0
A33: =IF('FEUILLE 1'!K33=0,"",'FEUILLE 1'!K33) | N33: =SUM(B33:M33) -> 0
A34: =IF('FEUILLE 1'!K34=0,"",'FEUILLE 1'!K34) | N34: =SUM(B34:M34) -> 0
A35: =IF('FEUILLE 1'!K35=0,"",'FEUILLE 1'!K35) | N35: =SUM(B35:M35) -> 0
A36: =IF('FEUILLE 1'!K36=0,"",'FEUILLE 1'!K36) | N36: =SUM(B36:M36) -> 0
A37: =IF('FEUILLE 1'!K37=0,"",'FEUILLE 1'!K37) | N37: =SUM(B37:M37) -> 0
A38: =IF('FEUILLE 1'!K38=0,"",'FEUILLE 1'!K38) | N38: =SUM(B38:M38) -> 0
... A174: =IF('FEUILLE 1'!K174=0,"",'FEUILLE 1'!K174) | N174: =SUM(B174:M174) -> 0

Sheet Feuil2
A1: Avec Tiers | B1: 0 | C1: (R 412-10) Changer de direction sans en avertir les usagers | D1: TOBELEM
A2: Sans Tiers | B2: 50 | C2: (R 412-10) Marche Arrière mal maitrisée | D2: REDON
B3: 100 | C3: (R 412-12) Ne pas respecter la distance de sécurité suffisante | D3: MENAGE 08
C4: (R 412-6) Ne pas pouvoir manoeuvrer aisément et sans délai | D4: CEDEX 08
C5: (R 412-7) Roule sur le trottoir | D5: FLORALIA
C6: (R 412-9) Circuler sur la partie gauche de la chaussée en marche normale
C7: (R 413-17) Absence de maîtrise
C8: (R 413-17) Vitesse non adaptée aux circonstances
C9: (R 414-1) Dépasser l'axe médian en cas de croisement de véhicules
C10: (R 415-10) Non respect de la priorité à un sens giratoire
C11: (R 415-5) Refuser la priorité de passage
C12: (R 415-6) Ne pas marquer un temps d'arrêt à une intersection signalée
C13: (R 415-9) S'engager sur une route sans s'assurer de le faire sans danger
C14: (R 417-10) Stationner de façon génante
C15: (R 417-7) Ne pas prévenir tout danger, avant de descendre ou d'ouvrir une portière
C16: (R 417-8) Ne pas prévenir tout risque d'accident, après stationnement
C17: (R417-8) Frein mal serré
