Workbook

Sheet Datas
B2: N° Opérateur | C2: Numéro contrat | D2: Motif | E2: Poste | F2: Date début | G2: Date fin | H2: Taux d'activité | I2: Taux horaire | J2: Panier repas
B3: ITDA00012 | C3: 00J362277-00 | D3: Contrat | E3: Agent de production | F3: 44844 | G3: 44918 | H3: 100 | I3: 20.04 | J3: 5.09
B4: ITDA00012 | C4: 00J364302-00 | D4: Contrat | E4: Agent de production | F4: 44928 | G4: 44957 | H4: 100 | I4: 20.4 | J4: 5.09
B5: ITDA00012 | C5: 00J365247-00 | D5: Contrat | E5: Agent de production | F5: 44958 | G5: 44985 | H5: 100 | I5: 20.4 | J5: 5.09
B6: ITDA00012 | C6: 00J365247-01 | D6: Prolongation | E6: Agent de production | F6: 44986 | G6: 45135 | H6: 100 | I6: 20.4 | J6: 5.09
B7: ITDA00012 | C7: 00J365247-02 | D7: Avenant tarif smic | E7: Agent de production | F7: 45047 | G7: 45135 | H7: 100 | I7: 20.85 | J7: 5.09
B8: ITDA00012 | C8: 00J365247-03 | D8: Avenant tarif panier | E8: Agent de production | F8: 45047 | G8: 45135 | H8: 100 | I8: 20.85 | J8: 5.39
B9: ITDA00012 | C9: 00J365247-04 | D9: Avenant durée contrat | E9: Agent de production | F9: 45069 | G9: 45069 | H9: 100 | I9: 20.85 | J9: 5.39
B12: N° Opérateur | C12: Numéro contrat | D12: Motif | E12: Poste | F12: Date début | G12: Date fin | H12: Taux d'activité | I12: Taux horaire | J12: Panier repas
B13: ITDC00026 | C13: 00J363657-00 | D13: Contrat | E13: Agent de production | F13: 44900 | G13: 44904 | H13: 100 | I13: 20.04 | J13: 0
B14: ITDC00026 | C14: 00J363657-01 | D14: Prolongation | E14: Agent de production | F14: 44905 | G14: 44918 | H14: 100 | I14: 20.04 | J14: 0
B15: ITDC00026 | C15: 00J364297-00 | D15: Contrat | E15: Agent de production | F15: 44928 | G15: 44932 | H15: 100 | I15: 20.4 | J15: 0
B16: ITDC00026 | C16: 00J364601-00 | D16: Contrat | E16: Agent de production | F16: 44933 | G16: 44951 | H16: 100 | I16: 20.4 | J16: 0
B17: ITDC00026 | C17: 00J365153-00 | D17: Contrat | E17: Agent de production | F17: 44952 | G17: 45016 | H17: 100 | I17: 20.4 | J17: 0
B18: ITDC00026 | C18: 00J365153-01 | D18: Avenant horaires | E18: Agent de production | F18: 44963 | G18: 45016 | H18: 100 | I18: 20.4 | J18: 5.09
B19: ITDC00026 | C19: 00J365153-02 | D19: Prolongation | E19: Agent de production | F19: 45017 | G19: 45135 | H19: 100 | I19: 20.4 | J19: 5.09
B20: ITDC00026 | C20: 00J365153-03 | D20: Avenant tarif smic | E20: Agent de production | F20: 44986 | G20: 45135 | H20: 100 | I20: 20.17 | J20: 5.09
B21: ITDC00026 | C21: 00J365153-04 | D21: Avenant tarif smic | E21: Agent de production | F21: 45047 | G21: 45061 | H21: 100 | I21: 20.62 | J21: 5.09
B22: ITDC00026 | C22: 00J365153-05 | D22: Avenant tarif panier | E22: Agent de production | F22: 45047 | G22: 45061 | H22: 100 | I22: 20.62 | J22: 5.39
B25: N° Opérateur | C25: Numéro contrat | D25: Motif | E25: Poste | F25: Date début | G25: Date fin | H25: Taux d'activité | I25: Taux horaire | J25: Panier repas
B26: ITDL00037 | C26: 00J366441-00 | D26: Contrat | E26: Agent de production | F26: 45005 | G26: 45009 | H26: 100 | I26: 20.17 | J26: 0
B27: ITDL00037 | C27: 00J366441-01 | D27: Prolongation | E27: Agent de production | F27: 45010 | G27: 45023 | H27: 100 | I27: 20.17 | J27: 0
B28: ITDL00037 | C28: 00J367069-00 | D28: Contrat | E28: Agent de production | F28: 45027 | G28: 45135 | H28: 100 | I28: 20.17 | J28: 5.09
B29: ITDL00037 | C29: 00J367069-01 | D29: Avenant tarif smic | E29: Agent de production | F29: 45047 | G29: 45135 | H29: 100 | I29: 20.62 | J29: 5.09
B30: ITDL00037 | C30: 00J367069-02 | D30: Avenant tarif panier | E30: Agent de production | F30: 45047 | G30: 45135 | H30: 100 | I30: 20.62 | J30: 5.39
B31: ITDL00037 | C31: 00J367069-03 | D31: Prolongation | E31: Agent de production | F31: 45136 | G31: 45382 | H31: 100 | I31: 20.62 | J31: 5.39
B32: ITDL00037 | C32: 00J367069-04 | D32: Avenant tarif smic | E32: Agent de production | F32: 45294 | G32: 45382 | H32: 100 | I32: 20.85 | J32: 5.39

Sheet Feuil2
A1: Date | B1: N° Opérateur | C1: H début | D1: H fin | E1: Pause | F1: Temps production | I1: Date | J1: jour ouvré(O/N) | K1: Heures théoriques | L1: Heures Travaillées | M1: Heures payées | N1: Coût journée
A2: 44928 | B2: ITDA00012 | C2: 0.52777778 | D2: 0.8125 | E2: 0.020833333 | F2: 6.3333333 | I2: 44927 | J2: N | K2: 0 | L2: =SUMIFS(F:F,A:A,I2) -> 0 | M2: 0 | N2: =(M2*Datas!$I$4) -> 0
A3: 44928 | B3: ITDA00012 | C3: 0.8125 | D3: 0.81944444 | F3: 0.16666667 | I3: 44928 | J3: O | K3: 7 | L3: =SUMIFS(F:F,A:A,I3) -> 6.6666667 | M3: 7 | N3: =(M3*Datas!$I$4)+Datas!$J$4 -> 147.89
A4: 44928 | B4: ITDA00012 | C4: 0.52083333 | D4: 0.52777778 | F4: 0.16666667 | I4: 44929 | J4: O | K4: 7 | L4: =SUMIFS(F:F,A:A,I4) -> 6.6666667 | M4: 7 | N4: =(M4*Datas!$I$4)+Datas!$J$4 -> 147.89
A5: 44929 | B5: ITDA00012 | C5: 0.52083333 | D5: 0.80902778 | E5: 0.020833333 | F5: 6.4166667 | I5: 44930 | J5: O | K5: 7 | L5: =SUMIFS(F:F,A:A,I5) -> 6.6666667 | M5: 7 | N5: =(M5*Datas!$I$4)+Datas!$J$4 -> 147.89
A6: 44929 | B6: ITDA00012 | C6: 0.80902778 | D6: 0.81944444 | F6: 0.25 | I6: 44931 | J6: O | K6: 7 | L6: =SUMIFS(F:F,A:A,I6) -> 6.6666667 | M6: 7 | N6: =(M6*Datas!$I$4)+Datas!$J$4 -> 147.89
A7: 44930 | B7: ITDA00012 | C7: 0.52083333 | D7: 0.63888889 | E7: 0.0069444444 | F7: 2.6666667 | I7: 44932 | J7: O | K7: 7 | L7: =SUMIFS(F:F,A:A,I7) -> 6.6666667 | M7: 7 | N7: =(M7*Datas!$I$4)+Datas!$J$4 -> 147.89
A8: 44930 | B8: ITDA00012 | C8: 0.63888889 | D8: 0.81944444 | E8: 0.013888889 | F8: 4 | I8: 44933 | J8: O | K8: 7 | L8: =SUMIFS(F:F,A:A,I8) -> 5.5 | M8: 7 | N8: =(M8*Datas!$I$4)+Datas!$J$4 -> 147.89
A9: 44931 | B9: ITDA00012 | C9: 0.52083333 | D9: 0.81944444 | E9: 0.020833333 | F9: 6.6666667 | I9: 44934 | J9: N | K9: 0 | L9: =SUMIFS(F:F,A:A,I9) -> 0 | M9: 0 | N9: =(M9*Datas!$I$4) -> 0
A10: 44932 | B10: ITDA00012 | C10: 0.52083333 | D10: 0.59722222 | F10: 1.8333333 | I10: 44935 | J10: O | K10: 7 | L10: =SUMIFS(F:F,A:A,I10) -> 6.6666667 | M10: 7 | N10: =(M10*Datas!$I$4)+Datas!$J$4 -> 147.89
A11: 44932 | B11: ITDA00012 | C11: 0.59722222 | D11: 0.8125 | E11: 0.020833333 | F11: 4.6666667 | I11: 44936 | J11: O | K11: 7 | L11: =SUMIFS(F:F,A:A,I11) -> 6.6666667 | M11: 7 | N11: =(M11*Datas!$I$4)+Datas!$J$4 -> 147.89
A12: 44932 | B12: ITDA00012 | C12: 0.8125 | D12: 0.81944444 | F12: 0.16666667 | I12: 44937 | J12: O | K12: 7 | L12: =SUMIFS(F:F,A:A,I12) -> 0 | M12: 0 | N12: =(M12*Datas!$I$4) -> 0
A13: 44933 | B13: ITDA00012 | C13: 0.44097222 | D13: 0.52083333 | F13: 1.9166667 | I13: 44938 | J13: O | K13: 7 | L13: =SUMIFS(F:F,A:A,I13) -> 0 | M13: 0 | N13: =(M13*Datas!$I$4) -> 0
A14: 44933 | B14: ITDA00012 | C14: 0.27083333 | D14: 0.44097222 | E14: 0.020833333 | F14: 3.5833333 | I14: 44939 | J14: O | K14: 7 | L14: =SUMIFS(F:F,A:A,I14) -> 0 | M14: 0 | N14: =(M14*Datas!$I$4) -> 0
A15: 44935 | B15: ITDA00012 | C15: 0.22222222 | D15: 0.52083333 | E15: 0.020833333 | F15: 6.6666667 | I15: 44940 | J15: O | K15: 7 | L15: =SUMIFS(F:F,A:A,I15) -> 0 | M15: 0 | N15: =(M15*Datas!$I$4) -> 0
A16: 44936 | B16: ITDA00012 | C16: 0.22222222 | D16: 0.52083333 | E16: 0.020833333 | F16: 6.6666667 | I16: 44941 | J16: N | K16: 0 | L16: =SUMIFS(F:F,A:A,I16) -> 0 | M16: 0 | N16: =(M16*Datas!$I$4) -> 0
A17: 44945 | B17: ITDA00012 | C17: 0.52083333 | D17: 0.8125 | E17: 0.020833333 | F17: 6.5 | I17: 44942 | J17: O | K17: 7 | L17: =SUMIFS(F:F,A:A,I17) -> 0 | M17: 0 | N17: =(M17*Datas!$I$4) -> 0
A18: 44945 | B18: ITDA00012 | C18: 0.8125 | D18: 0.81944444 | F18: 0.16666667 | I18: 44943 | J18: O | K18: 7 | L18: =SUMIFS(F:F,A:A,I18) -> 0 | M18: 0 | N18: =(M18*Datas!$I$4) -> 0
A19: 44946 | B19: ITDA00012 | C19: 0.52083333 | D19: 0.80555556 | E19: 0.020833333 | F19: 6.3333333 | I19: 44944 | J19: O | K19: 7 | L19: =SUMIFS(F:F,A:A,I19) -> 0 | M19: 0 | N19: =(M19*Datas!$I$4) -> 0
A20: 44946 | B20: ITDA00012 | C20: 0.80555556 | D20: 0.8125 | F20: 0.16666667 | I20: 44945 | J20: O | K20: 7 | L20: =SUMIFS(F:F,A:A,I20) -> 6.6666667 | M20: 7 | N20: =(M20*Datas!$I$4)+Datas!$J$4 -> 147.89
A21: 44946 | B21: ITDA00012 | C21: 0.8125 | D21: 0.81944444 | F21: 0.16666667 | I21: 44946 | J21: O | K21: 7 | L21: =SUMIFS(F:F,A:A,I21) -> 6.6666667 | M21: 7 | N21: =(M21*Datas!$I$4)+Datas!$J$4 -> 147.89
A22: 44949 | B22: ITDA00012 | C22: 0.22222222 | D22: 0.36111111 | E22: 0.0069444444 | F22: 3.1666667 | I22: 44947 | J22: O | K22: 7 | L22: =SUMIFS(F:F,A:A,I22) -> 0 | M22: 0 | N22: =(M22*Datas!$I$4) -> 0
A23: 44949 | B23: ITDA00012 | C23: 0.36111111 | D23: 0.49305556 | E23: 0.013888889 | F23: 2.8333333 | I23: 44948 | J23: N | K23: 0 | L23: =SUMIFS(F:F,A:A,I23) -> 0 | M23: 0 | N23: =(M23*Datas!$I$4) -> 0
A24: 44949 | B24: ITDA00012 | C24: 0.49305556 | D24: 0.52083333 | F24: 0.66666667 | I24: 44949 | J24: O | K24: 7 | L24: =SUMIFS(F:F,A:A,I24) -> 6.6666667 | M24: 7 | N24: =(M24*Datas!$I$4)+Datas!$J$4 -> 147.89
A25: 44950 | B25: ITDA00012 | C25: 0.38888889 | D25: 0.52083333 | E25: 0.013888889 | F25: 2.8333333 | I25: 44950 | J25: O | K25: 7 | L25: =SUMIFS(F:F,A:A,I25) -> 6.6666667 | M25: 7 | N25: =(M25*Datas!$I$4)+Datas!$J$4 -> 147.89
A26: 44950 | B26: ITDA00012 | C26: 0.22222222 | D26: 0.38888889 | E26: 0.0069444444 | F26: 3.8333333 | I26: 44951 | J26: O | K26: 7 | L26: =SUMIFS(F:F,A:A,I26) -> 6.6666667 | M26: 7 | N26: =(M26*Datas!$I$4)+Datas!$J$4 -> 147.89
A27: 44951 | B27: ITDA00012 | C27: 0.22222222 | D27: 0.52083333 | E27: 0.020833333 | F27: 6.6666667
A28: 44952 | B28: ITDA00012 | C28: 0.22222222 | D28: 0.51388889 | E28: 0.020833333 | F28: 6.5 | K28: =SUM(K2:K26) -> 147 | L28: =SUM(L2:L26) -> 85.5 | M28: =SUM(M2:M26) -> 91 | N28: =SUM(N2:N26) -> 1922.57
A29: 44952 | B29: ITDA00012 | C29: 0.51388889 | D29: 0.52083333 | F29: 0.16666667
A30: 44953 | B30: ITDA00012 | C30: 0.22222222 | D30: 0.40972222 | E30: 0.020833333 | F30: 4
A31: 44953 | B31: ITDA00012 | C31: 0.40972222 | D31: 0.45833333 | F31: 1.1666667
A32: 44953 | B32: ITDA00012 | C32: 0.45833333 | D32: 0.52083333 | F32: 1.5
A33: 44954 | B33: ITDA00012 | C33: 0.22916667 | D33: 0.52083333 | E33: 0.020833333 | F33: 6.5
A34: 44956 | B34: ITDA00012 | C34: 0.52083333 | D34: 0.81944444 | E34: 0.020833333 | F34: 6.6666667
A35: 44957 | B35: ITDA00012 | C35: 0.28819444 | D35: 0.58680556 | E35: 0.020833333 | F35: 6.6666667
A36: 44958 | B36: ITDA00012 | C36: 0.52083333 | D36: 0.59722222 | F36: 1.8333333
A37: 44958 | B37: ITDA00012 | C37: 0.59722222 | D37: 0.61458333 | F37: 0.41666667
A38: 44958 | B38: ITDA00012 | C38: 0.61458333 | D38: 0.77777778 | E38: 0.020833333 | F38: 3.4166667
A39: 44958 | B39: ITDA00012 | C39: 0.77777778 | D39: 0.81944444 | F39: 1
A40: 44959 | B40: ITDA00012 | C40: 0.52083333 | D40: 0.58333333 | F40: 1.5
...
