Workbook
Name AFF_CDV: #REF!
Name AFF_CDV: #REF!
Name An: #REF!
Name An: #REF!
Name ASC_4: #REF!
Name ASC_4: #REF!
Name ASC_5: #REF!
Name ASC_5: #REF!
Name ASC_6: #REF!
Name ASC_6: #REF!
Name B_SUIV: #REF!
Name B_SUIV: #REF!
Name base: #REF!
Name base: #REF!
Name base2: #REF!
Name base2: #REF!
Name cap_po: [2]CAP!$K$3:$K$15000
Name CODED: #REF!
Name CODED: #REF!
Name COMM: #REF!
Name COMM: #REF!
Name D_CREA: #REF!
Name D_CREA: #REF!
Name D_MAJ: #REF!
Name D_MAJ: #REF!
Name DAS: #REF!
Name DAS: #REF!
Name DBNEG_BIOM: #REF!
Name DBNEG_BIOM: #REF!
Name DBP1_E: #REF!
Name DBP1_E: #REF!
Name DBP1_I: #REF!
Name DBP1_I: #REF!
Name DBP2_A: #REF!
Name DBP2_A: #REF!
Name DBP2_MO: #REF!
Name DBP2_MO: #REF!
Name DBP3_A: #REF!
Name DBP3_A: #REF!
Name DBP3_MO: #REF!
Name DBP3_MO: #REF!
Name DUREE: #REF!
Name DUREE: #REF!
Name FR_PERS: #REF!
Name FR_PERS: #REF!
Name LIB_D: #REF!
Name LIB_D: #REF!
Name M_EFFET: #REF!
Name M_EFFET: #REF!
Name N_DOSS: #REF!
Name N_DOSS: #REF!
Name NB_H: #REF!
Name NB_H: #REF!
Name NDOS_R: #REF!
Name NDOS_R: #REF!
Name projet_cnr: [2]CAP!$R$3:$R$15000
Name projet_po: [2]CAP!$C$3:$C$15000
Name R_CO2: #REF!
Name R_CO2: #REF!
Name R_EBITDA: #REF!

Sheet 2 - P&L
A2: Interest expense | B2: =SUMPRODUCT(('Source '!$A$6:$A$566="01SANS")*('Source '!$C$6:$C$566="66")*N('Source '!K$6:K$566)) -> -499.4 | C2: =SUMPRODUCT(('Source '!$A$6:$A$566="01SANS")*('Source '!$C$6:$C$566="66")*N('Source '!L$6:L$566)) -> 0 | D2: =SUMPRODUCT(('Source '!$A$6:$A$566="01SANS")*('Source '!$C$6:$C$566="66")*N('Source '!M$6:M$566)) -> 0 | E2: =SUMPRODUCT(('Source '!$A$6:$A$566="01SANS")*('Source '!$C$6:$C$566="66")*N('Source '!N$6:N$566)) -> 0

Sheet Source 
A5: Section Analytique(ANA N) | B5: N° Compte Général(ANA N) | C5: Aggrégat Compte Géné | G5: Montant(ANA N-2) | H5: Montant(ANA N-1) | I5: Montant(ANA N) | J5: Montant(ANA N Semestre 1) | K5: Année
A6: 0 | B6: 64510000 | C6: 64 | D6: CHARGES | E6: =VLOOKUP(C6,[1]Analytique!$A$44:$B$202,2,FALSE) -> Charges de personnel | F6: MUTUALITE SOCIALE AGRICOLE | G6: -124.85 | K6: -124.85
A7: 0 | B7: 64512000 | C7: 64 | D7: CHARGES | E7: =VLOOKUP(C7,[1]Analytique!$A$44:$B$202,2,FALSE) -> Charges de personnel | F7: MSA INCAPACITE AGRICA | G7: -1.22 | K7: -1.22
A8: 01ADMI | B8: 60230000 | C8: 60 | D8: CHARGES | E8: =VLOOKUP(C8,[1]Analytique!$A$44:$B$202,2,FALSE) -> Achats | F8: FOURNITURES | I8: -1 105.10 | M8: -1105.1
A9: 01ADMI | B9: 60240000 | C9: 60 | D9: CHARGES | E9: =VLOOKUP(C9,[1]Analytique!$A$44:$B$202,2,FALSE) -> Achats | F9: FOURNITURES DE BUREAU | H9: -4 563.14 | I9: -1 774.12 | J9: -1 166.71 | L9: -4563.14 | M9: -1774.12 | N9: -1166.71
A10: 01ADMI | B10: 60610000 | C10: 60 | D10: CHARGES | E10: =VLOOKUP(C10,[1]Analytique!$A$44:$B$202,2,FALSE) -> Achats | F10: EAU | H10: -556.67 | I10: -158.92 | J10: -158.92 | L10: -556.67 | M10: -158.92 | N10: -158.92
A11: 01ADMI | B11: 60620000 | C11: 60 | D11: CHARGES | E11: =VLOOKUP(C11,[1]Analytique!$A$44:$B$202,2,FALSE) -> Achats | F11: GAZ | I11: -1 864.73 | J11: -1 864.73 | M11: -1864.73 | N11: -1864.73
A12: 01ADMI | B12: 60630000 | C12: 60 | D12: CHARGES | E12: =VLOOKUP(C12,[1]Analytique!$A$44:$B$202,2,FALSE) -> Achats | F12: ELECTRICITE | G12: -1 427.81 | H12: -4 662.06 | I12: -4 301.34 | J12: -1 393.70 | K12: -1427.81 | L12: -4662.06 | M12: -4301.34 | N12: -1393.7
A13: 01ADMI | B13: 60640000 | C13: 60 | D13: CHARGES | E13: =VLOOKUP(C13,[1]Analytique!$A$44:$B$202,2,FALSE) -> Achats | F13: CARBURANTS CONSOMMES | G13: -112.79 | H13: -2 715.73 | I13: -1 937.28 | J13: -1 498.11 | K13: -112.79 | L13: -2715.73 | M13: -1937.28 | N13: -1498.11
A14: 01ADMI | B14: 60650000 | C14: 60 | D14: CHARGES | E14: =VLOOKUP(C14,[1]Analytique!$A$44:$B$202,2,FALSE) -> Achats | F14: CHAUFFAGE | H14: -5 910.91 | I14: -902.2 | L14: -5910.91 | M14: -902.2
A15: 01ADMI | B15: 60660000 | C15: 60 | D15: CHARGES | E15: =VLOOKUP(C15,[1]Analytique!$A$44:$B$202,2,FALSE) -> Achats | F15: FOURNIT. ENTRETIEN & PT EQUIP. | G15: -1 058.20 | H15: -7 079.42 | I15: -5 084.14 | J15: -4 752.17 | K15: -1058.2 | L15: -7079.42 | M15: -5084.14 | N15: -4752.17
A16: 01ADMI | B16: 60710000 | C16: 60 | D16: CHARGES | E16: =VLOOKUP(C16,[1]Analytique!$A$44:$B$202,2,FALSE) -> Achats | F16: ACHATS DE VINS DE CANON | I16: -300 | J16: -300 | M16: -300 | N16: -300
A17: 01ADMI | B17: 61112000 | C17: 61 | D17: CHARGES | E17: =VLOOKUP(C17,[1]Analytique!$A$44:$B$202,2,FALSE) -> Services extérieurs | F17: SOUS TRAITANCE Autre | H17: -2 757.00 | I17: -5 325.41 | J17: -3 755.21 | L17: -2757 | M17: -5325.41 | N17: -3755.21
A18: 01ADMI | B18: 61150000 | C18: 61 | D18: CHARGES | E18: =VLOOKUP(C18,[1]Analytique!$A$44:$B$202,2,FALSE) -> Services extérieurs | F18: SURVEILLANCE SECURITAS | G18: -18 655.33 | H18: -18 951.90 | I18: -18 359.30 | J18: -11 599.58 | K18: -18655.33 | L18: -18951.9 | M18: -18359.3 | N18: -11599.58
A19: 01ADMI | B19: 61320000 | C19: 61 | D19: CHARGES | E19: =VLOOKUP(C19,[1]Analytique!$A$44:$B$202,2,FALSE) -> Services extérieurs | F19: LOCATIONS DE MATERIEL | G19: -291.73 | H19: -10 791.65 | I19: -10 720.16 | J19: -6 583.05 | K19: -291.73 | L19: -10791.65 | M19: -10720.16 | N19: -6583.05
A20: 01ADMI | B20: 61520000 | C20: 61 | D20: CHARGES | E20: =VLOOKUP(C20,[1]Analytique!$A$44:$B$202,2,FALSE) -> Services extérieurs | F20: ENTRET.& REPARAT.BIENS IMMOBIL | H20: -21 437.00 | I20: -379.5 | J20: -379.5 | L20: -21437 | M20: -379.5 | N20: -379.5
A21: 01ADMI | B21: 61550000 | C21: 61 | D21: CHARGES | E21: =VLOOKUP(C21,[1]Analytique!$A$44:$B$202,2,FALSE) -> Services extérieurs | F21: ENTRET. & REPARAT.BIENS MOBIL. | G21: -71 | H21: -6 748.92 | I21: -4 164.27 | J21: -4 164.27 | K21: -71 | L21: -6748.92 | M21: -4164.27 | N21: -4164.27
A22: 01ADMI | B22: 61551000 | C22: 61 | D22: CHARGES | E22: =VLOOKUP(C22,[1]Analytique!$A$44:$B$202,2,FALSE) -> Services extérieurs | F22: ENTRETIEN VEHICULES | H22: -5 214.81 | I22: -4 095.52 | J22: -2 832.87 | L22: -5214.81 | M22: -4095.52 | N22: -2832.87
A23: 01ADMI | B23: 61570000 | C23: 61 | D23: CHARGES | E23: =VLOOKUP(C23,[1]Analytique!$A$44:$B$202,2,FALSE) -> Services extérieurs | F23: TELESURVEILLANCE ERYMA | H23: -624.1 | I23: -955.93 | J23: -955.93 | L23: -624.1 | M23: -955.93 | N23: -955.93
A24: 01ADMI | B24: 61572000 | C24: 61 | D24: CHARGES | E24: =VLOOKUP(C24,[1]Analytique!$A$44:$B$202,2,FALSE) -> Services extérieurs | F24: MAINTENANCE APAVE | H24: -199.14 | I24: -202.42 | J24: -202.42 | L24: -199.14 | M24: -202.42 | N24: -202.42
A25: 01ADMI | B25: 61574000 | C25: 61 | D25: CHARGES | E25: =VLOOKUP(C25,[1]Analytique!$A$44:$B$202,2,FALSE) -> Services extérieurs | F25: MAINTENANCE INFORMATIQUES | H25: -1 899.24 | I25: -633.38 | J25: -633.38 | L25: -1899.24 | M25: -633.38 | N25: -633.38
A26: 01ADMI | B26: 61575000 | C26: 61 | D26: CHARGES | E26: =VLOOKUP(C26,[1]Analytique!$A$44:$B$202,2,FALSE) -> Services extérieurs | F26: MAINTENANCE DIVERSES | H26: -1 510.08 | I26: -237 | J26: -237 | L26: -1510.08 | M26: -237 | N26: -237
A27: 01ADMI | B27: 61600000 | C27: 61 | D27: CHARGES | E27: =VLOOKUP(C27,[1]Analytique!$A$44:$B$202,2,FALSE) -> Services extérieurs | F27: ASSURANCES GENERALES | G27: -475.93 | K27: -475.93
A28: 01ADMI | B28: 61610000 | C28: 61 | D28: CHARGES | E28: =VLOOKUP(C28,[1]Analytique!$A$44:$B$202,2,FALSE) -> Services extérieurs | F28: TOUT RISQUES MARSH | G28: -18 378.99 | K28: -18378.99
A29: 01ADMI | B29: 61615000 | C29: 61 | D29: CHARGES | E29: =VLOOKUP(C29,[1]Analytique!$A$44:$B$202,2,FALSE) -> Services extérieurs | F29: CHANEL ASSURANCE OBJETD'ART | G29: -103.82 | K29: -103.82
A30: 01ADMI | B30: 61630000 | C30: 61 | D30: CHARGES | E30: =VLOOKUP(C30,[1]Analytique!$A$44:$B$202,2,FALSE) -> Services extérieurs | F30: ASSURANCE RESPONSABIL. CIVILE | G30: -18 478.81 | H30: -41 452.49 | I30: -73 353.59 | J30: -25 891.10 | K30: -18478.81 | L30: -41452.49 | M30: -73353.59 | N30: -25891.1
A31: 01ADMI | B31: 61640000 | C31: 61 | D31: CHARGES | E31: =VLOOKUP(C31,[1]Analytique!$A$44:$B$202,2,FALSE) -> Services extérieurs | F31: ASSURANCE TERRORISME | H31: -769.18 | I31: -1 244.78 | J31: -1 244.78 | L31: -769.18 | M31: -1244.78 | N31: -1244.78
A32: 01ADMI | B32: 61650000 | C32: 61 | D32: CHARGES | E32: =VLOOKUP(C32,[1]Analytique!$A$44:$B$202,2,FALSE) -> Services extérieurs | F32: ASSURANCES VEHICULES | H32: -1 758.87 | I32: -2 095.09 | J32: -2 095.09 | L32: -1758.87 | M32: -2095.09 | N32: -2095.09
A33: 01ADMI | B33: =SUMPRODUCT('Source '!A83:A659*'Source '!B83:B659) -> #VALUE! | C33: 61 | D33: CHARGES | E33: =VLOOKUP(C33,[1]Analytique!$A$44:$B$202,2,FALSE) -> #N/A | F33: MARINE CARGO AND TRANSIT | H33: -499.08 | I33: -274.38 | J33: -274.38 | L33: -499.08 | M33: -274.38 | N33: -274.38
A34: 01ADMI | B34: 62220000 | C34: 62 | D34: CHARGES | E34: =VLOOKUP(C34,[1]Analytique!$A$44:$B$202,2,FALSE) -> Autres Services extérieurs | F34: COMMISSIONS/COURTAGES S/VTES | G34: -50 | K34: -50
A35: 01ADMI | B35: 62260000 | C35: 62 | D35: CHARGES | E35: =VLOOKUP(C35,[1]Analytique!$A$44:$B$202,2,FALSE) -> Autres Services extérieurs | F35: HONORAIRES DIVERS | G35: -1 001.70 | H35: -8 105.00 | I35: -24 711.82 | J35: -20 612.80 | K35: -1001.7 | L35: -8105 | M35: -24711.82 | N35: -20612.8
A36: 01ADMI | B36: 62261000 | C36: 62 | D36: CHARGES | E36: =VLOOKUP(C36,[1]Analytique!$A$44:$B$202,2,FALSE) -> Autres Services extérieurs | F36: HONORAIRES 3G AUDIT V CANO | G36: -15 145.00 | H36: -12 650.00 | I36: -2 650.00 | J36: -2 650.00 | K36: -15145 | L36: -12650 | M36: -2650 | N36: -2650
A37: 01ADMI | B37: 62261500 | C37: 62 | D37: CHARGES | E37: =VLOOKUP(C37,[1]Analytique!$A$44:$B$202,2,FALSE) -> Autres Services extérieurs | F37: HONORAIRES Estelle BOUCLAUD | G37: -4 330.00 | H37: -3 375.00 | I37: -4 875.00 | J37: -3 340.00 | K37: -4330 | L37: -3375 | M37: -4875 | N37: -3340
A38: 01ADMI | B38: 62262000 | C38: 62 | D38: CHARGES | E38: =VLOOKUP(C38,[1]Analytique!$A$44:$B$202,2,FALSE) -> Autres Services extérieurs | F38: HONORAIRES SALANS | G38: -4 399.84 | H38: -6 877.37 | K38: -4399.84 | L38: -6877.37
A39: 01ADMI | B39: 62265001 | C39: 62 | D39: CHARGES | E39: =VLOOKUP(C39,[1]Analytique!$A$44:$B$202,2,FALSE) -> Autres Services extérieurs | F39: HONORAIRES PROTECTION MARQUES | G39: -70 | I39: -34 781.66 | J39: -17 199.29 | K39: -70 | M39: -34781.66 | N39: -17199.29
A40: 01ADMI | B40: 62270000 | C40: 62 | D40: CHARGES | E40: =VLOOKUP(C40,[1]Analytique!$A$44:$B$202,2,FALSE) -> Autres Services extérieurs | F40: FRAIS D'ACTES | G40: -3.99 | K40: -3.99
A41: 01ADMI | B41: 62280000 | C41: 62 | D41: CHARGES | E41: =VLOOKUP(C41,[1]Analytique!$A$44:$B$202,2,FALSE) -> Autres Services extérieurs | F41: DIVERS | I41: -67.33 | J41: -46.25 | M41: -67.33 | N41: -46.25
A42: 01ADMI | B42: 62320000 | C42: 62 | D42: CHARGES | E42: =VLOOKUP(C42,[1]Analytique!$A$44:$B$202,2,FALSE) -> Autres Services extérieurs | F42: ECHANTILLONS ET CASSE | H42: -136.73 | L42: -136.73
A43: 01ADMI | B43: 62342200 | C43: 62 | D43: CHARGES | E43: =VLOOKUP(C43,[1]Analytique!$A$44:$B$202,2,FALSE) -> Autres Services extérieurs | F43: CADEAUX AU PERSONNEL | G43: -3 100.00 | H43: -13 260.35 | I43: -3 185.00 | J43: -3 185.00 | K43: -3100 | L43: -13260.35 | M43: -3185 | N43: -3185
A44: 01ADMI | B44: 62380000 | C44: 62 | D44: CHARGES | E44: =VLOOKUP(C44,[1]Analytique!$A$44:$B$202,2,FALSE) -> Autres Services extérieurs | F44: DONS | H44: -150 | L44: -150
...
