Workbook
Name Budget: #REF!
Name Budget: #REF!
Name Budget_deuxieme_decade: #REF!
Name Budget_deuxieme_decade: #REF!
Name Budget_premiere_decade: #REF!
Name Budget_premiere_decade: #REF!
Name Budget_Total: #REF!
Name Budget_Total: #REF!
Name Budget_troisieme_décade: #REF!
Name Budget_troisieme_décade: #REF!
Name clean_deuxieme_decade: #REF!,#REF!,#REF!,#REF!,#REF!,#REF!
Name clean_deuxieme_decade: #REF!,#REF!,#REF!,#REF!,#REF!,#REF!
Name clean_prmiere_decade: #REF!,#REF!,#REF!,#REF!,#REF!,#REF!
Name clean_prmiere_decade: #REF!,#REF!,#REF!,#REF!,#REF!,#REF!
Name clean_troisieme_decade: #REF!,#REF!,#REF!,#REF!,#REF!,#REF!
Name clean_troisieme_decade: #REF!,#REF!,#REF!,#REF!,#REF!,#REF!
Name Decade_1: #REF!
Name Decade_1: #REF!
Name Decade_2: #REF!
Name Decade_2: #REF!
Name Decade_3: #REF!
Name Decade_3: #REF!
Name Decade_mois: #REF!
Name Decade_mois: #REF!
Name Deuxieme_decade: #REF!
Name Deuxieme_decade: #REF!
Name Difference_Budget_deuxieme_decade: #REF!
Name Difference_Budget_deuxieme_decade: #REF!
Name Difference_Budget_premiere_decade: #REF!
Name Difference_Budget_premiere_decade: #REF!
Name Difference_Budget_Total: #REF!
Name Difference_Budget_Total: #REF!
Name Difference_Budget_troisieme_decade: #REF!
Name Difference_Budget_troisieme_decade: #REF!
Name inventaire1: [1]VENTES!$Q$8:$Z$22,[1]VENTES!$Q$24:$Z$28,[1]VENTES!$Q$31:$Z$32,[1]VENTES!$Q$30:$Z$36,[1]VENTES!$Q$41:$Z$56,[1]VENTES!$Q$59:$Z$61
Name JourCour: #REF!
Name JourCour: #REF!
Name Mode_reglement: #REF!
Name Mode_reglement: #REF!
Name Premiere_decade: #REF!
Name Premiere_decade: #REF!
Name REGLER: '[2]liste deroulante'!$C$2:$C$3
Name Total_deuxieme_decade: #REF!
Name Total_deuxieme_decade: #REF!
Name Total_general_decade: #REF!
Name Total_general_decade: #REF!
Name Total_premiere_decade: #REF!
Name Total_premiere_decade: #REF!
Name Total_troisieme_decade: #REF!
Name Total_troisieme_decade: #REF!
Name Troisieme_decade: #REF!
Name Troisieme_decade: #REF!
Name TYPERGLT: '[2]liste deroulante'!$A$2:$A$5

Sheet Total
A1: Résumé FRNS
A2: Date de Début | B2: 43678
A3: Date de Fin | B3: 43830
A5: Etablissement 1
A6: Factures réglées ce mois | B6: ='Echéancier Etablissement 1'!Q4 -> 100
A7: Factures à régler selon écheances | B7: ='Echéancier Etablissement 1'!Q6 -> 0
A9: Factures en retard de règlement | B9: ='Echéancier Etablissement 1'!Q5 -> 0
A11: Factures à payer ce jour | B11: ='Echéancier Etablissement 1'!Q7 -> 0

Sheet J ACHATS 08 19
B1: =+#REF! -> #REF! | F1: =+#REF! -> #REF!
B2: DATE | C2: N°PIECE | D2: FOURNISSEUR | E2: TTC | F2: TVA | G2: HT | H2: CODE | I2: CODE | J2: COMMENTAIRES | L2: Déjeuner-diner | M2: PETIT DEJEUNER | N2: BOISSONS | O2: IMMOBILISATIONS | P2: PDT ACCUEIL | Q2: PDT ACCUEIL | R2: PDT ENTRETIEN | S2: PDT ENTRETIEN | T2: FOUR EXLOIT | U2: FOUR EXLOIT | V2: AUTRES ACHATS | W2: CONSIGNES | X2: FACTURES
C3: FOURNISSEUR | I3: paiement | P3: RESTAURANT | Q3: HOTEL | R3: RESTAURANT | S3: HOTEL | T3: HOTEL | U3: RESTAURANT | V3: STOCKES | X3: CONTRAT
L4: NO | M4: PDJ | N4: BO | O4: IMO | P4: PAR | Q4: PAH | R4: PER | S4: PEH | T4: FEH | U4: FER | V4: AAS | W4: CO | X4: FG
B5: 43678 | C5: 123456 | D5: Le martin pecheur 1 | E5: 100 | L5: =IF($H5=L$4,$G5,0) -> 0 | M5: =IF($H5=M$4,$G5,0) -> 0 | N5: =IF($H5=N$4,$G5,0) -> 0 | O5: =IF($H5=O$4,$G5,0) -> 0 | P5: =IF($H5=P$4,$G5,0) -> 0 | Q5: =IF($H5=Q$4,$G5,0) -> 0 | R5: =IF($H5=R$4,$G5,0) -> 0 | S5: =IF($H5=S$4,$G5,0) -> 0 | ... X5: =IF($H5=X$4,$G5,0) -> 0
B6: 43679 | C6: 123456 | D6: Le martin pecheur 2 | E6: 101 | L6: =IF($H6=L$4,$G6,0) -> 0 | M6: =IF($H6=M$4,$G6,0) -> 0 | N6: =IF($H6=N$4,$G6,0) -> 0 | O6: =IF($H6=O$4,$G6,0) -> 0 | P6: =IF($H6=P$4,$G6,0) -> 0 | Q6: =IF($H6=Q$4,$G6,0) -> 0 | R6: =IF($H6=R$4,$G6,0) -> 0 | S6: =IF($H6=S$4,$G6,0) -> 0 | ... X6: =IF($H6=X$4,$G6,0) -> 0
B7: 43680 | C7: 123456 | D7: Le martin pecheur 3 | E7: 102 | L7: =IF($H7=L$4,$G7,0) -> 0 | M7: =IF($H7=M$4,$G7,0) -> 0 | N7: =IF($H7=N$4,$G7,0) -> 0 | O7: =IF($H7=O$4,$G7,0) -> 0 | P7: =IF($H7=P$4,$G7,0) -> 0 | Q7: =IF($H7=Q$4,$G7,0) -> 0 | R7: =IF($H7=R$4,$G7,0) -> 0 | S7: =IF($H7=S$4,$G7,0) -> 0 | ... X7: =IF($H7=X$4,$G7,0) -> 0
B8: 43681 | C8: 123456 | D8: Le martin pecheur 4 | E8: 103 | L8: =IF($H8=L$4,$G8,0) -> 0 | M8: =IF($H8=M$4,#REF!,0) -> 0 | N8: =IF($H8=N$4,#REF!,0) -> 0 | O8: =IF($H8=O$4,#REF!,0) -> 0 | P8: =IF($H8=P$4,#REF!,0) -> 0 | Q8: =IF($H8=Q$4,#REF!,0) -> 0 | R8: =IF($H8=R$4,#REF!,0) -> 0 | S8: =IF($H8=S$4,#REF!,0) -> 0 | T8: =IF($H8=T$4,#REF!,0) -> 0 | ... X8: =IF($H8=X$4,#REF!,0) -> 0
B9: 43682 | C9: 123456 | D9: Le martin pecheur 5 | E9: 104 | L9: =IF($H9=L$4,$G9,0) -> 0 | M9: =IF($H9=M$4,$G9,0) -> 0 | N9: =IF($H9=N$4,$G9,0) -> 0 | O9: =IF($H9=O$4,$G9,0) -> 0 | P9: =IF($H9=P$4,$G9,0) -> 0 | Q9: =IF($H9=Q$4,$G9,0) -> 0 | R9: =IF($H9=R$4,$G9,0) -> 0 | S9: =IF($H9=S$4,$G9,0) -> 0 | ... X9: =IF($H9=X$4,$G9,0) -> 0
B10: 43683 | C10: 123456 | D10: Le martin pecheur 6 | E10: 105 | L10: =IF($H10=L$4,$G10,0) -> 0 | M10: =IF($H10=M$4,$G10,0) -> 0 | N10: =IF($H10=N$4,$G10,0) -> 0 | O10: =IF($H10=O$4,$G10,0) -> 0 | P10: =IF($H10=P$4,$G10,0) -> 0 | Q10: =IF($H10=Q$4,$G10,0) -> 0 | R10: =IF($H10=R$4,$G10,0) -> 0 | S10: =IF($H10=S$4,$G10,0) -> 0 | ... X10: =IF($H10=X$4,$G10,0) -> 0
B11: 43684 | C11: 123456 | D11: Le martin pecheur 7 | E11: 106 | L11: =IF($H11=L$4,$G11,0) -> 0 | M11: =IF($H11=M$4,$G11,0) -> 0 | N11: =IF($H11=N$4,$G11,0) -> 0 | O11: =IF($H11=O$4,$G11,0) -> 0 | P11: =IF($H11=P$4,$G11,0) -> 0 | Q11: =IF($H11=Q$4,$G11,0) -> 0 | R11: =IF($H11=R$4,$G11,0) -> 0 | S11: =IF($H11=S$4,$G11,0) -> 0 | ... X11: =IF($H11=X$4,$G11,0) -> 0
B12: 43685 | C12: 123456 | D12: Le martin pecheur 8 | E12: 107 | L12: =IF($H12=L$4,$G12,0) -> 0 | M12: =IF($H12=M$4,$G12,0) -> 0 | N12: =IF($H12=N$4,$G12,0) -> 0 | O12: =IF($H12=O$4,$G12,0) -> 0 | P12: =IF($H12=P$4,$G12,0) -> 0 | Q12: =IF($H12=Q$4,$G12,0) -> 0 | R12: =IF($H12=R$4,$G12,0) -> 0 | S12: =IF($H12=S$4,$G12,0) -> 0 | ... X12: =IF($H12=X$4,$G12,0) -> 0
B13: 43686 | C13: 123456 | D13: Le martin pecheur 9 | E13: 108 | L13: =IF($H13=L$4,$G13,0) -> 0 | M13: =IF($H13=M$4,$G13,0) -> 0 | N13: =IF($H13=N$4,$G13,0) -> 0 | O13: =IF($H13=O$4,$G13,0) -> 0 | P13: =IF($H13=P$4,$G13,0) -> 0 | Q13: =IF($H13=Q$4,$G13,0) -> 0 | R13: =IF($H13=R$4,$G13,0) -> 0 | S13: =IF($H13=S$4,$G13,0) -> 0 | ... X13: =IF($H13=X$4,$G13,0) -> 0
B14: 43687 | C14: 123456 | D14: Le martin pecheur 10 | E14: 109 | L14: =IF($H14=L$4,$G14,0) -> 0 | M14: =IF($H14=M$4,$G14,0) -> 0 | N14: =IF($H14=N$4,$G14,0) -> 0 | O14: =IF($H14=O$4,$G14,0) -> 0 | P14: =IF($H14=P$4,$G14,0) -> 0 | Q14: =IF($H14=Q$4,$G14,0) -> 0 | R14: =IF($H14=R$4,$G14,0) -> 0 | S14: =IF($H14=S$4,$G14,0) -> 0 | ... X14: =IF($H14=X$4,$G14,0) -> 0
B15: 43688 | C15: 123456 | D15: Le martin pecheur 11 | E15: 110 | L15: =IF($H15=L$4,$G15,0) -> 0 | M15: =IF($H15=M$4,$G15,0) -> 0 | N15: =IF($H15=N$4,$G15,0) -> 0 | O15: =IF($H15=O$4,$G15,0) -> 0 | P15: =IF($H15=P$4,$G15,0) -> 0 | Q15: =IF($H15=Q$4,$G15,0) -> 0 | R15: =IF($H15=R$4,$G15,0) -> 0 | S15: =IF($H15=S$4,$G15,0) -> 0 | ... X15: =IF($H15=X$4,$G15,0) -> 0
B16: 43689 | C16: 123456 | D16: Le martin pecheur 12 | E16: 111 | L16: =IF($G8=L$4,$G16,0) -> 0 | M16: =IF($G8=M$4,$G16,0) -> 0 | N16: =IF($G8=N$4,$G16,0) -> 0 | O16: =IF($G8=O$4,$G16,0) -> 0 | P16: =IF($G8=P$4,$G16,0) -> 0 | Q16: =IF($G8=Q$4,$G16,0) -> 0 | R16: =IF($G8=R$4,$G16,0) -> 0 | S16: =IF($G8=S$4,$G16,0) -> 0 | ... X16: =IF($G8=X$4,$G16,0) -> 0
B17: 43690 | C17: 123456 | D17: Le martin pecheur 13 | E17: 112 | L17: =IF($H17=L$4,$G17,0) -> 0 | M17: =IF($H17=M$4,$G17,0) -> 0 | N17: =IF($H17=N$4,$G17,0) -> 0 | O17: =IF($H17=O$4,$G17,0) -> 0 | P17: =IF($H17=P$4,$G17,0) -> 0 | Q17: =IF($H17=Q$4,$G17,0) -> 0 | R17: =IF($H17=R$4,$G17,0) -> 0 | S17: =IF($H17=S$4,$G17,0) -> 0 | ... X17: =IF($H17=X$4,$G17,0) -> 0
B18: 43691 | C18: 123456 | D18: Le martin pecheur 14 | E18: 113 | L18: =IF($H18=L$4,$G18,0) -> 0 | M18: =IF($H18=M$4,$G18,0) -> 0 | N18: =IF($H18=N$4,$G18,0) -> 0 | O18: =IF($H18=O$4,$G18,0) -> 0 | P18: =IF($H18=P$4,$G18,0) -> 0 | Q18: =IF($H18=Q$4,$G18,0) -> 0 | R18: =IF($H18=R$4,$G18,0) -> 0 | S18: =IF($H18=S$4,$G18,0) -> 0 | ... X18: =IF($H18=X$4,$G18,0) -> 0
B19: 43692 | C19: 123456 | D19: Le martin pecheur 15 | E19: 114 | L19: =IF($H19=L$4,$G19,0) -> 0 | M19: =IF($H19=M$4,$G19,0) -> 0 | N19: =IF($H19=N$4,$G19,0) -> 0 | O19: =IF($H19=O$4,$G19,0) -> 0 | P19: =IF($H19=P$4,$G19,0) -> 0 | Q19: =IF($H19=Q$4,$G19,0) -> 0 | R19: =IF($H19=R$4,$G19,0) -> 0 | S19: =IF($H19=S$4,$G19,0) -> 0 | ... X19: =IF($H19=X$4,$G19,0) -> 0
B20: 43693 | C20: 123456 | D20: Le martin pecheur 16 | E20: 115 | L20: =IF($H20=L$4,$G20,0) -> 0 | M20: =IF($H20=M$4,$G20,0) -> 0 | N20: =IF($H20=N$4,$G20,0) -> 0 | O20: =IF($H20=O$4,$G20,0) -> 0 | P20: =IF($H20=P$4,$G20,0) -> 0 | Q20: =IF($H20=Q$4,$G20,0) -> 0 | R20: =IF($H20=R$4,$G20,0) -> 0 | S20: =IF($H20=S$4,$G20,0) -> 0 | ... X20: =IF($H20=X$4,$G20,0) -> 0
B21: 43694 | C21: 123456 | D21: Le martin pecheur 17 | E21: 116 | L21: =IF($H21=L$4,$G21,0) -> 0 | M21: =IF($H21=M$4,$G21,0) -> 0 | N21: =IF($H21=N$4,$G21,0) -> 0 | O21: =IF($H21=O$4,$G21,0) -> 0 | P21: =IF($H21=P$4,$G21,0) -> 0 | Q21: =IF($H21=Q$4,$G21,0) -> 0 | R21: =IF($H21=R$4,$G21,0) -> 0 | S21: =IF($H21=S$4,$G21,0) -> 0 | ... X21: =IF($H21=X$4,$G21,0) -> 0
B22: 43695 | C22: 123457 | D22: Le martin pecheur 18 | E22: 117 | L22: =IF($H22=L$4,$G22,0) -> 0 | M22: =IF($H22=M$4,$G22,0) -> 0 | N22: =IF($H22=N$4,$G22,0) -> 0 | O22: =IF($H22=O$4,$G22,0) -> 0 | P22: =IF($H22=P$4,$G22,0) -> 0 | Q22: =IF($H22=Q$4,$G22,0) -> 0 | R22: =IF($H22=R$4,$G22,0) -> 0 | S22: =IF($H22=S$4,$G22,0) -> 0 | ... X22: =IF($H22=X$4,$G22,0) -> 0
L23: =IF($H23=L$4,$G23,0) -> 0 | M23: =IF($H23=M$4,$G23,0) -> 0 | N23: =IF($H23=N$4,$G23,0) -> 0 | O23: =IF($H23=O$4,$G23,0) -> 0 | P23: =IF($H23=P$4,$G23,0) -> 0 | Q23: =IF($H23=Q$4,$G23,0) -> 0 | R23: =IF($H23=R$4,$G23,0) -> 0 | S23: =IF($H23=S$4,$G23,0) -> 0 | ... X23: =IF($H23=X$4,$G23,0) -> 0
L24: =IF($H24=L$4,$G24,0) -> 0 | M24: =IF($H24=M$4,$G24,0) -> 0 | N24: =IF($H24=N$4,$G24,0) -> 0 | O24: =IF($H24=O$4,$G24,0) -> 0 | P24: =IF($H24=P$4,$G24,0) -> 0 | Q24: =IF($H24=Q$4,$G24,0) -> 0 | R24: =IF($H24=R$4,$G24,0) -> 0 | S24: =IF($H24=S$4,$G24,0) -> 0 | ... X24: =IF($H24=X$4,$G24,0) -> 0
L25: =IF($H25=L$4,$G25,0) -> 0 | M25: =IF($H25=M$4,$G25,0) -> 0 | N25: =IF($H25=N$4,$G25,0) -> 0 | O25: =IF($H25=O$4,$G25,0) -> 0 | P25: =IF($H25=P$4,$G25,0) -> 0 | Q25: =IF($H25=Q$4,$G25,0) -> 0 | R25: =IF($H25=R$4,$G25,0) -> 0 | S25: =IF($H25=S$4,$G25,0) -> 0 | ... X25: =IF($H25=X$4,$G25,0) -> 0
L26: =IF($H26=L$4,$G26,0) -> 0 | M26: =IF($H26=M$4,$G26,0) -> 0 | N26: =IF($H26=N$4,$G26,0) -> 0 | O26: =IF($H26=O$4,$G26,0) -> 0 | P26: =IF($H26=P$4,$G26,0) -> 0 | Q26: =IF($H26=Q$4,$G26,0) -> 0 | R26: =IF($H26=R$4,$G26,0) -> 0 | S26: =IF($H26=S$4,$G26,0) -> 0 | ... X26: =IF($H26=X$4,$G26,0) -> 0
L27: =IF($H27=L$4,$G27,0) -> 0 | M27: =IF($H27=M$4,$G27,0) -> 0 | N27: =IF($H27=N$4,$G27,0) -> 0 | O27: =IF($H27=O$4,$G27,0) -> 0 | P27: =IF($H27=P$4,$G27,0) -> 0 | Q27: =IF($H27=Q$4,$G27,0) -> 0 | R27: =IF($H27=R$4,$G27,0) -> 0 | S27: =IF($H27=S$4,$G27,0) -> 0 | ... X27: =IF($H27=X$4,$G27,0) -> 0
L28: =IF($H28=L$4,$G28,0) -> 0 | M28: =IF($H28=M$4,$G28,0) -> 0 | N28: =IF($H28=N$4,$G28,0) -> 0 | O28: =IF($H28=O$4,$G28,0) -> 0 | P28: =IF($H28=P$4,$G28,0) -> 0 | Q28: =IF($H28=Q$4,$G28,0) -> 0 | R28: =IF($H28=R$4,$G28,0) -> 0 | S28: =IF($H28=S$4,$G28,0) -> 0 | ... X28: =IF($H28=X$4,$G28,0) -> 0
L29: =IF($H29=L$4,$G29,0) -> 0 | M29: =IF($H29=M$4,$G29,0) -> 0 | N29: =IF($H29=N$4,$G29,0) -> 0 | O29: =IF($H29=O$4,$G29,0) -> 0 | P29: =IF($H29=P$4,$G29,0) -> 0 | Q29: =IF($H29=Q$4,$G29,0) -> 0 | R29: =IF($H29=R$4,$G29,0) -> 0 | S29: =IF($H29=S$4,$G29,0) -> 0 | ... X29: =IF($H29=X$4,$G29,0) -> 0
L30: =IF($H30=L$4,$G30,0) -> 0 | M30: =IF($H30=M$4,$G30,0) -> 0 | N30: =IF($H30=N$4,$G30,0) -> 0 | O30: =IF($H30=O$4,$G30,0) -> 0 | P30: =IF($H30=P$4,$G30,0) -> 0 | Q30: =IF($H30=Q$4,$G30,0) -> 0 | R30: =IF($H30=R$4,$G30,0) -> 0 | S30: =IF($H30=S$4,$G30,0) -> 0 | ... X30: =IF($H30=X$4,$G30,0) -> 0
L31: =IF($H31=L$4,$G31,0) -> 0 | M31: =IF($H31=M$4,$G31,0) -> 0 | N31: =IF($H31=N$4,$G31,0) -> 0 | O31: =IF($H31=O$4,$G31,0) -> 0 | P31: =IF($H31=P$4,$G31,0) -> 0 | Q31: =IF($H31=Q$4,$G31,0) -> 0 | R31: =IF($H31=R$4,$G31,0) -> 0 | S31: =IF($H31=S$4,$G31,0) -> 0 | ... X31: =IF($H31=X$4,$G31,0) -> 0
L32: =IF($H32=L$4,$G32,0) -> 0 | M32: =IF($H32=M$4,$G32,0) -> 0 | N32: =IF($H32=N$4,$G32,0) -> 0 | O32: =IF($H32=O$4,$G32,0) -> 0 | P32: =IF($H32=P$4,$G32,0) -> 0 | Q32: =IF($H32=Q$4,$G32,0) -> 0 | R32: =IF($H32=R$4,$G32,0) -> 0 | S32: =IF($H32=S$4,$G32,0) -> 0 | ... X32: =IF($H32=X$4,$G32,0) -> 0
L33: =IF($H33=L$4,$G33,0) -> 0 | M33: =IF($H33=M$4,$G33,0) -> 0 | N33: =IF($H33=N$4,$G33,0) -> 0 | O33: =IF($H33=O$4,$G33,0) -> 0 | P33: =IF($H33=P$4,$G33,0) -> 0 | Q33: =IF($H33=Q$4,$G33,0) -> 0 | R33: =IF($H33=R$4,$G33,0) -> 0 | S33: =IF($H33=S$4,$G33,0) -> 0 | ... X33: =IF($H33=X$4,$G33,0) -> 0
L34: =IF($H5=L$4,$G5,0) -> 0 | M34: =IF($H5=M$4,$G5,0) -> 0 | N34: =IF($H5=N$4,$G5,0) -> 0 | O34: =IF($H5=O$4,$G5,0) -> 0 | P34: =IF($H5=P$4,$G5,0) -> 0 | Q34: =IF($H5=Q$4,$G5,0) -> 0 | R34: =IF($H5=R$4,$G5,0) -> 0 | S34: =IF($H5=S$4,$G5,0) -> 0 | ... X34: =IF($H5=X$4,$G5,0) -> 0
L35: =IF($H6=L$4,$G6,0) -> 0 | M35: =IF(#REF!=M$4,#REF!,0) -> #REF! | N35: =IF(#REF!=N$4,#REF!,0) -> #REF! | O35: =IF(#REF!=O$4,#REF!,0) -> #REF! | P35: =IF(#REF!=P$4,#REF!,0) -> #REF! | Q35: =IF(#REF!=Q$4,#REF!,0) -> #REF! | R35: =IF(#REF!=R$4,#REF!,0) -> #REF! | S35: =IF(#REF!=S$4,#REF!,0) -> #REF! | T35: =IF(#REF!=T$4,#REF!,0) -> #REF! | ... X35: =IF(#REF!=X$4,#REF!,0) -> #REF!
L36: =IF($H36=L$4,$G36,0) -> 0 | M36: =IF($H36=M$4,$G36,0) -> 0 | N36: =IF($H36=N$4,$G36,0) -> 0 | O36: =IF($H36=O$4,$G36,0) -> 0 | P36: =IF($H36=P$4,$G36,0) -> 0 | Q36: =IF($H36=Q$4,$G36,0) -> 0 | R36: =IF($H36=R$4,$G36,0) -> 0 | S36: =IF($H36=S$4,$G36,0) -> 0 | ... X36: =IF($H36=X$4,$G36,0) -> 0
L37: =IF($H37=L$4,$G37,0) -> 0 | M37: =IF($H37=M$4,$G37,0) -> 0 | N37: =IF($H37=N$4,$G37,0) -> 0 | O37: =IF($H37=O$4,$G37,0) -> 0 | P37: =IF($H37=P$4,$G37,0) -> 0 | Q37: =IF($H37=Q$4,$G37,0) -> 0 | R37: =IF($H37=R$4,$G37,0) -> 0 | S37: =IF($H37=S$4,$G37,0) -> 0 | ... X37: =IF($H37=X$4,$G37,0) -> 0 | AA37: er
L38: =IF($H38=L$4,$G38,0) -> 0 | M38: =IF($H38=M$4,$G38,0) -> 0 | N38: =IF($H38=N$4,$G38,0) -> 0 | O38: =IF($H38=O$4,$G38,0) -> 0 | P38: =IF($H38=P$4,$G38,0) -> 0 | Q38: =IF($H38=Q$4,$G38,0) -> 0 | R38: =IF($H38=R$4,$G38,0) -> 0 | S38: =IF($H38=S$4,$G38,0) -> 0 | ... X38: =IF($H38=X$4,$G38,0) -> 0
L39: =IF($H39=L$4,$G39,0) -> 0 | M39: =IF($H39=M$4,$G39,0) -> 0 | N39: =IF($H39=N$4,$G39,0) -> 0 | O39: =IF($H39=O$4,$G39,0) -> 0 | P39: =IF($H39=P$4,$G39,0) -> 0 | Q39: =IF($H39=Q$4,$G39,0) -> 0 | R39: =IF($H39=R$4,$G39,0) -> 0 | S39: =IF($H39=S$4,$G39,0) -> 0 | ... X39: =IF($H39=X$4,$G39,0) -> 0
L40: =IF($H40=L$4,$G40,0) -> 0 | M40: =IF($H40=M$4,$G40,0) -> 0 | N40: =IF($H40=N$4,$G40,0) -> 0 | O40: =IF($H40=O$4,$G40,0) -> 0 | P40: =IF($H40=P$4,$G40,0) -> 0 | Q40: =IF($H40=Q$4,$G40,0) -> 0 | R40: =IF($H40=R$4,$G40,0) -> 0 | S40: =IF($H40=S$4,$G40,0) -> 0 | ... X40: =IF($H40=X$4,$G40,0) -> 0
...

Sheet Echéancier Etablissement 1
A1: Fournisseurs Vatel RHE - Les Aigrettes
A3: Date | B3: N° Facture | C3: Nom | D3: Montant TTC | E3: Etat du Rgmt | F3: Nb jours pour Paiement | G3: Echeance | H3: Date de Règlement | I3: Mode de Rgmt | S3: Moyen paiement
A4: =IF(ISBLANK('J ACHATS 08 19'!B5),"",'J ACHATS 08 19'!B5) -> 43678 | B4: =IF(ISBLANK('J ACHATS 08 19'!C5),"",'J ACHATS 08 19'!C5) -> 123456 | C4: =IF(ISBLANK('J ACHATS 08 19'!D5),"",'J ACHATS 08 19'!D5) -> Le martin pecheur 1 | D4: =IF(ISBLANK('J ACHATS 08 19'!E5),"",'J ACHATS 08 19'!E5) -> 100 | E4: =IF(ISBLANK(Tableau22[[#This Row],[Date]]),"",IF(ISBLANK(Tableau22[Mode de Rgmt]),(IF(Tableau22[[#This Row],[Echeance]]>TODAY(),"En Attente",IF(Tableau22[[#This Row],[Echeance]]=TODAY(),"A Payer",IF(Tableau22[[#This Row],[Echeance]]<TODAY(),"En Retard","")))),"Payé")) -> Payé | G4: =IF(ISBLANK(Tableau22[[#This Row],[Date]]),"",Tableau22[[#This Row],[Date]]+Tableau22[[#This Row],[Nb jours pour Paiement ]]) -> 43678 | H4: =IF(ISBLANK(Tableau22[[#This Row],[Mode de Rgmt]]),"",TODAY()) -> 43773 | I4: CB | O4: =Total!B2 -> 43678 | P4: =Total!B3 -> 43830 | Q4: =SUMIFS(Tableau22[Montant TTC],Tableau22[Etat du Rgmt],"Payé",Tableau22[Date de Règlement],">="&O4,Tableau22[Date de Règlement],"<="&P4) -> 100 | S4: Virement
A5: =IF(ISBLANK('J ACHATS 08 19'!B6),"",'J ACHATS 08 19'!B6) -> 43679 | B5: =IF(ISBLANK('J ACHATS 08 19'!C6),"",'J ACHATS 08 19'!C6) -> 123456 | C5: =IF(ISBLANK('J ACHATS 08 19'!D6),"",'J ACHATS 08 19'!D6) -> Le martin pecheur 2 | D5: =IF(ISBLANK('J ACHATS 08 19'!E6),"",'J ACHATS 08 19'!E6) -> 101 | O5: =Total!B2 -> 43678 | P5: =Total!B3 -> 43830 | Q5: =SUMIFS(Tableau22[Montant TTC],Tableau22[Etat du Rgmt],"En Retard") -> 0 | S5: Chèque
A6: =IF(ISBLANK('J ACHATS 08 19'!B7),"",'J ACHATS 08 19'!B7) -> 43680 | B6: =IF(ISBLANK('J ACHATS 08 19'!C7),"",'J ACHATS 08 19'!C7) -> 123456 | C6: =IF(ISBLANK('J ACHATS 08 19'!D7),"",'J ACHATS 08 19'!D7) -> Le martin pecheur 3 | D6: =IF(ISBLANK('J ACHATS 08 19'!E7),"",'J ACHATS 08 19'!E7) -> 102 | O6: =Total!B2 -> 43678 | P6: =Total!B3 -> 43830 | Q6: =SUMIFS(Tableau22[Montant TTC],Tableau22[Etat du Rgmt],"En Attente",Tableau22[Echeance],">="&O6,Tableau22[Echeance],"<="&P6) -> 0 | S6: CB
A7: =IF(ISBLANK('J ACHATS 08 19'!B8),"",'J ACHATS 08 19'!B8) -> 43681 | B7: =IF(ISBLANK('J ACHATS 08 19'!C8),"",'J ACHATS 08 19'!C8) -> 123456 | C7: =IF(ISBLANK('J ACHATS 08 19'!D8),"",'J ACHATS 08 19'!D8) -> Le martin pecheur 4 | D7: =IF(ISBLANK('J ACHATS 08 19'!E8),"",'J ACHATS 08 19'!E8) -> 103 | Q7: =SUMIFS(Tableau22[Montant TTC],Tableau22[Etat du Rgmt],"A Payer") -> 0 | S7: Especes
A8: =IF(ISBLANK('J ACHATS 08 19'!B9),"",'J ACHATS 08 19'!B9) -> 43682 | B8: =IF(ISBLANK('J ACHATS 08 19'!C9),"",'J ACHATS 08 19'!C9) -> 123456 | C8: =IF(ISBLANK('J ACHATS 08 19'!D9),"",'J ACHATS 08 19'!D9) -> Le martin pecheur 5 | D8: =IF(ISBLANK('J ACHATS 08 19'!E9),"",'J ACHATS 08 19'!E9) -> 104 | S8: Prélévement
A9: =IF(ISBLANK('J ACHATS 08 19'!B10),"",'J ACHATS 08 19'!B10) -> 43683 | B9: =IF(ISBLANK('J ACHATS 08 19'!C10),"",'J ACHATS 08 19'!C10) -> 123456 | C9: =IF(ISBLANK('J ACHATS 08 19'!D10),"",'J ACHATS 08 19'!D10) -> Le martin pecheur 6 | D9: =IF(ISBLANK('J ACHATS 08 19'!E10),"",'J ACHATS 08 19'!E10) -> 105
A10: =IF(ISBLANK('J ACHATS 08 19'!B11),"",'J ACHATS 08 19'!B11) -> 43684 | B10: =IF(ISBLANK('J ACHATS 08 19'!C11),"",'J ACHATS 08 19'!C11) -> 123456 | C10: =IF(ISBLANK('J ACHATS 08 19'!D11),"",'J ACHATS 08 19'!D11) -> Le martin pecheur 7 | D10: =IF(ISBLANK('J ACHATS 08 19'!E11),"",'J ACHATS 08 19'!E11) -> 106
A11: =IF(ISBLANK('J ACHATS 08 19'!B12),"",'J ACHATS 08 19'!B12) -> 43685 | B11: =IF(ISBLANK('J ACHATS 08 19'!C12),"",'J ACHATS 08 19'!C12) -> 123456 | C11: =IF(ISBLANK('J ACHATS 08 19'!D12),"",'J ACHATS 08 19'!D12) -> Le martin pecheur 8 | D11: =IF(ISBLANK('J ACHATS 08 19'!E12),"",'J ACHATS 08 19'!E12) -> 107 | L11: Fournisseurs
A12: =IF(ISBLANK('J ACHATS 08 19'!B13),"",'J ACHATS 08 19'!B13) -> 43686 | B12: =IF(ISBLANK('J ACHATS 08 19'!C13),"",'J ACHATS 08 19'!C13) -> 123456 | C12: =IF(ISBLANK('J ACHATS 08 19'!D13),"",'J ACHATS 08 19'!D13) -> Le martin pecheur 9 | D12: =IF(ISBLANK('J ACHATS 08 19'!E13),"",'J ACHATS 08 19'!E13) -> 108 | L12: A VOTRE SERVICE HOTELIER
A13: =IF(ISBLANK('J ACHATS 08 19'!B14),"",'J ACHATS 08 19'!B14) -> 43687 | B13: =IF(ISBLANK('J ACHATS 08 19'!C14),"",'J ACHATS 08 19'!C14) -> 123456 | C13: =IF(ISBLANK('J ACHATS 08 19'!D14),"",'J ACHATS 08 19'!D14) -> Le martin pecheur 10 | D13: =IF(ISBLANK('J ACHATS 08 19'!E14),"",'J ACHATS 08 19'!E14) -> 109 | L13: ALBERS & ALBERT
A14: =IF(ISBLANK('J ACHATS 08 19'!B15),"",'J ACHATS 08 19'!B15) -> 43688 | B14: =IF(ISBLANK('J ACHATS 08 19'!C15),"",'J ACHATS 08 19'!C15) -> 123456 | C14: =IF(ISBLANK('J ACHATS 08 19'!D15),"",'J ACHATS 08 19'!D15) -> Le martin pecheur 11 | D14: =IF(ISBLANK('J ACHATS 08 19'!E15),"",'J ACHATS 08 19'!E15) -> 110 | L14: AMC CONSULTANTS
A15: =IF(ISBLANK('J ACHATS 08 19'!B16),"",'J ACHATS 08 19'!B16) -> 43689 | B15: =IF(ISBLANK('J ACHATS 08 19'!C16),"",'J ACHATS 08 19'!C16) -> 123456 | C15: =IF(ISBLANK('J ACHATS 08 19'!D16),"",'J ACHATS 08 19'!D16) -> Le martin pecheur 12 | D15: =IF(ISBLANK('J ACHATS 08 19'!E16),"",'J ACHATS 08 19'!E16) -> 111 | L15: APPYCO
A16: =IF(ISBLANK('J ACHATS 08 19'!B17),"",'J ACHATS 08 19'!B17) -> 43690 | B16: =IF(ISBLANK('J ACHATS 08 19'!C17),"",'J ACHATS 08 19'!C17) -> 123456 | C16: =IF(ISBLANK('J ACHATS 08 19'!D17),"",'J ACHATS 08 19'!D17) -> Le martin pecheur 13 | D16: =IF(ISBLANK('J ACHATS 08 19'!E17),"",'J ACHATS 08 19'!E17) -> 112 | L16: AQUATIK RUN
A17: =IF(ISBLANK('J ACHATS 08 19'!B18),"",'J ACHATS 08 19'!B18) -> 43691 | B17: =IF(ISBLANK('J ACHATS 08 19'!C18),"",'J ACHATS 08 19'!C18) -> 123456 | C17: =IF(ISBLANK('J ACHATS 08 19'!D18),"",'J ACHATS 08 19'!D18) -> Le martin pecheur 14 | D17: =IF(ISBLANK('J ACHATS 08 19'!E18),"",'J ACHATS 08 19'!E18) -> 113 | L17: ARM
A18: =IF(ISBLANK('J ACHATS 08 19'!B19),"",'J ACHATS 08 19'!B19) -> 43692 | B18: =IF(ISBLANK('J ACHATS 08 19'!C19),"",'J ACHATS 08 19'!C19) -> 123456 | C18: =IF(ISBLANK('J ACHATS 08 19'!D19),"",'J ACHATS 08 19'!D19) -> Le martin pecheur 15 | D18: =IF(ISBLANK('J ACHATS 08 19'!E19),"",'J ACHATS 08 19'!E19) -> 114 | L18: Association Lamifa Diese
A19: =IF(ISBLANK('J ACHATS 08 19'!B20),"",'J ACHATS 08 19'!B20) -> 43693 | B19: =IF(ISBLANK('J ACHATS 08 19'!C20),"",'J ACHATS 08 19'!C20) -> 123456 | C19: =IF(ISBLANK('J ACHATS 08 19'!D20),"",'J ACHATS 08 19'!D20) -> Le martin pecheur 16 | D19: =IF(ISBLANK('J ACHATS 08 19'!E20),"",'J ACHATS 08 19'!E20) -> 115 | L19: BOOKING.COM
A20: =IF(ISBLANK('J ACHATS 08 19'!B21),"",'J ACHATS 08 19'!B21) -> 43694 | B20: =IF(ISBLANK('J ACHATS 08 19'!C21),"",'J ACHATS 08 19'!C21) -> 123456 | C20: =IF(ISBLANK('J ACHATS 08 19'!D21),"",'J ACHATS 08 19'!D21) -> Le martin pecheur 17 | D20: =IF(ISBLANK('J ACHATS 08 19'!E21),"",'J ACHATS 08 19'!E21) -> 116 | L20: Boulangerie de l'Ile
A21: =IF(ISBLANK('J ACHATS 08 19'!B22),"",'J ACHATS 08 19'!B22) -> 43695 | B21: =IF(ISBLANK('J ACHATS 08 19'!C22),"",'J ACHATS 08 19'!C22) -> 123457 | C21: =IF(ISBLANK('J ACHATS 08 19'!D22),"",'J ACHATS 08 19'!D22) -> Le martin pecheur 18 | D21: =IF(ISBLANK('J ACHATS 08 19'!E22),"",'J ACHATS 08 19'!E22) -> 117 | L21: BPSAT(boulagerie PAUL)
A22: =IF(ISBLANK('J ACHATS 08 19'!B23),"",'J ACHATS 08 19'!B23) | B22: =IF(ISBLANK('J ACHATS 08 19'!C23),"",'J ACHATS 08 19'!C23) | C22: =IF(ISBLANK('J ACHATS 08 19'!D23),"",'J ACHATS 08 19'!D23) | D22: =IF(ISBLANK('J ACHATS 08 19'!E23),"",'J ACHATS 08 19'!E23) | L22: BRACELETS EVENEMENTIELS
... A102: =IF(ISBLANK('J ACHATS 08 19'!B103),"",'J ACHATS 08 19'!B103) | B102: =IF(ISBLANK('J ACHATS 08 19'!C103),"",'J ACHATS 08 19'!C103) | C102: =IF(ISBLANK('J ACHATS 08 19'!D103),"",'J ACHATS 08 19'!D103) | D102: =IF(ISBLANK('J ACHATS 08 19'!E103),"",'J ACHATS 08 19'!E103) | L102: ZEOP ENTREPRISE
A103: =IF(ISBLANK('J ACHATS 08 19'!B104),"",'J ACHATS 08 19'!B104) | B103: =IF(ISBLANK('J ACHATS 08 19'!C104),"",'J ACHATS 08 19'!C104) | C103: =IF(ISBLANK('J ACHATS 08 19'!D104),"",'J ACHATS 08 19'!D104) | D103: =IF(ISBLANK('J ACHATS 08 19'!E104),"",'J ACHATS 08 19'!E104)
A104: =IF(ISBLANK('J ACHATS 08 19'!B105),"",'J ACHATS 08 19'!B105) | B104: =IF(ISBLANK('J ACHATS 08 19'!C105),"",'J ACHATS 08 19'!C105) | C104: =IF(ISBLANK('J ACHATS 08 19'!D105),"",'J ACHATS 08 19'!D105) | D104: =IF(ISBLANK('J ACHATS 08 19'!E105),"",'J ACHATS 08 19'!E105)
A105: =IF(ISBLANK('J ACHATS 08 19'!B106),"",'J ACHATS 08 19'!B106) | B105: =IF(ISBLANK('J ACHATS 08 19'!C106),"",'J ACHATS 08 19'!C106) | C105: =IF(ISBLANK('J ACHATS 08 19'!D106),"",'J ACHATS 08 19'!D106) | D105: =IF(ISBLANK('J ACHATS 08 19'!E106),"",'J ACHATS 08 19'!E106)
A106: =IF(ISBLANK('J ACHATS 08 19'!B107),"",'J ACHATS 08 19'!B107) | B106: =IF(ISBLANK('J ACHATS 08 19'!C107),"",'J ACHATS 08 19'!C107) | C106: =IF(ISBLANK('J ACHATS 08 19'!D107),"",'J ACHATS 08 19'!D107) | D106: =IF(ISBLANK('J ACHATS 08 19'!E107),"",'J ACHATS 08 19'!E107)
A107: =IF(ISBLANK('J ACHATS 08 19'!B108),"",'J ACHATS 08 19'!B108) | B107: =IF(ISBLANK('J ACHATS 08 19'!C108),"",'J ACHATS 08 19'!C108) | C107: =IF(ISBLANK('J ACHATS 08 19'!D108),"",'J ACHATS 08 19'!D108) | D107: =IF(ISBLANK('J ACHATS 08 19'!E108),"",'J ACHATS 08 19'!E108)
A108: =IF(ISBLANK('J ACHATS 08 19'!B109),"",'J ACHATS 08 19'!B109) | B108: =IF(ISBLANK('J ACHATS 08 19'!C109),"",'J ACHATS 08 19'!C109) | C108: =IF(ISBLANK('J ACHATS 08 19'!D109),"",'J ACHATS 08 19'!D109) | D108: =IF(ISBLANK('J ACHATS 08 19'!E109),"",'J ACHATS 08 19'!E109)
A109: =IF(ISBLANK('J ACHATS 08 19'!B110),"",'J ACHATS 08 19'!B110) | B109: =IF(ISBLANK('J ACHATS 08 19'!C110),"",'J ACHATS 08 19'!C110) | C109: =IF(ISBLANK('J ACHATS 08 19'!D110),"",'J ACHATS 08 19'!D110) | D109: =IF(ISBLANK('J ACHATS 08 19'!E110),"",'J ACHATS 08 19'!E110)
A110: =IF(ISBLANK('J ACHATS 08 19'!B111),"",'J ACHATS 08 19'!B111) | B110: =IF(ISBLANK('J ACHATS 08 19'!C111),"",'J ACHATS 08 19'!C111) | C110: =IF(ISBLANK('J ACHATS 08 19'!D111),"",'J ACHATS 08 19'!D111) | D110: =IF(ISBLANK('J ACHATS 08 19'!E111),"",'J ACHATS 08 19'!E111)
A111: =IF(ISBLANK('J ACHATS 08 19'!B112),"",'J ACHATS 08 19'!B112) | B111: =IF(ISBLANK('J ACHATS 08 19'!C112),"",'J ACHATS 08 19'!C112) | C111: =IF(ISBLANK('J ACHATS 08 19'!D112),"",'J ACHATS 08 19'!D112) | D111: =IF(ISBLANK('J ACHATS 08 19'!E112),"",'J ACHATS 08 19'!E112)
A112: =IF(ISBLANK('J ACHATS 08 19'!B113),"",'J ACHATS 08 19'!B113) | B112: =IF(ISBLANK('J ACHATS 08 19'!C113),"",'J ACHATS 08 19'!C113) | C112: =IF(ISBLANK('J ACHATS 08 19'!D113),"",'J ACHATS 08 19'!D113) | D112: =IF(ISBLANK('J ACHATS 08 19'!E113),"",'J ACHATS 08 19'!E113)
A113: =IF(ISBLANK('J ACHATS 08 19'!B114),"",'J ACHATS 08 19'!B114) | B113: =IF(ISBLANK('J ACHATS 08 19'!C114),"",'J ACHATS 08 19'!C114) | C113: =IF(ISBLANK('J ACHATS 08 19'!D114),"",'J ACHATS 08 19'!D114) | D113: =IF(ISBLANK('J ACHATS 08 19'!E114),"",'J ACHATS 08 19'!E114)
A114: =IF(ISBLANK('J ACHATS 08 19'!B115),"",'J ACHATS 08 19'!B115) | B114: =IF(ISBLANK('J ACHATS 08 19'!C115),"",'J ACHATS 08 19'!C115) | C114: =IF(ISBLANK('J ACHATS 08 19'!D115),"",'J ACHATS 08 19'!D115) | D114: =IF(ISBLANK('J ACHATS 08 19'!E115),"",'J ACHATS 08 19'!E115)
... A135: =IF(ISBLANK('J ACHATS 08 19'!B136),"",'J ACHATS 08 19'!B136) | B135: =IF(ISBLANK('J ACHATS 08 19'!C136),"",'J ACHATS 08 19'!C136) | C135: =IF(ISBLANK('J ACHATS 08 19'!D136),"",'J ACHATS 08 19'!D136) | D135: =IF(ISBLANK('J ACHATS 08 19'!E136),"",'J ACHATS 08 19'!E136)
