Workbook
Name Budget: #REF!
Name Budget: #REF!
Name Budget_deuxieme_decade: #REF!
Name Budget_deuxieme_decade: #REF!
Name Budget_premiere_decade: #REF!
Name Budget_premiere_decade: #REF!
Name Budget_Total: #REF!
Name Budget_Total: #REF!
Name Budget_troisieme_décade: #REF!
Name Budget_troisieme_décade: #REF!
Name clean_deuxieme_decade: #REF!,#REF!,#REF!,#REF!,#REF!,#REF!
Name clean_deuxieme_decade: #REF!,#REF!,#REF!,#REF!,#REF!,#REF!
Name clean_prmiere_decade: #REF!,#REF!,#REF!,#REF!,#REF!,#REF!
Name clean_prmiere_decade: #REF!,#REF!,#REF!,#REF!,#REF!,#REF!
Name clean_troisieme_decade: #REF!,#REF!,#REF!,#REF!,#REF!,#REF!
Name clean_troisieme_decade: #REF!,#REF!,#REF!,#REF!,#REF!,#REF!
Name Decade_1: #REF!
Name Decade_1: #REF!
Name Decade_2: #REF!
Name Decade_2: #REF!
Name Decade_3: #REF!
Name Decade_3: #REF!
Name Decade_mois: #REF!
Name Decade_mois: #REF!
Name Deuxieme_decade: #REF!
Name Deuxieme_decade: #REF!
Name Difference_Budget_deuxieme_decade: #REF!
Name Difference_Budget_deuxieme_decade: #REF!
Name Difference_Budget_premiere_decade: #REF!
Name Difference_Budget_premiere_decade: #REF!
Name Difference_Budget_Total: #REF!
Name Difference_Budget_Total: #REF!
Name Difference_Budget_troisieme_decade: #REF!
Name Difference_Budget_troisieme_decade: #REF!
Name inventaire1: [1]VENTES!$Q$8:$Z$22,[1]VENTES!$Q$24:$Z$28,[1]VENTES!$Q$31:$Z$32,[1]VENTES!$Q$30:$Z$36,[1]VENTES!$Q$41:$Z$56,[1]VENTES!$Q$59:$Z$61
Name JourCour: #REF!
Name JourCour: #REF!
Name Mode_reglement: #REF!
Name Mode_reglement: #REF!
Name Premiere_decade: #REF!
Name Premiere_decade: #REF!
Name REGLER: '[2]liste deroulante'!$C$2:$C$3
Name Total_deuxieme_decade: #REF!
Name Total_deuxieme_decade: #REF!
Name Total_general_decade: #REF!
Name Total_general_decade: #REF!
Name Total_premiere_decade: #REF!
Name Total_premiere_decade: #REF!
Name Total_troisieme_decade: #REF!
Name Total_troisieme_decade: #REF!
Name Troisieme_decade: #REF!
Name Troisieme_decade: #REF!
Name TYPERGLT: '[2]liste deroulante'!$A$2:$A$5

Sheet Total
A1: Résumé FRNS
A2: Date de Début | B2: 43678
A3: Date de Fin | B3: 43830
A5: Etablissement 1
A6: Factures réglées ce mois | B6: ='Echéancier Etablissement 1'!Q4 -> 100
A7: Factures à régler selon écheances | B7: ='Echéancier Etablissement 1'!Q6 -> 0
A9: Factures en retard de règlement | B9: ='Echéancier Etablissement 1'!Q5 -> 0
A11: Factures à payer ce jour | B11: ='Echéancier Etablissement 1'!Q7 -> 0

Sheet J ACHATS 08 19
B1: =+#REF! -> #REF! | F1: =+#REF! -> #REF!
B2: DATE | C2: N°PIECE | D2: FOURNISSEUR | E2: TTC | F2: TVA | G2: HT | H2: CODE | I2: CODE | J2: COMMENTAIRES | L2: Déjeuner-diner | M2: PETIT DEJEUNER | N2: BOISSONS | O2: IMMOBILISATIONS | P2: PDT ACCUEIL | Q2: PDT ACCUEIL | R2: PDT ENTRETIEN | S2: PDT ENTRETIEN | T2: FOUR EXLOIT | U2: FOUR EXLOIT | V2: AUTRES ACHATS | W2: CONSIGNES | X2: FACTURES
C3: FOURNISSEUR | I3: paiement | P3: RESTAURANT | Q3: HOTEL | R3: RESTAURANT | S3: HOTEL | T3: HOTEL | U3: RESTAURANT | V3: STOCKES | X3: CONTRAT
L4: NO | M4: PDJ | N4: BO | O4: IMO | P4: PAR | Q4: PAH | R4: PER | S4: PEH | T4: FEH | U4: FER | V4: AAS | W4: CO | X4: FG
B5: 43678 | C5: 123456 | D5: Le martin pecheur 1 | E5: 100 | L5: =IF($H5=L$4,$G5,0) -> 0 | M5: =IF($H5=M$4,$G5,0) -> 0 | N5: =IF($H5=N$4,$G5,0) -> 0 | O5: =IF($H5=O$4,$G5,0) -> 0 | P5: =IF($H5=P$4,$G5,0) -> 0 | Q5: =IF($H5=Q$4,$G5,0) -> 0 | R5: =IF($H5=R$4,$G5,0) -> 0 | S5: =IF($H5=S$4,$G5,0) -> 0 | ... X5: =IF($H5=X$4,$G5,0) -> 0
B6: 43679 | C6: 123456 | D6: Le martin pecheur 2 | E6: 101 | L6: =IF($H6=L$4,$G6,0) -> 0 | M6: =IF($H6=M$4,$G6,0) -> 0 | N6: =IF($H6=N$4,$G6,0) -> 0 | O6: =IF($H6=O$4,$G6,0) -> 0 | P6: =IF($H6=P$4,$G6,0) -> 0 | Q6: =IF($H6=Q$4,$G6,0) -> 0 | R6: =IF($H6=R$4,$G6,0) -> 0 | S6: =IF($H6=S$4,$G6,0) -> 0 | ... X6: =IF($H6=X$4,$G6,0) -> 0
B7: 43680 | C7: 123456 | D7: Le martin pecheur 3 | E7: 102 | L7: =IF($H7=L$4,$G7,0) -> 0 | M7: =IF($H7=M$4,$G7,0) -> 0 | N7: =IF($H7=N$4,$G7,0) -> 0 | O7: =IF($H7=O$4,$G7,0) -> 0 | P7: =IF($H7=P$4,$G7,0) -> 0 | Q7: =IF($H7=Q$4,$G7,0) -> 0 | R7: =IF($H7=R$4,$G7,0) -> 0 | S7: =IF($H7=S$4,$G7,0) -> 0 | ... X7: =IF($H7=X$4,$G7,0) -> 0
B8: 43681 | C8: 123456 | D8: Le martin pecheur 4 | E8: 103 | L8: =IF($H8=L$4,$G8,0) -> 0 | M8: =IF($H8=M$4,#REF!,0) -> 0 | N8: =IF($H8=N$4,#REF!,0) -> 0 | O8: =IF($H8=O$4,#REF!,0) -> 0 | P8: =IF($H8=P$4,#REF!,0) -> 0 | Q8: =IF($H8=Q$4,#REF!,0) -> 0 | R8: =IF($H8=R$4,#REF!,0) -> 0 | S8: =IF($H8=S$4,#REF!,0) -> 0 | T8: =IF($H8=T$4,#REF!,0) -> 0 | ... X8: =IF($H8=X$4,#REF!,0) -> 0
B9: 43682 | C9: 123456 | D9: Le martin pecheur 5 | E9: 104 | L9: =IF($H9=L$4,$G9,0) -> 0 | M9: =IF($H9=M$4,$G9,0) -> 0 | N9: =IF($H9=N$4,$G9,0) -> 0 | O9: =IF($H9=O$4,$G9,0) -> 0 | P9: =IF($H9=P$4,$G9,0) -> 0 | Q9: =IF($H9=Q$4,$G9,0) -> 0 | R9: =IF($H9=R$4,$G9,0) -> 0 | S9: =IF($H9=S$4,$G9,0) -> 0 | ... X9: =IF($H9=X$4,$G9,0) -> 0
B10: 43683 | C10: 123456 | D10: Le martin pecheur 6 | E10: 105 | L10: =IF($H10=L$4,$G10,0) -> 0 | M10: =IF($H10=M$4,$G10,0) -> 0 | N10: =IF($H10=N$4,$G10,0) -> 0 | O10: =IF($H10=O$4,$G10,0) -> 0 | P10: =IF($H10=P$4,$G10,0) -> 0 | Q10: =IF($H10=Q$4,$G10,0) -> 0 | R10: =IF($H10=R$4,$G10,0) -> 0 | S10: =IF($H10=S$4,$G10,0) -> 0 | ... X10: =IF($H10=X$4,$G10,0) -> 0
B11: 43684 | C11: 123456 | D11: Le martin pecheur 7 | E11: 106 | L11: =IF($H11=L$4,$G11,0) -> 0 | M11: =IF($H11=M$4,$G11,0) -> 0 | N11: =IF($H11=N$4,$G11,0) -> 0 | O11: =IF($H11=O$4,$G11,0) -> 0 | P11: =IF($H11=P$4,$G11,0) -> 0 | Q11: =IF($H11=Q$4,$G11,0) -> 0 | R11: =IF($H11=R$4,$G11,0) -> 0 | S11: =IF($H11=S$4,$G11,0) -> 0 | ... X11: =IF($H11=X$4,$G11,0) -> 0
B12: 43685 | C12: 123456 | D12: Le martin pecheur 8 | E12: 107 | L12: =IF($H12=L$4,$G12,0) -> 0 | M12: =IF($H12=M$4,$G12,0) -> 0 | N12: =IF($H12=N$4,$G12,0) -> 0 | O12: =IF($H12=O$4,$G12,0) -> 0 | P12: =IF($H12=P$4,$G12,0) -> 0 | Q12: =IF($H12=Q$4,$G12,0) -> 0 | R12: =IF($H12=R$4,$G12,0) -> 0 | S12: =IF($H12=S$4,$G12,0) -> 0 | ... X12: =IF($H12=X$4,$G12,0) -> 0
B13: 43686 | C13: 123456 | D13: Le martin pecheur 9 | E13: 108 | L13: =IF($H13=L$4,$G13,0) -> 0 | M13: =IF($H13=M$4,$G13,0) -> 0 | N13: =IF($H13=N$4,$G13,0) -> 0 | O13: =IF($H13=O$4,$G13,0) -> 0 | P13: =IF($H13=P$4,$G13,0) -> 0 | Q13: =IF($H13=Q$4,$G13,0) -> 0 | R13: =IF($H13=R$4,$G13,0) -> 0 | S13: =IF($H13=S$4,$G13,0) -> 0 | ... X13: =IF($H13=X$4,$G13,0) -> 0
B14: 43687 | C14: 123456 | D14: Le martin pecheur 10 | E14: 109 | L14: =IF($H14=L$4,$G14,0) -> 0 | M14: =IF($H14=M$4,$G14,0) -> 0 | N14: =IF($H14=N$4,$G14,0) -> 0 | O14: =IF($H14=O$4,$G14,0) -> 0 | P14: =IF($H14=P$4,$G14,0) -> 0 | Q14: =IF($H14=Q$4,$G14,0) -> 0 | R14: =IF($H14=R$4,$G14,0) -> 0 | S14: =IF($H14=S$4,$G14,0) -> 0 | ... X14: =IF($H14=X$4,$G14,0) -> 0
B15: 43688 | C15: 123456 | D15: Le martin pecheur 11 | E15: 110 | L15: =IF($H15=L$4,$G15,0) -> 0 | M15: =IF($H15=M$4,$G15,0) -> 0 | N15: =IF($H15=N$4,$G15,0) -> 0 | O15: =IF($H15=O$4,$G15,0) -> 0 | P15: =IF($H15=P$4,$G15,0) -> 0 | Q15: =IF($H15=Q$4,$G15,0) -> 0 | R15: =IF($H15=R$4,$G15,0) -> 0 | S15: =IF($H15=S$4,$G15,0) -> 0 | ... X15: =IF($H15=X$4,$G15,0) -> 0
B16: 43689 | C16: 123456 | D16: Le martin pecheur 12 | E16: 111 | L16: =IF($G8=L$4,$G16,0) -> 0 | M16: =IF($G8=M$4,$G16,0) -> 0 | N16: =IF($G8=N$4,$G16,0) -> 0 | O16: =IF($G8=O$4,$G16,0) -> 0 | P16: =IF($G8=P$4,$G16,0) -> 0 | Q16: =IF($G8=Q$4,$G16,0) -> 0 | R16: =IF($G8=R$4,$G16,0) -> 0 | S16: =IF($G8=S$4,$G16,0) -> 0 | ... X16: =IF($G8=X$4,$G16,0) -> 0
B17: 43690 | C17: 123456 | D17: Le martin pecheur 13 | E17: 112 | L17: =IF($H17=L$4,$G17,0) -> 0 | M17: =IF($H17=M$4,$G17,0) -> 0 | N17: =IF($H17=N$4,$G17,0) -> 0 | O17: =IF($H17=O$4,$G17,0) -> 0 | P17: =IF($H17=P$4,$G17,0) -> 0 | Q17: =IF($H17=Q$4,$G17,0) -> 0 | R17: =IF($H17=R$4,$G17,0) -> 0 | S17: =IF($H17=S$4,$G17,0) -> 0 | ... X17: =IF($H17=X$4,$G17,0) -> 0
B18: 43691 | C18: 123456 | D18: Le martin pecheur 14 | E18: 113 | L18: =IF($H18=L$4,$G18,0) -> 0 | M18: =IF($H18=M$4,$G18,0) -> 0 | N18: =IF($H18=N$4,$G18,0) -> 0 | O18: =IF($H18=O$4,$G18,0) -> 0 | P18: =IF($H18=P$4,$G18,0) -> 0 | Q18: =IF($H18=Q$4,$G18,0) -> 0 | R18: =IF($H18=R$4,$G18,0) -> 0 | S18: =IF($H18=S$4,$G18,0) -> 0 | ... X18: =IF($H18=X$4,$G18,0) -> 0
B19: 43692 | C19: 123456 | D19: Le martin pecheur 15 | E19: 114 | L19: =IF($H19=L$4,$G19,0) -> 0 | M19: =IF($H19=M$4,$G19,0) -> 0 | N19: =IF($H19=N$4,$G19,0) -> 0 | O19: =IF($H19=O$4,$G19,0) -> 0 | P19: =IF($H19=P$4,$G19,0) -> 0 | Q19: =IF($H19=Q$4,$G19,0) -> 0 | R19: =IF($H19=R$4,$G19,0) -> 0 | S19: =IF($H19=S$4,$G19,0) -> 0 | ... X19: =IF($H19=X$4,$G19,0) -> 0
B20: 43693 | C20: 123456 | D20: Le martin pecheur 16 | E20: 115 | L20: =IF($H20=L$4,$G20,0) -> 0 | M20: =IF($H20=M$4,$G20,0) -> 0 | N20: =IF($H20=N$4,$G20,0) -> 0 | O20: =IF($H20=O$4,$G20,0) -> 0 | P20: =IF($H20=P$4,$G20,0) -> 0 | Q20: =IF($H20=Q$4,$G20,0) -> 0 | R20: =IF($H20=R$4,$G20,0) -> 0 | S20: =IF($H20=S$4,$G20,0) -> 0 | ... X20: =IF($H20=X$4,$G20,0) -> 0
B21: 43694 | C21: 123456 | D21: Le martin pecheur 17 | E21: 116 | L21: =IF($H21=L$4,$G21,0) -> 0 | M21: =IF($H21=M$4,$G21,0) -> 0 | N21: =IF($H21=N$4,$G21,0) -> 0 | O21: =IF($H21=O$4,$G21,0) -> 0 | P21: =IF($H21=P$4,$G21,0) -> 0 | Q21: =IF($H21=Q$4,$G21,0) -> 0 | R21: =IF($H21=R$4,$G21,0) -> 0 | S21: =IF($H21=S$4,$G21,0) -> 0 | ... X21: =IF($H21=X$4,$G21,0) -> 0
B22: 43695 | C22: 123457 | D22: Le martin pecheur 18 | E22: 117 | L22: =IF($H22=L$4,$G22,0) -> 0 | M22: =IF($H22=M$4,$G22,0) -> 0 | N22: =IF($H22=N$4,$G22,0) -> 0 | O22: =IF($H22=O$4,$G22,0) -> 0 | P22: =IF($H22=P$4,$G22,0) -> 0 | Q22: =IF($H22=Q$4,$G22,0) -> 0 | R22: =IF($H22=R$4,$G22,0) -> 0 | S22: =IF($H22=S$4,$G22,0) -> 0 | ... X22: =IF($H22=X$4,$G22,0) -> 0
L23: =IF($H23=L$4,$G23,0) -> 0 | M23: =IF($H23=M$4,$G23,0) -> 0 | N23: =IF($H23=N$4,$G23,0) -> 0 | O23: =IF($H23=O$4,$G23,0) -> 0 | P23: =IF($H23=P$4,$G23,0) -> 0 | Q23: =IF($H23=Q$4,$G23,0) -> 0 | R23: =IF($H23=R$4,$G23,0) -> 0 | S23: =IF($H23=S$4,$G23,0) -> 0 | ... X23: =IF($H23=X$4,$G23,0) -> 0
L24: =IF($H24=L$4,$G24,0) -> 0 | M24: =IF($H24=M$4,$G24,0) -> 0 | N24: =IF($H24=N$4,$G24,0) -> 0 | O24: =IF($H24=O$4,$G24,0) -> 0 | P24: =IF($H24=P$4,$G24,0) -> 0 | Q24: =IF($H24=Q$4,$G24,0) -> 0 | R24: =IF($H24=R$4,$G24,0) -> 0 | S24: =IF($H24=S$4,$G24,0) -> 0 | ... X24: =IF($H24=X$4,$G24,0) -> 0
L25: =IF($H25=L$4,$G25,0) -> 0 | M25: =IF($H25=M$4,$G25,0) -> 0 | N25: =IF($H25=N$4,$G25,0) -> 0 | O25: =IF($H25=O$4,$G25,0) -> 0 | P25: =IF($H25=P$4,$G25,0) -> 0 | Q25: =IF($H25=Q$4,$G25,0) -> 0 | R25: =IF($H25=R$4,$G25,0) -> 0 | S25: =IF($H25=S$4,$G25,0) -> 0 | ... X25: =IF($H25=X$4,$G25,0) -> 0
L26: =IF($H26=L$4,$G26,0) -> 0 | M26: =IF($H26=M$4,$G26,0) -> 0 | N26: =IF($H26=N$4,$G26,0) -> 0 | O26: =IF($H26=O$4,$G26,0) -> 0 | P26: =IF($H26=P$4,$G26,0) -> 0 | Q26: =IF($H26=Q$4,$G26,0) -> 0 | R26: =IF($H26=R$4,$G26,0) -> 0 | S26: =IF($H26=S$4,$G26,0) -> 0 | ... X26: =IF($H26=X$4,$G26,0) -> 0
L27: =IF($H27=L$4,$G27,0) -> 0 | M27: =IF($H27=M$4,$G27,0) -> 0 | N27: =IF($H27=N$4,$G27,0) -> 0 | O27: =IF($H27=O$4,$G27,0) -> 0 | P27: =IF($H27=P$4,$G27,0) -> 0 | Q27: =IF($H27=Q$4,$G27,0) -> 0 | R27: =IF($H27=R$4,$G27,0) -> 0 | S27: =IF($H27=S$4,$G27,0) -> 0 | ... X27: =IF($H27=X$4,$G27,0) -> 0
L28: =IF($H28=L$4,$G28,0) -> 0 | M28: =IF($H28=M$4,$G28,0) -> 0 | N28: =IF($H28=N$4,$G28,0) -> 0 | O28: =IF($H28=O$4,$G28,0) -> 0 | P28: =IF($H28=P$4,$G28,0) -> 0 | Q28: =IF($H28=Q$4,$G28,0) -> 0 | R28: =IF($H28=R$4,$G28,0) -> 0 | S28: =IF($H28=S$4,$G28,0) -> 0 | ... X28: =IF($H28=X$4,$G28,0) -> 0
L29: =IF($H29=L$4,$G29,0) -> 0 | M29: =IF($H29=M$4,$G29,0) -> 0 | N29: =IF($H29=N$4,$G29,0) -> 0 | O29: =IF($H29=O$4,$G29,0) -> 0 | P29: =IF($H29=P$4,$G29,0) -> 0 | Q29: =IF($H29=Q$4,$G29,0) -> 0 | R29: =IF($H29=R$4,$G29,0) -> 0 | S29: =IF($H29=S$4,$G29,0) -> 0 | ... X29: =IF($H29=X$4,$G29,0) -> 0
L30: =IF($H30=L$4,$G30,0) -> 0 | M30: =IF($H30=M$4,$G30,0) -> 0 | N30: =IF($H30=N$4,$G30,0) -> 0 | O30: =IF($H30=O$4,$G30,0) -> 0 | P30: =IF($H30=P$4,$G30,0) -> 0 | Q30: =IF($H30=Q$4,$G30,0) -> 0 | R30: =IF($H30=R$4,$G30,0) -> 0 | S30: =IF($H30=S$4,$G30,0) -> 0 | ... X30: =IF($H30=X$4,$G30,0) -> 0
L31: =IF($H31=L$4,$G31,0) -> 0 | M31: =IF($H31=M$4,$G31,0) -> 0 | N31: =IF($H31=N$4,$G31,0) -> 0 | O31: =IF($H31=O$4,$G31,0) -> 0 | P31: =IF($H31=P$4,$G31,0) -> 0 | Q31: =IF($H31=Q$4,$G31,0) -> 0 | R31: =IF($H31=R$4,$G31,0) -> 0 | S31: =IF($H31=S$4,$G31,0) -> 0 | ... X31: =IF($H31=X$4,$G31,0) -> 0
L32: =IF($H32=L$4,$G32,0) -> 0 | M32: =IF($H32=M$4,$G32,0) -> 0 | N32: =IF($H32=N$4,$G32,0) -> 0 | O32: =IF($H32=O$4,$G32,0) -> 0 | P32: =IF($H32=P$4,$G32,0) -> 0 | Q32: =IF($H32=Q$4,$G32,0) -> 0 | R32: =IF($H32=R$4,$G32,0) -> 0 | S32: =IF($H32=S$4,$G32,0) -> 0 | ... X32: =IF($H32=X$4,$G32,0) -> 0
L33: =IF($H33=L$4,$G33,0) -> 0 | M33: =IF($H33=M$4,$G33,0) -> 0 | N33: =IF($H33=N$4,$G33,0) -> 0 | O33: =IF($H33=O$4,$G33,0) -> 0 | P33: =IF($H33=P$4,$G33,0) -> 0 | Q33: =IF($H33=Q$4,$G33,0) -> 0 | R33: =IF($H33=R$4,$G33,0) -> 0 | S33: =IF($H33=S$4,$G33,0) -> 0 | ... X33: =IF($H33=X$4,$G33,0) -> 0
L34: =IF($H5=L$4,$G5,0) -> 0 | M34: =IF($H5=M$4,$G5,0) -> 0 | N34: =IF($H5=N$4,$G5,0) -> 0 | O34: =IF($H5=O$4,$G5,0) -> 0 | P34: =IF($H5=P$4,$G5,0) -> 0 | Q34: =IF($H5=Q$4,$G5,0) -> 0 | R34: =IF($H5=R$4,$G5,0) -> 0 | S34: =IF($H5=S$4,$G5,0) -> 0 | ... X34: =IF($H5=X$4,$G5,0) -> 0
L35: =IF($H6=L$4,$G6,0) -> 0 | M35: =IF(#REF!=M$4,#REF!,0) -> #REF! | N35: =IF(#REF!=N$4,#REF!,0) -> #REF! | O35: =IF(#REF!=O$4,#REF!,0) -> #REF! | P35: =IF(#REF!=P$4,#REF!,0) -> #REF! | Q35: =IF(#REF!=Q$4,#REF!,0) -> #REF! | R35: =IF(#REF!=R$4,#REF!,0) -> #REF! | S35: =IF(#REF!=S$4,#REF!,0) -> #REF! | T35: =IF(#REF!=T$4,#REF!,0) -> #REF! | ... X35: =IF(#REF!=X$4,#REF!,0) -> #REF!
L36: =IF($H36=L$4,$G36,0) -> 0 | M36: =IF($H36=M$4,$G36,0) -> 0 | N36: =IF($H36=N$4,$G36,0) -> 0 | O36: =IF($H36=O$4,$G36,0) -> 0 | P36: =IF($H36=P$4,$G36,0) -> 0 | Q36: =IF($H36=Q$4,$G36,0) -> 0 | R36: =IF($H36=R$4,$G36,0) -> 0 | S36: =IF($H36=S$4,$G36,0) -> 0 | ... X36: =IF($H36=X$4,$G36,0) -> 0
L37: =IF($H37=L$4,$G37,0) -> 0 | M37: =IF($H37=M$4,$G37,0) -> 0 | N37: =IF($H37=N$4,$G37,0) -> 0 | O37: =IF($H37=O$4,$G37,0) -> 0 | P37: =IF($H37=P$4,$G37,0) -> 0 | Q37: =IF($H37=Q$4,$G37,0) -> 0 | R37: =IF($H37=R$4,$G37,0) -> 0 | S37: =IF($H37=S$4,$G37,0) -> 0 | ... X37: =IF($H37=X$4,$G37,0) -> 0 | AA37: er
L38: =IF($H38=L$4,$G38,0) -> 0 | M38: =IF($H38=M$4,$G38,0) -> 0 | N38: =IF($H38=N$4,$G38,0) -> 0 | O38: =IF($H38=O$4,$G38,0) -> 0 | P38: =IF($H38=P$4,$G38,0) -> 0 | Q38: =IF($H38=Q$4,$G38,0) -> 0 | R38: =IF($H38=R$4,$G38,0) -> 0 | S38: =IF($H38=S$4,$G38,0) -> 0 | ... X38: =IF($H38=X$4,$G38,0) -> 0
L39: =IF($H39=L$4,$G39,0) -> 0 | M39: =IF($H39=M$4,$G39,0) -> 0 | N39: =IF($H39=N$4,$G39,0) -> 0 | O39: =IF($H39=O$4,$G39,0) -> 0 | P39: =IF($H39=P$4,$G39,0) -> 0 | Q39: =IF($H39=Q$4,$G39,0) -> 0 | R39: =IF($H39=R$4,$G39,0) -> 0 | S39: =IF($H39=S$4,$G39,0) -> 0 | ... X39: =IF($H39=X$4,$G39,0) -> 0
L40: =IF($H40=L$4,$G40,0) -> 0 | M40: =IF($H40=M$4,$G40,0) -> 0 | N40: =IF($H40=N$4,$G40,0) -> 0 | O40: =IF($H40=O$4,$G40,0) -> 0 | P40: =IF($H40=P$4,$G40,0) -> 0 | Q40: =IF($H40=Q$4,$G40,0) -> 0 | R40: =IF($H40=R$4,$G40,0) -> 0 | S40: =IF($H40=S$4,$G40,0) -> 0 | ... X40: =IF($H40=X$4,$G40,0) -> 0
L41: =IF($H41=L$4,$G41,0) -> 0 | M41: =IF($H41=M$4,$G41,0) -> 0 | N41: =IF($H41=N$4,$G41,0) -> 0 | O41: =IF($H41=O$4,$G41,0) -> 0 | P41: =IF($H41=P$4,$G41,0) -> 0 | Q41: =IF($H41=Q$4,$G41,0) -> 0 | R41: =IF($H41=R$4,$G41,0) -> 0 | S41: =IF($H41=S$4,$G41,0) -> 0 | ... X41: =IF($H41=X$4,$G41,0) -> 0
L42: =IF($H42=L$4,$G42,0) -> 0 | M42: =IF($H42=M$4,$G42,0) -> 0 | N42: =IF($H42=N$4,$G42,0) -> 0 | O42: =IF($H42=O$4,$G42,0) -> 0 | P42: =IF($H42=P$4,$G42,0) -> 0 | Q42: =IF($H42=Q$4,$G42,0) -> 0 | R42: =IF($H42=R$4,$G42,0) -> 0 | S42: =IF($H42=S$4,$G42,0) -> 0 | ... X42: =IF($H42=X$4,$G42,0) -> 0
L43: =IF($H43=L$4,$G43,0) -> 0 | M43: =IF($H43=M$4,$G43,0) -> 0 | N43: =IF($H43=N$4,$G43,0) -> 0 | O43: =IF($H43=O$4,$G43,0) -> 0 | P43: =IF($H43=P$4,$G43,0) -> 0 | Q43: =IF($H43=Q$4,$G43,0) -> 0 | R43: =IF($H43=R$4,$G43,0) -> 0 | S43: =IF($H43=S$4,$G43,0) -> 0 | ... X43: =IF($H43=X$4,$G43,0) -> 0
L44: =IF($H44=L$4,$G44,0) -> 0 | M44: =IF($H44=M$4,$G44,0) -> 0 | N44: =IF($H44=N$4,$G44,0) -> 0 | O44: =IF($H44=O$4,$G44,0) -> 0 | P44: =IF($H44=P$4,$G44,0) -> 0 | Q44: =IF($H44=Q$4,$G44,0) -> 0 | R44: =IF($H44=R$4,$G44,0) -> 0 | S44: =IF($H44=S$4,$G44,0) -> 0 | ... X44: =IF($H44=X$4,$G44,0) -> 0
L45: =IF($H45=L$4,$G45,0) -> 0 | M45: =IF($H45=M$4,$G45,0) -> 0 | N45: =IF($H45=N$4,$G45,0) -> 0 | O45: =IF($H45=O$4,$G45,0) -> 0 | P45: =IF($H45=P$4,$G45,0) -> 0 | Q45: =IF($H45=Q$4,$G45,0) -> 0 | R45: =IF($H45=R$4,$G45,0) -> 0 | S45: =IF($H45=S$4,$G45,0) -> 0 | ... X45: =IF($H45=X$4,$G45,0) -> 0
L46: =IF($H46=L$4,$G46,0) -> 0 | M46: =IF($H46=M$4,$G46,0) -> 0 | N46: =IF($H46=N$4,$G46,0) -> 0 | O46: =IF($H46=O$4,$G46,0) -> 0 | P46: =IF($H46=P$4,$G46,0) -> 0 | Q46: =IF($H46=Q$4,$G46,0) -> 0 | R46: =IF($H46=R$4,$G46,0) -> 0 | S46: =IF($H46=S$4,$G46,0) -> 0 | ... X46: =IF($H46=X$4,$G46,0) -> 0
L47: =IF($H47=L$4,$G47,0) -> 0 | M47: =IF($H47=M$4,$G47,0) -> 0 | N47: =IF($H47=N$4,$G47,0) -> 0 | O47: =IF($H47=O$4,$G47,0) -> 0 | P47: =IF($H47=P$4,$G47,0) -> 0 | Q47: =IF($H47=Q$4,$G47,0) -> 0 | R47: =IF($H47=R$4,$G47,0) -> 0 | S47: =IF($H47=S$4,$G47,0) -> 0 | ... X47: =IF($H47=X$4,$G47,0) -> 0
L48: =IF($H48=L$4,$G48,0) -> 0 | M48: =IF($H48=M$4,$G48,0) -> 0 | N48: =IF($H48=N$4,$G48,0) -> 0 | O48: =IF($H48=O$4,$G48,0) -> 0 | P48: =IF($H48=P$4,$G48,0) -> 0 | Q48: =IF($H48=Q$4,$G48,0) -> 0 | R48: =IF($H48=R$4,$G48,0) -> 0 | S48: =IF($H48=S$4,$G48,0) -> 0 | ... X48: =IF($H48=X$4,$G48,0) -> 0
L49: =IF($H49=L$4,$G49,0) -> 0 | M49: =IF($H49=M$4,$G49,0) -> 0 | N49: =IF($H49=N$4,$G49,0) -> 0 | O49: =IF($H49=O$4,$G49,0) -> 0 | P49: =IF($H49=P$4,$G49,0) -> 0 | Q49: =IF($H49=Q$4,$G49,0) -> 0 | R49: =IF($H49=R$4,$G49,0) -> 0 | S49: =IF($H49=S$4,$G49,0) -> 0 | ... X49: =IF($H49=X$4,$G49,0) -> 0
... L95: =IF($H95=L$4,$G95,0) -> 0 | M95: =IF($H95=M$4,$G95,0) -> 0 | N95: =IF($H95=N$4,$G95,0) -> 0 | O95: =IF($H95=O$4,$G95,0) -> 0 | P95: =IF($H95=P$4,$G95,0) -> 0 | Q95: =IF($H95=Q$4,$G95,0) -> 0 | R95: =IF($H95=R$4,$G95,0) -> 0 | S95: =IF($H95=S$4,$G95,0) -> 0 | ... X95: =IF($H95=X$4,$G95,0) -> 0
L96: 0 | M96: =IF($H96=M$4,$G96,0) -> 0 | N96: =IF($H96=N$4,$G96,0) -> 0 | O96: =IF($H96=O$4,$G96,0) -> 0 | P96: =IF($H96=P$4,$G96,0) -> 0 | Q96: =IF($H96=Q$4,$G96,0) -> 0 | R96: =IF($H96=R$4,$G96,0) -> 0 | S96: =IF($H96=S$4,$G96,0) -> 0 | T96: =IF($H96=T$4,$G96,0) -> 0 | ... X96: =IF($H96=X$4,$G96,0) -> 0
L97: =IF($H97=L$4,$G97,0) -> 0 | M97: =IF($H97=M$4,$G97,0) -> 0 | N97: =IF($H97=N$4,$G97,0) -> 0 | O97: =IF($H97=O$4,$G97,0) -> 0 | P97: =IF($H97=P$4,$G97,0) -> 0 | Q97: =IF($H97=Q$4,$G97,0) -> 0 | R97: =IF($H97=R$4,$G97,0) -> 0 | S97: =IF($H97=S$4,$G97,0) -> 0 | ... X97: =IF($H97=X$4,$G97,0) -> 0
L98: =IF($H98=L$4,$G98,0) -> 0 | M98: =IF($H98=M$4,$G98,0) -> 0 | N98: =IF($H98=N$4,$G98,0) -> 0 | O98: =IF($H98=O$4,$G98,0) -> 0 | P98: =IF($H98=P$4,$G98,0) -> 0 | Q98: =IF($H98=Q$4,$G98,0) -> 0 | R98: =IF($H98=R$4,$G98,0) -> 0 | S98: =IF($H98=S$4,$G98,0) -> 0 | ... X98: =IF($H98=X$4,$G98,0) -> 0
L99: =IF($H99=L$4,$G99,0) -> 0 | M99: =IF($H99=M$4,$G99,0) -> 0 | N99: =IF($H99=N$4,$G99,0) -> 0 | O99: =IF($H99=O$4,$G99,0) -> 0 | P99: =IF($H99=P$4,$G99,0) -> 0 | Q99: =IF($H99=Q$4,$G99,0) -> 0 | R99: =IF($H99=R$4,$G99,0) -> 0 | S99: =IF($H99=S$4,$G99,0) -> 0 | ... X99: =IF($H99=X$4,$G99,0) -> 0
L100: =IF($H100=L$4,$G100,0) -> 0 | M100: =IF($H100=M$4,$G100,0) -> 0 | N100: =IF($H100=N$4,$G100,0) -> 0 | O100: =IF($H100=O$4,$G100,0) -> 0 | P100: =IF($H100=P$4,$G100,0) -> 0 | Q100: =IF($H100=Q$4,$G100,0) -> 0 | R100: =IF($H100=R$4,$G100,0) -> 0 | S100: =IF($H100=S$4,$G100,0) -> 0 | ... X100: =IF($H100=X$4,$G100,0) -> 0
L101: =IF($H101=L$4,$G101,0) -> 0 | M101: =IF($H101=M$4,$G101,0) -> 0 | N101: =IF($H101=N$4,$G101,0) -> 0 | O101: =IF($H101=O$4,$G101,0) -> 0 | P101: =IF($H101=P$4,$G101,0) -> 0 | Q101: =IF($H101=Q$4,$G101,0) -> 0 | R101: =IF($H101=R$4,$G101,0) -> 0 | S101: =IF($H101=S$4,$G101,0) -> 0 | ... X101: =IF($H101=X$4,$G101,0) -> 0
L102: =IF($H102=L$4,$G102,0) -> 0 | M102: =IF($H102=M$4,$G102,0) -> 0 | N102: =IF($H102=N$4,$G102,0) -> 0 | O102: =IF($H102=O$4,$G102,0) -> 0 | P102: =IF($H102=P$4,$G102,0) -> 0 | Q102: =IF($H102=Q$4,$G102,0) -> 0 | R102: =IF($H102=R$4,$G102,0) -> 0 | S102: =IF($H102=S$4,$G102,0) -> 0 | ... X102: =IF($H102=X$4,$G102,0) -> 0
L103: =IF($H103=L$4,$G103,0) -> 0 | M103: =IF($H103=M$4,$G103,0) -> 0 | N103: =IF($H103=N$4,$G103,0) -> 0 | O103: =IF($H103=O$4,$G103,0) -> 0 | P103: =IF($H103=P$4,$G103,0) -> 0 | Q103: =IF($H103=Q$4,$G103,0) -> 0 | R103: =IF($H103=R$4,$G103,0) -> 0 | S103: =IF($H103=S$4,$G103,0) -> 0 | ... X103: =IF($H103=X$4,$G103,0) -> 0
L104: =IF($H104=L$4,$G104,0) -> 0 | M104: =IF($H104=M$4,$G104,0) -> 0 | N104: =IF($H104=N$4,$G104,0) -> 0 | O104: =IF($H104=O$4,$G104,0) -> 0 | P104: =IF($H104=P$4,$G104,0) -> 0 | Q104: =IF($H104=Q$4,$G104,0) -> 0 | R104: =IF($H104=R$4,$G104,0) -> 0 | S104: =IF($H104=S$4,$G104,0) -> 0 | ... X104: =IF($H104=X$4,$G104,0) -> 0
L105: =IF($H105=L$4,$G105,0) -> 0 | M105: =IF($H105=M$4,$G105,0) -> 0 | N105: =IF($H105=N$4,$G105,0) -> 0 | O105: =IF($H105=O$4,$G105,0) -> 0 | P105: =IF($H105=P$4,$G105,0) -> 0 | Q105: =IF($H105=Q$4,$G105,0) -> 0 | R105: =IF($H105=R$4,$G105,0) -> 0 | S105: =IF($H105=S$4,$G105,0) -> 0 | ... X105: =IF($H105=X$4,$G105,0) -> 0
L106: =IF($H106=L$4,$G106,0) -> 0 | M106: =IF($H106=M$4,$G106,0) -> 0 | N106: =IF($H106=N$4,$G106,0) -> 0 | O106: =IF($H106=O$4,$G106,0) -> 0 | P106: =IF($H106=P$4,$G106,0) -> 0 | Q106: =IF($H106=Q$4,$G106,0) -> 0 | R106: =IF($H106=R$4,$G106,0) -> 0 | S106: =IF($H106=S$4,$G106,0) -> 0 | ... X106: =IF($H106=X$4,$G106,0) -> 0
L107: =IF($H107=L$4,$G107,0) -> 0 | M107: =IF($H107=M$4,$G107,0) -> 0 | N107: =IF($H107=N$4,$G107,0) -> 0 | O107: =IF($H107=O$4,$G107,0) -> 0 | P107: =IF($H107=P$4,$G107,0) -> 0 | Q107: =IF($H107=Q$4,$G107,0) -> 0 | R107: =IF($H107=R$4,$G107,0) -> 0 | S107: =IF($H107=S$4,$G107,0) -> 0 | ... X107: =IF($H107=X$4,$G107,0) -> 0
L108: =IF($H108=L$4,$G108,0) -> 0 | M108: =IF($H108=M$4,$G108,0) -> 0 | N108: =IF($H108=N$4,$G108,0) -> 0 | O108: =IF($H108=O$4,$G108,0) -> 0 | P108: =IF($H108=P$4,$G108,0) -> 0 | Q108: =IF($H108=Q$4,$G108,0) -> 0 | R108: =IF($H108=R$4,$G108,0) -> 0 | S108: =IF($H108=S$4,$G108,0) -> 0 | ... X108: =IF($H108=X$4,$G108,0) -> 0
... L137: =IF($H137=L$4,$G137,0) -> 0 | M137: =IF($H137=M$4,$G137,0) -> 0 | N137: =IF($H137=N$4,$G137,0) -> 0 | O137: =IF($H137=O$4,$G137,0) -> 0 | P137: =IF($H137=P$4,$G137,0) -> 0 | Q137: =IF($H137=Q$4,$G137,0) -> 0 | R137: =IF($H137=R$4,$G137,0) -> 0 | S137: =IF($H137=S$4,$G137,0) -> 0 | ... X137: =IF($H137=X$4,$G137,0) -> 0
L138: =IF($H2=L$4,$G2,0) -> 0 | M138: =IF($H2=M$4,$G2,0) -> 0 | N138: =IF($H2=N$4,$G2,0) -> 0 | O138: =IF($H2=O$4,$G2,0) -> 0 | P138: =IF($H2=P$4,$G2,0) -> 0 | Q138: =IF($H2=Q$4,$G2,0) -> 0 | R138: =IF($H2=R$4,$G2,0) -> 0 | S138: =IF($H2=S$4,$G2,0) -> 0 | ... X138: =IF($H2=X$4,$G2,0) -> 0
L139: =IF($H3=L$4,$G3,0) -> 0 | M139: =IF($H3=M$4,$G3,0) -> 0 | N139: =IF($H3=N$4,$G3,0) -> 0 | O139: =IF($H3=O$4,$G3,0) -> 0 | P139: =IF($H3=P$4,$G3,0) -> 0 | Q139: =IF($H3=Q$4,$G3,0) -> 0 | R139: =IF($H3=R$4,$G3,0) -> 0 | S139: =IF($H3=S$4,$G3,0) -> 0 | ... X139: =IF($H3=X$4,$G3,0) -> 0
L140: =IF($H140=L$4,$G140,0) -> 0 | M140: =IF($H140=M$4,$G140,0) -> 0 | N140: =IF($H140=N$4,$G140,0) -> 0 | O140: =IF($H140=O$4,$G140,0) -> 0 | P140: =IF($H140=P$4,$G140,0) -> 0 | Q140: =IF($H140=Q$4,$G140,0) -> 0 | R140: =IF($H140=R$4,$G140,0) -> 0 | S140: =IF($H140=S$4,$G140,0) -> 0 | ... X140: =IF($H140=X$4,$G140,0) -> 0
L141: =IF($H141=L$4,$G141,0) -> 0 | M141: =IF($H141=M$4,$G141,0) -> 0 | N141: =IF($H141=N$4,$G141,0) -> 0 | O141: =IF($H141=O$4,$G141,0) -> 0 | P141: =IF($H141=P$4,$G141,0) -> 0 | Q141: =IF($H141=Q$4,$G141,0) -> 0 | R141: =IF($H141=R$4,$G141,0) -> 0 | S141: =IF($H141=S$4,$G141,0) -> 0 | ... X141: =IF($H141=X$4,$G141,0) -> 0
L142: =IF($H142=L$4,$G142,0) -> 0 | M142: =IF($H142=M$4,$G142,0) -> 0 | N142: =IF($H142=N$4,$G142,0) -> 0 | O142: =IF($H142=O$4,$G142,0) -> 0 | P142: =IF($H142=P$4,$G142,0) -> 0 | Q142: =IF($H142=Q$4,$G142,0) -> 0 | R142: =IF($H142=R$4,$G142,0) -> 0 | S142: =IF($H142=S$4,$G142,0) -> 0 | ... X142: =IF($H142=X$4,$G142,0) -> 0
L143: =IF($H143=L$4,$G143,0) -> 0 | M143: =IF($H143=M$4,$G143,0) -> 0 | N143: =IF($H143=N$4,$G143,0) -> 0 | O143: =IF($H143=O$4,$G143,0) -> 0 | P143: =IF($H143=P$4,$G143,0) -> 0 | Q143: =IF($H143=Q$4,$G143,0) -> 0 | R143: =IF($H143=R$4,$G143,0) -> 0 | S143: =IF($H143=S$4,$G143,0) -> 0 | ... X143: =IF($H143=X$4,$G143,0) -> 0
L144: =IF($H144=L$4,$G144,0) -> 0 | M144: =IF($H144=M$4,$G144,0) -> 0 | N144: =IF($H144=N$4,$G144,0) -> 0 | O144: =IF($H144=O$4,$G144,0) -> 0 | P144: =IF($H144=P$4,$G144,0) -> 0 | Q144: =IF($H144=Q$4,$G144,0) -> 0 | R144: =IF($H144=R$4,$G144,0) -> 0 | S144: =IF($H144=S$4,$G144,0) -> 0 | ... X144: =IF($H144=X$4,$G144,0) -> 0
L145: =IF($H145=L$4,$G145,0) -> 0 | M145: =IF($H145=M$4,$G145,0) -> 0 | N145: =IF($H145=N$4,$G145,0) -> 0 | O145: =IF($H145=O$4,$G145,0) -> 0 | P145: =IF($H145=P$4,$G145,0) -> 0 | Q145: =IF($H145=Q$4,$G145,0) -> 0 | R145: =IF($H145=R$4,$G145,0) -> 0 | S145: =IF($H145=S$4,$G145,0) -> 0 | ... X145: =IF($H145=X$4,$G145,0) -> 0
L146: =IF($H146=L$4,$G146,0) -> 0 | M146: =IF($H146=M$4,$G146,0) -> 0 | N146: =IF($H146=N$4,$G146,0) -> 0 | O146: =IF($H146=O$4,$G146,0) -> 0 | P146: =IF($H146=P$4,$G146,0) -> 0 | Q146: =IF($H146=Q$4,$G146,0) -> 0 | R146: =IF($H146=R$4,$G146,0) -> 0 | S146: =IF($H146=S$4,$G146,0) -> 0 | ... X146: =IF($H146=X$4,$G146,0) -> 0
L147: =IF($H147=L$4,$G147,0) -> 0 | M147: =IF($H147=M$4,$G147,0) -> 0 | N147: =IF($H147=N$4,$G147,0) -> 0 | O147: =IF($H147=O$4,$G147,0) -> 0 | P147: =IF($H147=P$4,$G147,0) -> 0 | Q147: =IF($H147=Q$4,$G147,0) -> 0 | R147: =IF($H147=R$4,$G147,0) -> 0 | S147: =IF($H147=S$4,$G147,0) -> 0 | ... X147: =IF($H147=X$4,$G147,0) -> 0
L148: =IF($H148=L$4,$G148,0) -> 0 | M148: =IF($H148=M$4,$G148,0) -> 0 | N148: =IF($H148=N$4,$G148,0) -> 0 | O148: =IF($H148=O$4,$G148,0) -> 0 | P148: =IF($H148=P$4,$G148,0) -> 0 | Q148: =IF($H148=Q$4,$G148,0) -> 0 | R148: =IF($H148=R$4,$G148,0) -> 0 | S148: =IF($H148=S$4,$G148,0) -> 0 | ... X148: =IF($H148=X$4,$G148,0) -> 0
L149: =IF($H149=L$4,$G149,0) -> 0 | M149: =IF($H149=M$4,$G149,0) -> 0 | N149: =IF($H149=N$4,$G149,0) -> 0 | O149: =IF($H149=O$4,$G149,0) -> 0 | P149: =IF($H149=P$4,$G149,0) -> 0 | Q149: =IF($H149=Q$4,$G149,0) -> 0 | R149: =IF($H149=R$4,$G149,0) -> 0 | S149: =IF($H149=S$4,$G149,0) -> 0 | ... X149: =IF($H149=X$4,$G149,0) -> 0
L150: =IF($H150=L$4,$G150,0) -> 0 | M150: =IF($H150=M$4,$G150,0) -> 0 | N150: =IF($H150=N$4,$G150,0) -> 0 | O150: =IF($H150=O$4,$G150,0) -> 0 | P150: =IF($H150=P$4,$G150,0) -> 0 | Q150: =IF($H150=Q$4,$G150,0) -> 0 | R150: =IF($H150=R$4,$G150,0) -> 0 | S150: =IF($H150=S$4,$G150,0) -> 0 | ... X150: =IF($H150=X$4,$G150,0) -> 0
L151: =IF($H151=L$4,$G151,0) -> 0 | M151: =IF($H151=M$4,$G151,0) -> 0 | N151: =IF($H151=N$4,$G151,0) -> 0 | O151: =IF($H151=O$4,$G151,0) -> 0 | P151: =IF($H151=P$4,$G151,0) -> 0 | Q151: =IF($H151=Q$4,$G151,0) -> 0 | R151: =IF($H151=R$4,$G151,0) -> 0 | S151: =IF($H151=S$4,$G151,0) -> 0 | ... X151: =IF($H151=X$4,$G151,0) -> 0
... L176: =IF($H176=L$4,$G176,0) -> 0 | M176: =IF($H176=M$4,$G176,0) -> 0 | N176: =IF($H176=N$4,$G176,0) -> 0 | O176: =IF($H176=O$4,$G176,0) -> 0 | P176: =IF($H176=P$4,$G176,0) -> 0 | Q176: =IF($H176=Q$4,$G176,0) -> 0 | R176: =IF($H176=R$4,$G176,0) -> 0 | S176: =IF($H176=S$4,$G176,0) -> 0 | ... X176: =IF($H176=X$4,$G176,0) -> 0
E178: =SUM(E5:E176) -> 1953 | F178: =SUM(F5:F176) -> 0 | G178: =SUM(G5:G176) -> 0 | K178: =SUM(K5:K176) -> 0 | L178: =SUM(L5:L176) -> 0 | M178: =SUM(M5:M176) -> #REF! | N178: =SUM(N5:N176) -> #REF! | O178: =SUM(O5:O176) -> #REF! | P178: =SUM(P5:P176) -> #REF! | Q178: =SUM(Q5:Q176) -> #REF! | R178: =SUM(R5:R176) -> #REF! | ... X178: =SUM(X5:X176) -> #REF!

Sheet Echéancier Etablissement 1
A1: Fournisseurs Vatel RHE - Les Aigrettes
A3: Date | B3: N° Facture | C3: Nom | D3: Montant TTC | E3: Etat du Rgmt | F3: Nb jours pour Paiement | G3: Echeance | H3: Date de Règlement | I3: Mode de Rgmt | S3: Moyen paiement
A4: =IF(ISBLANK('J ACHATS 08 19'!B5),"",'J ACHATS 08 19'!B5) -> 43678 | B4: =IF(ISBLANK('J ACHATS 08 19'!C5),"",'J ACHATS 08 19'!C5) -> 123456 | C4: =IF(ISBLANK('J ACHATS 08 19'!D5),"",'J ACHATS 08 19'!D5) -> Le martin pecheur 1 | D4: =IF(ISBLANK('J ACHATS 08 19'!E5),"",'J ACHATS 08 19'!E5) -> 100 | E4: =IF(ISBLANK(Tableau22[[#This Row],[Date]]),"",IF(ISBLANK(Tableau22[Mode de Rgmt]),(IF(Tableau22[[#This Row],[Echeance]]>TODAY(),"En Attente",IF(Tableau22[[#This Row],[Echeance]]=TODAY(),"A Payer",IF(Tableau22[[#This Row],[Echeance]]<TODAY(),"En Retard","")))),"Payé")) -> Payé | G4: =IF(ISBLANK(Tableau22[[#This Row],[Date]]),"",Tableau22[[#This Row],[Date]]+Tableau22[[#This Row],[Nb jours pour Paiement ]]) -> 43678 | H4: =IF(ISBLANK(Tableau22[[#This Row],[Mode de Rgmt]]),"",TODAY()) -> 43773 | I4: CB | O4: =Total!B2 -> 43678 | P4: =Total!B3 -> 43830 | Q4: =SUMIFS(Tableau22[Montant TTC],Tableau22[Etat du Rgmt],"Payé",Tableau22[Date de Règlement],">="&O4,Tableau22[Date de Règlement],"<="&P4) -> 100 | S4: Virement
A5: =IF(ISBLANK('J ACHATS 08 19'!B6),"",'J ACHATS 08 19'!B6) -> 43679 | B5: =IF(ISBLANK('J ACHATS 08 19'!C6),"",'J ACHATS 08 19'!C6) -> 123456 | C5: =IF(ISBLANK('J ACHATS 08 19'!D6),"",'J ACHATS 08 19'!D6) -> Le martin pecheur 2 | D5: =IF(ISBLANK('J ACHATS 08 19'!E6),"",'J ACHATS 08 19'!E6) -> 101 | O5: =Total!B2 -> 43678 | P5: =Total!B3 -> 43830 | Q5: =SUMIFS(Tableau22[Montant TTC],Tableau22[Etat du Rgmt],"En Retard") -> 0 | S5: Chèque
A6: =IF(ISBLANK('J ACHATS 08 19'!B7),"",'J ACHATS 08 19'!B7) -> 43680 | B6: =IF(ISBLANK('J ACHATS 08 19'!C7),"",'J ACHATS 08 19'!C7) -> 123456 | C6: =IF(ISBLANK('J ACHATS 08 19'!D7),"",'J ACHATS 08 19'!D7) -> Le martin pecheur 3 | D6: =IF(ISBLANK('J ACHATS 08 19'!E7),"",'J ACHATS 08 19'!E7) -> 102 | O6: =Total!B2 -> 43678 | P6: =Total!B3 -> 43830 | Q6: =SUMIFS(Tableau22[Montant TTC],Tableau22[Etat du Rgmt],"En Attente",Tableau22[Echeance],">="&O6,Tableau22[Echeance],"<="&P6) -> 0 | S6: CB
A7: =IF(ISBLANK('J ACHATS 08 19'!B8),"",'J ACHATS 08 19'!B8) -> 43681 | B7: =IF(ISBLANK('J ACHATS 08 19'!C8),"",'J ACHATS 08 19'!C8) -> 123456 | C7: =IF(ISBLANK('J ACHATS 08 19'!D8),"",'J ACHATS 08 19'!D8) -> Le martin pecheur 4 | D7: =IF(ISBLANK('J ACHATS 08 19'!E8),"",'J ACHATS 08 19'!E8) -> 103 | Q7: =SUMIFS(Tableau22[Montant TTC],Tableau22[Etat du Rgmt],"A Payer") -> 0 | S7: Especes
A8: =IF(ISBLANK('J ACHATS 08 19'!B9),"",'J ACHATS 08 19'!B9) -> 43682 | B8: =IF(ISBLANK('J ACHATS 08 19'!C9),"",'J ACHATS 08 19'!C9) -> 123456 | C8: =IF(ISBLANK('J ACHATS 08 19'!D9),"",'J ACHATS 08 19'!D9) -> Le martin pecheur 5 | D8: =IF(ISBLANK('J ACHATS 08 19'!E9),"",'J ACHATS 08 19'!E9) -> 104 | S8: Prélévement
A9: =IF(ISBLANK('J ACHATS 08 19'!B10),"",'J ACHATS 08 19'!B10) -> 43683 | B9: =IF(ISBLANK('J ACHATS 08 19'!C10),"",'J ACHATS 08 19'!C10) -> 123456 | C9: =IF(ISBLANK('J ACHATS 08 19'!D10),"",'J ACHATS 08 19'!D10) -> Le martin pecheur 6 | D9: =IF(ISBLANK('J ACHATS 08 19'!E10),"",'J ACHATS 08 19'!E10) -> 105
A10: =IF(ISBLANK('J ACHATS 08 19'!B11),"",'J ACHATS 08 19'!B11) -> 43684 | B10: =IF(ISBLANK('J ACHATS 08 19'!C11),"",'J ACHATS 08 19'!C11) -> 123456 | C10: =IF(ISBLANK('J ACHATS 08 19'!D11),"",'J ACHATS 08 19'!D11) -> Le martin pecheur 7 | D10: =IF(ISBLANK('J ACHATS 08 19'!E11),"",'J ACHATS 08 19'!E11) -> 106
A11: =IF(ISBLANK('J ACHATS 08 19'!B12),"",'J ACHATS 08 19'!B12) -> 43685 | B11: =IF(ISBLANK('J ACHATS 08 19'!C12),"",'J ACHATS 08 19'!C12) -> 123456 | C11: =IF(ISBLANK('J ACHATS 08 19'!D12),"",'J ACHATS 08 19'!D12) -> Le martin pecheur 8 | D11: =IF(ISBLANK('J ACHATS 08 19'!E12),"",'J ACHATS 08 19'!E12) -> 107 | L11: Fournisseurs
A12: =IF(ISBLANK('J ACHATS 08 19'!B13),"",'J ACHATS 08 19'!B13) -> 43686 | B12: =IF(ISBLANK('J ACHATS 08 19'!C13),"",'J ACHATS 08 19'!C13) -> 123456 | C12: =IF(ISBLANK('J ACHATS 08 19'!D13),"",'J ACHATS 08 19'!D13) -> Le martin pecheur 9 | D12: =IF(ISBLANK('J ACHATS 08 19'!E13),"",'J ACHATS 08 19'!E13) -> 108 | L12: A VOTRE SERVICE HOTELIER
A13: =IF(ISBLANK('J ACHATS 08 19'!B14),"",'J ACHATS 08 19'!B14) -> 43687 | B13: =IF(ISBLANK('J ACHATS 08 19'!C14),"",'J ACHATS 08 19'!C14) -> 123456 | C13: =IF(ISBLANK('J ACHATS 08 19'!D14),"",'J ACHATS 08 19'!D14) -> Le martin pecheur 10 | D13: =IF(ISBLANK('J ACHATS 08 19'!E14),"",'J ACHATS 08 19'!E14) -> 109 | L13: ALBERS & ALBERT
A14: =IF(ISBLANK('J ACHATS 08 19'!B15),"",'J ACHATS 08 19'!B15) -> 43688 | B14: =IF(ISBLANK('J ACHATS 08 19'!C15),"",'J ACHATS 08 19'!C15) -> 123456 | C14: =IF(ISBLANK('J ACHATS 08 19'!D15),"",'J ACHATS 08 19'!D15) -> Le martin pecheur 11 | D14: =IF(ISBLANK('J ACHATS 08 19'!E15),"",'J ACHATS 08 19'!E15) -> 110 | L14: AMC CONSULTANTS
A15: =IF(ISBLANK('J ACHATS 08 19'!B16),"",'J ACHATS 08 19'!B16) -> 43689 | B15: =IF(ISBLANK('J ACHATS 08 19'!C16),"",'J ACHATS 08 19'!C16) -> 123456 | C15: =IF(ISBLANK('J ACHATS 08 19'!D16),"",'J ACHATS 08 19'!D16) -> Le martin pecheur 12 | D15: =IF(ISBLANK('J ACHATS 08 19'!E16),"",'J ACHATS 08 19'!E16) -> 111 | L15: APPYCO
A16: =IF(ISBLANK('J ACHATS 08 19'!B17),"",'J ACHATS 08 19'!B17) -> 43690 | B16: =IF(ISBLANK('J ACHATS 08 19'!C17),"",'J ACHATS 08 19'!C17) -> 123456 | C16: =IF(ISBLANK('J ACHATS 08 19'!D17),"",'J ACHATS 08 19'!D17) -> Le martin pecheur 13 | D16: =IF(ISBLANK('J ACHATS 08 19'!E17),"",'J ACHATS 08 19'!E17) -> 112 | L16: AQUATIK RUN
A17: =IF(ISBLANK('J ACHATS 08 19'!B18),"",'J ACHATS 08 19'!B18) -> 43691 | B17: =IF(ISBLANK('J ACHATS 08 19'!C18),"",'J ACHATS 08 19'!C18) -> 123456 | C17: =IF(ISBLANK('J ACHATS 08 19'!D18),"",'J ACHATS 08 19'!D18) -> Le martin pecheur 14 | D17: =IF(ISBLANK('J ACHATS 08 19'!E18),"",'J ACHATS 08 19'!E18) -> 113 | L17: ARM
A18: =IF(ISBLANK('J ACHATS 08 19'!B19),"",'J ACHATS 08 19'!B19) -> 43692 | B18: =IF(ISBLANK('J ACHATS 08 19'!C19),"",'J ACHATS 08 19'!C19) -> 123456 | C18: =IF(ISBLANK('J ACHATS 08 19'!D19),"",'J ACHATS 08 19'!D19) -> Le martin pecheur 15 | D18: =IF(ISBLANK('J ACHATS 08 19'!E19),"",'J ACHATS 08 19'!E19) -> 114 | L18: Association Lamifa Diese
A19: =IF(ISBLANK('J ACHATS 08 19'!B20),"",'J ACHATS 08 19'!B20) -> 43693 | B19: =IF(ISBLANK('J ACHATS 08 19'!C20),"",'J ACHATS 08 19'!C20) -> 123456 | C19: =IF(ISBLANK('J ACHATS 08 19'!D20),"",'J ACHATS 08 19'!D20) -> Le martin pecheur 16 | D19: =IF(ISBLANK('J ACHATS 08 19'!E20),"",'J ACHATS 08 19'!E20) -> 115 | L19: BOOKING.COM
A20: =IF(ISBLANK('J ACHATS 08 19'!B21),"",'J ACHATS 08 19'!B21) -> 43694 | B20: =IF(ISBLANK('J ACHATS 08 19'!C21),"",'J ACHATS 08 19'!C21) -> 123456 | C20: =IF(ISBLANK('J ACHATS 08 19'!D21),"",'J ACHATS 08 19'!D21) -> Le martin pecheur 17 | D20: =IF(ISBLANK('J ACHATS 08 19'!E21),"",'J ACHATS 08 19'!E21) -> 116 | L20: Boulangerie de l'Ile
A21: =IF(ISBLANK('J ACHATS 08 19'!B22),"",'J ACHATS 08 19'!B22) -> 43695 | B21: =IF(ISBLANK('J ACHATS 08 19'!C22),"",'J ACHATS 08 19'!C22) -> 123457 | C21: =IF(ISBLANK('J ACHATS 08 19'!D22),"",'J ACHATS 08 19'!D22) -> Le martin pecheur 18 | D21: =IF(ISBLANK('J ACHATS 08 19'!E22),"",'J ACHATS 08 19'!E22) -> 117 | L21: BPSAT(boulagerie PAUL)
A22: =IF(ISBLANK('J ACHATS 08 19'!B23),"",'J ACHATS 08 19'!B23) | B22: =IF(ISBLANK('J ACHATS 08 19'!C23),"",'J ACHATS 08 19'!C23) | C22: =IF(ISBLANK('J ACHATS 08 19'!D23),"",'J ACHATS 08 19'!D23) | D22: =IF(ISBLANK('J ACHATS 08 19'!E23),"",'J ACHATS 08 19'!E23) | L22: BRACELETS EVENEMENTIELS
... A102: =IF(ISBLANK('J ACHATS 08 19'!B103),"",'J ACHATS 08 19'!B103) | B102: =IF(ISBLANK('J ACHATS 08 19'!C103),"",'J ACHATS 08 19'!C103) | C102: =IF(ISBLANK('J ACHATS 08 19'!D103),"",'J ACHATS 08 19'!D103) | D102: =IF(ISBLANK('J ACHATS 08 19'!E103),"",'J ACHATS 08 19'!E103) | L102: ZEOP ENTREPRISE
A103: =IF(ISBLANK('J ACHATS 08 19'!B104),"",'J ACHATS 08 19'!B104) | B103: =IF(ISBLANK('J ACHATS 08 19'!C104),"",'J ACHATS 08 19'!C104) | C103: =IF(ISBLANK('J ACHATS 08 19'!D104),"",'J ACHATS 08 19'!D104) | D103: =IF(ISBLANK('J ACHATS 08 19'!E104),"",'J ACHATS 08 19'!E104)
A104: =IF(ISBLANK('J ACHATS 08 19'!B105),"",'J ACHATS 08 19'!B105) | B104: =IF(ISBLANK('J ACHATS 08 19'!C105),"",'J ACHATS 08 19'!C105) | C104: =IF(ISBLANK('J ACHATS 08 19'!D105),"",'J ACHATS 08 19'!D105) | D104: =IF(ISBLANK('J ACHATS 08 19'!E105),"",'J ACHATS 08 19'!E105)
A105: =IF(ISBLANK('J ACHATS 08 19'!B106),"",'J ACHATS 08 19'!B106) | B105: =IF(ISBLANK('J ACHATS 08 19'!C106),"",'J ACHATS 08 19'!C106) | C105: =IF(ISBLANK('J ACHATS 08 19'!D106),"",'J ACHATS 08 19'!D106) | D105: =IF(ISBLANK('J ACHATS 08 19'!E106),"",'J ACHATS 08 19'!E106)
A106: =IF(ISBLANK('J ACHATS 08 19'!B107),"",'J ACHATS 08 19'!B107) | B106: =IF(ISBLANK('J ACHATS 08 19'!C107),"",'J ACHATS 08 19'!C107) | C106: =IF(ISBLANK('J ACHATS 08 19'!D107),"",'J ACHATS 08 19'!D107) | D106: =IF(ISBLANK('J ACHATS 08 19'!E107),"",'J ACHATS 08 19'!E107)
A107: =IF(ISBLANK('J ACHATS 08 19'!B108),"",'J ACHATS 08 19'!B108) | B107: =IF(ISBLANK('J ACHATS 08 19'!C108),"",'J ACHATS 08 19'!C108) | C107: =IF(ISBLANK('J ACHATS 08 19'!D108),"",'J ACHATS 08 19'!D108) | D107: =IF(ISBLANK('J ACHATS 08 19'!E108),"",'J ACHATS 08 19'!E108)
A108: =IF(ISBLANK('J ACHATS 08 19'!B109),"",'J ACHATS 08 19'!B109) | B108: =IF(ISBLANK('J ACHATS 08 19'!C109),"",'J ACHATS 08 19'!C109) | C108: =IF(ISBLANK('J ACHATS 08 19'!D109),"",'J ACHATS 08 19'!D109) | D108: =IF(ISBLANK('J ACHATS 08 19'!E109),"",'J ACHATS 08 19'!E109)
A109: =IF(ISBLANK('J ACHATS 08 19'!B110),"",'J ACHATS 08 19'!B110) | B109: =IF(ISBLANK('J ACHATS 08 19'!C110),"",'J ACHATS 08 19'!C110) | C109: =IF(ISBLANK('J ACHATS 08 19'!D110),"",'J ACHATS 08 19'!D110) | D109: =IF(ISBLANK('J ACHATS 08 19'!E110),"",'J ACHATS 08 19'!E110)
A110: =IF(ISBLANK('J ACHATS 08 19'!B111),"",'J ACHATS 08 19'!B111) | B110: =IF(ISBLANK('J ACHATS 08 19'!C111),"",'J ACHATS 08 19'!C111) | C110: =IF(ISBLANK('J ACHATS 08 19'!D111),"",'J ACHATS 08 19'!D111) | D110: =IF(ISBLANK('J ACHATS 08 19'!E111),"",'J ACHATS 08 19'!E111)
A111: =IF(ISBLANK('J ACHATS 08 19'!B112),"",'J ACHATS 08 19'!B112) | B111: =IF(ISBLANK('J ACHATS 08 19'!C112),"",'J ACHATS 08 19'!C112) | C111: =IF(ISBLANK('J ACHATS 08 19'!D112),"",'J ACHATS 08 19'!D112) | D111: =IF(ISBLANK('J ACHATS 08 19'!E112),"",'J ACHATS 08 19'!E112)
A112: =IF(ISBLANK('J ACHATS 08 19'!B113),"",'J ACHATS 08 19'!B113) | B112: =IF(ISBLANK('J ACHATS 08 19'!C113),"",'J ACHATS 08 19'!C113) | C112: =IF(ISBLANK('J ACHATS 08 19'!D113),"",'J ACHATS 08 19'!D113) | D112: =IF(ISBLANK('J ACHATS 08 19'!E113),"",'J ACHATS 08 19'!E113)
A113: =IF(ISBLANK('J ACHATS 08 19'!B114),"",'J ACHATS 08 19'!B114) | B113: =IF(ISBLANK('J ACHATS 08 19'!C114),"",'J ACHATS 08 19'!C114) | C113: =IF(ISBLANK('J ACHATS 08 19'!D114),"",'J ACHATS 08 19'!D114) | D113: =IF(ISBLANK('J ACHATS 08 19'!E114),"",'J ACHATS 08 19'!E114)
A114: =IF(ISBLANK('J ACHATS 08 19'!B115),"",'J ACHATS 08 19'!B115) | B114: =IF(ISBLANK('J ACHATS 08 19'!C115),"",'J ACHATS 08 19'!C115) | C114: =IF(ISBLANK('J ACHATS 08 19'!D115),"",'J ACHATS 08 19'!D115) | D114: =IF(ISBLANK('J ACHATS 08 19'!E115),"",'J ACHATS 08 19'!E115)
... A135: =IF(ISBLANK('J ACHATS 08 19'!B136),"",'J ACHATS 08 19'!B136) | B135: =IF(ISBLANK('J ACHATS 08 19'!C136),"",'J ACHATS 08 19'!C136) | C135: =IF(ISBLANK('J ACHATS 08 19'!D136),"",'J ACHATS 08 19'!D136) | D135: =IF(ISBLANK('J ACHATS 08 19'!E136),"",'J ACHATS 08 19'!E136)
