Workbook

Sheet Feuil1
F3: Une aide à la saisie est disponible sous forme de commentaire masqué pour la plupart des cellules de responsabilité Opérateur (Fond Orange) . Exemple : Cellule B30 pour le remplissage des alvéoles | J3: 0
J4: 0
J5: 0 | N5: verifié
A6: Référence Orange de la Commande ferme d'Accès | J6: 0 | N6: Manque info | CL6: Non;Commande Amont PM; Première commande Aval PM (câble mixte); Première commande Aval PM (câble dédié); Commande Aval PM suivante (câble mixte); Commande Aval PM suivante (câble dédié)
J7: 0 | N7: Non posé | AW7: Longueur Total Tube 6/8 | BB7: Longueur Total Tube 8/10 | BG7: Longueur Total Tube 11/14 | BL7: Longueur Total Tube 13/16 | BQ7: Longueur Total Tube 15/18 | BV7: Longueur Total Tube 16/20 | CA7: Longueur Total Tube 21/25 | CF7: Longueur Total Tube 27/32 | CL7: blocage devis
CL8: Première commande Aval PM (câble mixte) | CN8: Première commande Aval PM (câble dédié)
T9: Colonne V | U9: Colonne W | V9: Colonne X | W9: Colonne Y | X9: Colonne Z | Y9: Colonne AA | Z9: Colonne AB | AI9: 8 | CN9: 1 | CO9: 1
B10: Alvéoles choisis dans la chambre A | C10: Identification Chambre A ou de l'Appui Aérien A | E10: Identification Chambre B ou de l'Appui Aérien B | G10: Etat des alvéoles ou des Portées | K10: Optimisation du GC | N10: Câbles opérateurs | O10: Commentaires Opérateur | Y10: pour macro Nombre de chambres | AI10: 8.5 | CO10: =AND(CN9:CO9) -> TRUE
A11: Numéros de Prestation | B11: Alvéole choisi entre 2 chambres Orange ou entre une chambre Orange et un immeuble ou utilisation de portée aérienne (remplir 1 ligne par câble à installer) | C11: Type : Chambre Orange = C, Appui Orange = A, Potelet Orange = P, Immeuble = IMB, Façade = F, Chambre Tiers = CT, Appui tiers = AT, Potelet Tiers = PT | D11: Numéro chambre ou de poteau ou de Potelet (code INSEE/N° chambre ou code INSEE/ N° de poteau ou code INSEE/ N° de Potelet) | E11: Type : Chambre Orange = C, Appui Orange = A, Potelet Orange = P, Immeuble = IMB, Façade = F, Chambre Tiers = CT, Appui tiers = AT, Potelet Tiers = PT | F11: Numéro chambre ou de poteau ou de Potelet (code INSEE/N° chambre ou code INSEE/N° de poteau ou code INSEE/ N° de Potelet) | G11: Longueur du tronçon ou de la portée en domaine public (m) | H11: Diamètre de l'alvéole prévue d'être utilisée par l'opérateur (mm) | I11: Tubage rigide pour convenance | J11: Diamètre du tube à installer (mm) | K11: Diamètre du câble à poser (mm) | L11: Commentaires opérateur | M11: Percement de la chambre A ou remplacement ou renforcement de l'appui aérien A | N11: Percement de la chambre B ou remplacement ou renforcement de l'appui aérien B | O11: Installation de manchons ou PEO ou PMSB ou PB : chambre ou appui aérien (A ou B) | P11: Refus de la réservation | T11: Liste Chambre A | U11: Liste Chambre B | W11: pour compter les KIT | X11: pour oter les chambres IMB | Y11: 0 | Z11: Pour facturation | AI11: 9 | CL11: =SUM(CL12:CM28) -> #REF! | CO11: =AND(CO12:CO28) -> TRUE | CP11: =AND(CP12:CP28) -> #VALUE!
C12: A | D12: 755554 | E12: A | F12: 755535 | G12: =INDIRECT("Feuil2!H"&MATCH("*"&D12&"*"&F12,Feuil2!G:G,0)) -> 50 | T12: C_13102/370 | U12: C_13102/310 | Z12: P | AI12: 9.5 | AW12: 0 | AX12: 0 | AY12: 0 | AZ12: 0 | BA12: 0 | BB12: 0 | BC12: 0 | BD12: 0 | BE12: 0 | BF12: 0 | BG12: 0 | BH12: 0 | BI12: 0 | BJ12: 0 | BK12: 0 | BL12: 0 | BM12: 0 | BN12: 0 | BO12: 0 | BP12: 0 | BQ12: 0 | BR12: 0 | BS12: 0 | BT12: 0 | BU12: 0 | BV12: 0 | BW12: 0 | BX12: 0 | BY12: 0 | BZ12: 0 | CA12: =IF(AND($M12=#REF!,$L12=1,$K12="Oui Tubage Rigide"),$G12,0) -> #REF! | CB12: =IF(AND($M12=#REF!,$L12=2,$K12="Oui Tubage Rigide"),$G12,0) -> #REF! | CC12: =IF(AND($M12=#REF!,$L12=3,$K12="Oui Tubage Rigide"),$G12,0) -> #REF! | CD12: =IF(AND($M12=#REF!,$L12=4,$K12="Oui Tubage Rigide"),$G12,0) -> #REF! | CE12: =IF(AND($M12=#REF!,$L12=5,$K12="Oui Tubage Rigide"),$G12,0) -> #REF! | CF12: =IF(AND($M12=#REF!,$L12=1,$K12="Oui Tubage Rigide"),$G12,0) -> #REF! | CG12: =IF(AND($M12=#REF!,$L12=2,$K12="Oui Tubage Rigide"),$G12,0) -> #REF! | CH12: =IF(AND($M12=#REF!,$L12=3,$K12="Oui Tubage Rigide"),$G12,0) -> #REF! | CI12: =IF(AND($M12=#REF!,$L12=4,$K12="Oui Tubage Rigide"),$G12,0) -> #REF! | CJ12: =IF(AND($M12=#REF!,$L12=5,$K12="Oui Tubage Rigide"),$G12,0) -> #REF! | CL12: =IF(#REF!= "",0,IF(OR(EXACT(#REF!,#REF!),(EXACT(#REF!,#REF!))),1,0)) -> #REF! | CM12: =IF(#REF!= "",0,IF(OR(EXACT(#REF!,#REF!),(EXACT(#REF!,#REF!))),1,0)) -> #REF! | CO12: =IF(G12="","",ISNUMBER(G12)) -> TRUE | CP12: =IF(N12="","",ISNUMBER(N12))
C13: A | D13: 755535 | E13: A | F13: 755536 | G13: =INDIRECT("Feuil2!H"&MATCH("*"&D13&"*"&F13,Feuil2!G:G,0)) -> 30 | T13: C_13102/310 | U13: C_13102/308 | Z13: P | AI13: 10 | AW13: 0 | AX13: 0 | AY13: 0 | AZ13: 0 | BA13: 0 | BB13: 0 | BC13: 0 | BD13: 0 | BE13: 0 | BF13: 0 | BG13: 0 | BH13: 0 | BI13: 0 | BJ13: 0 | BK13: 0 | BL13: 0 | BM13: 0 | BN13: 0 | BO13: 0 | BP13: 0 | BQ13: 0 | BR13: 0 | BS13: 0 | BT13: 0 | BU13: 0 | BV13: 0 | BW13: 0 | BX13: 0 | BY13: 0 | BZ13: 0 | CA13: =IF(AND($M13=#REF!,$L13=1,$K13="Oui Tubage Rigide"),$G13,0) -> #REF! | CB13: =IF(AND($M13=#REF!,$L13=2,$K13="Oui Tubage Rigide"),$G13,0) -> #REF! | CC13: =IF(AND($M13=#REF!,$L13=3,$K13="Oui Tubage Rigide"),$G13,0) -> #REF! | CD13: =IF(AND($M13=#REF!,$L13=4,$K13="Oui Tubage Rigide"),$G13,0) -> #REF! | CE13: =IF(AND($M13=#REF!,$L13=5,$K13="Oui Tubage Rigide"),$G13,0) -> #REF! | CF13: =IF(AND($M13=#REF!,$L13=1,$K13="Oui Tubage Rigide"),$G13,0) -> #REF! | CG13: =IF(AND($M13=#REF!,$L13=2,$K13="Oui Tubage Rigide"),$G13,0) -> #REF! | CH13: =IF(AND($M13=#REF!,$L13=3,$K13="Oui Tubage Rigide"),$G13,0) -> #REF! | CI13: =IF(AND($M13=#REF!,$L13=4,$K13="Oui Tubage Rigide"),$G13,0) -> #REF! | CJ13: =IF(AND($M13=#REF!,$L13=5,$K13="Oui Tubage Rigide"),$G13,0) -> #REF! | CL13: =IF(#REF!= "",0,IF(OR(EXACT(#REF!,#REF!),(EXACT(#REF!,#REF!))),1,0)) -> #REF! | CM13: =IF(#REF!= "",0,IF(OR(EXACT(#REF!,#REF!),(EXACT(#REF!,#REF!))),1,0)) -> #REF! | CO13: =IF(G13="","",ISNUMBER(G13)) -> TRUE | CP13: =IF(N13="","",ISNUMBER(N13))
C14: A | D14: 755536 | E14: A | F14: 755537 | G14: =INDIRECT("Feuil2!H"&MATCH("*"&D14&"*"&F14,Feuil2!G:G,0)) -> 125 | T14: C_13102/308 | U14: C_13102/295 | Z14: P | AI14: 10.5 | AW14: 0 | AX14: 0 | AY14: 0 | AZ14: 0 | BA14: 0 | BB14: 0 | BC14: 0 | BD14: 0 | BE14: 0 | BF14: 0 | BG14: 0 | BH14: 0 | BI14: 0 | BJ14: 0 | BK14: 0 | BL14: 0 | BM14: 0 | BN14: 0 | BO14: 0 | BP14: 0 | BQ14: 0 | BR14: 0 | BS14: 0 | BT14: 0 | BU14: 0 | BV14: 0 | BW14: 0 | BX14: 0 | BY14: 0 | BZ14: 0 | CA14: =IF(AND($M14=#REF!,$L14=1,$K14="Oui Tubage Rigide"),$G14,0) -> #REF! | CB14: =IF(AND($M14=#REF!,$L14=2,$K14="Oui Tubage Rigide"),$G14,0) -> #REF! | CC14: =IF(AND($M14=#REF!,$L14=3,$K14="Oui Tubage Rigide"),$G14,0) -> #REF! | CD14: =IF(AND($M14=#REF!,$L14=4,$K14="Oui Tubage Rigide"),$G14,0) -> #REF! | CE14: =IF(AND($M14=#REF!,$L14=5,$K14="Oui Tubage Rigide"),$G14,0) -> #REF! | CF14: =IF(AND($M14=#REF!,$L14=1,$K14="Oui Tubage Rigide"),$G14,0) -> #REF! | CG14: =IF(AND($M14=#REF!,$L14=2,$K14="Oui Tubage Rigide"),$G14,0) -> #REF! | CH14: =IF(AND($M14=#REF!,$L14=3,$K14="Oui Tubage Rigide"),$G14,0) -> #REF! | CI14: =IF(AND($M14=#REF!,$L14=4,$K14="Oui Tubage Rigide"),$G14,0) -> #REF! | CJ14: =IF(AND($M14=#REF!,$L14=5,$K14="Oui Tubage Rigide"),$G14,0) -> #REF! | CL14: =IF(#REF!= "",0,IF(OR(EXACT(#REF!,#REF!),(EXACT(#REF!,#REF!))),1,0)) -> #REF! | CM14: =IF(#REF!= "",0,IF(OR(EXACT(#REF!,#REF!),(EXACT(#REF!,#REF!))),1,0)) -> #REF! | CO14: =IF(G14="","",ISNUMBER(G14)) -> TRUE | CP14: =IF(N14="","",ISNUMBER(N14))
C15: A | D15: 755536 | E15: A | F15: 755535 | G15: =INDIRECT("Feuil2!H"&MATCH("*"&D15&"*"&F15,Feuil2!G:G,0)) -> 10 | T15: C_13102/295 | U15: C_13102/296 | Z15: P | AI15: 11 | AW15: 0 | AX15: 0 | AY15: 0 | AZ15: 0 | BA15: 0 | BB15: 0 | BC15: 0 | BD15: 0 | BE15: 0 | BF15: 0 | BG15: 0 | BH15: 0 | BI15: 0 | BJ15: 0 | BK15: 0 | BL15: 0 | BM15: 0 | BN15: 0 | BO15: 0 | BP15: 0 | BQ15: 0 | BR15: 0 | BS15: 0 | BT15: 0 | BU15: 0 | BV15: 0 | BW15: 0 | BX15: 0 | BY15: 0 | BZ15: 0 | CA15: =IF(AND($M15=#REF!,$L15=1,$K15="Oui Tubage Rigide"),$G15,0) -> #REF! | CB15: =IF(AND($M15=#REF!,$L15=2,$K15="Oui Tubage Rigide"),$G15,0) -> #REF! | CC15: =IF(AND($M15=#REF!,$L15=3,$K15="Oui Tubage Rigide"),$G15,0) -> #REF! | CD15: =IF(AND($M15=#REF!,$L15=4,$K15="Oui Tubage Rigide"),$G15,0) -> #REF! | CE15: =IF(AND($M15=#REF!,$L15=5,$K15="Oui Tubage Rigide"),$G15,0) -> #REF! | CF15: =IF(AND($M15=#REF!,$L15=1,$K15="Oui Tubage Rigide"),$G15,0) -> #REF! | CG15: =IF(AND($M15=#REF!,$L15=2,$K15="Oui Tubage Rigide"),$G15,0) -> #REF! | CH15: =IF(AND($M15=#REF!,$L15=3,$K15="Oui Tubage Rigide"),$G15,0) -> #REF! | CI15: =IF(AND($M15=#REF!,$L15=4,$K15="Oui Tubage Rigide"),$G15,0) -> #REF! | CJ15: =IF(AND($M15=#REF!,$L15=5,$K15="Oui Tubage Rigide"),$G15,0) -> #REF! | CL15: =IF(#REF!= "",0,IF(OR(EXACT(#REF!,#REF!),(EXACT(#REF!,#REF!))),1,0)) -> #REF! | CM15: =IF(#REF!= "",0,IF(OR(EXACT(#REF!,#REF!),(EXACT(#REF!,#REF!))),1,0)) -> #REF! | CO15: =IF(G15="","",ISNUMBER(G15)) -> TRUE | CP15: =IF(N15="","",ISNUMBER(N15))
C16: A | E16: A | T16: C_13102/296 | U16: C_13102/294 | Z16: P | AI16: 11.5 | AW16: 0 | AX16: 0 | AY16: 0 | AZ16: 0 | BA16: 0 | BB16: 0 | BC16: 0 | BD16: 0 | BE16: 0 | BF16: 0 | BG16: 0 | BH16: 0 | BI16: 0 | BJ16: 0 | BK16: 0 | BL16: 0 | BM16: 0 | BN16: 0 | BO16: 0 | BP16: 0 | BQ16: 0 | BR16: 0 | BS16: 0 | BT16: 0 | BU16: 0 | BV16: 0 | BW16: 0 | BX16: 0 | BY16: 0 | BZ16: 0 | CA16: =IF(AND($M16=#REF!,$L16=1,$K16="Oui Tubage Rigide"),$G16,0) -> #REF! | CB16: =IF(AND($M16=#REF!,$L16=2,$K16="Oui Tubage Rigide"),$G16,0) -> #REF! | CC16: =IF(AND($M16=#REF!,$L16=3,$K16="Oui Tubage Rigide"),$G16,0) -> #REF! | CD16: =IF(AND($M16=#REF!,$L16=4,$K16="Oui Tubage Rigide"),$G16,0) -> #REF! | CE16: =IF(AND($M16=#REF!,$L16=5,$K16="Oui Tubage Rigide"),$G16,0) -> #REF! | CF16: =IF(AND($M16=#REF!,$L16=1,$K16="Oui Tubage Rigide"),$G16,0) -> #REF! | CG16: =IF(AND($M16=#REF!,$L16=2,$K16="Oui Tubage Rigide"),$G16,0) -> #REF! | CH16: =IF(AND($M16=#REF!,$L16=3,$K16="Oui Tubage Rigide"),$G16,0) -> #REF! | CI16: =IF(AND($M16=#REF!,$L16=4,$K16="Oui Tubage Rigide"),$G16,0) -> #REF! | CJ16: =IF(AND($M16=#REF!,$L16=5,$K16="Oui Tubage Rigide"),$G16,0) -> #REF! | CL16: =IF(#REF!= "",0,IF(OR(EXACT(#REF!,#REF!),(EXACT(#REF!,#REF!))),1,0)) -> #REF! | CM16: =IF(#REF!= "",0,IF(OR(EXACT(#REF!,#REF!),(EXACT(#REF!,#REF!))),1,0)) -> #REF! | CO16: =IF(G16="","",ISNUMBER(G16)) | CP16: =IF(N16="","",ISNUMBER(N16))
C17: A | E17: A | T17: C_13102/294 | U17: C_13102/292 | Z17: P | AI17: 12 | AW17: 0 | AX17: 0 | AY17: 0 | AZ17: 0 | BA17: 0 | BB17: 0 | BC17: 0 | BD17: 0 | BE17: 0 | BF17: 0 | BG17: 0 | BH17: 0 | BI17: 0 | BJ17: 0 | BK17: 0 | BL17: 0 | BM17: 0 | BN17: 0 | BO17: 0 | BP17: 0 | BQ17: 0 | BR17: 0 | BS17: 0 | BT17: 0 | BU17: 0 | BV17: 0 | BW17: 0 | BX17: 0 | BY17: 0 | BZ17: 0 | CA17: =IF(AND($M17=#REF!,$L17=1,$K17="Oui Tubage Rigide"),$G17,0) -> #REF! | CB17: =IF(AND($M17=#REF!,$L17=2,$K17="Oui Tubage Rigide"),$G17,0) -> #REF! | CC17: =IF(AND($M17=#REF!,$L17=3,$K17="Oui Tubage Rigide"),$G17,0) -> #REF! | CD17: =IF(AND($M17=#REF!,$L17=4,$K17="Oui Tubage Rigide"),$G17,0) -> #REF! | CE17: =IF(AND($M17=#REF!,$L17=5,$K17="Oui Tubage Rigide"),$G17,0) -> #REF! | CF17: =IF(AND($M17=#REF!,$L17=1,$K17="Oui Tubage Rigide"),$G17,0) -> #REF! | CG17: =IF(AND($M17=#REF!,$L17=2,$K17="Oui Tubage Rigide"),$G17,0) -> #REF! | CH17: =IF(AND($M17=#REF!,$L17=3,$K17="Oui Tubage Rigide"),$G17,0) -> #REF! | CI17: =IF(AND($M17=#REF!,$L17=4,$K17="Oui Tubage Rigide"),$G17,0) -> #REF! | CJ17: =IF(AND($M17=#REF!,$L17=5,$K17="Oui Tubage Rigide"),$G17,0) -> #REF! | CL17: =IF(#REF!= "",0,IF(OR(EXACT(#REF!,#REF!),(EXACT(#REF!,#REF!))),1,0)) -> #REF! | CM17: =IF(#REF!= "",0,IF(OR(EXACT(#REF!,#REF!),(EXACT(#REF!,#REF!))),1,0)) -> #REF! | CO17: =IF(G17="","",ISNUMBER(G17)) | CP17: =IF(N17="","",ISNUMBER(N17))
C18: A | E18: A | T18: C_13102/292 | U18: C_13102/1043 | Z18: P | AI18: 12.5 | AW18: 0 | AX18: 0 | AY18: 0 | AZ18: 0 | BA18: 0 | BB18: 0 | BC18: 0 | BD18: 0 | BE18: 0 | BF18: 0 | BG18: 0 | BH18: 0 | BI18: 0 | BJ18: 0 | BK18: 0 | BL18: 0 | BM18: 0 | BN18: 0 | BO18: 0 | BP18: 0 | BQ18: 0 | BR18: 0 | BS18: 0 | BT18: 0 | BU18: 0 | BV18: 0 | BW18: 0 | BX18: 0 | BY18: 0 | BZ18: 0 | CA18: =IF(AND($M18=#REF!,$L18=1,$K18="Oui Tubage Rigide"),$G18,0) -> #REF! | CB18: =IF(AND($M18=#REF!,$L18=2,$K18="Oui Tubage Rigide"),$G18,0) -> #REF! | CC18: =IF(AND($M18=#REF!,$L18=3,$K18="Oui Tubage Rigide"),$G18,0) -> #REF! | CD18: =IF(AND($M18=#REF!,$L18=4,$K18="Oui Tubage Rigide"),$G18,0) -> #REF! | CE18: =IF(AND($M18=#REF!,$L18=5,$K18="Oui Tubage Rigide"),$G18,0) -> #REF! | CF18: =IF(AND($M18=#REF!,$L18=1,$K18="Oui Tubage Rigide"),$G18,0) -> #REF! | CG18: =IF(AND($M18=#REF!,$L18=2,$K18="Oui Tubage Rigide"),$G18,0) -> #REF! | CH18: =IF(AND($M18=#REF!,$L18=3,$K18="Oui Tubage Rigide"),$G18,0) -> #REF! | CI18: =IF(AND($M18=#REF!,$L18=4,$K18="Oui Tubage Rigide"),$G18,0) -> #REF! | CJ18: =IF(AND($M18=#REF!,$L18=5,$K18="Oui Tubage Rigide"),$G18,0) -> #REF! | CL18: =IF(#REF!= "",0,IF(OR(EXACT(#REF!,#REF!),(EXACT(#REF!,#REF!))),1,0)) -> #REF! | CM18: =IF(#REF!= "",0,IF(OR(EXACT(#REF!,#REF!),(EXACT(#REF!,#REF!))),1,0)) -> #REF! | CO18: =IF(G18="","",ISNUMBER(G18)) | CP18: =IF(N18="","",ISNUMBER(N18))
C19: A | E19: A | T19: C_13102/1043 | U19: C_13102/282 | Z19: P | AI19: 13 | AW19: 0 | AX19: 0 | AY19: 0 | AZ19: 0 | BA19: 0 | BB19: 0 | BC19: 0 | BD19: 0 | BE19: 0 | BF19: 0 | BG19: 0 | BH19: 0 | BI19: 0 | BJ19: 0 | BK19: 0 | BL19: 0 | BM19: 0 | BN19: 0 | BO19: 0 | BP19: 0 | BQ19: 0 | BR19: 0 | BS19: 0 | BT19: 0 | BU19: 0 | BV19: 0 | BW19: 0 | BX19: 0 | BY19: 0 | BZ19: 0 | CA19: =IF(AND($M19=#REF!,$L19=1,$K19="Oui Tubage Rigide"),$G19,0) -> #REF! | CB19: =IF(AND($M19=#REF!,$L19=2,$K19="Oui Tubage Rigide"),$G19,0) -> #REF! | CC19: =IF(AND($M19=#REF!,$L19=3,$K19="Oui Tubage Rigide"),$G19,0) -> #REF! | CD19: =IF(AND($M19=#REF!,$L19=4,$K19="Oui Tubage Rigide"),$G19,0) -> #REF! | CE19: =IF(AND($M19=#REF!,$L19=5,$K19="Oui Tubage Rigide"),$G19,0) -> #REF! | CF19: =IF(AND($M19=#REF!,$L19=1,$K19="Oui Tubage Rigide"),$G19,0) -> #REF! | CG19: =IF(AND($M19=#REF!,$L19=2,$K19="Oui Tubage Rigide"),$G19,0) -> #REF! | CH19: =IF(AND($M19=#REF!,$L19=3,$K19="Oui Tubage Rigide"),$G19,0) -> #REF! | CI19: =IF(AND($M19=#REF!,$L19=4,$K19="Oui Tubage Rigide"),$G19,0) -> #REF! | CJ19: =IF(AND($M19=#REF!,$L19=5,$K19="Oui Tubage Rigide"),$G19,0) -> #REF! | CL19: =IF(#REF!= "",0,IF(OR(EXACT(#REF!,#REF!),(EXACT(#REF!,#REF!))),1,0)) -> #REF! | CM19: =IF(#REF!= "",0,IF(OR(EXACT(#REF!,#REF!),(EXACT(#REF!,#REF!))),1,0)) -> #REF! | CO19: =IF(G19="","",ISNUMBER(G19)) | CP19: =IF(N19="","",ISNUMBER(N19))
C20: A | E20: A | T20: C_13102/282 | U20: C_13102/280 | Z20: P | AI20: 13.5 | AW20: 0 | AX20: 0 | AY20: 0 | AZ20: 0 | BA20: 0 | BB20: 0 | BC20: 0 | BD20: 0 | BE20: 0 | BF20: 0 | BG20: 0 | BH20: 0 | BI20: 0 | BJ20: 0 | BK20: 0 | BL20: 0 | BM20: 0 | BN20: 0 | BO20: 0 | BP20: 0 | BQ20: 0 | BR20: 0 | BS20: 0 | BT20: 0 | BU20: 0 | BV20: 0 | BW20: 0 | BX20: 0 | BY20: 0 | BZ20: 0 | CA20: =IF(AND($M20=#REF!,$L20=1,$K20="Oui Tubage Rigide"),$G20,0) -> #REF! | CB20: =IF(AND($M20=#REF!,$L20=2,$K20="Oui Tubage Rigide"),$G20,0) -> #REF! | CC20: =IF(AND($M20=#REF!,$L20=3,$K20="Oui Tubage Rigide"),$G20,0) -> #REF! | CD20: =IF(AND($M20=#REF!,$L20=4,$K20="Oui Tubage Rigide"),$G20,0) -> #REF! | CE20: =IF(AND($M20=#REF!,$L20=5,$K20="Oui Tubage Rigide"),$G20,0) -> #REF! | CF20: =IF(AND($M20=#REF!,$L20=1,$K20="Oui Tubage Rigide"),$G20,0) -> #REF! | CG20: =IF(AND($M20=#REF!,$L20=2,$K20="Oui Tubage Rigide"),$G20,0) -> #REF! | CH20: =IF(AND($M20=#REF!,$L20=3,$K20="Oui Tubage Rigide"),$G20,0) -> #REF! | CI20: =IF(AND($M20=#REF!,$L20=4,$K20="Oui Tubage Rigide"),$G20,0) -> #REF! | CJ20: =IF(AND($M20=#REF!,$L20=5,$K20="Oui Tubage Rigide"),$G20,0) -> #REF! | CL20: =IF(#REF!= "",0,IF(OR(EXACT(#REF!,#REF!),(EXACT(#REF!,#REF!))),1,0)) -> #REF! | CM20: =IF(#REF!= "",0,IF(OR(EXACT(#REF!,#REF!),(EXACT(#REF!,#REF!))),1,0)) -> #REF! | CO20: =IF(G20="","",ISNUMBER(G20)) | CP20: =IF(N20="","",ISNUMBER(N20))
C21: A | E21: A | T21: C_13102/280 | U21: C_13102/283 | Z21: P | AI21: 14 | AW21: 0 | AX21: 0 | AY21: 0 | AZ21: 0 | BA21: 0 | BB21: 0 | BC21: 0 | BD21: 0 | BE21: 0 | BF21: 0 | BG21: 0 | BH21: 0 | BI21: 0 | BJ21: 0 | BK21: 0 | BL21: 0 | BM21: 0 | BN21: 0 | BO21: 0 | BP21: 0 | BQ21: 0 | BR21: 0 | BS21: 0 | BT21: 0 | BU21: 0 | BV21: 0 | BW21: 0 | BX21: 0 | BY21: 0 | BZ21: 0 | CA21: =IF(AND($M21=#REF!,$L21=1,$K21="Oui Tubage Rigide"),$G21,0) -> #REF! | CB21: =IF(AND($M21=#REF!,$L21=2,$K21="Oui Tubage Rigide"),$G21,0) -> #REF! | CC21: =IF(AND($M21=#REF!,$L21=3,$K21="Oui Tubage Rigide"),$G21,0) -> #REF! | CD21: =IF(AND($M21=#REF!,$L21=4,$K21="Oui Tubage Rigide"),$G21,0) -> #REF! | CE21: =IF(AND($M21=#REF!,$L21=5,$K21="Oui Tubage Rigide"),$G21,0) -> #REF! | CF21: =IF(AND($M21=#REF!,$L21=1,$K21="Oui Tubage Rigide"),$G21,0) -> #REF! | CG21: =IF(AND($M21=#REF!,$L21=2,$K21="Oui Tubage Rigide"),$G21,0) -> #REF! | CH21: =IF(AND($M21=#REF!,$L21=3,$K21="Oui Tubage Rigide"),$G21,0) -> #REF! | CI21: =IF(AND($M21=#REF!,$L21=4,$K21="Oui Tubage Rigide"),$G21,0) -> #REF! | CJ21: =IF(AND($M21=#REF!,$L21=5,$K21="Oui Tubage Rigide"),$G21,0) -> #REF! | CL21: =IF(#REF!= "",0,IF(OR(EXACT(#REF!,#REF!),(EXACT(#REF!,#REF!))),1,0)) -> #REF! | CM21: =IF(#REF!= "",0,IF(OR(EXACT(#REF!,#REF!),(EXACT(#REF!,#REF!))),1,0)) -> #REF! | CO21: =IF(G21="","",ISNUMBER(G21)) | CP21: =IF(N21="","",ISNUMBER(N21))
C22: A | E22: A | T22: C_13102/283 | U22: C_13102/284 | Z22: P | AI22: 14.5 | AW22: 0 | AX22: 0 | AY22: 0 | AZ22: 0 | BA22: 0 | BB22: 0 | BC22: 0 | BD22: 0 | BE22: 0 | BF22: 0 | BG22: 0 | BH22: 0 | BI22: 0 | BJ22: 0 | BK22: 0 | BL22: 0 | BM22: 0 | BN22: 0 | BO22: 0 | BP22: 0 | BQ22: 0 | BR22: 0 | BS22: 0 | BT22: 0 | BU22: 0 | BV22: 0 | BW22: 0 | BX22: 0 | BY22: 0 | BZ22: 0 | CA22: =IF(AND($M22=#REF!,$L22=1,$K22="Oui Tubage Rigide"),$G22,0) -> #REF! | CB22: =IF(AND($M22=#REF!,$L22=2,$K22="Oui Tubage Rigide"),$G22,0) -> #REF! | CC22: =IF(AND($M22=#REF!,$L22=3,$K22="Oui Tubage Rigide"),$G22,0) -> #REF! | CD22: =IF(AND($M22=#REF!,$L22=4,$K22="Oui Tubage Rigide"),$G22,0) -> #REF! | CE22: =IF(AND($M22=#REF!,$L22=5,$K22="Oui Tubage Rigide"),$G22,0) -> #REF! | CF22: =IF(AND($M22=#REF!,$L22=1,$K22="Oui Tubage Rigide"),$G22,0) -> #REF! | CG22: =IF(AND($M22=#REF!,$L22=2,$K22="Oui Tubage Rigide"),$G22,0) -> #REF! | CH22: =IF(AND($M22=#REF!,$L22=3,$K22="Oui Tubage Rigide"),$G22,0) -> #REF! | CI22: =IF(AND($M22=#REF!,$L22=4,$K22="Oui Tubage Rigide"),$G22,0) -> #REF! | CJ22: =IF(AND($M22=#REF!,$L22=5,$K22="Oui Tubage Rigide"),$G22,0) -> #REF! | CL22: =IF(#REF!= "",0,IF(OR(EXACT(#REF!,#REF!),(EXACT(#REF!,#REF!))),1,0)) -> #REF! | CM22: =IF(#REF!= "",0,IF(OR(EXACT(#REF!,#REF!),(EXACT(#REF!,#REF!))),1,0)) -> #REF! | CO22: =IF(G22="","",ISNUMBER(G22)) | CP22: =IF(N22="","",ISNUMBER(N22))
C23: A | E23: A | T23: C_13102/284 | U23: C_13102/285 | Z23: P | AI23: 15 | AW23: 0 | AX23: 0 | AY23: 0 | AZ23: 0 | BA23: 0 | BB23: 0 | BC23: 0 | BD23: 0 | BE23: 0 | BF23: 0 | BG23: 0 | BH23: 0 | BI23: 0 | BJ23: 0 | BK23: 0 | BL23: 0 | BM23: 0 | BN23: 0 | BO23: 0 | BP23: 0 | BQ23: 0 | BR23: 0 | BS23: 0 | BT23: 0 | BU23: 0 | BV23: 0 | BW23: 0 | BX23: 0 | BY23: 0 | BZ23: 0 | CA23: =IF(AND($M23=#REF!,$L23=1,$K23="Oui Tubage Rigide"),$G23,0) -> #REF! | CB23: =IF(AND($M23=#REF!,$L23=2,$K23="Oui Tubage Rigide"),$G23,0) -> #REF! | CC23: =IF(AND($M23=#REF!,$L23=3,$K23="Oui Tubage Rigide"),$G23,0) -> #REF! | CD23: =IF(AND($M23=#REF!,$L23=4,$K23="Oui Tubage Rigide"),$G23,0) -> #REF! | CE23: =IF(AND($M23=#REF!,$L23=5,$K23="Oui Tubage Rigide"),$G23,0) -> #REF! | CF23: =IF(AND($M23=#REF!,$L23=1,$K23="Oui Tubage Rigide"),$G23,0) -> #REF! | CG23: =IF(AND($M23=#REF!,$L23=2,$K23="Oui Tubage Rigide"),$G23,0) -> #REF! | CH23: =IF(AND($M23=#REF!,$L23=3,$K23="Oui Tubage Rigide"),$G23,0) -> #REF! | CI23: =IF(AND($M23=#REF!,$L23=4,$K23="Oui Tubage Rigide"),$G23,0) -> #REF! | CJ23: =IF(AND($M23=#REF!,$L23=5,$K23="Oui Tubage Rigide"),$G23,0) -> #REF! | CL23: =IF(#REF!= "",0,IF(OR(EXACT(#REF!,#REF!),(EXACT(#REF!,#REF!))),1,0)) -> #REF! | CM23: =IF(#REF!= "",0,IF(OR(EXACT(#REF!,#REF!),(EXACT(#REF!,#REF!))),1,0)) -> #REF! | CO23: =IF(G23="","",ISNUMBER(G23)) | CP23: =IF(N23="","",ISNUMBER(N23))
C24: A | E24: A | T24: C_13102/285 | U24: C_13102/286 | Z24: P | AI24: 15.5 | AW24: 0 | AX24: 0 | AY24: 0 | AZ24: 0 | BA24: 0 | BB24: 0 | BC24: 0 | BD24: 0 | BE24: 0 | BF24: 0 | BG24: 0 | BH24: 0 | BI24: 0 | BJ24: 0 | BK24: 0 | BL24: 0 | BM24: 0 | BN24: 0 | BO24: 0 | BP24: 0 | BQ24: 0 | BR24: 0 | BS24: 0 | BT24: 0 | BU24: 0 | BV24: 0 | BW24: 0 | BX24: 0 | BY24: 0 | BZ24: 0 | CA24: =IF(AND($M24=#REF!,$L24=1,$K24="Oui Tubage Rigide"),$G24,0) -> #REF! | CB24: =IF(AND($M24=#REF!,$L24=2,$K24="Oui Tubage Rigide"),$G24,0) -> #REF! | CC24: =IF(AND($M24=#REF!,$L24=3,$K24="Oui Tubage Rigide"),$G24,0) -> #REF! | CD24: =IF(AND($M24=#REF!,$L24=4,$K24="Oui Tubage Rigide"),$G24,0) -> #REF! | CE24: =IF(AND($M24=#REF!,$L24=5,$K24="Oui Tubage Rigide"),$G24,0) -> #REF! | CF24: =IF(AND($M24=#REF!,$L24=1,$K24="Oui Tubage Rigide"),$G24,0) -> #REF! | CG24: =IF(AND($M24=#REF!,$L24=2,$K24="Oui Tubage Rigide"),$G24,0) -> #REF! | CH24: =IF(AND($M24=#REF!,$L24=3,$K24="Oui Tubage Rigide"),$G24,0) -> #REF! | CI24: =IF(AND($M24=#REF!,$L24=4,$K24="Oui Tubage Rigide"),$G24,0) -> #REF! | CJ24: =IF(AND($M24=#REF!,$L24=5,$K24="Oui Tubage Rigide"),$G24,0) -> #REF! | CL24: =IF(#REF!= "",0,IF(OR(EXACT(#REF!,#REF!),(EXACT(#REF!,#REF!))),1,0)) -> #REF! | CM24: =IF(#REF!= "",0,IF(OR(EXACT(#REF!,#REF!),(EXACT(#REF!,#REF!))),1,0)) -> #REF! | CO24: =IF(G24="","",ISNUMBER(G24)) | CP24: =IF(N24="","",ISNUMBER(N24))
C25: A | E25: A | T25: C_13102/286 | U25: C_13102/437 | Z25: P | AI25: 16 | AW25: 0 | AX25: 0 | AY25: 0 | AZ25: 0 | BA25: 0 | BB25: 0 | BC25: 0 | BD25: 0 | BE25: 0 | BF25: 0 | BG25: 0 | BH25: 0 | BI25: 0 | BJ25: 0 | BK25: 0 | BL25: 0 | BM25: 0 | BN25: 0 | BO25: 0 | BP25: 0 | BQ25: 0 | BR25: 0 | BS25: 0 | BT25: 0 | BU25: 0 | BV25: 0 | BW25: 0 | BX25: 0 | BY25: 0 | BZ25: 0 | CA25: =IF(AND($M25=#REF!,$L25=1,$K25="Oui Tubage Rigide"),$G25,0) -> #REF! | CB25: =IF(AND($M25=#REF!,$L25=2,$K25="Oui Tubage Rigide"),$G25,0) -> #REF! | CC25: =IF(AND($M25=#REF!,$L25=3,$K25="Oui Tubage Rigide"),$G25,0) -> #REF! | CD25: =IF(AND($M25=#REF!,$L25=4,$K25="Oui Tubage Rigide"),$G25,0) -> #REF! | CE25: =IF(AND($M25=#REF!,$L25=5,$K25="Oui Tubage Rigide"),$G25,0) -> #REF! | CF25: =IF(AND($M25=#REF!,$L25=1,$K25="Oui Tubage Rigide"),$G25,0) -> #REF! | CG25: =IF(AND($M25=#REF!,$L25=2,$K25="Oui Tubage Rigide"),$G25,0) -> #REF! | CH25: =IF(AND($M25=#REF!,$L25=3,$K25="Oui Tubage Rigide"),$G25,0) -> #REF! | CI25: =IF(AND($M25=#REF!,$L25=4,$K25="Oui Tubage Rigide"),$G25,0) -> #REF! | CJ25: =IF(AND($M25=#REF!,$L25=5,$K25="Oui Tubage Rigide"),$G25,0) -> #REF! | CL25: =IF(#REF!= "",0,IF(OR(EXACT(#REF!,#REF!),(EXACT(#REF!,#REF!))),1,0)) -> #REF! | CM25: =IF(#REF!= "",0,IF(OR(EXACT(#REF!,#REF!),(EXACT(#REF!,#REF!))),1,0)) -> #REF! | CO25: =IF(G25="","",ISNUMBER(G25)) | CP25: =IF(N25="","",ISNUMBER(N25))
C26: A | E26: A | T26: C_13102/437 | U26: C_13102/422 | Z26: P | AI26: 16.5 | AW26: 0 | AX26: 0 | AY26: 0 | AZ26: 0 | BA26: 0 | BB26: 0 | BC26: 0 | BD26: 0 | BE26: 0 | BF26: 0 | BG26: 0 | BH26: 0 | BI26: 0 | BJ26: 0 | BK26: 0 | BL26: 0 | BM26: 0 | BN26: 0 | BO26: 0 | BP26: 0 | BQ26: 0 | BR26: 0 | BS26: 0 | BT26: 0 | BU26: 0 | BV26: 0 | BW26: 0 | BX26: 0 | BY26: 0 | BZ26: 0 | CA26: =IF(AND($M26=#REF!,$L26=1,$K26="Oui Tubage Rigide"),$G26,0) -> #REF! | CB26: =IF(AND($M26=#REF!,$L26=2,$K26="Oui Tubage Rigide"),$G26,0) -> #REF! | CC26: =IF(AND($M26=#REF!,$L26=3,$K26="Oui Tubage Rigide"),$G26,0) -> #REF! | CD26: =IF(AND($M26=#REF!,$L26=4,$K26="Oui Tubage Rigide"),$G26,0) -> #REF! | CE26: =IF(AND($M26=#REF!,$L26=5,$K26="Oui Tubage Rigide"),$G26,0) -> #REF! | CF26: =IF(AND($M26=#REF!,$L26=1,$K26="Oui Tubage Rigide"),$G26,0) -> #REF! | CG26: =IF(AND($M26=#REF!,$L26=2,$K26="Oui Tubage Rigide"),$G26,0) -> #REF! | CH26: =IF(AND($M26=#REF!,$L26=3,$K26="Oui Tubage Rigide"),$G26,0) -> #REF! | CI26: =IF(AND($M26=#REF!,$L26=4,$K26="Oui Tubage Rigide"),$G26,0) -> #REF! | CJ26: =IF(AND($M26=#REF!,$L26=5,$K26="Oui Tubage Rigide"),$G26,0) -> #REF! | CL26: =IF(#REF!= "",0,IF(OR(EXACT(#REF!,#REF!),(EXACT(#REF!,#REF!))),1,0)) -> #REF! | CM26: =IF(#REF!= "",0,IF(OR(EXACT(#REF!,#REF!),(EXACT(#REF!,#REF!))),1,0)) -> #REF! | CO26: =IF(G26="","",ISNUMBER(G26)) | CP26: =IF(N26="","",ISNUMBER(N26))
C27: A | E27: A | T27: C_13102/370 | U27: C_13102/310 | Z27: P | AI27: 17 | AW27: 0 | AX27: 0 | AY27: 0 | AZ27: 0 | BA27: 0 | BB27: 0 | BC27: 0 | BD27: 0 | BE27: 0 | BF27: 0 | BG27: 0 | BH27: 0 | BI27: 0 | BJ27: 0 | BK27: 0 | BL27: 0 | BM27: 0 | BN27: 0 | BO27: 0 | BP27: 0 | BQ27: 0 | BR27: 0 | BS27: 0 | BT27: 0 | BU27: 0 | BV27: 0 | BW27: 0 | BX27: 0 | BY27: 0 | BZ27: 0 | CA27: =IF(AND($M27=#REF!,$L27=1,$K27="Oui Tubage Rigide"),$G27,0) -> #REF! | CB27: =IF(AND($M27=#REF!,$L27=2,$K27="Oui Tubage Rigide"),$G27,0) -> #REF! | CC27: =IF(AND($M27=#REF!,$L27=3,$K27="Oui Tubage Rigide"),$G27,0) -> #REF! | CD27: =IF(AND($M27=#REF!,$L27=4,$K27="Oui Tubage Rigide"),$G27,0) -> #REF! | CE27: =IF(AND($M27=#REF!,$L27=5,$K27="Oui Tubage Rigide"),$G27,0) -> #REF! | CF27: =IF(AND($M27=#REF!,$L27=1,$K27="Oui Tubage Rigide"),$G27,0) -> #REF! | CG27: =IF(AND($M27=#REF!,$L27=2,$K27="Oui Tubage Rigide"),$G27,0) -> #REF! | CH27: =IF(AND($M27=#REF!,$L27=3,$K27="Oui Tubage Rigide"),$G27,0) -> #REF! | CI27: =IF(AND($M27=#REF!,$L27=4,$K27="Oui Tubage Rigide"),$G27,0) -> #REF! | CJ27: =IF(AND($M27=#REF!,$L27=5,$K27="Oui Tubage Rigide"),$G27,0) -> #REF! | CL27: =IF(#REF!= "",0,IF(OR(EXACT(#REF!,#REF!),(EXACT(#REF!,#REF!))),1,0)) -> #REF! | CM27: =IF(#REF!= "",0,IF(OR(EXACT(#REF!,#REF!),(EXACT(#REF!,#REF!))),1,0)) -> #REF! | CO27: =IF(G27="","",ISNUMBER(G27)) | CP27: =IF(N27="","",ISNUMBER(N27))
C28: A | E28: A | T28: C_13102/310 | U28: C_13102/308 | Z28: P | AI28: 17.5 | AW28: 0 | AX28: 0 | AY28: 0 | AZ28: 0 | BA28: 0 | BB28: 0 | BC28: 0 | BD28: 0 | BE28: 0 | BF28: 0 | BG28: 0 | BH28: 0 | BI28: 0 | BJ28: 0 | BK28: 0 | BL28: 0 | BM28: 0 | BN28: 0 | BO28: 0 | BP28: 0 | BQ28: 0 | BR28: 0 | BS28: 0 | BT28: 0 | BU28: 0 | BV28: 0 | BW28: 0 | BX28: 0 | BY28: 0 | BZ28: 0 | CA28: =IF(AND($M28=#REF!,$L28=1,$K28="Oui Tubage Rigide"),$G28,0) -> #REF! | CB28: =IF(AND($M28=#REF!,$L28=2,$K28="Oui Tubage Rigide"),$G28,0) -> #REF! | CC28: =IF(AND($M28=#REF!,$L28=3,$K28="Oui Tubage Rigide"),$G28,0) -> #REF! | CD28: =IF(AND($M28=#REF!,$L28=4,$K28="Oui Tubage Rigide"),$G28,0) -> #REF! | CE28: =IF(AND($M28=#REF!,$L28=5,$K28="Oui Tubage Rigide"),$G28,0) -> #REF! | CF28: =IF(AND($M28=#REF!,$L28=1,$K28="Oui Tubage Rigide"),$G28,0) -> #REF! | CG28: =IF(AND($M28=#REF!,$L28=2,$K28="Oui Tubage Rigide"),$G28,0) -> #REF! | CH28: =IF(AND($M28=#REF!,$L28=3,$K28="Oui Tubage Rigide"),$G28,0) -> #REF! | CI28: =IF(AND($M28=#REF!,$L28=4,$K28="Oui Tubage Rigide"),$G28,0) -> #REF! | CJ28: =IF(AND($M28=#REF!,$L28=5,$K28="Oui Tubage Rigide"),$G28,0) -> #REF! | CL28: =IF(#REF!= "",0,IF(OR(EXACT(#REF!,#REF!),(EXACT(#REF!,#REF!))),1,0)) -> #REF! | CM28: =IF(#REF!= "",0,IF(OR(EXACT(#REF!,#REF!),(EXACT(#REF!,#REF!))),1,0)) -> #REF! | CO28: =IF(G28="","",ISNUMBER(G28)) | CP28: =IF(N28="","",ISNUMBER(N28))

Sheet Feuil2
F3: Une aide à la saisie est disponible sous forme de commentaire masqué pour la plupart des cellules de responsabilité Opérateur (Fond Orange) . Exemple : Cellule B30 pour le remplissage des alvéoles | K3: 0
K4: 0
B5: Code insee | C5: 13021/ | K5: 0 | O5: verifié
A6: Référence Orange de la Commande ferme d'Accès | K6: 0 | O6: Manque info
K7: 0 | O7: Non posé
B10: Alvéoles choisis dans la chambre A | C10: Identification Chambre A ou de l'Appui Aérien A | E10: Identification Chambre B ou de l'Appui Aérien B | G10: CONCAT pour formule | H10: Etat des alvéoles ou des Portées | L10: Optimisation du GC | O10: Câbles opérateurs | P10: Commentaires Opérateur | T10: Base de données
D11: Numéro chambre ou de poteau ou de Potelet (code INSEE/N° chambre ou code INSEE/ N° de poteau ou code INSEE/ N° de Potelet) | F11: Numéro chambre ou de poteau ou de Potelet (code INSEE/N° chambre ou code INSEE/N° de poteau ou code INSEE/ N° de Potelet) | H11: Longueur du tronçon ou de la portée en domaine public (m) | T11: Extrémité 1 | U11: Extremité 2 | V11: Longueur câble
D12: =CONCATENATE($C$5,Feuil1!D12) -> 13021/755554 | F12: =CONCATENATE($C$5,Feuil1!F12) -> 13021/755535 | G12: =D12&F12 -> 13021/75555413021/755535 | H12: 50 | T12: 755534 | U12: 755535 | V12: 25
D13: =CONCATENATE($C$5,Feuil1!D13) -> 13021/755535 | F13: =CONCATENATE($C$5,Feuil1!F13) -> 13021/755536 | G13: =D13&F13 -> 13021/75553513021/755536 | H13: 30 | T13: 755535 | U13: 755536 | V13: 19
D14: =CONCATENATE($C$5,Feuil1!D14) -> 13021/755536 | F14: =CONCATENATE($C$5,Feuil1!F14) -> 13021/755537 | G14: =D14&F14 -> 13021/75553613021/755537 | H14: 125 | T14: 755545 | U14: 9088f362-5850-44b8-8210-6aa53af344ea | V14: 23
D15: =CONCATENATE($C$5,Feuil1!D15) -> 13021/755536 | F15: =CONCATENATE($C$5,Feuil1!F15) -> 13021/755535 | G15: =D15&F15 -> 13021/75553613021/755535 | H15: 10 | T15: 755542 | U15: 755541 | V15: 25
D16: =CONCATENATE($C$5,Feuil1!D16) -> 13021/ | F16: =CONCATENATE($C$5,Feuil1!F16) -> 13021/ | G16: =D16&F16 -> 13021/13021/ | T16: 755533 | V16: 6
D17: =CONCATENATE($C$5,Feuil1!D17) -> 13021/ | F17: =CONCATENATE($C$5,Feuil1!F17) -> 13021/ | G17: =D17&F17 -> 13021/13021/ | T17: 755539 | U17: 4f293ab9-a3c8-416a-b487-4718252d20e3 | V17: 9
D18: =CONCATENATE($C$5,Feuil1!D18) -> 13021/ | F18: =CONCATENATE($C$5,Feuil1!F18) -> 13021/ | G18: =D18&F18 -> 13021/13021/ | T18: 755556 | U18: 755558 | V18: 29
D19: =CONCATENATE($C$5,Feuil1!D19) -> 13021/ | F19: =CONCATENATE($C$5,Feuil1!F19) -> 13021/ | G19: =D19&F19 -> 13021/13021/ | T19: 755558 | U19: 755562 | V19: 20
D20: =CONCATENATE($C$5,Feuil1!D20) -> 13021/ | F20: =CONCATENATE($C$5,Feuil1!F20) -> 13021/ | G20: =D20&F20 -> 13021/13021/ | T20: 755531 | U20: 755530 | V20: 19
D21: =CONCATENATE($C$5,Feuil1!D21) -> 13021/ | F21: =CONCATENATE($C$5,Feuil1!F21) -> 13021/ | G21: =D21&F21 -> 13021/13021/ | T21: 755541 | U21: 7a2cdf54-e833-40e2-812b-b9a8e9255298 | V21: 7
D22: =CONCATENATE($C$5,Feuil1!D22) -> 13021/ | F22: =CONCATENATE($C$5,Feuil1!F22) -> 13021/ | G22: =D22&F22 -> 13021/13021/ | T22: 755555 | U22: 755556 | V22: 19
D23: =CONCATENATE($C$5,Feuil1!D23) -> 13021/ | F23: =CONCATENATE($C$5,Feuil1!F23) -> 13021/ | G23: =D23&F23 -> 13021/13021/ | T23: 755553 | U23: 755554 | V23: 22
D24: =CONCATENATE($C$5,Feuil1!D24) -> 13021/ | F24: =CONCATENATE($C$5,Feuil1!F24) -> 13021/ | G24: =D24&F24 -> 13021/13021/ | T24: 755529 | U24: 755528 | V24: 23
D25: =CONCATENATE($C$5,Feuil1!D25) -> 13021/ | F25: =CONCATENATE($C$5,Feuil1!F25) -> 13021/ | G25: =D25&F25 -> 13021/13021/ | T25: 755539 | V25: 35
D26: =CONCATENATE($C$5,Feuil1!D26) -> 13021/ | F26: =CONCATENATE($C$5,Feuil1!F26) -> 13021/ | G26: =D26&F26 -> 13021/13021/ | T26: 755552 | U26: 755551 | V26: 10
D27: =CONCATENATE($C$5,Feuil1!D27) -> 13021/ | F27: =CONCATENATE($C$5,Feuil1!F27) -> 13021/ | G27: =D27&F27 -> 13021/13021/ | T27: 755532 | U27: 755531 | V27: 23
D28: =CONCATENATE($C$5,Feuil1!D28) -> 13021/ | F28: =CONCATENATE($C$5,Feuil1!F28) -> 13021/ | G28: =D28&F28 -> 13021/13021/ | T28: 755531 | U28: 755530 | V28: 19
T29: 755536 | U29: 755537 | V29: 27
T30: 755537 | U30: 4e712d81-3460-4479-9039-d7dbca45517f | V30: 12
T31: 755543 | U31: 755544 | V31: 32
T32: 755533 | U32: 61b6500d-0670-4916-96ea-c0029845c3e6 | V32: 13
T33: 755534 | U33: 755535 | V33: 25
T34: 755549 | U34: 755550 | V34: 13
T35: 755549 | U35: 81165f7c-051e-4ee9-8edd-b77a4307cef6 | V35: 12
T36: 755545 | U36: 755546 | V36: 24
T37: 755541 | U37: 755538 | V37: 18
T38: 755549 | U38: 755550 | V38: 13
T39: 755537 | U39: 755538 | V39: 24
T40: 755553BIS | U40: 755555 | V40: 15
... T53: 755535 | U53: 755536 | V53: 19
T54: 755558 | V54: 23
T55: 755528 | U55: 755534 | V55: 23
T56: 755528 | U56: 755534 | V56: 23
T57: 755532 | U57: 755531 | V57: 23
T58: 755530 | U58: 755529 | V58: 19
T59: 755538 | U59: 755543 | V59: 23
T60: 755526 | U60: 755528 | V60: 34
T61: 755526 | U61: 755528 | V61: 34
T62: 755526 | U62: BT1 | V62: 12
T63: 755525 | U63: 755526 | V63: 25
T64: 755514 | U64: 755525 | V64: 30
T65: 755513 | U65: 755514 | V65: 20
T66: 755513BIS | U66: 755513 | V66: 21
... T117: 755483 | U117: ee03fd6d-b626-4d72-af69-cb0bcde8bdef | V117: 18
T118: 755483 | V118: 20
T119: BT10 | U119: BT9 | V119: 42
T120: BT10 | U120: e818e86c-74a2-420b-97d6-e3e70c8064dd | V120: 13
T121: BT13 | U121: BT9 | V121: 20
T122: 755473 | U122: 755472 | V122: 28
T123: 755473 | U123: b8162676-7531-419a-a1ce-a4d9fcd74784 | V123: 20
T124: 755474 | U124: 755473 | V124: 29
T125: 755463 | V125: 38
T126: 755466 | U126: 755463 | V126: 26
T127: 755467 | U127: 755466 | V127: 28
T128: 755468 | U128: 755467 | V128: 48
T129: 755468 | U129: 96cef031-9fa1-4e07-9fe3-1b6e9508081d | V129: 13
T130: 755448 | U130: 755468 | V130: 11
T131: 755460 | U131: 755448 | V131: 33
T132: 755449 | U132: 755448 | V132: 31
T133: 755450 | U133: 755449 | V133: 29
T134: 755452 | U134: 755450 | V134: 18
T135: 755453 | U135: 755452 | V135: 17
T136: 755454 | U136: 755453 | V136: 19
T137: 755455 | U137: 755454 | V137: 17
... T157: BT17 | U157: a9ed38ab-0111-4c59-ae21-a318e8f18339 | V157: 13
T158: BT17 | V158: 28
T159: BT17 | U159: 33cad54b-5390-406b-b998-18f91b9241a4 | V159: 15
T160: BT16 | U160: a8916c57-c134-4f79-a235-dab186a39260 | V160: 18
T161: BT16 | U161: bee1314a-c4db-4300-ac74-ced2a981f022 | V161: 19
T162: 755499 | U162: BT17 | V162: 23
T163: BT18 | U163: 755499 | V163: 11
T164: BT18 | U164: 2ee4029b-face-40e7-a416-3d2b15957d75 | V164: 14
T165: BT18 | U165: 41317700-f31a-49fb-9c63-40db0b0acb35 | V165: 20
T166: BT18 | U166: 1338de88-cb43-4937-9855-025116180b37 | V166: 18
T167: BT18 | U167: BT17 | V167: 35
T168: 755500 | U168: 755499 | V168: 15
T169: 755501 | U169: 755500 | V169: 22
T170: BT19 | U170: BT18 | V170: 46
... T199: 755704BIS | U199: BT29 | V199: 31
T200: 755704BIS | V200: 28
T201: 755705 | U201: 755704BIS | V201: 9
T202: 755706 | U202: 755705 | V202: 20
T203: 755707 | U203: 755706 | V203: 13
T204: 755708 | U204: 755707 | V204: 13
T205: 755708 | U205: BT32 | V205: 8
T206: 755836 | U206: 755838 | V206: 25
T207: 755836 | U207: 755838 | V207: 25
T208: N.C | U208: 755836 | V208: 10
T209: 755835 | U209: 755836 | V209: 33
T210: 755835 | U210: 755836 | V210: 33
T211: 755835 | U211: 117166ac-713c-44bd-adaf-0f01d8443780 | V211: 24
T212: 755834 | U212: 755835 | V212: 29
... T237: 755823 | U237: 755822 | V237: 29
...
