Workbook

Sheet Base de donnée
A1: Nom de Classe | B1: Nombre d'élève | C1: Nombre d'élève défaillant
A2: Classe A | B2: 15 | C2: 2
A3: Classe B | B3: 17 | C3: 4
A4: Classe C | B4: 25 | C4: 1
A5: Classe D | B5: 10 | C5: 2 | G5: 15 | H5: 2
A6: Classe E | B6: 12 | C6: 3 | G6: 100
A7: Classe F | B7: 14 | C7: 4
A8: Classe G | B8: 21 | C8: 5
A9: Classe H | B9: 31 | C9: 6
A10: Classe I | B10: 15 | C10: 2
A11: Classe J | B11: 18 | C11: 1
A12: Classe K | B12: 36 | C12: 8
A13: Classe L | B13: 12 | C13: 2
A14: Classe M | B14: 12 | C14: 1
A15: Classe N | B15: 17 | C15: 2
A16: Classe O | B16: 24 | C16: 3
A17: Classe P | B17: 23 | C17: 6
A18: Classe Q | B18: 28 | C18: 4
... A20: Classe S | B20: 30 | C20: 0

Sheet BenchMark
A1: Nom de la classe | B1: Nombre d'élève défaillant (en nombre absolue) | C1: Nombre d'élève défaillant (en %)
A2: ='Base de donnée'!A2 -> Classe A | B2: =VLOOKUP(A2,'Base de donnée'!A:C,3) -> 2 | C2: =B2/VLOOKUP(A2,'Base de donnée'!A:B,2,FALSE) -> 0.13333333
A3: ='Base de donnée'!A3 -> Classe B | B3: =VLOOKUP(A3,'Base de donnée'!A:C,3) -> 4 | C3: =B3/VLOOKUP(A3,'Base de donnée'!A:B,2,FALSE) -> 0.23529412
A4: ='Base de donnée'!A4 -> Classe C | B4: =VLOOKUP(A4,'Base de donnée'!A:C,3) -> 1 | C4: =B4/VLOOKUP(A4,'Base de donnée'!A:B,2,FALSE) -> 0.04
A5: ='Base de donnée'!A5 -> Classe D | B5: =VLOOKUP(A5,'Base de donnée'!A:C,3) -> 2 | C5: =B5/VLOOKUP(A5,'Base de donnée'!A:B,2,FALSE) -> 0.2
A6: ='Base de donnée'!A6 -> Classe E | B6: =VLOOKUP(A6,'Base de donnée'!A:C,3) -> 3 | C6: =B6/VLOOKUP(A6,'Base de donnée'!A:B,2,FALSE) -> 0.25
A7: ='Base de donnée'!A7 -> Classe F | B7: =VLOOKUP(A7,'Base de donnée'!A:C,3) -> 4 | C7: =B7/VLOOKUP(A7,'Base de donnée'!A:B,2,FALSE) -> 0.28571429
A8: ='Base de donnée'!A8 -> Classe G | B8: =VLOOKUP(A8,'Base de donnée'!A:C,3) -> 5 | C8: =B8/VLOOKUP(A8,'Base de donnée'!A:B,2,FALSE) -> 0.23809524
A9: ='Base de donnée'!A9 -> Classe H | B9: =VLOOKUP(A9,'Base de donnée'!A:C,3) -> 6 | C9: =B9/VLOOKUP(A9,'Base de donnée'!A:B,2,FALSE) -> 0.19354839
A10: ='Base de donnée'!A10 -> Classe I | B10: =VLOOKUP(A10,'Base de donnée'!A:C,3) -> 2 | C10: =B10/VLOOKUP(A10,'Base de donnée'!A:B,2,FALSE) -> 0.13333333
A11: ='Base de donnée'!A11 -> Classe J | B11: =VLOOKUP(A11,'Base de donnée'!A:C,3) -> 1 | C11: =B11/VLOOKUP(A11,'Base de donnée'!A:B,2,FALSE) -> 0.055555556
A12: ='Base de donnée'!A12 -> Classe K | B12: =VLOOKUP(A12,'Base de donnée'!A:C,3) -> 8 | C12: =B12/VLOOKUP(A12,'Base de donnée'!A:B,2,FALSE) -> 0.22222222
A13: ='Base de donnée'!A13 -> Classe L | B13: =VLOOKUP(A13,'Base de donnée'!A:C,3) -> 2 | C13: =B13/VLOOKUP(A13,'Base de donnée'!A:B,2,FALSE) -> 0.16666667
... A20: ='Base de donnée'!A20 -> Classe S | B20: =VLOOKUP(A20,'Base de donnée'!A:C,3) -> 0 | C20: =B20/VLOOKUP(A20,'Base de donnée'!A:B,2,FALSE) -> 0
