Workbook
Name Segment_Chirurgien: #N/A
Name stats: 'Données '!$1:$1048576

Sheet Données 
A1: Mois | B1: Nom | C1: Référence | D1: D/naissance | E1: Age | F1: Cardiogéria | G1: Référant | H1: Lieu activité | I1: Lieu activité2 | J1: Chirurgien | K1: Sexe | L1: D/opératoire | M1: Disc HT | N1: Intervention | O1: Intervention-activité | P1: Intervention-activité par type | Q1: intervention-valves | R1: valves - activité | S1: Lés. cor. | T1: Type RC | U1: Marque V | V1: Type V | W1: Taille V | X1: Date révision | Y1: Révision < 24h | Z1: Révision >24h | AA1: Redo | AB1: AVC | AC1: IM | AD1: Inf p.op | AE1: Transfu <24 h | AF1: T <24 - nb trans | AG1: Transfu >24 h | AH1: T >24 h - nb trans | AI1: T total | AJ1: Retour salle | AK1: Nbr de j USI | AL1: Date de sortie | AM1: Nbr de j hospi | AN1: Alive | AO1: DCD Délai d'intervention | AP1: Délai intervention | AQ1: Destination | AR1: Réhosp. | AS1: Réhosp.< 30 j | AT1: Cause réhospit | AU1: Nom3 | AV1: RDV postop | AW1: Postopt imm | AX1: Statut 1 | AY1: Commentaires | AZ1: postop loint | BA1: Statut 2 | BB1: Commentaires4 | BC1: Inf p.op_RV | BD1: Transfu <24 h_RV | BE1: Transfu >24 h_RV | BF1: délai intervention5 | BG1: Inf p.op_RV6 | BH1: Transfu <24 h_RV7 | BI1: Transfu >24 h_RV8 | BJ1: Révision < 24h_RV | BK1: Réhosp.< 30 j_RV | BL1: Nbr de j hospi_RV | BM1: Nbr de j hospi_Hors_RV | BN1: Nbr de j hospi_LVAD-TX_RV | BO1: Nbr de j USI_RV | BP1: Nbr de j USI_Hors_RV | BQ1: Nbr de j USI_LVAD-TX_RV | BR1: Transfu_RV | BS1: Transfu_Total_RV | BT1: Lieu activité_Groupe | BU1: AVC_RV | BV1: IM_RV | BW1: HT | BX1: Colonne1
A2: JANVIER | E2: =(L2-D2)/365 -> 0 | F2: =IF(E2<80," ","1") | P2: =IFERROR(VLOOKUP(O2,Références!$K$11:$N$19,2)," ") | Q2: =IFERROR(VLOOKUP(O2,Références!$K$11:$N$19,3)," ") | R2: =IFERROR(VLOOKUP(O2,Références!$K$11:$N$19,4)," ") | Y2: 1 | AF2: 8 | AH2: 15 | AI2: =SUM(AF2,AH2) -> 23 | AK2: =(AJ2-L2) -> 0 | AM2: =(AL2-L2) -> 0 | AP2: =IF(AO2=1,"ELECTIVE",IF(AO2=2,"URGENCY",IF(AO2=3,"EMERGENCY",IF(AO2=4,"SALVAGE"," ")))) | BA2: Y | BC2: =IF(BG2="Aucune",0,1) -> 0 | BD2: =IF(BH2="Aucune",0,1) -> 1 | BE2: =IF(AG2="Aucune",0,1) -> 1 | BF2: =IF(AO2=1,"ELECTIVE",IF(AO2=2,"URGENCY",IF(AO2=3,"EMERGENCY",IF(AO2=4,"SALVAGE","ALIVE")))) -> ALIVE | BG2: =IF(AD2="","Aucune","Infection") -> Aucune | BH2: =IF(AI2>0,"Transfusion","Aucune") -> Transfusion | BI2: =IF(AG2="","Aucune","Transfusé") -> Aucune | BJ2: =IF(X2<>"",IF(X2-L2<2,"OUI","NON"),"NON") -> NON | BK2: =IF(AS2="","NON","OUI") -> NON | BL2: =IF(AL2-L2>0,AL2-L2,"Inconnu") -> Inconnu | BM2: =IF($O2<>"HTX",IF($O2<>"LVAD",BL2,"Inconnu"),"Inconnu") -> Inconnu | BN2: =IF($O2="HTX",BL2,IF($O2="LVAD",BL2,"Inconnu")) -> Inconnu | BO2: =IF(AJ2-L2>0,AJ2-L2,"Inconnu") -> Inconnu | BP2: =IF($O2<>"HTX",IF($O2<>"LVAD",BO2,"Inconnu"),"Inconnu") -> Inconnu | BQ2: =IF($O2="HTX",BO2,IF($O2="LVAD",BO2,"Inconnu")) -> Inconnu | BR2: =IF(BH2="Aucune",IF(BI2="Aucune","Aucune","Transfusé"),"Transfusé") -> Transfusé | BS2: =AF2+AH2 -> 23 | BT2: =VLOOKUP($I2,Lieu_Activité!$A:$B,2,FALSE) -> #N/A | BU2: =IF(AB2="","Aucun","AVC") -> Aucun | BV2: =IF(AC2="","Aucun","IM") -> Aucun | BW2: =IF(M2="","NON","OUI") -> NON
A3: JANVIER | E3: =(L3-D3)/365 -> 0 | F3: =IF(E3<80," ","1") | P3: =IFERROR(VLOOKUP(O3,Références!$K$11:$N$19,2)," ") | Q3: =IFERROR(VLOOKUP(O3,Références!$K$11:$N$19,3)," ") | R3: =IFERROR(VLOOKUP(O3,Références!$K$11:$N$19,4)," ") | Y3: 1 | AF3: 8 | AH3: 15 | AI3: =SUM(AF3,AH3) -> 23 | AK3: =(AJ3-L3) -> 0 | AM3: =(AL3-L3) -> 0 | AP3: =IF(AO3=1,"ELECTIVE",IF(AO3=2,"URGENCY",IF(AO3=3,"EMERGENCY",IF(AO3=4,"SALVAGE"," ")))) | BA3: Y | BC3: =IF(BG3="Aucune",0,1) -> 0 | BD3: =IF(BH3="Aucune",0,1) -> 1 | BE3: =IF(AG3="Aucune",0,1) -> 1 | BF3: =IF(AO3=1,"ELECTIVE",IF(AO3=2,"URGENCY",IF(AO3=3,"EMERGENCY",IF(AO3=4,"SALVAGE","ALIVE")))) -> ALIVE | BG3: =IF(AD3="","Aucune","Infection") -> Aucune | BH3: =IF(AI3>0,"Transfusion","Aucune") -> Transfusion | BI3: =IF(AG3="","Aucune","Transfusé") -> Aucune | BJ3: =IF(X3<>"",IF(X3-L3<2,"OUI","NON"),"NON") -> NON | BK3: =IF(AS3="","NON","OUI") -> NON | BL3: =IF(AL3-L3>0,AL3-L3,"Inconnu") -> Inconnu | BM3: =IF($O3<>"HTX",IF($O3<>"LVAD",BL3,"Inconnu"),"Inconnu") -> Inconnu | BN3: =IF($O3="HTX",BL3,IF($O3="LVAD",BL3,"Inconnu")) -> Inconnu | BO3: =IF(AJ3-L3>0,AJ3-L3,"Inconnu") -> Inconnu | BP3: =IF($O3<>"HTX",IF($O3<>"LVAD",BO3,"Inconnu"),"Inconnu") -> Inconnu | BQ3: =IF($O3="HTX",BO3,IF($O3="LVAD",BO3,"Inconnu")) -> Inconnu | BR3: =IF(BH3="Aucune",IF(BI3="Aucune","Aucune","Transfusé"),"Transfusé") -> Transfusé | BS3: =AF3+AH3 -> 23 | BT3: =VLOOKUP($I3,Lieu_Activité!$A:$B,2,FALSE) -> #N/A | BU3: =IF(AB3="","Aucun","AVC") -> Aucun | BV3: =IF(AC3="","Aucun","IM") -> Aucun | BW3: =IF(M3="","NON","OUI") -> NON
A4: JANVIER | E4: =(L4-D4)/365 -> 0 | F4: =IF(E4<80," ","1") | P4: =IFERROR(VLOOKUP(O4,Références!$K$11:$N$19,2)," ") | Q4: =IFERROR(VLOOKUP(O4,Références!$K$11:$N$19,3)," ") | R4: =IFERROR(VLOOKUP(O4,Références!$K$11:$N$19,4)," ") | Y4: 1 | AF4: 8 | AH4: 15 | AI4: =SUM(AF4,AH4) -> 23 | AK4: =(AJ4-L4) -> 0 | AM4: =(AL4-L4) -> 0 | AP4: =IF(AO4=1,"ELECTIVE",IF(AO4=2,"URGENCY",IF(AO4=3,"EMERGENCY",IF(AO4=4,"SALVAGE"," ")))) | BA4: Y | BC4: =IF(BG4="Aucune",0,1) -> 0 | BD4: =IF(BH4="Aucune",0,1) -> 1 | BE4: =IF(AG4="Aucune",0,1) -> 1 | BF4: =IF(AO4=1,"ELECTIVE",IF(AO4=2,"URGENCY",IF(AO4=3,"EMERGENCY",IF(AO4=4,"SALVAGE","ALIVE")))) -> ALIVE | BG4: =IF(AD4="","Aucune","Infection") -> Aucune | BH4: =IF(AI4>0,"Transfusion","Aucune") -> Transfusion | BI4: =IF(AG4="","Aucune","Transfusé") -> Aucune | BJ4: =IF(X4<>"",IF(X4-L4<2,"OUI","NON"),"NON") -> NON | BK4: =IF(AS4="","NON","OUI") -> NON | BL4: =IF(AL4-L4>0,AL4-L4,"Inconnu") -> Inconnu | BM4: =IF($O4<>"HTX",IF($O4<>"LVAD",BL4,"Inconnu"),"Inconnu") -> Inconnu | BN4: =IF($O4="HTX",BL4,IF($O4="LVAD",BL4,"Inconnu")) -> Inconnu | BO4: =IF(AJ4-L4>0,AJ4-L4,"Inconnu") -> Inconnu | BP4: =IF($O4<>"HTX",IF($O4<>"LVAD",BO4,"Inconnu"),"Inconnu") -> Inconnu | BQ4: =IF($O4="HTX",BO4,IF($O4="LVAD",BO4,"Inconnu")) -> Inconnu | BR4: =IF(BH4="Aucune",IF(BI4="Aucune","Aucune","Transfusé"),"Transfusé") -> Transfusé | BS4: =AF4+AH4 -> 23 | BT4: =VLOOKUP($I4,Lieu_Activité!$A:$B,2,FALSE) -> #N/A | BU4: =IF(AB4="","Aucun","AVC") -> Aucun | BV4: =IF(AC4="","Aucun","IM") -> Aucun | BW4: =IF(M4="","NON","OUI") -> NON
A5: JANVIER | E5: =(L5-D5)/365 -> 0 | F5: =IF(E5<80," ","1") | P5: =IFERROR(VLOOKUP(O5,Références!$K$11:$N$19,2)," ") | Q5: =IFERROR(VLOOKUP(O5,Références!$K$11:$N$19,3)," ") | R5: =IFERROR(VLOOKUP(O5,Références!$K$11:$N$19,4)," ") | Y5: 1 | AF5: 8 | AH5: 15 | AI5: =SUM(AF5,AH5) -> 23 | AK5: =(AJ5-L5) -> 0 | AM5: =(AL5-L5) -> 0 | AP5: =IF(AO5=1,"ELECTIVE",IF(AO5=2,"URGENCY",IF(AO5=3,"EMERGENCY",IF(AO5=4,"SALVAGE"," ")))) | BA5: Y | BC5: =IF(BG5="Aucune",0,1) -> 0 | BD5: =IF(BH5="Aucune",0,1) -> 1 | BE5: =IF(AG5="Aucune",0,1) -> 1 | BF5: =IF(AO5=1,"ELECTIVE",IF(AO5=2,"URGENCY",IF(AO5=3,"EMERGENCY",IF(AO5=4,"SALVAGE","ALIVE")))) -> ALIVE | BG5: =IF(AD5="","Aucune","Infection") -> Aucune | BH5: =IF(AI5>0,"Transfusion","Aucune") -> Transfusion | BI5: =IF(AG5="","Aucune","Transfusé") -> Aucune | BJ5: =IF(X5<>"",IF(X5-L5<2,"OUI","NON"),"NON") -> NON | BK5: =IF(AS5="","NON","OUI") -> NON | BL5: =IF(AL5-L5>0,AL5-L5,"Inconnu") -> Inconnu | BM5: =IF($O5<>"HTX",IF($O5<>"LVAD",BL5,"Inconnu"),"Inconnu") -> Inconnu | BN5: =IF($O5="HTX",BL5,IF($O5="LVAD",BL5,"Inconnu")) -> Inconnu | BO5: =IF(AJ5-L5>0,AJ5-L5,"Inconnu") -> Inconnu | BP5: =IF($O5<>"HTX",IF($O5<>"LVAD",BO5,"Inconnu"),"Inconnu") -> Inconnu | BQ5: =IF($O5="HTX",BO5,IF($O5="LVAD",BO5,"Inconnu")) -> Inconnu | BR5: =IF(BH5="Aucune",IF(BI5="Aucune","Aucune","Transfusé"),"Transfusé") -> Transfusé | BS5: =AF5+AH5 -> 23 | BT5: =VLOOKUP($I5,Lieu_Activité!$A:$B,2,FALSE) -> #N/A | BU5: =IF(AB5="","Aucun","AVC") -> Aucun | BV5: =IF(AC5="","Aucun","IM") -> Aucun | BW5: =IF(M5="","NON","OUI") -> NON
A6: JANVIER | E6: =(L6-D6)/365 -> 0 | F6: =IF(E6<80," ","1") | P6: =IFERROR(VLOOKUP(O6,Références!$K$11:$N$19,2)," ") | Q6: =IFERROR(VLOOKUP(O6,Références!$K$11:$N$19,3)," ") | R6: =IFERROR(VLOOKUP(O6,Références!$K$11:$N$19,4)," ") | Y6: 1 | AF6: 8 | AH6: 15 | AI6: =SUM(AF6,AH6) -> 23 | AK6: =(AJ6-L6) -> 0 | AM6: =(AL6-L6) -> 0 | AP6: =IF(AO6=1,"ELECTIVE",IF(AO6=2,"URGENCY",IF(AO6=3,"EMERGENCY",IF(AO6=4,"SALVAGE"," ")))) | BA6: Y | BC6: =IF(BG6="Aucune",0,1) -> 0 | BD6: =IF(BH6="Aucune",0,1) -> 1 | BE6: =IF(AG6="Aucune",0,1) -> 1 | BF6: =IF(AO6=1,"ELECTIVE",IF(AO6=2,"URGENCY",IF(AO6=3,"EMERGENCY",IF(AO6=4,"SALVAGE","ALIVE")))) -> ALIVE | BG6: =IF(AD6="","Aucune","Infection") -> Aucune | BH6: =IF(AI6>0,"Transfusion","Aucune") -> Transfusion | BI6: =IF(AG6="","Aucune","Transfusé") -> Aucune | BJ6: =IF(X6<>"",IF(X6-L6<2,"OUI","NON"),"NON") -> NON | BK6: =IF(AS6="","NON","OUI") -> NON | BL6: =IF(AL6-L6>0,AL6-L6,"Inconnu") -> Inconnu | BM6: =IF($O6<>"HTX",IF($O6<>"LVAD",BL6,"Inconnu"),"Inconnu") -> Inconnu | BN6: =IF($O6="HTX",BL6,IF($O6="LVAD",BL6,"Inconnu")) -> Inconnu | BO6: =IF(AJ6-L6>0,AJ6-L6,"Inconnu") -> Inconnu | BP6: =IF($O6<>"HTX",IF($O6<>"LVAD",BO6,"Inconnu"),"Inconnu") -> Inconnu | BQ6: =IF($O6="HTX",BO6,IF($O6="LVAD",BO6,"Inconnu")) -> Inconnu | BR6: =IF(BH6="Aucune",IF(BI6="Aucune","Aucune","Transfusé"),"Transfusé") -> Transfusé | BS6: =AF6+AH6 -> 23 | BT6: =VLOOKUP($I6,Lieu_Activité!$A:$B,2,FALSE) -> #N/A | BU6: =IF(AB6="","Aucun","AVC") -> Aucun | BV6: =IF(AC6="","Aucun","IM") -> Aucun | BW6: =IF(M6="","NON","OUI") -> NON
A7: JANVIER | E7: =(L7-D7)/365 -> 0 | F7: =IF(E7<80," ","1") | P7: =IFERROR(VLOOKUP(O7,Références!$K$11:$N$19,2)," ") | Q7: =IFERROR(VLOOKUP(O7,Références!$K$11:$N$19,3)," ") | R7: =IFERROR(VLOOKUP(O7,Références!$K$11:$N$19,4)," ") | Y7: 1 | AF7: 8 | AH7: 15 | AI7: =SUM(AF7,AH7) -> 23 | AK7: =(AJ7-L7) -> 0 | AM7: =(AL7-L7) -> 0 | AP7: =IF(AO7=1,"ELECTIVE",IF(AO7=2,"URGENCY",IF(AO7=3,"EMERGENCY",IF(AO7=4,"SALVAGE"," ")))) | BA7: Y | BC7: =IF(BG7="Aucune",0,1) -> 0 | BD7: =IF(BH7="Aucune",0,1) -> 1 | BE7: =IF(AG7="Aucune",0,1) -> 1 | BF7: =IF(AO7=1,"ELECTIVE",IF(AO7=2,"URGENCY",IF(AO7=3,"EMERGENCY",IF(AO7=4,"SALVAGE","ALIVE")))) -> ALIVE | BG7: =IF(AD7="","Aucune","Infection") -> Aucune | BH7: =IF(AI7>0,"Transfusion","Aucune") -> Transfusion | BI7: =IF(AG7="","Aucune","Transfusé") -> Aucune | BJ7: =IF(X7<>"",IF(X7-L7<2,"OUI","NON"),"NON") -> NON | BK7: =IF(AS7="","NON","OUI") -> NON | BL7: =IF(AL7-L7>0,AL7-L7,"Inconnu") -> Inconnu | BM7: =IF($O7<>"HTX",IF($O7<>"LVAD",BL7,"Inconnu"),"Inconnu") -> Inconnu | BN7: =IF($O7="HTX",BL7,IF($O7="LVAD",BL7,"Inconnu")) -> Inconnu | BO7: =IF(AJ7-L7>0,AJ7-L7,"Inconnu") -> Inconnu | BP7: =IF($O7<>"HTX",IF($O7<>"LVAD",BO7,"Inconnu"),"Inconnu") -> Inconnu | BQ7: =IF($O7="HTX",BO7,IF($O7="LVAD",BO7,"Inconnu")) -> Inconnu | BR7: =IF(BH7="Aucune",IF(BI7="Aucune","Aucune","Transfusé"),"Transfusé") -> Transfusé | BS7: =AF7+AH7 -> 23 | BT7: =VLOOKUP($I7,Lieu_Activité!$A:$B,2,FALSE) -> #N/A | BU7: =IF(AB7="","Aucun","AVC") -> Aucun | BV7: =IF(AC7="","Aucun","IM") -> Aucun | BW7: =IF(M7="","NON","OUI") -> NON
A8: JANVIER | E8: =(L8-D8)/365 -> 0 | F8: =IF(E8<80," ","1") | P8: =IFERROR(VLOOKUP(O8,Références!$K$11:$N$19,2)," ") | Q8: =IFERROR(VLOOKUP(O8,Références!$K$11:$N$19,3)," ") | R8: =IFERROR(VLOOKUP(O8,Références!$K$11:$N$19,4)," ") | Y8: 1 | AF8: 8 | AH8: 15 | AI8: =SUM(AF8,AH8) -> 23 | AK8: =(AJ8-L8) -> 0 | AM8: =(AL8-L8) -> 0 | AP8: =IF(AO8=1,"ELECTIVE",IF(AO8=2,"URGENCY",IF(AO8=3,"EMERGENCY",IF(AO8=4,"SALVAGE"," ")))) | BA8: Y | BC8: =IF(BG8="Aucune",0,1) -> 0 | BD8: =IF(BH8="Aucune",0,1) -> 1 | BE8: =IF(AG8="Aucune",0,1) -> 1 | BF8: =IF(AO8=1,"ELECTIVE",IF(AO8=2,"URGENCY",IF(AO8=3,"EMERGENCY",IF(AO8=4,"SALVAGE","ALIVE")))) -> ALIVE | BG8: =IF(AD8="","Aucune","Infection") -> Aucune | BH8: =IF(AI8>0,"Transfusion","Aucune") -> Transfusion | BI8: =IF(AG8="","Aucune","Transfusé") -> Aucune | BJ8: =IF(X8<>"",IF(X8-L8<2,"OUI","NON"),"NON") -> NON | BK8: =IF(AS8="","NON","OUI") -> NON | BL8: =IF(AL8-L8>0,AL8-L8,"Inconnu") -> Inconnu | BM8: =IF($O8<>"HTX",IF($O8<>"LVAD",BL8,"Inconnu"),"Inconnu") -> Inconnu | BN8: =IF($O8="HTX",BL8,IF($O8="LVAD",BL8,"Inconnu")) -> Inconnu | BO8: =IF(AJ8-L8>0,AJ8-L8,"Inconnu") -> Inconnu | BP8: =IF($O8<>"HTX",IF($O8<>"LVAD",BO8,"Inconnu"),"Inconnu") -> Inconnu | BQ8: =IF($O8="HTX",BO8,IF($O8="LVAD",BO8,"Inconnu")) -> Inconnu | BR8: =IF(BH8="Aucune",IF(BI8="Aucune","Aucune","Transfusé"),"Transfusé") -> Transfusé | BS8: =AF8+AH8 -> 23 | BT8: =VLOOKUP($I8,Lieu_Activité!$A:$B,2,FALSE) -> #N/A | BU8: =IF(AB8="","Aucun","AVC") -> Aucun | BV8: =IF(AC8="","Aucun","IM") -> Aucun | BW8: =IF(M8="","NON","OUI") -> NON
A9: JANVIER | E9: =(L9-D9)/365 -> 0 | F9: =IF(E9<80," ","1") | P9: =IFERROR(VLOOKUP(O9,Références!$K$11:$N$19,2)," ") | Q9: =IFERROR(VLOOKUP(O9,Références!$K$11:$N$19,3)," ") | R9: =IFERROR(VLOOKUP(O9,Références!$K$11:$N$19,4)," ") | Y9: 1 | AF9: 8 | AH9: 15 | AI9: =SUM(AF9,AH9) -> 23 | AK9: =(AJ9-L9) -> 0 | AM9: =(AL9-L9) -> 0 | AP9: =IF(AO9=1,"ELECTIVE",IF(AO9=2,"URGENCY",IF(AO9=3,"EMERGENCY",IF(AO9=4,"SALVAGE"," ")))) | BA9: Y | BC9: =IF(BG9="Aucune",0,1) -> 0 | BD9: =IF(BH9="Aucune",0,1) -> 1 | BE9: =IF(AG9="Aucune",0,1) -> 1 | BF9: =IF(AO9=1,"ELECTIVE",IF(AO9=2,"URGENCY",IF(AO9=3,"EMERGENCY",IF(AO9=4,"SALVAGE","ALIVE")))) -> ALIVE | BG9: =IF(AD9="","Aucune","Infection") -> Aucune | BH9: =IF(AI9>0,"Transfusion","Aucune") -> Transfusion | BI9: =IF(AG9="","Aucune","Transfusé") -> Aucune | BJ9: =IF(X9<>"",IF(X9-L9<2,"OUI","NON"),"NON") -> NON | BK9: =IF(AS9="","NON","OUI") -> NON | BL9: =IF(AL9-L9>0,AL9-L9,"Inconnu") -> Inconnu | BM9: =IF($O9<>"HTX",IF($O9<>"LVAD",BL9,"Inconnu"),"Inconnu") -> Inconnu | BN9: =IF($O9="HTX",BL9,IF($O9="LVAD",BL9,"Inconnu")) -> Inconnu | BO9: =IF(AJ9-L9>0,AJ9-L9,"Inconnu") -> Inconnu | BP9: =IF($O9<>"HTX",IF($O9<>"LVAD",BO9,"Inconnu"),"Inconnu") -> Inconnu | BQ9: =IF($O9="HTX",BO9,IF($O9="LVAD",BO9,"Inconnu")) -> Inconnu | BR9: =IF(BH9="Aucune",IF(BI9="Aucune","Aucune","Transfusé"),"Transfusé") -> Transfusé | BS9: =AF9+AH9 -> 23 | BT9: =VLOOKUP($I9,Lieu_Activité!$A:$B,2,FALSE) -> #N/A | BU9: =IF(AB9="","Aucun","AVC") -> Aucun | BV9: =IF(AC9="","Aucun","IM") -> Aucun | BW9: =IF(M9="","NON","OUI") -> NON
A10: JANVIER | E10: =(L10-D10)/365 -> 0 | F10: =IF(E10<80," ","1") | P10: =IFERROR(VLOOKUP(O10,Références!$K$11:$N$19,2)," ") | Q10: =IFERROR(VLOOKUP(O10,Références!$K$11:$N$19,3)," ") | R10: =IFERROR(VLOOKUP(O10,Références!$K$11:$N$19,4)," ") | Y10: 1 | AF10: 8 | AH10: 15 | AI10: =SUM(AF10,AH10) -> 23 | AK10: =(AJ10-L10) -> 0 | AM10: =(AL10-L10) -> 0 | AP10: =IF(AO10=1,"ELECTIVE",IF(AO10=2,"URGENCY",IF(AO10=3,"EMERGENCY",IF(AO10=4,"SALVAGE"," ")))) | BA10: Y | BC10: =IF(BG10="Aucune",0,1) -> 0 | BD10: =IF(BH10="Aucune",0,1) -> 1 | BE10: =IF(AG10="Aucune",0,1) -> 1 | BF10: =IF(AO10=1,"ELECTIVE",IF(AO10=2,"URGENCY",IF(AO10=3,"EMERGENCY",IF(AO10=4,"SALVAGE","ALIVE")))) -> ALIVE | BG10: =IF(AD10="","Aucune","Infection") -> Aucune | BH10: =IF(AI10>0,"Transfusion","Aucune") -> Transfusion | BI10: =IF(AG10="","Aucune","Transfusé") -> Aucune | BJ10: =IF(X10<>"",IF(X10-L10<2,"OUI","NON"),"NON") -> NON | BK10: =IF(AS10="","NON","OUI") -> NON | BL10: =IF(AL10-L10>0,AL10-L10,"Inconnu") -> Inconnu | BM10: =IF($O10<>"HTX",IF($O10<>"LVAD",BL10,"Inconnu"),"Inconnu") -> Inconnu | BN10: =IF($O10="HTX",BL10,IF($O10="LVAD",BL10,"Inconnu")) -> Inconnu | BO10: =IF(AJ10-L10>0,AJ10-L10,"Inconnu") -> Inconnu | BP10: =IF($O10<>"HTX",IF($O10<>"LVAD",BO10,"Inconnu"),"Inconnu") -> Inconnu | BQ10: =IF($O10="HTX",BO10,IF($O10="LVAD",BO10,"Inconnu")) -> Inconnu | BR10: =IF(BH10="Aucune",IF(BI10="Aucune","Aucune","Transfusé"),"Transfusé") -> Transfusé | BS10: =AF10+AH10 -> 23 | BT10: =VLOOKUP($I10,Lieu_Activité!$A:$B,2,FALSE) -> #N/A | BU10: =IF(AB10="","Aucun","AVC") -> Aucun | BV10: =IF(AC10="","Aucun","IM") -> Aucun | BW10: =IF(M10="","NON","OUI") -> NON
A11: JANVIER | E11: =(L11-D11)/365 -> 0 | F11: =IF(E11<80," ","1") | P11: =IFERROR(VLOOKUP(O11,Références!$K$11:$N$19,2)," ") | Q11: =IFERROR(VLOOKUP(O11,Références!$K$11:$N$19,3)," ") | R11: =IFERROR(VLOOKUP(O11,Références!$K$11:$N$19,4)," ") | Y11: 1 | AF11: 8 | AH11: 15 | AI11: =SUM(AF11,AH11) -> 23 | AK11: =(AJ11-L11) -> 0 | AM11: =(AL11-L11) -> 0 | AP11: =IF(AO11=1,"ELECTIVE",IF(AO11=2,"URGENCY",IF(AO11=3,"EMERGENCY",IF(AO11=4,"SALVAGE"," ")))) | BA11: Y | BC11: =IF(BG11="Aucune",0,1) -> 0 | BD11: =IF(BH11="Aucune",0,1) -> 1 | BE11: =IF(AG11="Aucune",0,1) -> 1 | BF11: =IF(AO11=1,"ELECTIVE",IF(AO11=2,"URGENCY",IF(AO11=3,"EMERGENCY",IF(AO11=4,"SALVAGE","ALIVE")))) -> ALIVE | BG11: =IF(AD11="","Aucune","Infection") -> Aucune | BH11: =IF(AI11>0,"Transfusion","Aucune") -> Transfusion | BI11: =IF(AG11="","Aucune","Transfusé") -> Aucune | BJ11: =IF(X11<>"",IF(X11-L11<2,"OUI","NON"),"NON") -> NON | BK11: =IF(AS11="","NON","OUI") -> NON | BL11: =IF(AL11-L11>0,AL11-L11,"Inconnu") -> Inconnu | BM11: =IF($O11<>"HTX",IF($O11<>"LVAD",BL11,"Inconnu"),"Inconnu") -> Inconnu | BN11: =IF($O11="HTX",BL11,IF($O11="LVAD",BL11,"Inconnu")) -> Inconnu | BO11: =IF(AJ11-L11>0,AJ11-L11,"Inconnu") -> Inconnu | BP11: =IF($O11<>"HTX",IF($O11<>"LVAD",BO11,"Inconnu"),"Inconnu") -> Inconnu | BQ11: =IF($O11="HTX",BO11,IF($O11="LVAD",BO11,"Inconnu")) -> Inconnu | BR11: =IF(BH11="Aucune",IF(BI11="Aucune","Aucune","Transfusé"),"Transfusé") -> Transfusé | BS11: =AF11+AH11 -> 23 | BT11: =VLOOKUP($I11,Lieu_Activité!$A:$B,2,FALSE) -> #N/A | BU11: =IF(AB11="","Aucun","AVC") -> Aucun | BV11: =IF(AC11="","Aucun","IM") -> Aucun | BW11: =IF(M11="","NON","OUI") -> NON
A12: JANVIER | E12: =(L12-D12)/365 -> 0 | F12: =IF(E12<80," ","1") | P12: =IFERROR(VLOOKUP(O12,Références!$K$11:$N$19,2)," ") | Q12: =IFERROR(VLOOKUP(O12,Références!$K$11:$N$19,3)," ") | R12: =IFERROR(VLOOKUP(O12,Références!$K$11:$N$19,4)," ") | Y12: 1 | AF12: 8 | AH12: 15 | AI12: =SUM(AF12,AH12) -> 23 | AK12: =(AJ12-L12) -> 0 | AM12: =(AL12-L12) -> 0 | AP12: =IF(AO12=1,"ELECTIVE",IF(AO12=2,"URGENCY",IF(AO12=3,"EMERGENCY",IF(AO12=4,"SALVAGE"," ")))) | BA12: Y | BC12: =IF(BG12="Aucune",0,1) -> 0 | BD12: =IF(BH12="Aucune",0,1) -> 1 | BE12: =IF(AG12="Aucune",0,1) -> 1 | BF12: =IF(AO12=1,"ELECTIVE",IF(AO12=2,"URGENCY",IF(AO12=3,"EMERGENCY",IF(AO12=4,"SALVAGE","ALIVE")))) -> ALIVE | BG12: =IF(AD12="","Aucune","Infection") -> Aucune | BH12: =IF(AI12>0,"Transfusion","Aucune") -> Transfusion | BI12: =IF(AG12="","Aucune","Transfusé") -> Aucune | BJ12: =IF(X12<>"",IF(X12-L12<2,"OUI","NON"),"NON") -> NON | BK12: =IF(AS12="","NON","OUI") -> NON | BL12: =IF(AL12-L12>0,AL12-L12,"Inconnu") -> Inconnu | BM12: =IF($O12<>"HTX",IF($O12<>"LVAD",BL12,"Inconnu"),"Inconnu") -> Inconnu | BN12: =IF($O12="HTX",BL12,IF($O12="LVAD",BL12,"Inconnu")) -> Inconnu | BO12: =IF(AJ12-L12>0,AJ12-L12,"Inconnu") -> Inconnu | BP12: =IF($O12<>"HTX",IF($O12<>"LVAD",BO12,"Inconnu"),"Inconnu") -> Inconnu | BQ12: =IF($O12="HTX",BO12,IF($O12="LVAD",BO12,"Inconnu")) -> Inconnu | BR12: =IF(BH12="Aucune",IF(BI12="Aucune","Aucune","Transfusé"),"Transfusé") -> Transfusé | BS12: =AF12+AH12 -> 23 | BT12: =VLOOKUP($I12,Lieu_Activité!$A:$B,2,FALSE) -> #N/A | BU12: =IF(AB12="","Aucun","AVC") -> Aucun | BV12: =IF(AC12="","Aucun","IM") -> Aucun | BW12: =IF(M12="","NON","OUI") -> NON
A13: JANVIER | E13: =(L13-D13)/365 -> 0 | F13: =IF(E13<80," ","1") | P13: =IFERROR(VLOOKUP(O13,Références!$K$11:$N$19,2)," ") | Q13: =IFERROR(VLOOKUP(O13,Références!$K$11:$N$19,3)," ") | R13: =IFERROR(VLOOKUP(O13,Références!$K$11:$N$19,4)," ") | Y13: 1 | AF13: 8 | AH13: 15 | AI13: =SUM(AF13,AH13) -> 23 | AK13: =(AJ13-L13) -> 0 | AM13: =(AL13-L13) -> 0 | AP13: =IF(AO13=1,"ELECTIVE",IF(AO13=2,"URGENCY",IF(AO13=3,"EMERGENCY",IF(AO13=4,"SALVAGE"," ")))) | BA13: Y | BC13: =IF(BG13="Aucune",0,1) -> 0 | BD13: =IF(BH13="Aucune",0,1) -> 1 | BE13: =IF(AG13="Aucune",0,1) -> 1 | BF13: =IF(AO13=1,"ELECTIVE",IF(AO13=2,"URGENCY",IF(AO13=3,"EMERGENCY",IF(AO13=4,"SALVAGE","ALIVE")))) -> ALIVE | BG13: =IF(AD13="","Aucune","Infection") -> Aucune | BH13: =IF(AI13>0,"Transfusion","Aucune") -> Transfusion | BI13: =IF(AG13="","Aucune","Transfusé") -> Aucune | BJ13: =IF(X13<>"",IF(X13-L13<2,"OUI","NON"),"NON") -> NON | BK13: =IF(AS13="","NON","OUI") -> NON | BL13: =IF(AL13-L13>0,AL13-L13,"Inconnu") -> Inconnu | BM13: =IF($O13<>"HTX",IF($O13<>"LVAD",BL13,"Inconnu"),"Inconnu") -> Inconnu | BN13: =IF($O13="HTX",BL13,IF($O13="LVAD",BL13,"Inconnu")) -> Inconnu | BO13: =IF(AJ13-L13>0,AJ13-L13,"Inconnu") -> Inconnu | BP13: =IF($O13<>"HTX",IF($O13<>"LVAD",BO13,"Inconnu"),"Inconnu") -> Inconnu | BQ13: =IF($O13="HTX",BO13,IF($O13="LVAD",BO13,"Inconnu")) -> Inconnu | BR13: =IF(BH13="Aucune",IF(BI13="Aucune","Aucune","Transfusé"),"Transfusé") -> Transfusé | BS13: =AF13+AH13 -> 23 | BT13: =VLOOKUP($I13,Lieu_Activité!$A:$B,2,FALSE) -> #N/A | BU13: =IF(AB13="","Aucun","AVC") -> Aucun | BV13: =IF(AC13="","Aucun","IM") -> Aucun | BW13: =IF(M13="","NON","OUI") -> NON
A14: JANVIER | E14: =(L14-D14)/365 -> 0 | F14: =IF(E14<80," ","1") | P14: =IFERROR(VLOOKUP(O14,Références!$K$11:$N$19,2)," ") | Q14: =IFERROR(VLOOKUP(O14,Références!$K$11:$N$19,3)," ") | R14: =IFERROR(VLOOKUP(O14,Références!$K$11:$N$19,4)," ") | Y14: 1 | AF14: 15 | AH14: 15 | AI14: =SUM(AF14,AH14) -> 30 | AK14: =(AJ14-L14) -> 0 | AM14: =(AL14-L14) -> 0 | AP14: =IF(AO14=1,"ELECTIVE",IF(AO14=2,"URGENCY",IF(AO14=3,"EMERGENCY",IF(AO14=4,"SALVAGE"," ")))) | BA14: Y | BC14: =IF(BG14="Aucune",0,1) -> 0 | BD14: =IF(BH14="Aucune",0,1) -> 1 | BE14: =IF(AG14="Aucune",0,1) -> 1 | BF14: =IF(AO14=1,"ELECTIVE",IF(AO14=2,"URGENCY",IF(AO14=3,"EMERGENCY",IF(AO14=4,"SALVAGE","ALIVE")))) -> ALIVE | BG14: =IF(AD14="","Aucune","Infection") -> Aucune | BH14: =IF(AI14>0,"Transfusion","Aucune") -> Transfusion | BI14: =IF(AG14="","Aucune","Transfusé") -> Aucune | BJ14: =IF(X14<>"",IF(X14-L14<2,"OUI","NON"),"NON") -> NON | BK14: =IF(AS14="","NON","OUI") -> NON | BL14: =IF(AL14-L14>0,AL14-L14,"Inconnu") -> Inconnu | BM14: =IF($O14<>"HTX",IF($O14<>"LVAD",BL14,"Inconnu"),"Inconnu") -> Inconnu | BN14: =IF($O14="HTX",BL14,IF($O14="LVAD",BL14,"Inconnu")) -> Inconnu | BO14: =IF(AJ14-L14>0,AJ14-L14,"Inconnu") -> Inconnu | BP14: =IF($O14<>"HTX",IF($O14<>"LVAD",BO14,"Inconnu"),"Inconnu") -> Inconnu | BQ14: =IF($O14="HTX",BO14,IF($O14="LVAD",BO14,"Inconnu")) -> Inconnu | BR14: =IF(BH14="Aucune",IF(BI14="Aucune","Aucune","Transfusé"),"Transfusé") -> Transfusé | BS14: =AF14+AH14 -> 30 | BT14: =VLOOKUP($I14,Lieu_Activité!$A:$B,2,FALSE) -> #N/A | BU14: =IF(AB14="","Aucun","AVC") -> Aucun | BV14: =IF(AC14="","Aucun","IM") -> Aucun | BW14: =IF(M14="","NON","OUI") -> NON
A15: JANVIER | E15: =(L15-D15)/365 -> 0 | F15: =IF(E15<80," ","1") | P15: =IFERROR(VLOOKUP(O15,Références!$K$11:$N$19,2)," ") | Q15: =IFERROR(VLOOKUP(O15,Références!$K$11:$N$19,3)," ") | R15: =IFERROR(VLOOKUP(O15,Références!$K$11:$N$19,4)," ") | Y15: 1 | AI15: =SUM(AF15,AH15) -> 0 | AK15: =(AJ15-L15) -> 0 | AM15: =(AL15-L15) -> 0 | AP15: =IF(AO15=1,"ELECTIVE",IF(AO15=2,"URGENCY",IF(AO15=3,"EMERGENCY",IF(AO15=4,"SALVAGE"," ")))) | BA15: Y | BC15: =IF(BG15="Aucune",0,1) -> 0 | BD15: =IF(BH15="Aucune",0,1) -> 0 | BE15: =IF(AG15="Aucune",0,1) -> 1 | BF15: =IF(AO15=1,"ELECTIVE",IF(AO15=2,"URGENCY",IF(AO15=3,"EMERGENCY",IF(AO15=4,"SALVAGE","ALIVE")))) -> ALIVE | BG15: =IF(AD15="","Aucune","Infection") -> Aucune | BH15: =IF(AI15>0,"Transfusion","Aucune") -> Aucune | BI15: =IF(AG15="","Aucune","Transfusé") -> Aucune | BJ15: =IF(X15<>"",IF(X15-L15<2,"OUI","NON"),"NON") -> NON | BK15: =IF(AS15="","NON","OUI") -> NON | BL15: =IF(AL15-L15>0,AL15-L15,"Inconnu") -> Inconnu | BM15: =IF($O15<>"HTX",IF($O15<>"LVAD",BL15,"Inconnu"),"Inconnu") -> Inconnu | BN15: =IF($O15="HTX",BL15,IF($O15="LVAD",BL15,"Inconnu")) -> Inconnu | BO15: =IF(AJ15-L15>0,AJ15-L15,"Inconnu") -> Inconnu | BP15: =IF($O15<>"HTX",IF($O15<>"LVAD",BO15,"Inconnu"),"Inconnu") -> Inconnu | BQ15: =IF($O15="HTX",BO15,IF($O15="LVAD",BO15,"Inconnu")) -> Inconnu | BR15: =IF(BH15="Aucune",IF(BI15="Aucune","Aucune","Transfusé"),"Transfusé") -> Aucune | BS15: =AF15+AH15 -> 0 | BT15: =VLOOKUP($I15,Lieu_Activité!$A:$B,2,FALSE) -> #N/A | BU15: =IF(AB15="","Aucun","AVC") -> Aucun | BV15: =IF(AC15="","Aucun","IM") -> Aucun | BW15: =IF(M15="","NON","OUI") -> NON
A16: JANVIER | E16: =(L16-D16)/365 -> 0 | F16: =IF(E16<80," ","1") | P16: =IFERROR(VLOOKUP(O16,Références!$K$11:$N$19,2)," ") | Q16: =IFERROR(VLOOKUP(O16,Références!$K$11:$N$19,3)," ") | R16: =IFERROR(VLOOKUP(O16,Références!$K$11:$N$19,4)," ") | Y16: 1 | AI16: =SUM(AF16,AH16) -> 0 | AK16: =(AJ16-L16) -> 0 | AM16: =(AL16-L16) -> 0 | AP16: =IF(AO16=1,"ELECTIVE",IF(AO16=2,"URGENCY",IF(AO16=3,"EMERGENCY",IF(AO16=4,"SALVAGE"," ")))) | BC16: =IF(BG16="Aucune",0,1) -> 0 | BD16: =IF(BH16="Aucune",0,1) -> 0 | BE16: =IF(AG16="Aucune",0,1) -> 1 | BF16: =IF(AO16=1,"ELECTIVE",IF(AO16=2,"URGENCY",IF(AO16=3,"EMERGENCY",IF(AO16=4,"SALVAGE","ALIVE")))) -> ALIVE | BG16: =IF(AD16="","Aucune","Infection") -> Aucune | BH16: =IF(AI16>0,"Transfusion","Aucune") -> Aucune | BI16: =IF(AG16="","Aucune","Transfusé") -> Aucune | BJ16: =IF(X16<>"",IF(X16-L16<2,"OUI","NON"),"NON") -> NON | BK16: =IF(AS16="","NON","OUI") -> NON | BL16: =IF(AL16-L16>0,AL16-L16,"Inconnu") -> Inconnu | BM16: =IF($O16<>"HTX",IF($O16<>"LVAD",BL16,"Inconnu"),"Inconnu") -> Inconnu | BN16: =IF($O16="HTX",BL16,IF($O16="LVAD",BL16,"Inconnu")) -> Inconnu | BO16: =IF(AJ16-L16>0,AJ16-L16,"Inconnu") -> Inconnu | BP16: =IF($O16<>"HTX",IF($O16<>"LVAD",BO16,"Inconnu"),"Inconnu") -> Inconnu | BQ16: =IF($O16="HTX",BO16,IF($O16="LVAD",BO16,"Inconnu")) -> Inconnu | BR16: =IF(BH16="Aucune",IF(BI16="Aucune","Aucune","Transfusé"),"Transfusé") -> Aucune | BS16: =AF16+AH16 -> 0 | BT16: =VLOOKUP($I16,Lieu_Activité!$A:$B,2,FALSE) -> #N/A | BU16: =IF(AB16="","Aucun","AVC") -> Aucun | BV16: =IF(AC16="","Aucun","IM") -> Aucun | BW16: =IF(M16="","NON","OUI") -> NON
A17: JANVIER | E17: =(L17-D17)/365 -> 0 | F17: =IF(E17<80," ","1") | P17: =IFERROR(VLOOKUP(O17,Références!$K$11:$N$19,2)," ") | Q17: =IFERROR(VLOOKUP(O17,Références!$K$11:$N$19,3)," ") | R17: =IFERROR(VLOOKUP(O17,Références!$K$11:$N$19,4)," ") | Y17: 1 | AI17: =SUM(AF17,AH17) -> 0 | AK17: =(AJ17-L17) -> 0 | AM17: =(AL17-L17) -> 0 | AP17: =IF(AO17=1,"ELECTIVE",IF(AO17=2,"URGENCY",IF(AO17=3,"EMERGENCY",IF(AO17=4,"SALVAGE"," ")))) | BA17: Y | BC17: =IF(BG17="Aucune",0,1) -> 0 | BD17: =IF(BH17="Aucune",0,1) -> 0 | BE17: =IF(AG17="Aucune",0,1) -> 1 | BF17: =IF(AO17=1,"ELECTIVE",IF(AO17=2,"URGENCY",IF(AO17=3,"EMERGENCY",IF(AO17=4,"SALVAGE","ALIVE")))) -> ALIVE | BG17: =IF(AD17="","Aucune","Infection") -> Aucune | BH17: =IF(AI17>0,"Transfusion","Aucune") -> Aucune | BI17: =IF(AG17="","Aucune","Transfusé") -> Aucune | BJ17: =IF(X17<>"",IF(X17-L17<2,"OUI","NON"),"NON") -> NON | BK17: =IF(AS17="","NON","OUI") -> NON | BL17: =IF(AL17-L17>0,AL17-L17,"Inconnu") -> Inconnu | BM17: =IF($O17<>"HTX",IF($O17<>"LVAD",BL17,"Inconnu"),"Inconnu") -> Inconnu | BN17: =IF($O17="HTX",BL17,IF($O17="LVAD",BL17,"Inconnu")) -> Inconnu | BO17: =IF(AJ17-L17>0,AJ17-L17,"Inconnu") -> Inconnu | BP17: =IF($O17<>"HTX",IF($O17<>"LVAD",BO17,"Inconnu"),"Inconnu") -> Inconnu | BQ17: =IF($O17="HTX",BO17,IF($O17="LVAD",BO17,"Inconnu")) -> Inconnu | BR17: =IF(BH17="Aucune",IF(BI17="Aucune","Aucune","Transfusé"),"Transfusé") -> Aucune | BS17: =AF17+AH17 -> 0 | BT17: =VLOOKUP($I17,Lieu_Activité!$A:$B,2,FALSE) -> #N/A | BU17: =IF(AB17="","Aucun","AVC") -> Aucun | BV17: =IF(AC17="","Aucun","IM") -> Aucun | BW17: =IF(M17="","NON","OUI") -> NON
A18: JANVIER | E18: =(L18-D18)/365 -> 0 | F18: =IF(E18<80," ","1") | P18: =IFERROR(VLOOKUP(O18,Références!$K$11:$N$19,2)," ") | Q18: =IFERROR(VLOOKUP(O18,Références!$K$11:$N$19,3)," ") | R18: =IFERROR(VLOOKUP(O18,Références!$K$11:$N$19,4)," ") | Y18: 1 | AI18: =SUM(AF18,AH18) -> 0 | AK18: =(AJ18-L18) -> 0 | AM18: =(AL18-L18) -> 0 | AP18: =IF(AO18=1,"ELECTIVE",IF(AO18=2,"URGENCY",IF(AO18=3,"EMERGENCY",IF(AO18=4,"SALVAGE"," ")))) | BA18: Y | BC18: =IF(BG18="Aucune",0,1) -> 0 | BD18: =IF(BH18="Aucune",0,1) -> 0 | BE18: =IF(AG18="Aucune",0,1) -> 1 | BF18: =IF(AO18=1,"ELECTIVE",IF(AO18=2,"URGENCY",IF(AO18=3,"EMERGENCY",IF(AO18=4,"SALVAGE","ALIVE")))) -> ALIVE | BG18: =IF(AD18="","Aucune","Infection") -> Aucune | BH18: =IF(AI18>0,"Transfusion","Aucune") -> Aucune | BI18: =IF(AG18="","Aucune","Transfusé") -> Aucune | BJ18: =IF(X18<>"",IF(X18-L18<2,"OUI","NON"),"NON") -> NON | BK18: =IF(AS18="","NON","OUI") -> NON | BL18: =IF(AL18-L18>0,AL18-L18,"Inconnu") -> Inconnu | BM18: =IF($O18<>"HTX",IF($O18<>"LVAD",BL18,"Inconnu"),"Inconnu") -> Inconnu | BN18: =IF($O18="HTX",BL18,IF($O18="LVAD",BL18,"Inconnu")) -> Inconnu | BO18: =IF(AJ18-L18>0,AJ18-L18,"Inconnu") -> Inconnu | BP18: =IF($O18<>"HTX",IF($O18<>"LVAD",BO18,"Inconnu"),"Inconnu") -> Inconnu | BQ18: =IF($O18="HTX",BO18,IF($O18="LVAD",BO18,"Inconnu")) -> Inconnu | BR18: =IF(BH18="Aucune",IF(BI18="Aucune","Aucune","Transfusé"),"Transfusé") -> Aucune | BS18: =AF18+AH18 -> 0 | BT18: =VLOOKUP($I18,Lieu_Activité!$A:$B,2,FALSE) -> #N/A | BU18: =IF(AB18="","Aucun","AVC") -> Aucun | BV18: =IF(AC18="","Aucun","IM") -> Aucun | BW18: =IF(M18="","NON","OUI") -> NON
A19: JANVIER | E19: =(L19-D19)/365 -> 0 | F19: =IF(E19<80," ","1") | P19: =IFERROR(VLOOKUP(O19,Références!$K$11:$N$19,2)," ") | Q19: =IFERROR(VLOOKUP(O19,Références!$K$11:$N$19,3)," ") | R19: =IFERROR(VLOOKUP(O19,Références!$K$11:$N$19,4)," ") | Y19: 1 | AI19: =SUM(AF19,AH19) -> 0 | AK19: =(AJ19-L19) -> 0 | AM19: =(AL19-L19) -> 0 | AP19: =IF(AO19=1,"ELECTIVE",IF(AO19=2,"URGENCY",IF(AO19=3,"EMERGENCY",IF(AO19=4,"SALVAGE"," ")))) | BA19: Y | BC19: =IF(BG19="Aucune",0,1) -> 0 | BD19: =IF(BH19="Aucune",0,1) -> 0 | BE19: =IF(AG19="Aucune",0,1) -> 1 | BF19: =IF(AO19=1,"ELECTIVE",IF(AO19=2,"URGENCY",IF(AO19=3,"EMERGENCY",IF(AO19=4,"SALVAGE","ALIVE")))) -> ALIVE | BG19: =IF(AD19="","Aucune","Infection") -> Aucune | BH19: =IF(AI19>0,"Transfusion","Aucune") -> Aucune | BI19: =IF(AG19="","Aucune","Transfusé") -> Aucune | BJ19: =IF(X19<>"",IF(X19-L19<2,"OUI","NON"),"NON") -> NON | BK19: =IF(AS19="","NON","OUI") -> NON | BL19: =IF(AL19-L19>0,AL19-L19,"Inconnu") -> Inconnu | BM19: =IF($O19<>"HTX",IF($O19<>"LVAD",BL19,"Inconnu"),"Inconnu") -> Inconnu | BN19: =IF($O19="HTX",BL19,IF($O19="LVAD",BL19,"Inconnu")) -> Inconnu | BO19: =IF(AJ19-L19>0,AJ19-L19,"Inconnu") -> Inconnu | BP19: =IF($O19<>"HTX",IF($O19<>"LVAD",BO19,"Inconnu"),"Inconnu") -> Inconnu | BQ19: =IF($O19="HTX",BO19,IF($O19="LVAD",BO19,"Inconnu")) -> Inconnu | BR19: =IF(BH19="Aucune",IF(BI19="Aucune","Aucune","Transfusé"),"Transfusé") -> Aucune | BS19: =AF19+AH19 -> 0 | BT19: =VLOOKUP($I19,Lieu_Activité!$A:$B,2,FALSE) -> #N/A | BU19: =IF(AB19="","Aucun","AVC") -> Aucun | BV19: =IF(AC19="","Aucun","IM") -> Aucun | BW19: =IF(M19="","NON","OUI") -> NON
A20: JANVIER | E20: =(L20-D20)/365 -> 0 | F20: =IF(E20<80," ","1") | P20: =IFERROR(VLOOKUP(O20,Références!$K$11:$N$19,2)," ") | Q20: =IFERROR(VLOOKUP(O20,Références!$K$11:$N$19,3)," ") | R20: =IFERROR(VLOOKUP(O20,Références!$K$11:$N$19,4)," ") | Y20: 1 | AI20: =SUM(AF20,AH20) -> 0 | AK20: =(AJ20-L20) -> 0 | AM20: =(AL20-L20) -> 0 | AP20: =IF(AO20=1,"ELECTIVE",IF(AO20=2,"URGENCY",IF(AO20=3,"EMERGENCY",IF(AO20=4,"SALVAGE"," ")))) | BA20: Y | BC20: =IF(BG20="Aucune",0,1) -> 0 | BD20: =IF(BH20="Aucune",0,1) -> 0 | BE20: =IF(AG20="Aucune",0,1) -> 1 | BF20: =IF(AO20=1,"ELECTIVE",IF(AO20=2,"URGENCY",IF(AO20=3,"EMERGENCY",IF(AO20=4,"SALVAGE","ALIVE")))) -> ALIVE | BG20: =IF(AD20="","Aucune","Infection") -> Aucune | BH20: =IF(AI20>0,"Transfusion","Aucune") -> Aucune | BI20: =IF(AG20="","Aucune","Transfusé") -> Aucune | BJ20: =IF(X20<>"",IF(X20-L20<2,"OUI","NON"),"NON") -> NON | BK20: =IF(AS20="","NON","OUI") -> NON | BL20: =IF(AL20-L20>0,AL20-L20,"Inconnu") -> Inconnu | BM20: =IF($O20<>"HTX",IF($O20<>"LVAD",BL20,"Inconnu"),"Inconnu") -> Inconnu | BN20: =IF($O20="HTX",BL20,IF($O20="LVAD",BL20,"Inconnu")) -> Inconnu | BO20: =IF(AJ20-L20>0,AJ20-L20,"Inconnu") -> Inconnu | BP20: =IF($O20<>"HTX",IF($O20<>"LVAD",BO20,"Inconnu"),"Inconnu") -> Inconnu | BQ20: =IF($O20="HTX",BO20,IF($O20="LVAD",BO20,"Inconnu")) -> Inconnu | BR20: =IF(BH20="Aucune",IF(BI20="Aucune","Aucune","Transfusé"),"Transfusé") -> Aucune | BS20: =AF20+AH20 -> 0 | BT20: =VLOOKUP($I20,Lieu_Activité!$A:$B,2,FALSE) -> #N/A | BU20: =IF(AB20="","Aucun","AVC") -> Aucun | BV20: =IF(AC20="","Aucun","IM") -> Aucun | BW20: =IF(M20="","NON","OUI") -> NON
A21: JANVIER | E21: =(L21-D21)/365 -> 0 | F21: =IF(E21<80," ","1") | P21: =IFERROR(VLOOKUP(O21,Références!$K$11:$N$19,2)," ") | Q21: =IFERROR(VLOOKUP(O21,Références!$K$11:$N$19,3)," ") | R21: =IFERROR(VLOOKUP(O21,Références!$K$11:$N$19,4)," ") | Y21: 1 | AI21: =SUM(AF21,AH21) -> 0 | AK21: =(AJ21-L21) -> 0 | AM21: =(AL21-L21) -> 0 | AP21: =IF(AO21=1,"ELECTIVE",IF(AO21=2,"URGENCY",IF(AO21=3,"EMERGENCY",IF(AO21=4,"SALVAGE"," ")))) | BA21: Y | BC21: =IF(BG21="Aucune",0,1) -> 0 | BD21: =IF(BH21="Aucune",0,1) -> 0 | BE21: =IF(AG21="Aucune",0,1) -> 1 | BF21: =IF(AO21=1,"ELECTIVE",IF(AO21=2,"URGENCY",IF(AO21=3,"EMERGENCY",IF(AO21=4,"SALVAGE","ALIVE")))) -> ALIVE | BG21: =IF(AD21="","Aucune","Infection") -> Aucune | BH21: =IF(AI21>0,"Transfusion","Aucune") -> Aucune | BI21: =IF(AG21="","Aucune","Transfusé") -> Aucune | BJ21: =IF(X21<>"",IF(X21-L21<2,"OUI","NON"),"NON") -> NON | BK21: =IF(AS21="","NON","OUI") -> NON | BL21: =IF(AL21-L21>0,AL21-L21,"Inconnu") -> Inconnu | BM21: =IF($O21<>"HTX",IF($O21<>"LVAD",BL21,"Inconnu"),"Inconnu") -> Inconnu | BN21: =IF($O21="HTX",BL21,IF($O21="LVAD",BL21,"Inconnu")) -> Inconnu | BO21: =IF(AJ21-L21>0,AJ21-L21,"Inconnu") -> Inconnu | BP21: =IF($O21<>"HTX",IF($O21<>"LVAD",BO21,"Inconnu"),"Inconnu") -> Inconnu | BQ21: =IF($O21="HTX",BO21,IF($O21="LVAD",BO21,"Inconnu")) -> Inconnu | BR21: =IF(BH21="Aucune",IF(BI21="Aucune","Aucune","Transfusé"),"Transfusé") -> Aucune | BS21: =AF21+AH21 -> 0 | BT21: =VLOOKUP($I21,Lieu_Activité!$A:$B,2,FALSE) -> #N/A | BU21: =IF(AB21="","Aucun","AVC") -> Aucun | BV21: =IF(AC21="","Aucun","IM") -> Aucun | BW21: =IF(M21="","NON","OUI") -> NON
A22: JANVIER | E22: =(L22-D22)/365 -> 0 | F22: =IF(E22<80," ","1") | P22: =IFERROR(VLOOKUP(O22,Références!$K$11:$N$19,2)," ") | Q22: =IFERROR(VLOOKUP(O22,Références!$K$11:$N$19,3)," ") | R22: =IFERROR(VLOOKUP(O22,Références!$K$11:$N$19,4)," ") | Y22: 1 | AI22: =SUM(AF22,AH22) -> 0 | AK22: =(AJ22-L22) -> 0 | AM22: =(AL22-L22) -> 0 | AP22: =IF(AO22=1,"ELECTIVE",IF(AO22=2,"URGENCY",IF(AO22=3,"EMERGENCY",IF(AO22=4,"SALVAGE"," ")))) | BA22: N | BC22: =IF(BG22="Aucune",0,1) -> 0 | BD22: =IF(BH22="Aucune",0,1) -> 0 | BE22: =IF(AG22="Aucune",0,1) -> 1 | BF22: =IF(AO22=1,"ELECTIVE",IF(AO22=2,"URGENCY",IF(AO22=3,"EMERGENCY",IF(AO22=4,"SALVAGE","ALIVE")))) -> ALIVE | BG22: =IF(AD22="","Aucune","Infection") -> Aucune | BH22: =IF(AI22>0,"Transfusion","Aucune") -> Aucune | BI22: =IF(AG22="","Aucune","Transfusé") -> Aucune | BJ22: =IF(X22<>"",IF(X22-L22<2,"OUI","NON"),"NON") -> NON | BK22: =IF(AS22="","NON","OUI") -> NON | BL22: =IF(AL22-L22>0,AL22-L22,"Inconnu") -> Inconnu | BM22: =IF($O22<>"HTX",IF($O22<>"LVAD",BL22,"Inconnu"),"Inconnu") -> Inconnu | BN22: =IF($O22="HTX",BL22,IF($O22="LVAD",BL22,"Inconnu")) -> Inconnu | BO22: =IF(AJ22-L22>0,AJ22-L22,"Inconnu") -> Inconnu | BP22: =IF($O22<>"HTX",IF($O22<>"LVAD",BO22,"Inconnu"),"Inconnu") -> Inconnu | BQ22: =IF($O22="HTX",BO22,IF($O22="LVAD",BO22,"Inconnu")) -> Inconnu | BR22: =IF(BH22="Aucune",IF(BI22="Aucune","Aucune","Transfusé"),"Transfusé") -> Aucune | BS22: =AF22+AH22 -> 0 | BT22: =VLOOKUP($I22,Lieu_Activité!$A:$B,2,FALSE) -> #N/A | BU22: =IF(AB22="","Aucun","AVC") -> Aucun | BV22: =IF(AC22="","Aucun","IM") -> Aucun | BW22: =IF(M22="","NON","OUI") -> NON
A23: JANVIER | E23: =(L23-D23)/365 -> 0 | F23: =IF(E23<80," ","1") | P23: =IFERROR(VLOOKUP(O23,Références!$K$11:$N$19,2)," ") | Q23: =IFERROR(VLOOKUP(O23,Références!$K$11:$N$19,3)," ") | R23: =IFERROR(VLOOKUP(O23,Références!$K$11:$N$19,4)," ") | Y23: 1 | AI23: =SUM(AF23,AH23) -> 0 | AK23: =(AJ23-L23) -> 0 | AM23: =(AL23-L23) -> 0 | AP23: =IF(AO23=1,"ELECTIVE",IF(AO23=2,"URGENCY",IF(AO23=3,"EMERGENCY",IF(AO23=4,"SALVAGE"," ")))) | BA23: Y | BC23: =IF(BG23="Aucune",0,1) -> 0 | BD23: =IF(BH23="Aucune",0,1) -> 0 | BE23: =IF(AG23="Aucune",0,1) -> 1 | BF23: =IF(AO23=1,"ELECTIVE",IF(AO23=2,"URGENCY",IF(AO23=3,"EMERGENCY",IF(AO23=4,"SALVAGE","ALIVE")))) -> ALIVE | BG23: =IF(AD23="","Aucune","Infection") -> Aucune | BH23: =IF(AI23>0,"Transfusion","Aucune") -> Aucune | BI23: =IF(AG23="","Aucune","Transfusé") -> Aucune | BJ23: =IF(X23<>"",IF(X23-L23<2,"OUI","NON"),"NON") -> NON | BK23: =IF(AS23="","NON","OUI") -> NON | BL23: =IF(AL23-L23>0,AL23-L23,"Inconnu") -> Inconnu | BM23: =IF($O23<>"HTX",IF($O23<>"LVAD",BL23,"Inconnu"),"Inconnu") -> Inconnu | BN23: =IF($O23="HTX",BL23,IF($O23="LVAD",BL23,"Inconnu")) -> Inconnu | BO23: =IF(AJ23-L23>0,AJ23-L23,"Inconnu") -> Inconnu | BP23: =IF($O23<>"HTX",IF($O23<>"LVAD",BO23,"Inconnu"),"Inconnu") -> Inconnu | BQ23: =IF($O23="HTX",BO23,IF($O23="LVAD",BO23,"Inconnu")) -> Inconnu | BR23: =IF(BH23="Aucune",IF(BI23="Aucune","Aucune","Transfusé"),"Transfusé") -> Aucune | BS23: =AF23+AH23 -> 0 | BT23: =VLOOKUP($I23,Lieu_Activité!$A:$B,2,FALSE) -> #N/A | BU23: =IF(AB23="","Aucun","AVC") -> Aucun | BV23: =IF(AC23="","Aucun","IM") -> Aucun | BW23: =IF(M23="","NON","OUI") -> NON
A24: JANVIER | E24: =(L24-D24)/365 -> 0 | F24: =IF(E24<80," ","1") | P24: =IFERROR(VLOOKUP(O24,Références!$K$11:$N$19,2)," ") | Q24: =IFERROR(VLOOKUP(O24,Références!$K$11:$N$19,3)," ") | R24: =IFERROR(VLOOKUP(O24,Références!$K$11:$N$19,4)," ") | Y24: 1 | AI24: =SUM(AF24,AH24) -> 0 | AK24: =(AJ24-L24) -> 0 | AM24: =(AL24-L24) -> 0 | AP24: =IF(AO24=1,"ELECTIVE",IF(AO24=2,"URGENCY",IF(AO24=3,"EMERGENCY",IF(AO24=4,"SALVAGE"," ")))) | BA24: Y | BC24: =IF(BG24="Aucune",0,1) -> 0 | BD24: =IF(BH24="Aucune",0,1) -> 0 | BE24: =IF(AG24="Aucune",0,1) -> 1 | BF24: =IF(AO24=1,"ELECTIVE",IF(AO24=2,"URGENCY",IF(AO24=3,"EMERGENCY",IF(AO24=4,"SALVAGE","ALIVE")))) -> ALIVE | BG24: =IF(AD24="","Aucune","Infection") -> Aucune | BH24: =IF(AI24>0,"Transfusion","Aucune") -> Aucune | BI24: =IF(AG24="","Aucune","Transfusé") -> Aucune | BJ24: =IF(X24<>"",IF(X24-L24<2,"OUI","NON"),"NON") -> NON | BK24: =IF(AS24="","NON","OUI") -> NON | BL24: =IF(AL24-L24>0,AL24-L24,"Inconnu") -> Inconnu | BM24: =IF($O24<>"HTX",IF($O24<>"LVAD",BL24,"Inconnu"),"Inconnu") -> Inconnu | BN24: =IF($O24="HTX",BL24,IF($O24="LVAD",BL24,"Inconnu")) -> Inconnu | BO24: =IF(AJ24-L24>0,AJ24-L24,"Inconnu") -> Inconnu | BP24: =IF($O24<>"HTX",IF($O24<>"LVAD",BO24,"Inconnu"),"Inconnu") -> Inconnu | BQ24: =IF($O24="HTX",BO24,IF($O24="LVAD",BO24,"Inconnu")) -> Inconnu | BR24: =IF(BH24="Aucune",IF(BI24="Aucune","Aucune","Transfusé"),"Transfusé") -> Aucune | BS24: =AF24+AH24 -> 0 | BT24: =VLOOKUP($I24,Lieu_Activité!$A:$B,2,FALSE) -> #N/A | BU24: =IF(AB24="","Aucun","AVC") -> Aucun | BV24: =IF(AC24="","Aucun","IM") -> Aucun | BW24: =IF(M24="","NON","OUI") -> NON
A25: JANVIER | E25: =(L25-D25)/365 -> 0 | F25: =IF(E25<80," ","1") | P25: =IFERROR(VLOOKUP(O25,Références!$K$11:$N$19,2)," ") | Q25: =IFERROR(VLOOKUP(O25,Références!$K$11:$N$19,3)," ") | R25: =IFERROR(VLOOKUP(O25,Références!$K$11:$N$19,4)," ") | Y25: 1 | AI25: =SUM(AF25,AH25) -> 0 | AK25: =(AJ25-L25) -> 0 | AM25: =(AL25-L25) -> 0 | AP25: =IF(AO25=1,"ELECTIVE",IF(AO25=2,"URGENCY",IF(AO25=3,"EMERGENCY",IF(AO25=4,"SALVAGE"," ")))) | BA25: Y | BC25: =IF(BG25="Aucune",0,1) -> 0 | BD25: =IF(BH25="Aucune",0,1) -> 0 | BE25: =IF(AG25="Aucune",0,1) -> 1 | BF25: =IF(AO25=1,"ELECTIVE",IF(AO25=2,"URGENCY",IF(AO25=3,"EMERGENCY",IF(AO25=4,"SALVAGE","ALIVE")))) -> ALIVE | BG25: =IF(AD25="","Aucune","Infection") -> Aucune | BH25: =IF(AI25>0,"Transfusion","Aucune") -> Aucune | BI25: =IF(AG25="","Aucune","Transfusé") -> Aucune | BJ25: =IF(X25<>"",IF(X25-L25<2,"OUI","NON"),"NON") -> NON | BK25: =IF(AS25="","NON","OUI") -> NON | BL25: =IF(AL25-L25>0,AL25-L25,"Inconnu") -> Inconnu | BM25: =IF($O25<>"HTX",IF($O25<>"LVAD",BL25,"Inconnu"),"Inconnu") -> Inconnu | BN25: =IF($O25="HTX",BL25,IF($O25="LVAD",BL25,"Inconnu")) -> Inconnu | BO25: =IF(AJ25-L25>0,AJ25-L25,"Inconnu") -> Inconnu | BP25: =IF($O25<>"HTX",IF($O25<>"LVAD",BO25,"Inconnu"),"Inconnu") -> Inconnu | BQ25: =IF($O25="HTX",BO25,IF($O25="LVAD",BO25,"Inconnu")) -> Inconnu | BR25: =IF(BH25="Aucune",IF(BI25="Aucune","Aucune","Transfusé"),"Transfusé") -> Aucune | BS25: =AF25+AH25 -> 0 | BT25: =VLOOKUP($I25,Lieu_Activité!$A:$B,2,FALSE) -> #N/A | BU25: =IF(AB25="","Aucun","AVC") -> Aucun | BV25: =IF(AC25="","Aucun","IM") -> Aucun | BW25: =IF(M25="","NON","OUI") -> NON
A26: JANVIER | E26: =(L26-D26)/365 -> 0 | F26: =IF(E26<80," ","1") | P26: =IFERROR(VLOOKUP(O26,Références!$K$11:$N$19,2)," ") | Q26: =IFERROR(VLOOKUP(O26,Références!$K$11:$N$19,3)," ") | R26: =IFERROR(VLOOKUP(O26,Références!$K$11:$N$19,4)," ") | Y26: 1 | AI26: =SUM(AF26,AH26) -> 0 | AK26: =(AJ26-L26) -> 0 | AM26: =(AL26-L26) -> 0 | AP26: =IF(AO26=1,"ELECTIVE",IF(AO26=2,"URGENCY",IF(AO26=3,"EMERGENCY",IF(AO26=4,"SALVAGE"," ")))) | BC26: =IF(BG26="Aucune",0,1) -> 0 | BD26: =IF(BH26="Aucune",0,1) -> 0 | BE26: =IF(AG26="Aucune",0,1) -> 1 | BF26: =IF(AO26=1,"ELECTIVE",IF(AO26=2,"URGENCY",IF(AO26=3,"EMERGENCY",IF(AO26=4,"SALVAGE","ALIVE")))) -> ALIVE | BG26: =IF(AD26="","Aucune","Infection") -> Aucune | BH26: =IF(AI26>0,"Transfusion","Aucune") -> Aucune | BI26: =IF(AG26="","Aucune","Transfusé") -> Aucune | BJ26: =IF(X26<>"",IF(X26-L26<2,"OUI","NON"),"NON") -> NON | BK26: =IF(AS26="","NON","OUI") -> NON | BL26: =IF(AL26-L26>0,AL26-L26,"Inconnu") -> Inconnu | BM26: =IF($O26<>"HTX",IF($O26<>"LVAD",BL26,"Inconnu"),"Inconnu") -> Inconnu | BN26: =IF($O26="HTX",BL26,IF($O26="LVAD",BL26,"Inconnu")) -> Inconnu | BO26: =IF(AJ26-L26>0,AJ26-L26,"Inconnu") -> Inconnu | BP26: =IF($O26<>"HTX",IF($O26<>"LVAD",BO26,"Inconnu"),"Inconnu") -> Inconnu | BQ26: =IF($O26="HTX",BO26,IF($O26="LVAD",BO26,"Inconnu")) -> Inconnu | BR26: =IF(BH26="Aucune",IF(BI26="Aucune","Aucune","Transfusé"),"Transfusé") -> Aucune | BS26: =AF26+AH26 -> 0 | BT26: =VLOOKUP($I26,Lieu_Activité!$A:$B,2,FALSE) -> #N/A | BU26: =IF(AB26="","Aucun","AVC") -> Aucun | BV26: =IF(AC26="","Aucun","IM") -> Aucun | BW26: =IF(M26="","NON","OUI") -> NON
A27: JANVIER | E27: =(L27-D27)/365 -> 0 | F27: =IF(E27<80," ","1") | P27: =IFERROR(VLOOKUP(O27,Références!$K$11:$N$19,2)," ") | Q27: =IFERROR(VLOOKUP(O27,Références!$K$11:$N$19,3)," ") | R27: =IFERROR(VLOOKUP(O27,Références!$K$11:$N$19,4)," ") | Y27: 1 | AI27: =SUM(AF27,AH27) -> 0 | AK27: =(AJ27-L27) -> 0 | AM27: =(AL27-L27) -> 0 | AP27: =IF(AO27=1,"ELECTIVE",IF(AO27=2,"URGENCY",IF(AO27=3,"EMERGENCY",IF(AO27=4,"SALVAGE"," ")))) | BA27: Y | BC27: =IF(BG27="Aucune",0,1) -> 0 | BD27: =IF(BH27="Aucune",0,1) -> 0 | BE27: =IF(AG27="Aucune",0,1) -> 1 | BF27: =IF(AO27=1,"ELECTIVE",IF(AO27=2,"URGENCY",IF(AO27=3,"EMERGENCY",IF(AO27=4,"SALVAGE","ALIVE")))) -> ALIVE | BG27: =IF(AD27="","Aucune","Infection") -> Aucune | BH27: =IF(AI27>0,"Transfusion","Aucune") -> Aucune | BI27: =IF(AG27="","Aucune","Transfusé") -> Aucune | BJ27: =IF(X27<>"",IF(X27-L27<2,"OUI","NON"),"NON") -> NON | BK27: =IF(AS27="","NON","OUI") -> NON | BL27: =IF(AL27-L27>0,AL27-L27,"Inconnu") -> Inconnu | BM27: =IF($O27<>"HTX",IF($O27<>"LVAD",BL27,"Inconnu"),"Inconnu") -> Inconnu | BN27: =IF($O27="HTX",BL27,IF($O27="LVAD",BL27,"Inconnu")) -> Inconnu | BO27: =IF(AJ27-L27>0,AJ27-L27,"Inconnu") -> Inconnu | BP27: =IF($O27<>"HTX",IF($O27<>"LVAD",BO27,"Inconnu"),"Inconnu") -> Inconnu | BQ27: =IF($O27="HTX",BO27,IF($O27="LVAD",BO27,"Inconnu")) -> Inconnu | BR27: =IF(BH27="Aucune",IF(BI27="Aucune","Aucune","Transfusé"),"Transfusé") -> Aucune | BS27: =AF27+AH27 -> 0 | BT27: =VLOOKUP($I27,Lieu_Activité!$A:$B,2,FALSE) -> #N/A | BU27: =IF(AB27="","Aucun","AVC") -> Aucun | BV27: =IF(AC27="","Aucun","IM") -> Aucun | BW27: =IF(M27="","NON","OUI") -> NON
A28: JANVIER | E28: =(L28-D28)/365 -> 0 | F28: =IF(E28<80," ","1") | P28: =IFERROR(VLOOKUP(O28,Références!$K$11:$N$19,2)," ") | Q28: =IFERROR(VLOOKUP(O28,Références!$K$11:$N$19,3)," ") | R28: =IFERROR(VLOOKUP(O28,Références!$K$11:$N$19,4)," ") | Y28: 1 | AI28: =SUM(AF28,AH28) -> 0 | AK28: =(AJ28-L28) -> 0 | AM28: =(AL28-L28) -> 0 | AP28: =IF(AO28=1,"ELECTIVE",IF(AO28=2,"URGENCY",IF(AO28=3,"EMERGENCY",IF(AO28=4,"SALVAGE"," ")))) | BA28: Y | BC28: =IF(BG28="Aucune",0,1) -> 0 | BD28: =IF(BH28="Aucune",0,1) -> 0 | BE28: =IF(AG28="Aucune",0,1) -> 1 | BF28: =IF(AO28=1,"ELECTIVE",IF(AO28=2,"URGENCY",IF(AO28=3,"EMERGENCY",IF(AO28=4,"SALVAGE","ALIVE")))) -> ALIVE | BG28: =IF(AD28="","Aucune","Infection") -> Aucune | BH28: =IF(AI28>0,"Transfusion","Aucune") -> Aucune | BI28: =IF(AG28="","Aucune","Transfusé") -> Aucune | BJ28: =IF(X28<>"",IF(X28-L28<2,"OUI","NON"),"NON") -> NON | BK28: =IF(AS28="","NON","OUI") -> NON | BL28: =IF(AL28-L28>0,AL28-L28,"Inconnu") -> Inconnu | BM28: =IF($O28<>"HTX",IF($O28<>"LVAD",BL28,"Inconnu"),"Inconnu") -> Inconnu | BN28: =IF($O28="HTX",BL28,IF($O28="LVAD",BL28,"Inconnu")) -> Inconnu | BO28: =IF(AJ28-L28>0,AJ28-L28,"Inconnu") -> Inconnu | BP28: =IF($O28<>"HTX",IF($O28<>"LVAD",BO28,"Inconnu"),"Inconnu") -> Inconnu | BQ28: =IF($O28="HTX",BO28,IF($O28="LVAD",BO28,"Inconnu")) -> Inconnu | BR28: =IF(BH28="Aucune",IF(BI28="Aucune","Aucune","Transfusé"),"Transfusé") -> Aucune | BS28: =AF28+AH28 -> 0 | BT28: =VLOOKUP($I28,Lieu_Activité!$A:$B,2,FALSE) -> #N/A | BU28: =IF(AB28="","Aucun","AVC") -> Aucun | BV28: =IF(AC28="","Aucun","IM") -> Aucun | BW28: =IF(M28="","NON","OUI") -> NON
A29: FEVRIER | E29: =(L29-D29)/365 -> 0 | F29: =IF(E29<80," ","1") | P29: =IFERROR(VLOOKUP(O29,Références!$K$11:$N$19,2)," ") | Q29: =IFERROR(VLOOKUP(O29,Références!$K$11:$N$19,3)," ") | R29: =IFERROR(VLOOKUP(O29,Références!$K$11:$N$19,4)," ") | Y29: 1 | AI29: =SUM(AF29,AH29) -> 0 | AK29: =(AJ29-L29) -> 0 | AM29: =(AL29-L29) -> 0 | AP29: =IF(AO29=1,"ELECTIVE",IF(AO29=2,"URGENCY",IF(AO29=3,"EMERGENCY",IF(AO29=4,"SALVAGE"," ")))) | BA29: Y | BC29: =IF(BG29="Aucune",0,1) -> 0 | BD29: =IF(BH29="Aucune",0,1) -> 0 | BE29: =IF(AG29="Aucune",0,1) -> 1 | BF29: =IF(AO29=1,"ELECTIVE",IF(AO29=2,"URGENCY",IF(AO29=3,"EMERGENCY",IF(AO29=4,"SALVAGE","ALIVE")))) -> ALIVE | BG29: =IF(AD29="","Aucune","Infection") -> Aucune | BH29: =IF(AI29>0,"Transfusion","Aucune") -> Aucune | BI29: =IF(AG29="","Aucune","Transfusé") -> Aucune | BJ29: =IF(X29<>"",IF(X29-L29<2,"OUI","NON"),"NON") -> NON | BK29: =IF(AS29="","NON","OUI") -> NON | BL29: =IF(AL29-L29>0,AL29-L29,"Inconnu") -> Inconnu | BM29: =IF($O29<>"HTX",IF($O29<>"LVAD",BL29,"Inconnu"),"Inconnu") -> Inconnu | BN29: =IF($O29="HTX",BL29,IF($O29="LVAD",BL29,"Inconnu")) -> Inconnu | BO29: =IF(AJ29-L29>0,AJ29-L29,"Inconnu") -> Inconnu | BP29: =IF($O29<>"HTX",IF($O29<>"LVAD",BO29,"Inconnu"),"Inconnu") -> Inconnu | BQ29: =IF($O29="HTX",BO29,IF($O29="LVAD",BO29,"Inconnu")) -> Inconnu | BR29: =IF(BH29="Aucune",IF(BI29="Aucune","Aucune","Transfusé"),"Transfusé") -> Aucune | BS29: =AF29+AH29 -> 0 | BT29: =VLOOKUP($I29,Lieu_Activité!$A:$B,2,FALSE) -> #N/A | BU29: =IF(AB29="","Aucun","AVC") -> Aucun | BV29: =IF(AC29="","Aucun","IM") -> Aucun | BW29: =IF(M29="","NON","OUI") -> NON
A30: FEVRIER | E30: =(L30-D30)/365 -> 0 | F30: =IF(E30<80," ","1") | P30: =IFERROR(VLOOKUP(O30,Références!$K$11:$N$19,2)," ") | Q30: =IFERROR(VLOOKUP(O30,Références!$K$11:$N$19,3)," ") | R30: =IFERROR(VLOOKUP(O30,Références!$K$11:$N$19,4)," ") | Y30: 1 | AI30: =SUM(AF30,AH30) -> 0 | AK30: =(AJ30-L30) -> 0 | AM30: =(AL30-L30) -> 0 | AP30: =IF(AO30=1,"ELECTIVE",IF(AO30=2,"URGENCY",IF(AO30=3,"EMERGENCY",IF(AO30=4,"SALVAGE"," ")))) | BA30: Y | BC30: =IF(BG30="Aucune",0,1) -> 0 | BD30: =IF(BH30="Aucune",0,1) -> 0 | BE30: =IF(AG30="Aucune",0,1) -> 1 | BF30: =IF(AO30=1,"ELECTIVE",IF(AO30=2,"URGENCY",IF(AO30=3,"EMERGENCY",IF(AO30=4,"SALVAGE","ALIVE")))) -> ALIVE | BG30: =IF(AD30="","Aucune","Infection") -> Aucune | BH30: =IF(AI30>0,"Transfusion","Aucune") -> Aucune | BI30: =IF(AG30="","Aucune","Transfusé") -> Aucune | BJ30: =IF(X30<>"",IF(X30-L30<2,"OUI","NON"),"NON") -> NON | BK30: =IF(AS30="","NON","OUI") -> NON | BL30: =IF(AL30-L30>0,AL30-L30,"Inconnu") -> Inconnu | BM30: =IF($O30<>"HTX",IF($O30<>"LVAD",BL30,"Inconnu"),"Inconnu") -> Inconnu | BN30: =IF($O30="HTX",BL30,IF($O30="LVAD",BL30,"Inconnu")) -> Inconnu | BO30: =IF(AJ30-L30>0,AJ30-L30,"Inconnu") -> Inconnu | BP30: =IF($O30<>"HTX",IF($O30<>"LVAD",BO30,"Inconnu"),"Inconnu") -> Inconnu | BQ30: =IF($O30="HTX",BO30,IF($O30="LVAD",BO30,"Inconnu")) -> Inconnu | BR30: =IF(BH30="Aucune",IF(BI30="Aucune","Aucune","Transfusé"),"Transfusé") -> Aucune | BS30: =AF30+AH30 -> 0 | BT30: =VLOOKUP($I30,Lieu_Activité!$A:$B,2,FALSE) -> #N/A | BU30: =IF(AB30="","Aucun","AVC") -> Aucun | BV30: =IF(AC30="","Aucun","IM") -> Aucun | BW30: =IF(M30="","NON","OUI") -> NON
A31: FEVRIER | E31: =(L31-D31)/365 -> 0 | F31: =IF(E31<80," ","1") | P31: =IFERROR(VLOOKUP(O31,Références!$K$11:$N$19,2)," ") | Q31: =IFERROR(VLOOKUP(O31,Références!$K$11:$N$19,3)," ") | R31: =IFERROR(VLOOKUP(O31,Références!$K$11:$N$19,4)," ") | Y31: 1 | AI31: =SUM(AF31,AH31) -> 0 | AK31: =(AJ31-L31) -> 0 | AM31: =(AL31-L31) -> 0 | AP31: =IF(AO31=1,"ELECTIVE",IF(AO31=2,"URGENCY",IF(AO31=3,"EMERGENCY",IF(AO31=4,"SALVAGE"," ")))) | BA31: Y | BC31: =IF(BG31="Aucune",0,1) -> 0 | BD31: =IF(BH31="Aucune",0,1) -> 0 | BE31: =IF(AG31="Aucune",0,1) -> 1 | BF31: =IF(AO31=1,"ELECTIVE",IF(AO31=2,"URGENCY",IF(AO31=3,"EMERGENCY",IF(AO31=4,"SALVAGE","ALIVE")))) -> ALIVE | BG31: =IF(AD31="","Aucune","Infection") -> Aucune | BH31: =IF(AI31>0,"Transfusion","Aucune") -> Aucune | BI31: =IF(AG31="","Aucune","Transfusé") -> Aucune | BJ31: =IF(X31<>"",IF(X31-L31<2,"OUI","NON"),"NON") -> NON | BK31: =IF(AS31="","NON","OUI") -> NON | BL31: =IF(AL31-L31>0,AL31-L31,"Inconnu") -> Inconnu | BM31: =IF($O31<>"HTX",IF($O31<>"LVAD",BL31,"Inconnu"),"Inconnu") -> Inconnu | BN31: =IF($O31="HTX",BL31,IF($O31="LVAD",BL31,"Inconnu")) -> Inconnu | BO31: =IF(AJ31-L31>0,AJ31-L31,"Inconnu") -> Inconnu | BP31: =IF($O31<>"HTX",IF($O31<>"LVAD",BO31,"Inconnu"),"Inconnu") -> Inconnu | BQ31: =IF($O31="HTX",BO31,IF($O31="LVAD",BO31,"Inconnu")) -> Inconnu | BR31: =IF(BH31="Aucune",IF(BI31="Aucune","Aucune","Transfusé"),"Transfusé") -> Aucune | BS31: =AF31+AH31 -> 0 | BT31: =VLOOKUP($I31,Lieu_Activité!$A:$B,2,FALSE) -> #N/A | BU31: =IF(AB31="","Aucun","AVC") -> Aucun | BV31: =IF(AC31="","Aucun","IM") -> Aucun | BW31: =IF(M31="","NON","OUI") -> NON
A32: FEVRIER | E32: =(L32-D32)/365 -> 0 | F32: =IF(E32<80," ","1") | P32: =IFERROR(VLOOKUP(O32,Références!$K$11:$N$19,2)," ") | Q32: =IFERROR(VLOOKUP(O32,Références!$K$11:$N$19,3)," ") | R32: =IFERROR(VLOOKUP(O32,Références!$K$11:$N$19,4)," ") | Y32: 1 | AI32: =SUM(AF32,AH32) -> 0 | AK32: =(AJ32-L32) -> 0 | AM32: =(AL32-L32) -> 0 | AP32: =IF(AO32=1,"ELECTIVE",IF(AO32=2,"URGENCY",IF(AO32=3,"EMERGENCY",IF(AO32=4,"SALVAGE"," ")))) | BA32: Y | BC32: =IF(BG32="Aucune",0,1) -> 0 | BD32: =IF(BH32="Aucune",0,1) -> 0 | BE32: =IF(AG32="Aucune",0,1) -> 1 | BF32: =IF(AO32=1,"ELECTIVE",IF(AO32=2,"URGENCY",IF(AO32=3,"EMERGENCY",IF(AO32=4,"SALVAGE","ALIVE")))) -> ALIVE | BG32: =IF(AD32="","Aucune","Infection") -> Aucune | BH32: =IF(AI32>0,"Transfusion","Aucune") -> Aucune | BI32: =IF(AG32="","Aucune","Transfusé") -> Aucune | BJ32: =IF(X32<>"",IF(X32-L32<2,"OUI","NON"),"NON") -> NON | BK32: =IF(AS32="","NON","OUI") -> NON | BL32: =IF(AL32-L32>0,AL32-L32,"Inconnu") -> Inconnu | BM32: =IF($O32<>"HTX",IF($O32<>"LVAD",BL32,"Inconnu"),"Inconnu") -> Inconnu | BN32: =IF($O32="HTX",BL32,IF($O32="LVAD",BL32,"Inconnu")) -> Inconnu | BO32: =IF(AJ32-L32>0,AJ32-L32,"Inconnu") -> Inconnu | BP32: =IF($O32<>"HTX",IF($O32<>"LVAD",BO32,"Inconnu"),"Inconnu") -> Inconnu | BQ32: =IF($O32="HTX",BO32,IF($O32="LVAD",BO32,"Inconnu")) -> Inconnu | BR32: =IF(BH32="Aucune",IF(BI32="Aucune","Aucune","Transfusé"),"Transfusé") -> Aucune | BS32: =AF32+AH32 -> 0 | BT32: =VLOOKUP($I32,Lieu_Activité!$A:$B,2,FALSE) -> #N/A | BU32: =IF(AB32="","Aucun","AVC") -> Aucun | BV32: =IF(AC32="","Aucun","IM") -> Aucun | BW32: =IF(M32="","NON","OUI") -> NON
A33: FEVRIER | E33: =(L33-D33)/365 -> 0 | F33: =IF(E33<80," ","1") | P33: =IFERROR(VLOOKUP(O33,Références!$K$11:$N$19,2)," ") | Q33: =IFERROR(VLOOKUP(O33,Références!$K$11:$N$19,3)," ") | R33: =IFERROR(VLOOKUP(O33,Références!$K$11:$N$19,4)," ") | Y33: 1 | AI33: =SUM(AF33,AH33) -> 0 | AK33: =(AJ33-L33) -> 0 | AM33: =(AL33-L33) -> 0 | AP33: =IF(AO33=1,"ELECTIVE",IF(AO33=2,"URGENCY",IF(AO33=3,"EMERGENCY",IF(AO33=4,"SALVAGE"," ")))) | BA33: Y | BC33: =IF(BG33="Aucune",0,1) -> 0 | BD33: =IF(BH33="Aucune",0,1) -> 0 | BE33: =IF(AG33="Aucune",0,1) -> 1 | BF33: =IF(AO33=1,"ELECTIVE",IF(AO33=2,"URGENCY",IF(AO33=3,"EMERGENCY",IF(AO33=4,"SALVAGE","ALIVE")))) -> ALIVE | BG33: =IF(AD33="","Aucune","Infection") -> Aucune | BH33: =IF(AI33>0,"Transfusion","Aucune") -> Aucune | BI33: =IF(AG33="","Aucune","Transfusé") -> Aucune | BJ33: =IF(X33<>"",IF(X33-L33<2,"OUI","NON"),"NON") -> NON | BK33: =IF(AS33="","NON","OUI") -> NON | BL33: =IF(AL33-L33>0,AL33-L33,"Inconnu") -> Inconnu | BM33: =IF($O33<>"HTX",IF($O33<>"LVAD",BL33,"Inconnu"),"Inconnu") -> Inconnu | BN33: =IF($O33="HTX",BL33,IF($O33="LVAD",BL33,"Inconnu")) -> Inconnu | BO33: =IF(AJ33-L33>0,AJ33-L33,"Inconnu") -> Inconnu | BP33: =IF($O33<>"HTX",IF($O33<>"LVAD",BO33,"Inconnu"),"Inconnu") -> Inconnu | BQ33: =IF($O33="HTX",BO33,IF($O33="LVAD",BO33,"Inconnu")) -> Inconnu | BR33: =IF(BH33="Aucune",IF(BI33="Aucune","Aucune","Transfusé"),"Transfusé") -> Aucune | BS33: =AF33+AH33 -> 0 | BT33: =VLOOKUP($I33,Lieu_Activité!$A:$B,2,FALSE) -> #N/A | BU33: =IF(AB33="","Aucun","AVC") -> Aucun | BV33: =IF(AC33="","Aucun","IM") -> Aucun | BW33: =IF(M33="","NON","OUI") -> NON
A34: FEVRIER | E34: =(L34-D34)/365 -> 0 | F34: =IF(E34<80," ","1") | P34: =IFERROR(VLOOKUP(O34,Références!$K$11:$N$19,2)," ") | Q34: =IFERROR(VLOOKUP(O34,Références!$K$11:$N$19,3)," ") | R34: =IFERROR(VLOOKUP(O34,Références!$K$11:$N$19,4)," ") | Y34: 1 | AI34: =SUM(AF34,AH34) -> 0 | AK34: =(AJ34-L34) -> 0 | AM34: =(AL34-L34) -> 0 | AP34: =IF(AO34=1,"ELECTIVE",IF(AO34=2,"URGENCY",IF(AO34=3,"EMERGENCY",IF(AO34=4,"SALVAGE"," ")))) | BA34: Y | BC34: =IF(BG34="Aucune",0,1) -> 0 | BD34: =IF(BH34="Aucune",0,1) -> 0 | BE34: =IF(AG34="Aucune",0,1) -> 1 | BF34: =IF(AO34=1,"ELECTIVE",IF(AO34=2,"URGENCY",IF(AO34=3,"EMERGENCY",IF(AO34=4,"SALVAGE","ALIVE")))) -> ALIVE | BG34: =IF(AD34="","Aucune","Infection") -> Aucune | BH34: =IF(AI34>0,"Transfusion","Aucune") -> Aucune | BI34: =IF(AG34="","Aucune","Transfusé") -> Aucune | BJ34: =IF(X34<>"",IF(X34-L34<2,"OUI","NON"),"NON") -> NON | BK34: =IF(AS34="","NON","OUI") -> NON | BL34: =IF(AL34-L34>0,AL34-L34,"Inconnu") -> Inconnu | BM34: =IF($O34<>"HTX",IF($O34<>"LVAD",BL34,"Inconnu"),"Inconnu") -> Inconnu | BN34: =IF($O34="HTX",BL34,IF($O34="LVAD",BL34,"Inconnu")) -> Inconnu | BO34: =IF(AJ34-L34>0,AJ34-L34,"Inconnu") -> Inconnu | BP34: =IF($O34<>"HTX",IF($O34<>"LVAD",BO34,"Inconnu"),"Inconnu") -> Inconnu | BQ34: =IF($O34="HTX",BO34,IF($O34="LVAD",BO34,"Inconnu")) -> Inconnu | BR34: =IF(BH34="Aucune",IF(BI34="Aucune","Aucune","Transfusé"),"Transfusé") -> Aucune | BS34: =AF34+AH34 -> 0 | BT34: =VLOOKUP($I34,Lieu_Activité!$A:$B,2,FALSE) -> #N/A | BU34: =IF(AB34="","Aucun","AVC") -> Aucun | BV34: =IF(AC34="","Aucun","IM") -> Aucun | BW34: =IF(M34="","NON","OUI") -> NON
A35: FEVRIER | E35: =(L35-D35)/365 -> 0 | F35: =IF(E35<80," ","1") | P35: =IFERROR(VLOOKUP(O35,Références!$K$11:$N$19,2)," ") | Q35: =IFERROR(VLOOKUP(O35,Références!$K$11:$N$19,3)," ") | R35: =IFERROR(VLOOKUP(O35,Références!$K$11:$N$19,4)," ") | Y35: 1 | AI35: =SUM(AF35,AH35) -> 0 | AK35: =(AJ35-L35) -> 0 | AM35: =(AL35-L35) -> 0 | AP35: =IF(AO35=1,"ELECTIVE",IF(AO35=2,"URGENCY",IF(AO35=3,"EMERGENCY",IF(AO35=4,"SALVAGE"," ")))) | BA35: Y | BC35: =IF(BG35="Aucune",0,1) -> 0 | BD35: =IF(BH35="Aucune",0,1) -> 0 | BE35: =IF(AG35="Aucune",0,1) -> 1 | BF35: =IF(AO35=1,"ELECTIVE",IF(AO35=2,"URGENCY",IF(AO35=3,"EMERGENCY",IF(AO35=4,"SALVAGE","ALIVE")))) -> ALIVE | BG35: =IF(AD35="","Aucune","Infection") -> Aucune | BH35: =IF(AI35>0,"Transfusion","Aucune") -> Aucune | BI35: =IF(AG35="","Aucune","Transfusé") -> Aucune | BJ35: =IF(X35<>"",IF(X35-L35<2,"OUI","NON"),"NON") -> NON | BK35: =IF(AS35="","NON","OUI") -> NON | BL35: =IF(AL35-L35>0,AL35-L35,"Inconnu") -> Inconnu | BM35: =IF($O35<>"HTX",IF($O35<>"LVAD",BL35,"Inconnu"),"Inconnu") -> Inconnu | BN35: =IF($O35="HTX",BL35,IF($O35="LVAD",BL35,"Inconnu")) -> Inconnu | BO35: =IF(AJ35-L35>0,AJ35-L35,"Inconnu") -> Inconnu | BP35: =IF($O35<>"HTX",IF($O35<>"LVAD",BO35,"Inconnu"),"Inconnu") -> Inconnu | BQ35: =IF($O35="HTX",BO35,IF($O35="LVAD",BO35,"Inconnu")) -> Inconnu | BR35: =IF(BH35="Aucune",IF(BI35="Aucune","Aucune","Transfusé"),"Transfusé") -> Aucune | BS35: =AF35+AH35 -> 0 | BT35: =VLOOKUP($I35,Lieu_Activité!$A:$B,2,FALSE) -> #N/A | BU35: =IF(AB35="","Aucun","AVC") -> Aucun | BV35: =IF(AC35="","Aucun","IM") -> Aucun | BW35: =IF(M35="","NON","OUI") -> NON
A36: FEVRIER | E36: =(L36-D36)/365 -> 0 | F36: =IF(E36<80," ","1") | P36: =IFERROR(VLOOKUP(O36,Références!$K$11:$N$19,2)," ") | Q36: =IFERROR(VLOOKUP(O36,Références!$K$11:$N$19,3)," ") | R36: =IFERROR(VLOOKUP(O36,Références!$K$11:$N$19,4)," ") | Y36: 1 | AI36: =SUM(AF36,AH36) -> 0 | AK36: =(AJ36-L36) -> 0 | AM36: =(AL36-L36) -> 0 | AP36: =IF(AO36=1,"ELECTIVE",IF(AO36=2,"URGENCY",IF(AO36=3,"EMERGENCY",IF(AO36=4,"SALVAGE"," ")))) | BA36: Y | BC36: =IF(BG36="Aucune",0,1) -> 0 | BD36: =IF(BH36="Aucune",0,1) -> 0 | BE36: =IF(AG36="Aucune",0,1) -> 1 | BF36: =IF(AO36=1,"ELECTIVE",IF(AO36=2,"URGENCY",IF(AO36=3,"EMERGENCY",IF(AO36=4,"SALVAGE","ALIVE")))) -> ALIVE | BG36: =IF(AD36="","Aucune","Infection") -> Aucune | BH36: =IF(AI36>0,"Transfusion","Aucune") -> Aucune | BI36: =IF(AG36="","Aucune","Transfusé") -> Aucune | BJ36: =IF(X36<>"",IF(X36-L36<2,"OUI","NON"),"NON") -> NON | BK36: =IF(AS36="","NON","OUI") -> NON | BL36: =IF(AL36-L36>0,AL36-L36,"Inconnu") -> Inconnu | BM36: =IF($O36<>"HTX",IF($O36<>"LVAD",BL36,"Inconnu"),"Inconnu") -> Inconnu | BN36: =IF($O36="HTX",BL36,IF($O36="LVAD",BL36,"Inconnu")) -> Inconnu | BO36: =IF(AJ36-L36>0,AJ36-L36,"Inconnu") -> Inconnu | BP36: =IF($O36<>"HTX",IF($O36<>"LVAD",BO36,"Inconnu"),"Inconnu") -> Inconnu | BQ36: =IF($O36="HTX",BO36,IF($O36="LVAD",BO36,"Inconnu")) -> Inconnu | BR36: =IF(BH36="Aucune",IF(BI36="Aucune","Aucune","Transfusé"),"Transfusé") -> Aucune | BS36: =AF36+AH36 -> 0 | BT36: =VLOOKUP($I36,Lieu_Activité!$A:$B,2,FALSE) -> #N/A | BU36: =IF(AB36="","Aucun","AVC") -> Aucun | BV36: =IF(AC36="","Aucun","IM") -> Aucun | BW36: =IF(M36="","NON","OUI") -> NON
A37: FEVRIER | E37: =(L37-D37)/365 -> 0 | F37: =IF(E37<80," ","1") | P37: =IFERROR(VLOOKUP(O37,Références!$K$11:$N$19,2)," ") | Q37: =IFERROR(VLOOKUP(O37,Références!$K$11:$N$19,3)," ") | R37: =IFERROR(VLOOKUP(O37,Références!$K$11:$N$19,4)," ") | Y37: 1 | AI37: =SUM(AF37,AH37) -> 0 | AK37: =(AJ37-L37) -> 0 | AM37: =(AL37-L37) -> 0 | AP37: =IF(AO37=1,"ELECTIVE",IF(AO37=2,"URGENCY",IF(AO37=3,"EMERGENCY",IF(AO37=4,"SALVAGE"," ")))) | BA37: Y | BC37: =IF(BG37="Aucune",0,1) -> 0 | BD37: =IF(BH37="Aucune",0,1) -> 0 | BE37: =IF(AG37="Aucune",0,1) -> 1 | BF37: =IF(AO37=1,"ELECTIVE",IF(AO37=2,"URGENCY",IF(AO37=3,"EMERGENCY",IF(AO37=4,"SALVAGE","ALIVE")))) -> ALIVE | BG37: =IF(AD37="","Aucune","Infection") -> Aucune | BH37: =IF(AI37>0,"Transfusion","Aucune") -> Aucune | BI37: =IF(AG37="","Aucune","Transfusé") -> Aucune | BJ37: =IF(X37<>"",IF(X37-L37<2,"OUI","NON"),"NON") -> NON | BK37: =IF(AS37="","NON","OUI") -> NON | BL37: =IF(AL37-L37>0,AL37-L37,"Inconnu") -> Inconnu | BM37: =IF($O37<>"HTX",IF($O37<>"LVAD",BL37,"Inconnu"),"Inconnu") -> Inconnu | BN37: =IF($O37="HTX",BL37,IF($O37="LVAD",BL37,"Inconnu")) -> Inconnu | BO37: =IF(AJ37-L37>0,AJ37-L37,"Inconnu") -> Inconnu | BP37: =IF($O37<>"HTX",IF($O37<>"LVAD",BO37,"Inconnu"),"Inconnu") -> Inconnu | BQ37: =IF($O37="HTX",BO37,IF($O37="LVAD",BO37,"Inconnu")) -> Inconnu | BR37: =IF(BH37="Aucune",IF(BI37="Aucune","Aucune","Transfusé"),"Transfusé") -> Aucune | BS37: =AF37+AH37 -> 0 | BT37: =VLOOKUP($I37,Lieu_Activité!$A:$B,2,FALSE) -> #N/A | BU37: =IF(AB37="","Aucun","AVC") -> Aucun | BV37: =IF(AC37="","Aucun","IM") -> Aucun | BW37: =IF(M37="","NON","OUI") -> NON
