Workbook
Name Segment_Chirurgien: #N/A
Name stats: 'Données '!$1:$1048576

Sheet Données 
A1: Mois | B1: Nom | C1: Référence | D1: D/naissance | E1: Age | F1: Cardiogéria | G1: Référant | H1: Lieu activité | I1: Lieu activité2 | J1: Chirurgien | K1: Sexe | L1: D/opératoire | M1: Disc HT | N1: Intervention | O1: Intervention-activité | P1: Intervention-activité par type | Q1: intervention-valves | R1: valves - activité | S1: Lés. cor. | T1: Type RC | U1: Marque V | V1: Type V | W1: Taille V | X1: Date révision | Y1: Révision < 24h | Z1: Révision >24h | AA1: Redo | AB1: AVC | AC1: IM | AD1: Inf p.op | AE1: Transfu <24 h | AF1: T <24 - nb trans | AG1: Transfu >24 h | AH1: T >24 h - nb trans | AI1: T total | AJ1: Retour salle | AK1: Nbr de j USI | AL1: Date de sortie | AM1: Nbr de j hospi | AN1: Alive | AO1: DCD Délai d'intervention | AP1: Délai intervention | AQ1: Destination | AR1: Réhosp. | AS1: Réhosp.< 30 j | AT1: Cause réhospit | AU1: Nom3 | AV1: RDV postop | AW1: Postopt imm | AX1: Statut 1 | AY1: Commentaires | AZ1: postop loint | BA1: Statut 2 | BB1: Commentaires4 | BC1: Inf p.op_RV | BD1: Transfu <24 h_RV | BE1: Transfu >24 h_RV | BF1: délai intervention5 | BG1: Inf p.op_RV6 | BH1: Transfu <24 h_RV7 | BI1: Transfu >24 h_RV8 | BJ1: Révision < 24h_RV | BK1: Réhosp.< 30 j_RV | BL1: Nbr de j hospi_RV | BM1: Nbr de j hospi_Hors_RV | BN1: Nbr de j hospi_LVAD-TX_RV | BO1: Nbr de j USI_RV | BP1: Nbr de j USI_Hors_RV | BQ1: Nbr de j USI_LVAD-TX_RV | BR1: Transfu_RV | BS1: Transfu_Total_RV | BT1: Lieu activité_Groupe | BU1: AVC_RV | BV1: IM_RV | BW1: HT | BX1: Colonne1
A2: JANVIER | E2: =(L2-D2)/365 -> 0 | F2: =IF(E2<80," ","1") | P2: =IFERROR(VLOOKUP(O2,Références!$K$11:$N$19,2)," ") | Q2: =IFERROR(VLOOKUP(O2,Références!$K$11:$N$19,3)," ") | R2: =IFERROR(VLOOKUP(O2,Références!$K$11:$N$19,4)," ") | Y2: 1 | AF2: 8 | AH2: 15 | AI2: =SUM(AF2,AH2) -> 23 | AK2: =(AJ2-L2) -> 0 | AM2: =(AL2-L2) -> 0 | AP2: =IF(AO2=1,"ELECTIVE",IF(AO2=2,"URGENCY",IF(AO2=3,"EMERGENCY",IF(AO2=4,"SALVAGE"," ")))) | BA2: Y | BC2: =IF(BG2="Aucune",0,1) -> 0 | BD2: =IF(BH2="Aucune",0,1) -> 1 | BE2: =IF(AG2="Aucune",0,1) -> 1 | BF2: =IF(AO2=1,"ELECTIVE",IF(AO2=2,"URGENCY",IF(AO2=3,"EMERGENCY",IF(AO2=4,"SALVAGE","ALIVE")))) -> ALIVE | BG2: =IF(AD2="","Aucune","Infection") -> Aucune | BH2: =IF(AI2>0,"Transfusion","Aucune") -> Transfusion | BI2: =IF(AG2="","Aucune","Transfusé") -> Aucune | BJ2: =IF(X2<>"",IF(X2-L2<2,"OUI","NON"),"NON") -> NON | BK2: =IF(AS2="","NON","OUI") -> NON | BL2: =IF(AL2-L2>0,AL2-L2,"Inconnu") -> Inconnu | BM2: =IF($O2<>"HTX",IF($O2<>"LVAD",BL2,"Inconnu"),"Inconnu") -> Inconnu | BN2: =IF($O2="HTX",BL2,IF($O2="LVAD",BL2,"Inconnu")) -> Inconnu | BO2: =IF(AJ2-L2>0,AJ2-L2,"Inconnu") -> Inconnu | BP2: =IF($O2<>"HTX",IF($O2<>"LVAD",BO2,"Inconnu"),"Inconnu") -> Inconnu | BQ2: =IF($O2="HTX",BO2,IF($O2="LVAD",BO2,"Inconnu")) -> Inconnu | BR2: =IF(BH2="Aucune",IF(BI2="Aucune","Aucune","Transfusé"),"Transfusé") -> Transfusé | BS2: =AF2+AH2 -> 23 | BT2: =VLOOKUP($I2,Lieu_Activité!$A:$B,2,FALSE) -> #N/A | BU2: =IF(AB2="","Aucun","AVC") -> Aucun | BV2: =IF(AC2="","Aucun","IM") -> Aucun | BW2: =IF(M2="","NON","OUI") -> NON
A3: JANVIER | E3: =(L3-D3)/365 -> 0 | F3: =IF(E3<80," ","1") | P3: =IFERROR(VLOOKUP(O3,Références!$K$11:$N$19,2)," ") | Q3: =IFERROR(VLOOKUP(O3,Références!$K$11:$N$19,3)," ") | R3: =IFERROR(VLOOKUP(O3,Références!$K$11:$N$19,4)," ") | Y3: 1 | AF3: 8 | AH3: 15 | AI3: =SUM(AF3,AH3) -> 23 | AK3: =(AJ3-L3) -> 0 | AM3: =(AL3-L3) -> 0 | AP3: =IF(AO3=1,"ELECTIVE",IF(AO3=2,"URGENCY",IF(AO3=3,"EMERGENCY",IF(AO3=4,"SALVAGE"," ")))) | BA3: Y | BC3: =IF(BG3="Aucune",0,1) -> 0 | BD3: =IF(BH3="Aucune",0,1) -> 1 | BE3: =IF(AG3="Aucune",0,1) -> 1 | BF3: =IF(AO3=1,"ELECTIVE",IF(AO3=2,"URGENCY",IF(AO3=3,"EMERGENCY",IF(AO3=4,"SALVAGE","ALIVE")))) -> ALIVE | BG3: =IF(AD3="","Aucune","Infection") -> Aucune | BH3: =IF(AI3>0,"Transfusion","Aucune") -> Transfusion | BI3: =IF(AG3="","Aucune","Transfusé") -> Aucune | BJ3: =IF(X3<>"",IF(X3-L3<2,"OUI","NON"),"NON") -> NON | BK3: =IF(AS3="","NON","OUI") -> NON | BL3: =IF(AL3-L3>0,AL3-L3,"Inconnu") -> Inconnu | BM3: =IF($O3<>"HTX",IF($O3<>"LVAD",BL3,"Inconnu"),"Inconnu") -> Inconnu | BN3: =IF($O3="HTX",BL3,IF($O3="LVAD",BL3,"Inconnu")) -> Inconnu | BO3: =IF(AJ3-L3>0,AJ3-L3,"Inconnu") -> Inconnu | BP3: =IF($O3<>"HTX",IF($O3<>"LVAD",BO3,"Inconnu"),"Inconnu") -> Inconnu | BQ3: =IF($O3="HTX",BO3,IF($O3="LVAD",BO3,"Inconnu")) -> Inconnu | BR3: =IF(BH3="Aucune",IF(BI3="Aucune","Aucune","Transfusé"),"Transfusé") -> Transfusé | BS3: =AF3+AH3 -> 23 | BT3: =VLOOKUP($I3,Lieu_Activité!$A:$B,2,FALSE) -> #N/A | BU3: =IF(AB3="","Aucun","AVC") -> Aucun | BV3: =IF(AC3="","Aucun","IM") -> Aucun | BW3: =IF(M3="","NON","OUI") -> NON
A4: JANVIER | E4: =(L4-D4)/365 -> 0 | F4: =IF(E4<80," ","1") | P4: =IFERROR(VLOOKUP(O4,Références!$K$11:$N$19,2)," ") | Q4: =IFERROR(VLOOKUP(O4,Références!$K$11:$N$19,3)," ") | R4: =IFERROR(VLOOKUP(O4,Références!$K$11:$N$19,4)," ") | Y4: 1 | AF4: 8 | AH4: 15 | AI4: =SUM(AF4,AH4) -> 23 | AK4: =(AJ4-L4) -> 0 | AM4: =(AL4-L4) -> 0 | AP4: =IF(AO4=1,"ELECTIVE",IF(AO4=2,"URGENCY",IF(AO4=3,"EMERGENCY",IF(AO4=4,"SALVAGE"," ")))) | BA4: Y | BC4: =IF(BG4="Aucune",0,1) -> 0 | BD4: =IF(BH4="Aucune",0,1) -> 1 | BE4: =IF(AG4="Aucune",0,1) -> 1 | BF4: =IF(AO4=1,"ELECTIVE",IF(AO4=2,"URGENCY",IF(AO4=3,"EMERGENCY",IF(AO4=4,"SALVAGE","ALIVE")))) -> ALIVE | BG4: =IF(AD4="","Aucune","Infection") -> Aucune | BH4: =IF(AI4>0,"Transfusion","Aucune") -> Transfusion | BI4: =IF(AG4="","Aucune","Transfusé") -> Aucune | BJ4: =IF(X4<>"",IF(X4-L4<2,"OUI","NON"),"NON") -> NON | BK4: =IF(AS4="","NON","OUI") -> NON | BL4: =IF(AL4-L4>0,AL4-L4,"Inconnu") -> Inconnu | BM4: =IF($O4<>"HTX",IF($O4<>"LVAD",BL4,"Inconnu"),"Inconnu") -> Inconnu | BN4: =IF($O4="HTX",BL4,IF($O4="LVAD",BL4,"Inconnu")) -> Inconnu | BO4: =IF(AJ4-L4>0,AJ4-L4,"Inconnu") -> Inconnu | BP4: =IF($O4<>"HTX",IF($O4<>"LVAD",BO4,"Inconnu"),"Inconnu") -> Inconnu | BQ4: =IF($O4="HTX",BO4,IF($O4="LVAD",BO4,"Inconnu")) -> Inconnu | BR4: =IF(BH4="Aucune",IF(BI4="Aucune","Aucune","Transfusé"),"Transfusé") -> Transfusé | BS4: =AF4+AH4 -> 23 | BT4: =VLOOKUP($I4,Lieu_Activité!$A:$B,2,FALSE) -> #N/A | BU4: =IF(AB4="","Aucun","AVC") -> Aucun | BV4: =IF(AC4="","Aucun","IM") -> Aucun | BW4: =IF(M4="","NON","OUI") -> NON
A5: JANVIER | E5: =(L5-D5)/365 -> 0 | F5: =IF(E5<80," ","1") | P5: =IFERROR(VLOOKUP(O5,Références!$K$11:$N$19,2)," ") | Q5: =IFERROR(VLOOKUP(O5,Références!$K$11:$N$19,3)," ") | R5: =IFERROR(VLOOKUP(O5,Références!$K$11:$N$19,4)," ") | Y5: 1 | AF5: 8 | AH5: 15 | AI5: =SUM(AF5,AH5) -> 23 | AK5: =(AJ5-L5) -> 0 | AM5: =(AL5-L5) -> 0 | AP5: =IF(AO5=1,"ELECTIVE",IF(AO5=2,"URGENCY",IF(AO5=3,"EMERGENCY",IF(AO5=4,"SALVAGE"," ")))) | BA5: Y | BC5: =IF(BG5="Aucune",0,1) -> 0 | BD5: =IF(BH5="Aucune",0,1) -> 1 | BE5: =IF(AG5="Aucune",0,1) -> 1 | BF5: =IF(AO5=1,"ELECTIVE",IF(AO5=2,"URGENCY",IF(AO5=3,"EMERGENCY",IF(AO5=4,"SALVAGE","ALIVE")))) -> ALIVE | BG5: =IF(AD5="","Aucune","Infection") -> Aucune | BH5: =IF(AI5>0,"Transfusion","Aucune") -> Transfusion | BI5: =IF(AG5="","Aucune","Transfusé") -> Aucune | BJ5: =IF(X5<>"",IF(X5-L5<2,"OUI","NON"),"NON") -> NON | BK5: =IF(AS5="","NON","OUI") -> NON | BL5: =IF(AL5-L5>0,AL5-L5,"Inconnu") -> Inconnu | BM5: =IF($O5<>"HTX",IF($O5<>"LVAD",BL5,"Inconnu"),"Inconnu") -> Inconnu | BN5: =IF($O5="HTX",BL5,IF($O5="LVAD",BL5,"Inconnu")) -> Inconnu | BO5: =IF(AJ5-L5>0,AJ5-L5,"Inconnu") -> Inconnu | BP5: =IF($O5<>"HTX",IF($O5<>"LVAD",BO5,"Inconnu"),"Inconnu") -> Inconnu | BQ5: =IF($O5="HTX",BO5,IF($O5="LVAD",BO5,"Inconnu")) -> Inconnu | BR5: =IF(BH5="Aucune",IF(BI5="Aucune","Aucune","Transfusé"),"Transfusé") -> Transfusé | BS5: =AF5+AH5 -> 23 | BT5: =VLOOKUP($I5,Lieu_Activité!$A:$B,2,FALSE) -> #N/A | BU5: =IF(AB5="","Aucun","AVC") -> Aucun | BV5: =IF(AC5="","Aucun","IM") -> Aucun | BW5: =IF(M5="","NON","OUI") -> NON
A6: JANVIER | E6: =(L6-D6)/365 -> 0 | F6: =IF(E6<80," ","1") | P6: =IFERROR(VLOOKUP(O6,Références!$K$11:$N$19,2)," ") | Q6: =IFERROR(VLOOKUP(O6,Références!$K$11:$N$19,3)," ") | R6: =IFERROR(VLOOKUP(O6,Références!$K$11:$N$19,4)," ") | Y6: 1 | AF6: 8 | AH6: 15 | AI6: =SUM(AF6,AH6) -> 23 | AK6: =(AJ6-L6) -> 0 | AM6: =(AL6-L6) -> 0 | AP6: =IF(AO6=1,"ELECTIVE",IF(AO6=2,"URGENCY",IF(AO6=3,"EMERGENCY",IF(AO6=4,"SALVAGE"," ")))) | BA6: Y | BC6: =IF(BG6="Aucune",0,1) -> 0 | BD6: =IF(BH6="Aucune",0,1) -> 1 | BE6: =IF(AG6="Aucune",0,1) -> 1 | BF6: =IF(AO6=1,"ELECTIVE",IF(AO6=2,"URGENCY",IF(AO6=3,"EMERGENCY",IF(AO6=4,"SALVAGE","ALIVE")))) -> ALIVE | BG6: =IF(AD6="","Aucune","Infection") -> Aucune | BH6: =IF(AI6>0,"Transfusion","Aucune") -> Transfusion | BI6: =IF(AG6="","Aucune","Transfusé") -> Aucune | BJ6: =IF(X6<>"",IF(X6-L6<2,"OUI","NON"),"NON") -> NON | BK6: =IF(AS6="","NON","OUI") -> NON | BL6: =IF(AL6-L6>0,AL6-L6,"Inconnu") -> Inconnu | BM6: =IF($O6<>"HTX",IF($O6<>"LVAD",BL6,"Inconnu"),"Inconnu") -> Inconnu | BN6: =IF($O6="HTX",BL6,IF($O6="LVAD",BL6,"Inconnu")) -> Inconnu | BO6: =IF(AJ6-L6>0,AJ6-L6,"Inconnu") -> Inconnu | BP6: =IF($O6<>"HTX",IF($O6<>"LVAD",BO6,"Inconnu"),"Inconnu") -> Inconnu | BQ6: =IF($O6="HTX",BO6,IF($O6="LVAD",BO6,"Inconnu")) -> Inconnu | BR6: =IF(BH6="Aucune",IF(BI6="Aucune","Aucune","Transfusé"),"Transfusé") -> Transfusé | BS6: =AF6+AH6 -> 23 | BT6: =VLOOKUP($I6,Lieu_Activité!$A:$B,2,FALSE) -> #N/A | BU6: =IF(AB6="","Aucun","AVC") -> Aucun | BV6: =IF(AC6="","Aucun","IM") -> Aucun | BW6: =IF(M6="","NON","OUI") -> NON
A7: JANVIER | E7: =(L7-D7)/365 -> 0 | F7: =IF(E7<80," ","1") | P7: =IFERROR(VLOOKUP(O7,Références!$K$11:$N$19,2)," ") | Q7: =IFERROR(VLOOKUP(O7,Références!$K$11:$N$19,3)," ") | R7: =IFERROR(VLOOKUP(O7,Références!$K$11:$N$19,4)," ") | Y7: 1 | AF7: 8 | AH7: 15 | AI7: =SUM(AF7,AH7) -> 23 | AK7: =(AJ7-L7) -> 0 | AM7: =(AL7-L7) -> 0 | AP7: =IF(AO7=1,"ELECTIVE",IF(AO7=2,"URGENCY",IF(AO7=3,"EMERGENCY",IF(AO7=4,"SALVAGE"," ")))) | BA7: Y | BC7: =IF(BG7="Aucune",0,1) -> 0 | BD7: =IF(BH7="Aucune",0,1) -> 1 | BE7: =IF(AG7="Aucune",0,1) -> 1 | BF7: =IF(AO7=1,"ELECTIVE",IF(AO7=2,"URGENCY",IF(AO7=3,"EMERGENCY",IF(AO7=4,"SALVAGE","ALIVE")))) -> ALIVE | BG7: =IF(AD7="","Aucune","Infection") -> Aucune | BH7: =IF(AI7>0,"Transfusion","Aucune") -> Transfusion | BI7: =IF(AG7="","Aucune","Transfusé") -> Aucune | BJ7: =IF(X7<>"",IF(X7-L7<2,"OUI","NON"),"NON") -> NON | BK7: =IF(AS7="","NON","OUI") -> NON | BL7: =IF(AL7-L7>0,AL7-L7,"Inconnu") -> Inconnu | BM7: =IF($O7<>"HTX",IF($O7<>"LVAD",BL7,"Inconnu"),"Inconnu") -> Inconnu | BN7: =IF($O7="HTX",BL7,IF($O7="LVAD",BL7,"Inconnu")) -> Inconnu | BO7: =IF(AJ7-L7>0,AJ7-L7,"Inconnu") -> Inconnu | BP7: =IF($O7<>"HTX",IF($O7<>"LVAD",BO7,"Inconnu"),"Inconnu") -> Inconnu | BQ7: =IF($O7="HTX",BO7,IF($O7="LVAD",BO7,"Inconnu")) -> Inconnu | BR7: =IF(BH7="Aucune",IF(BI7="Aucune","Aucune","Transfusé"),"Transfusé") -> Transfusé | BS7: =AF7+AH7 -> 23 | BT7: =VLOOKUP($I7,Lieu_Activité!$A:$B,2,FALSE) -> #N/A | BU7: =IF(AB7="","Aucun","AVC") -> Aucun | BV7: =IF(AC7="","Aucun","IM") -> Aucun | BW7: =IF(M7="","NON","OUI") -> NON
A8: JANVIER | E8: =(L8-D8)/365 -> 0 | F8: =IF(E8<80," ","1") | P8: =IFERROR(VLOOKUP(O8,Références!$K$11:$N$19,2)," ") | Q8: =IFERROR(VLOOKUP(O8,Références!$K$11:$N$19,3)," ") | R8: =IFERROR(VLOOKUP(O8,Références!$K$11:$N$19,4)," ") | Y8: 1 | AF8: 8 | AH8: 15 | AI8: =SUM(AF8,AH8) -> 23 | AK8: =(AJ8-L8) -> 0 | AM8: =(AL8-L8) -> 0 | AP8: =IF(AO8=1,"ELECTIVE",IF(AO8=2,"URGENCY",IF(AO8=3,"EMERGENCY",IF(AO8=4,"SALVAGE"," ")))) | BA8: Y | BC8: =IF(BG8="Aucune",0,1) -> 0 | BD8: =IF(BH8="Aucune",0,1) -> 1 | BE8: =IF(AG8="Aucune",0,1) -> 1 | BF8: =IF(AO8=1,"ELECTIVE",IF(AO8=2,"URGENCY",IF(AO8=3,"EMERGENCY",IF(AO8=4,"SALVAGE","ALIVE")))) -> ALIVE | BG8: =IF(AD8="","Aucune","Infection") -> Aucune | BH8: =IF(AI8>0,"Transfusion","Aucune") -> Transfusion | BI8: =IF(AG8="","Aucune","Transfusé") -> Aucune | BJ8: =IF(X8<>"",IF(X8-L8<2,"OUI","NON"),"NON") -> NON | BK8: =IF(AS8="","NON","OUI") -> NON | BL8: =IF(AL8-L8>0,AL8-L8,"Inconnu") -> Inconnu | BM8: =IF($O8<>"HTX",IF($O8<>"LVAD",BL8,"Inconnu"),"Inconnu") -> Inconnu | BN8: =IF($O8="HTX",BL8,IF($O8="LVAD",BL8,"Inconnu")) -> Inconnu | BO8: =IF(AJ8-L8>0,AJ8-L8,"Inconnu") -> Inconnu | BP8: =IF($O8<>"HTX",IF($O8<>"LVAD",BO8,"Inconnu"),"Inconnu") -> Inconnu | BQ8: =IF($O8="HTX",BO8,IF($O8="LVAD",BO8,"Inconnu")) -> Inconnu | BR8: =IF(BH8="Aucune",IF(BI8="Aucune","Aucune","Transfusé"),"Transfusé") -> Transfusé | BS8: =AF8+AH8 -> 23 | BT8: =VLOOKUP($I8,Lieu_Activité!$A:$B,2,FALSE) -> #N/A | BU8: =IF(AB8="","Aucun","AVC") -> Aucun | BV8: =IF(AC8="","Aucun","IM") -> Aucun | BW8: =IF(M8="","NON","OUI") -> NON
A9: JANVIER | E9: =(L9-D9)/365 -> 0 | F9: =IF(E9<80," ","1") | P9: =IFERROR(VLOOKUP(O9,Références!$K$11:$N$19,2)," ") | Q9: =IFERROR(VLOOKUP(O9,Références!$K$11:$N$19,3)," ") | R9: =IFERROR(VLOOKUP(O9,Références!$K$11:$N$19,4)," ") | Y9: 1 | AF9: 8 | AH9: 15 | AI9: =SUM(AF9,AH9) -> 23 | AK9: =(AJ9-L9) -> 0 | AM9: =(AL9-L9) -> 0 | AP9: =IF(AO9=1,"ELECTIVE",IF(AO9=2,"URGENCY",IF(AO9=3,"EMERGENCY",IF(AO9=4,"SALVAGE"," ")))) | BA9: Y | BC9: =IF(BG9="Aucune",0,1) -> 0 | BD9: =IF(BH9="Aucune",0,1) -> 1 | BE9: =IF(AG9="Aucune",0,1) -> 1 | BF9: =IF(AO9=1,"ELECTIVE",IF(AO9=2,"URGENCY",IF(AO9=3,"EMERGENCY",IF(AO9=4,"SALVAGE","ALIVE")))) -> ALIVE | BG9: =IF(AD9="","Aucune","Infection") -> Aucune | BH9: =IF(AI9>0,"Transfusion","Aucune") -> Transfusion | BI9: =IF(AG9="","Aucune","Transfusé") -> Aucune | BJ9: =IF(X9<>"",IF(X9-L9<2,"OUI","NON"),"NON") -> NON | BK9: =IF(AS9="","NON","OUI") -> NON | BL9: =IF(AL9-L9>0,AL9-L9,"Inconnu") -> Inconnu | BM9: =IF($O9<>"HTX",IF($O9<>"LVAD",BL9,"Inconnu"),"Inconnu") -> Inconnu | BN9: =IF($O9="HTX",BL9,IF($O9="LVAD",BL9,"Inconnu")) -> Inconnu | BO9: =IF(AJ9-L9>0,AJ9-L9,"Inconnu") -> Inconnu | BP9: =IF($O9<>"HTX",IF($O9<>"LVAD",BO9,"Inconnu"),"Inconnu") -> Inconnu | BQ9: =IF($O9="HTX",BO9,IF($O9="LVAD",BO9,"Inconnu")) -> Inconnu | BR9: =IF(BH9="Aucune",IF(BI9="Aucune","Aucune","Transfusé"),"Transfusé") -> Transfusé | BS9: =AF9+AH9 -> 23 | BT9: =VLOOKUP($I9,Lieu_Activité!$A:$B,2,FALSE) -> #N/A | BU9: =IF(AB9="","Aucun","AVC") -> Aucun | BV9: =IF(AC9="","Aucun","IM") -> Aucun | BW9: =IF(M9="","NON","OUI") -> NON
A10: JANVIER | E10: =(L10-D10)/365 -> 0 | F10: =IF(E10<80," ","1") | P10: =IFERROR(VLOOKUP(O10,Références!$K$11:$N$19,2)," ") | Q10: =IFERROR(VLOOKUP(O10,Références!$K$11:$N$19,3)," ") | R10: =IFERROR(VLOOKUP(O10,Références!$K$11:$N$19,4)," ") | Y10: 1 | AF10: 8 | AH10: 15 | AI10: =SUM(AF10,AH10) -> 23 | AK10: =(AJ10-L10) -> 0 | AM10: =(AL10-L10) -> 0 | AP10: =IF(AO10=1,"ELECTIVE",IF(AO10=2,"URGENCY",IF(AO10=3,"EMERGENCY",IF(AO10=4,"SALVAGE"," ")))) | BA10: Y | BC10: =IF(BG10="Aucune",0,1) -> 0 | BD10: =IF(BH10="Aucune",0,1) -> 1 | BE10: =IF(AG10="Aucune",0,1) -> 1 | BF10: =IF(AO10=1,"ELECTIVE",IF(AO10=2,"URGENCY",IF(AO10=3,"EMERGENCY",IF(AO10=4,"SALVAGE","ALIVE")))) -> ALIVE | BG10: =IF(AD10="","Aucune","Infection") -> Aucune | BH10: =IF(AI10>0,"Transfusion","Aucune") -> Transfusion | BI10: =IF(AG10="","Aucune","Transfusé") -> Aucune | BJ10: =IF(X10<>"",IF(X10-L10<2,"OUI","NON"),"NON") -> NON | BK10: =IF(AS10="","NON","OUI") -> NON | BL10: =IF(AL10-L10>0,AL10-L10,"Inconnu") -> Inconnu | BM10: =IF($O10<>"HTX",IF($O10<>"LVAD",BL10,"Inconnu"),"Inconnu") -> Inconnu | BN10: =IF($O10="HTX",BL10,IF($O10="LVAD",BL10,"Inconnu")) -> Inconnu | BO10: =IF(AJ10-L10>0,AJ10-L10,"Inconnu") -> Inconnu | BP10: =IF($O10<>"HTX",IF($O10<>"LVAD",BO10,"Inconnu"),"Inconnu") -> Inconnu | BQ10: =IF($O10="HTX",BO10,IF($O10="LVAD",BO10,"Inconnu")) -> Inconnu | BR10: =IF(BH10="Aucune",IF(BI10="Aucune","Aucune","Transfusé"),"Transfusé") -> Transfusé | BS10: =AF10+AH10 -> 23 | BT10: =VLOOKUP($I10,Lieu_Activité!$A:$B,2,FALSE) -> #N/A | BU10: =IF(AB10="","Aucun","AVC") -> Aucun | BV10: =IF(AC10="","Aucun","IM") -> Aucun | BW10: =IF(M10="","NON","OUI") -> NON
A11: JANVIER | E11: =(L11-D11)/365 -> 0 | F11: =IF(E11<80," ","1") | P11: =IFERROR(VLOOKUP(O11,Références!$K$11:$N$19,2)," ") | Q11: =IFERROR(VLOOKUP(O11,Références!$K$11:$N$19,3)," ") | R11: =IFERROR(VLOOKUP(O11,Références!$K$11:$N$19,4)," ") | Y11: 1 | AF11: 8 | AH11: 15 | AI11: =SUM(AF11,AH11) -> 23 | AK11: =(AJ11-L11) -> 0 | AM11: =(AL11-L11) -> 0 | AP11: =IF(AO11=1,"ELECTIVE",IF(AO11=2,"URGENCY",IF(AO11=3,"EMERGENCY",IF(AO11=4,"SALVAGE"," ")))) | BA11: Y | BC11: =IF(BG11="Aucune",0,1) -> 0 | BD11: =IF(BH11="Aucune",0,1) -> 1 | BE11: =IF(AG11="Aucune",0,1) -> 1 | BF11: =IF(AO11=1,"ELECTIVE",IF(AO11=2,"URGENCY",IF(AO11=3,"EMERGENCY",IF(AO11=4,"SALVAGE","ALIVE")))) -> ALIVE | BG11: =IF(AD11="","Aucune","Infection") -> Aucune | BH11: =IF(AI11>0,"Transfusion","Aucune") -> Transfusion | BI11: =IF(AG11="","Aucune","Transfusé") -> Aucune | BJ11: =IF(X11<>"",IF(X11-L11<2,"OUI","NON"),"NON") -> NON | BK11: =IF(AS11="","NON","OUI") -> NON | BL11: =IF(AL11-L11>0,AL11-L11,"Inconnu") -> Inconnu | BM11: =IF($O11<>"HTX",IF($O11<>"LVAD",BL11,"Inconnu"),"Inconnu") -> Inconnu | BN11: =IF($O11="HTX",BL11,IF($O11="LVAD",BL11,"Inconnu")) -> Inconnu | BO11: =IF(AJ11-L11>0,AJ11-L11,"Inconnu") -> Inconnu | BP11: =IF($O11<>"HTX",IF($O11<>"LVAD",BO11,"Inconnu"),"Inconnu") -> Inconnu | BQ11: =IF($O11="HTX",BO11,IF($O11="LVAD",BO11,"Inconnu")) -> Inconnu | BR11: =IF(BH11="Aucune",IF(BI11="Aucune","Aucune","Transfusé"),"Transfusé") -> Transfusé | BS11: =AF11+AH11 -> 23 | BT11: =VLOOKUP($I11,Lieu_Activité!$A:$B,2,FALSE) -> #N/A | BU11: =IF(AB11="","Aucun","AVC") -> Aucun | BV11: =IF(AC11="","Aucun","IM") -> Aucun | BW11: =IF(M11="","NON","OUI") -> NON
A12: JANVIER | E12: =(L12-D12)/365 -> 0 | F12: =IF(E12<80," ","1") | P12: =IFERROR(VLOOKUP(O12,Références!$K$11:$N$19,2)," ") | Q12: =IFERROR(VLOOKUP(O12,Références!$K$11:$N$19,3)," ") | R12: =IFERROR(VLOOKUP(O12,Références!$K$11:$N$19,4)," ") | Y12: 1 | AF12: 8 | AH12: 15 | AI12: =SUM(AF12,AH12) -> 23 | AK12: =(AJ12-L12) -> 0 | AM12: =(AL12-L12) -> 0 | AP12: =IF(AO12=1,"ELECTIVE",IF(AO12=2,"URGENCY",IF(AO12=3,"EMERGENCY",IF(AO12=4,"SALVAGE"," ")))) | BA12: Y | BC12: =IF(BG12="Aucune",0,1) -> 0 | BD12: =IF(BH12="Aucune",0,1) -> 1 | BE12: =IF(AG12="Aucune",0,1) -> 1 | BF12: =IF(AO12=1,"ELECTIVE",IF(AO12=2,"URGENCY",IF(AO12=3,"EMERGENCY",IF(AO12=4,"SALVAGE","ALIVE")))) -> ALIVE | BG12: =IF(AD12="","Aucune","Infection") -> Aucune | BH12: =IF(AI12>0,"Transfusion","Aucune") -> Transfusion | BI12: =IF(AG12="","Aucune","Transfusé") -> Aucune | BJ12: =IF(X12<>"",IF(X12-L12<2,"OUI","NON"),"NON") -> NON | BK12: =IF(AS12="","NON","OUI") -> NON | BL12: =IF(AL12-L12>0,AL12-L12,"Inconnu") -> Inconnu | BM12: =IF($O12<>"HTX",IF($O12<>"LVAD",BL12,"Inconnu"),"Inconnu") -> Inconnu | BN12: =IF($O12="HTX",BL12,IF($O12="LVAD",BL12,"Inconnu")) -> Inconnu | BO12: =IF(AJ12-L12>0,AJ12-L12,"Inconnu") -> Inconnu | BP12: =IF($O12<>"HTX",IF($O12<>"LVAD",BO12,"Inconnu"),"Inconnu") -> Inconnu | BQ12: =IF($O12="HTX",BO12,IF($O12="LVAD",BO12,"Inconnu")) -> Inconnu | BR12: =IF(BH12="Aucune",IF(BI12="Aucune","Aucune","Transfusé"),"Transfusé") -> Transfusé | BS12: =AF12+AH12 -> 23 | BT12: =VLOOKUP($I12,Lieu_Activité!$A:$B,2,FALSE) -> #N/A | BU12: =IF(AB12="","Aucun","AVC") -> Aucun | BV12: =IF(AC12="","Aucun","IM") -> Aucun | BW12: =IF(M12="","NON","OUI") -> NON
A13: JANVIER | E13: =(L13-D13)/365 -> 0 | F13: =IF(E13<80," ","1") | P13: =IFERROR(VLOOKUP(O13,Références!$K$11:$N$19,2)," ") | Q13: =IFERROR(VLOOKUP(O13,Références!$K$11:$N$19,3)," ") | R13: =IFERROR(VLOOKUP(O13,Références!$K$11:$N$19,4)," ") | Y13: 1 | AF13: 8 | AH13: 15 | AI13: =SUM(AF13,AH13) -> 23 | AK13: =(AJ13-L13) -> 0 | AM13: =(AL13-L13) -> 0 | AP13: =IF(AO13=1,"ELECTIVE",IF(AO13=2,"URGENCY",IF(AO13=3,"EMERGENCY",IF(AO13=4,"SALVAGE"," ")))) | BA13: Y | BC13: =IF(BG13="Aucune",0,1) -> 0 | BD13: =IF(BH13="Aucune",0,1) -> 1 | BE13: =IF(AG13="Aucune",0,1) -> 1 | BF13: =IF(AO13=1,"ELECTIVE",IF(AO13=2,"URGENCY",IF(AO13=3,"EMERGENCY",IF(AO13=4,"SALVAGE","ALIVE")))) -> ALIVE | BG13: =IF(AD13="","Aucune","Infection") -> Aucune | BH13: =IF(AI13>0,"Transfusion","Aucune") -> Transfusion | BI13: =IF(AG13="","Aucune","Transfusé") -> Aucune | BJ13: =IF(X13<>"",IF(X13-L13<2,"OUI","NON"),"NON") -> NON | BK13: =IF(AS13="","NON","OUI") -> NON | BL13: =IF(AL13-L13>0,AL13-L13,"Inconnu") -> Inconnu | BM13: =IF($O13<>"HTX",IF($O13<>"LVAD",BL13,"Inconnu"),"Inconnu") -> Inconnu | BN13: =IF($O13="HTX",BL13,IF($O13="LVAD",BL13,"Inconnu")) -> Inconnu | BO13: =IF(AJ13-L13>0,AJ13-L13,"Inconnu") -> Inconnu | BP13: =IF($O13<>"HTX",IF($O13<>"LVAD",BO13,"Inconnu"),"Inconnu") -> Inconnu | BQ13: =IF($O13="HTX",BO13,IF($O13="LVAD",BO13,"Inconnu")) -> Inconnu | BR13: =IF(BH13="Aucune",IF(BI13="Aucune","Aucune","Transfusé"),"Transfusé") -> Transfusé | BS13: =AF13+AH13 -> 23 | BT13: =VLOOKUP($I13,Lieu_Activité!$A:$B,2,FALSE) -> #N/A | BU13: =IF(AB13="","Aucun","AVC") -> Aucun | BV13: =IF(AC13="","Aucun","IM") -> Aucun | BW13: =IF(M13="","NON","OUI") -> NON
A14: JANVIER | E14: =(L14-D14)/365 -> 0 | F14: =IF(E14<80," ","1") | P14: =IFERROR(VLOOKUP(O14,Références!$K$11:$N$19,2)," ") | Q14: =IFERROR(VLOOKUP(O14,Références!$K$11:$N$19,3)," ") | R14: =IFERROR(VLOOKUP(O14,Références!$K$11:$N$19,4)," ") | Y14: 1 | AF14: 15 | AH14: 15 | AI14: =SUM(AF14,AH14) -> 30 | AK14: =(AJ14-L14) -> 0 | AM14: =(AL14-L14) -> 0 | AP14: =IF(AO14=1,"ELECTIVE",IF(AO14=2,"URGENCY",IF(AO14=3,"EMERGENCY",IF(AO14=4,"SALVAGE"," ")))) | BA14: Y | BC14: =IF(BG14="Aucune",0,1) -> 0 | BD14: =IF(BH14="Aucune",0,1) -> 1 | BE14: =IF(AG14="Aucune",0,1) -> 1 | BF14: =IF(AO14=1,"ELECTIVE",IF(AO14=2,"URGENCY",IF(AO14=3,"EMERGENCY",IF(AO14=4,"SALVAGE","ALIVE")))) -> ALIVE | BG14: =IF(AD14="","Aucune","Infection") -> Aucune | BH14: =IF(AI14>0,"Transfusion","Aucune") -> Transfusion | BI14: =IF(AG14="","Aucune","Transfusé") -> Aucune | BJ14: =IF(X14<>"",IF(X14-L14<2,"OUI","NON"),"NON") -> NON | BK14: =IF(AS14="","NON","OUI") -> NON | BL14: =IF(AL14-L14>0,AL14-L14,"Inconnu") -> Inconnu | BM14: =IF($O14<>"HTX",IF($O14<>"LVAD",BL14,"Inconnu"),"Inconnu") -> Inconnu | BN14: =IF($O14="HTX",BL14,IF($O14="LVAD",BL14,"Inconnu")) -> Inconnu | BO14: =IF(AJ14-L14>0,AJ14-L14,"Inconnu") -> Inconnu | BP14: =IF($O14<>"HTX",IF($O14<>"LVAD",BO14,"Inconnu"),"Inconnu") -> Inconnu | BQ14: =IF($O14="HTX",BO14,IF($O14="LVAD",BO14,"Inconnu")) -> Inconnu | BR14: =IF(BH14="Aucune",IF(BI14="Aucune","Aucune","Transfusé"),"Transfusé") -> Transfusé | BS14: =AF14+AH14 -> 30 | BT14: =VLOOKUP($I14,Lieu_Activité!$A:$B,2,FALSE) -> #N/A | BU14: =IF(AB14="","Aucun","AVC") -> Aucun | BV14: =IF(AC14="","Aucun","IM") -> Aucun | BW14: =IF(M14="","NON","OUI") -> NON
A15: JANVIER | E15: =(L15-D15)/365 -> 0 | F15: =IF(E15<80," ","1") | P15: =IFERROR(VLOOKUP(O15,Références!$K$11:$N$19,2)," ") | Q15: =IFERROR(VLOOKUP(O15,Références!$K$11:$N$19,3)," ") | R15: =IFERROR(VLOOKUP(O15,Références!$K$11:$N$19,4)," ") | Y15: 1 | AI15: =SUM(AF15,AH15) -> 0 | AK15: =(AJ15-L15) -> 0 | AM15: =(AL15-L15) -> 0 | AP15: =IF(AO15=1,"ELECTIVE",IF(AO15=2,"URGENCY",IF(AO15=3,"EMERGENCY",IF(AO15=4,"SALVAGE"," ")))) | BA15: Y | BC15: =IF(BG15="Aucune",0,1) -> 0 | BD15: =IF(BH15="Aucune",0,1) -> 0 | BE15: =IF(AG15="Aucune",0,1) -> 1 | BF15: =IF(AO15=1,"ELECTIVE",IF(AO15=2,"URGENCY",IF(AO15=3,"EMERGENCY",IF(AO15=4,"SALVAGE","ALIVE")))) -> ALIVE | BG15: =IF(AD15="","Aucune","Infection") -> Aucune | BH15: =IF(AI15>0,"Transfusion","Aucune") -> Aucune | BI15: =IF(AG15="","Aucune","Transfusé") -> Aucune | BJ15: =IF(X15<>"",IF(X15-L15<2,"OUI","NON"),"NON") -> NON | BK15: =IF(AS15="","NON","OUI") -> NON | BL15: =IF(AL15-L15>0,AL15-L15,"Inconnu") -> Inconnu | BM15: =IF($O15<>"HTX",IF($O15<>"LVAD",BL15,"Inconnu"),"Inconnu") -> Inconnu | BN15: =IF($O15="HTX",BL15,IF($O15="LVAD",BL15,"Inconnu")) -> Inconnu | BO15: =IF(AJ15-L15>0,AJ15-L15,"Inconnu") -> Inconnu | BP15: =IF($O15<>"HTX",IF($O15<>"LVAD",BO15,"Inconnu"),"Inconnu") -> Inconnu | BQ15: =IF($O15="HTX",BO15,IF($O15="LVAD",BO15,"Inconnu")) -> Inconnu | BR15: =IF(BH15="Aucune",IF(BI15="Aucune","Aucune","Transfusé"),"Transfusé") -> Aucune | BS15: =AF15+AH15 -> 0 | BT15: =VLOOKUP($I15,Lieu_Activité!$A:$B,2,FALSE) -> #N/A | BU15: =IF(AB15="","Aucun","AVC") -> Aucun | BV15: =IF(AC15="","Aucun","IM") -> Aucun | BW15: =IF(M15="","NON","OUI") -> NON
A16: JANVIER | E16: =(L16-D16)/365 -> 0 | F16: =IF(E16<80," ","1") | P16: =IFERROR(VLOOKUP(O16,Références!$K$11:$N$19,2)," ") | Q16: =IFERROR(VLOOKUP(O16,Références!$K$11:$N$19,3)," ") | R16: =IFERROR(VLOOKUP(O16,Références!$K$11:$N$19,4)," ") | Y16: 1 | AI16: =SUM(AF16,AH16) -> 0 | AK16: =(AJ16-L16) -> 0 | AM16: =(AL16-L16) -> 0 | AP16: =IF(AO16=1,"ELECTIVE",IF(AO16=2,"URGENCY",IF(AO16=3,"EMERGENCY",IF(AO16=4,"SALVAGE"," ")))) | BC16: =IF(BG16="Aucune",0,1) -> 0 | BD16: =IF(BH16="Aucune",0,1) -> 0 | BE16: =IF(AG16="Aucune",0,1) -> 1 | BF16: =IF(AO16=1,"ELECTIVE",IF(AO16=2,"URGENCY",IF(AO16=3,"EMERGENCY",IF(AO16=4,"SALVAGE","ALIVE")))) -> ALIVE | BG16: =IF(AD16="","Aucune","Infection") -> Aucune | BH16: =IF(AI16>0,"Transfusion","Aucune") -> Aucune | BI16: =IF(AG16="","Aucune","Transfusé") -> Aucune | BJ16: =IF(X16<>"",IF(X16-L16<2,"OUI","NON"),"NON") -> NON | BK16: =IF(AS16="","NON","OUI") -> NON | BL16: =IF(AL16-L16>0,AL16-L16,"Inconnu") -> Inconnu | BM16: =IF($O16<>"HTX",IF($O16<>"LVAD",BL16,"Inconnu"),"Inconnu") -> Inconnu | BN16: =IF($O16="HTX",BL16,IF($O16="LVAD",BL16,"Inconnu")) -> Inconnu | BO16: =IF(AJ16-L16>0,AJ16-L16,"Inconnu") -> Inconnu | BP16: =IF($O16<>"HTX",IF($O16<>"LVAD",BO16,"Inconnu"),"Inconnu") -> Inconnu | BQ16: =IF($O16="HTX",BO16,IF($O16="LVAD",BO16,"Inconnu")) -> Inconnu | BR16: =IF(BH16="Aucune",IF(BI16="Aucune","Aucune","Transfusé"),"Transfusé") -> Aucune | BS16: =AF16+AH16 -> 0 | BT16: =VLOOKUP($I16,Lieu_Activité!$A:$B,2,FALSE) -> #N/A | BU16: =IF(AB16="","Aucun","AVC") -> Aucun | BV16: =IF(AC16="","Aucun","IM") -> Aucun | BW16: =IF(M16="","NON","OUI") -> NON
A17: JANVIER | E17: =(L17-D17)/365 -> 0 | F17: =IF(E17<80," ","1") | P17: =IFERROR(VLOOKUP(O17,Références!$K$11:$N$19,2)," ") | Q17: =IFERROR(VLOOKUP(O17,Références!$K$11:$N$19,3)," ") | R17: =IFERROR(VLOOKUP(O17,Références!$K$11:$N$19,4)," ") | Y17: 1 | AI17: =SUM(AF17,AH17) -> 0 | AK17: =(AJ17-L17) -> 0 | AM17: =(AL17-L17) -> 0 | AP17: =IF(AO17=1,"ELECTIVE",IF(AO17=2,"URGENCY",IF(AO17=3,"EMERGENCY",IF(AO17=4,"SALVAGE"," ")))) | BA17: Y | BC17: =IF(BG17="Aucune",0,1) -> 0 | BD17: =IF(BH17="Aucune",0,1) -> 0 | BE17: =IF(AG17="Aucune",0,1) -> 1 | BF17: =IF(AO17=1,"ELECTIVE",IF(AO17=2,"URGENCY",IF(AO17=3,"EMERGENCY",IF(AO17=4,"SALVAGE","ALIVE")))) -> ALIVE | BG17: =IF(AD17="","Aucune","Infection") -> Aucune | BH17: =IF(AI17>0,"Transfusion","Aucune") -> Aucune | BI17: =IF(AG17="","Aucune","Transfusé") -> Aucune | BJ17: =IF(X17<>"",IF(X17-L17<2,"OUI","NON"),"NON") -> NON | BK17: =IF(AS17="","NON","OUI") -> NON | BL17: =IF(AL17-L17>0,AL17-L17,"Inconnu") -> Inconnu | BM17: =IF($O17<>"HTX",IF($O17<>"LVAD",BL17,"Inconnu"),"Inconnu") -> Inconnu | BN17: =IF($O17="HTX",BL17,IF($O17="LVAD",BL17,"Inconnu")) -> Inconnu | BO17: =IF(AJ17-L17>0,AJ17-L17,"Inconnu") -> Inconnu | BP17: =IF($O17<>"HTX",IF($O17<>"LVAD",BO17,"Inconnu"),"Inconnu") -> Inconnu | BQ17: =IF($O17="HTX",BO17,IF($O17="LVAD",BO17,"Inconnu")) -> Inconnu | BR17: =IF(BH17="Aucune",IF(BI17="Aucune","Aucune","Transfusé"),"Transfusé") -> Aucune | BS17: =AF17+AH17 -> 0 | BT17: =VLOOKUP($I17,Lieu_Activité!$A:$B,2,FALSE) -> #N/A | BU17: =IF(AB17="","Aucun","AVC") -> Aucun | BV17: =IF(AC17="","Aucun","IM") -> Aucun | BW17: =IF(M17="","NON","OUI") -> NON
A18: JANVIER | E18: =(L18-D18)/365 -> 0 | F18: =IF(E18<80," ","1") | P18: =IFERROR(VLOOKUP(O18,Références!$K$11:$N$19,2)," ") | Q18: =IFERROR(VLOOKUP(O18,Références!$K$11:$N$19,3)," ") | R18: =IFERROR(VLOOKUP(O18,Références!$K$11:$N$19,4)," ") | Y18: 1 | AI18: =SUM(AF18,AH18) -> 0 | AK18: =(AJ18-L18) -> 0 | AM18: =(AL18-L18) -> 0 | AP18: =IF(AO18=1,"ELECTIVE",IF(AO18=2,"URGENCY",IF(AO18=3,"EMERGENCY",IF(AO18=4,"SALVAGE"," ")))) | BA18: Y | BC18: =IF(BG18="Aucune",0,1) -> 0 | BD18: =IF(BH18="Aucune",0,1) -> 0 | BE18: =IF(AG18="Aucune",0,1) -> 1 | BF18: =IF(AO18=1,"ELECTIVE",IF(AO18=2,"URGENCY",IF(AO18=3,"EMERGENCY",IF(AO18=4,"SALVAGE","ALIVE")))) -> ALIVE | BG18: =IF(AD18="","Aucune","Infection") -> Aucune | BH18: =IF(AI18>0,"Transfusion","Aucune") -> Aucune | BI18: =IF(AG18="","Aucune","Transfusé") -> Aucune | BJ18: =IF(X18<>"",IF(X18-L18<2,"OUI","NON"),"NON") -> NON | BK18: =IF(AS18="","NON","OUI") -> NON | BL18: =IF(AL18-L18>0,AL18-L18,"Inconnu") -> Inconnu | BM18: =IF($O18<>"HTX",IF($O18<>"LVAD",BL18,"Inconnu"),"Inconnu") -> Inconnu | BN18: =IF($O18="HTX",BL18,IF($O18="LVAD",BL18,"Inconnu")) -> Inconnu | BO18: =IF(AJ18-L18>0,AJ18-L18,"Inconnu") -> Inconnu | BP18: =IF($O18<>"HTX",IF($O18<>"LVAD",BO18,"Inconnu"),"Inconnu") -> Inconnu | BQ18: =IF($O18="HTX",BO18,IF($O18="LVAD",BO18,"Inconnu")) -> Inconnu | BR18: =IF(BH18="Aucune",IF(BI18="Aucune","Aucune","Transfusé"),"Transfusé") -> Aucune | BS18: =AF18+AH18 -> 0 | BT18: =VLOOKUP($I18,Lieu_Activité!$A:$B,2,FALSE) -> #N/A | BU18: =IF(AB18="","Aucun","AVC") -> Aucun | BV18: =IF(AC18="","Aucun","IM") -> Aucun | BW18: =IF(M18="","NON","OUI") -> NON
A19: JANVIER | E19: =(L19-D19)/365 -> 0 | F19: =IF(E19<80," ","1") | P19: =IFERROR(VLOOKUP(O19,Références!$K$11:$N$19,2)," ") | Q19: =IFERROR(VLOOKUP(O19,Références!$K$11:$N$19,3)," ") | R19: =IFERROR(VLOOKUP(O19,Références!$K$11:$N$19,4)," ") | Y19: 1 | AI19: =SUM(AF19,AH19) -> 0 | AK19: =(AJ19-L19) -> 0 | AM19: =(AL19-L19) -> 0 | AP19: =IF(AO19=1,"ELECTIVE",IF(AO19=2,"URGENCY",IF(AO19=3,"EMERGENCY",IF(AO19=4,"SALVAGE"," ")))) | BA19: Y | BC19: =IF(BG19="Aucune",0,1) -> 0 | BD19: =IF(BH19="Aucune",0,1) -> 0 | BE19: =IF(AG19="Aucune",0,1) -> 1 | BF19: =IF(AO19=1,"ELECTIVE",IF(AO19=2,"URGENCY",IF(AO19=3,"EMERGENCY",IF(AO19=4,"SALVAGE","ALIVE")))) -> ALIVE | BG19: =IF(AD19="","Aucune","Infection") -> Aucune | BH19: =IF(AI19>0,"Transfusion","Aucune") -> Aucune | BI19: =IF(AG19="","Aucune","Transfusé") -> Aucune | BJ19: =IF(X19<>"",IF(X19-L19<2,"OUI","NON"),"NON") -> NON | BK19: =IF(AS19="","NON","OUI") -> NON | BL19: =IF(AL19-L19>0,AL19-L19,"Inconnu") -> Inconnu | BM19: =IF($O19<>"HTX",IF($O19<>"LVAD",BL19,"Inconnu"),"Inconnu") -> Inconnu | BN19: =IF($O19="HTX",BL19,IF($O19="LVAD",BL19,"Inconnu")) -> Inconnu | BO19: =IF(AJ19-L19>0,AJ19-L19,"Inconnu") -> Inconnu | BP19: =IF($O19<>"HTX",IF($O19<>"LVAD",BO19,"Inconnu"),"Inconnu") -> Inconnu | BQ19: =IF($O19="HTX",BO19,IF($O19="LVAD",BO19,"Inconnu")) -> Inconnu | BR19: =IF(BH19="Aucune",IF(BI19="Aucune","Aucune","Transfusé"),"Transfusé") -> Aucune | BS19: =AF19+AH19 -> 0 | BT19: =VLOOKUP($I19,Lieu_Activité!$A:$B,2,FALSE) -> #N/A | BU19: =IF(AB19="","Aucun","AVC") -> Aucun | BV19: =IF(AC19="","Aucun","IM") -> Aucun | BW19: =IF(M19="","NON","OUI") -> NON
A20: JANVIER | E20: =(L20-D20)/365 -> 0 | F20: =IF(E20<80," ","1") | P20: =IFERROR(VLOOKUP(O20,Références!$K$11:$N$19,2)," ") | Q20: =IFERROR(VLOOKUP(O20,Références!$K$11:$N$19,3)," ") | R20: =IFERROR(VLOOKUP(O20,Références!$K$11:$N$19,4)," ") | Y20: 1 | AI20: =SUM(AF20,AH20) -> 0 | AK20: =(AJ20-L20) -> 0 | AM20: =(AL20-L20) -> 0 | AP20: =IF(AO20=1,"ELECTIVE",IF(AO20=2,"URGENCY",IF(AO20=3,"EMERGENCY",IF(AO20=4,"SALVAGE"," ")))) | BA20: Y | BC20: =IF(BG20="Aucune",0,1) -> 0 | BD20: =IF(BH20="Aucune",0,1) -> 0 | BE20: =IF(AG20="Aucune",0,1) -> 1 | BF20: =IF(AO20=1,"ELECTIVE",IF(AO20=2,"URGENCY",IF(AO20=3,"EMERGENCY",IF(AO20=4,"SALVAGE","ALIVE")))) -> ALIVE | BG20: =IF(AD20="","Aucune","Infection") -> Aucune | BH20: =IF(AI20>0,"Transfusion","Aucune") -> Aucune | BI20: =IF(AG20="","Aucune","Transfusé") -> Aucune | BJ20: =IF(X20<>"",IF(X20-L20<2,"OUI","NON"),"NON") -> NON | BK20: =IF(AS20="","NON","OUI") -> NON | BL20: =IF(AL20-L20>0,AL20-L20,"Inconnu") -> Inconnu | BM20: =IF($O20<>"HTX",IF($O20<>"LVAD",BL20,"Inconnu"),"Inconnu") -> Inconnu | BN20: =IF($O20="HTX",BL20,IF($O20="LVAD",BL20,"Inconnu")) -> Inconnu | BO20: =IF(AJ20-L20>0,AJ20-L20,"Inconnu") -> Inconnu | BP20: =IF($O20<>"HTX",IF($O20<>"LVAD",BO20,"Inconnu"),"Inconnu") -> Inconnu | BQ20: =IF($O20="HTX",BO20,IF($O20="LVAD",BO20,"Inconnu")) -> Inconnu | BR20: =IF(BH20="Aucune",IF(BI20="Aucune","Aucune","Transfusé"),"Transfusé") -> Aucune | BS20: =AF20+AH20 -> 0 | BT20: =VLOOKUP($I20,Lieu_Activité!$A:$B,2,FALSE) -> #N/A | BU20: =IF(AB20="","Aucun","AVC") -> Aucun | BV20: =IF(AC20="","Aucun","IM") -> Aucun | BW20: =IF(M20="","NON","OUI") -> NON
A21: JANVIER | E21: =(L21-D21)/365 -> 0 | F21: =IF(E21<80," ","1") | P21: =IFERROR(VLOOKUP(O21,Références!$K$11:$N$19,2)," ") | Q21: =IFERROR(VLOOKUP(O21,Références!$K$11:$N$19,3)," ") | R21: =IFERROR(VLOOKUP(O21,Références!$K$11:$N$19,4)," ") | Y21: 1 | AI21: =SUM(AF21,AH21) -> 0 | AK21: =(AJ21-L21) -> 0 | AM21: =(AL21-L21) -> 0 | AP21: =IF(AO21=1,"ELECTIVE",IF(AO21=2,"URGENCY",IF(AO21=3,"EMERGENCY",IF(AO21=4,"SALVAGE"," ")))) | BA21: Y | BC21: =IF(BG21="Aucune",0,1) -> 0 | BD21: =IF(BH21="Aucune",0,1) -> 0 | BE21: =IF(AG21="Aucune",0,1) -> 1 | BF21: =IF(AO21=1,"ELECTIVE",IF(AO21=2,"URGENCY",IF(AO21=3,"EMERGENCY",IF(AO21=4,"SALVAGE","ALIVE")))) -> ALIVE | BG21: =IF(AD21="","Aucune","Infection") -> Aucune | BH21: =IF(AI21>0,"Transfusion","Aucune") -> Aucune | BI21: =IF(AG21="","Aucune","Transfusé") -> Aucune | BJ21: =IF(X21<>"",IF(X21-L21<2,"OUI","NON"),"NON") -> NON | BK21: =IF(AS21="","NON","OUI") -> NON | BL21: =IF(AL21-L21>0,AL21-L21,"Inconnu") -> Inconnu | BM21: =IF($O21<>"HTX",IF($O21<>"LVAD",BL21,"Inconnu"),"Inconnu") -> Inconnu | BN21: =IF($O21="HTX",BL21,IF($O21="LVAD",BL21,"Inconnu")) -> Inconnu | BO21: =IF(AJ21-L21>0,AJ21-L21,"Inconnu") -> Inconnu | BP21: =IF($O21<>"HTX",IF($O21<>"LVAD",BO21,"Inconnu"),"Inconnu") -> Inconnu | BQ21: =IF($O21="HTX",BO21,IF($O21="LVAD",BO21,"Inconnu")) -> Inconnu | BR21: =IF(BH21="Aucune",IF(BI21="Aucune","Aucune","Transfusé"),"Transfusé") -> Aucune | BS21: =AF21+AH21 -> 0 | BT21: =VLOOKUP($I21,Lieu_Activité!$A:$B,2,FALSE) -> #N/A | BU21: =IF(AB21="","Aucun","AVC") -> Aucun | BV21: =IF(AC21="","Aucun","IM") -> Aucun | BW21: =IF(M21="","NON","OUI") -> NON
A22: JANVIER | E22: =(L22-D22)/365 -> 0 | F22: =IF(E22<80," ","1") | P22: =IFERROR(VLOOKUP(O22,Références!$K$11:$N$19,2)," ") | Q22: =IFERROR(VLOOKUP(O22,Références!$K$11:$N$19,3)," ") | R22: =IFERROR(VLOOKUP(O22,Références!$K$11:$N$19,4)," ") | Y22: 1 | AI22: =SUM(AF22,AH22) -> 0 | AK22: =(AJ22-L22) -> 0 | AM22: =(AL22-L22) -> 0 | AP22: =IF(AO22=1,"ELECTIVE",IF(AO22=2,"URGENCY",IF(AO22=3,"EMERGENCY",IF(AO22=4,"SALVAGE"," ")))) | BA22: N | BC22: =IF(BG22="Aucune",0,1) -> 0 | BD22: =IF(BH22="Aucune",0,1) -> 0 | BE22: =IF(AG22="Aucune",0,1) -> 1 | BF22: =IF(AO22=1,"ELECTIVE",IF(AO22=2,"URGENCY",IF(AO22=3,"EMERGENCY",IF(AO22=4,"SALVAGE","ALIVE")))) -> ALIVE | BG22: =IF(AD22="","Aucune","Infection") -> Aucune | BH22: =IF(AI22>0,"Transfusion","Aucune") -> Aucune | BI22: =IF(AG22="","Aucune","Transfusé") -> Aucune | BJ22: =IF(X22<>"",IF(X22-L22<2,"OUI","NON"),"NON") -> NON | BK22: =IF(AS22="","NON","OUI") -> NON | BL22: =IF(AL22-L22>0,AL22-L22,"Inconnu") -> Inconnu | BM22: =IF($O22<>"HTX",IF($O22<>"LVAD",BL22,"Inconnu"),"Inconnu") -> Inconnu | BN22: =IF($O22="HTX",BL22,IF($O22="LVAD",BL22,"Inconnu")) -> Inconnu | BO22: =IF(AJ22-L22>0,AJ22-L22,"Inconnu") -> Inconnu | BP22: =IF($O22<>"HTX",IF($O22<>"LVAD",BO22,"Inconnu"),"Inconnu") -> Inconnu | BQ22: =IF($O22="HTX",BO22,IF($O22="LVAD",BO22,"Inconnu")) -> Inconnu | BR22: =IF(BH22="Aucune",IF(BI22="Aucune","Aucune","Transfusé"),"Transfusé") -> Aucune | BS22: =AF22+AH22 -> 0 | BT22: =VLOOKUP($I22,Lieu_Activité!$A:$B,2,FALSE) -> #N/A | BU22: =IF(AB22="","Aucun","AVC") -> Aucun | BV22: =IF(AC22="","Aucun","IM") -> Aucun | BW22: =IF(M22="","NON","OUI") -> NON
A23: JANVIER | E23: =(L23-D23)/365 -> 0 | F23: =IF(E23<80," ","1") | P23: =IFERROR(VLOOKUP(O23,Références!$K$11:$N$19,2)," ") | Q23: =IFERROR(VLOOKUP(O23,Références!$K$11:$N$19,3)," ") | R23: =IFERROR(VLOOKUP(O23,Références!$K$11:$N$19,4)," ") | Y23: 1 | AI23: =SUM(AF23,AH23) -> 0 | AK23: =(AJ23-L23) -> 0 | AM23: =(AL23-L23) -> 0 | AP23: =IF(AO23=1,"ELECTIVE",IF(AO23=2,"URGENCY",IF(AO23=3,"EMERGENCY",IF(AO23=4,"SALVAGE"," ")))) | BA23: Y | BC23: =IF(BG23="Aucune",0,1) -> 0 | BD23: =IF(BH23="Aucune",0,1) -> 0 | BE23: =IF(AG23="Aucune",0,1) -> 1 | BF23: =IF(AO23=1,"ELECTIVE",IF(AO23=2,"URGENCY",IF(AO23=3,"EMERGENCY",IF(AO23=4,"SALVAGE","ALIVE")))) -> ALIVE | BG23: =IF(AD23="","Aucune","Infection") -> Aucune | BH23: =IF(AI23>0,"Transfusion","Aucune") -> Aucune | BI23: =IF(AG23="","Aucune","Transfusé") -> Aucune | BJ23: =IF(X23<>"",IF(X23-L23<2,"OUI","NON"),"NON") -> NON | BK23: =IF(AS23="","NON","OUI") -> NON | BL23: =IF(AL23-L23>0,AL23-L23,"Inconnu") -> Inconnu | BM23: =IF($O23<>"HTX",IF($O23<>"LVAD",BL23,"Inconnu"),"Inconnu") -> Inconnu | BN23: =IF($O23="HTX",BL23,IF($O23="LVAD",BL23,"Inconnu")) -> Inconnu | BO23: =IF(AJ23-L23>0,AJ23-L23,"Inconnu") -> Inconnu | BP23: =IF($O23<>"HTX",IF($O23<>"LVAD",BO23,"Inconnu"),"Inconnu") -> Inconnu | BQ23: =IF($O23="HTX",BO23,IF($O23="LVAD",BO23,"Inconnu")) -> Inconnu | BR23: =IF(BH23="Aucune",IF(BI23="Aucune","Aucune","Transfusé"),"Transfusé") -> Aucune | BS23: =AF23+AH23 -> 0 | BT23: =VLOOKUP($I23,Lieu_Activité!$A:$B,2,FALSE) -> #N/A | BU23: =IF(AB23="","Aucun","AVC") -> Aucun | BV23: =IF(AC23="","Aucun","IM") -> Aucun | BW23: =IF(M23="","NON","OUI") -> NON
A24: JANVIER | E24: =(L24-D24)/365 -> 0 | F24: =IF(E24<80," ","1") | P24: =IFERROR(VLOOKUP(O24,Références!$K$11:$N$19,2)," ") | Q24: =IFERROR(VLOOKUP(O24,Références!$K$11:$N$19,3)," ") | R24: =IFERROR(VLOOKUP(O24,Références!$K$11:$N$19,4)," ") | Y24: 1 | AI24: =SUM(AF24,AH24) -> 0 | AK24: =(AJ24-L24) -> 0 | AM24: =(AL24-L24) -> 0 | AP24: =IF(AO24=1,"ELECTIVE",IF(AO24=2,"URGENCY",IF(AO24=3,"EMERGENCY",IF(AO24=4,"SALVAGE"," ")))) | BA24: Y | BC24: =IF(BG24="Aucune",0,1) -> 0 | BD24: =IF(BH24="Aucune",0,1) -> 0 | BE24: =IF(AG24="Aucune",0,1) -> 1 | BF24: =IF(AO24=1,"ELECTIVE",IF(AO24=2,"URGENCY",IF(AO24=3,"EMERGENCY",IF(AO24=4,"SALVAGE","ALIVE")))) -> ALIVE | BG24: =IF(AD24="","Aucune","Infection") -> Aucune | BH24: =IF(AI24>0,"Transfusion","Aucune") -> Aucune | BI24: =IF(AG24="","Aucune","Transfusé") -> Aucune | BJ24: =IF(X24<>"",IF(X24-L24<2,"OUI","NON"),"NON") -> NON | BK24: =IF(AS24="","NON","OUI") -> NON | BL24: =IF(AL24-L24>0,AL24-L24,"Inconnu") -> Inconnu | BM24: =IF($O24<>"HTX",IF($O24<>"LVAD",BL24,"Inconnu"),"Inconnu") -> Inconnu | BN24: =IF($O24="HTX",BL24,IF($O24="LVAD",BL24,"Inconnu")) -> Inconnu | BO24: =IF(AJ24-L24>0,AJ24-L24,"Inconnu") -> Inconnu | BP24: =IF($O24<>"HTX",IF($O24<>"LVAD",BO24,"Inconnu"),"Inconnu") -> Inconnu | BQ24: =IF($O24="HTX",BO24,IF($O24="LVAD",BO24,"Inconnu")) -> Inconnu | BR24: =IF(BH24="Aucune",IF(BI24="Aucune","Aucune","Transfusé"),"Transfusé") -> Aucune | BS24: =AF24+AH24 -> 0 | BT24: =VLOOKUP($I24,Lieu_Activité!$A:$B,2,FALSE) -> #N/A | BU24: =IF(AB24="","Aucun","AVC") -> Aucun | BV24: =IF(AC24="","Aucun","IM") -> Aucun | BW24: =IF(M24="","NON","OUI") -> NON
A25: JANVIER | E25: =(L25-D25)/365 -> 0 | F25: =IF(E25<80," ","1") | P25: =IFERROR(VLOOKUP(O25,Références!$K$11:$N$19,2)," ") | Q25: =IFERROR(VLOOKUP(O25,Références!$K$11:$N$19,3)," ") | R25: =IFERROR(VLOOKUP(O25,Références!$K$11:$N$19,4)," ") | Y25: 1 | AI25: =SUM(AF25,AH25) -> 0 | AK25: =(AJ25-L25) -> 0 | AM25: =(AL25-L25) -> 0 | AP25: =IF(AO25=1,"ELECTIVE",IF(AO25=2,"URGENCY",IF(AO25=3,"EMERGENCY",IF(AO25=4,"SALVAGE"," ")))) | BA25: Y | BC25: =IF(BG25="Aucune",0,1) -> 0 | BD25: =IF(BH25="Aucune",0,1) -> 0 | BE25: =IF(AG25="Aucune",0,1) -> 1 | BF25: =IF(AO25=1,"ELECTIVE",IF(AO25=2,"URGENCY",IF(AO25=3,"EMERGENCY",IF(AO25=4,"SALVAGE","ALIVE")))) -> ALIVE | BG25: =IF(AD25="","Aucune","Infection") -> Aucune | BH25: =IF(AI25>0,"Transfusion","Aucune") -> Aucune | BI25: =IF(AG25="","Aucune","Transfusé") -> Aucune | BJ25: =IF(X25<>"",IF(X25-L25<2,"OUI","NON"),"NON") -> NON | BK25: =IF(AS25="","NON","OUI") -> NON | BL25: =IF(AL25-L25>0,AL25-L25,"Inconnu") -> Inconnu | BM25: =IF($O25<>"HTX",IF($O25<>"LVAD",BL25,"Inconnu"),"Inconnu") -> Inconnu | BN25: =IF($O25="HTX",BL25,IF($O25="LVAD",BL25,"Inconnu")) -> Inconnu | BO25: =IF(AJ25-L25>0,AJ25-L25,"Inconnu") -> Inconnu | BP25: =IF($O25<>"HTX",IF($O25<>"LVAD",BO25,"Inconnu"),"Inconnu") -> Inconnu | BQ25: =IF($O25="HTX",BO25,IF($O25="LVAD",BO25,"Inconnu")) -> Inconnu | BR25: =IF(BH25="Aucune",IF(BI25="Aucune","Aucune","Transfusé"),"Transfusé") -> Aucune | BS25: =AF25+AH25 -> 0 | BT25: =VLOOKUP($I25,Lieu_Activité!$A:$B,2,FALSE) -> #N/A | BU25: =IF(AB25="","Aucun","AVC") -> Aucun | BV25: =IF(AC25="","Aucun","IM") -> Aucun | BW25: =IF(M25="","NON","OUI") -> NON
A26: JANVIER | E26: =(L26-D26)/365 -> 0 | F26: =IF(E26<80," ","1") | P26: =IFERROR(VLOOKUP(O26,Références!$K$11:$N$19,2)," ") | Q26: =IFERROR(VLOOKUP(O26,Références!$K$11:$N$19,3)," ") | R26: =IFERROR(VLOOKUP(O26,Références!$K$11:$N$19,4)," ") | Y26: 1 | AI26: =SUM(AF26,AH26) -> 0 | AK26: =(AJ26-L26) -> 0 | AM26: =(AL26-L26) -> 0 | AP26: =IF(AO26=1,"ELECTIVE",IF(AO26=2,"URGENCY",IF(AO26=3,"EMERGENCY",IF(AO26=4,"SALVAGE"," ")))) | BC26: =IF(BG26="Aucune",0,1) -> 0 | BD26: =IF(BH26="Aucune",0,1) -> 0 | BE26: =IF(AG26="Aucune",0,1) -> 1 | BF26: =IF(AO26=1,"ELECTIVE",IF(AO26=2,"URGENCY",IF(AO26=3,"EMERGENCY",IF(AO26=4,"SALVAGE","ALIVE")))) -> ALIVE | BG26: =IF(AD26="","Aucune","Infection") -> Aucune | BH26: =IF(AI26>0,"Transfusion","Aucune") -> Aucune | BI26: =IF(AG26="","Aucune","Transfusé") -> Aucune | BJ26: =IF(X26<>"",IF(X26-L26<2,"OUI","NON"),"NON") -> NON | BK26: =IF(AS26="","NON","OUI") -> NON | BL26: =IF(AL26-L26>0,AL26-L26,"Inconnu") -> Inconnu | BM26: =IF($O26<>"HTX",IF($O26<>"LVAD",BL26,"Inconnu"),"Inconnu") -> Inconnu | BN26: =IF($O26="HTX",BL26,IF($O26="LVAD",BL26,"Inconnu")) -> Inconnu | BO26: =IF(AJ26-L26>0,AJ26-L26,"Inconnu") -> Inconnu | BP26: =IF($O26<>"HTX",IF($O26<>"LVAD",BO26,"Inconnu"),"Inconnu") -> Inconnu | BQ26: =IF($O26="HTX",BO26,IF($O26="LVAD",BO26,"Inconnu")) -> Inconnu | BR26: =IF(BH26="Aucune",IF(BI26="Aucune","Aucune","Transfusé"),"Transfusé") -> Aucune | BS26: =AF26+AH26 -> 0 | BT26: =VLOOKUP($I26,Lieu_Activité!$A:$B,2,FALSE) -> #N/A | BU26: =IF(AB26="","Aucun","AVC") -> Aucun | BV26: =IF(AC26="","Aucun","IM") -> Aucun | BW26: =IF(M26="","NON","OUI") -> NON
A27: JANVIER | E27: =(L27-D27)/365 -> 0 | F27: =IF(E27<80," ","1") | P27: =IFERROR(VLOOKUP(O27,Références!$K$11:$N$19,2)," ") | Q27: =IFERROR(VLOOKUP(O27,Références!$K$11:$N$19,3)," ") | R27: =IFERROR(VLOOKUP(O27,Références!$K$11:$N$19,4)," ") | Y27: 1 | AI27: =SUM(AF27,AH27) -> 0 | AK27: =(AJ27-L27) -> 0 | AM27: =(AL27-L27) -> 0 | AP27: =IF(AO27=1,"ELECTIVE",IF(AO27=2,"URGENCY",IF(AO27=3,"EMERGENCY",IF(AO27=4,"SALVAGE"," ")))) | BA27: Y | BC27: =IF(BG27="Aucune",0,1) -> 0 | BD27: =IF(BH27="Aucune",0,1) -> 0 | BE27: =IF(AG27="Aucune",0,1) -> 1 | BF27: =IF(AO27=1,"ELECTIVE",IF(AO27=2,"URGENCY",IF(AO27=3,"EMERGENCY",IF(AO27=4,"SALVAGE","ALIVE")))) -> ALIVE | BG27: =IF(AD27="","Aucune","Infection") -> Aucune | BH27: =IF(AI27>0,"Transfusion","Aucune") -> Aucune | BI27: =IF(AG27="","Aucune","Transfusé") -> Aucune | BJ27: =IF(X27<>"",IF(X27-L27<2,"OUI","NON"),"NON") -> NON | BK27: =IF(AS27="","NON","OUI") -> NON | BL27: =IF(AL27-L27>0,AL27-L27,"Inconnu") -> Inconnu | BM27: =IF($O27<>"HTX",IF($O27<>"LVAD",BL27,"Inconnu"),"Inconnu") -> Inconnu | BN27: =IF($O27="HTX",BL27,IF($O27="LVAD",BL27,"Inconnu")) -> Inconnu | BO27: =IF(AJ27-L27>0,AJ27-L27,"Inconnu") -> Inconnu | BP27: =IF($O27<>"HTX",IF($O27<>"LVAD",BO27,"Inconnu"),"Inconnu") -> Inconnu | BQ27: =IF($O27="HTX",BO27,IF($O27="LVAD",BO27,"Inconnu")) -> Inconnu | BR27: =IF(BH27="Aucune",IF(BI27="Aucune","Aucune","Transfusé"),"Transfusé") -> Aucune | BS27: =AF27+AH27 -> 0 | BT27: =VLOOKUP($I27,Lieu_Activité!$A:$B,2,FALSE) -> #N/A | BU27: =IF(AB27="","Aucun","AVC") -> Aucun | BV27: =IF(AC27="","Aucun","IM") -> Aucun | BW27: =IF(M27="","NON","OUI") -> NON
A28: JANVIER | E28: =(L28-D28)/365 -> 0 | F28: =IF(E28<80," ","1") | P28: =IFERROR(VLOOKUP(O28,Références!$K$11:$N$19,2)," ") | Q28: =IFERROR(VLOOKUP(O28,Références!$K$11:$N$19,3)," ") | R28: =IFERROR(VLOOKUP(O28,Références!$K$11:$N$19,4)," ") | Y28: 1 | AI28: =SUM(AF28,AH28) -> 0 | AK28: =(AJ28-L28) -> 0 | AM28: =(AL28-L28) -> 0 | AP28: =IF(AO28=1,"ELECTIVE",IF(AO28=2,"URGENCY",IF(AO28=3,"EMERGENCY",IF(AO28=4,"SALVAGE"," ")))) | BA28: Y | BC28: =IF(BG28="Aucune",0,1) -> 0 | BD28: =IF(BH28="Aucune",0,1) -> 0 | BE28: =IF(AG28="Aucune",0,1) -> 1 | BF28: =IF(AO28=1,"ELECTIVE",IF(AO28=2,"URGENCY",IF(AO28=3,"EMERGENCY",IF(AO28=4,"SALVAGE","ALIVE")))) -> ALIVE | BG28: =IF(AD28="","Aucune","Infection") -> Aucune | BH28: =IF(AI28>0,"Transfusion","Aucune") -> Aucune | BI28: =IF(AG28="","Aucune","Transfusé") -> Aucune | BJ28: =IF(X28<>"",IF(X28-L28<2,"OUI","NON"),"NON") -> NON | BK28: =IF(AS28="","NON","OUI") -> NON | BL28: =IF(AL28-L28>0,AL28-L28,"Inconnu") -> Inconnu | BM28: =IF($O28<>"HTX",IF($O28<>"LVAD",BL28,"Inconnu"),"Inconnu") -> Inconnu | BN28: =IF($O28="HTX",BL28,IF($O28="LVAD",BL28,"Inconnu")) -> Inconnu | BO28: =IF(AJ28-L28>0,AJ28-L28,"Inconnu") -> Inconnu | BP28: =IF($O28<>"HTX",IF($O28<>"LVAD",BO28,"Inconnu"),"Inconnu") -> Inconnu | BQ28: =IF($O28="HTX",BO28,IF($O28="LVAD",BO28,"Inconnu")) -> Inconnu | BR28: =IF(BH28="Aucune",IF(BI28="Aucune","Aucune","Transfusé"),"Transfusé") -> Aucune | BS28: =AF28+AH28 -> 0 | BT28: =VLOOKUP($I28,Lieu_Activité!$A:$B,2,FALSE) -> #N/A | BU28: =IF(AB28="","Aucun","AVC") -> Aucun | BV28: =IF(AC28="","Aucun","IM") -> Aucun | BW28: =IF(M28="","NON","OUI") -> NON
A29: FEVRIER | E29: =(L29-D29)/365 -> 0 | F29: =IF(E29<80," ","1") | P29: =IFERROR(VLOOKUP(O29,Références!$K$11:$N$19,2)," ") | Q29: =IFERROR(VLOOKUP(O29,Références!$K$11:$N$19,3)," ") | R29: =IFERROR(VLOOKUP(O29,Références!$K$11:$N$19,4)," ") | Y29: 1 | AI29: =SUM(AF29,AH29) -> 0 | AK29: =(AJ29-L29) -> 0 | AM29: =(AL29-L29) -> 0 | AP29: =IF(AO29=1,"ELECTIVE",IF(AO29=2,"URGENCY",IF(AO29=3,"EMERGENCY",IF(AO29=4,"SALVAGE"," ")))) | BA29: Y | BC29: =IF(BG29="Aucune",0,1) -> 0 | BD29: =IF(BH29="Aucune",0,1) -> 0 | BE29: =IF(AG29="Aucune",0,1) -> 1 | BF29: =IF(AO29=1,"ELECTIVE",IF(AO29=2,"URGENCY",IF(AO29=3,"EMERGENCY",IF(AO29=4,"SALVAGE","ALIVE")))) -> ALIVE | BG29: =IF(AD29="","Aucune","Infection") -> Aucune | BH29: =IF(AI29>0,"Transfusion","Aucune") -> Aucune | BI29: =IF(AG29="","Aucune","Transfusé") -> Aucune | BJ29: =IF(X29<>"",IF(X29-L29<2,"OUI","NON"),"NON") -> NON | BK29: =IF(AS29="","NON","OUI") -> NON | BL29: =IF(AL29-L29>0,AL29-L29,"Inconnu") -> Inconnu | BM29: =IF($O29<>"HTX",IF($O29<>"LVAD",BL29,"Inconnu"),"Inconnu") -> Inconnu | BN29: =IF($O29="HTX",BL29,IF($O29="LVAD",BL29,"Inconnu")) -> Inconnu | BO29: =IF(AJ29-L29>0,AJ29-L29,"Inconnu") -> Inconnu | BP29: =IF($O29<>"HTX",IF($O29<>"LVAD",BO29,"Inconnu"),"Inconnu") -> Inconnu | BQ29: =IF($O29="HTX",BO29,IF($O29="LVAD",BO29,"Inconnu")) -> Inconnu | BR29: =IF(BH29="Aucune",IF(BI29="Aucune","Aucune","Transfusé"),"Transfusé") -> Aucune | BS29: =AF29+AH29 -> 0 | BT29: =VLOOKUP($I29,Lieu_Activité!$A:$B,2,FALSE) -> #N/A | BU29: =IF(AB29="","Aucun","AVC") -> Aucun | BV29: =IF(AC29="","Aucun","IM") -> Aucun | BW29: =IF(M29="","NON","OUI") -> NON
A30: FEVRIER | E30: =(L30-D30)/365 -> 0 | F30: =IF(E30<80," ","1") | P30: =IFERROR(VLOOKUP(O30,Références!$K$11:$N$19,2)," ") | Q30: =IFERROR(VLOOKUP(O30,Références!$K$11:$N$19,3)," ") | R30: =IFERROR(VLOOKUP(O30,Références!$K$11:$N$19,4)," ") | Y30: 1 | AI30: =SUM(AF30,AH30) -> 0 | AK30: =(AJ30-L30) -> 0 | AM30: =(AL30-L30) -> 0 | AP30: =IF(AO30=1,"ELECTIVE",IF(AO30=2,"URGENCY",IF(AO30=3,"EMERGENCY",IF(AO30=4,"SALVAGE"," ")))) | BA30: Y | BC30: =IF(BG30="Aucune",0,1) -> 0 | BD30: =IF(BH30="Aucune",0,1) -> 0 | BE30: =IF(AG30="Aucune",0,1) -> 1 | BF30: =IF(AO30=1,"ELECTIVE",IF(AO30=2,"URGENCY",IF(AO30=3,"EMERGENCY",IF(AO30=4,"SALVAGE","ALIVE")))) -> ALIVE | BG30: =IF(AD30="","Aucune","Infection") -> Aucune | BH30: =IF(AI30>0,"Transfusion","Aucune") -> Aucune | BI30: =IF(AG30="","Aucune","Transfusé") -> Aucune | BJ30: =IF(X30<>"",IF(X30-L30<2,"OUI","NON"),"NON") -> NON | BK30: =IF(AS30="","NON","OUI") -> NON | BL30: =IF(AL30-L30>0,AL30-L30,"Inconnu") -> Inconnu | BM30: =IF($O30<>"HTX",IF($O30<>"LVAD",BL30,"Inconnu"),"Inconnu") -> Inconnu | BN30: =IF($O30="HTX",BL30,IF($O30="LVAD",BL30,"Inconnu")) -> Inconnu | BO30: =IF(AJ30-L30>0,AJ30-L30,"Inconnu") -> Inconnu | BP30: =IF($O30<>"HTX",IF($O30<>"LVAD",BO30,"Inconnu"),"Inconnu") -> Inconnu | BQ30: =IF($O30="HTX",BO30,IF($O30="LVAD",BO30,"Inconnu")) -> Inconnu | BR30: =IF(BH30="Aucune",IF(BI30="Aucune","Aucune","Transfusé"),"Transfusé") -> Aucune | BS30: =AF30+AH30 -> 0 | BT30: =VLOOKUP($I30,Lieu_Activité!$A:$B,2,FALSE) -> #N/A | BU30: =IF(AB30="","Aucun","AVC") -> Aucun | BV30: =IF(AC30="","Aucun","IM") -> Aucun | BW30: =IF(M30="","NON","OUI") -> NON
A31: FEVRIER | E31: =(L31-D31)/365 -> 0 | F31: =IF(E31<80," ","1") | P31: =IFERROR(VLOOKUP(O31,Références!$K$11:$N$19,2)," ") | Q31: =IFERROR(VLOOKUP(O31,Références!$K$11:$N$19,3)," ") | R31: =IFERROR(VLOOKUP(O31,Références!$K$11:$N$19,4)," ") | Y31: 1 | AI31: =SUM(AF31,AH31) -> 0 | AK31: =(AJ31-L31) -> 0 | AM31: =(AL31-L31) -> 0 | AP31: =IF(AO31=1,"ELECTIVE",IF(AO31=2,"URGENCY",IF(AO31=3,"EMERGENCY",IF(AO31=4,"SALVAGE"," ")))) | BA31: Y | BC31: =IF(BG31="Aucune",0,1) -> 0 | BD31: =IF(BH31="Aucune",0,1) -> 0 | BE31: =IF(AG31="Aucune",0,1) -> 1 | BF31: =IF(AO31=1,"ELECTIVE",IF(AO31=2,"URGENCY",IF(AO31=3,"EMERGENCY",IF(AO31=4,"SALVAGE","ALIVE")))) -> ALIVE | BG31: =IF(AD31="","Aucune","Infection") -> Aucune | BH31: =IF(AI31>0,"Transfusion","Aucune") -> Aucune | BI31: =IF(AG31="","Aucune","Transfusé") -> Aucune | BJ31: =IF(X31<>"",IF(X31-L31<2,"OUI","NON"),"NON") -> NON | BK31: =IF(AS31="","NON","OUI") -> NON | BL31: =IF(AL31-L31>0,AL31-L31,"Inconnu") -> Inconnu | BM31: =IF($O31<>"HTX",IF($O31<>"LVAD",BL31,"Inconnu"),"Inconnu") -> Inconnu | BN31: =IF($O31="HTX",BL31,IF($O31="LVAD",BL31,"Inconnu")) -> Inconnu | BO31: =IF(AJ31-L31>0,AJ31-L31,"Inconnu") -> Inconnu | BP31: =IF($O31<>"HTX",IF($O31<>"LVAD",BO31,"Inconnu"),"Inconnu") -> Inconnu | BQ31: =IF($O31="HTX",BO31,IF($O31="LVAD",BO31,"Inconnu")) -> Inconnu | BR31: =IF(BH31="Aucune",IF(BI31="Aucune","Aucune","Transfusé"),"Transfusé") -> Aucune | BS31: =AF31+AH31 -> 0 | BT31: =VLOOKUP($I31,Lieu_Activité!$A:$B,2,FALSE) -> #N/A | BU31: =IF(AB31="","Aucun","AVC") -> Aucun | BV31: =IF(AC31="","Aucun","IM") -> Aucun | BW31: =IF(M31="","NON","OUI") -> NON
A32: FEVRIER | E32: =(L32-D32)/365 -> 0 | F32: =IF(E32<80," ","1") | P32: =IFERROR(VLOOKUP(O32,Références!$K$11:$N$19,2)," ") | Q32: =IFERROR(VLOOKUP(O32,Références!$K$11:$N$19,3)," ") | R32: =IFERROR(VLOOKUP(O32,Références!$K$11:$N$19,4)," ") | Y32: 1 | AI32: =SUM(AF32,AH32) -> 0 | AK32: =(AJ32-L32) -> 0 | AM32: =(AL32-L32) -> 0 | AP32: =IF(AO32=1,"ELECTIVE",IF(AO32=2,"URGENCY",IF(AO32=3,"EMERGENCY",IF(AO32=4,"SALVAGE"," ")))) | BA32: Y | BC32: =IF(BG32="Aucune",0,1) -> 0 | BD32: =IF(BH32="Aucune",0,1) -> 0 | BE32: =IF(AG32="Aucune",0,1) -> 1 | BF32: =IF(AO32=1,"ELECTIVE",IF(AO32=2,"URGENCY",IF(AO32=3,"EMERGENCY",IF(AO32=4,"SALVAGE","ALIVE")))) -> ALIVE | BG32: =IF(AD32="","Aucune","Infection") -> Aucune | BH32: =IF(AI32>0,"Transfusion","Aucune") -> Aucune | BI32: =IF(AG32="","Aucune","Transfusé") -> Aucune | BJ32: =IF(X32<>"",IF(X32-L32<2,"OUI","NON"),"NON") -> NON | BK32: =IF(AS32="","NON","OUI") -> NON | BL32: =IF(AL32-L32>0,AL32-L32,"Inconnu") -> Inconnu | BM32: =IF($O32<>"HTX",IF($O32<>"LVAD",BL32,"Inconnu"),"Inconnu") -> Inconnu | BN32: =IF($O32="HTX",BL32,IF($O32="LVAD",BL32,"Inconnu")) -> Inconnu | BO32: =IF(AJ32-L32>0,AJ32-L32,"Inconnu") -> Inconnu | BP32: =IF($O32<>"HTX",IF($O32<>"LVAD",BO32,"Inconnu"),"Inconnu") -> Inconnu | BQ32: =IF($O32="HTX",BO32,IF($O32="LVAD",BO32,"Inconnu")) -> Inconnu | BR32: =IF(BH32="Aucune",IF(BI32="Aucune","Aucune","Transfusé"),"Transfusé") -> Aucune | BS32: =AF32+AH32 -> 0 | BT32: =VLOOKUP($I32,Lieu_Activité!$A:$B,2,FALSE) -> #N/A | BU32: =IF(AB32="","Aucun","AVC") -> Aucun | BV32: =IF(AC32="","Aucun","IM") -> Aucun | BW32: =IF(M32="","NON","OUI") -> NON
A33: FEVRIER | E33: =(L33-D33)/365 -> 0 | F33: =IF(E33<80," ","1") | P33: =IFERROR(VLOOKUP(O33,Références!$K$11:$N$19,2)," ") | Q33: =IFERROR(VLOOKUP(O33,Références!$K$11:$N$19,3)," ") | R33: =IFERROR(VLOOKUP(O33,Références!$K$11:$N$19,4)," ") | Y33: 1 | AI33: =SUM(AF33,AH33) -> 0 | AK33: =(AJ33-L33) -> 0 | AM33: =(AL33-L33) -> 0 | AP33: =IF(AO33=1,"ELECTIVE",IF(AO33=2,"URGENCY",IF(AO33=3,"EMERGENCY",IF(AO33=4,"SALVAGE"," ")))) | BA33: Y | BC33: =IF(BG33="Aucune",0,1) -> 0 | BD33: =IF(BH33="Aucune",0,1) -> 0 | BE33: =IF(AG33="Aucune",0,1) -> 1 | BF33: =IF(AO33=1,"ELECTIVE",IF(AO33=2,"URGENCY",IF(AO33=3,"EMERGENCY",IF(AO33=4,"SALVAGE","ALIVE")))) -> ALIVE | BG33: =IF(AD33="","Aucune","Infection") -> Aucune | BH33: =IF(AI33>0,"Transfusion","Aucune") -> Aucune | BI33: =IF(AG33="","Aucune","Transfusé") -> Aucune | BJ33: =IF(X33<>"",IF(X33-L33<2,"OUI","NON"),"NON") -> NON | BK33: =IF(AS33="","NON","OUI") -> NON | BL33: =IF(AL33-L33>0,AL33-L33,"Inconnu") -> Inconnu | BM33: =IF($O33<>"HTX",IF($O33<>"LVAD",BL33,"Inconnu"),"Inconnu") -> Inconnu | BN33: =IF($O33="HTX",BL33,IF($O33="LVAD",BL33,"Inconnu")) -> Inconnu | BO33: =IF(AJ33-L33>0,AJ33-L33,"Inconnu") -> Inconnu | BP33: =IF($O33<>"HTX",IF($O33<>"LVAD",BO33,"Inconnu"),"Inconnu") -> Inconnu | BQ33: =IF($O33="HTX",BO33,IF($O33="LVAD",BO33,"Inconnu")) -> Inconnu | BR33: =IF(BH33="Aucune",IF(BI33="Aucune","Aucune","Transfusé"),"Transfusé") -> Aucune | BS33: =AF33+AH33 -> 0 | BT33: =VLOOKUP($I33,Lieu_Activité!$A:$B,2,FALSE) -> #N/A | BU33: =IF(AB33="","Aucun","AVC") -> Aucun | BV33: =IF(AC33="","Aucun","IM") -> Aucun | BW33: =IF(M33="","NON","OUI") -> NON
A34: FEVRIER | E34: =(L34-D34)/365 -> 0 | F34: =IF(E34<80," ","1") | P34: =IFERROR(VLOOKUP(O34,Références!$K$11:$N$19,2)," ") | Q34: =IFERROR(VLOOKUP(O34,Références!$K$11:$N$19,3)," ") | R34: =IFERROR(VLOOKUP(O34,Références!$K$11:$N$19,4)," ") | Y34: 1 | AI34: =SUM(AF34,AH34) -> 0 | AK34: =(AJ34-L34) -> 0 | AM34: =(AL34-L34) -> 0 | AP34: =IF(AO34=1,"ELECTIVE",IF(AO34=2,"URGENCY",IF(AO34=3,"EMERGENCY",IF(AO34=4,"SALVAGE"," ")))) | BA34: Y | BC34: =IF(BG34="Aucune",0,1) -> 0 | BD34: =IF(BH34="Aucune",0,1) -> 0 | BE34: =IF(AG34="Aucune",0,1) -> 1 | BF34: =IF(AO34=1,"ELECTIVE",IF(AO34=2,"URGENCY",IF(AO34=3,"EMERGENCY",IF(AO34=4,"SALVAGE","ALIVE")))) -> ALIVE | BG34: =IF(AD34="","Aucune","Infection") -> Aucune | BH34: =IF(AI34>0,"Transfusion","Aucune") -> Aucune | BI34: =IF(AG34="","Aucune","Transfusé") -> Aucune | BJ34: =IF(X34<>"",IF(X34-L34<2,"OUI","NON"),"NON") -> NON | BK34: =IF(AS34="","NON","OUI") -> NON | BL34: =IF(AL34-L34>0,AL34-L34,"Inconnu") -> Inconnu | BM34: =IF($O34<>"HTX",IF($O34<>"LVAD",BL34,"Inconnu"),"Inconnu") -> Inconnu | BN34: =IF($O34="HTX",BL34,IF($O34="LVAD",BL34,"Inconnu")) -> Inconnu | BO34: =IF(AJ34-L34>0,AJ34-L34,"Inconnu") -> Inconnu | BP34: =IF($O34<>"HTX",IF($O34<>"LVAD",BO34,"Inconnu"),"Inconnu") -> Inconnu | BQ34: =IF($O34="HTX",BO34,IF($O34="LVAD",BO34,"Inconnu")) -> Inconnu | BR34: =IF(BH34="Aucune",IF(BI34="Aucune","Aucune","Transfusé"),"Transfusé") -> Aucune | BS34: =AF34+AH34 -> 0 | BT34: =VLOOKUP($I34,Lieu_Activité!$A:$B,2,FALSE) -> #N/A | BU34: =IF(AB34="","Aucun","AVC") -> Aucun | BV34: =IF(AC34="","Aucun","IM") -> Aucun | BW34: =IF(M34="","NON","OUI") -> NON
A35: FEVRIER | E35: =(L35-D35)/365 -> 0 | F35: =IF(E35<80," ","1") | P35: =IFERROR(VLOOKUP(O35,Références!$K$11:$N$19,2)," ") | Q35: =IFERROR(VLOOKUP(O35,Références!$K$11:$N$19,3)," ") | R35: =IFERROR(VLOOKUP(O35,Références!$K$11:$N$19,4)," ") | Y35: 1 | AI35: =SUM(AF35,AH35) -> 0 | AK35: =(AJ35-L35) -> 0 | AM35: =(AL35-L35) -> 0 | AP35: =IF(AO35=1,"ELECTIVE",IF(AO35=2,"URGENCY",IF(AO35=3,"EMERGENCY",IF(AO35=4,"SALVAGE"," ")))) | BA35: Y | BC35: =IF(BG35="Aucune",0,1) -> 0 | BD35: =IF(BH35="Aucune",0,1) -> 0 | BE35: =IF(AG35="Aucune",0,1) -> 1 | BF35: =IF(AO35=1,"ELECTIVE",IF(AO35=2,"URGENCY",IF(AO35=3,"EMERGENCY",IF(AO35=4,"SALVAGE","ALIVE")))) -> ALIVE | BG35: =IF(AD35="","Aucune","Infection") -> Aucune | BH35: =IF(AI35>0,"Transfusion","Aucune") -> Aucune | BI35: =IF(AG35="","Aucune","Transfusé") -> Aucune | BJ35: =IF(X35<>"",IF(X35-L35<2,"OUI","NON"),"NON") -> NON | BK35: =IF(AS35="","NON","OUI") -> NON | BL35: =IF(AL35-L35>0,AL35-L35,"Inconnu") -> Inconnu | BM35: =IF($O35<>"HTX",IF($O35<>"LVAD",BL35,"Inconnu"),"Inconnu") -> Inconnu | BN35: =IF($O35="HTX",BL35,IF($O35="LVAD",BL35,"Inconnu")) -> Inconnu | BO35: =IF(AJ35-L35>0,AJ35-L35,"Inconnu") -> Inconnu | BP35: =IF($O35<>"HTX",IF($O35<>"LVAD",BO35,"Inconnu"),"Inconnu") -> Inconnu | BQ35: =IF($O35="HTX",BO35,IF($O35="LVAD",BO35,"Inconnu")) -> Inconnu | BR35: =IF(BH35="Aucune",IF(BI35="Aucune","Aucune","Transfusé"),"Transfusé") -> Aucune | BS35: =AF35+AH35 -> 0 | BT35: =VLOOKUP($I35,Lieu_Activité!$A:$B,2,FALSE) -> #N/A | BU35: =IF(AB35="","Aucun","AVC") -> Aucun | BV35: =IF(AC35="","Aucun","IM") -> Aucun | BW35: =IF(M35="","NON","OUI") -> NON
A36: FEVRIER | E36: =(L36-D36)/365 -> 0 | F36: =IF(E36<80," ","1") | P36: =IFERROR(VLOOKUP(O36,Références!$K$11:$N$19,2)," ") | Q36: =IFERROR(VLOOKUP(O36,Références!$K$11:$N$19,3)," ") | R36: =IFERROR(VLOOKUP(O36,Références!$K$11:$N$19,4)," ") | Y36: 1 | AI36: =SUM(AF36,AH36) -> 0 | AK36: =(AJ36-L36) -> 0 | AM36: =(AL36-L36) -> 0 | AP36: =IF(AO36=1,"ELECTIVE",IF(AO36=2,"URGENCY",IF(AO36=3,"EMERGENCY",IF(AO36=4,"SALVAGE"," ")))) | BA36: Y | BC36: =IF(BG36="Aucune",0,1) -> 0 | BD36: =IF(BH36="Aucune",0,1) -> 0 | BE36: =IF(AG36="Aucune",0,1) -> 1 | BF36: =IF(AO36=1,"ELECTIVE",IF(AO36=2,"URGENCY",IF(AO36=3,"EMERGENCY",IF(AO36=4,"SALVAGE","ALIVE")))) -> ALIVE | BG36: =IF(AD36="","Aucune","Infection") -> Aucune | BH36: =IF(AI36>0,"Transfusion","Aucune") -> Aucune | BI36: =IF(AG36="","Aucune","Transfusé") -> Aucune | BJ36: =IF(X36<>"",IF(X36-L36<2,"OUI","NON"),"NON") -> NON | BK36: =IF(AS36="","NON","OUI") -> NON | BL36: =IF(AL36-L36>0,AL36-L36,"Inconnu") -> Inconnu | BM36: =IF($O36<>"HTX",IF($O36<>"LVAD",BL36,"Inconnu"),"Inconnu") -> Inconnu | BN36: =IF($O36="HTX",BL36,IF($O36="LVAD",BL36,"Inconnu")) -> Inconnu | BO36: =IF(AJ36-L36>0,AJ36-L36,"Inconnu") -> Inconnu | BP36: =IF($O36<>"HTX",IF($O36<>"LVAD",BO36,"Inconnu"),"Inconnu") -> Inconnu | BQ36: =IF($O36="HTX",BO36,IF($O36="LVAD",BO36,"Inconnu")) -> Inconnu | BR36: =IF(BH36="Aucune",IF(BI36="Aucune","Aucune","Transfusé"),"Transfusé") -> Aucune | BS36: =AF36+AH36 -> 0 | BT36: =VLOOKUP($I36,Lieu_Activité!$A:$B,2,FALSE) -> #N/A | BU36: =IF(AB36="","Aucun","AVC") -> Aucun | BV36: =IF(AC36="","Aucun","IM") -> Aucun | BW36: =IF(M36="","NON","OUI") -> NON
A37: FEVRIER | E37: =(L37-D37)/365 -> 0 | F37: =IF(E37<80," ","1") | P37: =IFERROR(VLOOKUP(O37,Références!$K$11:$N$19,2)," ") | Q37: =IFERROR(VLOOKUP(O37,Références!$K$11:$N$19,3)," ") | R37: =IFERROR(VLOOKUP(O37,Références!$K$11:$N$19,4)," ") | Y37: 1 | AI37: =SUM(AF37,AH37) -> 0 | AK37: =(AJ37-L37) -> 0 | AM37: =(AL37-L37) -> 0 | AP37: =IF(AO37=1,"ELECTIVE",IF(AO37=2,"URGENCY",IF(AO37=3,"EMERGENCY",IF(AO37=4,"SALVAGE"," ")))) | BA37: Y | BC37: =IF(BG37="Aucune",0,1) -> 0 | BD37: =IF(BH37="Aucune",0,1) -> 0 | BE37: =IF(AG37="Aucune",0,1) -> 1 | BF37: =IF(AO37=1,"ELECTIVE",IF(AO37=2,"URGENCY",IF(AO37=3,"EMERGENCY",IF(AO37=4,"SALVAGE","ALIVE")))) -> ALIVE | BG37: =IF(AD37="","Aucune","Infection") -> Aucune | BH37: =IF(AI37>0,"Transfusion","Aucune") -> Aucune | BI37: =IF(AG37="","Aucune","Transfusé") -> Aucune | BJ37: =IF(X37<>"",IF(X37-L37<2,"OUI","NON"),"NON") -> NON | BK37: =IF(AS37="","NON","OUI") -> NON | BL37: =IF(AL37-L37>0,AL37-L37,"Inconnu") -> Inconnu | BM37: =IF($O37<>"HTX",IF($O37<>"LVAD",BL37,"Inconnu"),"Inconnu") -> Inconnu | BN37: =IF($O37="HTX",BL37,IF($O37="LVAD",BL37,"Inconnu")) -> Inconnu | BO37: =IF(AJ37-L37>0,AJ37-L37,"Inconnu") -> Inconnu | BP37: =IF($O37<>"HTX",IF($O37<>"LVAD",BO37,"Inconnu"),"Inconnu") -> Inconnu | BQ37: =IF($O37="HTX",BO37,IF($O37="LVAD",BO37,"Inconnu")) -> Inconnu | BR37: =IF(BH37="Aucune",IF(BI37="Aucune","Aucune","Transfusé"),"Transfusé") -> Aucune | BS37: =AF37+AH37 -> 0 | BT37: =VLOOKUP($I37,Lieu_Activité!$A:$B,2,FALSE) -> #N/A | BU37: =IF(AB37="","Aucun","AVC") -> Aucun | BV37: =IF(AC37="","Aucun","IM") -> Aucun | BW37: =IF(M37="","NON","OUI") -> NON
A38: FEVRIER | E38: =(L38-D38)/365 -> 0 | F38: =IF(E38<80," ","1") | P38: =IFERROR(VLOOKUP(O38,Références!$K$11:$N$19,2)," ") | Q38: =IFERROR(VLOOKUP(O38,Références!$K$11:$N$19,3)," ") | R38: =IFERROR(VLOOKUP(O38,Références!$K$11:$N$19,4)," ") | Y38: 1 | AI38: =SUM(AF38,AH38) -> 0 | AK38: =(AJ38-L38) -> 0 | AM38: =(AL38-L38) -> 0 | AP38: =IF(AO38=1,"ELECTIVE",IF(AO38=2,"URGENCY",IF(AO38=3,"EMERGENCY",IF(AO38=4,"SALVAGE"," ")))) | BA38: Y | BC38: =IF(BG38="Aucune",0,1) -> 0 | BD38: =IF(BH38="Aucune",0,1) -> 0 | BE38: =IF(AG38="Aucune",0,1) -> 1 | BF38: =IF(AO38=1,"ELECTIVE",IF(AO38=2,"URGENCY",IF(AO38=3,"EMERGENCY",IF(AO38=4,"SALVAGE","ALIVE")))) -> ALIVE | BG38: =IF(AD38="","Aucune","Infection") -> Aucune | BH38: =IF(AI38>0,"Transfusion","Aucune") -> Aucune | BI38: =IF(AG38="","Aucune","Transfusé") -> Aucune | BJ38: =IF(X38<>"",IF(X38-L38<2,"OUI","NON"),"NON") -> NON | BK38: =IF(AS38="","NON","OUI") -> NON | BL38: =IF(AL38-L38>0,AL38-L38,"Inconnu") -> Inconnu | BM38: =IF($O38<>"HTX",IF($O38<>"LVAD",BL38,"Inconnu"),"Inconnu") -> Inconnu | BN38: =IF($O38="HTX",BL38,IF($O38="LVAD",BL38,"Inconnu")) -> Inconnu | BO38: =IF(AJ38-L38>0,AJ38-L38,"Inconnu") -> Inconnu | BP38: =IF($O38<>"HTX",IF($O38<>"LVAD",BO38,"Inconnu"),"Inconnu") -> Inconnu | BQ38: =IF($O38="HTX",BO38,IF($O38="LVAD",BO38,"Inconnu")) -> Inconnu | BR38: =IF(BH38="Aucune",IF(BI38="Aucune","Aucune","Transfusé"),"Transfusé") -> Aucune | BS38: =AF38+AH38 -> 0 | BT38: =VLOOKUP($I38,Lieu_Activité!$A:$B,2,FALSE) -> #N/A | BU38: =IF(AB38="","Aucun","AVC") -> Aucun | BV38: =IF(AC38="","Aucun","IM") -> Aucun | BW38: =IF(M38="","NON","OUI") -> NON
... A44: FEVRIER | E44: =(L44-D44)/365 -> 0 | F44: =IF(E44<80," ","1") | P44: =IFERROR(VLOOKUP(O44,Références!$K$11:$N$19,2)," ") | Q44: =IFERROR(VLOOKUP(O44,Références!$K$11:$N$19,3)," ") | R44: =IFERROR(VLOOKUP(O44,Références!$K$11:$N$19,4)," ") | Y44: 1 | AI44: =SUM(AF44,AH44) -> 0 | AK44: =(AJ44-L44) -> 0 | AM44: =(AL44-L44) -> 0 | AP44: =IF(AO44=1,"ELECTIVE",IF(AO44=2,"URGENCY",IF(AO44=3,"EMERGENCY",IF(AO44=4,"SALVAGE"," ")))) | BA44: Y | BC44: =IF(BG44="Aucune",0,1) -> 0 | BD44: =IF(BH44="Aucune",0,1) -> 0 | BE44: =IF(AG44="Aucune",0,1) -> 1 | BF44: =IF(AO44=1,"ELECTIVE",IF(AO44=2,"URGENCY",IF(AO44=3,"EMERGENCY",IF(AO44=4,"SALVAGE","ALIVE")))) -> ALIVE | BG44: =IF(AD44="","Aucune","Infection") -> Aucune | BH44: =IF(AI44>0,"Transfusion","Aucune") -> Aucune | BI44: =IF(AG44="","Aucune","Transfusé") -> Aucune | BJ44: =IF(X44<>"",IF(X44-L44<2,"OUI","NON"),"NON") -> NON | BK44: =IF(AS44="","NON","OUI") -> NON | BL44: =IF(AL44-L44>0,AL44-L44,"Inconnu") -> Inconnu | BM44: =IF($O44<>"HTX",IF($O44<>"LVAD",BL44,"Inconnu"),"Inconnu") -> Inconnu | BN44: =IF($O44="HTX",BL44,IF($O44="LVAD",BL44,"Inconnu")) -> Inconnu | BO44: =IF(AJ44-L44>0,AJ44-L44,"Inconnu") -> Inconnu | BP44: =IF($O44<>"HTX",IF($O44<>"LVAD",BO44,"Inconnu"),"Inconnu") -> Inconnu | BQ44: =IF($O44="HTX",BO44,IF($O44="LVAD",BO44,"Inconnu")) -> Inconnu | BR44: =IF(BH44="Aucune",IF(BI44="Aucune","Aucune","Transfusé"),"Transfusé") -> Aucune | BS44: =AF44+AH44 -> 0 | BT44: =VLOOKUP($I44,Lieu_Activité!$A:$B,2,FALSE) -> #N/A | BU44: =IF(AB44="","Aucun","AVC") -> Aucun | BV44: =IF(AC44="","Aucun","IM") -> Aucun | BW44: =IF(M44="","NON","OUI") -> NON
A45: FEVRIER | E45: =(L45-D45)/365 -> 0 | F45: =IF(E45<80," ","1") | P45: =IFERROR(VLOOKUP(O45,Références!$K$11:$N$19,2)," ") | Q45: =IFERROR(VLOOKUP(O45,Références!$K$11:$N$19,3)," ") | R45: =IFERROR(VLOOKUP(O45,Références!$K$11:$N$19,4)," ") | Y45: 1 | AI45: =SUM(AF45,AH45) -> 0 | AK45: =(AJ45-L45) -> 0 | AM45: =(AL45-L45) -> 0 | AP45: =IF(AO45=1,"ELECTIVE",IF(AO45=2,"URGENCY",IF(AO45=3,"EMERGENCY",IF(AO45=4,"SALVAGE"," ")))) | BC45: =IF(BG45="Aucune",0,1) -> 0 | BD45: =IF(BH45="Aucune",0,1) -> 0 | BE45: =IF(AG45="Aucune",0,1) -> 1 | BF45: =IF(AO45=1,"ELECTIVE",IF(AO45=2,"URGENCY",IF(AO45=3,"EMERGENCY",IF(AO45=4,"SALVAGE","ALIVE")))) -> ALIVE | BG45: =IF(AD45="","Aucune","Infection") -> Aucune | BH45: =IF(AI45>0,"Transfusion","Aucune") -> Aucune | BI45: =IF(AG45="","Aucune","Transfusé") -> Aucune | BJ45: =IF(X45<>"",IF(X45-L45<2,"OUI","NON"),"NON") -> NON | BK45: =IF(AS45="","NON","OUI") -> NON | BL45: =IF(AL45-L45>0,AL45-L45,"Inconnu") -> Inconnu | BM45: =IF($O45<>"HTX",IF($O45<>"LVAD",BL45,"Inconnu"),"Inconnu") -> Inconnu | BN45: =IF($O45="HTX",BL45,IF($O45="LVAD",BL45,"Inconnu")) -> Inconnu | BO45: =IF(AJ45-L45>0,AJ45-L45,"Inconnu") -> Inconnu | BP45: =IF($O45<>"HTX",IF($O45<>"LVAD",BO45,"Inconnu"),"Inconnu") -> Inconnu | BQ45: =IF($O45="HTX",BO45,IF($O45="LVAD",BO45,"Inconnu")) -> Inconnu | BR45: =IF(BH45="Aucune",IF(BI45="Aucune","Aucune","Transfusé"),"Transfusé") -> Aucune | BS45: =AF45+AH45 -> 0 | BT45: =VLOOKUP($I45,Lieu_Activité!$A:$B,2,FALSE) -> #N/A | BU45: =IF(AB45="","Aucun","AVC") -> Aucun | BV45: =IF(AC45="","Aucun","IM") -> Aucun | BW45: =IF(M45="","NON","OUI") -> NON
A46: FEVRIER | E46: =(L46-D46)/365 -> 0 | F46: =IF(E46<80," ","1") | P46: =IFERROR(VLOOKUP(O46,Références!$K$11:$N$19,2)," ") | Q46: =IFERROR(VLOOKUP(O46,Références!$K$11:$N$19,3)," ") | R46: =IFERROR(VLOOKUP(O46,Références!$K$11:$N$19,4)," ") | AI46: =SUM(AF46,AH46) -> 0 | AK46: =(AJ46-L46) -> 0 | AM46: =(AL46-L46) -> 0 | AP46: =IF(AO46=1,"ELECTIVE",IF(AO46=2,"URGENCY",IF(AO46=3,"EMERGENCY",IF(AO46=4,"SALVAGE"," ")))) | BA46: Y | BC46: =IF(BG46="Aucune",0,1) -> 0 | BD46: =IF(BH46="Aucune",0,1) -> 0 | BE46: =IF(AG46="Aucune",0,1) -> 1 | BF46: =IF(AO46=1,"ELECTIVE",IF(AO46=2,"URGENCY",IF(AO46=3,"EMERGENCY",IF(AO46=4,"SALVAGE","ALIVE")))) -> ALIVE | BG46: =IF(AD46="","Aucune","Infection") -> Aucune | BH46: =IF(AI46>0,"Transfusion","Aucune") -> Aucune | BI46: =IF(AG46="","Aucune","Transfusé") -> Aucune | BJ46: =IF(X46<>"",IF(X46-L46<2,"OUI","NON"),"NON") -> NON | BK46: =IF(AS46="","NON","OUI") -> NON | BL46: =IF(AL46-L46>0,AL46-L46,"Inconnu") -> Inconnu | BM46: =IF($O46<>"HTX",IF($O46<>"LVAD",BL46,"Inconnu"),"Inconnu") -> Inconnu | BN46: =IF($O46="HTX",BL46,IF($O46="LVAD",BL46,"Inconnu")) -> Inconnu | BO46: =IF(AJ46-L46>0,AJ46-L46,"Inconnu") -> Inconnu | BP46: =IF($O46<>"HTX",IF($O46<>"LVAD",BO46,"Inconnu"),"Inconnu") -> Inconnu | BQ46: =IF($O46="HTX",BO46,IF($O46="LVAD",BO46,"Inconnu")) -> Inconnu | BR46: =IF(BH46="Aucune",IF(BI46="Aucune","Aucune","Transfusé"),"Transfusé") -> Aucune | BS46: =AF46+AH46 -> 0 | BT46: =VLOOKUP($I46,Lieu_Activité!$A:$B,2,FALSE) -> #N/A | BU46: =IF(AB46="","Aucun","AVC") -> Aucun | BV46: =IF(AC46="","Aucun","IM") -> Aucun | BW46: =IF(M46="","NON","OUI") -> NON
A47: FEVRIER | E47: =(L47-D47)/365 -> 0 | F47: =IF(E47<80," ","1") | P47: =IFERROR(VLOOKUP(O47,Références!$K$11:$N$19,2)," ") | Q47: =IFERROR(VLOOKUP(O47,Références!$K$11:$N$19,3)," ") | R47: =IFERROR(VLOOKUP(O47,Références!$K$11:$N$19,4)," ") | AI47: =SUM(AF47,AH47) -> 0 | AK47: =(AJ47-L47) -> 0 | AM47: =(AL47-L47) -> 0 | AP47: =IF(AO47=1,"ELECTIVE",IF(AO47=2,"URGENCY",IF(AO47=3,"EMERGENCY",IF(AO47=4,"SALVAGE"," ")))) | BC47: =IF(BG47="Aucune",0,1) -> 0 | BD47: =IF(BH47="Aucune",0,1) -> 0 | BE47: =IF(AG47="Aucune",0,1) -> 1 | BF47: =IF(AO47=1,"ELECTIVE",IF(AO47=2,"URGENCY",IF(AO47=3,"EMERGENCY",IF(AO47=4,"SALVAGE","ALIVE")))) -> ALIVE | BG47: =IF(AD47="","Aucune","Infection") -> Aucune | BH47: =IF(AI47>0,"Transfusion","Aucune") -> Aucune | BI47: =IF(AG47="","Aucune","Transfusé") -> Aucune | BJ47: =IF(X47<>"",IF(X47-L47<2,"OUI","NON"),"NON") -> NON | BK47: =IF(AS47="","NON","OUI") -> NON | BL47: =IF(AL47-L47>0,AL47-L47,"Inconnu") -> Inconnu | BM47: =IF($O47<>"HTX",IF($O47<>"LVAD",BL47,"Inconnu"),"Inconnu") -> Inconnu | BN47: =IF($O47="HTX",BL47,IF($O47="LVAD",BL47,"Inconnu")) -> Inconnu | BO47: =IF(AJ47-L47>0,AJ47-L47,"Inconnu") -> Inconnu | BP47: =IF($O47<>"HTX",IF($O47<>"LVAD",BO47,"Inconnu"),"Inconnu") -> Inconnu | BQ47: =IF($O47="HTX",BO47,IF($O47="LVAD",BO47,"Inconnu")) -> Inconnu | BR47: =IF(BH47="Aucune",IF(BI47="Aucune","Aucune","Transfusé"),"Transfusé") -> Aucune | BS47: =AF47+AH47 -> 0 | BT47: =VLOOKUP($I47,Lieu_Activité!$A:$B,2,FALSE) -> #N/A | BU47: =IF(AB47="","Aucun","AVC") -> Aucun | BV47: =IF(AC47="","Aucun","IM") -> Aucun | BW47: =IF(M47="","NON","OUI") -> NON
A48: FEVRIER | E48: =(L48-D48)/365 -> 0 | F48: =IF(E48<80," ","1") | P48: =IFERROR(VLOOKUP(O48,Références!$K$11:$N$19,2)," ") | Q48: =IFERROR(VLOOKUP(O48,Références!$K$11:$N$19,3)," ") | R48: =IFERROR(VLOOKUP(O48,Références!$K$11:$N$19,4)," ") | AI48: =SUM(AF48,AH48) -> 0 | AK48: =(AJ48-L48) -> 0 | AM48: =(AL48-L48) -> 0 | AP48: =IF(AO48=1,"ELECTIVE",IF(AO48=2,"URGENCY",IF(AO48=3,"EMERGENCY",IF(AO48=4,"SALVAGE"," ")))) | BA48: N | BC48: =IF(BG48="Aucune",0,1) -> 0 | BD48: =IF(BH48="Aucune",0,1) -> 0 | BE48: =IF(AG48="Aucune",0,1) -> 1 | BF48: =IF(AO48=1,"ELECTIVE",IF(AO48=2,"URGENCY",IF(AO48=3,"EMERGENCY",IF(AO48=4,"SALVAGE","ALIVE")))) -> ALIVE | BG48: =IF(AD48="","Aucune","Infection") -> Aucune | BH48: =IF(AI48>0,"Transfusion","Aucune") -> Aucune | BI48: =IF(AG48="","Aucune","Transfusé") -> Aucune | BJ48: =IF(X48<>"",IF(X48-L48<2,"OUI","NON"),"NON") -> NON | BK48: =IF(AS48="","NON","OUI") -> NON | BL48: =IF(AL48-L48>0,AL48-L48,"Inconnu") -> Inconnu | BM48: =IF($O48<>"HTX",IF($O48<>"LVAD",BL48,"Inconnu"),"Inconnu") -> Inconnu | BN48: =IF($O48="HTX",BL48,IF($O48="LVAD",BL48,"Inconnu")) -> Inconnu | BO48: =IF(AJ48-L48>0,AJ48-L48,"Inconnu") -> Inconnu | BP48: =IF($O48<>"HTX",IF($O48<>"LVAD",BO48,"Inconnu"),"Inconnu") -> Inconnu | BQ48: =IF($O48="HTX",BO48,IF($O48="LVAD",BO48,"Inconnu")) -> Inconnu | BR48: =IF(BH48="Aucune",IF(BI48="Aucune","Aucune","Transfusé"),"Transfusé") -> Aucune | BS48: =AF48+AH48 -> 0 | BT48: =VLOOKUP($I48,Lieu_Activité!$A:$B,2,FALSE) -> #N/A | BU48: =IF(AB48="","Aucun","AVC") -> Aucun | BV48: =IF(AC48="","Aucun","IM") -> Aucun | BW48: =IF(M48="","NON","OUI") -> NON
A49: FEVRIER | E49: =(L49-D49)/365 -> 0 | F49: =IF(E49<80," ","1") | P49: =IFERROR(VLOOKUP(O49,Références!$K$11:$N$19,2)," ") | Q49: =IFERROR(VLOOKUP(O49,Références!$K$11:$N$19,3)," ") | R49: =IFERROR(VLOOKUP(O49,Références!$K$11:$N$19,4)," ") | AI49: =SUM(AF49,AH49) -> 0 | AK49: =(AJ49-L49) -> 0 | AM49: =(AL49-L49) -> 0 | AP49: =IF(AO49=1,"ELECTIVE",IF(AO49=2,"URGENCY",IF(AO49=3,"EMERGENCY",IF(AO49=4,"SALVAGE"," ")))) | BA49: Y | BC49: =IF(BG49="Aucune",0,1) -> 0 | BD49: =IF(BH49="Aucune",0,1) -> 0 | BE49: =IF(AG49="Aucune",0,1) -> 1 | BF49: =IF(AO49=1,"ELECTIVE",IF(AO49=2,"URGENCY",IF(AO49=3,"EMERGENCY",IF(AO49=4,"SALVAGE","ALIVE")))) -> ALIVE | BG49: =IF(AD49="","Aucune","Infection") -> Aucune | BH49: =IF(AI49>0,"Transfusion","Aucune") -> Aucune | BI49: =IF(AG49="","Aucune","Transfusé") -> Aucune | BJ49: =IF(X49<>"",IF(X49-L49<2,"OUI","NON"),"NON") -> NON | BK49: =IF(AS49="","NON","OUI") -> NON | BL49: =IF(AL49-L49>0,AL49-L49,"Inconnu") -> Inconnu | BM49: =IF($O49<>"HTX",IF($O49<>"LVAD",BL49,"Inconnu"),"Inconnu") -> Inconnu | BN49: =IF($O49="HTX",BL49,IF($O49="LVAD",BL49,"Inconnu")) -> Inconnu | BO49: =IF(AJ49-L49>0,AJ49-L49,"Inconnu") -> Inconnu | BP49: =IF($O49<>"HTX",IF($O49<>"LVAD",BO49,"Inconnu"),"Inconnu") -> Inconnu | BQ49: =IF($O49="HTX",BO49,IF($O49="LVAD",BO49,"Inconnu")) -> Inconnu | BR49: =IF(BH49="Aucune",IF(BI49="Aucune","Aucune","Transfusé"),"Transfusé") -> Aucune | BS49: =AF49+AH49 -> 0 | BT49: =VLOOKUP($I49,Lieu_Activité!$A:$B,2,FALSE) -> #N/A | BU49: =IF(AB49="","Aucun","AVC") -> Aucun | BV49: =IF(AC49="","Aucun","IM") -> Aucun | BW49: =IF(M49="","NON","OUI") -> NON
A50: FEVRIER | E50: =(L50-D50)/365 -> 0 | F50: =IF(E50<80," ","1") | P50: =IFERROR(VLOOKUP(O50,Références!$K$11:$N$19,2)," ") | Q50: =IFERROR(VLOOKUP(O50,Références!$K$11:$N$19,3)," ") | R50: =IFERROR(VLOOKUP(O50,Références!$K$11:$N$19,4)," ") | AI50: =SUM(AF50,AH50) -> 0 | AK50: =(AJ50-L50) -> 0 | AM50: =(AL50-L50) -> 0 | AP50: =IF(AO50=1,"ELECTIVE",IF(AO50=2,"URGENCY",IF(AO50=3,"EMERGENCY",IF(AO50=4,"SALVAGE"," ")))) | BA50: Y | BC50: =IF(BG50="Aucune",0,1) -> 0 | BD50: =IF(BH50="Aucune",0,1) -> 0 | BE50: =IF(AG50="Aucune",0,1) -> 1 | BF50: =IF(AO50=1,"ELECTIVE",IF(AO50=2,"URGENCY",IF(AO50=3,"EMERGENCY",IF(AO50=4,"SALVAGE","ALIVE")))) -> ALIVE | BG50: =IF(AD50="","Aucune","Infection") -> Aucune | BH50: =IF(AI50>0,"Transfusion","Aucune") -> Aucune | BI50: =IF(AG50="","Aucune","Transfusé") -> Aucune | BJ50: =IF(X50<>"",IF(X50-L50<2,"OUI","NON"),"NON") -> NON | BK50: =IF(AS50="","NON","OUI") -> NON | BL50: =IF(AL50-L50>0,AL50-L50,"Inconnu") -> Inconnu | BM50: =IF($O50<>"HTX",IF($O50<>"LVAD",BL50,"Inconnu"),"Inconnu") -> Inconnu | BN50: =IF($O50="HTX",BL50,IF($O50="LVAD",BL50,"Inconnu")) -> Inconnu | BO50: =IF(AJ50-L50>0,AJ50-L50,"Inconnu") -> Inconnu | BP50: =IF($O50<>"HTX",IF($O50<>"LVAD",BO50,"Inconnu"),"Inconnu") -> Inconnu | BQ50: =IF($O50="HTX",BO50,IF($O50="LVAD",BO50,"Inconnu")) -> Inconnu | BR50: =IF(BH50="Aucune",IF(BI50="Aucune","Aucune","Transfusé"),"Transfusé") -> Aucune | BS50: =AF50+AH50 -> 0 | BT50: =VLOOKUP($I50,Lieu_Activité!$A:$B,2,FALSE) -> #N/A | BU50: =IF(AB50="","Aucun","AVC") -> Aucun | BV50: =IF(AC50="","Aucun","IM") -> Aucun | BW50: =IF(M50="","NON","OUI") -> NON
A51: FEVRIER | E51: =(L51-D51)/365 -> 0 | F51: =IF(E51<80," ","1") | P51: =IFERROR(VLOOKUP(O51,Références!$K$11:$N$19,2)," ") | Q51: =IFERROR(VLOOKUP(O51,Références!$K$11:$N$19,3)," ") | R51: =IFERROR(VLOOKUP(O51,Références!$K$11:$N$19,4)," ") | AI51: =SUM(AF51,AH51) -> 0 | AK51: =(AJ51-L51) -> 0 | AM51: =(AL51-L51) -> 0 | AP51: =IF(AO51=1,"ELECTIVE",IF(AO51=2,"URGENCY",IF(AO51=3,"EMERGENCY",IF(AO51=4,"SALVAGE"," ")))) | BA51: Y | BC51: =IF(BG51="Aucune",0,1) -> 0 | BD51: =IF(BH51="Aucune",0,1) -> 0 | BE51: =IF(AG51="Aucune",0,1) -> 1 | BF51: =IF(AO51=1,"ELECTIVE",IF(AO51=2,"URGENCY",IF(AO51=3,"EMERGENCY",IF(AO51=4,"SALVAGE","ALIVE")))) -> ALIVE | BG51: =IF(AD51="","Aucune","Infection") -> Aucune | BH51: =IF(AI51>0,"Transfusion","Aucune") -> Aucune | BI51: =IF(AG51="","Aucune","Transfusé") -> Aucune | BJ51: =IF(X51<>"",IF(X51-L51<2,"OUI","NON"),"NON") -> NON | BK51: =IF(AS51="","NON","OUI") -> NON | BL51: =IF(AL51-L51>0,AL51-L51,"Inconnu") -> Inconnu | BM51: =IF($O51<>"HTX",IF($O51<>"LVAD",BL51,"Inconnu"),"Inconnu") -> Inconnu | BN51: =IF($O51="HTX",BL51,IF($O51="LVAD",BL51,"Inconnu")) -> Inconnu | BO51: =IF(AJ51-L51>0,AJ51-L51,"Inconnu") -> Inconnu | BP51: =IF($O51<>"HTX",IF($O51<>"LVAD",BO51,"Inconnu"),"Inconnu") -> Inconnu | BQ51: =IF($O51="HTX",BO51,IF($O51="LVAD",BO51,"Inconnu")) -> Inconnu | BR51: =IF(BH51="Aucune",IF(BI51="Aucune","Aucune","Transfusé"),"Transfusé") -> Aucune | BS51: =AF51+AH51 -> 0 | BT51: =VLOOKUP($I51,Lieu_Activité!$A:$B,2,FALSE) -> #N/A | BU51: =IF(AB51="","Aucun","AVC") -> Aucun | BV51: =IF(AC51="","Aucun","IM") -> Aucun | BW51: =IF(M51="","NON","OUI") -> NON
A52: FEVRIER | E52: =(L52-D52)/365 -> 0 | F52: =IF(E52<80," ","1") | P52: =IFERROR(VLOOKUP(O52,Références!$K$11:$N$19,2)," ") | Q52: =IFERROR(VLOOKUP(O52,Références!$K$11:$N$19,3)," ") | R52: =IFERROR(VLOOKUP(O52,Références!$K$11:$N$19,4)," ") | AI52: =SUM(AF52,AH52) -> 0 | AK52: =(AJ52-L52) -> 0 | AM52: =(AL52-L52) -> 0 | AP52: =IF(AO52=1,"ELECTIVE",IF(AO52=2,"URGENCY",IF(AO52=3,"EMERGENCY",IF(AO52=4,"SALVAGE"," ")))) | BA52: Y | BC52: =IF(BG52="Aucune",0,1) -> 0 | BD52: =IF(BH52="Aucune",0,1) -> 0 | BE52: =IF(AG52="Aucune",0,1) -> 1 | BF52: =IF(AO52=1,"ELECTIVE",IF(AO52=2,"URGENCY",IF(AO52=3,"EMERGENCY",IF(AO52=4,"SALVAGE","ALIVE")))) -> ALIVE | BG52: =IF(AD52="","Aucune","Infection") -> Aucune | BH52: =IF(AI52>0,"Transfusion","Aucune") -> Aucune | BI52: =IF(AG52="","Aucune","Transfusé") -> Aucune | BJ52: =IF(X52<>"",IF(X52-L52<2,"OUI","NON"),"NON") -> NON | BK52: =IF(AS52="","NON","OUI") -> NON | BL52: =IF(AL52-L52>0,AL52-L52,"Inconnu") -> Inconnu | BM52: =IF($O52<>"HTX",IF($O52<>"LVAD",BL52,"Inconnu"),"Inconnu") -> Inconnu | BN52: =IF($O52="HTX",BL52,IF($O52="LVAD",BL52,"Inconnu")) -> Inconnu | BO52: =IF(AJ52-L52>0,AJ52-L52,"Inconnu") -> Inconnu | BP52: =IF($O52<>"HTX",IF($O52<>"LVAD",BO52,"Inconnu"),"Inconnu") -> Inconnu | BQ52: =IF($O52="HTX",BO52,IF($O52="LVAD",BO52,"Inconnu")) -> Inconnu | BR52: =IF(BH52="Aucune",IF(BI52="Aucune","Aucune","Transfusé"),"Transfusé") -> Aucune | BS52: =AF52+AH52 -> 0 | BT52: =VLOOKUP($I52,Lieu_Activité!$A:$B,2,FALSE) -> #N/A | BU52: =IF(AB52="","Aucun","AVC") -> Aucun | BV52: =IF(AC52="","Aucun","IM") -> Aucun | BW52: =IF(M52="","NON","OUI") -> NON
A53: FEVRIER | E53: =(L53-D53)/365 -> 0 | F53: =IF(E53<80," ","1") | P53: =IFERROR(VLOOKUP(O53,Références!$K$11:$N$19,2)," ") | Q53: =IFERROR(VLOOKUP(O53,Références!$K$11:$N$19,3)," ") | R53: =IFERROR(VLOOKUP(O53,Références!$K$11:$N$19,4)," ") | AI53: =SUM(AF53,AH53) -> 0 | AK53: =(AJ53-L53) -> 0 | AM53: =(AL53-L53) -> 0 | AP53: =IF(AO53=1,"ELECTIVE",IF(AO53=2,"URGENCY",IF(AO53=3,"EMERGENCY",IF(AO53=4,"SALVAGE"," ")))) | BA53: N | BC53: =IF(BG53="Aucune",0,1) -> 0 | BD53: =IF(BH53="Aucune",0,1) -> 0 | BE53: =IF(AG53="Aucune",0,1) -> 1 | BF53: =IF(AO53=1,"ELECTIVE",IF(AO53=2,"URGENCY",IF(AO53=3,"EMERGENCY",IF(AO53=4,"SALVAGE","ALIVE")))) -> ALIVE | BG53: =IF(AD53="","Aucune","Infection") -> Aucune | BH53: =IF(AI53>0,"Transfusion","Aucune") -> Aucune | BI53: =IF(AG53="","Aucune","Transfusé") -> Aucune | BJ53: =IF(X53<>"",IF(X53-L53<2,"OUI","NON"),"NON") -> NON | BK53: =IF(AS53="","NON","OUI") -> NON | BL53: =IF(AL53-L53>0,AL53-L53,"Inconnu") -> Inconnu | BM53: =IF($O53<>"HTX",IF($O53<>"LVAD",BL53,"Inconnu"),"Inconnu") -> Inconnu | BN53: =IF($O53="HTX",BL53,IF($O53="LVAD",BL53,"Inconnu")) -> Inconnu | BO53: =IF(AJ53-L53>0,AJ53-L53,"Inconnu") -> Inconnu | BP53: =IF($O53<>"HTX",IF($O53<>"LVAD",BO53,"Inconnu"),"Inconnu") -> Inconnu | BQ53: =IF($O53="HTX",BO53,IF($O53="LVAD",BO53,"Inconnu")) -> Inconnu | BR53: =IF(BH53="Aucune",IF(BI53="Aucune","Aucune","Transfusé"),"Transfusé") -> Aucune | BS53: =AF53+AH53 -> 0 | BT53: =VLOOKUP($I53,Lieu_Activité!$A:$B,2,FALSE) -> #N/A | BU53: =IF(AB53="","Aucun","AVC") -> Aucun | BV53: =IF(AC53="","Aucun","IM") -> Aucun | BW53: =IF(M53="","NON","OUI") -> NON
A54: FEVRIER | E54: =(L55-D54)/365 -> 0 | F54: =IF(E54<80," ","1") | P54: =IFERROR(VLOOKUP(O54,Références!$K$11:$N$19,2)," ") | Q54: =IFERROR(VLOOKUP(O54,Références!$K$11:$N$19,3)," ") | R54: =IFERROR(VLOOKUP(O54,Références!$K$11:$N$19,4)," ") | AI54: =SUM(AF54,AH54) -> 0 | AK54: =(AJ54-L54) -> 0 | AM54: =(AL54-L54) -> 0 | AP54: =IF(AO54=1,"ELECTIVE",IF(AO54=2,"URGENCY",IF(AO54=3,"EMERGENCY",IF(AO54=4,"SALVAGE"," ")))) | BA54: Y | BC54: =IF(BG54="Aucune",0,1) -> 0 | BD54: =IF(BH54="Aucune",0,1) -> 0 | BE54: =IF(AG54="Aucune",0,1) -> 1 | BF54: =IF(AO54=1,"ELECTIVE",IF(AO54=2,"URGENCY",IF(AO54=3,"EMERGENCY",IF(AO54=4,"SALVAGE","ALIVE")))) -> ALIVE | BG54: =IF(AD54="","Aucune","Infection") -> Aucune | BH54: =IF(AI54>0,"Transfusion","Aucune") -> Aucune | BI54: =IF(AG54="","Aucune","Transfusé") -> Aucune | BJ54: =IF(X54<>"",IF(X54-L55<2,"OUI","NON"),"NON") -> NON | BK54: =IF(AS54="","NON","OUI") -> NON | BL54: =IF(AL54-L55>0,AL54-L55,"Inconnu") -> Inconnu | BM54: =IF($O54<>"HTX",IF($O54<>"LVAD",BL54,"Inconnu"),"Inconnu") -> Inconnu | BN54: =IF($O54="HTX",BL54,IF($O54="LVAD",BL54,"Inconnu")) -> Inconnu | BO54: =IF(AJ54-L55>0,AJ54-L55,"Inconnu") -> Inconnu | BP54: =IF($O54<>"HTX",IF($O54<>"LVAD",BO54,"Inconnu"),"Inconnu") -> Inconnu | BQ54: =IF($O54="HTX",BO54,IF($O54="LVAD",BO54,"Inconnu")) -> Inconnu | BR54: =IF(BH54="Aucune",IF(BI54="Aucune","Aucune","Transfusé"),"Transfusé") -> Aucune | BS54: =AF54+AH54 -> 0 | BT54: =VLOOKUP($I54,Lieu_Activité!$A:$B,2,FALSE) -> #N/A | BU54: =IF(AB54="","Aucun","AVC") -> Aucun | BV54: =IF(AC54="","Aucun","IM") -> Aucun | BW54: =IF(M55="","NON","OUI") -> NON
A55: FEVRIER | E55: =(L56-D55)/365 -> 0 | F55: =IF(E55<80," ","1") | P55: =IFERROR(VLOOKUP(O55,Références!$K$11:$N$19,2)," ") | Q55: =IFERROR(VLOOKUP(O55,Références!$K$11:$N$19,3)," ") | R55: =IFERROR(VLOOKUP(O55,Références!$K$11:$N$19,4)," ") | AI55: =SUM(AF55,AH55) -> 0 | AK55: =(AJ55-L55) -> 0 | AM55: =(AL55-L55) -> 0 | AP55: =IF(AO55=1,"ELECTIVE",IF(AO55=2,"URGENCY",IF(AO55=3,"EMERGENCY",IF(AO55=4,"SALVAGE"," ")))) | BA55: Y | BC55: =IF(BG55="Aucune",0,1) -> 0 | BD55: =IF(BH55="Aucune",0,1) -> 0 | BE55: =IF(AG55="Aucune",0,1) -> 1 | BF55: =IF(AO55=1,"ELECTIVE",IF(AO55=2,"URGENCY",IF(AO55=3,"EMERGENCY",IF(AO55=4,"SALVAGE","ALIVE")))) -> ALIVE | BG55: =IF(AD55="","Aucune","Infection") -> Aucune | BH55: =IF(AI55>0,"Transfusion","Aucune") -> Aucune | BI55: =IF(AG55="","Aucune","Transfusé") -> Aucune | BJ55: =IF(X55<>"",IF(X55-#REF!<2,"OUI","NON"),"NON") -> NON | BK55: =IF(AS55="","NON","OUI") -> NON | BL55: =IF(AL55-L56>0,AL55-L56,"Inconnu") -> Inconnu | BM55: =IF($O55<>"HTX",IF($O55<>"LVAD",BL55,"Inconnu"),"Inconnu") -> Inconnu | BN55: =IF($O55="HTX",BL55,IF($O55="LVAD",BL55,"Inconnu")) -> Inconnu | BO55: =IF(AJ55-L56>0,AJ55-L56,"Inconnu") -> Inconnu | BP55: =IF($O55<>"HTX",IF($O55<>"LVAD",BO55,"Inconnu"),"Inconnu") -> Inconnu | BQ55: =IF($O55="HTX",BO55,IF($O55="LVAD",BO55,"Inconnu")) -> Inconnu | BR55: =IF(BH55="Aucune",IF(BI55="Aucune","Aucune","Transfusé"),"Transfusé") -> Aucune | BS55: =AF55+AH55 -> 0 | BT55: =VLOOKUP($I55,Lieu_Activité!$A:$B,2,FALSE) -> #N/A | BU55: =IF(AB55="","Aucun","AVC") -> Aucun | BV55: =IF(AC55="","Aucun","IM") -> Aucun | BW55: =IF(M56="","NON","OUI") -> NON
A56: FEVRIER | E56: =(L56-D56)/365 -> 0 | F56: =IF(E56<80," ","1") | P56: =IFERROR(VLOOKUP(O56,Références!$K$11:$N$19,2)," ") | Q56: =IFERROR(VLOOKUP(O56,Références!$K$11:$N$19,3)," ") | R56: =IFERROR(VLOOKUP(O56,Références!$K$11:$N$19,4)," ") | AI56: =SUM(AF56,AH56) -> 0 | AK56: =(AJ56-L56) -> 0 | AM56: =(AL56-L56) -> 0 | AP56: =IF(AO56=1,"ELECTIVE",IF(AO56=2,"URGENCY",IF(AO56=3,"EMERGENCY",IF(AO56=4,"SALVAGE"," ")))) | BA56: Y | BC56: =IF(BG56="Aucune",0,1) -> 0 | BD56: =IF(BH56="Aucune",0,1) -> 0 | BE56: =IF(AG56="Aucune",0,1) -> 1 | BF56: =IF(AO56=1,"ELECTIVE",IF(AO56=2,"URGENCY",IF(AO56=3,"EMERGENCY",IF(AO56=4,"SALVAGE","ALIVE")))) -> ALIVE | BG56: =IF(AD56="","Aucune","Infection") -> Aucune | BH56: =IF(AI56>0,"Transfusion","Aucune") -> Aucune | BI56: =IF(AG56="","Aucune","Transfusé") -> Aucune | BJ56: =IF(X56<>"",IF(X56-L56<2,"OUI","NON"),"NON") -> NON | BK56: =IF(AS56="","NON","OUI") -> NON | BL56: =IF(AL56-L56>0,AL56-L56,"Inconnu") -> Inconnu | BM56: =IF($O56<>"HTX",IF($O56<>"LVAD",BL56,"Inconnu"),"Inconnu") -> Inconnu | BN56: =IF($O56="HTX",BL56,IF($O56="LVAD",BL56,"Inconnu")) -> Inconnu | BO56: =IF(AJ56-L56>0,AJ56-L56,"Inconnu") -> Inconnu | BP56: =IF($O56<>"HTX",IF($O56<>"LVAD",BO56,"Inconnu"),"Inconnu") -> Inconnu | BQ56: =IF($O56="HTX",BO56,IF($O56="LVAD",BO56,"Inconnu")) -> Inconnu | BR56: =IF(BH56="Aucune",IF(BI56="Aucune","Aucune","Transfusé"),"Transfusé") -> Aucune | BS56: =AF56+AH56 -> 0 | BT56: =VLOOKUP($I56,Lieu_Activité!$A:$B,2,FALSE) -> #N/A | BU56: =IF(AB56="","Aucun","AVC") -> Aucun | BV56: =IF(AC56="","Aucun","IM") -> Aucun | BW56: =IF(M56="","NON","OUI") -> NON
A57: FEVRIER | E57: =(L57-D57)/365 -> 0 | F57: =IF(E57<80," ","1") | P57: =IFERROR(VLOOKUP(O57,Références!$K$11:$N$19,2)," ") | Q57: =IFERROR(VLOOKUP(O57,Références!$K$11:$N$19,3)," ") | R57: =IFERROR(VLOOKUP(O57,Références!$K$11:$N$19,4)," ") | AI57: =SUM(AF57,AH57) -> 0 | AK57: =(AJ57-L57) -> 0 | AM57: =(AL57-L57) -> 0 | AP57: =IF(AO57=1,"ELECTIVE",IF(AO57=2,"URGENCY",IF(AO57=3,"EMERGENCY",IF(AO57=4,"SALVAGE"," ")))) | BA57: Y | BC57: =IF(BG57="Aucune",0,1) -> 0 | BD57: =IF(BH57="Aucune",0,1) -> 0 | BE57: =IF(AG57="Aucune",0,1) -> 1 | BF57: =IF(AO57=1,"ELECTIVE",IF(AO57=2,"URGENCY",IF(AO57=3,"EMERGENCY",IF(AO57=4,"SALVAGE","ALIVE")))) -> ALIVE | BG57: =IF(AD57="","Aucune","Infection") -> Aucune | BH57: =IF(AI57>0,"Transfusion","Aucune") -> Aucune | BI57: =IF(AG57="","Aucune","Transfusé") -> Aucune | BJ57: =IF(X57<>"",IF(X57-L57<2,"OUI","NON"),"NON") -> NON | BK57: =IF(AS57="","NON","OUI") -> NON | BL57: =IF(AL57-L57>0,AL57-L57,"Inconnu") -> Inconnu | BM57: =IF($O57<>"HTX",IF($O57<>"LVAD",BL57,"Inconnu"),"Inconnu") -> Inconnu | BN57: =IF($O57="HTX",BL57,IF($O57="LVAD",BL57,"Inconnu")) -> Inconnu | BO57: =IF(AJ57-L57>0,AJ57-L57,"Inconnu") -> Inconnu | BP57: =IF($O57<>"HTX",IF($O57<>"LVAD",BO57,"Inconnu"),"Inconnu") -> Inconnu | BQ57: =IF($O57="HTX",BO57,IF($O57="LVAD",BO57,"Inconnu")) -> Inconnu | BR57: =IF(BH57="Aucune",IF(BI57="Aucune","Aucune","Transfusé"),"Transfusé") -> Aucune | BS57: =AF57+AH57 -> 0 | BT57: =VLOOKUP($I57,Lieu_Activité!$A:$B,2,FALSE) -> #N/A | BU57: =IF(AB57="","Aucun","AVC") -> Aucun | BV57: =IF(AC57="","Aucun","IM") -> Aucun | BW57: =IF(M57="","NON","OUI") -> NON
A58: MARS | E58: =(L58-D58)/365 -> 0 | F58: =IF(E58<80," ","1") | P58: =IFERROR(VLOOKUP(O58,Références!$K$11:$N$19,2)," ") | Q58: =IFERROR(VLOOKUP(O58,Références!$K$11:$N$19,3)," ") | R58: =IFERROR(VLOOKUP(O58,Références!$K$11:$N$19,4)," ") | AI58: =SUM(AF58,AH58) -> 0 | AK58: =(AJ58-L58) -> 0 | AM58: =(AL58-L58) -> 0 | AP58: =IF(AO58=1,"ELECTIVE",IF(AO58=2,"URGENCY",IF(AO58=3,"EMERGENCY",IF(AO58=4,"SALVAGE"," ")))) | BA58: Y | BC58: =IF(BG58="Aucune",0,1) -> 0 | BD58: =IF(BH58="Aucune",0,1) -> 0 | BE58: =IF(AG58="Aucune",0,1) -> 1 | BF58: =IF(AO58=1,"ELECTIVE",IF(AO58=2,"URGENCY",IF(AO58=3,"EMERGENCY",IF(AO58=4,"SALVAGE","ALIVE")))) -> ALIVE | BG58: =IF(AD58="","Aucune","Infection") -> Aucune | BH58: =IF(AI58>0,"Transfusion","Aucune") -> Aucune | BI58: =IF(AG58="","Aucune","Transfusé") -> Aucune | BJ58: =IF(X58<>"",IF(X58-L58<2,"OUI","NON"),"NON") -> NON | BK58: =IF(AS58="","NON","OUI") -> NON | BL58: =IF(AL58-L58>0,AL58-L58,"Inconnu") -> Inconnu | BM58: =IF($O58<>"HTX",IF($O58<>"LVAD",BL58,"Inconnu"),"Inconnu") -> Inconnu | BN58: =IF($O58="HTX",BL58,IF($O58="LVAD",BL58,"Inconnu")) -> Inconnu | BO58: =IF(AJ58-L58>0,AJ58-L58,"Inconnu") -> Inconnu | BP58: =IF($O58<>"HTX",IF($O58<>"LVAD",BO58,"Inconnu"),"Inconnu") -> Inconnu | BQ58: =IF($O58="HTX",BO58,IF($O58="LVAD",BO58,"Inconnu")) -> Inconnu | BR58: =IF(BH58="Aucune",IF(BI58="Aucune","Aucune","Transfusé"),"Transfusé") -> Aucune | BS58: =AF58+AH58 -> 0 | BT58: =VLOOKUP($I58,Lieu_Activité!$A:$B,2,FALSE) -> #N/A | BU58: =IF(AB58="","Aucun","AVC") -> Aucun | BV58: =IF(AC58="","Aucun","IM") -> Aucun | BW58: =IF(M58="","NON","OUI") -> NON
A59: MARS | E59: =(L59-D59)/365 -> 0 | F59: =IF(E59<80," ","1") | P59: =IFERROR(VLOOKUP(O59,Références!$K$11:$N$19,2)," ") | Q59: =IFERROR(VLOOKUP(O59,Références!$K$11:$N$19,3)," ") | R59: =IFERROR(VLOOKUP(O59,Références!$K$11:$N$19,4)," ") | AI59: =SUM(AF59,AH59) -> 0 | AK59: =(AJ59-L59) -> 0 | AM59: =(AL59-L59) -> 0 | AP59: =IF(AO59=1,"ELECTIVE",IF(AO59=2,"URGENCY",IF(AO59=3,"EMERGENCY",IF(AO59=4,"SALVAGE"," ")))) | BA59: Y | BC59: =IF(BG59="Aucune",0,1) -> 0 | BD59: =IF(BH59="Aucune",0,1) -> 0 | BE59: =IF(AG59="Aucune",0,1) -> 1 | BF59: =IF(AO59=1,"ELECTIVE",IF(AO59=2,"URGENCY",IF(AO59=3,"EMERGENCY",IF(AO59=4,"SALVAGE","ALIVE")))) -> ALIVE | BG59: =IF(AD59="","Aucune","Infection") -> Aucune | BH59: =IF(AI59>0,"Transfusion","Aucune") -> Aucune | BI59: =IF(AG59="","Aucune","Transfusé") -> Aucune | BJ59: =IF(X59<>"",IF(X59-L59<2,"OUI","NON"),"NON") -> NON | BK59: =IF(AS59="","NON","OUI") -> NON | BL59: =IF(AL59-L59>0,AL59-L59,"Inconnu") -> Inconnu | BM59: =IF($O59<>"HTX",IF($O59<>"LVAD",BL59,"Inconnu"),"Inconnu") -> Inconnu | BN59: =IF($O59="HTX",BL59,IF($O59="LVAD",BL59,"Inconnu")) -> Inconnu | BO59: =IF(AJ59-L59>0,AJ59-L59,"Inconnu") -> Inconnu | BP59: =IF($O59<>"HTX",IF($O59<>"LVAD",BO59,"Inconnu"),"Inconnu") -> Inconnu | BQ59: =IF($O59="HTX",BO59,IF($O59="LVAD",BO59,"Inconnu")) -> Inconnu | BR59: =IF(BH59="Aucune",IF(BI59="Aucune","Aucune","Transfusé"),"Transfusé") -> Aucune | BS59: =AF59+AH59 -> 0 | BT59: =VLOOKUP($I59,Lieu_Activité!$A:$B,2,FALSE) -> #N/A | BU59: =IF(AB59="","Aucun","AVC") -> Aucun | BV59: =IF(AC59="","Aucun","IM") -> Aucun | BW59: =IF(M59="","NON","OUI") -> NON
A60: MARS | E60: =(L60-D60)/365 -> 0 | F60: =IF(E60<80," ","1") | P60: =IFERROR(VLOOKUP(O60,Références!$K$11:$N$19,2)," ") | Q60: =IFERROR(VLOOKUP(O60,Références!$K$11:$N$19,3)," ") | R60: =IFERROR(VLOOKUP(O60,Références!$K$11:$N$19,4)," ") | AI60: =SUM(AF60,AH60) -> 0 | AK60: =(AJ60-L60) -> 0 | AM60: =(AL60-L60) -> 0 | AP60: =IF(AO60=1,"ELECTIVE",IF(AO60=2,"URGENCY",IF(AO60=3,"EMERGENCY",IF(AO60=4,"SALVAGE"," ")))) | BA60: Y | BC60: =IF(BG60="Aucune",0,1) -> 0 | BD60: =IF(BH60="Aucune",0,1) -> 0 | BE60: =IF(AG60="Aucune",0,1) -> 1 | BF60: =IF(AO60=1,"ELECTIVE",IF(AO60=2,"URGENCY",IF(AO60=3,"EMERGENCY",IF(AO60=4,"SALVAGE","ALIVE")))) -> ALIVE | BG60: =IF(AD60="","Aucune","Infection") -> Aucune | BH60: =IF(AI60>0,"Transfusion","Aucune") -> Aucune | BI60: =IF(AG60="","Aucune","Transfusé") -> Aucune | BJ60: =IF(X60<>"",IF(X60-L60<2,"OUI","NON"),"NON") -> NON | BK60: =IF(AS60="","NON","OUI") -> NON | BL60: =IF(AL60-L60>0,AL60-L60,"Inconnu") -> Inconnu | BM60: =IF($O60<>"HTX",IF($O60<>"LVAD",BL60,"Inconnu"),"Inconnu") -> Inconnu | BN60: =IF($O60="HTX",BL60,IF($O60="LVAD",BL60,"Inconnu")) -> Inconnu | BO60: =IF(AJ60-L60>0,AJ60-L60,"Inconnu") -> Inconnu | BP60: =IF($O60<>"HTX",IF($O60<>"LVAD",BO60,"Inconnu"),"Inconnu") -> Inconnu | BQ60: =IF($O60="HTX",BO60,IF($O60="LVAD",BO60,"Inconnu")) -> Inconnu | BR60: =IF(BH60="Aucune",IF(BI60="Aucune","Aucune","Transfusé"),"Transfusé") -> Aucune | BS60: =AF60+AH60 -> 0 | BT60: =VLOOKUP($I60,Lieu_Activité!$A:$B,2,FALSE) -> #N/A | BU60: =IF(AB60="","Aucun","AVC") -> Aucun | BV60: =IF(AC60="","Aucun","IM") -> Aucun | BW60: =IF(M60="","NON","OUI") -> NON
A61: MARS | E61: =(L61-D61)/365 -> 0 | F61: =IF(E61<80," ","1") | P61: =IFERROR(VLOOKUP(O61,Références!$K$11:$N$19,2)," ") | Q61: =IFERROR(VLOOKUP(O61,Références!$K$11:$N$19,3)," ") | R61: =IFERROR(VLOOKUP(O61,Références!$K$11:$N$19,4)," ") | AI61: =SUM(AF61,AH61) -> 0 | AK61: =(AJ61-L61) -> 0 | AM61: =(AL61-L61) -> 0 | AP61: =IF(AO61=1,"ELECTIVE",IF(AO61=2,"URGENCY",IF(AO61=3,"EMERGENCY",IF(AO61=4,"SALVAGE"," ")))) | BA61: Y | BC61: =IF(BG61="Aucune",0,1) -> 0 | BD61: =IF(BH61="Aucune",0,1) -> 0 | BE61: =IF(AG61="Aucune",0,1) -> 1 | BF61: =IF(AO61=1,"ELECTIVE",IF(AO61=2,"URGENCY",IF(AO61=3,"EMERGENCY",IF(AO61=4,"SALVAGE","ALIVE")))) -> ALIVE | BG61: =IF(AD61="","Aucune","Infection") -> Aucune | BH61: =IF(AI61>0,"Transfusion","Aucune") -> Aucune | BI61: =IF(AG61="","Aucune","Transfusé") -> Aucune | BJ61: =IF(X61<>"",IF(X61-L61<2,"OUI","NON"),"NON") -> NON | BK61: =IF(AS61="","NON","OUI") -> NON | BL61: =IF(AL61-L61>0,AL61-L61,"Inconnu") -> Inconnu | BM61: =IF($O61<>"HTX",IF($O61<>"LVAD",BL61,"Inconnu"),"Inconnu") -> Inconnu | BN61: =IF($O61="HTX",BL61,IF($O61="LVAD",BL61,"Inconnu")) -> Inconnu | BO61: =IF(AJ61-L61>0,AJ61-L61,"Inconnu") -> Inconnu | BP61: =IF($O61<>"HTX",IF($O61<>"LVAD",BO61,"Inconnu"),"Inconnu") -> Inconnu | BQ61: =IF($O61="HTX",BO61,IF($O61="LVAD",BO61,"Inconnu")) -> Inconnu | BR61: =IF(BH61="Aucune",IF(BI61="Aucune","Aucune","Transfusé"),"Transfusé") -> Aucune | BS61: =AF61+AH61 -> 0 | BT61: =VLOOKUP($I61,Lieu_Activité!$A:$B,2,FALSE) -> #N/A | BU61: =IF(AB61="","Aucun","AVC") -> Aucun | BV61: =IF(AC61="","Aucun","IM") -> Aucun | BW61: =IF(M61="","NON","OUI") -> NON
A62: MARS | E62: =(L62-D62)/365 -> 0 | F62: =IF(E62<80," ","1") | P62: =IFERROR(VLOOKUP(O62,Références!$K$11:$N$19,2)," ") | Q62: =IFERROR(VLOOKUP(O62,Références!$K$11:$N$19,3)," ") | R62: =IFERROR(VLOOKUP(O62,Références!$K$11:$N$19,4)," ") | AI62: =SUM(AF62,AH62) -> 0 | AK62: =(AJ62-L62) -> 0 | AM62: =(AL62-L62) -> 0 | AP62: =IF(AO62=1,"ELECTIVE",IF(AO62=2,"URGENCY",IF(AO62=3,"EMERGENCY",IF(AO62=4,"SALVAGE"," ")))) | BA62: Y | BC62: =IF(BG62="Aucune",0,1) -> 0 | BD62: =IF(BH62="Aucune",0,1) -> 0 | BE62: =IF(AG62="Aucune",0,1) -> 1 | BF62: =IF(AO62=1,"ELECTIVE",IF(AO62=2,"URGENCY",IF(AO62=3,"EMERGENCY",IF(AO62=4,"SALVAGE","ALIVE")))) -> ALIVE | BG62: =IF(AD62="","Aucune","Infection") -> Aucune | BH62: =IF(AI62>0,"Transfusion","Aucune") -> Aucune | BI62: =IF(AG62="","Aucune","Transfusé") -> Aucune | BJ62: =IF(X62<>"",IF(X62-L62<2,"OUI","NON"),"NON") -> NON | BK62: =IF(AS62="","NON","OUI") -> NON | BL62: =IF(AL62-L62>0,AL62-L62,"Inconnu") -> Inconnu | BM62: =IF($O62<>"HTX",IF($O62<>"LVAD",BL62,"Inconnu"),"Inconnu") -> Inconnu | BN62: =IF($O62="HTX",BL62,IF($O62="LVAD",BL62,"Inconnu")) -> Inconnu | BO62: =IF(AJ62-L62>0,AJ62-L62,"Inconnu") -> Inconnu | BP62: =IF($O62<>"HTX",IF($O62<>"LVAD",BO62,"Inconnu"),"Inconnu") -> Inconnu | BQ62: =IF($O62="HTX",BO62,IF($O62="LVAD",BO62,"Inconnu")) -> Inconnu | BR62: =IF(BH62="Aucune",IF(BI62="Aucune","Aucune","Transfusé"),"Transfusé") -> Aucune | BS62: =AF62+AH62 -> 0 | BT62: =VLOOKUP($I62,Lieu_Activité!$A:$B,2,FALSE) -> #N/A | BU62: =IF(AB62="","Aucun","AVC") -> Aucun | BV62: =IF(AC62="","Aucun","IM") -> Aucun | BW62: =IF(M62="","NON","OUI") -> NON
A63: MARS | E63: =(L63-D63)/365 -> 0 | F63: =IF(E63<80," ","1") | P63: =IFERROR(VLOOKUP(O63,Références!$K$11:$N$19,2)," ") | Q63: =IFERROR(VLOOKUP(O63,Références!$K$11:$N$19,3)," ") | R63: =IFERROR(VLOOKUP(O63,Références!$K$11:$N$19,4)," ") | AI63: =SUM(AF63,AH63) -> 0 | AK63: =(AJ63-L63) -> 0 | AM63: =(AL63-L63) -> 0 | AP63: =IF(AO63=1,"ELECTIVE",IF(AO63=2,"URGENCY",IF(AO63=3,"EMERGENCY",IF(AO63=4,"SALVAGE"," ")))) | BA63: Y | BC63: =IF(BG63="Aucune",0,1) -> 0 | BD63: =IF(BH63="Aucune",0,1) -> 0 | BE63: =IF(AG63="Aucune",0,1) -> 1 | BF63: =IF(AO63=1,"ELECTIVE",IF(AO63=2,"URGENCY",IF(AO63=3,"EMERGENCY",IF(AO63=4,"SALVAGE","ALIVE")))) -> ALIVE | BG63: =IF(AD63="","Aucune","Infection") -> Aucune | BH63: =IF(AI63>0,"Transfusion","Aucune") -> Aucune | BI63: =IF(AG63="","Aucune","Transfusé") -> Aucune | BJ63: =IF(X63<>"",IF(X63-L63<2,"OUI","NON"),"NON") -> NON | BK63: =IF(AS63="","NON","OUI") -> NON | BL63: =IF(AL63-L63>0,AL63-L63,"Inconnu") -> Inconnu | BM63: =IF($O63<>"HTX",IF($O63<>"LVAD",BL63,"Inconnu"),"Inconnu") -> Inconnu | BN63: =IF($O63="HTX",BL63,IF($O63="LVAD",BL63,"Inconnu")) -> Inconnu | BO63: =IF(AJ63-L63>0,AJ63-L63,"Inconnu") -> Inconnu | BP63: =IF($O63<>"HTX",IF($O63<>"LVAD",BO63,"Inconnu"),"Inconnu") -> Inconnu | BQ63: =IF($O63="HTX",BO63,IF($O63="LVAD",BO63,"Inconnu")) -> Inconnu | BR63: =IF(BH63="Aucune",IF(BI63="Aucune","Aucune","Transfusé"),"Transfusé") -> Aucune | BS63: =AF63+AH63 -> 0 | BT63: =VLOOKUP($I63,Lieu_Activité!$A:$B,2,FALSE) -> #N/A | BU63: =IF(AB63="","Aucun","AVC") -> Aucun | BV63: =IF(AC63="","Aucun","IM") -> Aucun | BW63: =IF(M63="","NON","OUI") -> NON
A64: MARS | E64: =(L64-D64)/365 -> 0 | F64: =IF(E64<80," ","1") | P64: =IFERROR(VLOOKUP(O64,Références!$K$11:$N$19,2)," ") | Q64: =IFERROR(VLOOKUP(O64,Références!$K$11:$N$19,3)," ") | R64: =IFERROR(VLOOKUP(O64,Références!$K$11:$N$19,4)," ") | AI64: =SUM(AF64,AH64) -> 0 | AK64: =(AJ64-L64) -> 0 | AM64: =(AL64-L64) -> 0 | AP64: =IF(AO64=1,"ELECTIVE",IF(AO64=2,"URGENCY",IF(AO64=3,"EMERGENCY",IF(AO64=4,"SALVAGE"," ")))) | BA64: Y | BC64: =IF(BG64="Aucune",0,1) -> 0 | BD64: =IF(BH64="Aucune",0,1) -> 0 | BE64: =IF(AG64="Aucune",0,1) -> 1 | BF64: =IF(AO64=1,"ELECTIVE",IF(AO64=2,"URGENCY",IF(AO64=3,"EMERGENCY",IF(AO64=4,"SALVAGE","ALIVE")))) -> ALIVE | BG64: =IF(AD64="","Aucune","Infection") -> Aucune | BH64: =IF(AI64>0,"Transfusion","Aucune") -> Aucune | BI64: =IF(AG64="","Aucune","Transfusé") -> Aucune | BJ64: =IF(X64<>"",IF(X64-L64<2,"OUI","NON"),"NON") -> NON | BK64: =IF(AS64="","NON","OUI") -> NON | BL64: =IF(AL64-L64>0,AL64-L64,"Inconnu") -> Inconnu | BM64: =IF($O64<>"HTX",IF($O64<>"LVAD",BL64,"Inconnu"),"Inconnu") -> Inconnu | BN64: =IF($O64="HTX",BL64,IF($O64="LVAD",BL64,"Inconnu")) -> Inconnu | BO64: =IF(AJ64-L64>0,AJ64-L64,"Inconnu") -> Inconnu | BP64: =IF($O64<>"HTX",IF($O64<>"LVAD",BO64,"Inconnu"),"Inconnu") -> Inconnu | BQ64: =IF($O64="HTX",BO64,IF($O64="LVAD",BO64,"Inconnu")) -> Inconnu | BR64: =IF(BH64="Aucune",IF(BI64="Aucune","Aucune","Transfusé"),"Transfusé") -> Aucune | BS64: =AF64+AH64 -> 0 | BT64: =VLOOKUP($I64,Lieu_Activité!$A:$B,2,FALSE) -> #N/A | BU64: =IF(AB64="","Aucun","AVC") -> Aucun | BV64: =IF(AC64="","Aucun","IM") -> Aucun | BW64: =IF(M64="","NON","OUI") -> NON
A65: MARS | E65: =(L65-D65)/365 -> 0 | F65: =IF(E65<80," ","1") | P65: =IFERROR(VLOOKUP(O65,Références!$K$11:$N$19,2)," ") | Q65: =IFERROR(VLOOKUP(O65,Références!$K$11:$N$19,3)," ") | R65: =IFERROR(VLOOKUP(O65,Références!$K$11:$N$19,4)," ") | AI65: =SUM(AF65,AH65) -> 0 | AK65: =(AJ65-L65) -> 0 | AM65: =(AL65-L65) -> 0 | AP65: =IF(AO65=1,"ELECTIVE",IF(AO65=2,"URGENCY",IF(AO65=3,"EMERGENCY",IF(AO65=4,"SALVAGE"," ")))) | BA65: N | BC65: =IF(BG65="Aucune",0,1) -> 0 | BD65: =IF(BH65="Aucune",0,1) -> 0 | BE65: =IF(AG65="Aucune",0,1) -> 1 | BF65: =IF(AO65=1,"ELECTIVE",IF(AO65=2,"URGENCY",IF(AO65=3,"EMERGENCY",IF(AO65=4,"SALVAGE","ALIVE")))) -> ALIVE | BG65: =IF(AD65="","Aucune","Infection") -> Aucune | BH65: =IF(AI65>0,"Transfusion","Aucune") -> Aucune | BI65: =IF(AG65="","Aucune","Transfusé") -> Aucune | BJ65: =IF(X65<>"",IF(X65-L65<2,"OUI","NON"),"NON") -> NON | BK65: =IF(AS65="","NON","OUI") -> NON | BL65: =IF(AL65-L65>0,AL65-L65,"Inconnu") -> Inconnu | BM65: =IF($O65<>"HTX",IF($O65<>"LVAD",BL65,"Inconnu"),"Inconnu") -> Inconnu | BN65: =IF($O65="HTX",BL65,IF($O65="LVAD",BL65,"Inconnu")) -> Inconnu | BO65: =IF(AJ65-L65>0,AJ65-L65,"Inconnu") -> Inconnu | BP65: =IF($O65<>"HTX",IF($O65<>"LVAD",BO65,"Inconnu"),"Inconnu") -> Inconnu | BQ65: =IF($O65="HTX",BO65,IF($O65="LVAD",BO65,"Inconnu")) -> Inconnu | BR65: =IF(BH65="Aucune",IF(BI65="Aucune","Aucune","Transfusé"),"Transfusé") -> Aucune | BS65: =AF65+AH65 -> 0 | BT65: =VLOOKUP($I65,Lieu_Activité!$A:$B,2,FALSE) -> #N/A | BU65: =IF(AB65="","Aucun","AVC") -> Aucun | BV65: =IF(AC65="","Aucun","IM") -> Aucun | BW65: =IF(M65="","NON","OUI") -> NON
A66: MARS | E66: =(L66-D66)/365 -> 0 | F66: =IF(E66<80," ","1") | P66: =IFERROR(VLOOKUP(O66,Références!$K$11:$N$19,2)," ") | Q66: =IFERROR(VLOOKUP(O66,Références!$K$11:$N$19,3)," ") | R66: =IFERROR(VLOOKUP(O66,Références!$K$11:$N$19,4)," ") | AI66: =SUM(AF66,AH66) -> 0 | AK66: =(AJ66-L66) -> 0 | AM66: =(AL66-L66) -> 0 | AP66: =IF(AO66=1,"ELECTIVE",IF(AO66=2,"URGENCY",IF(AO66=3,"EMERGENCY",IF(AO66=4,"SALVAGE"," ")))) | BA66: Y | BC66: =IF(BG66="Aucune",0,1) -> 0 | BD66: =IF(BH66="Aucune",0,1) -> 0 | BE66: =IF(AG66="Aucune",0,1) -> 1 | BF66: =IF(AO66=1,"ELECTIVE",IF(AO66=2,"URGENCY",IF(AO66=3,"EMERGENCY",IF(AO66=4,"SALVAGE","ALIVE")))) -> ALIVE | BG66: =IF(AD66="","Aucune","Infection") -> Aucune | BH66: =IF(AI66>0,"Transfusion","Aucune") -> Aucune | BI66: =IF(AG66="","Aucune","Transfusé") -> Aucune | BJ66: =IF(X66<>"",IF(X66-L66<2,"OUI","NON"),"NON") -> NON | BK66: =IF(AS66="","NON","OUI") -> NON | BL66: =IF(AL66-L66>0,AL66-L66,"Inconnu") -> Inconnu | BM66: =IF($O66<>"HTX",IF($O66<>"LVAD",BL66,"Inconnu"),"Inconnu") -> Inconnu | BN66: =IF($O66="HTX",BL66,IF($O66="LVAD",BL66,"Inconnu")) -> Inconnu | BO66: =IF(AJ66-L66>0,AJ66-L66,"Inconnu") -> Inconnu | BP66: =IF($O66<>"HTX",IF($O66<>"LVAD",BO66,"Inconnu"),"Inconnu") -> Inconnu | BQ66: =IF($O66="HTX",BO66,IF($O66="LVAD",BO66,"Inconnu")) -> Inconnu | BR66: =IF(BH66="Aucune",IF(BI66="Aucune","Aucune","Transfusé"),"Transfusé") -> Aucune | BS66: =AF66+AH66 -> 0 | BT66: =VLOOKUP($I66,Lieu_Activité!$A:$B,2,FALSE) -> #N/A | BU66: =IF(AB66="","Aucun","AVC") -> Aucun | BV66: =IF(AC66="","Aucun","IM") -> Aucun | BW66: =IF(M66="","NON","OUI") -> NON
A67: MARS | E67: =(L67-D67)/365 -> 0 | F67: =IF(E67<80," ","1") | P67: =IFERROR(VLOOKUP(O67,Références!$K$11:$N$19,2)," ") | Q67: =IFERROR(VLOOKUP(O67,Références!$K$11:$N$19,3)," ") | R67: =IFERROR(VLOOKUP(O67,Références!$K$11:$N$19,4)," ") | AI67: =SUM(AF67,AH67) -> 0 | AK67: =(AJ67-L67) -> 0 | AM67: =(AL67-L67) -> 0 | AP67: =IF(AO67=1,"ELECTIVE",IF(AO67=2,"URGENCY",IF(AO67=3,"EMERGENCY",IF(AO67=4,"SALVAGE"," ")))) | BC67: =IF(BG67="Aucune",0,1) -> 0 | BD67: =IF(BH67="Aucune",0,1) -> 0 | BE67: =IF(AG67="Aucune",0,1) -> 1 | BF67: =IF(AO67=1,"ELECTIVE",IF(AO67=2,"URGENCY",IF(AO67=3,"EMERGENCY",IF(AO67=4,"SALVAGE","ALIVE")))) -> ALIVE | BG67: =IF(AD67="","Aucune","Infection") -> Aucune | BH67: =IF(AI67>0,"Transfusion","Aucune") -> Aucune | BI67: =IF(AG67="","Aucune","Transfusé") -> Aucune | BJ67: =IF(X67<>"",IF(X67-L67<2,"OUI","NON"),"NON") -> NON | BK67: =IF(AS67="","NON","OUI") -> NON | BL67: =IF(AL67-L67>0,AL67-L67,"Inconnu") -> Inconnu | BM67: =IF($O67<>"HTX",IF($O67<>"LVAD",BL67,"Inconnu"),"Inconnu") -> Inconnu | BN67: =IF($O67="HTX",BL67,IF($O67="LVAD",BL67,"Inconnu")) -> Inconnu | BO67: =IF(AJ67-L67>0,AJ67-L67,"Inconnu") -> Inconnu | BP67: =IF($O67<>"HTX",IF($O67<>"LVAD",BO67,"Inconnu"),"Inconnu") -> Inconnu | BQ67: =IF($O67="HTX",BO67,IF($O67="LVAD",BO67,"Inconnu")) -> Inconnu | BR67: =IF(BH67="Aucune",IF(BI67="Aucune","Aucune","Transfusé"),"Transfusé") -> Aucune | BS67: =AF67+AH67 -> 0 | BT67: =VLOOKUP($I67,Lieu_Activité!$A:$B,2,FALSE) -> #N/A | BU67: =IF(AB67="","Aucun","AVC") -> Aucun | BV67: =IF(AC67="","Aucun","IM") -> Aucun | BW67: =IF(M67="","NON","OUI") -> NON
A68: MARS | E68: =(L68-D68)/365 -> 0 | F68: =IF(E68<80," ","1") | P68: =IFERROR(VLOOKUP(O68,Références!$K$11:$N$19,2)," ") | Q68: =IFERROR(VLOOKUP(O68,Références!$K$11:$N$19,3)," ") | R68: =IFERROR(VLOOKUP(O68,Références!$K$11:$N$19,4)," ") | AI68: =SUM(AF68,AH68) -> 0 | AK68: =(AJ68-L68) -> 0 | AM68: =(AL68-L68) -> 0 | AP68: =IF(AO68=1,"ELECTIVE",IF(AO68=2,"URGENCY",IF(AO68=3,"EMERGENCY",IF(AO68=4,"SALVAGE"," ")))) | BA68: Y | BC68: =IF(BG68="Aucune",0,1) -> 0 | BD68: =IF(BH68="Aucune",0,1) -> 0 | BE68: =IF(AG68="Aucune",0,1) -> 1 | BF68: =IF(AO68=1,"ELECTIVE",IF(AO68=2,"URGENCY",IF(AO68=3,"EMERGENCY",IF(AO68=4,"SALVAGE","ALIVE")))) -> ALIVE | BG68: =IF(AD68="","Aucune","Infection") -> Aucune | BH68: =IF(AI68>0,"Transfusion","Aucune") -> Aucune | BI68: =IF(AG68="","Aucune","Transfusé") -> Aucune | BJ68: =IF(X68<>"",IF(X68-L68<2,"OUI","NON"),"NON") -> NON | BK68: =IF(AS68="","NON","OUI") -> NON | BL68: =IF(AL68-L68>0,AL68-L68,"Inconnu") -> Inconnu | BM68: =IF($O68<>"HTX",IF($O68<>"LVAD",BL68,"Inconnu"),"Inconnu") -> Inconnu | BN68: =IF($O68="HTX",BL68,IF($O68="LVAD",BL68,"Inconnu")) -> Inconnu | BO68: =IF(AJ68-L68>0,AJ68-L68,"Inconnu") -> Inconnu | BP68: =IF($O68<>"HTX",IF($O68<>"LVAD",BO68,"Inconnu"),"Inconnu") -> Inconnu | BQ68: =IF($O68="HTX",BO68,IF($O68="LVAD",BO68,"Inconnu")) -> Inconnu | BR68: =IF(BH68="Aucune",IF(BI68="Aucune","Aucune","Transfusé"),"Transfusé") -> Aucune | BS68: =AF68+AH68 -> 0 | BT68: =VLOOKUP($I68,Lieu_Activité!$A:$B,2,FALSE) -> #N/A | BU68: =IF(AB68="","Aucun","AVC") -> Aucun | BV68: =IF(AC68="","Aucun","IM") -> Aucun | BW68: =IF(M68="","NON","OUI") -> NON
A69: MARS | E69: =(L69-D69)/365 -> 0 | F69: =IF(E69<80," ","1") | P69: =IFERROR(VLOOKUP(O69,Références!$K$11:$N$19,2)," ") | Q69: =IFERROR(VLOOKUP(O69,Références!$K$11:$N$19,3)," ") | R69: =IFERROR(VLOOKUP(O69,Références!$K$11:$N$19,4)," ") | AI69: =SUM(AF69,AH69) -> 0 | AK69: =(AJ69-L69) -> 0 | AM69: =(AL69-L69) -> 0 | AP69: =IF(AO69=1,"ELECTIVE",IF(AO69=2,"URGENCY",IF(AO69=3,"EMERGENCY",IF(AO69=4,"SALVAGE"," ")))) | BA69: Y | BC69: =IF(BG69="Aucune",0,1) -> 0 | BD69: =IF(BH69="Aucune",0,1) -> 0 | BE69: =IF(AG69="Aucune",0,1) -> 1 | BF69: =IF(AO69=1,"ELECTIVE",IF(AO69=2,"URGENCY",IF(AO69=3,"EMERGENCY",IF(AO69=4,"SALVAGE","ALIVE")))) -> ALIVE | BG69: =IF(AD69="","Aucune","Infection") -> Aucune | BH69: =IF(AI69>0,"Transfusion","Aucune") -> Aucune | BI69: =IF(AG69="","Aucune","Transfusé") -> Aucune | BJ69: =IF(X69<>"",IF(X69-L69<2,"OUI","NON"),"NON") -> NON | BK69: =IF(AS69="","NON","OUI") -> NON | BL69: =IF(AL69-L69>0,AL69-L69,"Inconnu") -> Inconnu | BM69: =IF($O69<>"HTX",IF($O69<>"LVAD",BL69,"Inconnu"),"Inconnu") -> Inconnu | BN69: =IF($O69="HTX",BL69,IF($O69="LVAD",BL69,"Inconnu")) -> Inconnu | BO69: =IF(AJ69-L69>0,AJ69-L69,"Inconnu") -> Inconnu | BP69: =IF($O69<>"HTX",IF($O69<>"LVAD",BO69,"Inconnu"),"Inconnu") -> Inconnu | BQ69: =IF($O69="HTX",BO69,IF($O69="LVAD",BO69,"Inconnu")) -> Inconnu | BR69: =IF(BH69="Aucune",IF(BI69="Aucune","Aucune","Transfusé"),"Transfusé") -> Aucune | BS69: =AF69+AH69 -> 0 | BT69: =VLOOKUP($I69,Lieu_Activité!$A:$B,2,FALSE) -> #N/A | BU69: =IF(AB69="","Aucun","AVC") -> Aucun | BV69: =IF(AC69="","Aucun","IM") -> Aucun | BW69: =IF(M69="","NON","OUI") -> NON
A70: MARS | E70: =(L70-D70)/365 -> 0 | F70: =IF(E70<80," ","1") | P70: =IFERROR(VLOOKUP(O70,Références!$K$11:$N$19,2)," ") | Q70: =IFERROR(VLOOKUP(O70,Références!$K$11:$N$19,3)," ") | R70: =IFERROR(VLOOKUP(O70,Références!$K$11:$N$19,4)," ") | AI70: =SUM(AF70,AH70) -> 0 | AK70: =(AJ70-L70) -> 0 | AM70: =(AL70-L70) -> 0 | AP70: =IF(AO70=1,"ELECTIVE",IF(AO70=2,"URGENCY",IF(AO70=3,"EMERGENCY",IF(AO70=4,"SALVAGE"," ")))) | BA70: Y | BC70: =IF(BG70="Aucune",0,1) -> 0 | BD70: =IF(BH70="Aucune",0,1) -> 0 | BE70: =IF(AG70="Aucune",0,1) -> 1 | BF70: =IF(AO70=1,"ELECTIVE",IF(AO70=2,"URGENCY",IF(AO70=3,"EMERGENCY",IF(AO70=4,"SALVAGE","ALIVE")))) -> ALIVE | BG70: =IF(AD70="","Aucune","Infection") -> Aucune | BH70: =IF(AI70>0,"Transfusion","Aucune") -> Aucune | BI70: =IF(AG70="","Aucune","Transfusé") -> Aucune | BJ70: =IF(X70<>"",IF(X70-L70<2,"OUI","NON"),"NON") -> NON | BK70: =IF(AS70="","NON","OUI") -> NON | BL70: =IF(AL70-L70>0,AL70-L70,"Inconnu") -> Inconnu | BM70: =IF($O70<>"HTX",IF($O70<>"LVAD",BL70,"Inconnu"),"Inconnu") -> Inconnu | BN70: =IF($O70="HTX",BL70,IF($O70="LVAD",BL70,"Inconnu")) -> Inconnu | BO70: =IF(AJ70-L70>0,AJ70-L70,"Inconnu") -> Inconnu | BP70: =IF($O70<>"HTX",IF($O70<>"LVAD",BO70,"Inconnu"),"Inconnu") -> Inconnu | BQ70: =IF($O70="HTX",BO70,IF($O70="LVAD",BO70,"Inconnu")) -> Inconnu | BR70: =IF(BH70="Aucune",IF(BI70="Aucune","Aucune","Transfusé"),"Transfusé") -> Aucune | BS70: =AF70+AH70 -> 0 | BT70: =VLOOKUP($I70,Lieu_Activité!$A:$B,2,FALSE) -> #N/A | BU70: =IF(AB70="","Aucun","AVC") -> Aucun | BV70: =IF(AC70="","Aucun","IM") -> Aucun | BW70: =IF(M70="","NON","OUI") -> NON
A71: MARS | E71: =(L71-D71)/365 -> 0 | F71: =IF(E71<80," ","1") | P71: =IFERROR(VLOOKUP(O71,Références!$K$11:$N$19,2)," ") | Q71: =IFERROR(VLOOKUP(O71,Références!$K$11:$N$19,3)," ") | R71: =IFERROR(VLOOKUP(O71,Références!$K$11:$N$19,4)," ") | AI71: =SUM(AF71,AH71) -> 0 | AK71: =(AJ71-L71) -> 0 | AM71: =(AL71-L71) -> 0 | AP71: =IF(AO71=1,"ELECTIVE",IF(AO71=2,"URGENCY",IF(AO71=3,"EMERGENCY",IF(AO71=4,"SALVAGE"," ")))) | BA71: Y | BC71: =IF(BG71="Aucune",0,1) -> 0 | BD71: =IF(BH71="Aucune",0,1) -> 0 | BE71: =IF(AG71="Aucune",0,1) -> 1 | BF71: =IF(AO71=1,"ELECTIVE",IF(AO71=2,"URGENCY",IF(AO71=3,"EMERGENCY",IF(AO71=4,"SALVAGE","ALIVE")))) -> ALIVE | BG71: =IF(AD71="","Aucune","Infection") -> Aucune | BH71: =IF(AI71>0,"Transfusion","Aucune") -> Aucune | BI71: =IF(AG71="","Aucune","Transfusé") -> Aucune | BJ71: =IF(X71<>"",IF(X71-L71<2,"OUI","NON"),"NON") -> NON | BK71: =IF(AS71="","NON","OUI") -> NON | BL71: =IF(AL71-L71>0,AL71-L71,"Inconnu") -> Inconnu | BM71: =IF($O71<>"HTX",IF($O71<>"LVAD",BL71,"Inconnu"),"Inconnu") -> Inconnu | BN71: =IF($O71="HTX",BL71,IF($O71="LVAD",BL71,"Inconnu")) -> Inconnu | BO71: =IF(AJ71-L71>0,AJ71-L71,"Inconnu") -> Inconnu | BP71: =IF($O71<>"HTX",IF($O71<>"LVAD",BO71,"Inconnu"),"Inconnu") -> Inconnu | BQ71: =IF($O71="HTX",BO71,IF($O71="LVAD",BO71,"Inconnu")) -> Inconnu | BR71: =IF(BH71="Aucune",IF(BI71="Aucune","Aucune","Transfusé"),"Transfusé") -> Aucune | BS71: =AF71+AH71 -> 0 | BT71: =VLOOKUP($I71,Lieu_Activité!$A:$B,2,FALSE) -> #N/A | BU71: =IF(AB71="","Aucun","AVC") -> Aucun | BV71: =IF(AC71="","Aucun","IM") -> Aucun | BW71: =IF(M71="","NON","OUI") -> NON
A72: MARS | E72: =(L72-D72)/365 -> 0 | F72: =IF(E72<80," ","1") | P72: =IFERROR(VLOOKUP(O72,Références!$K$11:$N$19,2)," ") | Q72: =IFERROR(VLOOKUP(O72,Références!$K$11:$N$19,3)," ") | R72: =IFERROR(VLOOKUP(O72,Références!$K$11:$N$19,4)," ") | AI72: =SUM(AF72,AH72) -> 0 | AK72: =(AJ72-L72) -> 0 | AM72: =(AL72-L72) -> 0 | AP72: =IF(AO72=1,"ELECTIVE",IF(AO72=2,"URGENCY",IF(AO72=3,"EMERGENCY",IF(AO72=4,"SALVAGE"," ")))) | BC72: =IF(BG72="Aucune",0,1) -> 0 | BD72: =IF(BH72="Aucune",0,1) -> 0 | BE72: =IF(AG72="Aucune",0,1) -> 1 | BF72: =IF(AO72=1,"ELECTIVE",IF(AO72=2,"URGENCY",IF(AO72=3,"EMERGENCY",IF(AO72=4,"SALVAGE","ALIVE")))) -> ALIVE | BG72: =IF(AD72="","Aucune","Infection") -> Aucune | BH72: =IF(AI72>0,"Transfusion","Aucune") -> Aucune | BI72: =IF(AG72="","Aucune","Transfusé") -> Aucune | BJ72: =IF(X72<>"",IF(X72-L72<2,"OUI","NON"),"NON") -> NON | BK72: =IF(AS72="","NON","OUI") -> NON | BL72: =IF(AL72-L72>0,AL72-L72,"Inconnu") -> Inconnu | BM72: =IF($O72<>"HTX",IF($O72<>"LVAD",BL72,"Inconnu"),"Inconnu") -> Inconnu | BN72: =IF($O72="HTX",BL72,IF($O72="LVAD",BL72,"Inconnu")) -> Inconnu | BO72: =IF(AJ72-L72>0,AJ72-L72,"Inconnu") -> Inconnu | BP72: =IF($O72<>"HTX",IF($O72<>"LVAD",BO72,"Inconnu"),"Inconnu") -> Inconnu | BQ72: =IF($O72="HTX",BO72,IF($O72="LVAD",BO72,"Inconnu")) -> Inconnu | BR72: =IF(BH72="Aucune",IF(BI72="Aucune","Aucune","Transfusé"),"Transfusé") -> Aucune | BS72: =AF72+AH72 -> 0 | BT72: =VLOOKUP($I72,Lieu_Activité!$A:$B,2,FALSE) -> #N/A | BU72: =IF(AB72="","Aucun","AVC") -> Aucun | BV72: =IF(AC72="","Aucun","IM") -> Aucun | BW72: =IF(M72="","NON","OUI") -> NON
A73: MARS | E73: =(L73-D73)/365 -> 0 | F73: =IF(E73<80," ","1") | P73: =IFERROR(VLOOKUP(O73,Références!$K$11:$N$19,2)," ") | Q73: =IFERROR(VLOOKUP(O73,Références!$K$11:$N$19,3)," ") | R73: =IFERROR(VLOOKUP(O73,Références!$K$11:$N$19,4)," ") | AI73: =SUM(AF73,AH73) -> 0 | AK73: =(AJ73-L73) -> 0 | AM73: =(AL73-L73) -> 0 | AP73: =IF(AO73=1,"ELECTIVE",IF(AO73=2,"URGENCY",IF(AO73=3,"EMERGENCY",IF(AO73=4,"SALVAGE"," ")))) | BA73: Y | BC73: =IF(BG73="Aucune",0,1) -> 0 | BD73: =IF(BH73="Aucune",0,1) -> 0 | BE73: =IF(AG73="Aucune",0,1) -> 1 | BF73: =IF(AO73=1,"ELECTIVE",IF(AO73=2,"URGENCY",IF(AO73=3,"EMERGENCY",IF(AO73=4,"SALVAGE","ALIVE")))) -> ALIVE | BG73: =IF(AD73="","Aucune","Infection") -> Aucune | BH73: =IF(AI73>0,"Transfusion","Aucune") -> Aucune | BI73: =IF(AG73="","Aucune","Transfusé") -> Aucune | BJ73: =IF(X73<>"",IF(X73-L73<2,"OUI","NON"),"NON") -> NON | BK73: =IF(AS73="","NON","OUI") -> NON | BL73: =IF(AL73-L73>0,AL73-L73,"Inconnu") -> Inconnu | BM73: =IF($O73<>"HTX",IF($O73<>"LVAD",BL73,"Inconnu"),"Inconnu") -> Inconnu | BN73: =IF($O73="HTX",BL73,IF($O73="LVAD",BL73,"Inconnu")) -> Inconnu | BO73: =IF(AJ73-L73>0,AJ73-L73,"Inconnu") -> Inconnu | BP73: =IF($O73<>"HTX",IF($O73<>"LVAD",BO73,"Inconnu"),"Inconnu") -> Inconnu | BQ73: =IF($O73="HTX",BO73,IF($O73="LVAD",BO73,"Inconnu")) -> Inconnu | BR73: =IF(BH73="Aucune",IF(BI73="Aucune","Aucune","Transfusé"),"Transfusé") -> Aucune | BS73: =AF73+AH73 -> 0 | BT73: =VLOOKUP($I73,Lieu_Activité!$A:$B,2,FALSE) -> #N/A | BU73: =IF(AB73="","Aucun","AVC") -> Aucun | BV73: =IF(AC73="","Aucun","IM") -> Aucun | BW73: =IF(M73="","NON","OUI") -> NON
A74: MARS | E74: =(L74-D74)/365 -> 0 | F74: =IF(E74<80," ","1") | P74: =IFERROR(VLOOKUP(O74,Références!$K$11:$N$19,2)," ") | Q74: =IFERROR(VLOOKUP(O74,Références!$K$11:$N$19,3)," ") | R74: =IFERROR(VLOOKUP(O74,Références!$K$11:$N$19,4)," ") | AI74: =SUM(AF74,AH74) -> 0 | AK74: =(AJ74-L74) -> 0 | AM74: =(AL74-L74) -> 0 | AP74: =IF(AO74=1,"ELECTIVE",IF(AO74=2,"URGENCY",IF(AO74=3,"EMERGENCY",IF(AO74=4,"SALVAGE"," ")))) | BA74: Y | BC74: =IF(BG74="Aucune",0,1) -> 0 | BD74: =IF(BH74="Aucune",0,1) -> 0 | BE74: =IF(AG74="Aucune",0,1) -> 1 | BF74: =IF(AO74=1,"ELECTIVE",IF(AO74=2,"URGENCY",IF(AO74=3,"EMERGENCY",IF(AO74=4,"SALVAGE","ALIVE")))) -> ALIVE | BG74: =IF(AD74="","Aucune","Infection") -> Aucune | BH74: =IF(AI74>0,"Transfusion","Aucune") -> Aucune | BI74: =IF(AG74="","Aucune","Transfusé") -> Aucune | BJ74: =IF(X74<>"",IF(X74-L74<2,"OUI","NON"),"NON") -> NON | BK74: =IF(AS74="","NON","OUI") -> NON | BL74: =IF(AL74-L74>0,AL74-L74,"Inconnu") -> Inconnu | BM74: =IF($O74<>"HTX",IF($O74<>"LVAD",BL74,"Inconnu"),"Inconnu") -> Inconnu | BN74: =IF($O74="HTX",BL74,IF($O74="LVAD",BL74,"Inconnu")) -> Inconnu | BO74: =IF(AJ74-L74>0,AJ74-L74,"Inconnu") -> Inconnu | BP74: =IF($O74<>"HTX",IF($O74<>"LVAD",BO74,"Inconnu"),"Inconnu") -> Inconnu | BQ74: =IF($O74="HTX",BO74,IF($O74="LVAD",BO74,"Inconnu")) -> Inconnu | BR74: =IF(BH74="Aucune",IF(BI74="Aucune","Aucune","Transfusé"),"Transfusé") -> Aucune | BS74: =AF74+AH74 -> 0 | BT74: =VLOOKUP($I74,Lieu_Activité!$A:$B,2,FALSE) -> #N/A | BU74: =IF(AB74="","Aucun","AVC") -> Aucun | BV74: =IF(AC74="","Aucun","IM") -> Aucun | BW74: =IF(M74="","NON","OUI") -> NON
A75: MARS | E75: =(L75-D75)/365 -> 0 | F75: =IF(E75<80," ","1") | P75: =IFERROR(VLOOKUP(O75,Références!$K$11:$N$19,2)," ") | Q75: =IFERROR(VLOOKUP(O75,Références!$K$11:$N$19,3)," ") | R75: =IFERROR(VLOOKUP(O75,Références!$K$11:$N$19,4)," ") | AI75: =SUM(AF75,AH75) -> 0 | AK75: =(AJ75-L75) -> 0 | AM75: =(AL75-L75) -> 0 | AP75: =IF(AO75=1,"ELECTIVE",IF(AO75=2,"URGENCY",IF(AO75=3,"EMERGENCY",IF(AO75=4,"SALVAGE"," ")))) | BA75: Y | BC75: =IF(BG75="Aucune",0,1) -> 0 | BD75: =IF(BH75="Aucune",0,1) -> 0 | BE75: =IF(AG75="Aucune",0,1) -> 1 | BF75: =IF(AO75=1,"ELECTIVE",IF(AO75=2,"URGENCY",IF(AO75=3,"EMERGENCY",IF(AO75=4,"SALVAGE","ALIVE")))) -> ALIVE | BG75: =IF(AD75="","Aucune","Infection") -> Aucune | BH75: =IF(AI75>0,"Transfusion","Aucune") -> Aucune | BI75: =IF(AG75="","Aucune","Transfusé") -> Aucune | BJ75: =IF(X75<>"",IF(X75-L75<2,"OUI","NON"),"NON") -> NON | BK75: =IF(AS75="","NON","OUI") -> NON | BL75: =IF(AL75-L75>0,AL75-L75,"Inconnu") -> Inconnu | BM75: =IF($O75<>"HTX",IF($O75<>"LVAD",BL75,"Inconnu"),"Inconnu") -> Inconnu | BN75: =IF($O75="HTX",BL75,IF($O75="LVAD",BL75,"Inconnu")) -> Inconnu | BO75: =IF(AJ75-L75>0,AJ75-L75,"Inconnu") -> Inconnu | BP75: =IF($O75<>"HTX",IF($O75<>"LVAD",BO75,"Inconnu"),"Inconnu") -> Inconnu | BQ75: =IF($O75="HTX",BO75,IF($O75="LVAD",BO75,"Inconnu")) -> Inconnu | BR75: =IF(BH75="Aucune",IF(BI75="Aucune","Aucune","Transfusé"),"Transfusé") -> Aucune | BS75: =AF75+AH75 -> 0 | BT75: =VLOOKUP($I75,Lieu_Activité!$A:$B,2,FALSE) -> #N/A | BU75: =IF(AB75="","Aucun","AVC") -> Aucun | BV75: =IF(AC75="","Aucun","IM") -> Aucun | BW75: =IF(M75="","NON","OUI") -> NON
A76: MARS | E76: =(L76-D76)/365 -> 0 | F76: =IF(E76<80," ","1") | P76: =IFERROR(VLOOKUP(O76,Références!$K$11:$N$19,2)," ") | Q76: =IFERROR(VLOOKUP(O76,Références!$K$11:$N$19,3)," ") | R76: =IFERROR(VLOOKUP(O76,Références!$K$11:$N$19,4)," ") | AI76: =SUM(AF76,AH76) -> 0 | AK76: =(AJ76-L76) -> 0 | AM76: =(AL76-L76) -> 0 | AP76: =IF(AO76=1,"ELECTIVE",IF(AO76=2,"URGENCY",IF(AO76=3,"EMERGENCY",IF(AO76=4,"SALVAGE"," ")))) | BA76: Y | BC76: =IF(BG76="Aucune",0,1) -> 0 | BD76: =IF(BH76="Aucune",0,1) -> 0 | BE76: =IF(AG76="Aucune",0,1) -> 1 | BF76: =IF(AO76=1,"ELECTIVE",IF(AO76=2,"URGENCY",IF(AO76=3,"EMERGENCY",IF(AO76=4,"SALVAGE","ALIVE")))) -> ALIVE | BG76: =IF(AD76="","Aucune","Infection") -> Aucune | BH76: =IF(AI76>0,"Transfusion","Aucune") -> Aucune | BI76: =IF(AG76="","Aucune","Transfusé") -> Aucune | BJ76: =IF(X76<>"",IF(X76-L76<2,"OUI","NON"),"NON") -> NON | BK76: =IF(AS76="","NON","OUI") -> NON | BL76: =IF(AL76-L76>0,AL76-L76,"Inconnu") -> Inconnu | BM76: =IF($O76<>"HTX",IF($O76<>"LVAD",BL76,"Inconnu"),"Inconnu") -> Inconnu | BN76: =IF($O76="HTX",BL76,IF($O76="LVAD",BL76,"Inconnu")) -> Inconnu | BO76: =IF(AJ76-L76>0,AJ76-L76,"Inconnu") -> Inconnu | BP76: =IF($O76<>"HTX",IF($O76<>"LVAD",BO76,"Inconnu"),"Inconnu") -> Inconnu | BQ76: =IF($O76="HTX",BO76,IF($O76="LVAD",BO76,"Inconnu")) -> Inconnu | BR76: =IF(BH76="Aucune",IF(BI76="Aucune","Aucune","Transfusé"),"Transfusé") -> Aucune | BS76: =AF76+AH76 -> 0 | BT76: =VLOOKUP($I76,Lieu_Activité!$A:$B,2,FALSE) -> #N/A | BU76: =IF(AB76="","Aucun","AVC") -> Aucun | BV76: =IF(AC76="","Aucun","IM") -> Aucun | BW76: =IF(M76="","NON","OUI") -> NON
A77: MARS | E77: =(L77-D77)/365 -> 0 | F77: =IF(E77<80," ","1") | P77: =IFERROR(VLOOKUP(O77,Références!$K$11:$N$19,2)," ") | Q77: =IFERROR(VLOOKUP(O77,Références!$K$11:$N$19,3)," ") | R77: =IFERROR(VLOOKUP(O77,Références!$K$11:$N$19,4)," ") | AI77: =SUM(AF77,AH77) -> 0 | AK77: =(AJ77-L77) -> 0 | AM77: =(AL77-L77) -> 0 | AP77: =IF(AO77=1,"ELECTIVE",IF(AO77=2,"URGENCY",IF(AO77=3,"EMERGENCY",IF(AO77=4,"SALVAGE"," ")))) | BA77: Y | BC77: =IF(BG77="Aucune",0,1) -> 0 | BD77: =IF(BH77="Aucune",0,1) -> 0 | BE77: =IF(AG77="Aucune",0,1) -> 1 | BF77: =IF(AO77=1,"ELECTIVE",IF(AO77=2,"URGENCY",IF(AO77=3,"EMERGENCY",IF(AO77=4,"SALVAGE","ALIVE")))) -> ALIVE | BG77: =IF(AD77="","Aucune","Infection") -> Aucune | BH77: =IF(AI77>0,"Transfusion","Aucune") -> Aucune | BI77: =IF(AG77="","Aucune","Transfusé") -> Aucune | BJ77: =IF(X77<>"",IF(X77-L77<2,"OUI","NON"),"NON") -> NON | BK77: =IF(AS77="","NON","OUI") -> NON | BL77: =IF(AL77-L77>0,AL77-L77,"Inconnu") -> Inconnu | BM77: =IF($O77<>"HTX",IF($O77<>"LVAD",BL77,"Inconnu"),"Inconnu") -> Inconnu | BN77: =IF($O77="HTX",BL77,IF($O77="LVAD",BL77,"Inconnu")) -> Inconnu | BO77: =IF(AJ77-L77>0,AJ77-L77,"Inconnu") -> Inconnu | BP77: =IF($O77<>"HTX",IF($O77<>"LVAD",BO77,"Inconnu"),"Inconnu") -> Inconnu | BQ77: =IF($O77="HTX",BO77,IF($O77="LVAD",BO77,"Inconnu")) -> Inconnu | BR77: =IF(BH77="Aucune",IF(BI77="Aucune","Aucune","Transfusé"),"Transfusé") -> Aucune | BS77: =AF77+AH77 -> 0 | BT77: =VLOOKUP($I77,Lieu_Activité!$A:$B,2,FALSE) -> #N/A | BU77: =IF(AB77="","Aucun","AVC") -> Aucun | BV77: =IF(AC77="","Aucun","IM") -> Aucun | BW77: =IF(M77="","NON","OUI") -> NON
A78: MARS | E78: =(L78-D78)/365 -> 0 | F78: =IF(E78<80," ","1") | P78: =IFERROR(VLOOKUP(O78,Références!$K$11:$N$19,2)," ") | Q78: =IFERROR(VLOOKUP(O78,Références!$K$11:$N$19,3)," ") | R78: =IFERROR(VLOOKUP(O78,Références!$K$11:$N$19,4)," ") | AI78: =SUM(AF78,AH78) -> 0 | AK78: =(AJ78-L78) -> 0 | AM78: =(AL78-L78) -> 0 | AP78: =IF(AO78=1,"ELECTIVE",IF(AO78=2,"URGENCY",IF(AO78=3,"EMERGENCY",IF(AO78=4,"SALVAGE"," ")))) | BA78: Y | BC78: =IF(BG78="Aucune",0,1) -> 0 | BD78: =IF(BH78="Aucune",0,1) -> 0 | BE78: =IF(AG78="Aucune",0,1) -> 1 | BF78: =IF(AO78=1,"ELECTIVE",IF(AO78=2,"URGENCY",IF(AO78=3,"EMERGENCY",IF(AO78=4,"SALVAGE","ALIVE")))) -> ALIVE | BG78: =IF(AD78="","Aucune","Infection") -> Aucune | BH78: =IF(AI78>0,"Transfusion","Aucune") -> Aucune | BI78: =IF(AG78="","Aucune","Transfusé") -> Aucune | BJ78: =IF(X78<>"",IF(X78-L78<2,"OUI","NON"),"NON") -> NON | BK78: =IF(AS78="","NON","OUI") -> NON | BL78: =IF(AL78-L78>0,AL78-L78,"Inconnu") -> Inconnu | BM78: =IF($O78<>"HTX",IF($O78<>"LVAD",BL78,"Inconnu"),"Inconnu") -> Inconnu | BN78: =IF($O78="HTX",BL78,IF($O78="LVAD",BL78,"Inconnu")) -> Inconnu | BO78: =IF(AJ78-L78>0,AJ78-L78,"Inconnu") -> Inconnu | BP78: =IF($O78<>"HTX",IF($O78<>"LVAD",BO78,"Inconnu"),"Inconnu") -> Inconnu | BQ78: =IF($O78="HTX",BO78,IF($O78="LVAD",BO78,"Inconnu")) -> Inconnu | BR78: =IF(BH78="Aucune",IF(BI78="Aucune","Aucune","Transfusé"),"Transfusé") -> Aucune | BS78: =AF78+AH78 -> 0 | BT78: =VLOOKUP($I78,Lieu_Activité!$A:$B,2,FALSE) -> #N/A | BU78: =IF(AB78="","Aucun","AVC") -> Aucun | BV78: =IF(AC78="","Aucun","IM") -> Aucun | BW78: =IF(M78="","NON","OUI") -> NON
A79: MARS | E79: =(L79-D79)/365 -> 0 | F79: =IF(E79<80," ","1") | P79: =IFERROR(VLOOKUP(O79,Références!$K$11:$N$19,2)," ") | Q79: =IFERROR(VLOOKUP(O79,Références!$K$11:$N$19,3)," ") | R79: =IFERROR(VLOOKUP(O79,Références!$K$11:$N$19,4)," ") | AI79: =SUM(AF79,AH79) -> 0 | AK79: =(AJ79-L79) -> 0 | AM79: =(AL79-L79) -> 0 | AP79: =IF(AO79=1,"ELECTIVE",IF(AO79=2,"URGENCY",IF(AO79=3,"EMERGENCY",IF(AO79=4,"SALVAGE"," ")))) | BA79: Y | BC79: =IF(BG79="Aucune",0,1) -> 0 | BD79: =IF(BH79="Aucune",0,1) -> 0 | BE79: =IF(AG79="Aucune",0,1) -> 1 | BF79: =IF(AO79=1,"ELECTIVE",IF(AO79=2,"URGENCY",IF(AO79=3,"EMERGENCY",IF(AO79=4,"SALVAGE","ALIVE")))) -> ALIVE | BG79: =IF(AD79="","Aucune","Infection") -> Aucune | BH79: =IF(AI79>0,"Transfusion","Aucune") -> Aucune | BI79: =IF(AG79="","Aucune","Transfusé") -> Aucune | BJ79: =IF(X79<>"",IF(X79-L79<2,"OUI","NON"),"NON") -> NON | BK79: =IF(AS79="","NON","OUI") -> NON | BL79: =IF(AL79-L79>0,AL79-L79,"Inconnu") -> Inconnu | BM79: =IF($O79<>"HTX",IF($O79<>"LVAD",BL79,"Inconnu"),"Inconnu") -> Inconnu | BN79: =IF($O79="HTX",BL79,IF($O79="LVAD",BL79,"Inconnu")) -> Inconnu | BO79: =IF(AJ79-L79>0,AJ79-L79,"Inconnu") -> Inconnu | BP79: =IF($O79<>"HTX",IF($O79<>"LVAD",BO79,"Inconnu"),"Inconnu") -> Inconnu | BQ79: =IF($O79="HTX",BO79,IF($O79="LVAD",BO79,"Inconnu")) -> Inconnu | BR79: =IF(BH79="Aucune",IF(BI79="Aucune","Aucune","Transfusé"),"Transfusé") -> Aucune | BS79: =AF79+AH79 -> 0 | BT79: =VLOOKUP($I79,Lieu_Activité!$A:$B,2,FALSE) -> #N/A | BU79: =IF(AB79="","Aucun","AVC") -> Aucun | BV79: =IF(AC79="","Aucun","IM") -> Aucun | BW79: =IF(M79="","NON","OUI") -> NON
A80: MARS | E80: =(L80-D80)/365 -> 0 | F80: =IF(E80<80," ","1") | P80: =IFERROR(VLOOKUP(O80,Références!$K$11:$N$19,2)," ") | Q80: =IFERROR(VLOOKUP(O80,Références!$K$11:$N$19,3)," ") | R80: =IFERROR(VLOOKUP(O80,Références!$K$11:$N$19,4)," ") | AI80: =SUM(AF80,AH80) -> 0 | AK80: =(AJ80-L80) -> 0 | AM80: =(AL80-L80) -> 0 | AP80: =IF(AO80=1,"ELECTIVE",IF(AO80=2,"URGENCY",IF(AO80=3,"EMERGENCY",IF(AO80=4,"SALVAGE"," ")))) | BA80: Y | BC80: =IF(BG80="Aucune",0,1) -> 0 | BD80: =IF(BH80="Aucune",0,1) -> 0 | BE80: =IF(AG80="Aucune",0,1) -> 1 | BF80: =IF(AO80=1,"ELECTIVE",IF(AO80=2,"URGENCY",IF(AO80=3,"EMERGENCY",IF(AO80=4,"SALVAGE","ALIVE")))) -> ALIVE | BG80: =IF(AD80="","Aucune","Infection") -> Aucune | BH80: =IF(AI80>0,"Transfusion","Aucune") -> Aucune | BI80: =IF(AG80="","Aucune","Transfusé") -> Aucune | BJ80: =IF(X80<>"",IF(X80-L80<2,"OUI","NON"),"NON") -> NON | BK80: =IF(AS80="","NON","OUI") -> NON | BL80: =IF(AL80-L80>0,AL80-L80,"Inconnu") -> Inconnu | BM80: =IF($O80<>"HTX",IF($O80<>"LVAD",BL80,"Inconnu"),"Inconnu") -> Inconnu | BN80: =IF($O80="HTX",BL80,IF($O80="LVAD",BL80,"Inconnu")) -> Inconnu | BO80: =IF(AJ80-L80>0,AJ80-L80,"Inconnu") -> Inconnu | BP80: =IF($O80<>"HTX",IF($O80<>"LVAD",BO80,"Inconnu"),"Inconnu") -> Inconnu | BQ80: =IF($O80="HTX",BO80,IF($O80="LVAD",BO80,"Inconnu")) -> Inconnu | BR80: =IF(BH80="Aucune",IF(BI80="Aucune","Aucune","Transfusé"),"Transfusé") -> Aucune | BS80: =AF80+AH80 -> 0 | BT80: =VLOOKUP($I80,Lieu_Activité!$A:$B,2,FALSE) -> #N/A | BU80: =IF(AB80="","Aucun","AVC") -> Aucun | BV80: =IF(AC80="","Aucun","IM") -> Aucun | BW80: =IF(M80="","NON","OUI") -> NON
A81: MARS | E81: =(L81-D81)/365 -> 0 | F81: =IF(E81<80," ","1") | P81: =IFERROR(VLOOKUP(O81,Références!$K$11:$N$19,2)," ") | Q81: =IFERROR(VLOOKUP(O81,Références!$K$11:$N$19,3)," ") | R81: =IFERROR(VLOOKUP(O81,Références!$K$11:$N$19,4)," ") | AI81: =SUM(AF81,AH81) -> 0 | AK81: =(AJ81-L81) -> 0 | AM81: =(AL81-L81) -> 0 | AP81: =IF(AO81=1,"ELECTIVE",IF(AO81=2,"URGENCY",IF(AO81=3,"EMERGENCY",IF(AO81=4,"SALVAGE"," ")))) | BC81: =IF(BG81="Aucune",0,1) -> 0 | BD81: =IF(BH81="Aucune",0,1) -> 0 | BE81: =IF(AG81="Aucune",0,1) -> 1 | BF81: =IF(AO81=1,"ELECTIVE",IF(AO81=2,"URGENCY",IF(AO81=3,"EMERGENCY",IF(AO81=4,"SALVAGE","ALIVE")))) -> ALIVE | BG81: =IF(AD81="","Aucune","Infection") -> Aucune | BH81: =IF(AI81>0,"Transfusion","Aucune") -> Aucune | BI81: =IF(AG81="","Aucune","Transfusé") -> Aucune | BJ81: =IF(X81<>"",IF(X81-L81<2,"OUI","NON"),"NON") -> NON | BK81: =IF(AS81="","NON","OUI") -> NON | BL81: =IF(AL81-L81>0,AL81-L81,"Inconnu") -> Inconnu | BM81: =IF($O81<>"HTX",IF($O81<>"LVAD",BL81,"Inconnu"),"Inconnu") -> Inconnu | BN81: =IF($O81="HTX",BL81,IF($O81="LVAD",BL81,"Inconnu")) -> Inconnu | BO81: =IF(AJ81-L81>0,AJ81-L81,"Inconnu") -> Inconnu | BP81: =IF($O81<>"HTX",IF($O81<>"LVAD",BO81,"Inconnu"),"Inconnu") -> Inconnu | BQ81: =IF($O81="HTX",BO81,IF($O81="LVAD",BO81,"Inconnu")) -> Inconnu | BR81: =IF(BH81="Aucune",IF(BI81="Aucune","Aucune","Transfusé"),"Transfusé") -> Aucune | BS81: =AF81+AH81 -> 0 | BT81: =VLOOKUP($I81,Lieu_Activité!$A:$B,2,FALSE) -> #N/A | BU81: =IF(AB81="","Aucun","AVC") -> Aucun | BV81: =IF(AC81="","Aucun","IM") -> Aucun | BW81: =IF(M81="","NON","OUI") -> NON
A82: MARS | E82: =(L82-D82)/365 -> 0 | F82: =IF(E82<80," ","1") | P82: =IFERROR(VLOOKUP(O82,Références!$K$11:$N$19,2)," ") | Q82: =IFERROR(VLOOKUP(O82,Références!$K$11:$N$19,3)," ") | R82: =IFERROR(VLOOKUP(O82,Références!$K$11:$N$19,4)," ") | AI82: =SUM(AF82,AH82) -> 0 | AK82: =(AJ82-L82) -> 0 | AM82: =(AL82-L82) -> 0 | AP82: =IF(AO82=1,"ELECTIVE",IF(AO82=2,"URGENCY",IF(AO82=3,"EMERGENCY",IF(AO82=4,"SALVAGE"," ")))) | BA82: Y | BC82: =IF(BG82="Aucune",0,1) -> 0 | BD82: =IF(BH82="Aucune",0,1) -> 0 | BE82: =IF(AG82="Aucune",0,1) -> 1 | BF82: =IF(AO82=1,"ELECTIVE",IF(AO82=2,"URGENCY",IF(AO82=3,"EMERGENCY",IF(AO82=4,"SALVAGE","ALIVE")))) -> ALIVE | BG82: =IF(AD82="","Aucune","Infection") -> Aucune | BH82: =IF(AI82>0,"Transfusion","Aucune") -> Aucune | BI82: =IF(AG82="","Aucune","Transfusé") -> Aucune | BJ82: =IF(X82<>"",IF(X82-L82<2,"OUI","NON"),"NON") -> NON | BK82: =IF(AS82="","NON","OUI") -> NON | BL82: =IF(AL82-L82>0,AL82-L82,"Inconnu") -> Inconnu | BM82: =IF($O82<>"HTX",IF($O82<>"LVAD",BL82,"Inconnu"),"Inconnu") -> Inconnu | BN82: =IF($O82="HTX",BL82,IF($O82="LVAD",BL82,"Inconnu")) -> Inconnu | BO82: =IF(AJ82-L82>0,AJ82-L82,"Inconnu") -> Inconnu | BP82: =IF($O82<>"HTX",IF($O82<>"LVAD",BO82,"Inconnu"),"Inconnu") -> Inconnu | BQ82: =IF($O82="HTX",BO82,IF($O82="LVAD",BO82,"Inconnu")) -> Inconnu | BR82: =IF(BH82="Aucune",IF(BI82="Aucune","Aucune","Transfusé"),"Transfusé") -> Aucune | BS82: =AF82+AH82 -> 0 | BT82: =VLOOKUP($I82,Lieu_Activité!$A:$B,2,FALSE) -> #N/A | BU82: =IF(AB82="","Aucun","AVC") -> Aucun | BV82: =IF(AC82="","Aucun","IM") -> Aucun | BW82: =IF(M82="","NON","OUI") -> NON
A83: MARS | E83: =(L83-D83)/365 -> 0 | F83: =IF(E83<80," ","1") | P83: =IFERROR(VLOOKUP(O83,Références!$K$11:$N$19,2)," ") | Q83: =IFERROR(VLOOKUP(O83,Références!$K$11:$N$19,3)," ") | R83: =IFERROR(VLOOKUP(O83,Références!$K$11:$N$19,4)," ") | AI83: =SUM(AF83,AH83) -> 0 | AK83: =(AJ83-L83) -> 0 | AM83: =(AL83-L83) -> 0 | AP83: =IF(AO83=1,"ELECTIVE",IF(AO83=2,"URGENCY",IF(AO83=3,"EMERGENCY",IF(AO83=4,"SALVAGE"," ")))) | BA83: Y | BC83: =IF(BG83="Aucune",0,1) -> 0 | BD83: =IF(BH83="Aucune",0,1) -> 0 | BE83: =IF(AG83="Aucune",0,1) -> 1 | BF83: =IF(AO83=1,"ELECTIVE",IF(AO83=2,"URGENCY",IF(AO83=3,"EMERGENCY",IF(AO83=4,"SALVAGE","ALIVE")))) -> ALIVE | BG83: =IF(AD83="","Aucune","Infection") -> Aucune | BH83: =IF(AI83>0,"Transfusion","Aucune") -> Aucune | BI83: =IF(AG83="","Aucune","Transfusé") -> Aucune | BJ83: =IF(X83<>"",IF(X83-L83<2,"OUI","NON"),"NON") -> NON | BK83: =IF(AS83="","NON","OUI") -> NON | BL83: =IF(AL83-L83>0,AL83-L83,"Inconnu") -> Inconnu | BM83: =IF($O83<>"HTX",IF($O83<>"LVAD",BL83,"Inconnu"),"Inconnu") -> Inconnu | BN83: =IF($O83="HTX",BL83,IF($O83="LVAD",BL83,"Inconnu")) -> Inconnu | BO83: =IF(AJ83-L83>0,AJ83-L83,"Inconnu") -> Inconnu | BP83: =IF($O83<>"HTX",IF($O83<>"LVAD",BO83,"Inconnu"),"Inconnu") -> Inconnu | BQ83: =IF($O83="HTX",BO83,IF($O83="LVAD",BO83,"Inconnu")) -> Inconnu | BR83: =IF(BH83="Aucune",IF(BI83="Aucune","Aucune","Transfusé"),"Transfusé") -> Aucune | BS83: =AF83+AH83 -> 0 | BT83: =VLOOKUP($I83,Lieu_Activité!$A:$B,2,FALSE) -> #N/A | BU83: =IF(AB83="","Aucun","AVC") -> Aucun | BV83: =IF(AC83="","Aucun","IM") -> Aucun | BW83: =IF(M83="","NON","OUI") -> NON
A84: MARS | E84: =(L84-D84)/365 -> 0 | F84: =IF(E84<80," ","1") | P84: =IFERROR(VLOOKUP(O84,Références!$K$11:$N$19,2)," ") | Q84: =IFERROR(VLOOKUP(O84,Références!$K$11:$N$19,3)," ") | R84: =IFERROR(VLOOKUP(O84,Références!$K$11:$N$19,4)," ") | AI84: =SUM(AF84,AH84) -> 0 | AK84: =(AJ84-L84) -> 0 | AM84: =(AL84-L84) -> 0 | AP84: =IF(AO84=1,"ELECTIVE",IF(AO84=2,"URGENCY",IF(AO84=3,"EMERGENCY",IF(AO84=4,"SALVAGE"," ")))) | BA84: Y | BC84: =IF(BG84="Aucune",0,1) -> 0 | BD84: =IF(BH84="Aucune",0,1) -> 0 | BE84: =IF(AG84="Aucune",0,1) -> 1 | BF84: =IF(AO84=1,"ELECTIVE",IF(AO84=2,"URGENCY",IF(AO84=3,"EMERGENCY",IF(AO84=4,"SALVAGE","ALIVE")))) -> ALIVE | BG84: =IF(AD84="","Aucune","Infection") -> Aucune | BH84: =IF(AI84>0,"Transfusion","Aucune") -> Aucune | BI84: =IF(AG84="","Aucune","Transfusé") -> Aucune | BJ84: =IF(X84<>"",IF(X84-L84<2,"OUI","NON"),"NON") -> NON | BK84: =IF(AS84="","NON","OUI") -> NON | BL84: =IF(AL84-L84>0,AL84-L84,"Inconnu") -> Inconnu | BM84: =IF($O84<>"HTX",IF($O84<>"LVAD",BL84,"Inconnu"),"Inconnu") -> Inconnu | BN84: =IF($O84="HTX",BL84,IF($O84="LVAD",BL84,"Inconnu")) -> Inconnu | BO84: =IF(AJ84-L84>0,AJ84-L84,"Inconnu") -> Inconnu | BP84: =IF($O84<>"HTX",IF($O84<>"LVAD",BO84,"Inconnu"),"Inconnu") -> Inconnu | BQ84: =IF($O84="HTX",BO84,IF($O84="LVAD",BO84,"Inconnu")) -> Inconnu | BR84: =IF(BH84="Aucune",IF(BI84="Aucune","Aucune","Transfusé"),"Transfusé") -> Aucune | BS84: =AF84+AH84 -> 0 | BT84: =VLOOKUP($I84,Lieu_Activité!$A:$B,2,FALSE) -> #N/A | BU84: =IF(AB84="","Aucun","AVC") -> Aucun | BV84: =IF(AC84="","Aucun","IM") -> Aucun | BW84: =IF(M84="","NON","OUI") -> NON
A85: MARS | E85: =(L85-D85)/365 -> 0 | F85: =IF(E85<80," ","1") | P85: =IFERROR(VLOOKUP(O85,Références!$K$11:$N$19,2)," ") | Q85: =IFERROR(VLOOKUP(O85,Références!$K$11:$N$19,3)," ") | R85: =IFERROR(VLOOKUP(O85,Références!$K$11:$N$19,4)," ") | AI85: =SUM(AF85,AH85) -> 0 | AK85: =(AJ85-L85) -> 0 | AM85: =(AL85-L85) -> 0 | AP85: =IF(AO85=1,"ELECTIVE",IF(AO85=2,"URGENCY",IF(AO85=3,"EMERGENCY",IF(AO85=4,"SALVAGE"," ")))) | BA85: Y | BC85: =IF(BG85="Aucune",0,1) -> 0 | BD85: =IF(BH85="Aucune",0,1) -> 0 | BE85: =IF(AG85="Aucune",0,1) -> 1 | BF85: =IF(AO85=1,"ELECTIVE",IF(AO85=2,"URGENCY",IF(AO85=3,"EMERGENCY",IF(AO85=4,"SALVAGE","ALIVE")))) -> ALIVE | BG85: =IF(AD85="","Aucune","Infection") -> Aucune | BH85: =IF(AI85>0,"Transfusion","Aucune") -> Aucune | BI85: =IF(AG85="","Aucune","Transfusé") -> Aucune | BJ85: =IF(X85<>"",IF(X85-L85<2,"OUI","NON"),"NON") -> NON | BK85: =IF(AS85="","NON","OUI") -> NON | BL85: =IF(AL85-L85>0,AL85-L85,"Inconnu") -> Inconnu | BM85: =IF($O85<>"HTX",IF($O85<>"LVAD",BL85,"Inconnu"),"Inconnu") -> Inconnu | BN85: =IF($O85="HTX",BL85,IF($O85="LVAD",BL85,"Inconnu")) -> Inconnu | BO85: =IF(AJ85-L85>0,AJ85-L85,"Inconnu") -> Inconnu | BP85: =IF($O85<>"HTX",IF($O85<>"LVAD",BO85,"Inconnu"),"Inconnu") -> Inconnu | BQ85: =IF($O85="HTX",BO85,IF($O85="LVAD",BO85,"Inconnu")) -> Inconnu | BR85: =IF(BH85="Aucune",IF(BI85="Aucune","Aucune","Transfusé"),"Transfusé") -> Aucune | BS85: =AF85+AH85 -> 0 | BT85: =VLOOKUP($I85,Lieu_Activité!$A:$B,2,FALSE) -> #N/A | BU85: =IF(AB85="","Aucun","AVC") -> Aucun | BV85: =IF(AC85="","Aucun","IM") -> Aucun | BW85: =IF(M85="","NON","OUI") -> NON
A86: MARS | E86: =(L86-D86)/365 -> 0 | F86: =IF(E86<80," ","1") | P86: =IFERROR(VLOOKUP(O86,Références!$K$11:$N$19,2)," ") | Q86: =IFERROR(VLOOKUP(O86,Références!$K$11:$N$19,3)," ") | R86: =IFERROR(VLOOKUP(O86,Références!$K$11:$N$19,4)," ") | AI86: =SUM(AF86,AH86) -> 0 | AK86: =(AJ86-L86) -> 0 | AM86: =(AL86-L86) -> 0 | AP86: =IF(AO86=1,"ELECTIVE",IF(AO86=2,"URGENCY",IF(AO86=3,"EMERGENCY",IF(AO86=4,"SALVAGE"," ")))) | BA86: Y | BC86: =IF(BG86="Aucune",0,1) -> 0 | BD86: =IF(BH86="Aucune",0,1) -> 0 | BE86: =IF(AG86="Aucune",0,1) -> 1 | BF86: =IF(AO86=1,"ELECTIVE",IF(AO86=2,"URGENCY",IF(AO86=3,"EMERGENCY",IF(AO86=4,"SALVAGE","ALIVE")))) -> ALIVE | BG86: =IF(AD86="","Aucune","Infection") -> Aucune | BH86: =IF(AI86>0,"Transfusion","Aucune") -> Aucune | BI86: =IF(AG86="","Aucune","Transfusé") -> Aucune | BJ86: =IF(X86<>"",IF(X86-L86<2,"OUI","NON"),"NON") -> NON | BK86: =IF(AS86="","NON","OUI") -> NON | BL86: =IF(AL86-L86>0,AL86-L86,"Inconnu") -> Inconnu | BM86: =IF($O86<>"HTX",IF($O86<>"LVAD",BL86,"Inconnu"),"Inconnu") -> Inconnu | BN86: =IF($O86="HTX",BL86,IF($O86="LVAD",BL86,"Inconnu")) -> Inconnu | BO86: =IF(AJ86-L86>0,AJ86-L86,"Inconnu") -> Inconnu | BP86: =IF($O86<>"HTX",IF($O86<>"LVAD",BO86,"Inconnu"),"Inconnu") -> Inconnu | BQ86: =IF($O86="HTX",BO86,IF($O86="LVAD",BO86,"Inconnu")) -> Inconnu | BR86: =IF(BH86="Aucune",IF(BI86="Aucune","Aucune","Transfusé"),"Transfusé") -> Aucune | BS86: =AF86+AH86 -> 0 | BT86: =VLOOKUP($I86,Lieu_Activité!$A:$B,2,FALSE) -> #N/A | BU86: =IF(AB86="","Aucun","AVC") -> Aucun | BV86: =IF(AC86="","Aucun","IM") -> Aucun | BW86: =IF(M86="","NON","OUI") -> NON
A87: MARS | E87: =(L87-D87)/365 -> 0 | F87: =IF(E87<80," ","1") | P87: =IFERROR(VLOOKUP(O87,Références!$K$11:$N$19,2)," ") | Q87: =IFERROR(VLOOKUP(O87,Références!$K$11:$N$19,3)," ") | R87: =IFERROR(VLOOKUP(O87,Références!$K$11:$N$19,4)," ") | AI87: =SUM(AF87,AH87) -> 0 | AK87: =(AJ87-L87) -> 0 | AM87: =(AL87-L87) -> 0 | AP87: =IF(AO87=1,"ELECTIVE",IF(AO87=2,"URGENCY",IF(AO87=3,"EMERGENCY",IF(AO87=4,"SALVAGE"," ")))) | BA87: Y | BC87: =IF(BG87="Aucune",0,1) -> 0 | BD87: =IF(BH87="Aucune",0,1) -> 0 | BE87: =IF(AG87="Aucune",0,1) -> 1 | BF87: =IF(AO87=1,"ELECTIVE",IF(AO87=2,"URGENCY",IF(AO87=3,"EMERGENCY",IF(AO87=4,"SALVAGE","ALIVE")))) -> ALIVE | BG87: =IF(AD87="","Aucune","Infection") -> Aucune | BH87: =IF(AI87>0,"Transfusion","Aucune") -> Aucune | BI87: =IF(AG87="","Aucune","Transfusé") -> Aucune | BJ87: =IF(X87<>"",IF(X87-L87<2,"OUI","NON"),"NON") -> NON | BK87: =IF(AS87="","NON","OUI") -> NON | BL87: =IF(AL87-L87>0,AL87-L87,"Inconnu") -> Inconnu | BM87: =IF($O87<>"HTX",IF($O87<>"LVAD",BL87,"Inconnu"),"Inconnu") -> Inconnu | BN87: =IF($O87="HTX",BL87,IF($O87="LVAD",BL87,"Inconnu")) -> Inconnu | BO87: =IF(AJ87-L87>0,AJ87-L87,"Inconnu") -> Inconnu | BP87: =IF($O87<>"HTX",IF($O87<>"LVAD",BO87,"Inconnu"),"Inconnu") -> Inconnu | BQ87: =IF($O87="HTX",BO87,IF($O87="LVAD",BO87,"Inconnu")) -> Inconnu | BR87: =IF(BH87="Aucune",IF(BI87="Aucune","Aucune","Transfusé"),"Transfusé") -> Aucune | BS87: =AF87+AH87 -> 0 | BT87: =VLOOKUP($I87,Lieu_Activité!$A:$B,2,FALSE) -> #N/A | BU87: =IF(AB87="","Aucun","AVC") -> Aucun | BV87: =IF(AC87="","Aucun","IM") -> Aucun | BW87: =IF(M87="","NON","OUI") -> NON
A88: AVRIL | E88: =(L88-D88)/365 -> 0 | F88: =IF(E88<80," ","1") | P88: =IFERROR(VLOOKUP(O88,Références!$K$11:$N$19,2)," ") | Q88: =IFERROR(VLOOKUP(O88,Références!$K$11:$N$19,3)," ") | R88: =IFERROR(VLOOKUP(O88,Références!$K$11:$N$19,4)," ") | AI88: =SUM(AF88,AH88) -> 0 | AK88: =(AJ88-L88) -> 0 | AM88: =(AL88-L88) -> 0 | AP88: =IF(AO88=1,"ELECTIVE",IF(AO88=2,"URGENCY",IF(AO88=3,"EMERGENCY",IF(AO88=4,"SALVAGE"," ")))) | BA88: Y | BC88: =IF(BG88="Aucune",0,1) -> 0 | BD88: =IF(BH88="Aucune",0,1) -> 0 | BE88: =IF(AG88="Aucune",0,1) -> 1 | BF88: =IF(AO88=1,"ELECTIVE",IF(AO88=2,"URGENCY",IF(AO88=3,"EMERGENCY",IF(AO88=4,"SALVAGE","ALIVE")))) -> ALIVE | BG88: =IF(AD88="","Aucune","Infection") -> Aucune | BH88: =IF(AI88>0,"Transfusion","Aucune") -> Aucune | BI88: =IF(AG88="","Aucune","Transfusé") -> Aucune | BJ88: =IF(X88<>"",IF(X88-L88<2,"OUI","NON"),"NON") -> NON | BK88: =IF(AS88="","NON","OUI") -> NON | BL88: =IF(AL88-L88>0,AL88-L88,"Inconnu") -> Inconnu | BM88: =IF($O88<>"HTX",IF($O88<>"LVAD",BL88,"Inconnu"),"Inconnu") -> Inconnu | BN88: =IF($O88="HTX",BL88,IF($O88="LVAD",BL88,"Inconnu")) -> Inconnu | BO88: =IF(AJ88-L88>0,AJ88-L88,"Inconnu") -> Inconnu | BP88: =IF($O88<>"HTX",IF($O88<>"LVAD",BO88,"Inconnu"),"Inconnu") -> Inconnu | BQ88: =IF($O88="HTX",BO88,IF($O88="LVAD",BO88,"Inconnu")) -> Inconnu | BR88: =IF(BH88="Aucune",IF(BI88="Aucune","Aucune","Transfusé"),"Transfusé") -> Aucune | BS88: =AF88+AH88 -> 0 | BT88: =VLOOKUP($I88,Lieu_Activité!$A:$B,2,FALSE) -> #N/A | BU88: =IF(AB88="","Aucun","AVC") -> Aucun | BV88: =IF(AC88="","Aucun","IM") -> Aucun | BW88: =IF(M88="","NON","OUI") -> NON
A89: AVRIL | E89: =(L89-D89)/365 -> 0 | F89: =IF(E89<80," ","1") | P89: =IFERROR(VLOOKUP(O89,Références!$K$11:$N$19,2)," ") | Q89: =IFERROR(VLOOKUP(O89,Références!$K$11:$N$19,3)," ") | R89: =IFERROR(VLOOKUP(O89,Références!$K$11:$N$19,4)," ") | AI89: =SUM(AF89,AH89) -> 0 | AK89: =(AJ89-L89) -> 0 | AM89: =(AL89-L89) -> 0 | AP89: =IF(AO89=1,"ELECTIVE",IF(AO89=2,"URGENCY",IF(AO89=3,"EMERGENCY",IF(AO89=4,"SALVAGE"," ")))) | BA89: Y | BC89: =IF(BG89="Aucune",0,1) -> 0 | BD89: =IF(BH89="Aucune",0,1) -> 0 | BE89: =IF(AG89="Aucune",0,1) -> 1 | BF89: =IF(AO89=1,"ELECTIVE",IF(AO89=2,"URGENCY",IF(AO89=3,"EMERGENCY",IF(AO89=4,"SALVAGE","ALIVE")))) -> ALIVE | BG89: =IF(AD89="","Aucune","Infection") -> Aucune | BH89: =IF(AI89>0,"Transfusion","Aucune") -> Aucune | BI89: =IF(AG89="","Aucune","Transfusé") -> Aucune | BJ89: =IF(X89<>"",IF(X89-L89<2,"OUI","NON"),"NON") -> NON | BK89: =IF(AS89="","NON","OUI") -> NON | BL89: =IF(AL89-L89>0,AL89-L89,"Inconnu") -> Inconnu | BM89: =IF($O89<>"HTX",IF($O89<>"LVAD",BL89,"Inconnu"),"Inconnu") -> Inconnu | BN89: =IF($O89="HTX",BL89,IF($O89="LVAD",BL89,"Inconnu")) -> Inconnu | BO89: =IF(AJ89-L89>0,AJ89-L89,"Inconnu") -> Inconnu | BP89: =IF($O89<>"HTX",IF($O89<>"LVAD",BO89,"Inconnu"),"Inconnu") -> Inconnu | BQ89: =IF($O89="HTX",BO89,IF($O89="LVAD",BO89,"Inconnu")) -> Inconnu | BR89: =IF(BH89="Aucune",IF(BI89="Aucune","Aucune","Transfusé"),"Transfusé") -> Aucune | BS89: =AF89+AH89 -> 0 | BT89: =VLOOKUP($I89,Lieu_Activité!$A:$B,2,FALSE) -> #N/A | BU89: =IF(AB89="","Aucun","AVC") -> Aucun | BV89: =IF(AC89="","Aucun","IM") -> Aucun | BW89: =IF(M89="","NON","OUI") -> NON
A90: AVRIL | E90: =(L90-D90)/365 -> 0 | F90: =IF(E90<80," ","1") | P90: =IFERROR(VLOOKUP(O90,Références!$K$11:$N$19,2)," ") | Q90: =IFERROR(VLOOKUP(O90,Références!$K$11:$N$19,3)," ") | R90: =IFERROR(VLOOKUP(O90,Références!$K$11:$N$19,4)," ") | AI90: =SUM(AF90,AH90) -> 0 | AK90: =(AJ90-L90) -> 0 | AM90: =(AL90-L90) -> 0 | AP90: =IF(AO90=1,"ELECTIVE",IF(AO90=2,"URGENCY",IF(AO90=3,"EMERGENCY",IF(AO90=4,"SALVAGE"," ")))) | BA90: Y | BC90: =IF(BG90="Aucune",0,1) -> 0 | BD90: =IF(BH90="Aucune",0,1) -> 0 | BE90: =IF(AG90="Aucune",0,1) -> 1 | BF90: =IF(AO90=1,"ELECTIVE",IF(AO90=2,"URGENCY",IF(AO90=3,"EMERGENCY",IF(AO90=4,"SALVAGE","ALIVE")))) -> ALIVE | BG90: =IF(AD90="","Aucune","Infection") -> Aucune | BH90: =IF(AI90>0,"Transfusion","Aucune") -> Aucune | BI90: =IF(AG90="","Aucune","Transfusé") -> Aucune | BJ90: =IF(X90<>"",IF(X90-L90<2,"OUI","NON"),"NON") -> NON | BK90: =IF(AS90="","NON","OUI") -> NON | BL90: =IF(AL90-L90>0,AL90-L90,"Inconnu") -> Inconnu | BM90: =IF($O90<>"HTX",IF($O90<>"LVAD",BL90,"Inconnu"),"Inconnu") -> Inconnu | BN90: =IF($O90="HTX",BL90,IF($O90="LVAD",BL90,"Inconnu")) -> Inconnu | BO90: =IF(AJ90-L90>0,AJ90-L90,"Inconnu") -> Inconnu | BP90: =IF($O90<>"HTX",IF($O90<>"LVAD",BO90,"Inconnu"),"Inconnu") -> Inconnu | BQ90: =IF($O90="HTX",BO90,IF($O90="LVAD",BO90,"Inconnu")) -> Inconnu | BR90: =IF(BH90="Aucune",IF(BI90="Aucune","Aucune","Transfusé"),"Transfusé") -> Aucune | BS90: =AF90+AH90 -> 0 | BT90: =VLOOKUP($I90,Lieu_Activité!$A:$B,2,FALSE) -> #N/A | BU90: =IF(AB90="","Aucun","AVC") -> Aucun | BV90: =IF(AC90="","Aucun","IM") -> Aucun | BW90: =IF(M90="","NON","OUI") -> NON
A91: AVRIL | E91: =(L91-D91)/365 -> 0 | F91: =IF(E91<80," ","1") | P91: =IFERROR(VLOOKUP(O91,Références!$K$11:$N$19,2)," ") | Q91: =IFERROR(VLOOKUP(O91,Références!$K$11:$N$19,3)," ") | R91: =IFERROR(VLOOKUP(O91,Références!$K$11:$N$19,4)," ") | AI91: =SUM(AF91,AH91) -> 0 | AK91: =(AJ91-L91) -> 0 | AM91: =(AL91-L91) -> 0 | AP91: =IF(AO91=1,"ELECTIVE",IF(AO91=2,"URGENCY",IF(AO91=3,"EMERGENCY",IF(AO91=4,"SALVAGE"," ")))) | BA91: Y | BC91: =IF(BG91="Aucune",0,1) -> 0 | BD91: =IF(BH91="Aucune",0,1) -> 0 | BE91: =IF(AG91="Aucune",0,1) -> 1 | BF91: =IF(AO91=1,"ELECTIVE",IF(AO91=2,"URGENCY",IF(AO91=3,"EMERGENCY",IF(AO91=4,"SALVAGE","ALIVE")))) -> ALIVE | BG91: =IF(AD91="","Aucune","Infection") -> Aucune | BH91: =IF(AI91>0,"Transfusion","Aucune") -> Aucune | BI91: =IF(AG91="","Aucune","Transfusé") -> Aucune | BJ91: =IF(X91<>"",IF(X91-L91<2,"OUI","NON"),"NON") -> NON | BK91: =IF(AS91="","NON","OUI") -> NON | BL91: =IF(AL91-L91>0,AL91-L91,"Inconnu") -> Inconnu | BM91: =IF($O91<>"HTX",IF($O91<>"LVAD",BL91,"Inconnu"),"Inconnu") -> Inconnu | BN91: =IF($O91="HTX",BL91,IF($O91="LVAD",BL91,"Inconnu")) -> Inconnu | BO91: =IF(AJ91-L91>0,AJ91-L91,"Inconnu") -> Inconnu | BP91: =IF($O91<>"HTX",IF($O91<>"LVAD",BO91,"Inconnu"),"Inconnu") -> Inconnu | BQ91: =IF($O91="HTX",BO91,IF($O91="LVAD",BO91,"Inconnu")) -> Inconnu | BR91: =IF(BH91="Aucune",IF(BI91="Aucune","Aucune","Transfusé"),"Transfusé") -> Aucune | BS91: =AF91+AH91 -> 0 | BT91: =VLOOKUP($I91,Lieu_Activité!$A:$B,2,FALSE) -> #N/A | BU91: =IF(AB91="","Aucun","AVC") -> Aucun | BV91: =IF(AC91="","Aucun","IM") -> Aucun | BW91: =IF(M91="","NON","OUI") -> NON
A92: AVRIL | E92: =(L92-D92)/365 -> 0 | F92: =IF(E92<80," ","1") | P92: =IFERROR(VLOOKUP(O92,Références!$K$11:$N$19,2)," ") | Q92: =IFERROR(VLOOKUP(O92,Références!$K$11:$N$19,3)," ") | R92: =IFERROR(VLOOKUP(O92,Références!$K$11:$N$19,4)," ") | AI92: =SUM(AF92,AH92) -> 0 | AK92: =(AJ92-L92) -> 0 | AM92: =(AL92-L92) -> 0 | AP92: =IF(AO92=1,"ELECTIVE",IF(AO92=2,"URGENCY",IF(AO92=3,"EMERGENCY",IF(AO92=4,"SALVAGE"," ")))) | BC92: =IF(BG92="Aucune",0,1) -> 0 | BD92: =IF(BH92="Aucune",0,1) -> 0 | BE92: =IF(AG92="Aucune",0,1) -> 1 | BF92: =IF(AO92=1,"ELECTIVE",IF(AO92=2,"URGENCY",IF(AO92=3,"EMERGENCY",IF(AO92=4,"SALVAGE","ALIVE")))) -> ALIVE | BG92: =IF(AD92="","Aucune","Infection") -> Aucune | BH92: =IF(AI92>0,"Transfusion","Aucune") -> Aucune | BI92: =IF(AG92="","Aucune","Transfusé") -> Aucune | BJ92: =IF(X92<>"",IF(X92-L92<2,"OUI","NON"),"NON") -> NON | BK92: =IF(AS92="","NON","OUI") -> NON | BL92: =IF(AL92-L92>0,AL92-L92,"Inconnu") -> Inconnu | BM92: =IF($O92<>"HTX",IF($O92<>"LVAD",BL92,"Inconnu"),"Inconnu") -> Inconnu | BN92: =IF($O92="HTX",BL92,IF($O92="LVAD",BL92,"Inconnu")) -> Inconnu | BO92: =IF(AJ92-L92>0,AJ92-L92,"Inconnu") -> Inconnu | BP92: =IF($O92<>"HTX",IF($O92<>"LVAD",BO92,"Inconnu"),"Inconnu") -> Inconnu | BQ92: =IF($O92="HTX",BO92,IF($O92="LVAD",BO92,"Inconnu")) -> Inconnu | BR92: =IF(BH92="Aucune",IF(BI92="Aucune","Aucune","Transfusé"),"Transfusé") -> Aucune | BS92: =AF92+AH92 -> 0 | BT92: =VLOOKUP($I92,Lieu_Activité!$A:$B,2,FALSE) -> #N/A | BU92: =IF(AB92="","Aucun","AVC") -> Aucun | BV92: =IF(AC92="","Aucun","IM") -> Aucun | BW92: =IF(M92="","NON","OUI") -> NON
A93: AVRIL | E93: =(L93-D93)/365 -> 0 | F93: =IF(E93<80," ","1") | P93: =IFERROR(VLOOKUP(O93,Références!$K$11:$N$19,2)," ") | Q93: =IFERROR(VLOOKUP(O93,Références!$K$11:$N$19,3)," ") | R93: =IFERROR(VLOOKUP(O93,Références!$K$11:$N$19,4)," ") | AI93: =SUM(AF93,AH93) -> 0 | AK93: =(AJ93-L93) -> 0 | AM93: =(AL93-L93) -> 0 | AP93: =IF(AO93=1,"ELECTIVE",IF(AO93=2,"URGENCY",IF(AO93=3,"EMERGENCY",IF(AO93=4,"SALVAGE"," ")))) | BA93: Y | BC93: =IF(BG93="Aucune",0,1) -> 0 | BD93: =IF(BH93="Aucune",0,1) -> 0 | BE93: =IF(AG93="Aucune",0,1) -> 1 | BF93: =IF(AO93=1,"ELECTIVE",IF(AO93=2,"URGENCY",IF(AO93=3,"EMERGENCY",IF(AO93=4,"SALVAGE","ALIVE")))) -> ALIVE | BG93: =IF(AD93="","Aucune","Infection") -> Aucune | BH93: =IF(AI93>0,"Transfusion","Aucune") -> Aucune | BI93: =IF(AG93="","Aucune","Transfusé") -> Aucune | BJ93: =IF(X93<>"",IF(X93-L93<2,"OUI","NON"),"NON") -> NON | BK93: =IF(AS93="","NON","OUI") -> NON | BL93: =IF(AL93-L93>0,AL93-L93,"Inconnu") -> Inconnu | BM93: =IF($O93<>"HTX",IF($O93<>"LVAD",BL93,"Inconnu"),"Inconnu") -> Inconnu | BN93: =IF($O93="HTX",BL93,IF($O93="LVAD",BL93,"Inconnu")) -> Inconnu | BO93: =IF(AJ93-L93>0,AJ93-L93,"Inconnu") -> Inconnu | BP93: =IF($O93<>"HTX",IF($O93<>"LVAD",BO93,"Inconnu"),"Inconnu") -> Inconnu | BQ93: =IF($O93="HTX",BO93,IF($O93="LVAD",BO93,"Inconnu")) -> Inconnu | BR93: =IF(BH93="Aucune",IF(BI93="Aucune","Aucune","Transfusé"),"Transfusé") -> Aucune | BS93: =AF93+AH93 -> 0 | BT93: =VLOOKUP($I93,Lieu_Activité!$A:$B,2,FALSE) -> #N/A | BU93: =IF(AB93="","Aucun","AVC") -> Aucun | BV93: =IF(AC93="","Aucun","IM") -> Aucun | BW93: =IF(M93="","NON","OUI") -> NON
A94: AVRIL | E94: =(L94-D94)/365 -> 0 | F94: =IF(E94<80," ","1") | P94: =IFERROR(VLOOKUP(O94,Références!$K$11:$N$19,2)," ") | Q94: =IFERROR(VLOOKUP(O94,Références!$K$11:$N$19,3)," ") | R94: =IFERROR(VLOOKUP(O94,Références!$K$11:$N$19,4)," ") | AI94: =SUM(AF94,AH94) -> 0 | AK94: =(AJ94-L94) -> 0 | AM94: =(AL94-L94) -> 0 | AP94: =IF(AO94=1,"ELECTIVE",IF(AO94=2,"URGENCY",IF(AO94=3,"EMERGENCY",IF(AO94=4,"SALVAGE"," ")))) | BA94: Y | BC94: =IF(BG94="Aucune",0,1) -> 0 | BD94: =IF(BH94="Aucune",0,1) -> 0 | BE94: =IF(AG94="Aucune",0,1) -> 1 | BF94: =IF(AO94=1,"ELECTIVE",IF(AO94=2,"URGENCY",IF(AO94=3,"EMERGENCY",IF(AO94=4,"SALVAGE","ALIVE")))) -> ALIVE | BG94: =IF(AD94="","Aucune","Infection") -> Aucune | BH94: =IF(AI94>0,"Transfusion","Aucune") -> Aucune | BI94: =IF(AG94="","Aucune","Transfusé") -> Aucune | BJ94: =IF(X94<>"",IF(X94-L94<2,"OUI","NON"),"NON") -> NON | BK94: =IF(AS94="","NON","OUI") -> NON | BL94: =IF(AL94-L94>0,AL94-L94,"Inconnu") -> Inconnu | BM94: =IF($O94<>"HTX",IF($O94<>"LVAD",BL94,"Inconnu"),"Inconnu") -> Inconnu | BN94: =IF($O94="HTX",BL94,IF($O94="LVAD",BL94,"Inconnu")) -> Inconnu | BO94: =IF(AJ94-L94>0,AJ94-L94,"Inconnu") -> Inconnu | BP94: =IF($O94<>"HTX",IF($O94<>"LVAD",BO94,"Inconnu"),"Inconnu") -> Inconnu | BQ94: =IF($O94="HTX",BO94,IF($O94="LVAD",BO94,"Inconnu")) -> Inconnu | BR94: =IF(BH94="Aucune",IF(BI94="Aucune","Aucune","Transfusé"),"Transfusé") -> Aucune | BS94: =AF94+AH94 -> 0 | BT94: =VLOOKUP($I94,Lieu_Activité!$A:$B,2,FALSE) -> #N/A | BU94: =IF(AB94="","Aucun","AVC") -> Aucun | BV94: =IF(AC94="","Aucun","IM") -> Aucun | BW94: =IF(M94="","NON","OUI") -> NON
A95: AVRIL | E95: =(L95-D95)/365 -> 0 | F95: =IF(E95<80," ","1") | P95: =IFERROR(VLOOKUP(O95,Références!$K$11:$N$19,2)," ") | Q95: =IFERROR(VLOOKUP(O95,Références!$K$11:$N$19,3)," ") | R95: =IFERROR(VLOOKUP(O95,Références!$K$11:$N$19,4)," ") | AI95: =SUM(AF95,AH95) -> 0 | AK95: =(AJ95-L95) -> 0 | AM95: =(AL95-L95) -> 0 | AP95: =IF(AO95=1,"ELECTIVE",IF(AO95=2,"URGENCY",IF(AO95=3,"EMERGENCY",IF(AO95=4,"SALVAGE"," ")))) | BC95: =IF(BG95="Aucune",0,1) -> 0 | BD95: =IF(BH95="Aucune",0,1) -> 0 | BE95: =IF(AG95="Aucune",0,1) -> 1 | BF95: =IF(AO95=1,"ELECTIVE",IF(AO95=2,"URGENCY",IF(AO95=3,"EMERGENCY",IF(AO95=4,"SALVAGE","ALIVE")))) -> ALIVE | BG95: =IF(AD95="","Aucune","Infection") -> Aucune | BH95: =IF(AI95>0,"Transfusion","Aucune") -> Aucune | BI95: =IF(AG95="","Aucune","Transfusé") -> Aucune | BJ95: =IF(X95<>"",IF(X95-L95<2,"OUI","NON"),"NON") -> NON | BK95: =IF(AS95="","NON","OUI") -> NON | BL95: =IF(AL95-L95>0,AL95-L95,"Inconnu") -> Inconnu | BM95: =IF($O95<>"HTX",IF($O95<>"LVAD",BL95,"Inconnu"),"Inconnu") -> Inconnu | BN95: =IF($O95="HTX",BL95,IF($O95="LVAD",BL95,"Inconnu")) -> Inconnu | BO95: =IF(AJ95-L95>0,AJ95-L95,"Inconnu") -> Inconnu | BP95: =IF($O95<>"HTX",IF($O95<>"LVAD",BO95,"Inconnu"),"Inconnu") -> Inconnu | BQ95: =IF($O95="HTX",BO95,IF($O95="LVAD",BO95,"Inconnu")) -> Inconnu | BR95: =IF(BH95="Aucune",IF(BI95="Aucune","Aucune","Transfusé"),"Transfusé") -> Aucune | BS95: =AF95+AH95 -> 0 | BT95: =VLOOKUP($I95,Lieu_Activité!$A:$B,2,FALSE) -> #N/A | BU95: =IF(AB95="","Aucun","AVC") -> Aucun | BV95: =IF(AC95="","Aucun","IM") -> Aucun | BW95: =IF(M95="","NON","OUI") -> NON
A96: AVRIL | E96: =(L96-D96)/365 -> 0 | F96: =IF(E96<80," ","1") | P96: =IFERROR(VLOOKUP(O96,Références!$K$11:$N$19,2)," ") | Q96: =IFERROR(VLOOKUP(O96,Références!$K$11:$N$19,3)," ") | R96: =IFERROR(VLOOKUP(O96,Références!$K$11:$N$19,4)," ") | AI96: =SUM(AF96,AH96) -> 0 | AK96: =(AJ96-L96) -> 0 | AM96: =(AL96-L96) -> 0 | AP96: =IF(AO96=1,"ELECTIVE",IF(AO96=2,"URGENCY",IF(AO96=3,"EMERGENCY",IF(AO96=4,"SALVAGE"," ")))) | BA96: Y | BC96: =IF(BG96="Aucune",0,1) -> 0 | BD96: =IF(BH96="Aucune",0,1) -> 0 | BE96: =IF(AG96="Aucune",0,1) -> 1 | BF96: =IF(AO96=1,"ELECTIVE",IF(AO96=2,"URGENCY",IF(AO96=3,"EMERGENCY",IF(AO96=4,"SALVAGE","ALIVE")))) -> ALIVE | BG96: =IF(AD96="","Aucune","Infection") -> Aucune | BH96: =IF(AI96>0,"Transfusion","Aucune") -> Aucune | BI96: =IF(AG96="","Aucune","Transfusé") -> Aucune | BJ96: =IF(X96<>"",IF(X96-L96<2,"OUI","NON"),"NON") -> NON | BK96: =IF(AS96="","NON","OUI") -> NON | BL96: =IF(AL96-L96>0,AL96-L96,"Inconnu") -> Inconnu | BM96: =IF($O96<>"HTX",IF($O96<>"LVAD",BL96,"Inconnu"),"Inconnu") -> Inconnu | BN96: =IF($O96="HTX",BL96,IF($O96="LVAD",BL96,"Inconnu")) -> Inconnu | BO96: =IF(AJ96-L96>0,AJ96-L96,"Inconnu") -> Inconnu | BP96: =IF($O96<>"HTX",IF($O96<>"LVAD",BO96,"Inconnu"),"Inconnu") -> Inconnu | BQ96: =IF($O96="HTX",BO96,IF($O96="LVAD",BO96,"Inconnu")) -> Inconnu | BR96: =IF(BH96="Aucune",IF(BI96="Aucune","Aucune","Transfusé"),"Transfusé") -> Aucune | BS96: =AF96+AH96 -> 0 | BT96: =VLOOKUP($I96,Lieu_Activité!$A:$B,2,FALSE) -> #N/A | BU96: =IF(AB96="","Aucun","AVC") -> Aucun | BV96: =IF(AC96="","Aucun","IM") -> Aucun | BW96: =IF(M96="","NON","OUI") -> NON
A97: AVRIL | E97: =(L97-D97)/365 -> 0 | F97: =IF(E97<80," ","1") | P97: =IFERROR(VLOOKUP(O97,Références!$K$11:$N$19,2)," ") | Q97: =IFERROR(VLOOKUP(O97,Références!$K$11:$N$19,3)," ") | R97: =IFERROR(VLOOKUP(O97,Références!$K$11:$N$19,4)," ") | AI97: =SUM(AF97,AH97) -> 0 | AK97: =(AJ97-L97) -> 0 | AM97: =(AL97-L97) -> 0 | AP97: =IF(AO97=1,"ELECTIVE",IF(AO97=2,"URGENCY",IF(AO97=3,"EMERGENCY",IF(AO97=4,"SALVAGE"," ")))) | BA97: Y | BC97: =IF(BG97="Aucune",0,1) -> 0 | BD97: =IF(BH97="Aucune",0,1) -> 0 | BE97: =IF(AG97="Aucune",0,1) -> 1 | BF97: =IF(AO97=1,"ELECTIVE",IF(AO97=2,"URGENCY",IF(AO97=3,"EMERGENCY",IF(AO97=4,"SALVAGE","ALIVE")))) -> ALIVE | BG97: =IF(AD97="","Aucune","Infection") -> Aucune | BH97: =IF(AI97>0,"Transfusion","Aucune") -> Aucune | BI97: =IF(AG97="","Aucune","Transfusé") -> Aucune | BJ97: =IF(X97<>"",IF(X97-L97<2,"OUI","NON"),"NON") -> NON | BK97: =IF(AS97="","NON","OUI") -> NON | BL97: =IF(AL97-L97>0,AL97-L97,"Inconnu") -> Inconnu | BM97: =IF($O97<>"HTX",IF($O97<>"LVAD",BL97,"Inconnu"),"Inconnu") -> Inconnu | BN97: =IF($O97="HTX",BL97,IF($O97="LVAD",BL97,"Inconnu")) -> Inconnu | BO97: =IF(AJ97-L97>0,AJ97-L97,"Inconnu") -> Inconnu | BP97: =IF($O97<>"HTX",IF($O97<>"LVAD",BO97,"Inconnu"),"Inconnu") -> Inconnu | BQ97: =IF($O97="HTX",BO97,IF($O97="LVAD",BO97,"Inconnu")) -> Inconnu | BR97: =IF(BH97="Aucune",IF(BI97="Aucune","Aucune","Transfusé"),"Transfusé") -> Aucune | BS97: =AF97+AH97 -> 0 | BT97: =VLOOKUP($I97,Lieu_Activité!$A:$B,2,FALSE) -> #N/A | BU97: =IF(AB97="","Aucun","AVC") -> Aucun | BV97: =IF(AC97="","Aucun","IM") -> Aucun | BW97: =IF(M97="","NON","OUI") -> NON
A98: AVRIL | E98: =(L98-D98)/365 -> 0 | F98: =IF(E98<80," ","1") | P98: =IFERROR(VLOOKUP(O98,Références!$K$11:$N$19,2)," ") | Q98: =IFERROR(VLOOKUP(O98,Références!$K$11:$N$19,3)," ") | R98: =IFERROR(VLOOKUP(O98,Références!$K$11:$N$19,4)," ") | AI98: =SUM(AF98,AH98) -> 0 | AK98: =(AJ98-L98) -> 0 | AM98: =(AL98-L98) -> 0 | AP98: =IF(AO98=1,"ELECTIVE",IF(AO98=2,"URGENCY",IF(AO98=3,"EMERGENCY",IF(AO98=4,"SALVAGE"," ")))) | BA98: Y | BC98: =IF(BG98="Aucune",0,1) -> 0 | BD98: =IF(BH98="Aucune",0,1) -> 0 | BE98: =IF(AG98="Aucune",0,1) -> 1 | BF98: =IF(AO98=1,"ELECTIVE",IF(AO98=2,"URGENCY",IF(AO98=3,"EMERGENCY",IF(AO98=4,"SALVAGE","ALIVE")))) -> ALIVE | BG98: =IF(AD98="","Aucune","Infection") -> Aucune | BH98: =IF(AI98>0,"Transfusion","Aucune") -> Aucune | BI98: =IF(AG98="","Aucune","Transfusé") -> Aucune | BJ98: =IF(X98<>"",IF(X98-L98<2,"OUI","NON"),"NON") -> NON | BK98: =IF(AS98="","NON","OUI") -> NON | BL98: =IF(AL98-L98>0,AL98-L98,"Inconnu") -> Inconnu | BM98: =IF($O98<>"HTX",IF($O98<>"LVAD",BL98,"Inconnu"),"Inconnu") -> Inconnu | BN98: =IF($O98="HTX",BL98,IF($O98="LVAD",BL98,"Inconnu")) -> Inconnu | BO98: =IF(AJ98-L98>0,AJ98-L98,"Inconnu") -> Inconnu | BP98: =IF($O98<>"HTX",IF($O98<>"LVAD",BO98,"Inconnu"),"Inconnu") -> Inconnu | BQ98: =IF($O98="HTX",BO98,IF($O98="LVAD",BO98,"Inconnu")) -> Inconnu | BR98: =IF(BH98="Aucune",IF(BI98="Aucune","Aucune","Transfusé"),"Transfusé") -> Aucune | BS98: =AF98+AH98 -> 0 | BT98: =VLOOKUP($I98,Lieu_Activité!$A:$B,2,FALSE) -> #N/A | BU98: =IF(AB98="","Aucun","AVC") -> Aucun | BV98: =IF(AC98="","Aucun","IM") -> Aucun | BW98: =IF(M98="","NON","OUI") -> NON
A99: AVRIL | E99: =(L99-D99)/365 -> 0 | F99: =IF(E99<80," ","1") | P99: =IFERROR(VLOOKUP(O99,Références!$K$11:$N$19,2)," ") | Q99: =IFERROR(VLOOKUP(O99,Références!$K$11:$N$19,3)," ") | R99: =IFERROR(VLOOKUP(O99,Références!$K$11:$N$19,4)," ") | AI99: =SUM(AF99,AH99) -> 0 | AK99: =(AJ99-L99) -> 0 | AM99: =(AL99-L99) -> 0 | AP99: =IF(AO99=1,"ELECTIVE",IF(AO99=2,"URGENCY",IF(AO99=3,"EMERGENCY",IF(AO99=4,"SALVAGE"," ")))) | BA99: Y | BC99: =IF(BG99="Aucune",0,1) -> 0 | BD99: =IF(BH99="Aucune",0,1) -> 0 | BE99: =IF(AG99="Aucune",0,1) -> 1 | BF99: =IF(AO99=1,"ELECTIVE",IF(AO99=2,"URGENCY",IF(AO99=3,"EMERGENCY",IF(AO99=4,"SALVAGE","ALIVE")))) -> ALIVE | BG99: =IF(AD99="","Aucune","Infection") -> Aucune | BH99: =IF(AI99>0,"Transfusion","Aucune") -> Aucune | BI99: =IF(AG99="","Aucune","Transfusé") -> Aucune | BJ99: =IF(X99<>"",IF(X99-L99<2,"OUI","NON"),"NON") -> NON | BK99: =IF(AS99="","NON","OUI") -> NON | BL99: =IF(AL99-L99>0,AL99-L99,"Inconnu") -> Inconnu | BM99: =IF($O99<>"HTX",IF($O99<>"LVAD",BL99,"Inconnu"),"Inconnu") -> Inconnu | BN99: =IF($O99="HTX",BL99,IF($O99="LVAD",BL99,"Inconnu")) -> Inconnu | BO99: =IF(AJ99-L99>0,AJ99-L99,"Inconnu") -> Inconnu | BP99: =IF($O99<>"HTX",IF($O99<>"LVAD",BO99,"Inconnu"),"Inconnu") -> Inconnu | BQ99: =IF($O99="HTX",BO99,IF($O99="LVAD",BO99,"Inconnu")) -> Inconnu | BR99: =IF(BH99="Aucune",IF(BI99="Aucune","Aucune","Transfusé"),"Transfusé") -> Aucune | BS99: =AF99+AH99 -> 0 | BT99: =VLOOKUP($I99,Lieu_Activité!$A:$B,2,FALSE) -> #N/A | BU99: =IF(AB99="","Aucun","AVC") -> Aucun | BV99: =IF(AC99="","Aucun","IM") -> Aucun | BW99: =IF(M99="","NON","OUI") -> NON
A100: AVRIL | E100: =(L100-D100)/365 -> 0 | F100: =IF(E100<80," ","1") | P100: =IFERROR(VLOOKUP(O100,Références!$K$11:$N$19,2)," ") | Q100: =IFERROR(VLOOKUP(O100,Références!$K$11:$N$19,3)," ") | R100: =IFERROR(VLOOKUP(O100,Références!$K$11:$N$19,4)," ") | AI100: =SUM(AF100,AH100) -> 0 | AK100: =(AJ100-L100) -> 0 | AM100: =(AL100-L100) -> 0 | AP100: =IF(AO100=1,"ELECTIVE",IF(AO100=2,"URGENCY",IF(AO100=3,"EMERGENCY",IF(AO100=4,"SALVAGE"," ")))) | BA100: Y | BC100: =IF(BG100="Aucune",0,1) -> 0 | BD100: =IF(BH100="Aucune",0,1) -> 0 | BE100: =IF(AG100="Aucune",0,1) -> 1 | BF100: =IF(AO100=1,"ELECTIVE",IF(AO100=2,"URGENCY",IF(AO100=3,"EMERGENCY",IF(AO100=4,"SALVAGE","ALIVE")))) -> ALIVE | BG100: =IF(AD100="","Aucune","Infection") -> Aucune | BH100: =IF(AI100>0,"Transfusion","Aucune") -> Aucune | BI100: =IF(AG100="","Aucune","Transfusé") -> Aucune | BJ100: =IF(X100<>"",IF(X100-L100<2,"OUI","NON"),"NON") -> NON | BK100: =IF(AS100="","NON","OUI") -> NON | BL100: =IF(AL100-L100>0,AL100-L100,"Inconnu") -> Inconnu | BM100: =IF($O100<>"HTX",IF($O100<>"LVAD",BL100,"Inconnu"),"Inconnu") -> Inconnu | BN100: =IF($O100="HTX",BL100,IF($O100="LVAD",BL100,"Inconnu")) -> Inconnu | BO100: =IF(AJ100-L100>0,AJ100-L100,"Inconnu") -> Inconnu | BP100: =IF($O100<>"HTX",IF($O100<>"LVAD",BO100,"Inconnu"),"Inconnu") -> Inconnu | BQ100: =IF($O100="HTX",BO100,IF($O100="LVAD",BO100,"Inconnu")) -> Inconnu | BR100: =IF(BH100="Aucune",IF(BI100="Aucune","Aucune","Transfusé"),"Transfusé") -> Aucune | BS100: =AF100+AH100 -> 0 | BT100: =VLOOKUP($I100,Lieu_Activité!$A:$B,2,FALSE) -> #N/A | BU100: =IF(AB100="","Aucun","AVC") -> Aucun | BV100: =IF(AC100="","Aucun","IM") -> Aucun | BW100: =IF(M100="","NON","OUI") -> NON
A101: AVRIL | E101: =(L101-D101)/365 -> 0 | F101: =IF(E101<80," ","1") | P101: =IFERROR(VLOOKUP(O101,Références!$K$11:$N$19,2)," ") | Q101: =IFERROR(VLOOKUP(O101,Références!$K$11:$N$19,3)," ") | R101: =IFERROR(VLOOKUP(O101,Références!$K$11:$N$19,4)," ") | AI101: =SUM(AF101,AH101) -> 0 | AK101: =(AJ101-L101) -> 0 | AM101: =(AL101-L101) -> 0 | AP101: =IF(AO101=1,"ELECTIVE",IF(AO101=2,"URGENCY",IF(AO101=3,"EMERGENCY",IF(AO101=4,"SALVAGE"," ")))) | BA101: Y | BC101: =IF(BG101="Aucune",0,1) -> 0 | BD101: =IF(BH101="Aucune",0,1) -> 0 | BE101: =IF(AG101="Aucune",0,1) -> 1 | BF101: =IF(AO101=1,"ELECTIVE",IF(AO101=2,"URGENCY",IF(AO101=3,"EMERGENCY",IF(AO101=4,"SALVAGE","ALIVE")))) -> ALIVE | BG101: =IF(AD101="","Aucune","Infection") -> Aucune | BH101: =IF(AI101>0,"Transfusion","Aucune") -> Aucune | BI101: =IF(AG101="","Aucune","Transfusé") -> Aucune | BJ101: =IF(X101<>"",IF(X101-L101<2,"OUI","NON"),"NON") -> NON | BK101: =IF(AS101="","NON","OUI") -> NON | BL101: =IF(AL101-L101>0,AL101-L101,"Inconnu") -> Inconnu | BM101: =IF($O101<>"HTX",IF($O101<>"LVAD",BL101,"Inconnu"),"Inconnu") -> Inconnu | BN101: =IF($O101="HTX",BL101,IF($O101="LVAD",BL101,"Inconnu")) -> Inconnu | BO101: =IF(AJ101-L101>0,AJ101-L101,"Inconnu") -> Inconnu | BP101: =IF($O101<>"HTX",IF($O101<>"LVAD",BO101,"Inconnu"),"Inconnu") -> Inconnu | BQ101: =IF($O101="HTX",BO101,IF($O101="LVAD",BO101,"Inconnu")) -> Inconnu | BR101: =IF(BH101="Aucune",IF(BI101="Aucune","Aucune","Transfusé"),"Transfusé") -> Aucune | BS101: =AF101+AH101 -> 0 | BT101: =VLOOKUP($I101,Lieu_Activité!$A:$B,2,FALSE) -> #N/A | BU101: =IF(AB101="","Aucun","AVC") -> Aucun | BV101: =IF(AC101="","Aucun","IM") -> Aucun | BW101: =IF(M101="","NON","OUI") -> NON
A102: AVRIL | E102: =(L102-D102)/365 -> 0 | F102: =IF(E102<80," ","1") | P102: =IFERROR(VLOOKUP(O102,Références!$K$11:$N$19,2)," ") | Q102: =IFERROR(VLOOKUP(O102,Références!$K$11:$N$19,3)," ") | R102: =IFERROR(VLOOKUP(O102,Références!$K$11:$N$19,4)," ") | AI102: =SUM(AF102,AH102) -> 0 | AK102: =(AJ102-L102) -> 0 | AM102: =(AL102-L102) -> 0 | AP102: =IF(AO102=1,"ELECTIVE",IF(AO102=2,"URGENCY",IF(AO102=3,"EMERGENCY",IF(AO102=4,"SALVAGE"," ")))) | BA102: Y | BC102: =IF(BG102="Aucune",0,1) -> 0 | BD102: =IF(BH102="Aucune",0,1) -> 0 | BE102: =IF(AG102="Aucune",0,1) -> 1 | BF102: =IF(AO102=1,"ELECTIVE",IF(AO102=2,"URGENCY",IF(AO102=3,"EMERGENCY",IF(AO102=4,"SALVAGE","ALIVE")))) -> ALIVE | BG102: =IF(AD102="","Aucune","Infection") -> Aucune | BH102: =IF(AI102>0,"Transfusion","Aucune") -> Aucune | BI102: =IF(AG102="","Aucune","Transfusé") -> Aucune | BJ102: =IF(X102<>"",IF(X102-L102<2,"OUI","NON"),"NON") -> NON | BK102: =IF(AS102="","NON","OUI") -> NON | BL102: =IF(AL102-L102>0,AL102-L102,"Inconnu") -> Inconnu | BM102: =IF($O102<>"HTX",IF($O102<>"LVAD",BL102,"Inconnu"),"Inconnu") -> Inconnu | BN102: =IF($O102="HTX",BL102,IF($O102="LVAD",BL102,"Inconnu")) -> Inconnu | BO102: =IF(AJ102-L102>0,AJ102-L102,"Inconnu") -> Inconnu | BP102: =IF($O102<>"HTX",IF($O102<>"LVAD",BO102,"Inconnu"),"Inconnu") -> Inconnu | BQ102: =IF($O102="HTX",BO102,IF($O102="LVAD",BO102,"Inconnu")) -> Inconnu | BR102: =IF(BH102="Aucune",IF(BI102="Aucune","Aucune","Transfusé"),"Transfusé") -> Aucune | BS102: =AF102+AH102 -> 0 | BT102: =VLOOKUP($I102,Lieu_Activité!$A:$B,2,FALSE) -> #N/A | BU102: =IF(AB102="","Aucun","AVC") -> Aucun | BV102: =IF(AC102="","Aucun","IM") -> Aucun | BW102: =IF(M102="","NON","OUI") -> NON
A103: AVRIL | E103: =(L103-D103)/365 -> 0 | F103: =IF(E103<80," ","1") | P103: =IFERROR(VLOOKUP(O103,Références!$K$11:$N$19,2)," ") | Q103: =IFERROR(VLOOKUP(O103,Références!$K$11:$N$19,3)," ") | R103: =IFERROR(VLOOKUP(O103,Références!$K$11:$N$19,4)," ") | AI103: =SUM(AF103,AH103) -> 0 | AK103: =(AJ103-L103) -> 0 | AM103: =(AL103-L103) -> 0 | AP103: =IF(AO103=1,"ELECTIVE",IF(AO103=2,"URGENCY",IF(AO103=3,"EMERGENCY",IF(AO103=4,"SALVAGE"," ")))) | BA103: Y | BC103: =IF(BG103="Aucune",0,1) -> 0 | BD103: =IF(BH103="Aucune",0,1) -> 0 | BE103: =IF(AG103="Aucune",0,1) -> 1 | BF103: =IF(AO103=1,"ELECTIVE",IF(AO103=2,"URGENCY",IF(AO103=3,"EMERGENCY",IF(AO103=4,"SALVAGE","ALIVE")))) -> ALIVE | BG103: =IF(AD103="","Aucune","Infection") -> Aucune | BH103: =IF(AI103>0,"Transfusion","Aucune") -> Aucune | BI103: =IF(AG103="","Aucune","Transfusé") -> Aucune | BJ103: =IF(X103<>"",IF(X103-L103<2,"OUI","NON"),"NON") -> NON | BK103: =IF(AS103="","NON","OUI") -> NON | BL103: =IF(AL103-L103>0,AL103-L103,"Inconnu") -> Inconnu | BM103: =IF($O103<>"HTX",IF($O103<>"LVAD",BL103,"Inconnu"),"Inconnu") -> Inconnu | BN103: =IF($O103="HTX",BL103,IF($O103="LVAD",BL103,"Inconnu")) -> Inconnu | BO103: =IF(AJ103-L103>0,AJ103-L103,"Inconnu") -> Inconnu | BP103: =IF($O103<>"HTX",IF($O103<>"LVAD",BO103,"Inconnu"),"Inconnu") -> Inconnu | BQ103: =IF($O103="HTX",BO103,IF($O103="LVAD",BO103,"Inconnu")) -> Inconnu | BR103: =IF(BH103="Aucune",IF(BI103="Aucune","Aucune","Transfusé"),"Transfusé") -> Aucune | BS103: =AF103+AH103 -> 0 | BT103: =VLOOKUP($I103,Lieu_Activité!$A:$B,2,FALSE) -> #N/A | BU103: =IF(AB103="","Aucun","AVC") -> Aucun | BV103: =IF(AC103="","Aucun","IM") -> Aucun | BW103: =IF(M103="","NON","OUI") -> NON
A104: AVRIL | E104: =(L104-D104)/365 -> 0 | F104: =IF(E104<80," ","1") | P104: =IFERROR(VLOOKUP(O104,Références!$K$11:$N$19,2)," ") | Q104: =IFERROR(VLOOKUP(O104,Références!$K$11:$N$19,3)," ") | R104: =IFERROR(VLOOKUP(O104,Références!$K$11:$N$19,4)," ") | AI104: =SUM(AF104,AH104) -> 0 | AK104: =(AJ104-L104) -> 0 | AM104: =(AL104-L104) -> 0 | AP104: =IF(AO104=1,"ELECTIVE",IF(AO104=2,"URGENCY",IF(AO104=3,"EMERGENCY",IF(AO104=4,"SALVAGE"," ")))) | BA104: Y | BC104: =IF(BG104="Aucune",0,1) -> 0 | BD104: =IF(BH104="Aucune",0,1) -> 0 | BE104: =IF(AG104="Aucune",0,1) -> 1 | BF104: =IF(AO104=1,"ELECTIVE",IF(AO104=2,"URGENCY",IF(AO104=3,"EMERGENCY",IF(AO104=4,"SALVAGE","ALIVE")))) -> ALIVE | BG104: =IF(AD104="","Aucune","Infection") -> Aucune | BH104: =IF(AI104>0,"Transfusion","Aucune") -> Aucune | BI104: =IF(AG104="","Aucune","Transfusé") -> Aucune | BJ104: =IF(X104<>"",IF(X104-L104<2,"OUI","NON"),"NON") -> NON | BK104: =IF(AS104="","NON","OUI") -> NON | BL104: =IF(AL104-L104>0,AL104-L104,"Inconnu") -> Inconnu | BM104: =IF($O104<>"HTX",IF($O104<>"LVAD",BL104,"Inconnu"),"Inconnu") -> Inconnu | BN104: =IF($O104="HTX",BL104,IF($O104="LVAD",BL104,"Inconnu")) -> Inconnu | BO104: =IF(AJ104-L104>0,AJ104-L104,"Inconnu") -> Inconnu | BP104: =IF($O104<>"HTX",IF($O104<>"LVAD",BO104,"Inconnu"),"Inconnu") -> Inconnu | BQ104: =IF($O104="HTX",BO104,IF($O104="LVAD",BO104,"Inconnu")) -> Inconnu | BR104: =IF(BH104="Aucune",IF(BI104="Aucune","Aucune","Transfusé"),"Transfusé") -> Aucune | BS104: =AF104+AH104 -> 0 | BT104: =VLOOKUP($I104,Lieu_Activité!$A:$B,2,FALSE) -> #N/A | BU104: =IF(AB104="","Aucun","AVC") -> Aucun | BV104: =IF(AC104="","Aucun","IM") -> Aucun | BW104: =IF(M104="","NON","OUI") -> NON
A105: AVRIL | E105: =(L105-D105)/365 -> 0 | F105: =IF(E105<80," ","1") | P105: =IFERROR(VLOOKUP(O105,Références!$K$11:$N$19,2)," ") | Q105: =IFERROR(VLOOKUP(O105,Références!$K$11:$N$19,3)," ") | R105: =IFERROR(VLOOKUP(O105,Références!$K$11:$N$19,4)," ") | AI105: =SUM(AF105,AH105) -> 0 | AK105: =(AJ105-L105) -> 0 | AM105: =(AL105-L105) -> 0 | AP105: =IF(AO105=1,"ELECTIVE",IF(AO105=2,"URGENCY",IF(AO105=3,"EMERGENCY",IF(AO105=4,"SALVAGE"," ")))) | BA105: Y | BC105: =IF(BG105="Aucune",0,1) -> 0 | BD105: =IF(BH105="Aucune",0,1) -> 0 | BE105: =IF(AG105="Aucune",0,1) -> 1 | BF105: =IF(AO105=1,"ELECTIVE",IF(AO105=2,"URGENCY",IF(AO105=3,"EMERGENCY",IF(AO105=4,"SALVAGE","ALIVE")))) -> ALIVE | BG105: =IF(AD105="","Aucune","Infection") -> Aucune | BH105: =IF(AI105>0,"Transfusion","Aucune") -> Aucune | BI105: =IF(AG105="","Aucune","Transfusé") -> Aucune | BJ105: =IF(X105<>"",IF(X105-L105<2,"OUI","NON"),"NON") -> NON | BK105: =IF(AS105="","NON","OUI") -> NON | BL105: =IF(AL105-L105>0,AL105-L105,"Inconnu") -> Inconnu | BM105: =IF($O105<>"HTX",IF($O105<>"LVAD",BL105,"Inconnu"),"Inconnu") -> Inconnu | BN105: =IF($O105="HTX",BL105,IF($O105="LVAD",BL105,"Inconnu")) -> Inconnu | BO105: =IF(AJ105-L105>0,AJ105-L105,"Inconnu") -> Inconnu | BP105: =IF($O105<>"HTX",IF($O105<>"LVAD",BO105,"Inconnu"),"Inconnu") -> Inconnu | BQ105: =IF($O105="HTX",BO105,IF($O105="LVAD",BO105,"Inconnu")) -> Inconnu | BR105: =IF(BH105="Aucune",IF(BI105="Aucune","Aucune","Transfusé"),"Transfusé") -> Aucune | BS105: =AF105+AH105 -> 0 | BT105: =VLOOKUP($I105,Lieu_Activité!$A:$B,2,FALSE) -> #N/A | BU105: =IF(AB105="","Aucun","AVC") -> Aucun | BV105: =IF(AC105="","Aucun","IM") -> Aucun | BW105: =IF(M105="","NON","OUI") -> NON
...

Sheet TAVI
A1: Nom | B1: Référence | C1: D/opératoire | D1: Intervention

Sheet PM-AICD
A1: Nom | B1: Référence | C1: Référent | D1: Chirurgien | E1: D/opératoire | F1: Intervention | G1: Décès | H1: Contrôle

Sheet Divers
A1: Nom | B1: Référence | C1: Chirurgien | D1: D/opératoire | E1: Intervention | F1: Décès

Sheet  mensuel
A1: Service de Chirurgie Cardiaque -Hôpital ERASME
A2: Rapport d'activité mensuel
A3: 2017
A7: 42736 | D7: Nbre | E7: %
A8: Nbre Interventions | D8: =COUNTIFS('Données '!$A:$A,"JANVIER") -> 27
A9: Nbre de patients de 80 ans et + | D9: =COUNTIFS('Données '!$A:$A,"JANVIER",'Données '!$F:$F,1) -> 0
A10: Nbre de patients opérés discutés en HT | D10: =COUNTIFS('Données '!$A:$A,"JANVIER",'Données '!$BW:$BW,"OUI") -> 0 | E10: =D10/D8 -> 0
A11: Nbre CABG | D11: =COUNTIFS('Données '!$A:$A,"JANVIER",'Données '!$O:$O,"CABG") -> 0 | E11: =D11/D8 -> 0
A12: Nbre Valves/type | D12: =SUM($D$13:$D$18) -> 0 | E12: =D12/D8 -> 0
C13: AVR | D13: =COUNTIFS('Données '!$A:$A,"JANVIER",'Données '!$R:$R,"AVR") -> 0 | E13: =IFERROR(D13/#REF!,"")
C14: TVR | D14: =COUNTIFS('Données '!$A:$A,"JANVIER",'Données '!$R:$R,"TVR") -> 0 | E14: =IFERROR(D14/#REF!,"")
C15: TVP | D15: =COUNTIFS('Données '!$A:$A,"JANVIER",'Données '!$R:$R,"TVP") -> 0 | E15: =IFERROR(D15/#REF!,"")
C16: MVR | D16: =COUNTIFS('Données '!$A:$A,"JANVIER",'Données '!$R:$R,"MVR") -> 0 | E16: =IFERROR(D16/#REF!,"")
C17: MVP | D17: =COUNTIFS('Données '!$A:$A,"JANVIER",'Données '!$R:$R,"MVP") -> 0 | E17: =IFERROR(D17/#REF!,"")
C18: 2 V ou + | D18: =COUNTIFS('Données '!$A:$A,"JANVIER",'Données '!$R:$R,"2 V ou plus") -> 0 | E18: =IFERROR(D18/#REF!,"")
A19: Nbre CABG+Valves | D19: =COUNTIFS('Données '!$A:$A,"JANVIER",'Données '!$Q:$Q,"CABG + V") -> 0 | E19: =D19/D8 -> 0
A20: Nbre "Autres" | D20: =COUNTIFS('Données '!$A:$A,"JANVIER",'Données '!$O:$O,"Autre") -> 0 | E20: =D20/D8 -> 0
A21: Nbre Aorte | D21: =COUNTIFS('Données '!$A:$A,"JANVIER",'Données '!$O:$O,"Aorte") -> 0 | E21: =D21/D8 -> 0
A22: Nbre LVAD-HTX | D22: =SUM($D$23:$D$24) -> 0 | E22: =D22/D8 -> 0
C23: LVAD | D23: =COUNTIFS('Données '!$A:$A,"JANVIER",'Données '!$O:$O,"LVAD") -> 0 | E23: =D23/D8 -> 0
C24: HTX | D24: =COUNTIFS('Données '!$A:$A,"JANVIER",'Données '!$O:$O,"HTX") -> 0 | E24: =D24/D8 -> 0
A25: Nbre Reprise <24h | D25: =COUNTIFS('Données '!$A:$A,"JANVIER",'Données '!$Y:$Y,1) -> 27 | E25: =D25/D8 -> 1
A26: Nbre Décès | D26: =COUNTIFS('Données '!$A:$A,"JANVIER",'Données '!$AN:$AN,"DECEASED") -> 0 | E26: =D26/D8 -> 0
A27: Moyenne jours d'USI (hors LVAD et TX) | D27: 4.6
A28: Moyenne jours d'hospit (hors LVAD et TX) | D28: 17.3
A29: Nbre Patients infectés (hors LVAD et TX ) | D29: =COUNTIFS('Données '!$A:$A,"JANVIER",'Données '!$AD:$AD,1,'Données '!$O:$O,"<>LVAD",'Données '!$O:$O,"<>HTX") -> 0 | E29: =D29/26 -> 0
A30: Nbre Patients transfusés (hors LVAD et TX) | D30: =COUNTIFS('Données '!$A:$A,"JANVIER",'Données '!$AI:$AI,"<>0",'Données '!$O:$O,"<>LVAD",'Données '!$O:$O,"<>HTX") -> 13 | E30: =D30/26 -> 0.5
A31: Moyenne de transfusions / patient tr, (hors LVAD et TX) | D31: 6.5
A36: 42767 | D36: Nbre | E36: %
A37: Nbre Interventions | D37: =COUNTIFS('Données '!$A:$A,"FEVRIER") -> 29
A38: Nbre de patients de 80 ans et + | D38: =COUNTIFS('Données '!$A:$A,"FEVRIER",'Données '!$F:$F,1) -> 0
A39: Nbre de patients opérés discutés en HT | D39: =COUNTIFS('Données '!$A:$A,"FEVRIER",'Données '!$BW:$BW,"OUI") -> 0 | E39: =D39/D37 -> 0
A40: Nbre CABG | D40: =COUNTIFS('Données '!$A:$A,"FEVRIER",'Données '!$O:$O,"CABG") -> 0 | E40: =D40/D37 -> 0
A41: Nbre Valves/type | D41: =SUM($D$42:$D$47) -> 0 | E41: =D41/D37 -> 0
C42: AVR | D42: =COUNTIFS('Données '!$A:$A,"FEVRIER",'Données '!$R:$R,"AVR") -> 0 | E42: =IFERROR(D42/#REF!,"")
C43: TVR | D43: =COUNTIFS('Données '!$A:$A,"FEVRIER",'Données '!$R:$R,"TVR") -> 0 | E43: =IFERROR(D43/#REF!,"")
C44: TVP | D44: =COUNTIFS('Données '!$A:$A,"FEVRIER",'Données '!$R:$R,"TVP") -> 0 | E44: =IFERROR(D44/#REF!,"")
C45: MVR | D45: =COUNTIFS('Données '!$A:$A,"FEVRIER",'Données '!$R:$R,"MVR") -> 0 | E45: =IFERROR(D45/#REF!,"")
C46: MVP | D46: =COUNTIFS('Données '!$A:$A,"FEVRIER",'Données '!$R:$R,"MVP") -> 0 | E46: =IFERROR(D46/#REF!,"")
C47: 2 V ou + | D47: =COUNTIFS('Données '!$A:$A,"FEVRIER",'Données '!$R:$R,"2 V ou plus") -> 0 | E47: =IFERROR(D47/#REF!,"")
A48: Nbre CABG+Valves | D48: =COUNTIFS('Données '!$A:$A,"FEVRIER",'Données '!$Q:$Q,"CABG + V") -> 0 | E48: =D48/D37 -> 0
A49: Nbre "Autres" | D49: =COUNTIFS('Données '!$A:$A,"FEVRIER",'Données '!$O:$O,"Autre") -> 0 | E49: =D49/D37 -> 0
A50: Nbre Aorte | D50: =COUNTIFS('Données '!$A:$A,"FEVRIER",'Données '!$O:$O,"Aorte") -> 0 | E50: =D50/D37 -> 0
A51: Nbre LVAD-HTX | D51: =SUM($D$52:$D$53) -> 0 | E51: =D51/D37 -> 0
C52: LVAD | D52: =COUNTIFS('Données '!$A:$A,"FEVRIER",'Données '!$O:$O,"LVAD") -> 0 | E52: =D52/D37 -> 0
C53: HTX | D53: =COUNTIFS('Données '!$A:$A,"FEVRIER",'Données '!$O:$O,"HTX") -> 0 | E53: =D53/D37 -> 0
A54: Nbre Reprise <24h | D54: =COUNTIFS('Données '!$A:$A,"FEVRIER",'Données '!$Y:$Y,1) -> 17 | E54: =D54/D37 -> 0.5862069
A55: Nbre Décès | D55: =COUNTIFS('Données '!$A:$A,"FEVRIER",'Données '!$AN:$AN,"DECEASED") -> 0 | E55: =D55/D37 -> 0
A56: Moyenne jours d'USI (hors LVAD et TX) | D56: 2.6
A57: Moyenne jours d'hospit (hors LVAD et TX) | D57: 9.4
A58: Nbre Patients infectés (hors LVAD et TX ) | D58: =COUNTIFS('Données '!$A:$A,"FEVRIER",'Données '!$AD:$AD,1,'Données '!$O:$O,"<>LVAD",'Données '!$O:$O,"<>HTX") -> 0 | E58: =D58/27 -> 0
A59: Nbre Patients transfusés (hors LVAD et TX) | D59: =COUNTIFS('Données '!$A:$A,"FEVRIER",'Données '!$AI:$AI,"<>0",'Données '!$O:$O,"<>LVAD",'Données '!$O:$O,"<>HTX") -> 0 | E59: =D59/27 -> 0
A60: Moyenne de transfusions / patient tr, (hors LVAD et TX) | D60: 6.8
A65: 42795 | D65: Nbre | E65: %
A66: Nbre Interventions | D66: =COUNTIFS('Données '!$A:$A,"MARS") -> 30
A67: Nbre de patients de 80 ans et + | D67: =COUNTIFS('Données '!$A:$A,"MARS",'Données '!$F:$F,1) -> 0 | E67: =D67/D66 -> 0
A68: Nbre de patients opérés discutés en HT | D68: =COUNTIFS('Données '!$A:$A,"MARS",'Données '!$BW:$BW,"OUI") -> 0 | E68: =D68/D66 -> 0
A69: Nbre CABG | D69: =COUNTIFS('Données '!$A:$A,"MARS",'Données '!$O:$O,"CABG") -> 0 | E69: =D69/D66 -> 0
A70: Nbre Valves/type | D70: =SUM($D$71:$D$76) -> 0 | E70: =D70/D66 -> 0
C71: AVR | D71: =COUNTIFS('Données '!$A:$A,"MARS",'Données '!$R:$R,"AVR") -> 0 | E71: =IFERROR(D71/#REF!,"")
C72: TVR | D72: =COUNTIFS('Données '!$A:$A,"MARS",'Données '!$R:$R,"TVR") -> 0 | E72: =IFERROR(D72/#REF!,"")
C73: TVP | D73: =COUNTIFS('Données '!$A:$A,"MARS",'Données '!$R:$R,"TVP") -> 0 | E73: =IFERROR(D73/#REF!,"")
C74: MVR | D74: =COUNTIFS('Données '!$A:$A,"MARS",'Données '!$R:$R,"MVR") -> 0 | E74: =IFERROR(D74/#REF!,"")
C75: MVP | D75: =COUNTIFS('Données '!$A:$A,"MARS",'Données '!$R:$R,"MVP") -> 0 | E75: =IFERROR(D75/#REF!,"")
C76: 2 V ou + | D76: =COUNTIFS('Données '!$A:$A,"MARS",'Données '!$R:$R,"2 V ou plus") -> 0 | E76: =IFERROR(D76/#REF!,"")
A77: Nbre CABG+Valves | D77: =COUNTIFS('Données '!$A:$A,"MARS",'Données '!$Q:$Q,"CABG + V") -> 0 | E77: =D77/D66 -> 0
A78: Nbre "Autres" | D78: =COUNTIFS('Données '!$A:$A,"MARS",'Données '!$O:$O,"Autre") -> 0 | E78: =D78/D66 -> 0
A79: Nbre Aorte | D79: =COUNTIFS('Données '!$A:$A,"MARS",'Données '!$O:$O,"Aorte") -> 0 | E79: =D79/D66 -> 0
A80: Nbre LVAD-HTX | D80: =SUM($D$52:$D$53) -> 0 | E80: =D80/D66 -> 0
C81: LVAD | D81: =COUNTIFS('Données '!$A:$A,"MARS",'Données '!$O:$O,"LVAD") -> 0 | E81: =D81/D66 -> 0
C82: HTX | D82: =COUNTIFS('Données '!$A:$A,"MARS",'Données '!$O:$O,"HTX") -> 0 | E82: =D82/D66 -> 0
A83: Nbre Reprise <24h | D83: =COUNTIFS('Données '!$A:$A,"MARS",'Données '!$Y:$Y,1) -> 0 | E83: =D83/D66 -> 0
A84: Nbre Décès | D84: =COUNTIFS('Données '!$A:$A,"MARS",'Données '!$AN:$AN,"DECEASED") -> 0 | E84: =D84/D66 -> 0
A85: Moyenne jours d'USI (hors LVAD et TX) | D85: 4.6
A86: Moyenne jours d'hospit (hors LVAD et TX) | D86: 12.5
A87: Nbre Patients infectés (hors LVAD et TX ) | D87: =COUNTIFS('Données '!$A:$A,"MARS",'Données '!$AD:$AD,1,'Données '!$O:$O,"<>LVAD",'Données '!$O:$O,"<>HTX") -> 0 | E87: =D87/28 -> 0
A88: Nbre Patients transfusés (hors LVAD et TX) | D88: =COUNTIFS('Données '!$A:$A,"MARS",'Données '!$AI:$AI,"<>0",'Données '!$O:$O,"<>LVAD",'Données '!$O:$O,"<>HTX") -> 0 | E88: =D88/28 -> 0
A89: Moyenne de transfusions / patient tr, (hors LVAD et TX) | D89: 5.7
A94: 42826 | D94: Nbre | E94: %
A95: Nbre Interventions | D95: =COUNTIFS('Données '!$A:$A,"AVRIL") -> 29
A96: Nbre de patients de 80 ans et + | D96: =COUNTIFS('Données '!$A:$A,"AVRIL",'Données '!$F:$F,1) -> 0 | E96: =D96/29 -> 0
A97: Nbre de patients opérés discutés en HT | D97: =COUNTIFS('Données '!$A:$A,"AVRIL",'Données '!$BW:$BW,"OUI") -> 0 | E97: =D97/D95 -> 0
A98: Nbre CABG | D98: =COUNTIFS('Données '!$A:$A,"AVRIL",'Données '!$O:$O,"CABG") -> 0 | E98: =D98/D95 -> 0
A99: Nbre Valves/type | D99: =SUM(D100:D105) -> 0 | E99: =D99/D95 -> 0
C100: AVR | D100: =COUNTIFS('Données '!$A:$A,"AVRIL",'Données '!$R:$R,"AVR") -> 0 | E100: =D100/D99 -> #DIV/0!
C101: TVR | D101: =COUNTIFS('Données '!$A:$A,"AVRIL",'Données '!$R:$R,"TVR") -> 0 | E101: =IFERROR(D101/#REF!,"")
C102: TVP | D102: =COUNTIFS('Données '!$A:$A,"AVRIL",'Données '!$R:$R,"TVP") -> 0 | E102: =IFERROR(D102/#REF!,"")
C103: MVR | D103: =COUNTIFS('Données '!$A:$A,"AVRIL",'Données '!$R:$R,"MVR") -> 0 | E103: =IFERROR(D103/#REF!,"")
C104: MVP | D104: =COUNTIFS('Données '!$A:$A,"AVRIL",'Données '!$R:$R,"MVP") -> 0 | E104: =D104/D99 -> #DIV/0!
C105: 2 V ou + | D105: =COUNTIFS('Données '!$A:$A,"AVRIL",'Données '!$R:$R,"2 V ou plus") -> 0 | E105: =IFERROR(D105/#REF!,"")
A106: Nbre CABG+Valves | D106: =COUNTIFS('Données '!$A:$A,"AVRIL",'Données '!$Q:$Q,"CABG + V") -> 0 | E106: =D106/D95 -> 0
A107: Nbre "Autres" | D107: =COUNTIFS('Données '!$A:$A,"AVRIL",'Données '!$O:$O,"Autre") -> 0 | E107: =D107/D95 -> 0
A108: Nbre Aorte | D108: =COUNTIFS('Données '!$A:$A,"AVRIL",'Données '!$O:$O,"Aorte") -> 0 | E108: =D108/D95 -> 0
A109: Nbre LVAD-HTX | D109: =SUM($D$110:$D$111) -> 0 | E109: =D109/D95 -> 0
C110: LVAD | D110: =COUNTIFS('Données '!$A:$A,"AVRIL",'Données '!$O:$O,"LVAD") -> 0 | E110: =D110/D95 -> 0
C111: HTX | D111: =COUNTIFS('Données '!$A:$A,"AVRIL",'Données '!$O:$O,"HTX") -> 0 | E111: =D111/D95 -> 0
A112: Nbre Reprise <24h | D112: =COUNTIFS('Données '!$A:$A,"AVRIL",'Données '!$Y:$Y,1) -> 0 | E112: =D112/D95 -> 0
A113: Nbre Décès | D113: =COUNTIFS('Données '!$A:$A,"AVRIL",'Données '!$AN:$AN,"DECEASED") -> 0 | E113: =D113/D95 -> 0
A114: Moyenne jours d'USI (hors LVAD et TX) | D114: 3.1
A115: Moyenne jours d'hospit (hors LVAD et TX) | D115: 11
...

Sheet annuel
A1: Service de Chirurgie Cardiaque -Hôpital ERASME
A2: Rapport d'activité annuel
A3: 2017
A7: Janvier - Février 2017 | D7: Nbre | E7: %
A8: Nbre Interventions | D8: =COUNTIFS('Données '!$A:$A,"JANVIER")+COUNTIFS('Données '!$A:$A,"FEVRIER") -> 56
A9: Nbre Patients | D9: 56
A10: Nbre de patients opérés discutés en HT | D10: =COUNTIFS('Données '!$A:$A,"JANVIER",'Données '!$BW:$BW,"OUI")+COUNTIFS('Données '!$A:$A,"FEVRIER",'Données '!$BW:$BW,"OUI") -> 0 | E10: =D10/D9 -> 0
A11: Nbre Patients 80 ans et + | D11: =COUNTIFS('Données '!$A:$A,"JANVIER",'Données '!$F:$F,1)+COUNTIFS('Données '!$A:$A,"FEVRIER",'Données '!$F:$F,1) -> 0 | E11: =D11/D9 -> 0
A12: Nbre CABG | D12: =COUNTIFS('Données '!$A:$A,"JANVIER",'Données '!$O:$O,"CABG")+COUNTIFS('Données '!$A:$A,"FEVRIER",'Données '!$O:$O,"CABG") -> 0 | E12: =D12/D8 -> 0
A13: Nbre Valves/type | D13: =SUM(D14:D19) -> 0 | E13: =D13/D8 -> 0
C14: AVR | D14: =COUNTIFS('Données '!$A:$A,"JANVIER",'Données '!$R:$R,"AVR")+COUNTIFS('Données '!$A:$A,"FEVRIER",'Données '!$R:$R,"AVR") -> 0 | E14: =IFERROR(D14/D13,"")
C15: TVR | D15: =COUNTIFS('Données '!$A:$A,"JANVIER",'Données '!$R:$R,"TVR")+COUNTIFS('Données '!$A:$A,"FEVRIER",'Données '!$R:$R,"TVR") -> 0 | E15: =IFERROR(D15/D13,"")
C16: TVP | D16: =COUNTIFS('Données '!$A:$A,"JANVIER",'Données '!$R:$R,"TVP")+COUNTIFS('Données '!$A:$A,"FEVRIER",'Données '!$R:$R,"TVP") -> 0 | E16: =IFERROR(D16/D13,"")
C17: MVR | D17: =COUNTIFS('Données '!$A:$A,"JANVIER",'Données '!$R:$R,"MVR")+COUNTIFS('Données '!$A:$A,"FEVRIER",'Données '!$R:$R,"MVR") -> 0 | E17: =IFERROR(D17/D13,"")
C18: MVP | D18: =COUNTIFS('Données '!$A:$A,"JANVIER",'Données '!$R:$R,"MVP")+COUNTIFS('Données '!$A:$A,"FEVRIER",'Données '!$R:$R,"MVP") -> 0 | E18: =IFERROR(D18/D13,"")
C19: 2 V ou + | D19: =COUNTIFS('Données '!$A:$A,"JANVIER",'Données '!$R:$R,"2 V ou plus")+COUNTIFS('Données '!$A:$A,"FEVRIER",'Données '!$R:$R,"2 V ou plus") -> 0 | E19: =IFERROR(D19/D13,"")
A20: Nbre CABG+Valves | D20: =COUNTIFS('Données '!$A:$A,"JANVIER",'Données '!$O:$O,"CABG +*")+COUNTIFS('Données '!$A:$A,"FEVRIER",'Données '!$O:$O,"CABG +*") -> 0 | E20: =D20/D8 -> 0
A21: Nbre Aorte | D21: =COUNTIFS('Données '!$A:$A,"JANVIER",'Données '!$O:$O,"Aorte")+COUNTIFS('Données '!$A:$A,"FEVRIER",'Données '!$O:$O,"Aorte") -> 0 | E21: =D21/D8 -> 0
A22: Nbre "Autres" | D22: =COUNTIFS('Données '!$A:$A,"JANVIER",'Données '!$O:$O,"Autre")+COUNTIFS('Données '!$A:$A,"FEVRIER",'Données '!$O:$O,"Autre") -> 0 | E22: =D22/D8 -> 0
A23: Nbre LVAD-HTX | D23: =SUM(D24:D25) -> 0 | E23: =D23/D8 -> 0
C24: LVAD | D24: =COUNTIFS('Données '!$A:$A,"JANVIER",'Données '!$O:$O,"LVAD")+COUNTIFS('Données '!$A:$A,"FEVRIER",'Données '!$O:$O,"LVAD") -> 0 | E24: =D24/D8 -> 0
C25: HTX | D25: =COUNTIFS('Données '!$A:$A,"JANVIER",'Données '!$O:$O,"HTX")+COUNTIFS('Données '!$A:$A,"FEVRIER",'Données '!$O:$O,"HTX") -> 0 | E25: =D25/D8 -> 0
A26: Nbre Reprise <24h | D26: =COUNTIFS('Données '!$A:$A,"JANVIER",'Données '!$Y:$Y,1)+COUNTIFS('Données '!$A:$A,"FEVRIER",'Données '!$Y:$Y,1) -> 44 | E26: =D26/D9 -> 0.78571429
A27: Nbre Décès | D27: =COUNTIFS('Données '!$A:$A,"JANVIER",'Données '!$AN:$AN,"DECEASED")+COUNTIFS('Données '!$A:$A,"FEVRIER",'Données '!$AN:$AN,"DECEASED") -> 0 | E27: =D27/D9 -> 0
A28: Moyenne jours d'USI (hors LVAD et TX) | D28: =AVERAGEIF('Données '!BP2:BP57,"<>(Inconnu)") -> #DIV/0!
A29: Moyenne jours d'hospit (hors LVAD et TX) | D29: =AVERAGEIF('Données '!BM2:BM57,"<>(Inconnu)") -> #DIV/0!
A30: Nbre Patients infectés (hors LVAD et TX ) | D30: =COUNTIFS('Données '!$A:$A,"JANVIER",'Données '!$AD:$AD,1)+COUNTIFS('Données '!$A:$A,"FEVRIER",'Données '!$AD:$AD,1) -> 0 | E30: =D30/53 -> 0
A31: Nbre Patients transfusés (hors LVAD et TX) | D31: =COUNTIFS('Données '!$A:$A,"JANVIER",'Données '!$AI:$AI,"<>0",'Données '!$O:$O,"<>LVAD",'Données '!$O:$O,"<>HTX")+COUNTIFS('Données '!$A:$A,"FEVRIER",'Données '!$AI:$AI,"<>0",'Données '!$O:$O,"<>LVAD",'Données '!$O:$O,"<>HTX") -> 13 | E31: =D31/53 -> 0.24528302
A32: Moyenne de transfusions / patient tr, (hors LVAD et TX) | D32: 6.5
A37: Janvier Mars 2017 | D37: Nbre | E37: %
A38: Nbre Interventions | D38: =COUNTIFS('Données '!$A:$A,"JANVIER")+COUNTIFS('Données '!$A:$A,"FEVRIER")+COUNTIFS('Données '!$A:$A,"MARS") -> 86
A39: Nbre Patients | D39: 86
A40: Nbre de patients opérés discutés en HT | D40: =COUNTIFS('Données '!$A:$A,"JANVIER",'Données '!$BW:$BW,"OUI")+COUNTIFS('Données '!$A:$A,"FEVRIER",'Données '!$BW:$BW,"OUI")+COUNTIFS('Données '!$A:$A,"MARS",'Données '!$BW:$BW,"OUI") -> 0 | E40: =D40/D39 -> 0
A41: Nbre Patients 80 ans et + | D41: =COUNTIFS('Données '!$A:$A,"JANVIER",'Données '!$F:$F,1)+COUNTIFS('Données '!$A:$A,"FEVRIER",'Données '!$F:$F,1)+COUNTIFS('Données '!$A:$A,"MARS",'Données '!$F:$F,1) -> 0 | E41: =D41/D39 -> 0
A42: Nbre CABG | D42: =COUNTIFS('Données '!$A:$A,"JANVIER",'Données '!$O:$O,"CABG")+COUNTIFS('Données '!$A:$A,"FEVRIER",'Données '!$O:$O,"CABG")+COUNTIFS('Données '!$A:$A,"MARS",'Données '!$O:$O,"CABG") -> 0 | E42: =D42/D38 -> 0
A43: Nbre Valves/type | D43: =SUM(D44:D49) -> 0 | E43: =D43/D38 -> 0
C44: AVR | D44: =COUNTIFS('Données '!$A:$A,"JANVIER",'Données '!$R:$R,"AVR")+COUNTIFS('Données '!$A:$A,"FEVRIER",'Données '!$R:$R,"AVR")+COUNTIFS('Données '!$A:$A,"MARS",'Données '!$R:$R,"AVR") -> 0 | E44: =IFERROR(D44/D43,"")
C45: TVR | D45: =COUNTIFS('Données '!$A:$A,"JANVIER",'Données '!$R:$R,"TVR")+COUNTIFS('Données '!$A:$A,"FEVRIER",'Données '!$R:$R,"TVR")+COUNTIFS('Données '!$A:$A,"MARS",'Données '!$R:$R,"TVR") -> 0 | E45: =IFERROR(D45/D43,"")
C46: TVP | D46: =COUNTIFS('Données '!$A:$A,"JANVIER",'Données '!$R:$R,"TVP")+COUNTIFS('Données '!$A:$A,"FEVRIER",'Données '!$R:$R,"TVP")+COUNTIFS('Données '!$A:$A,"MARS",'Données '!$R:$R,"TVP") -> 0 | E46: =IFERROR(D46/D43,"")
C47: MVR | D47: =COUNTIFS('Données '!$A:$A,"JANVIER",'Données '!$R:$R,"MVR")+COUNTIFS('Données '!$A:$A,"FEVRIER",'Données '!$R:$R,"MVR")+COUNTIFS('Données '!$A:$A,"MARS",'Données '!$R:$R,"MVR") -> 0 | E47: =IFERROR(D47/D43,"")
C48: MVP | D48: =COUNTIFS('Données '!$A:$A,"JANVIER",'Données '!$R:$R,"MVP")+COUNTIFS('Données '!$A:$A,"FEVRIER",'Données '!$R:$R,"MVP")+COUNTIFS('Données '!$A:$A,"MARS",'Données '!$R:$R,"MVP") -> 0 | E48: =IFERROR(D48/D43,"")
C49: 2 V ou + | D49: =COUNTIFS('Données '!$A:$A,"JANVIER",'Données '!$R:$R,"2 V ou plus")+COUNTIFS('Données '!$A:$A,"FEVRIER",'Données '!$R:$R,"2 V ou plus")+COUNTIFS('Données '!$A:$A,"MARS",'Données '!$R:$R,"2 V ou plus") -> 0 | E49: =IFERROR(D49/D43,"")
A50: Nbre CABG+Valves | D50: =COUNTIFS('Données '!$A:$A,"JANVIER",'Données '!$O:$O,"CABG +*")+COUNTIFS('Données '!$A:$A,"FEVRIER",'Données '!$O:$O,"CABG +*")+COUNTIFS('Données '!$A:$A,"MARS",'Données '!$O:$O,"CABG +*") -> 0 | E50: =D50/D38 -> 0
A51: Nbre Aorte | D51: =COUNTIFS('Données '!$A:$A,"JANVIER",'Données '!$O:$O,"Aorte")+COUNTIFS('Données '!$A:$A,"FEVRIER",'Données '!$O:$O,"Aorte")+COUNTIFS('Données '!$A:$A,"MARS",'Données '!$O:$O,"Aorte") -> 0 | E51: =D51/D38 -> 0
A52: Nbre "Autres" | D52: =COUNTIFS('Données '!$A:$A,"JANVIER",'Données '!$O:$O,"Autre")+COUNTIFS('Données '!$A:$A,"FEVRIER",'Données '!$O:$O,"Autre")+COUNTIFS('Données '!$A:$A,"MARS",'Données '!$O:$O,"Autre") -> 0 | E52: =D52/D38 -> 0
A53: Nbre LVAD-HTX | D53: =SUM(D54:D55) -> 0 | E53: =D53/D38 -> 0
C54: LVAD | D54: =COUNTIFS('Données '!$A:$A,"JANVIER",'Données '!$O:$O,"LVAD")+COUNTIFS('Données '!$A:$A,"FEVRIER",'Données '!$O:$O,"LVAD")+COUNTIFS('Données '!$A:$A,"MARS",'Données '!$O:$O,"LVAD") -> 0 | E54: =D54/D38 -> 0
C55: HTX | D55: =COUNTIFS('Données '!$A:$A,"JANVIER",'Données '!$O:$O,"HTX")+COUNTIFS('Données '!$A:$A,"FEVRIER",'Données '!$O:$O,"HTX")+COUNTIFS('Données '!$A:$A,"MARS",'Données '!$O:$O,"HTX") -> 0 | E55: =D55/D38 -> 0
A56: Nbre Reprise <24h | D56: =COUNTIFS('Données '!$A:$A,"JANVIER",'Données '!$Y:$Y,1)+COUNTIFS('Données '!$A:$A,"FEVRIER",'Données '!$Y:$Y,1)+COUNTIFS('Données '!$A:$A,"MARS",'Données '!$Y:$Y,1) -> 44 | E56: =D56/D39 -> 0.51162791
A57: Nbre Décès | D57: =COUNTIFS('Données '!$A:$A,"JANVIER",'Données '!$AN:$AN,"DECEASED")+COUNTIFS('Données '!$A:$A,"FEVRIER",'Données '!$AN:$AN,"DECEASED")+COUNTIFS('Données '!$A:$A,"MARS",'Données '!$AN:$AN,"DECEASED") -> 0 | E57: =D57/D39 -> 0
A58: Moyenne jours d'USI (hors LVAD et TX) | D58: =AVERAGEIF('Données '!BP2:BP87,"<>(Inconnu)") -> #DIV/0!
A59: Moyenne jours d'hospit (hors LVAD et TX) | D59: =AVERAGEIF('Données '!BM2:BM87,"<>(Inconnu)") -> #DIV/0!
A60: Nbre Patients infectés (hors LVAD et TX ) | D60: =COUNTIFS('Données '!$A:$A,"JANVIER",'Données '!$AD:$AD,1)+COUNTIFS('Données '!$A:$A,"FEVRIER",'Données '!$AD:$AD,1)+COUNTIFS('Données '!$A:$A,"MARS",'Données '!$AD:$AD,1) -> 0 | E60: =D60/81 -> 0
A61: Nbre Patients transfusés (hors LVAD et TX) | D61: =COUNTIFS('Données '!$A:$A,"JANVIER",'Données '!$AI:$AI,"<>0",'Données '!$O:$O,"<>LVAD",'Données '!$O:$O,"<>HTX")+COUNTIFS('Données '!$A:$A,"FEVRIER",'Données '!$AI:$AI,"<>0",'Données '!$O:$O,"<>LVAD",'Données '!$O:$O,"<>HTX")+COUNTIFS('Données '!$A:$A,"MARS",'Données '!$AI:$AI,"<>0",'Données '!$O:$O,"<>LVAD",'Données '!$O:$O,"<>HTX") -> 13 | E61: =D61/81 -> 0.16049383
A62: Moyenne de transfusions / patient tr, (hors LVAD et TX) | D62: 7.2
A67: Janvier -Avril 2017 | D67: Nbre | E67: %
A68: Nbre Interventions | D68: =COUNTIFS('Données '!$A:$A,"JANVIER")+COUNTIFS('Données '!$A:$A,"FEVRIER")+COUNTIFS('Données '!$A:$A,"MARS")+COUNTIFS('Données '!$A:$A,"AVRIL") -> 115
A69: Nbre Patients | D69: 115
A70: Nbre de patients opérés discutés en HT | D70: =COUNTIFS('Données '!$A:$A,"JANVIER",'Données '!$BW:$BW,"OUI")+COUNTIFS('Données '!$A:$A,"FEVRIER",'Données '!$BW:$BW,"OUI")+COUNTIFS('Données '!$A:$A,"MARS",'Données '!$BW:$BW,"OUI")+COUNTIFS('Données '!$A:$A,"AVRIL",'Données '!$BW:$BW,"OUI") -> 0 | E70: =D70/D69 -> 0
A71: Nbre Patients 80 ans et + | D71: =COUNTIFS('Données '!$A:$A,"JANVIER",'Données '!$F:$F,1)+COUNTIFS('Données '!$A:$A,"FEVRIER",'Données '!$F:$F,1)+COUNTIFS('Données '!$A:$A,"MARS",'Données '!$F:$F,1)+COUNTIFS('Données '!$A:$A,"AVRIL",'Données '!$F:$F,1) -> 0 | E71: =D71/D69 -> 0
A72: Nbre CABG | D72: =COUNTIFS('Données '!$A:$A,"JANVIER",'Données '!$O:$O,"CABG")+COUNTIFS('Données '!$A:$A,"FEVRIER",'Données '!$O:$O,"CABG")+COUNTIFS('Données '!$A:$A,"MARS",'Données '!$O:$O,"CABG")+COUNTIFS('Données '!$A:$A,"AVRIL",'Données '!$O:$O,"CABG") -> 0 | E72: =D72/D68 -> 0
A73: Nbre Valves/type | D73: =SUM(D74:D79) -> 0 | E73: =D73/D68 -> 0
C74: AVR | D74: =COUNTIFS('Données '!$A:$A,"JANVIER",'Données '!$R:$R,"AVR")+COUNTIFS('Données '!$A:$A,"FEVRIER",'Données '!$R:$R,"AVR")+COUNTIFS('Données '!$A:$A,"MARS",'Données '!$R:$R,"AVR")+COUNTIFS('Données '!$A:$A,"AVRIL",'Données '!$R:$R,"AVR") -> 0 | E74: =IFERROR(D74/D73,"")
C75: TVR | D75: =COUNTIFS('Données '!$A:$A,"JANVIER",'Données '!$R:$R,"TVR")+COUNTIFS('Données '!$A:$A,"FEVRIER",'Données '!$R:$R,"TVR")+COUNTIFS('Données '!$A:$A,"MARS",'Données '!$R:$R,"TVR")+COUNTIFS('Données '!$A:$A,"AVRIL",'Données '!$R:$R,"TVR") -> 0 | E75: =IFERROR(D75/D73,"")
C76: TVP | D76: =COUNTIFS('Données '!$A:$A,"JANVIER",'Données '!$R:$R,"TVP")+COUNTIFS('Données '!$A:$A,"FEVRIER",'Données '!$R:$R,"TVP")+COUNTIFS('Données '!$A:$A,"MARS",'Données '!$R:$R,"TVP")+COUNTIFS('Données '!$A:$A,"AVRIL",'Données '!$R:$R,"TVP") -> 0 | E76: =IFERROR(D76/D73,"")
C77: MVR | D77: =COUNTIFS('Données '!$A:$A,"JANVIER",'Données '!$R:$R,"MVR")+COUNTIFS('Données '!$A:$A,"FEVRIER",'Données '!$R:$R,"MVR")+COUNTIFS('Données '!$A:$A,"MARS",'Données '!$R:$R,"MVR")+COUNTIFS('Données '!$A:$A,"AVRIL",'Données '!$R:$R,"MVR") -> 0 | E77: =IFERROR(D77/D73,"")
C78: MVP | D78: =COUNTIFS('Données '!$A:$A,"JANVIER",'Données '!$R:$R,"MVP")+COUNTIFS('Données '!$A:$A,"FEVRIER",'Données '!$R:$R,"MVP")+COUNTIFS('Données '!$A:$A,"MARS",'Données '!$R:$R,"MVP")+COUNTIFS('Données '!$A:$A,"AVRIL",'Données '!$R:$R,"MVP") -> 0 | E78: =IFERROR(D78/D73,"")
C79: 2 V ou + | D79: =COUNTIFS('Données '!$A:$A,"JANVIER",'Données '!$R:$R,"2 V ou plus")+COUNTIFS('Données '!$A:$A,"FEVRIER",'Données '!$R:$R,"2 V ou plus")+COUNTIFS('Données '!$A:$A,"MARS",'Données '!$R:$R,"2 V ou plus")+COUNTIFS('Données '!$A:$A,"AVRIL",'Données '!$R:$R,"2 V ou plus") -> 0 | E79: =IFERROR(D79/D73,"")
A80: Nbre CABG+Valves | D80: =COUNTIFS('Données '!$A:$A,"JANVIER",'Données '!$O:$O,"CABG +*")+COUNTIFS('Données '!$A:$A,"FEVRIER",'Données '!$O:$O,"CABG +*")+COUNTIFS('Données '!$A:$A,"MARS",'Données '!$O:$O,"CABG +*")+COUNTIFS('Données '!$A:$A,"AVRIL",'Données '!$O:$O,"CABG +*") -> 0 | E80: =D80/D68 -> 0
A81: Nbre Aorte | D81: =COUNTIFS('Données '!$A:$A,"JANVIER",'Données '!$O:$O,"Aorte")+COUNTIFS('Données '!$A:$A,"FEVRIER",'Données '!$O:$O,"Aorte")+COUNTIFS('Données '!$A:$A,"MARS",'Données '!$O:$O,"Aorte")+COUNTIFS('Données '!$A:$A,"AVRIL",'Données '!$O:$O,"Aorte") -> 0 | E81: =D81/D68 -> 0
A82: Nbre "Autres" | D82: =COUNTIFS('Données '!$A:$A,"JANVIER",'Données '!$O:$O,"Autre")+COUNTIFS('Données '!$A:$A,"FEVRIER",'Données '!$O:$O,"Autre")+COUNTIFS('Données '!$A:$A,"MARS",'Données '!$O:$O,"Autre")+COUNTIFS('Données '!$A:$A,"AVRIL",'Données '!$O:$O,"Autre") -> 0 | E82: =D82/D68 -> 0
A83: Nbre LVAD-HTX | D83: =SUM(D84:D85) -> 0 | E83: =D83/D68 -> 0
C84: LVAD | D84: =COUNTIFS('Données '!$A:$A,"JANVIER",'Données '!$O:$O,"LVAD")+COUNTIFS('Données '!$A:$A,"FEVRIER",'Données '!$O:$O,"LVAD")+COUNTIFS('Données '!$A:$A,"MARS",'Données '!$O:$O,"LVAD")+COUNTIFS('Données '!$A:$A,"AVRIL",'Données '!$O:$O,"LVAD") -> 0 | E84: =D84/D68 -> 0
C85: HTX | D85: =COUNTIFS('Données '!$A:$A,"JANVIER",'Données '!$O:$O,"HTX")+COUNTIFS('Données '!$A:$A,"FEVRIER",'Données '!$O:$O,"HTX")+COUNTIFS('Données '!$A:$A,"MARS",'Données '!$O:$O,"HTX")+COUNTIFS('Données '!$A:$A,"AVRIL",'Données '!$O:$O,"HTX") -> 0 | E85: =D85/D68 -> 0
A86: Nbre Reprise <24h | D86: =COUNTIFS('Données '!$A:$A,"JANVIER",'Données '!$Y:$Y,1)+COUNTIFS('Données '!$A:$A,"FEVRIER",'Données '!$Y:$Y,1)+COUNTIFS('Données '!$A:$A,"MARS",'Données '!$Y:$Y,1)+COUNTIFS('Données '!$A:$A,"AVRIL",'Données '!$Y:$Y,1) -> 44 | E86: =D86/D69 -> 0.3826087
A87: Nbre Décès | D87: =COUNTIFS('Données '!$A:$A,"JANVIER",'Données '!$AN:$AN,"DECEASED")+COUNTIFS('Données '!$A:$A,"FEVRIER",'Données '!$AN:$AN,"DECEASED")+COUNTIFS('Données '!$A:$A,"MARS",'Données '!$AN:$AN,"DECEASED")+COUNTIFS('Données '!$A:$A,"AVRIL",'Données '!$AN:$AN,"DECEASED") -> 0 | E87: =D87/D69 -> 0
A88: Moyenne jours d'USI (hors LVAD et TX) | D88: =AVERAGEIF('Données '!BP2:BP116,"<>(Inconnu)") -> #DIV/0!
A89: Moyenne jours d'hospit (hors LVAD et TX) | D89: =AVERAGEIF('Données '!BM2:BM116,"<>(Inconnu)") -> #DIV/0!
A90: Nbre Patients infectés (hors LVAD et TX ) | D90: =COUNTIFS('Données '!$A:$A,"JANVIER",'Données '!$AD:$AD,1)+COUNTIFS('Données '!$A:$A,"FEVRIER",'Données '!$AD:$AD,1)+COUNTIFS('Données '!$A:$A,"MARS",'Données '!$AD:$AD,1)+COUNTIFS('Données '!$A:$A,"AVRIL",'Données '!$AD:$AD,1) -> 0 | E90: =D90/109 -> 0
A91: Nbre Patients transfusés (hors LVAD et TX) | D91: =COUNTIFS('Données '!$A:$A,"JANVIER",'Données '!$AI:$AI,"<>0",'Données '!$O:$O,"<>LVAD",'Données '!$O:$O,"<>HTX")+COUNTIFS('Données '!$A:$A,"FEVRIER",'Données '!$AI:$AI,"<>0",'Données '!$O:$O,"<>LVAD",'Données '!$O:$O,"<>HTX")+COUNTIFS('Données '!$A:$A,"MARS",'Données '!$AI:$AI,"<>0",'Données '!$O:$O,"<>LVAD",'Données '!$O:$O,"<>HTX")+COUNTIFS('Données '!$A:$A,"AVRIL",'Données '!$AI:$AI,"<>0",'Données '!$O:$O,"<>LVAD",'Données '!$O:$O,"<>HTX") -> 13 | E91: =D91/109 -> 0.11926606
A92: Moyenne de transfusions / patient tr, (hors LVAD et TX) | D92: 6.3
A97: Janvier -Mai 2017 | D97: Nbre | E97: %
A98: Nbre Interventions | D98: =COUNTIFS('Données '!$A:$A,"JANVIER")+COUNTIFS('Données '!$A:$A,"FEVRIER")+COUNTIFS('Données '!$A:$A,"MARS")+COUNTIFS('Données '!$A:$A,"AVRIL")+COUNTIFS('Données '!$A:$A,"MAI") -> 147
A99: Nbre Patients | D99: 147
A100: Nbre de patients opérés discutés en HT | D100: =COUNTIFS('Données '!$A:$A,"JANVIER",'Données '!$BW:$BW,"OUI")+COUNTIFS('Données '!$A:$A,"FEVRIER",'Données '!$BW:$BW,"OUI")+COUNTIFS('Données '!$A:$A,"MARS",'Données '!$BW:$BW,"OUI")+COUNTIFS('Données '!$A:$A,"AVRIL",'Données '!$BW:$BW,"OUI")+COUNTIFS('Données '!$A:$A,"MAI",'Données '!$BW:$BW,"OUI") -> 0 | E100: =D100/D98 -> 0
A101: Nbre Patients 80 ans et + | D101: =COUNTIFS('Données '!$A:$A,"JANVIER",'Données '!$F:$F,1)+COUNTIFS('Données '!$A:$A,"FEVRIER",'Données '!$F:$F,1)+COUNTIFS('Données '!$A:$A,"MARS",'Données '!$F:$F,1)+COUNTIFS('Données '!$A:$A,"AVRIL",'Données '!$F:$F,1)+COUNTIFS('Données '!$A:$A,"MAI",'Données '!$F:$F,1) -> 0 | E101: =D101/D98 -> 0
A102: Nbre CABG | D102: =COUNTIFS('Données '!$A:$A,"JANVIER",'Données '!$O:$O,"CABG")+COUNTIFS('Données '!$A:$A,"FEVRIER",'Données '!$O:$O,"CABG")+COUNTIFS('Données '!$A:$A,"MARS",'Données '!$O:$O,"CABG")+COUNTIFS('Données '!$A:$A,"AVRIL",'Données '!$O:$O,"CABG")+COUNTIFS('Données '!$A:$A,"MAI",'Données '!$O:$O,"CABG") -> 0 | E102: =D102/D98 -> 0
A103: Nbre Valves/type | D103: =SUM(D104:D109) -> 0 | E103: =D103/D98 -> 0
C104: AVR | D104: =COUNTIFS('Données '!$A:$A,"JANVIER",'Données '!$R:$R,"AVR")+COUNTIFS('Données '!$A:$A,"FEVRIER",'Données '!$R:$R,"AVR")+COUNTIFS('Données '!$A:$A,"MARS",'Données '!$R:$R,"AVR")+COUNTIFS('Données '!$A:$A,"AVRIL",'Données '!$R:$R,"AVR")+COUNTIFS('Données '!$A:$A,"MAI",'Données '!$R:$R,"AVR") -> 0 | E104: =IFERROR(D104/D103,"")
C105: TVR | D105: =COUNTIFS('Données '!$A:$A,"JANVIER",'Données '!$R:$R,"TVR")+COUNTIFS('Données '!$A:$A,"FEVRIER",'Données '!$R:$R,"TVR")+COUNTIFS('Données '!$A:$A,"MARS",'Données '!$R:$R,"TVR")+COUNTIFS('Données '!$A:$A,"AVRIL",'Données '!$R:$R,"TVR")+COUNTIFS('Données '!$A:$A,"MAI",'Données '!$R:$R,"TVR") -> 0 | E105: =IFERROR(D105/D103,"")
C106: TVP | D106: =COUNTIFS('Données '!$A:$A,"JANVIER",'Données '!$R:$R,"TVP")+COUNTIFS('Données '!$A:$A,"FEVRIER",'Données '!$R:$R,"TVP")+COUNTIFS('Données '!$A:$A,"MARS",'Données '!$R:$R,"TVP")+COUNTIFS('Données '!$A:$A,"AVRIL",'Données '!$R:$R,"TVP")+COUNTIFS('Données '!$A:$A,"MAI",'Données '!$R:$R,"TVP") -> 0 | E106: =IFERROR(D106/D103,"")
C107: MVR | D107: =COUNTIFS('Données '!$A:$A,"JANVIER",'Données '!$R:$R,"MVR")+COUNTIFS('Données '!$A:$A,"FEVRIER",'Données '!$R:$R,"MVR")+COUNTIFS('Données '!$A:$A,"MARS",'Données '!$R:$R,"MVR")+COUNTIFS('Données '!$A:$A,"AVRIL",'Données '!$R:$R,"MVR")+COUNTIFS('Données '!$A:$A,"MAI",'Données '!$R:$R,"MVR") -> 0 | E107: =IFERROR(D107/D103,"")
C108: MVP | D108: =COUNTIFS('Données '!$A:$A,"JANVIER",'Données '!$R:$R,"MVP")+COUNTIFS('Données '!$A:$A,"FEVRIER",'Données '!$R:$R,"MVP")+COUNTIFS('Données '!$A:$A,"MARS",'Données '!$R:$R,"MVP")+COUNTIFS('Données '!$A:$A,"AVRIL",'Données '!$R:$R,"MVP")+COUNTIFS('Données '!$A:$A,"MAI",'Données '!$R:$R,"MVP") -> 0 | E108: =IFERROR(D108/D103,"")
C109: 2 V ou + | D109: =COUNTIFS('Données '!$A:$A,"JANVIER",'Données '!$R:$R,"2 V ou plus")+COUNTIFS('Données '!$A:$A,"FEVRIER",'Données '!$R:$R,"2 V ou plus")+COUNTIFS('Données '!$A:$A,"MARS",'Données '!$R:$R,"2 V ou plus")+COUNTIFS('Données '!$A:$A,"AVRIL",'Données '!$R:$R,"2 V ou plus")+COUNTIFS('Données '!$A:$A,"MAI",'Données '!$R:$R,"2 V ou plus") -> 0 | E109: =IFERROR(D109/D103,"")
A110: Nbre CABG+Valves | D110: =COUNTIFS('Données '!$A:$A,"JANVIER",'Données '!$O:$O,"CABG +*")+COUNTIFS('Données '!$A:$A,"FEVRIER",'Données '!$O:$O,"CABG +*")+COUNTIFS('Données '!$A:$A,"MARS",'Données '!$O:$O,"CABG +*")+COUNTIFS('Données '!$A:$A,"AVRIL",'Données '!$O:$O,"CABG +*")+COUNTIFS('Données '!$A:$A,"MAI",'Données '!$O:$O,"CABG +*") -> 0 | E110: =D110/D98 -> 0
A111: Nbre Aorte | D111: =COUNTIFS('Données '!$A:$A,"JANVIER",'Données '!$O:$O,"Aorte")+COUNTIFS('Données '!$A:$A,"FEVRIER",'Données '!$O:$O,"Aorte")+COUNTIFS('Données '!$A:$A,"MARS",'Données '!$O:$O,"Aorte")+COUNTIFS('Données '!$A:$A,"AVRIL",'Données '!$O:$O,"Aorte")+COUNTIFS('Données '!$A:$A,"MAI",'Données '!$O:$O,"Aorte") -> 0 | E111: =D111/D98 -> 0
A112: Nbre "Autres" | D112: =COUNTIFS('Données '!$A:$A,"JANVIER",'Données '!$O:$O,"Autre")+COUNTIFS('Données '!$A:$A,"FEVRIER",'Données '!$O:$O,"Autre")+COUNTIFS('Données '!$A:$A,"MARS",'Données '!$O:$O,"Autre")+COUNTIFS('Données '!$A:$A,"AVRIL",'Données '!$O:$O,"Autre")+COUNTIFS('Données '!$A:$A,"MAI",'Données '!$O:$O,"Autre") -> 0 | E112: =D112/D98 -> 0
A113: Nbre LVAD-HTX | D113: =SUM(D114:D115) -> 0 | E113: =D113/D98 -> 0
C114: LVAD | D114: =COUNTIFS('Données '!$A:$A,"JANVIER",'Données '!$O:$O,"LVAD")+COUNTIFS('Données '!$A:$A,"FEVRIER",'Données '!$O:$O,"LVAD")+COUNTIFS('Données '!$A:$A,"MARS",'Données '!$O:$O,"LVAD")+COUNTIFS('Données '!$A:$A,"AVRIL",'Données '!$O:$O,"LVAD")+COUNTIFS('Données '!$A:$A,"MAI",'Données '!$O:$O,"LVAD") -> 0 | E114: =D114/D98 -> 0
C115: HTX | D115: =COUNTIFS('Données '!$A:$A,"JANVIER",'Données '!$O:$O,"HTX")+COUNTIFS('Données '!$A:$A,"FEVRIER",'Données '!$O:$O,"HTX")+COUNTIFS('Données '!$A:$A,"MARS",'Données '!$O:$O,"HTX")+COUNTIFS('Données '!$A:$A,"AVRIL",'Données '!$O:$O,"HTX")+COUNTIFS('Données '!$A:$A,"MAI",'Données '!$O:$O,"HTX") -> 0 | E115: =D115/D98 -> 0
...

Sheet Références
A1: Mois | B1: (Tous) | C1: Filtrer sur les mois concernés
A3: Étiquettes de lignes | B3: Nombre de Référence | C3: =COUNTA(A:A)-2 -> 1 | D3: Nb de lignes non vides - (ligne1, ligne 3)
A4: (vide)
D6: HORS LVAD ET TX ()
K8: intervention activité | L8: intervention activité par type | M8: intervention valve | N8: valve activité
K11: 2 V ou plus | L11: CABG + V, >1 V | N11: 2 V ou plus
K12: Aorte | L12: Autre | N12: Aorte
K13: Autre | L13: Autre
K14: CABG | L14: CABG
K15: CABG + 1V | L15: CABG + V, >1 V | M15: CABG + V
K16: CABG + 2 V | L16: CABG + V, >1 V | M16: CABG + V
K17: HTX | L17: HTX | M17: LVAD/HTX
K18: LVAD | L18: LVAD | M18: LVAD/HTX
K19: 1 Pl | L19: Valve | M19: MVP | N19: MVP

Sheet Lieu_Activité
A1: Lieu activité | B1: Lieu-Regroup
A2: ERASME CARDIO | B2: ERASME
A3: CT | B3: CT
A4: ERASME URGENCES | B4: ERASME
A5: CHIREC BASILIQUE | B5: CHIREC
A6: ERASME MI | B6: ERASME
A7: CHR HAUTE SENNE | B7: CHR HAUTE SENNE
A8: BHC OTTIGNIES | B8: BHC OTTIGNIES
A9: ERASME VASCULAIRE | B9: ERASME
A10: BRACOPS | B10: BRACOPS
A11: ERASME VAD | B11: ERASME
A12: ERASME ETRANGER | B12: ERASME
... A38: ERASME GERIATRIE | B38: ERASME

Sheet Pivot-Prov
A1: D/opératoire | B1: (Plusieurs éléments)
A3: Étiquettes de lignes | B3: Provenance | D3: Provenance | E3: Étiquettes de colonnes
A4: Total général | D4: Étiquettes de lignes | E4: Total général
D5: Total général
A29: D/opératoire | B29: (Plusieurs éléments)
A31: Étiquettes de lignes | B31: Provenance
A32: Total général | B32: #DIV/0!
A52: D/opératoire | B52: (Plusieurs éléments)
A54: Étiquettes de lignes | B54: Nombre
A55: Total général | B55: #DIV/0!

Sheet Pivot-cardiologue
A4: D/opératoire | B4: (Plusieurs éléments) | E4: D/opératoire | F4: (Plusieurs éléments)
A6: Étiquettes de lignes | B6: Nombre de Référant | E6: Nombre de Référant | F6: Étiquettes de colonnes
A7: Total général | E7: Étiquettes de lignes | F7: ??? | G7: ???? | H7: ABDESSATER | I7: AMBROISE PARE | J7: BHC OTTIGNIES | K7: BRACOPS | L7: BRAD | M7: CAILLEAU | N7: CHAPELLE | O7: CHIREC BASILIQUE | P7: CHIREC BRAINE | Q7: CHIREC EDITH | R7: CHIREC EDITH CAVELL | S7: CHIREC PARC | T7: CHIREC PARC LEOPOLD | U7: CHIREC STE ANNE | V7: CHR Citadelle | W7: CHR HAUTE SENNE | X7: CHR HUY | Y7: CHU CHARLEROI | Z7: CHU Liège | AA7: CHWAPI TOURNAI | AB7: CREPLET | AC7: CT | AD7: DEPAEPE | AE7: EPICURA ATH | AF7: EPICURA BAUDOUR | AG7: EPICURA HORNU | AH7: ERASME CARDIO | AI7: ERASME CHIR CAR | AJ7: ERASME ETRANGER | AK7: ERASME GASTRO | AL7: ERASME GERIATRIE | AM7: ERASME MED INT | AN7: ERASME MI | AO7: ERASME NEURO | AP7: ERASME PNEUMO | AQ7: ERASME URGENCES | AR7: ERASME USI | AS7: ERASME VAD | AT7: ERASME VASCULAIRE | AU7: GASSAVELIS | AV7: GREGOIRE | AW7: HAGE | AX7: JAMART | AY7: KHOUZAM | AZ7: LIEGE | BA7: LOTHIER | BB7: MENASSEL | BC7: MT | BD7: NAJEM | BE7: NIVELLES | BF7: PATIENT | BG7: POLY ENGHIEN | BH7: SARTIEAUX | BI7: ST-LUC | BJ7: ST-MICHEL | BK7: ST-PIERRE | BL7: UZ JETTE | BM7: VALIDA | BN7: VISEUR | BO7: ZENAGUI | BP7: Total général
E8: Total général

Sheet Pivotr-Type Int
A2: NBRE INTERVENTION STAT | N2: Mois | O2: (Plusieurs éléments)
A3: Nombre de Intervention | B3: Étiquettes de colonnes | N3: NBRE INTERVENTION INTRANET
A4: Étiquettes de lignes | B4: (vide) | C4: Total général | N4: Étiquettes de lignes | O4: Nombre de Intervention-activité par type
A5: JANVIER | O5: 1
A6: FEVRIER | N6: Total général | O6: 1
A7: MARS
A8: AVRIL
A9: MAI
A10: JUIN
A11: JUILLET
A12: AOUT
A13: SEPTEMBRE
A14: OCTOBRE
A15: Total général
A20: Mois | B20: (Plusieurs éléments)
A22: Étiquettes de lignes | B22: Nombre de Intervention
A23: (vide) | B23: #DIV/0! | L23: Intervention Comparatif
A24: Total général | B24: #DIV/0! | H24: Nbre d'intervention | I24: 2017 | J24: 2018 | L24: Étiquettes de lignes | M24: Interventions 2017
H25: JANVIER | I25: 27 | L25: JANVIER | M25: 27
H26: FÉVRIER | I26: 29 | L26: FÉVRIER | M26: 29
H27: MARS | I27: 30 | L27: MARS | M27: 30
H28: AVRIL | I28: 29 | L28: AVRIL | M28: 29
H29: MAI | I29: 32 | L29: MAI | M29: 32
H30: JUIN | I30: 21 | L30: JUIN | M30: 21
H31: JUILLET | I31: 13 | L31: JUILLET | M31: 13
H32: AOÛT | I32: 19 | L32: AOÛT | M32: 19
H33: SEPTEMBRE | I33: 25 | L33: SEPTEMBRE | M33: 25
H34: OCTOBRE | I34: 31 | L34: OCTOBRE | M34: 31
H35: NOVEMBRE | L35: NOVEMBRE
H36: DÉCEMBRE | L36: DÉCEMBRE
L37: Total général | M37: 256

Sheet Pivot_Valves
J2: Mois | K2: (Plusieurs éléments)
A3: Nombre de valves - activité | B3: Étiquettes de colonnes
A4: Étiquettes de lignes | C4: Total général | J4: Étiquettes de lignes | K4: Nombre de valves - activité2
A5: JANVIER | B5: 27 | C5: 27 | J5: Total général | K5: 0
A6: FEVRIER | B6: 29 | C6: 29
A7: MARS | B7: 30 | C7: 30
A8: AVRIL | B8: 29 | C8: 29
A9: MAI | B9: 32 | C9: 32
A10: JUIN | B10: 21 | C10: 21
A11: JUILLET | B11: 13 | C11: 13
A12: AOUT | B12: 20 | C12: 20
A13: SEPTEMBRE | B13: 25 | C13: 25
A14: OCTOBRE | B14: 32 | C14: 32
A15: DECEMBRE | B15: 2 | C15: 2
A16: DÉCEMBRE | B16: 18 | C16: 18
A17: Total général | B17: 278 | C17: 278

Sheet Pivot délai intervention
A1: GLOBAL
A3: Étiquettes de colonnes
A4: JANVIER | B4: FEVRIER | C4: MARS | D4: AVRIL | E4: MAI | F4: JUIN | G4: JUILLET | H4: Total général
A12: Mois | B12: (Plusieurs éléments)
A21: Mois | B21: (Plusieurs éléments)
A23: Étiquettes de lignes | B23: Nombre de Délai intervention
A24: ALIVE | B24: 167
A25: DECEASED | B25: 14
G27: Mois | H27: (Plusieurs éléments)
G29: Étiquettes de lignes | H29: Nombre de Délai intervention
G30: Total général
A31: Mois | B31: (Plusieurs éléments)
A33: Étiquettes de lignes | B33: Nombre de délai intervention5
A34: ELECTIVE | B34: 0.64341085
A35: EMERGENCY | B35: 0.085271318
A36: SALVAGE | B36: 0.007751938
A37: URGENCY | B37: 0.26356589
A40: Mois | B40: (Plusieurs éléments)
A42: Étiquettes de lignes | B42: Nombre de délai intervention5
A43: ELECTIVE
A44: ALIVE | B44: 0.62403101
A45: DECEASED | B45: 0.019379845
A46: EMERGENCY
A47: ALIVE | B47: 0.065891473 | G47: Mois | H47: (Plusieurs éléments)
A48: DECEASED | B48: 0.019379845
A49: SALVAGE | G49: Nombre de Délai intervention | H49: Étiquettes de colonnes
A50: ALIVE | B50: 0.003875969 | G50: Étiquettes de lignes | H50: Total général
A51: DECEASED | B51: 0.003875969 | G51: Total général | H51: #DIV/0!
A52: URGENCY
A53: ALIVE | B53: 0.2248062
A54: DECEASED | B54: 0.03875969
A55: Mois | B55: (Tous)

Sheet Pivot_Survie
G2: Mois | H2: (Plusieurs éléments)
A3: Nombre de Alive | B3: Étiquettes de colonnes
A4: Étiquettes de lignes | B4: Total général | G4: Étiquettes de lignes | H4: % TOTAL
A5: Total général | B5: #DIV/0! | G5: Total général | H5: 0

Sheet Pivot_USI
A1: Intervention-activité | B1: (Tous) | C1: TOUTES | G1: Intervention-activité | H1: (Tous) | I1: Exclu "LVAD" & "TX" | M1: Intervention-activité | N1: (Plusieurs éléments) | O1: "LVAD" & "TX"
