Workbook

Sheet bal
A1: Numéro | B1: Intitulé | C1: Solde | E1: Numéro | F1: Intitulé | G1: Solde | I1: Numéro | J1: Intitulé | K1: Solde | M1: Numéro | N1: Intitulé | O1: Solde
A2: 60610000 | B2: EDF | C2: 570.58 | E2: 60610000 | F2: EDF | G2: 861.63 | I2: 60610000 | J2: EDF | K2: 742.42 | M2: 60610000 | N2: EDF | O2: 1192.45
A3: 60640000 | B3: FOURNITURES ADMINISTRATIVES | C3: 3035.24 | E3: 60640000 | F3: FOURNITURES ADMINISTRATIVES | G3: 4074.83 | I3: 60640000 | J3: FOURNITURES ADMINISTRATIVES | K3: 3365.33 | M3: 60630000 | N3: FOURNIT ENTRETIEN PETIT EQUIPT | O3: 2.13
A4: 60640050 | B4: FONTAINE A EAU ANNUEL | C4: 252.14 | E4: 60640050 | F4: FONTAINE A EAU ANNUEL | G4: 298.8 | I4: 60640050 | J4: FONTAINE A EAU ANNUEL | K4: 348.45 | M4: 60640000 | N4: FOURNITURES ADMINISTRATIVES | O4: 4799.54
A5: 60645000 | B5: UTILISATION LOGICIEL | C5: 396.08 | E5: 60644000 | F5: FOURNITURE INFORMATIQUE | G5: 5799.89 | I5: 60645000 | J5: UTILISATION LOGICIEL | K5: 600 | M5: 60640050 | N5: FONTAINE A EAU ANNUEL | O5: 57.01

Sheet recap
B1: 2019 | C1: 2020 | D1: 2021 | E1: 2022
A2: 60610000 | B2: =_xlfn.XLOOKUP(recap!A2,bal!$M:$M,bal!$O:$O) -> 1192.45 | C2: =_xlfn.XLOOKUP(recap!A2,bal!$I:$I,bal!$K:$K) -> 742.42 | D2: =_xlfn.XLOOKUP(A2,bal!$E:$E,bal!$G:$G) -> 861.63 | E2: =_xlfn.XLOOKUP(A2,bal!$A:$A,bal!$C:$C) -> 570.58
A3: 60630000 | B3: =_xlfn.XLOOKUP(recap!A3,bal!$M:$M,bal!$O:$O) -> 2.13 | C3: =_xlfn.XLOOKUP(recap!A3,bal!$I:$I,bal!$K:$K) -> #N/A | D3: =_xlfn.XLOOKUP(A3,bal!$E:$E,bal!$G:$G) -> #N/A | E3: =_xlfn.XLOOKUP(A3,bal!$A:$A,bal!$C:$C) -> #N/A
A4: 60640000 | B4: =_xlfn.XLOOKUP(recap!A4,bal!$M:$M,bal!$O:$O) -> 4799.54 | C4: =_xlfn.XLOOKUP(recap!A4,bal!$I:$I,bal!$K:$K) -> 3365.33 | D4: =_xlfn.XLOOKUP(A4,bal!$E:$E,bal!$G:$G) -> 4074.83 | E4: =_xlfn.XLOOKUP(A4,bal!$A:$A,bal!$C:$C) -> 3035.24
A5: 60640050 | B5: =_xlfn.XLOOKUP(recap!A5,bal!$M:$M,bal!$O:$O) -> 57.01 | C5: =_xlfn.XLOOKUP(recap!A5,bal!$I:$I,bal!$K:$K) -> 348.45 | D5: =_xlfn.XLOOKUP(A5,bal!$E:$E,bal!$G:$G) -> 298.8 | E5: =_xlfn.XLOOKUP(A5,bal!$A:$A,bal!$C:$C) -> 252.14
A6: 60644000 | B6: =_xlfn.XLOOKUP(recap!A6,bal!$M:$M,bal!$O:$O) -> #N/A | C6: =_xlfn.XLOOKUP(recap!A6,bal!$I:$I,bal!$K:$K) -> #N/A | D6: =_xlfn.XLOOKUP(A6,bal!$E:$E,bal!$G:$G) -> 5799.89 | E6: =_xlfn.XLOOKUP(A6,bal!$A:$A,bal!$C:$C) -> #N/A
A7: 60645000 | B7: =_xlfn.XLOOKUP(recap!A7,bal!$M:$M,bal!$O:$O) -> #N/A | C7: =_xlfn.XLOOKUP(recap!A7,bal!$I:$I,bal!$K:$K) -> 600 | D7: =_xlfn.XLOOKUP(A7,bal!$E:$E,bal!$G:$G) -> #N/A | E7: =_xlfn.XLOOKUP(A7,bal!$A:$A,bal!$C:$C) -> 396.08
