Workbook

Sheet Somme
C1: Pièce de théatre
D3: BILETS DE 20 TND
A4: Nom & Prénom | C4: Billets Recus | D4: ventes | E4: retour billets | F4: billets vendus | G4: montant | H4: Reçu | I4: reste
A5: AYADI | B5: Raoudha | C5: ='billets de 20dt'!C5+'Billets 30dt'!C5+'billets de 50dt'!C5+'billets de 100dt'!C5 -> 0 | D5: ='billets de 20dt'!D5+'Billets 30dt'!D5+'billets de 50dt'!D5+'billets de 100dt'!D5 -> 0 | E5: ='billets de 20dt'!E5+'Billets 30dt'!E5+'billets de 50dt'!E5+'billets de 100dt'!E5 -> 0 | F5: ='billets de 20dt'!F5+'Billets 30dt'!F5+'billets de 50dt'!F5+'billets de 100dt'!F5 -> 0 | G5: ='billets de 20dt'!G5+'Billets 30dt'!G5+'billets de 50dt'!G5+'billets de 100dt'!G5 -> 0 | H5: ='billets de 20dt'!H5+'Billets 30dt'!H5+'billets de 50dt'!H5+'billets de 100dt'!H5 -> 0 | I5: ='billets de 20dt'!I5+'Billets 30dt'!I5+'billets de 50dt'!I5+'billets de 100dt'!I5 -> 0
A6: ELLOUMI | B6: Tarak | C6: ='billets de 20dt'!C6+'Billets 30dt'!C6+'billets de 50dt'!C6+'billets de 100dt'!C6 -> 5 | D6: ='billets de 20dt'!D6+'Billets 30dt'!D6+'billets de 50dt'!D6+'billets de 100dt'!D6 -> 5 | E6: ='billets de 20dt'!E6+'Billets 30dt'!E6+'billets de 50dt'!E6+'billets de 100dt'!E6 -> 0 | F6: ='billets de 20dt'!F6+'Billets 30dt'!F6+'billets de 50dt'!F6+'billets de 100dt'!F6 -> 5 | G6: ='billets de 20dt'!G6+'Billets 30dt'!G6+'billets de 50dt'!G6+'billets de 100dt'!G6 -> 500 | H6: ='billets de 20dt'!H6+'Billets 30dt'!H6+'billets de 50dt'!H6+'billets de 100dt'!H6 -> 500 | I6: ='billets de 20dt'!I6+'Billets 30dt'!I6+'billets de 50dt'!I6+'billets de 100dt'!I6 -> 0
A7: Ben Rayana | B7: Ahmed | C7: ='billets de 20dt'!C7+'Billets 30dt'!C7+'billets de 50dt'!C7+'billets de 100dt'!C7 -> 0 | D7: ='billets de 20dt'!D7+'Billets 30dt'!D7+'billets de 50dt'!D7+'billets de 100dt'!D7 -> 0 | E7: ='billets de 20dt'!E7+'Billets 30dt'!E7+'billets de 50dt'!E7+'billets de 100dt'!E7 -> 0 | F7: ='billets de 20dt'!F7+'Billets 30dt'!F7+'billets de 50dt'!F7+'billets de 100dt'!F7 -> 0 | G7: ='billets de 20dt'!G7+'Billets 30dt'!G7+'billets de 50dt'!G7+'billets de 100dt'!G7 -> 0 | H7: ='billets de 20dt'!H7+'Billets 30dt'!H7+'billets de 50dt'!H7+'billets de 100dt'!H7 -> 0 | I7: ='billets de 20dt'!I7+'Billets 30dt'!I7+'billets de 50dt'!I7+'billets de 100dt'!I7 -> 0
A8: Snoussi | B8: Khadija | C8: ='billets de 20dt'!C8+'Billets 30dt'!C8+'billets de 50dt'!C8+'billets de 100dt'!C8 -> 0 | D8: ='billets de 20dt'!D8+'Billets 30dt'!D8+'billets de 50dt'!D8+'billets de 100dt'!D8 -> 0 | E8: ='billets de 20dt'!E8+'Billets 30dt'!E8+'billets de 50dt'!E8+'billets de 100dt'!E8 -> 0 | F8: ='billets de 20dt'!F8+'Billets 30dt'!F8+'billets de 50dt'!F8+'billets de 100dt'!F8 -> 0 | G8: ='billets de 20dt'!G8+'Billets 30dt'!G8+'billets de 50dt'!G8+'billets de 100dt'!G8 -> 0 | H8: ='billets de 20dt'!H8+'Billets 30dt'!H8+'billets de 50dt'!H8+'billets de 100dt'!H8 -> 0 | I8: ='billets de 20dt'!I8+'Billets 30dt'!I8+'billets de 50dt'!I8+'billets de 100dt'!I8 -> 0
A9: Aymonier | B9: Benoit | C9: ='billets de 20dt'!C9+'Billets 30dt'!C9+'billets de 50dt'!C9+'billets de 100dt'!C9 -> 0 | D9: ='billets de 20dt'!D9+'Billets 30dt'!D9+'billets de 50dt'!D9+'billets de 100dt'!D9 -> 0 | E9: ='billets de 20dt'!E9+'Billets 30dt'!E9+'billets de 50dt'!E9+'billets de 100dt'!E9 -> 0 | F9: ='billets de 20dt'!F9+'Billets 30dt'!F9+'billets de 50dt'!F9+'billets de 100dt'!F9 -> 0 | G9: ='billets de 20dt'!G9+'Billets 30dt'!G9+'billets de 50dt'!G9+'billets de 100dt'!G9 -> 0 | H9: ='billets de 20dt'!H9+'Billets 30dt'!H9+'billets de 50dt'!H9+'billets de 100dt'!H9 -> 0 | I9: ='billets de 20dt'!I9+'Billets 30dt'!I9+'billets de 50dt'!I9+'billets de 100dt'!I9 -> 0
A10: Gueblaoui | B10: Khamaies | C10: ='billets de 20dt'!C10+'Billets 30dt'!C10+'billets de 50dt'!C10+'billets de 100dt'!C10 -> 0 | D10: ='billets de 20dt'!D10+'Billets 30dt'!D10+'billets de 50dt'!D10+'billets de 100dt'!D10 -> 0 | E10: ='billets de 20dt'!E10+'Billets 30dt'!E10+'billets de 50dt'!E10+'billets de 100dt'!E10 -> 0 | F10: ='billets de 20dt'!F10+'Billets 30dt'!F10+'billets de 50dt'!F10+'billets de 100dt'!F10 -> 0 | G10: ='billets de 20dt'!G10+'Billets 30dt'!G10+'billets de 50dt'!G10+'billets de 100dt'!G10 -> 0 | H10: ='billets de 20dt'!H10+'Billets 30dt'!H10+'billets de 50dt'!H10+'billets de 100dt'!H10 -> 0 | I10: ='billets de 20dt'!I10+'Billets 30dt'!I10+'billets de 50dt'!I10+'billets de 100dt'!I10 -> 0
A11: ESSAFI | B11: Maher | C11: ='billets de 20dt'!C11+'Billets 30dt'!C11+'billets de 50dt'!C11+'billets de 100dt'!C11 -> 0 | D11: ='billets de 20dt'!D11+'Billets 30dt'!D11+'billets de 50dt'!D11+'billets de 100dt'!D11 -> 0 | E11: ='billets de 20dt'!E11+'Billets 30dt'!E11+'billets de 50dt'!E11+'billets de 100dt'!E11 -> 0 | F11: ='billets de 20dt'!F11+'Billets 30dt'!F11+'billets de 50dt'!F11+'billets de 100dt'!F11 -> 0 | G11: ='billets de 20dt'!G11+'Billets 30dt'!G11+'billets de 50dt'!G11+'billets de 100dt'!G11 -> 0 | H11: ='billets de 20dt'!H11+'Billets 30dt'!H11+'billets de 50dt'!H11+'billets de 100dt'!H11 -> 0 | I11: ='billets de 20dt'!I11+'Billets 30dt'!I11+'billets de 50dt'!I11+'billets de 100dt'!I11 -> 0
A12: MAGROUN | B12: Khaled | C12: ='billets de 20dt'!C12+'Billets 30dt'!C12+'billets de 50dt'!C12+'billets de 100dt'!C12 -> 0 | D12: ='billets de 20dt'!D12+'Billets 30dt'!D12+'billets de 50dt'!D12+'billets de 100dt'!D12 -> 0 | E12: ='billets de 20dt'!E12+'Billets 30dt'!E12+'billets de 50dt'!E12+'billets de 100dt'!E12 -> 0 | F12: ='billets de 20dt'!F12+'Billets 30dt'!F12+'billets de 50dt'!F12+'billets de 100dt'!F12 -> 0 | G12: ='billets de 20dt'!G12+'Billets 30dt'!G12+'billets de 50dt'!G12+'billets de 100dt'!G12 -> 0 | H12: ='billets de 20dt'!H12+'Billets 30dt'!H12+'billets de 50dt'!H12+'billets de 100dt'!H12 -> 0 | I12: ='billets de 20dt'!I12+'Billets 30dt'!I12+'billets de 50dt'!I12+'billets de 100dt'!I12 -> 0
A13: MESTIRI | B13: Lassaad | C13: ='billets de 20dt'!C13+'Billets 30dt'!C13+'billets de 50dt'!C13+'billets de 100dt'!C13 -> 0 | D13: ='billets de 20dt'!D13+'Billets 30dt'!D13+'billets de 50dt'!D13+'billets de 100dt'!D13 -> 0 | E13: ='billets de 20dt'!E13+'Billets 30dt'!E13+'billets de 50dt'!E13+'billets de 100dt'!E13 -> 0 | F13: ='billets de 20dt'!F13+'Billets 30dt'!F13+'billets de 50dt'!F13+'billets de 100dt'!F13 -> 0 | G13: ='billets de 20dt'!G13+'Billets 30dt'!G13+'billets de 50dt'!G13+'billets de 100dt'!G13 -> 0 | H13: ='billets de 20dt'!H13+'Billets 30dt'!H13+'billets de 50dt'!H13+'billets de 100dt'!H13 -> 0 | I13: ='billets de 20dt'!I13+'Billets 30dt'!I13+'billets de 50dt'!I13+'billets de 100dt'!I13 -> 0
A14: TRABELSI | B14: Mahmoud | C14: ='billets de 20dt'!C14+'Billets 30dt'!C14+'billets de 50dt'!C14+'billets de 100dt'!C14 -> 0 | D14: ='billets de 20dt'!D14+'Billets 30dt'!D14+'billets de 50dt'!D14+'billets de 100dt'!D14 -> 0 | E14: ='billets de 20dt'!E14+'Billets 30dt'!E14+'billets de 50dt'!E14+'billets de 100dt'!E14 -> 0 | F14: ='billets de 20dt'!F14+'Billets 30dt'!F14+'billets de 50dt'!F14+'billets de 100dt'!F14 -> 0 | G14: ='billets de 20dt'!G14+'Billets 30dt'!G14+'billets de 50dt'!G14+'billets de 100dt'!G14 -> 0 | H14: ='billets de 20dt'!H14+'Billets 30dt'!H14+'billets de 50dt'!H14+'billets de 100dt'!H14 -> 0 | I14: ='billets de 20dt'!I14+'Billets 30dt'!I14+'billets de 50dt'!I14+'billets de 100dt'!I14 -> 0
A15: EL BAH | B15: Karim | C15: ='billets de 20dt'!C15+'Billets 30dt'!C15+'billets de 50dt'!C15+'billets de 100dt'!C15 -> 0 | D15: ='billets de 20dt'!D15+'Billets 30dt'!D15+'billets de 50dt'!D15+'billets de 100dt'!D15 -> 0 | E15: ='billets de 20dt'!E15+'Billets 30dt'!E15+'billets de 50dt'!E15+'billets de 100dt'!E15 -> 0 | F15: ='billets de 20dt'!F15+'Billets 30dt'!F15+'billets de 50dt'!F15+'billets de 100dt'!F15 -> 0 | G15: ='billets de 20dt'!G15+'Billets 30dt'!G15+'billets de 50dt'!G15+'billets de 100dt'!G15 -> 0 | H15: ='billets de 20dt'!H15+'Billets 30dt'!H15+'billets de 50dt'!H15+'billets de 100dt'!H15 -> 0 | I15: ='billets de 20dt'!I15+'Billets 30dt'!I15+'billets de 50dt'!I15+'billets de 100dt'!I15 -> 0
A16: Dabbreya | B16: henda | C16: ='billets de 20dt'!C16+'Billets 30dt'!C16+'billets de 50dt'!C16+'billets de 100dt'!C16 -> 0 | D16: ='billets de 20dt'!D16+'Billets 30dt'!D16+'billets de 50dt'!D16+'billets de 100dt'!D16 -> 0 | E16: ='billets de 20dt'!E16+'Billets 30dt'!E16+'billets de 50dt'!E16+'billets de 100dt'!E16 -> 0 | F16: ='billets de 20dt'!F16+'Billets 30dt'!F16+'billets de 50dt'!F16+'billets de 100dt'!F16 -> 0 | G16: ='billets de 20dt'!G16+'Billets 30dt'!G16+'billets de 50dt'!G16+'billets de 100dt'!G16 -> 0 | H16: ='billets de 20dt'!H16+'Billets 30dt'!H16+'billets de 50dt'!H16+'billets de 100dt'!H16 -> 0 | I16: ='billets de 20dt'!I16+'Billets 30dt'!I16+'billets de 50dt'!I16+'billets de 100dt'!I16 -> 0
... A21: Khouja | B21: Maha | C21: ='billets de 20dt'!C21+'Billets 30dt'!C21+'billets de 50dt'!C21+'billets de 100dt'!C21 -> 0 | D21: ='billets de 20dt'!D21+'Billets 30dt'!D21+'billets de 50dt'!D21+'billets de 100dt'!D21 -> 0 | E21: ='billets de 20dt'!E21+'Billets 30dt'!E21+'billets de 50dt'!E21+'billets de 100dt'!E21 -> 0 | F21: ='billets de 20dt'!F21+'Billets 30dt'!F21+'billets de 50dt'!F21+'billets de 100dt'!F21 -> 0 | G21: ='billets de 20dt'!G21+'Billets 30dt'!G21+'billets de 50dt'!G21+'billets de 100dt'!G21 -> 0 | H21: ='billets de 20dt'!H21+'Billets 30dt'!H21+'billets de 50dt'!H21+'billets de 100dt'!H21 -> 0 | I21: ='billets de 20dt'!I21+'Billets 30dt'!I21+'billets de 50dt'!I21+'billets de 100dt'!I21 -> 0
A22: guichet théatre Municipal | C22: ='billets de 20dt'!C22+'Billets 30dt'!C22+'billets de 50dt'!C22+'billets de 100dt'!C22 -> 703 | D22: ='billets de 20dt'!D22+'Billets 30dt'!D22+'billets de 50dt'!D22+'billets de 100dt'!D22 -> 711 | E22: ='billets de 20dt'!E22+'Billets 30dt'!E22+'billets de 50dt'!E22+'billets de 100dt'!E22 -> -8 | F22: ='billets de 20dt'!F22+'Billets 30dt'!F22+'billets de 50dt'!F22+'billets de 100dt'!F22 -> 711 | G22: ='billets de 20dt'!G22+'Billets 30dt'!G22+'billets de 50dt'!G22+'billets de 100dt'!G22 -> 21100 | H22: ='billets de 20dt'!H22+'Billets 30dt'!H22+'billets de 50dt'!H22+'billets de 100dt'!H22 -> 0 | I22: ='billets de 20dt'!I22+'Billets 30dt'!I22+'billets de 50dt'!I22+'billets de 100dt'!I22 -> 21100
A23: tiklik | C23: ='billets de 20dt'!C23+'Billets 30dt'!C23+'billets de 50dt'!C23+'billets de 100dt'!C23 -> 0 | D23: ='billets de 20dt'!D23+'Billets 30dt'!D23+'billets de 50dt'!D23+'billets de 100dt'!D23 -> 0 | E23: ='billets de 20dt'!E23+'Billets 30dt'!E23+'billets de 50dt'!E23+'billets de 100dt'!E23 -> 0 | F23: ='billets de 20dt'!F23+'Billets 30dt'!F23+'billets de 50dt'!F23+'billets de 100dt'!F23 -> 0 | G23: ='billets de 20dt'!G23+'Billets 30dt'!G23+'billets de 50dt'!G23+'billets de 100dt'!G23 -> 0 | H23: ='billets de 20dt'!H23+'Billets 30dt'!H23+'billets de 50dt'!H23+'billets de 100dt'!H23 -> 0 | I23: ='billets de 20dt'!I23+'Billets 30dt'!I23+'billets de 50dt'!I23+'billets de 100dt'!I23 -> 0
A41: Total | C41: ='billets de 20dt'!C41+'Billets 30dt'!C41+'billets de 50dt'!C41+'billets de 100dt'!C41 -> 711 | D41: ='billets de 20dt'!D41+'Billets 30dt'!D41+'billets de 50dt'!D41+'billets de 100dt'!D41 -> 698 | E41: ='billets de 20dt'!E41+'Billets 30dt'!E41+'billets de 50dt'!E41+'billets de 100dt'!E41 -> -8 | F41: ='billets de 20dt'!F41+'Billets 30dt'!F41+'billets de 50dt'!F41+'billets de 100dt'!F41 -> 719 | G41: =SUM(G5:G23) -> 21900 | H41: =SUM(H5:H23) -> 800 | I41: =SUM(I5:I23) -> 21100 | J41: =I41-J23-J22 -> 21100
H42: =H41+J41 -> 21900

Sheet billets de 20dt
C1: Pièce de théatre
D3: BILETS DE 20 TND
A4: Nom & Prénom | C4: Billets Recus | D4: ventes | E4: retour billets | F4: billets vendus | G4: montant | H4: Reçu | I4: reste
A5: =Somme!A5 -> AYADI | B5: =Somme!B5 -> Raoudha | E5: =C5-D5 -> 0 | F5: =C5-E5 -> 0 | G5: =20*F5 -> 0 | I5: =G5-H5 -> 0
A6: =Somme!A6 -> ELLOUMI | B6: =Somme!B6 -> Tarak | E6: =C6-D6 -> 0 | F6: =C6-E6 -> 0 | G6: =20*F6 -> 0 | I6: =G6-H6 -> 0
A7: =Somme!A7 -> Ben Rayana | B7: =Somme!B7 -> Ahmed | E7: =C7-D7 -> 0 | F7: =C7-E7 -> 0 | G7: =20*F7 -> 0 | I7: =G7-H7 -> 0
A8: =Somme!A8 -> Snoussi | B8: =Somme!B8 -> Khadija | E8: =C8-D8 -> 0 | F8: =C8-E8 -> 0 | G8: =20*F8 -> 0 | I8: =G8-H8 -> 0
A9: =Somme!A9 -> Aymonier | B9: =Somme!B9 -> Benoit | C9: 0 | D9: 0 | E9: =C9-D9 -> 0 | F9: =C9-E9 -> 0 | G9: =20*F9 -> 0 | I9: =G9-H9 -> 0
A10: =Somme!A10 -> Gueblaoui | B10: =Somme!B10 -> Khamaies | E10: =C10-D10 -> 0 | F10: =C10-E10 -> 0 | G10: =20*F10 -> 0 | I10: =G10-H10 -> 0
A11: =Somme!A11 -> ESSAFI | B11: =Somme!B11 -> Maher | E11: =C11-D11 -> 0 | F11: =C11-E11 -> 0 | G11: =20*F11 -> 0 | I11: =G11-H11 -> 0
A12: =Somme!A12 -> MAGROUN | B12: =Somme!B12 -> Khaled | E12: =C12-D12 -> 0 | F12: =C12-E12 -> 0 | G12: =20*F12 -> 0 | I12: =G12-H12 -> 0
A13: =Somme!A13 -> MESTIRI | B13: =Somme!B13 -> Lassaad | E13: 0 | F13: =C13-E13 -> 0 | G13: =20*F13 -> 0 | I13: =G13-H13 -> 0
A14: =Somme!A14 -> TRABELSI | B14: =Somme!B14 -> Mahmoud | E14: =C14-D14 -> 0 | F14: =C14-E14 -> 0 | G14: =20*F14 -> 0 | I14: =G14-H14 -> 0
A15: =Somme!A15 -> EL BAH | B15: =Somme!B15 -> Karim | E15: =C15-D15 -> 0 | F15: =C15-E15 -> 0 | G15: =20*F15 -> 0 | I15: =G15-H15 -> 0
A16: =Somme!A16 -> Dabbreya | B16: =Somme!B16 -> henda | E16: =C16-D16 -> 0 | F16: =C16-E16 -> 0 | G16: =20*F16 -> 0 | I16: =G16-H16 -> 0
A17: =Somme!A17 -> Bel Hadh Taher | B17: =Somme!B17 -> eya | E17: =C17-D17 -> 0 | F17: =C17-E17 -> 0 | G17: =20*F17 -> 0 | I17: =G17-H17 -> 0
A18: =Somme!A18 -> BARHOUMI | B18: =Somme!B18 -> Slim | E18: =C18-D18 -> 0 | F18: =C18-E18 -> 0 | G18: =20*F18 -> 0 | I18: =G18-H18 -> 0
A19: =Somme!A19 -> Gharbi | B19: =Somme!B19 -> Afef | E19: =C19-D19 -> 0 | F19: =C19-E19 -> 0 | G19: =20*F19 -> 0 | I19: =G19-H19 -> 0
A20: =Somme!A20 -> Malouch | B20: =Somme!B20 -> Asma | E20: =C20-D20 -> 0 | F20: =C20-E20 -> 0 | G20: =20*F20 -> 0 | I20: =G20-H20 -> 0
A21: =Somme!A21 -> Khouja | B21: =Somme!B21 -> Maha | E21: =C21-D21 -> 0 | F21: =C21-E21 -> 0 | G21: =20*F21 -> 0 | I21: =G21-H21 -> 0
A22: =Somme!A22 -> guichet théatre Municipal | C22: 172 | D22: 180 | E22: =C22-D22 -> -8 | F22: =C22-E22 -> 180 | G22: =20*F22 -> 3600 | I22: =G22-H22 -> 3600
A23: =Somme!A23 -> tiklik | E23: =C23-D23 -> 0 | F23: =C23-E23 -> 0 | G23: =20*F23 -> 0 | I23: =G23-H23 -> 0
A24: =Somme!A24 -> 0 | B24: =Somme!B24 -> 0 | E24: =C24-D24 -> 0 | F24: =C24-E24 -> 0 | G24: =20*F24 -> 0 | I24: =G24-H24 -> 0
A25: =Somme!A25 -> 0 | B25: =Somme!B25 -> 0 | E25: =C25-D25 -> 0 | F25: =C25-E25 -> 0 | G25: =20*F25 -> 0 | I25: =G25-H25 -> 0
A26: =Somme!A26 -> 0 | B26: =Somme!B26 -> 0 | E26: =C26-D26 -> 0 | F26: =C26-E26 -> 0 | G26: =20*F26 -> 0 | I26: =G26-H26 -> 0
A27: =Somme!A27 -> 0 | B27: =Somme!B27 -> 0 | E27: =C27-D27 -> 0 | F27: =C27-E27 -> 0 | G27: =20*F27 -> 0 | I27: =G27-H27 -> 0
A28: =Somme!A28 -> 0 | B28: =Somme!B28 -> 0 | E28: =C28-D28 -> 0 | F28: =C28-E28 -> 0 | G28: =20*F28 -> 0 | I28: =G28-H28 -> 0
A29: =Somme!A29 -> 0 | B29: =Somme!B29 -> 0 | E29: =C29-D29 -> 0 | F29: =C29-E29 -> 0 | G29: =20*F29 -> 0 | I29: =G29-H29 -> 0
A30: =Somme!A30 -> 0 | B30: =Somme!B30 -> 0 | E30: =C30-D30 -> 0 | F30: =C30-E30 -> 0 | G30: =20*F30 -> 0 | I30: =G30-H30 -> 0
A31: =Somme!A31 -> 0 | B31: =Somme!B31 -> 0 | E31: =C31-D31 -> 0 | F31: =C31-E31 -> 0 | G31: =20*F31 -> 0 | I31: =G31-H31 -> 0
A32: =Somme!A32 -> 0 | B32: =Somme!B32 -> 0 | E32: =C32-D32 -> 0 | F32: =C32-E32 -> 0 | G32: =20*F32 -> 0 | I32: =G32-H32 -> 0
A33: =Somme!A33 -> 0 | B33: =Somme!B33 -> 0 | E33: =C33-D33 -> 0 | F33: =C33-E33 -> 0 | G33: =20*F33 -> 0 | I33: =G33-H33 -> 0
A34: =Somme!A34 -> 0 | B34: =Somme!B34 -> 0 | E34: =C34-D34 -> 0 | F34: =C34-E34 -> 0 | G34: =20*F34 -> 0 | I34: =G34-H34 -> 0
A35: =Somme!A35 -> 0 | B35: =Somme!B35 -> 0 | E35: =C35-D35 -> 0 | F35: =C35-E35 -> 0 | G35: =20*F35 -> 0 | I35: =G35-H35 -> 0
... A40: =Somme!A40 -> 0 | B40: =Somme!B40 -> 0 | E40: =C40-D40 -> 0 | F40: =C40-E40 -> 0 | G40: =20*F40 -> 0 | I40: =G40-H40 -> 0
A41: Total | C41: =SUM(C5:C40) -> 172 | D41: =SUM(D5:D40) -> 180 | E41: =SUM(E5:E40) -> -8 | F41: =SUM(F5:F40) -> 180 | G41: =SUM(G5:G40) -> 3600 | H41: =SUM(H5:H40) -> 0 | I41: =SUM(I5:I40) -> 3600 | J41: =I41-J23-J22 -> 3600
A42: Reste nbr billets | C42: =172-C41 -> 0 | D42: =172-D41 -> -8 | H42: =H41+J41 -> 3600

Sheet Billets 30dt
C1: Pièce de théatre
D3: BILETS DE 30 TND
A4: Nom & Prénom | C4: Billets Recus | D4: ventes | E4: retour billets | F4: billets vendus | G4: montant | H4: Reçu | I4: reste
A5: =Somme!A5 -> AYADI | B5: =Somme!B5 -> Raoudha | E5: =C5-D5 -> 0 | F5: =C5-E5 -> 0 | G5: =30*F5 -> 0 | I5: =G5-H5 -> 0
A6: =Somme!A6 -> ELLOUMI | B6: =Somme!B6 -> Tarak | E6: =C6-D6 -> 0 | F6: =C6-E6 -> 0 | G6: =30*F6 -> 0 | I6: =G6-H6 -> 0
A7: =Somme!A7 -> Ben Rayana | B7: =Somme!B7 -> Ahmed | E7: =C7-D7 -> 0 | F7: =C7-E7 -> 0 | G7: =30*F7 -> 0 | I7: =G7-H7 -> 0
A8: =Somme!A8 -> Snoussi | B8: =Somme!B8 -> Khadija | E8: =C8-D8 -> 0 | F8: =C8-E8 -> 0 | G8: =30*F8 -> 0 | I8: =G8-H8 -> 0
A9: =Somme!A9 -> Aymonier | B9: =Somme!B9 -> Benoit | E9: =C9-D9 -> 0 | F9: =C9-E9 -> 0 | G9: =30*F9 -> 0 | I9: =G9-H9 -> 0
A10: =Somme!A10 -> Gueblaoui | B10: =Somme!B10 -> Khamaies | E10: =C10-D10 -> 0 | F10: =C10-E10 -> 0 | G10: =30*F10 -> 0 | H10: 0 | I10: =G10-H10 -> 0
A11: =Somme!A11 -> ESSAFI | B11: =Somme!B11 -> Maher | E11: =C11-D11 -> 0 | F11: =C11-E11 -> 0 | G11: =30*F11 -> 0 | I11: =G11-H11 -> 0
A12: =Somme!A12 -> MAGROUN | B12: =Somme!B12 -> Khaled | E12: =C12-D12 -> 0 | F12: =C12-E12 -> 0 | G12: =30*F12 -> 0 | I12: =G12-H12 -> 0
A13: =Somme!A13 -> MESTIRI | B13: =Somme!B13 -> Lassaad | E13: 0 | F13: =C13-E13 -> 0 | G13: =30*F13 -> 0 | I13: =G13-H13 -> 0
A14: =Somme!A14 -> TRABELSI | B14: =Somme!B14 -> Mahmoud | E14: =C14-D14 -> 0 | F14: =C14-E14 -> 0 | G14: =30*F14 -> 0 | I14: =G14-H14 -> 0
A15: =Somme!A15 -> EL BAH | B15: =Somme!B15 -> Karim | E15: =C15-D15 -> 0 | F15: =C15-E15 -> 0 | G15: =30*F15 -> 0 | I15: =G15-H15 -> 0
A16: =Somme!A16 -> Dabbreya | B16: =Somme!B16 -> henda | E16: =C16-D16 -> 0 | F16: =C16-E16 -> 0 | G16: =30*F16 -> 0 | I16: =G16-H16 -> 0
A17: =Somme!A17 -> Bel Hadh Taher | B17: =Somme!B17 -> eya | E17: =C17-D17 -> 0 | F17: =C17-E17 -> 0 | G17: =30*F17 -> 0 | I17: =G17-H17 -> 0
A18: =Somme!A18 -> BARHOUMI | B18: =Somme!B18 -> Slim | E18: =C18-D18 -> 0 | F18: =C18-E18 -> 0 | G18: =30*F18 -> 0 | I18: =G18-H18 -> 0
A19: =Somme!A19 -> Gharbi | B19: =Somme!B19 -> Afef | E19: =C19-D19 -> 0 | F19: =C19-E19 -> 0 | G19: =30*F19 -> 0 | I19: =G19-H19 -> 0
A20: =Somme!A20 -> Malouch | B20: =Somme!B20 -> Asma | E20: =C20-D20 -> 0 | F20: =C20-E20 -> 0 | G20: =30*F20 -> 0 | I20: =G20-H20 -> 0
A21: =Somme!A21 -> Khouja | B21: =Somme!B21 -> Maha | E21: =C21-D21 -> 0 | F21: =C21-E21 -> 0 | G21: =30*F21 -> 0 | I21: =G21-H21 -> 0
A22: =Somme!A22 -> guichet théatre Municipal | C22: 485 | D22: 485 | E22: =C22-D22 -> 0 | F22: =C22-E22 -> 485 | G22: =30*F22 -> 14550 | I22: =G22-H22 -> 14550
A23: =Somme!A23 -> tiklik | E23: =C23-D23 -> 0 | F23: =C23-E23 -> 0 | G23: =30*F23 -> 0 | I23: =G23-H23 -> 0
A24: =Somme!A24 -> 0 | B24: =Somme!B24 -> 0 | E24: =C24-D24 -> 0 | F24: =C24-E24 -> 0 | G24: =30*F24 -> 0 | I24: =G24-H24 -> 0
A25: =Somme!A25 -> 0 | B25: =Somme!B25 -> 0 | E25: =C25-D25 -> 0 | F25: =C25-E25 -> 0 | G25: =30*F25 -> 0 | I25: =G25-H25 -> 0
A26: =Somme!A26 -> 0 | B26: =Somme!B26 -> 0 | E26: =C26-D26 -> 0 | F26: =C26-E26 -> 0 | G26: =30*F26 -> 0 | I26: =G26-H26 -> 0
A27: =Somme!A27 -> 0 | B27: =Somme!B27 -> 0 | E27: =C27-D27 -> 0 | F27: =C27-E27 -> 0 | G27: =30*F27 -> 0 | I27: =G27-H27 -> 0
A28: =Somme!A28 -> 0 | B28: =Somme!B28 -> 0 | E28: =C28-D28 -> 0 | F28: =C28-E28 -> 0 | G28: =30*F28 -> 0 | I28: =G28-H28 -> 0
A29: =Somme!A29 -> 0 | B29: =Somme!B29 -> 0 | E29: =C29-D29 -> 0 | F29: =C29-E29 -> 0 | G29: =30*F29 -> 0 | I29: =G29-H29 -> 0
A30: =Somme!A30 -> 0 | B30: =Somme!B30 -> 0 | E30: =C30-D30 -> 0 | F30: =C30-E30 -> 0 | G30: =30*F30 -> 0 | I30: =G30-H30 -> 0
A31: =Somme!A31 -> 0 | B31: =Somme!B31 -> 0 | E31: =C31-D31 -> 0 | F31: =C31-E31 -> 0 | G31: =30*F31 -> 0 | I31: =G31-H31 -> 0
A32: =Somme!A32 -> 0 | B32: =Somme!B32 -> 0 | E32: =C32-D32 -> 0 | F32: =C32-E32 -> 0 | G32: =30*F32 -> 0 | I32: =G32-H32 -> 0
A33: =Somme!A33 -> 0 | B33: =Somme!B33 -> 0 | E33: =C33-D33 -> 0 | F33: =C33-E33 -> 0 | G33: =30*F33 -> 0 | I33: =G33-H33 -> 0
A34: =Somme!A34 -> 0 | B34: =Somme!B34 -> 0 | E34: =C34-D34 -> 0 | F34: =C34-E34 -> 0 | G34: =30*F34 -> 0 | I34: =G34-H34 -> 0
A35: =Somme!A35 -> 0 | B35: =Somme!B35 -> 0 | E35: =C35-D35 -> 0 | F35: =C35-E35 -> 0 | G35: =30*F35 -> 0 | I35: =G35-H35 -> 0
... A40: =Somme!A40 -> 0 | B40: =Somme!B40 -> 0 | E40: =C40-D40 -> 0 | F40: =C40-E40 -> 0 | G40: =30*F40 -> 0 | I40: =G40-H40 -> 0
A41: Total | C41: =SUM(C5:C40) -> 485 | D41: =SUM(D5:D40) -> 485 | E41: =SUM(E5:E40) -> 0 | F41: =SUM(F5:F40) -> 485 | G41: =SUM(G5:G40) -> 14550 | H41: =SUM(H5:H40) -> 0 | I41: =SUM(I5:I40) -> 14550 | J41: =I41-J23-J22 -> 14550
A42: Reste nbr billets | C42: =485-C41 -> 0 | D42: =485-D41 -> 0 | H42: =H41+J41 -> 14550

Sheet Billets 50dt

Sheet billets de 50dt
C1: Pièce de théatre
D3: BILETS DE 50 TND
A4: Nom & Prénom | C4: Billets Recus | D4: ventes | E4: retour billets | F4: billets vendus | G4: montant | H4: Reçu | I4: reste
A5: =Somme!A5 -> AYADI | B5: =Somme!B5 -> Raoudha | E5: =C5-D5 -> 0 | F5: =C5-E5 -> 0 | G5: =50*F5 -> 0 | I5: =G5-H5 -> 0
A6: =Somme!A6 -> ELLOUMI | B6: =Somme!B6 -> Tarak | E6: =C6-D6 -> 0 | F6: =C6-E6 -> 0 | G6: =50*F6 -> 0 | I6: =G6-H6 -> 0
A7: =Somme!A7 -> Ben Rayana | B7: =Somme!B7 -> Ahmed | E7: =C7-D7 -> 0 | F7: =C7-E7 -> 0 | G7: =50*F7 -> 0 | I7: =G7-H7 -> 0
A8: =Somme!A8 -> Snoussi | B8: =Somme!B8 -> Khadija | E8: =C8-D8 -> 0 | F8: =C8-E8 -> 0 | G8: =50*F8 -> 0 | I8: =G8-H8 -> 0
A9: =Somme!A9 -> Aymonier | B9: =Somme!B9 -> Benoit | E9: =C9-D9 -> 0 | F9: =C9-E9 -> 0 | G9: =50*F9 -> 0 | I9: =G9-H9 -> 0
A10: =Somme!A10 -> Gueblaoui | B10: =Somme!B10 -> Khamaies | E10: =C10-D10 -> 0 | F10: =C10-E10 -> 0 | G10: =50*F10 -> 0 | I10: =G10-H10 -> 0
A11: =Somme!A11 -> ESSAFI | B11: =Somme!B11 -> Maher | E11: =C11-D11 -> 0 | F11: =C11-E11 -> 0 | G11: =50*F11 -> 0 | I11: =G11-H11 -> 0
A12: =Somme!A12 -> MAGROUN | B12: =Somme!B12 -> Khaled | E12: =C12-D12 -> 0 | F12: =C12-E12 -> 0 | G12: =50*F12 -> 0 | I12: =G12-H12 -> 0
A13: =Somme!A13 -> MESTIRI | B13: =Somme!B13 -> Lassaad | E13: 0 | F13: =C13-E13 -> 0 | G13: =50*F13 -> 0 | I13: =G13-H13 -> 0
A14: =Somme!A14 -> TRABELSI | B14: =Somme!B14 -> Mahmoud | E14: =C14-D14 -> 0 | F14: =C14-E14 -> 0 | G14: =50*F14 -> 0 | I14: =G14-H14 -> 0
A15: =Somme!A15 -> EL BAH | B15: =Somme!B15 -> Karim | E15: =C15-D15 -> 0 | F15: =C15-E15 -> 0 | G15: =50*F15 -> 0 | I15: =G15-H15 -> 0
A16: =Somme!A16 -> Dabbreya | B16: =Somme!B16 -> henda | E16: =C16-D16 -> 0 | F16: =C16-E16 -> 0 | G16: =50*F16 -> 0 | I16: =G16-H16 -> 0
A17: =Somme!A17 -> Bel Hadh Taher | B17: =Somme!B17 -> eya | E17: =C17-D17 -> 0 | F17: =C17-E17 -> 0 | G17: =50*F17 -> 0 | I17: =G17-H17 -> 0
A18: =Somme!A18 -> BARHOUMI | B18: =Somme!B18 -> Slim | E18: =C18-D18 -> 0 | F18: =C18-E18 -> 0 | G18: =50*F18 -> 0 | I18: =G18-H18 -> 0
A19: =Somme!A19 -> Gharbi | B19: =Somme!B19 -> Afef | E19: =C19-D19 -> 0 | F19: =C19-E19 -> 0 | G19: =50*F19 -> 0 | I19: =G19-H19 -> 0
A20: =Somme!A20 -> Malouch | B20: =Somme!B20 -> Asma | E20: =C20-D20 -> 0 | F20: =C20-E20 -> 0 | G20: =50*F20 -> 0 | I20: =G20-H20 -> 0
A21: =Somme!A21 -> Khouja | B21: =Somme!B21 -> Maha | E21: =C21-D21 -> 0 | F21: =C21-E21 -> 0 | G21: =50*F21 -> 0 | I21: =G21-H21 -> 0
A22: =Somme!A22 -> guichet théatre Municipal | C22: 33 | D22: 33 | E22: =C22-D22 -> 0 | F22: =C22-E22 -> 33 | G22: =50*F22 -> 1650 | I22: =G22-H22 -> 1650
A23: =Somme!A23 -> tiklik | E23: =C23-D23 -> 0 | F23: =C23-E23 -> 0 | G23: =50*F23 -> 0 | I23: =G23-H23 -> 0
A24: =Somme!A24 -> 0 | B24: =Somme!B24 -> 0 | E24: =C24-D24 -> 0 | F24: =C24-E24 -> 0 | G24: =50*F24 -> 0 | I24: =G24-H24 -> 0
A25: =Somme!A25 -> 0 | B25: =Somme!B25 -> 0 | E25: =C25-D25 -> 0 | F25: =C25-E25 -> 0 | G25: =50*F25 -> 0 | I25: =G25-H25 -> 0
A26: =Somme!A26 -> 0 | B26: =Somme!B26 -> 0 | E26: =C26-D26 -> 0 | F26: =C26-E26 -> 0 | G26: =50*F26 -> 0 | I26: =G26-H26 -> 0
A27: =Somme!A27 -> 0 | B27: =Somme!B27 -> 0 | E27: =C27-D27 -> 0 | F27: =C27-E27 -> 0 | G27: =50*F27 -> 0 | I27: =G27-H27 -> 0
A28: =Somme!A28 -> 0 | B28: =Somme!B28 -> 0 | E28: =C28-D28 -> 0 | F28: =C28-E28 -> 0 | G28: =50*F28 -> 0 | I28: =G28-H28 -> 0
A29: =Somme!A29 -> 0 | B29: =Somme!B29 -> 0 | E29: =C29-D29 -> 0 | F29: =C29-E29 -> 0 | G29: =50*F29 -> 0 | I29: =G29-H29 -> 0
A30: =Somme!A30 -> 0 | B30: =Somme!B30 -> 0 | E30: =C30-D30 -> 0 | F30: =C30-E30 -> 0 | G30: =50*F30 -> 0 | I30: =G30-H30 -> 0
A31: =Somme!A31 -> 0 | B31: =Somme!B31 -> 0 | E31: =C31-D31 -> 0 | F31: =C31-E31 -> 0 | G31: =50*F31 -> 0 | I31: =G31-H31 -> 0
A32: =Somme!A32 -> 0 | B32: =Somme!B32 -> 0 | E32: =C32-D32 -> 0 | F32: =C32-E32 -> 0 | G32: =50*F32 -> 0 | I32: =G32-H32 -> 0
A33: =Somme!A33 -> 0 | B33: =Somme!B33 -> 0 | E33: =C33-D33 -> 0 | F33: =C33-E33 -> 0 | G33: =50*F33 -> 0 | I33: =G33-H33 -> 0
A34: =Somme!A34 -> 0 | B34: =Somme!B34 -> 0 | E34: =C34-D34 -> 0 | F34: =C34-E34 -> 0 | G34: =50*F34 -> 0 | I34: =G34-H34 -> 0
A35: =Somme!A35 -> 0 | B35: =Somme!B35 -> 0 | E35: =C35-D35 -> 0 | F35: =C35-E35 -> 0 | G35: =50*F35 -> 0 | I35: =G35-H35 -> 0
... A40: =Somme!A40 -> 0 | B40: =Somme!B40 -> 0 | E40: =C40-D40 -> 0 | F40: =C40-E40 -> 0 | G40: =50*F40 -> 0 | I40: =G40-H40 -> 0
A41: Total | C41: =SUM(C5:C40) -> 33 | D41: =SUM(D5:D40) -> 33 | E41: =SUM(E5:E40) -> 0 | F41: =SUM(F5:F40) -> 33 | G41: =SUM(G5:G40) -> 1650 | H41: =SUM(H5:H40) -> 0 | I41: =SUM(I5:I40) -> 1650 | J41: =I41-J23-J22 -> 1650
C42: =C41*50 -> 1650 | E42: =E41*50 -> 0 | H42: =H41+J41 -> 1650

Sheet billets de 100dt
C1: Pièce de théatre
D3: BILETS DE 100 TND
A4: Nom & Prénom | C4: Billets Recus | D4: ventes | E4: retour billets | F4: billets vendus | G4: montant | H4: Reçu | I4: reste
A5: =Somme!A5 -> AYADI | B5: =Somme!B5 -> Raoudha | E5: =C5-D5 -> 0 | F5: =C5-E5 -> 0 | G5: =100*F5 -> 0 | I5: =G5-H5 -> 0
A6: =Somme!A6 -> ELLOUMI | B6: =Somme!B6 -> Tarak | C6: 5 | D6: 5 | E6: =C6-D6 -> 0 | F6: =C6-E6 -> 5 | G6: =100*F6 -> 500 | H6: 500 | I6: =G6-H6 -> 0
A7: =Somme!A7 -> Ben Rayana | B7: =Somme!B7 -> Ahmed | E7: =C7-D7 -> 0 | F7: =C7-E7 -> 0 | G7: =100*F7 -> 0 | I7: =G7-H7 -> 0
A8: =Somme!A8 -> Snoussi | B8: =Somme!B8 -> Khadija | E8: =C8-D8 -> 0 | F8: =C8-E8 -> 0 | G8: =100*F8 -> 0 | I8: =G8-H8 -> 0
A9: =Somme!A9 -> Aymonier | B9: =Somme!B9 -> Benoit | E9: =C9-D9 -> 0 | F9: =C9-E9 -> 0 | G9: =100*F9 -> 0 | I9: =G9-H9 -> 0
A10: =Somme!A10 -> Gueblaoui | B10: =Somme!B10 -> Khamaies | E10: =C10-D10 -> 0 | F10: =C10-E10 -> 0 | G10: =100*F10 -> 0 | I10: =G10-H10 -> 0
A11: =Somme!A11 -> ESSAFI | B11: =Somme!B11 -> Maher | E11: =C11-D11 -> 0 | F11: =C11-E11 -> 0 | G11: =100*F11 -> 0 | I11: =G11-H11 -> 0
A12: =Somme!A12 -> MAGROUN | B12: =Somme!B12 -> Khaled | E12: =C12-D12 -> 0 | F12: =C12-E12 -> 0 | G12: =100*F12 -> 0 | I12: =G12-H12 -> 0
A13: =Somme!A13 -> MESTIRI | B13: =Somme!B13 -> Lassaad | E13: 0 | F13: =C13-E13 -> 0 | G13: =100*F13 -> 0 | I13: =G13-H13 -> 0
A14: =Somme!A14 -> TRABELSI | B14: =Somme!B14 -> Mahmoud | E14: =C14-D14 -> 0 | F14: =C14-E14 -> 0 | G14: =100*F14 -> 0 | I14: =G14-H14 -> 0
A15: =Somme!A15 -> EL BAH | B15: =Somme!B15 -> Karim | E15: =C15-D15 -> 0 | F15: =C15-E15 -> 0 | G15: =100*F15 -> 0 | I15: =G15-H15 -> 0
A16: =Somme!A16 -> Dabbreya | B16: =Somme!B16 -> henda | E16: =C16-D16 -> 0 | F16: =C16-E16 -> 0 | G16: =100*F16 -> 0 | I16: =G16-H16 -> 0
A17: =Somme!A17 -> Bel Hadh Taher | B17: =Somme!B17 -> eya | E17: =C17-D17 -> 0 | F17: =C17-E17 -> 0 | G17: =100*F17 -> 0 | I17: =G17-H17 -> 0
A18: =Somme!A18 -> BARHOUMI | B18: =Somme!B18 -> Slim | E18: =C18-D18 -> 0 | F18: =C18-E18 -> 0 | G18: =100*F18 -> 0 | I18: =G18-H18 -> 0
A19: =Somme!A19 -> Gharbi | B19: =Somme!B19 -> Afef | E19: =C19-D19 -> 0 | F19: =C19-E19 -> 0 | G19: =100*F19 -> 0 | I19: =G19-H19 -> 0
A20: =Somme!A20 -> Malouch | B20: =Somme!B20 -> Asma | C20: 3 | D20: 3 | E20: =C20-D20 -> 0 | F20: =C20-E20 -> 3 | G20: =100*F20 -> 300 | H20: 300 | I20: =G20-H20 -> 0
A21: =Somme!A21 -> Khouja | B21: =Somme!B21 -> Maha | E21: =C21-D21 -> 0 | F21: =C21-E21 -> 0 | G21: =100*F21 -> 0 | I21: =G21-H21 -> 0
A22: =Somme!A22 -> guichet théatre Municipal | C22: 13 | D22: 13 | E22: =C22-D22 -> 0 | F22: =C22-E22 -> 13 | G22: =100*F22 -> 1300 | I22: =G22-H22 -> 1300
A23: =Somme!A23 -> tiklik | E23: =C23-D23 -> 0 | F23: =C23-E23 -> 0 | G23: =100*F23 -> 0 | I23: =G23-H23 -> 0
A24: =Somme!A24 -> 0 | B24: =Somme!B24 -> 0 | E24: =C24-D24 -> 0 | F24: =C24-E24 -> 0 | G24: =100*F24 -> 0 | I24: =G24-H24 -> 0
A25: =Somme!A25 -> 0 | B25: =Somme!B25 -> 0 | E25: =C25-D25 -> 0 | F25: =C25-E25 -> 0 | G25: =100*F25 -> 0 | I25: =G25-H25 -> 0
A26: =Somme!A26 -> 0 | B26: =Somme!B26 -> 0 | E26: =C26-D26 -> 0 | F26: =C26-E26 -> 0 | G26: =100*F26 -> 0 | I26: =G26-H26 -> 0
A27: =Somme!A27 -> 0 | B27: =Somme!B27 -> 0 | E27: =C27-D27 -> 0 | F27: =C27-E27 -> 0 | G27: =100*F27 -> 0 | I27: =G27-H27 -> 0
A28: =Somme!A28 -> 0 | B28: =Somme!B28 -> 0 | E28: =C28-D28 -> 0 | F28: =C28-E28 -> 0 | G28: =100*F28 -> 0 | I28: =G28-H28 -> 0
A29: =Somme!A29 -> 0 | B29: =Somme!B29 -> 0 | E29: =C29-D29 -> 0 | F29: =C29-E29 -> 0 | G29: =100*F29 -> 0 | I29: =G29-H29 -> 0
A30: =Somme!A30 -> 0 | B30: =Somme!B30 -> 0 | E30: =C30-D30 -> 0 | F30: =C30-E30 -> 0 | G30: =100*F30 -> 0 | I30: =G30-H30 -> 0
A31: =Somme!A31 -> 0 | B31: =Somme!B31 -> 0 | E31: =C31-D31 -> 0 | F31: =C31-E31 -> 0 | G31: =100*F31 -> 0 | I31: =G31-H31 -> 0
A32: =Somme!A32 -> 0 | B32: =Somme!B32 -> 0 | E32: =C32-D32 -> 0 | F32: =C32-E32 -> 0 | G32: =100*F32 -> 0 | I32: =G32-H32 -> 0
A33: =Somme!A33 -> 0 | B33: =Somme!B33 -> 0 | E33: =C33-D33 -> 0 | F33: =C33-E33 -> 0 | G33: =100*F33 -> 0 | I33: =G33-H33 -> 0
A34: =Somme!A34 -> 0 | B34: =Somme!B34 -> 0 | E34: =C34-D34 -> 0 | F34: =C34-E34 -> 0 | G34: =100*F34 -> 0 | I34: =G34-H34 -> 0
A35: =Somme!A35 -> 0 | B35: =Somme!B35 -> 0 | E35: =C35-D35 -> 0 | F35: =C35-E35 -> 0 | G35: =100*F35 -> 0 | I35: =G35-H35 -> 0
... A40: =Somme!A40 -> 0 | B40: =Somme!B40 -> 0 | E40: =C40-D40 -> 0 | F40: =C40-E40 -> 0 | G40: =100*F40 -> 0 | I40: =G40-H40 -> 0
A41: Total | C41: =SUM(C5:C40) -> 21 | E41: =SUM(E5:E40) -> 0 | F41: =SUM(F5:F40) -> 21 | G41: =SUM(G5:G40) -> 2100 | H41: =SUM(H5:H40) -> 800 | I41: =SUM(I5:I40) -> 1300 | J41: =I41-J23-J22 -> 1300
C42: =C41*100 -> 2100 | E42: =E41*100 -> 0 | H42: =H41+J41 -> 2100
