Workbook

Sheet Global
D1: ORANGES 10 Kg - 23€ | E1: CLEMENTINES 6 Kg - 16€ | F1: CITRONS 6 Kg - 16€ | G1: POMELOS 8 Kg - 20€ | H1: HUILE D'OLIVE 5 L - 44€ | I1: TOTAL
C2: Poids | D2: 10 | E2: 6 | F2: 6 | G2: 8 | H2: 5
C3: Prix | D3: 23 | E3: 16 | F3: 16 | G3: 20 | H3: 44
C4: TOTAL | D4: =SUM(D39+D74+D108+D142+D176+D210+D244) -> 0 | E4: =SUM(E39+E74+E108+E142+E176+E210+E244) -> 0 | F4: =SUM(F39+F74+F108+F142+F176+F210+F244) -> 0 | G4: =SUM(G39+G74+G108+G142+G176+G210+G244) -> 0 | H4: =SUM(H39+H74+H108+H142+H176+H210+H244) -> 0 | I4: =SUM(D4:H4) -> 0
A7: BELLERIVE-SUR-ALLIER | B7: NOM | C7: PRENOM | D7: ORANGES | E7: CLEMENTINES | F7: CITRONS | G7: POMELOS | H7: HUILE D'OLIVE | I7: TOTAL | J7: PAYE | K7: IMPAYE | L7: DATE DE REMISES EN BANQUE
B8: =Bellerive!B2 -> 0 | C8: =Bellerive!C2 -> 0 | D8: =Bellerive!D2 -> 0 | E8: =Bellerive!E2 -> 0 | F8: =Bellerive!F2 -> 0 | G8: =Bellerive!G2 -> 0 | H8: =Bellerive!H2 -> 0 | I8: =Bellerive!I2 -> 0 | ... L8: =Bellerive!L2 -> 0
B9: =Bellerive!B3 -> 0 | C9: =Bellerive!C3 -> 0 | D9: =Bellerive!D3 -> 0 | E9: =Bellerive!E3 -> 0 | F9: =Bellerive!F3 -> 0 | G9: =Bellerive!G3 -> 0 | H9: =Bellerive!H3 -> 0 | I9: =Bellerive!I3 -> 0 | ... L9: =Bellerive!L3 -> 0
B10: =Bellerive!B4 -> 0 | C10: =Bellerive!C4 -> 0 | D10: =Bellerive!D4 -> 0 | E10: =Bellerive!E4 -> 0 | F10: =Bellerive!F4 -> 0 | G10: =Bellerive!G4 -> 0 | H10: =Bellerive!H4 -> 0 | I10: =Bellerive!I4 -> 0 | ... L10: =Bellerive!L4 -> 0
B11: =Bellerive!B5 -> 0 | C11: =Bellerive!C5 -> 0 | D11: =Bellerive!D5 -> 0 | E11: =Bellerive!E5 -> 0 | F11: =Bellerive!F5 -> 0 | G11: =Bellerive!G5 -> 0 | H11: =Bellerive!H5 -> 0 | I11: =Bellerive!I5 -> 0 | ... L11: =Bellerive!L5 -> 0
B12: =Bellerive!B6 -> 0 | C12: =Bellerive!C6 -> 0 | D12: =Bellerive!D6 -> 0 | E12: =Bellerive!E6 -> 0 | F12: =Bellerive!F6 -> 0 | G12: =Bellerive!G6 -> 0 | H12: =Bellerive!H6 -> 0 | I12: =Bellerive!I6 -> 0 | ... L12: =Bellerive!L6 -> 0
B13: =Bellerive!B7 -> 0 | C13: =Bellerive!C7 -> 0 | D13: =Bellerive!D7 -> 0 | E13: =Bellerive!E7 -> 0 | F13: =Bellerive!F7 -> 0 | G13: =Bellerive!G7 -> 0 | H13: =Bellerive!H7 -> 0 | I13: =Bellerive!I7 -> 0 | ... L13: =Bellerive!L7 -> 0
B14: =Bellerive!B8 -> 0 | C14: =Bellerive!C8 -> 0 | D14: =Bellerive!D8 -> 0 | E14: =Bellerive!E8 -> 0 | F14: =Bellerive!F8 -> 0 | G14: =Bellerive!G8 -> 0 | H14: =Bellerive!H8 -> 0 | I14: =Bellerive!I8 -> 0 | ... L14: =Bellerive!L8 -> 0
B15: =Bellerive!B9 -> 0 | C15: =Bellerive!C9 -> 0 | D15: =Bellerive!D9 -> 0 | E15: =Bellerive!E9 -> 0 | F15: =Bellerive!F9 -> 0 | G15: =Bellerive!G9 -> 0 | H15: =Bellerive!H9 -> 0 | I15: =Bellerive!I9 -> 0 | ... L15: =Bellerive!L9 -> 0
B16: =Bellerive!B10 -> 0 | C16: =Bellerive!C10 -> 0 | D16: =Bellerive!D10 -> 0 | E16: =Bellerive!E10 -> 0 | F16: =Bellerive!F10 -> 0 | G16: =Bellerive!G10 -> 0 | H16: =Bellerive!H10 -> 0 | I16: =Bellerive!I10 -> 0 | ... L16: =Bellerive!L10 -> 0
B17: =Bellerive!B11 -> 0 | C17: =Bellerive!C11 -> 0 | D17: =Bellerive!D11 -> 0 | E17: =Bellerive!E11 -> 0 | F17: =Bellerive!F11 -> 0 | G17: =Bellerive!G11 -> 0 | H17: =Bellerive!H11 -> 0 | I17: =Bellerive!I11 -> 0 | ... L17: =Bellerive!L11 -> 0
B18: =Bellerive!B12 -> 0 | C18: =Bellerive!C12 -> 0 | D18: =Bellerive!D12 -> 0 | E18: =Bellerive!E12 -> 0 | F18: =Bellerive!F12 -> 0 | G18: =Bellerive!G12 -> 0 | H18: =Bellerive!H12 -> 0 | I18: =Bellerive!I12 -> 0 | ... L18: =Bellerive!L12 -> 0
B19: =Bellerive!B13 -> 0 | C19: =Bellerive!C13 -> 0 | D19: =Bellerive!D13 -> 0 | E19: =Bellerive!E13 -> 0 | F19: =Bellerive!F13 -> 0 | G19: =Bellerive!G13 -> 0 | H19: =Bellerive!H13 -> 0 | I19: =Bellerive!I13 -> 0 | ... L19: =Bellerive!L13 -> 0
... B37: =Bellerive!B31 -> 0 | C37: =Bellerive!C31 -> 0 | D37: =Bellerive!D31 -> 0 | E37: =Bellerive!E31 -> 0 | F37: =Bellerive!F31 -> 0 | G37: =Bellerive!G31 -> 0 | H37: =Bellerive!H31 -> 0 | I37: =Bellerive!I31 -> 0 | ... L37: =Bellerive!L31 -> 0
D39: =SUM(Tableau1[ORANGES]) -> 0 | E39: =SUM(Tableau1[CLEMENTINES]) -> 0 | F39: =SUM(Tableau1[CITRONS]) -> 0 | G39: =SUM(Tableau1[POMELOS]) -> 0 | H39: =SUM(Tableau1[HUILE D''OLIVE]) -> 0 | I39: =SUM(Tableau1[TOTAL]) -> 0
A42: CUSSET | B42: NOM | C42: PRENOM | D42: ORANGES | E42: CLEMENTINES | F42: CITRONS | G42: POMELOS | H42: HUILE D'OLIVE | I42: TOTAL | J42: PAYE | K42: IMPAYE | L42: DATE DE REMISES EN BANQUE
B43: =+Cusset!B2 -> 0 | C43: =+Cusset!C2 -> 0 | D43: =+Cusset!D2 -> 0 | E43: =+Cusset!E2 -> 0 | F43: =+Cusset!F2 -> 0 | G43: =+Cusset!G2 -> 0 | H43: =+Cusset!H2 -> 0 | I43: =+Cusset!I2 -> 0 | ... L43: =+Cusset!L2 -> 0
B44: =+Cusset!B3 -> 0 | C44: =+Cusset!C3 -> 0 | D44: =+Cusset!D3 -> 0 | E44: =+Cusset!E3 -> 0 | F44: =+Cusset!F3 -> 0 | G44: =+Cusset!G3 -> 0 | H44: =+Cusset!H3 -> 0 | I44: =+Cusset!I3 -> 0 | ... L44: =+Cusset!L3 -> 0
B45: =+Cusset!B4 -> 0 | C45: =+Cusset!C4 -> 0 | D45: =+Cusset!D4 -> 0 | E45: =+Cusset!E4 -> 0 | F45: =+Cusset!F4 -> 0 | G45: =+Cusset!G4 -> 0 | H45: =+Cusset!H4 -> 0 | I45: =+Cusset!I4 -> 0 | ... L45: =+Cusset!L4 -> 0
B46: =+Cusset!B5 -> 0 | C46: =+Cusset!C5 -> 0 | D46: =+Cusset!D5 -> 0 | E46: =+Cusset!E5 -> 0 | F46: =+Cusset!F5 -> 0 | G46: =+Cusset!G5 -> 0 | H46: =+Cusset!H5 -> 0 | I46: =+Cusset!I5 -> 0 | ... L46: =+Cusset!L5 -> 0
B47: =+Cusset!B6 -> 0 | C47: =+Cusset!C6 -> 0 | D47: =+Cusset!D6 -> 0 | E47: =+Cusset!E6 -> 0 | F47: =+Cusset!F6 -> 0 | G47: =+Cusset!G6 -> 0 | H47: =+Cusset!H6 -> 0 | I47: =+Cusset!I6 -> 0 | ... L47: =+Cusset!L6 -> 0
B48: =+Cusset!B7 -> 0 | C48: =+Cusset!C7 -> 0 | D48: =+Cusset!D7 -> 0 | E48: =+Cusset!E7 -> 0 | F48: =+Cusset!F7 -> 0 | G48: =+Cusset!G7 -> 0 | H48: =+Cusset!H7 -> 0 | I48: =+Cusset!I7 -> 0 | ... L48: =+Cusset!L7 -> 0
B49: =+Cusset!B8 -> 0 | C49: =+Cusset!C8 -> 0 | D49: =+Cusset!D8 -> 0 | E49: =+Cusset!E8 -> 0 | F49: =+Cusset!F8 -> 0 | G49: =+Cusset!G8 -> 0 | H49: =+Cusset!H8 -> 0 | I49: =+Cusset!I8 -> 0 | ... L49: =+Cusset!L8 -> 0
B50: =+Cusset!B9 -> 0 | C50: =+Cusset!C9 -> 0 | D50: =+Cusset!D9 -> 0 | E50: =+Cusset!E9 -> 0 | F50: =+Cusset!F9 -> 0 | G50: =+Cusset!G9 -> 0 | H50: =+Cusset!H9 -> 0 | I50: =+Cusset!I9 -> 0 | ... L50: =+Cusset!L9 -> 0
B51: =+Cusset!B10 -> 0 | C51: =+Cusset!C10 -> 0 | D51: =+Cusset!D10 -> 0 | E51: =+Cusset!E10 -> 0 | F51: =+Cusset!F10 -> 0 | G51: =+Cusset!G10 -> 0 | H51: =+Cusset!H10 -> 0 | I51: =+Cusset!I10 -> 0 | ... L51: =+Cusset!L10 -> 0
B52: =+Cusset!B11 -> 0 | C52: =+Cusset!C11 -> 0 | D52: =+Cusset!D11 -> 0 | E52: =+Cusset!E11 -> 0 | F52: =+Cusset!F11 -> 0 | G52: =+Cusset!G11 -> 0 | H52: =+Cusset!H11 -> 0 | I52: =+Cusset!I11 -> 0 | ... L52: =+Cusset!L11 -> 0
B53: =+Cusset!B12 -> 0 | C53: =+Cusset!C12 -> 0 | D53: =+Cusset!D12 -> 0 | E53: =+Cusset!E12 -> 0 | F53: =+Cusset!F12 -> 0 | G53: =+Cusset!G12 -> 0 | H53: =+Cusset!H12 -> 0 | I53: =+Cusset!I12 -> 0 | ... L53: =+Cusset!L12 -> 0
B54: =+Cusset!B13 -> 0 | C54: =+Cusset!C13 -> 0 | D54: =+Cusset!D13 -> 0 | E54: =+Cusset!E13 -> 0 | F54: =+Cusset!F13 -> 0 | G54: =+Cusset!G13 -> 0 | H54: =+Cusset!H13 -> 0 | I54: =+Cusset!I13 -> 0 | ... L54: =+Cusset!L13 -> 0
... B72: =+Cusset!B31 -> 0 | C72: =+Cusset!C31 -> 0 | D72: =+Cusset!D31 -> 0 | E72: =+Cusset!E31 -> 0 | F72: =+Cusset!F31 -> 0 | G72: =+Cusset!G31 -> 0 | H72: =+Cusset!H31 -> 0 | I72: =+Cusset!I31 -> 0 | ... L72: =+Cusset!L31 -> 0
D74: =SUM(Cusset!$D$2:$D$31) -> 0 | E74: =SUM(Cusset!$E$2:$E$31) -> 0 | F74: =SUM(Cusset!$F$2:$F$31) -> 0 | G74: =SUM(Cusset!$G$2:$G$31) -> 0 | H74: =SUM(Cusset!$H$2:$H$31) -> 0 | I74: =SUM(Cusset!$I$2:$I$31) -> 0
A76: VICHY | B76: NOM | C76: PRENOM | D76: ORANGES | E76: CLEMENTINES | F76: CITRONS | G76: POMELOS | H76: HUILE D'OLIVE | I76: TOTAL | J76: PAYE | K76: IMPAYE | L76: DATE DE REMISES EN BANQUE
B77: =+Vichy!B2 -> 0 | C77: =+Vichy!C2 -> 0 | D77: =+Vichy!D2 -> 0 | E77: =+Vichy!E2 -> 0 | F77: =+Vichy!F2 -> 0 | G77: =+Vichy!G2 -> 0 | H77: =+Vichy!H2 -> 0 | I77: =+Vichy!I2 -> 0 | ... L77: =+Vichy!L2 -> 0
B78: =+Vichy!B3 -> 0 | C78: =+Vichy!C3 -> 0 | D78: =+Vichy!D3 -> 0 | E78: =+Vichy!E3 -> 0 | F78: =+Vichy!F3 -> 0 | G78: =+Vichy!G3 -> 0 | H78: =+Vichy!H3 -> 0 | I78: =+Vichy!I3 -> 0 | ... L78: =+Vichy!L3 -> 0
B79: =+Vichy!B4 -> 0 | C79: =+Vichy!C4 -> 0 | D79: =+Vichy!D4 -> 0 | E79: =+Vichy!E4 -> 0 | F79: =+Vichy!F4 -> 0 | G79: =+Vichy!G4 -> 0 | H79: =+Vichy!H4 -> 0 | I79: =+Vichy!I4 -> 0 | ... L79: =+Vichy!L4 -> 0
B80: =+Vichy!B5 -> 0 | C80: =+Vichy!C5 -> 0 | D80: =+Vichy!D5 -> 0 | E80: =+Vichy!E5 -> 0 | F80: =+Vichy!F5 -> 0 | G80: =+Vichy!G5 -> 0 | H80: =+Vichy!H5 -> 0 | I80: =+Vichy!I5 -> 0 | ... L80: =+Vichy!L5 -> 0
B81: =+Vichy!B6 -> 0 | C81: =+Vichy!C6 -> 0 | D81: =+Vichy!D6 -> 0 | E81: =+Vichy!E6 -> 0 | F81: =+Vichy!F6 -> 0 | G81: =+Vichy!G6 -> 0 | H81: =+Vichy!H6 -> 0 | I81: =+Vichy!I6 -> 0 | ... L81: =+Vichy!L6 -> 0
B82: =+Vichy!B7 -> 0 | C82: =+Vichy!C7 -> 0 | D82: =+Vichy!D7 -> 0 | E82: =+Vichy!E7 -> 0 | F82: =+Vichy!F7 -> 0 | G82: =+Vichy!G7 -> 0 | H82: =+Vichy!H7 -> 0 | I82: =+Vichy!I7 -> 0 | ... L82: =+Vichy!L7 -> 0
B83: =+Vichy!B8 -> 0 | C83: =+Vichy!C8 -> 0 | D83: =+Vichy!D8 -> 0 | E83: =+Vichy!E8 -> 0 | F83: =+Vichy!F8 -> 0 | G83: =+Vichy!G8 -> 0 | H83: =+Vichy!H8 -> 0 | I83: =+Vichy!I8 -> 0 | ... L83: =+Vichy!L8 -> 0
B84: =+Vichy!B9 -> 0 | C84: =+Vichy!C9 -> 0 | D84: =+Vichy!D9 -> 0 | E84: =+Vichy!E9 -> 0 | F84: =+Vichy!F9 -> 0 | G84: =+Vichy!G9 -> 0 | H84: =+Vichy!H9 -> 0 | I84: =+Vichy!I9 -> 0 | ... L84: =+Vichy!L9 -> 0
B85: =+Vichy!B10 -> 0 | C85: =+Vichy!C10 -> 0 | D85: =+Vichy!D10 -> 0 | E85: =+Vichy!E10 -> 0 | F85: =+Vichy!F10 -> 0 | G85: =+Vichy!G10 -> 0 | H85: =+Vichy!H10 -> 0 | I85: =+Vichy!I10 -> 0 | ... L85: =+Vichy!L10 -> 0
B86: =+Vichy!B11 -> 0 | C86: =+Vichy!C11 -> 0 | D86: =+Vichy!D11 -> 0 | E86: =+Vichy!E11 -> 0 | F86: =+Vichy!F11 -> 0 | G86: =+Vichy!G11 -> 0 | H86: =+Vichy!H11 -> 0 | I86: =+Vichy!I11 -> 0 | ... L86: =+Vichy!L11 -> 0
B87: =+Vichy!B12 -> 0 | C87: =+Vichy!C12 -> 0 | D87: =+Vichy!D12 -> 0 | E87: =+Vichy!E12 -> 0 | F87: =+Vichy!F12 -> 0 | G87: =+Vichy!G12 -> 0 | H87: =+Vichy!H12 -> 0 | I87: =+Vichy!I12 -> 0 | ... L87: =+Vichy!L12 -> 0
B88: =+Vichy!B13 -> 0 | C88: =+Vichy!C13 -> 0 | D88: =+Vichy!D13 -> 0 | E88: =+Vichy!E13 -> 0 | F88: =+Vichy!F13 -> 0 | G88: =+Vichy!G13 -> 0 | H88: =+Vichy!H13 -> 0 | I88: =+Vichy!I13 -> 0 | ... L88: =+Vichy!L13 -> 0
... B106: =+Vichy!B31 -> 0 | C106: =+Vichy!C31 -> 0 | D106: =+Vichy!D31 -> 0 | E106: =+Vichy!E31 -> 0 | F106: =+Vichy!F31 -> 0 | G106: =+Vichy!G31 -> 0 | H106: =+Vichy!H31 -> 0 | I106: =+Vichy!I31 -> 0 | ... L106: =+Vichy!L31 -> 0
D108: =SUM(Vichy!$D$2:$D$31) -> 0 | E108: =SUM(Vichy!$E$2:$E$31) -> 0 | F108: =SUM(Vichy!$F$2:$F$31) -> 0 | G108: =SUM(Vichy!$G$2:$G$31) -> 0 | H108: =SUM(Vichy!$H$2:$H$31) -> 0 | I108: =SUM(Vichy!$I$2:$I$31) -> 0
A110: LE MAYET-DE-MONTAGNE | B110: NOM | C110: PRENOM | D110: ORANGES | E110: CLEMENTINES | F110: CITRONS | G110: POMELOS | H110: HUILE D'OLIVE | I110: TOTAL | J110: PAYE | K110: IMPAYE | L110: DATE DE REMISES EN BANQUE
B111: ='Le Mayet'!B2 -> 0 | C111: ='Le Mayet'!C2 -> 0 | D111: ='Le Mayet'!D2 -> 0 | E111: ='Le Mayet'!E2 -> 0 | F111: ='Le Mayet'!F2 -> 0 | G111: ='Le Mayet'!G2 -> 0 | H111: ='Le Mayet'!H2 -> 0 | I111: ='Le Mayet'!I2 -> 0 | ... L111: ='Le Mayet'!L2 -> 0
B112: ='Le Mayet'!B3 -> 0 | C112: ='Le Mayet'!C3 -> 0 | D112: ='Le Mayet'!D3 -> 0 | E112: ='Le Mayet'!E3 -> 0 | F112: ='Le Mayet'!F3 -> 0 | G112: ='Le Mayet'!G3 -> 0 | H112: ='Le Mayet'!H3 -> 0 | I112: ='Le Mayet'!I3 -> 0 | ... L112: ='Le Mayet'!L3 -> 0
B113: ='Le Mayet'!B4 -> 0 | C113: ='Le Mayet'!C4 -> 0 | D113: ='Le Mayet'!D4 -> 0 | E113: ='Le Mayet'!E4 -> 0 | F113: ='Le Mayet'!F4 -> 0 | G113: ='Le Mayet'!G4 -> 0 | H113: ='Le Mayet'!H4 -> 0 | I113: ='Le Mayet'!I4 -> 0 | ... L113: ='Le Mayet'!L4 -> 0
B114: ='Le Mayet'!B5 -> 0 | C114: ='Le Mayet'!C5 -> 0 | D114: ='Le Mayet'!D5 -> 0 | E114: ='Le Mayet'!E5 -> 0 | F114: ='Le Mayet'!F5 -> 0 | G114: ='Le Mayet'!G5 -> 0 | H114: ='Le Mayet'!H5 -> 0 | I114: ='Le Mayet'!I5 -> 0 | ... L114: ='Le Mayet'!L5 -> 0
B115: ='Le Mayet'!B6 -> 0 | C115: ='Le Mayet'!C6 -> 0 | D115: ='Le Mayet'!D6 -> 0 | E115: ='Le Mayet'!E6 -> 0 | F115: ='Le Mayet'!F6 -> 0 | G115: ='Le Mayet'!G6 -> 0 | H115: ='Le Mayet'!H6 -> 0 | I115: ='Le Mayet'!I6 -> 0 | ... L115: ='Le Mayet'!L6 -> 0
B116: ='Le Mayet'!B7 -> 0 | C116: ='Le Mayet'!C7 -> 0 | D116: ='Le Mayet'!D7 -> 0 | E116: ='Le Mayet'!E7 -> 0 | F116: ='Le Mayet'!F7 -> 0 | G116: ='Le Mayet'!G7 -> 0 | H116: ='Le Mayet'!H7 -> 0 | I116: ='Le Mayet'!I7 -> 0 | ... L116: ='Le Mayet'!L7 -> 0
B117: ='Le Mayet'!B8 -> 0 | C117: ='Le Mayet'!C8 -> 0 | D117: ='Le Mayet'!D8 -> 0 | E117: ='Le Mayet'!E8 -> 0 | F117: ='Le Mayet'!F8 -> 0 | G117: ='Le Mayet'!G8 -> 0 | H117: ='Le Mayet'!H8 -> 0 | I117: ='Le Mayet'!I8 -> 0 | ... L117: ='Le Mayet'!L8 -> 0
B118: ='Le Mayet'!B9 -> 0 | C118: ='Le Mayet'!C9 -> 0 | D118: ='Le Mayet'!D9 -> 0 | E118: ='Le Mayet'!E9 -> 0 | F118: ='Le Mayet'!F9 -> 0 | G118: ='Le Mayet'!G9 -> 0 | H118: ='Le Mayet'!H9 -> 0 | I118: ='Le Mayet'!I9 -> 0 | ... L118: ='Le Mayet'!L9 -> 0
B119: ='Le Mayet'!B10 -> 0 | C119: ='Le Mayet'!C10 -> 0 | D119: ='Le Mayet'!D10 -> 0 | E119: ='Le Mayet'!E10 -> 0 | F119: ='Le Mayet'!F10 -> 0 | G119: ='Le Mayet'!G10 -> 0 | H119: ='Le Mayet'!H10 -> 0 | I119: ='Le Mayet'!I10 -> 0 | ... L119: ='Le Mayet'!L10 -> 0
B120: ='Le Mayet'!B11 -> 0 | C120: ='Le Mayet'!C11 -> 0 | D120: ='Le Mayet'!D11 -> 0 | E120: ='Le Mayet'!E11 -> 0 | F120: ='Le Mayet'!F11 -> 0 | G120: ='Le Mayet'!G11 -> 0 | H120: ='Le Mayet'!H11 -> 0 | I120: ='Le Mayet'!I11 -> 0 | ... L120: ='Le Mayet'!L11 -> 0
B121: ='Le Mayet'!B12 -> 0 | C121: ='Le Mayet'!C12 -> 0 | D121: ='Le Mayet'!D12 -> 0 | E121: ='Le Mayet'!E12 -> 0 | F121: ='Le Mayet'!F12 -> 0 | G121: ='Le Mayet'!G12 -> 0 | H121: ='Le Mayet'!H12 -> 0 | I121: ='Le Mayet'!I12 -> 0 | ... L121: ='Le Mayet'!L12 -> 0
B122: ='Le Mayet'!B13 -> 0 | C122: ='Le Mayet'!C13 -> 0 | D122: ='Le Mayet'!D13 -> 0 | E122: ='Le Mayet'!E13 -> 0 | F122: ='Le Mayet'!F13 -> 0 | G122: ='Le Mayet'!G13 -> 0 | H122: ='Le Mayet'!H13 -> 0 | I122: ='Le Mayet'!I13 -> 0 | ... L122: ='Le Mayet'!L13 -> 0
... B140: ='Le Mayet'!B31 -> 0 | C140: ='Le Mayet'!C31 -> 0 | D140: ='Le Mayet'!D31 -> 0 | E140: ='Le Mayet'!E31 -> 0 | F140: ='Le Mayet'!F31 -> 0 | G140: ='Le Mayet'!G31 -> 0 | H140: ='Le Mayet'!H31 -> 0 | I140: ='Le Mayet'!I31 -> 0 | ... L140: ='Le Mayet'!L31 -> 0
D142: =SUM('Le Mayet'!$D$2:$D$31) -> 0 | E142: =SUM('Le Mayet'!$E$2:$E$31) -> 0 | F142: =SUM('Le Mayet'!$F$2:$F$31) -> 0 | G142: =SUM('Le Mayet'!$G$2:$G$31) -> 0 | H142: =SUM('Le Mayet'!$H$2:$H$31) -> 0 | I142: =SUM('Le Mayet'!$I$2:$I$31) -> 0
A144: ARRONNES | B144: NOM | C144: PRENOM | D144: ORANGES | E144: CLEMENTINES | F144: CITRONS | G144: POMELOS | H144: HUILE D'OLIVE | I144: TOTAL | J144: PAYE | K144: IMPAYE | L144: DATE DE REMISES EN BANQUE
B145: =Arronnes!B2 -> 0 | C145: =Arronnes!C2 -> 0 | D145: =Arronnes!D2 -> 0 | E145: =Arronnes!E2 -> 0 | F145: =Arronnes!F2 -> 0 | G145: =Arronnes!G2 -> 0 | H145: =Arronnes!H2 -> 0 | I145: =Arronnes!I2 -> 0 | ... L145: =Arronnes!L2 -> 0
B146: =Arronnes!B3 -> 0 | C146: =Arronnes!C3 -> 0 | D146: =Arronnes!D3 -> 0 | E146: =Arronnes!E3 -> 0 | F146: =Arronnes!F3 -> 0 | G146: =Arronnes!G3 -> 0 | H146: =Arronnes!H3 -> 0 | I146: =Arronnes!I3 -> 0 | ... L146: =Arronnes!L3 -> 0
B147: =Arronnes!B4 -> 0 | C147: =Arronnes!C4 -> 0 | D147: =Arronnes!D4 -> 0 | E147: =Arronnes!E4 -> 0 | F147: =Arronnes!F4 -> 0 | G147: =Arronnes!G4 -> 0 | H147: =Arronnes!H4 -> 0 | I147: =Arronnes!I4 -> 0 | ... L147: =Arronnes!L4 -> 0
B148: =Arronnes!B5 -> 0 | C148: =Arronnes!C5 -> 0 | D148: =Arronnes!D5 -> 0 | E148: =Arronnes!E5 -> 0 | F148: =Arronnes!F5 -> 0 | G148: =Arronnes!G5 -> 0 | H148: =Arronnes!H5 -> 0 | I148: =Arronnes!I5 -> 0 | ... L148: =Arronnes!L5 -> 0
B149: =Arronnes!B6 -> 0 | C149: =Arronnes!C6 -> 0 | D149: =Arronnes!D6 -> 0 | E149: =Arronnes!E6 -> 0 | F149: =Arronnes!F6 -> 0 | G149: =Arronnes!G6 -> 0 | H149: =Arronnes!H6 -> 0 | I149: =Arronnes!I6 -> 0 | ... L149: =Arronnes!L6 -> 0
B150: =Arronnes!B7 -> 0 | C150: =Arronnes!C7 -> 0 | D150: =Arronnes!D7 -> 0 | E150: =Arronnes!E7 -> 0 | F150: =Arronnes!F7 -> 0 | G150: =Arronnes!G7 -> 0 | H150: =Arronnes!H7 -> 0 | I150: =Arronnes!I7 -> 0 | ... L150: =Arronnes!L7 -> 0
B151: =Arronnes!B8 -> 0 | C151: =Arronnes!C8 -> 0 | D151: =Arronnes!D8 -> 0 | E151: =Arronnes!E8 -> 0 | F151: =Arronnes!F8 -> 0 | G151: =Arronnes!G8 -> 0 | H151: =Arronnes!H8 -> 0 | I151: =Arronnes!I8 -> 0 | ... L151: =Arronnes!L8 -> 0
B152: =Arronnes!B9 -> 0 | C152: =Arronnes!C9 -> 0 | D152: =Arronnes!D9 -> 0 | E152: =Arronnes!E9 -> 0 | F152: =Arronnes!F9 -> 0 | G152: =Arronnes!G9 -> 0 | H152: =Arronnes!H9 -> 0 | I152: =Arronnes!I9 -> 0 | ... L152: =Arronnes!L9 -> 0
B153: =Arronnes!B10 -> 0 | C153: =Arronnes!C10 -> 0 | D153: =Arronnes!D10 -> 0 | E153: =Arronnes!E10 -> 0 | F153: =Arronnes!F10 -> 0 | G153: =Arronnes!G10 -> 0 | H153: =Arronnes!H10 -> 0 | I153: =Arronnes!I10 -> 0 | ... L153: =Arronnes!L10 -> 0
B154: =Arronnes!B11 -> 0 | C154: =Arronnes!C11 -> 0 | D154: =Arronnes!D11 -> 0 | E154: =Arronnes!E11 -> 0 | F154: =Arronnes!F11 -> 0 | G154: =Arronnes!G11 -> 0 | H154: =Arronnes!H11 -> 0 | I154: =Arronnes!I11 -> 0 | ... L154: =Arronnes!L11 -> 0
B155: =Arronnes!B12 -> 0 | C155: =Arronnes!C12 -> 0 | D155: =Arronnes!D12 -> 0 | E155: =Arronnes!E12 -> 0 | F155: =Arronnes!F12 -> 0 | G155: =Arronnes!G12 -> 0 | H155: =Arronnes!H12 -> 0 | I155: =Arronnes!I12 -> 0 | ... L155: =Arronnes!L12 -> 0
B156: =Arronnes!B13 -> 0 | C156: =Arronnes!C13 -> 0 | D156: =Arronnes!D13 -> 0 | E156: =Arronnes!E13 -> 0 | F156: =Arronnes!F13 -> 0 | G156: =Arronnes!G13 -> 0 | H156: =Arronnes!H13 -> 0 | I156: =Arronnes!I13 -> 0 | ... L156: =Arronnes!L13 -> 0
... B174: =Arronnes!B31 -> 0 | C174: =Arronnes!C31 -> 0 | D174: =Arronnes!D31 -> 0 | E174: =Arronnes!E31 -> 0 | F174: =Arronnes!F31 -> 0 | G174: =Arronnes!G31 -> 0 | H174: =Arronnes!H31 -> 0 | I174: =Arronnes!I31 -> 0 | ... L174: =Arronnes!L31 -> 0
D176: =SUM(Arronnes!$D$2:$D$31) -> 0 | E176: =SUM(Arronnes!$E$2:$E$31) -> 0 | F176: =SUM(Arronnes!$F$2:$F$31) -> 0 | G176: =SUM(Arronnes!$G$2:$G$31) -> 0 | H176: =SUM(Arronnes!$H$2:$H$31) -> 0 | I176: =SUM(Arronnes!$I$2:$I$31) -> 0
A178: LE VERNET | B178: NOM | C178: PRENOM | D178: ORANGES | E178: CLEMENTINES | F178: CITRONS | G178: POMELOS | H178: HUILE D'OLIVE | I178: TOTAL | J178: PAYE | K178: IMPAYE | L178: DATE DE REMISES EN BANQUE
B179: ='Le Vernet'!B2 -> 0 | C179: ='Le Vernet'!C2 -> 0 | D179: ='Le Vernet'!D2 -> 0 | E179: ='Le Vernet'!E2 -> 0 | F179: ='Le Vernet'!F2 -> 0 | G179: ='Le Vernet'!G2 -> 0 | H179: ='Le Vernet'!H2 -> 0 | I179: ='Le Vernet'!I2 -> 0 | ... L179: ='Le Vernet'!L2 -> 0
B180: ='Le Vernet'!B3 -> 0 | C180: ='Le Vernet'!C3 -> 0 | D180: ='Le Vernet'!D3 -> 0 | E180: ='Le Vernet'!E3 -> 0 | F180: ='Le Vernet'!F3 -> 0 | G180: ='Le Vernet'!G3 -> 0 | H180: ='Le Vernet'!H3 -> 0 | I180: ='Le Vernet'!I3 -> 0 | ... L180: ='Le Vernet'!L3 -> 0
B181: ='Le Vernet'!B4 -> 0 | C181: ='Le Vernet'!C4 -> 0 | D181: ='Le Vernet'!D4 -> 0 | E181: ='Le Vernet'!E4 -> 0 | F181: ='Le Vernet'!F4 -> 0 | G181: ='Le Vernet'!G4 -> 0 | H181: ='Le Vernet'!H4 -> 0 | I181: ='Le Vernet'!I4 -> 0 | ... L181: ='Le Vernet'!L4 -> 0
B182: ='Le Vernet'!B5 -> 0 | C182: ='Le Vernet'!C5 -> 0 | D182: ='Le Vernet'!D5 -> 0 | E182: ='Le Vernet'!E5 -> 0 | F182: ='Le Vernet'!F5 -> 0 | G182: ='Le Vernet'!G5 -> 0 | H182: ='Le Vernet'!H5 -> 0 | I182: ='Le Vernet'!I5 -> 0 | ... L182: ='Le Vernet'!L5 -> 0
B183: ='Le Vernet'!B6 -> 0 | C183: ='Le Vernet'!C6 -> 0 | D183: ='Le Vernet'!D6 -> 0 | E183: ='Le Vernet'!E6 -> 0 | F183: ='Le Vernet'!F6 -> 0 | G183: ='Le Vernet'!G6 -> 0 | H183: ='Le Vernet'!H6 -> 0 | I183: ='Le Vernet'!I6 -> 0 | ... L183: ='Le Vernet'!L6 -> 0
B184: ='Le Vernet'!B7 -> 0 | C184: ='Le Vernet'!C7 -> 0 | D184: ='Le Vernet'!D7 -> 0 | E184: ='Le Vernet'!E7 -> 0 | F184: ='Le Vernet'!F7 -> 0 | G184: ='Le Vernet'!G7 -> 0 | H184: ='Le Vernet'!H7 -> 0 | I184: ='Le Vernet'!I7 -> 0 | ... L184: ='Le Vernet'!L7 -> 0
B185: ='Le Vernet'!B8 -> 0 | C185: ='Le Vernet'!C8 -> 0 | D185: ='Le Vernet'!D8 -> 0 | E185: ='Le Vernet'!E8 -> 0 | F185: ='Le Vernet'!F8 -> 0 | G185: ='Le Vernet'!G8 -> 0 | H185: ='Le Vernet'!H8 -> 0 | I185: ='Le Vernet'!I8 -> 0 | ... L185: ='Le Vernet'!L8 -> 0
B186: ='Le Vernet'!B9 -> 0 | C186: ='Le Vernet'!C9 -> 0 | D186: ='Le Vernet'!D9 -> 0 | E186: ='Le Vernet'!E9 -> 0 | F186: ='Le Vernet'!F9 -> 0 | G186: ='Le Vernet'!G9 -> 0 | H186: ='Le Vernet'!H9 -> 0 | I186: ='Le Vernet'!I9 -> 0 | ... L186: ='Le Vernet'!L9 -> 0
B187: ='Le Vernet'!B10 -> 0 | C187: ='Le Vernet'!C10 -> 0 | D187: ='Le Vernet'!D10 -> 0 | E187: ='Le Vernet'!E10 -> 0 | F187: ='Le Vernet'!F10 -> 0 | G187: ='Le Vernet'!G10 -> 0 | H187: ='Le Vernet'!H10 -> 0 | I187: ='Le Vernet'!I10 -> 0 | ... L187: ='Le Vernet'!L10 -> 0
B188: ='Le Vernet'!B11 -> 0 | C188: ='Le Vernet'!C11 -> 0 | D188: ='Le Vernet'!D11 -> 0 | E188: ='Le Vernet'!E11 -> 0 | F188: ='Le Vernet'!F11 -> 0 | G188: ='Le Vernet'!G11 -> 0 | H188: ='Le Vernet'!H11 -> 0 | I188: ='Le Vernet'!I11 -> 0 | ... L188: ='Le Vernet'!L11 -> 0
B189: ='Le Vernet'!B12 -> 0 | C189: ='Le Vernet'!C12 -> 0 | D189: ='Le Vernet'!D12 -> 0 | E189: ='Le Vernet'!E12 -> 0 | F189: ='Le Vernet'!F12 -> 0 | G189: ='Le Vernet'!G12 -> 0 | H189: ='Le Vernet'!H12 -> 0 | I189: ='Le Vernet'!I12 -> 0 | ... L189: ='Le Vernet'!L12 -> 0
B190: ='Le Vernet'!B13 -> 0 | C190: ='Le Vernet'!C13 -> 0 | D190: ='Le Vernet'!D13 -> 0 | E190: ='Le Vernet'!E13 -> 0 | F190: ='Le Vernet'!F13 -> 0 | G190: ='Le Vernet'!G13 -> 0 | H190: ='Le Vernet'!H13 -> 0 | I190: ='Le Vernet'!I13 -> 0 | ... L190: ='Le Vernet'!L13 -> 0
... B208: ='Le Vernet'!B31 -> 0 | C208: ='Le Vernet'!C31 -> 0 | D208: ='Le Vernet'!D31 -> 0 | E208: ='Le Vernet'!E31 -> 0 | F208: ='Le Vernet'!F31 -> 0 | G208: ='Le Vernet'!G31 -> 0 | H208: ='Le Vernet'!H31 -> 0 | I208: ='Le Vernet'!I31 -> 0 | ... L208: ='Le Vernet'!L31 -> 0
D210: =SUM('Le Vernet'!$D$2:$D$31) -> 0 | E210: =SUM('Le Vernet'!$E$2:$E$31) -> 0 | F210: =SUM('Le Vernet'!$F$2:$F$31) -> 0 | G210: =SUM('Le Vernet'!$G$2:$G$31) -> 0 | H210: =SUM('Le Vernet'!$H$2:$H$31) -> 0 | I210: =SUM('Le Vernet'!$I$2:$I$31) -> 0
A212: RESTAURANTS | B212: NOM | C212: PRENOM | D212: ORANGES | E212: CLEMENTINES | F212: CITRONS | G212: POMELOS | H212: HUILE D'OLIVE | I212: TOTAL | J212: PAYE | K212: IMPAYE | L212: DATE DE REMISES EN BANQUE
B213: =Restaurants!B2 -> 0 | C213: =Restaurants!C2 -> 0 | D213: =Restaurants!D2 -> 0 | E213: =Restaurants!E2 -> 0 | F213: =Restaurants!F2 -> 0 | G213: =Restaurants!G2 -> 0 | H213: =Restaurants!H2 -> 0 | I213: =Restaurants!I2 -> 0 | ... L213: =Restaurants!L2 -> 0
B214: =Restaurants!B3 -> 0 | C214: =Restaurants!C3 -> 0 | D214: =Restaurants!D3 -> 0 | E214: =Restaurants!E3 -> 0 | F214: =Restaurants!F3 -> 0 | G214: =Restaurants!G3 -> 0 | H214: =Restaurants!H3 -> 0 | I214: =Restaurants!I3 -> 0 | ... L214: =Restaurants!L3 -> 0
B215: =Restaurants!B4 -> 0 | C215: =Restaurants!C4 -> 0 | D215: =Restaurants!D4 -> 0 | E215: =Restaurants!E4 -> 0 | F215: =Restaurants!F4 -> 0 | G215: =Restaurants!G4 -> 0 | H215: =Restaurants!H4 -> 0 | I215: =Restaurants!I4 -> 0 | ... L215: =Restaurants!L4 -> 0
B216: =Restaurants!B5 -> 0 | C216: =Restaurants!C5 -> 0 | D216: =Restaurants!D5 -> 0 | E216: =Restaurants!E5 -> 0 | F216: =Restaurants!F5 -> 0 | G216: =Restaurants!G5 -> 0 | H216: =Restaurants!H5 -> 0 | I216: =Restaurants!I5 -> 0 | ... L216: =Restaurants!L5 -> 0
B217: =Restaurants!B6 -> 0 | C217: =Restaurants!C6 -> 0 | D217: =Restaurants!D6 -> 0 | E217: =Restaurants!E6 -> 0 | F217: =Restaurants!F6 -> 0 | G217: =Restaurants!G6 -> 0 | H217: =Restaurants!H6 -> 0 | I217: =Restaurants!I6 -> 0 | ... L217: =Restaurants!L6 -> 0
...

Sheet Emargement
A1: BELLERIVE-SUR-ALLIER | B1: NOM | C1: PRENOM | D1: ORANGES | E1: CLEMENTINES | F1: CITRONS | G1: POMELOS | H1: HUILE D'OLIVE | I1: TOTAL | J1: PAYE | K1: IMPAYE | L1: SIGNATURE
B2: =Bellerive!B2 -> 0 | C2: =Bellerive!C2 -> 0 | D2: =Bellerive!D2 -> 0 | E2: =Bellerive!E2 -> 0 | F2: =Bellerive!F2 -> 0 | G2: =Bellerive!G2 -> 0 | H2: =Bellerive!H2 -> 0 | I2: =Bellerive!I2 -> 0 | ... K2: =Bellerive!K2 -> 0
B3: =Bellerive!B3 -> 0 | C3: =Bellerive!C3 -> 0 | D3: =Bellerive!D3 -> 0 | E3: =Bellerive!E3 -> 0 | F3: =Bellerive!F3 -> 0 | G3: =Bellerive!G3 -> 0 | H3: =Bellerive!H3 -> 0 | I3: =Bellerive!I3 -> 0 | ... K3: =Bellerive!K3 -> 0
B4: =Bellerive!B4 -> 0 | C4: =Bellerive!C4 -> 0 | D4: =Bellerive!D4 -> 0 | E4: =Bellerive!E4 -> 0 | F4: =Bellerive!F4 -> 0 | G4: =Bellerive!G4 -> 0 | H4: =Bellerive!H4 -> 0 | I4: =Bellerive!I4 -> 0 | ... K4: =Bellerive!K4 -> 0
B5: =Bellerive!B5 -> 0 | C5: =Bellerive!C5 -> 0 | D5: =Bellerive!D5 -> 0 | E5: =Bellerive!E5 -> 0 | F5: =Bellerive!F5 -> 0 | G5: =Bellerive!G5 -> 0 | H5: =Bellerive!H5 -> 0 | I5: =Bellerive!I5 -> 0 | ... K5: =Bellerive!K5 -> 0
B6: =Bellerive!B6 -> 0 | C6: =Bellerive!C6 -> 0 | D6: =Bellerive!D6 -> 0 | E6: =Bellerive!E6 -> 0 | F6: =Bellerive!F6 -> 0 | G6: =Bellerive!G6 -> 0 | H6: =Bellerive!H6 -> 0 | I6: =Bellerive!I6 -> 0 | ... K6: =Bellerive!K6 -> 0
B7: =Bellerive!B7 -> 0 | C7: =Bellerive!C7 -> 0 | D7: =Bellerive!D7 -> 0 | E7: =Bellerive!E7 -> 0 | F7: =Bellerive!F7 -> 0 | G7: =Bellerive!G7 -> 0 | H7: =Bellerive!H7 -> 0 | I7: =Bellerive!I7 -> 0 | ... K7: =Bellerive!K7 -> 0
B8: =Bellerive!B8 -> 0 | C8: =Bellerive!C8 -> 0 | D8: =Bellerive!D8 -> 0 | E8: =Bellerive!E8 -> 0 | F8: =Bellerive!F8 -> 0 | G8: =Bellerive!G8 -> 0 | H8: =Bellerive!H8 -> 0 | I8: =Bellerive!I8 -> 0 | ... K8: =Bellerive!K8 -> 0
B9: =Bellerive!B9 -> 0 | C9: =Bellerive!C9 -> 0 | D9: =Bellerive!D9 -> 0 | E9: =Bellerive!E9 -> 0 | F9: =Bellerive!F9 -> 0 | G9: =Bellerive!G9 -> 0 | H9: =Bellerive!H9 -> 0 | I9: =Bellerive!I9 -> 0 | ... K9: =Bellerive!K9 -> 0
B10: =Bellerive!B10 -> 0 | C10: =Bellerive!C10 -> 0 | D10: =Bellerive!D10 -> 0 | E10: =Bellerive!E10 -> 0 | F10: =Bellerive!F10 -> 0 | G10: =Bellerive!G10 -> 0 | H10: =Bellerive!H10 -> 0 | I10: =Bellerive!I10 -> 0 | ... K10: =Bellerive!K10 -> 0
B11: =Bellerive!B11 -> 0 | C11: =Bellerive!C11 -> 0 | D11: =Bellerive!D11 -> 0 | E11: =Bellerive!E11 -> 0 | F11: =Bellerive!F11 -> 0 | G11: =Bellerive!G11 -> 0 | H11: =Bellerive!H11 -> 0 | I11: =Bellerive!I11 -> 0 | ... K11: =Bellerive!K11 -> 0
B12: =Bellerive!B12 -> 0 | C12: =Bellerive!C12 -> 0 | D12: =Bellerive!D12 -> 0 | E12: =Bellerive!E12 -> 0 | F12: =Bellerive!F12 -> 0 | G12: =Bellerive!G12 -> 0 | H12: =Bellerive!H12 -> 0 | I12: =Bellerive!I12 -> 0 | ... K12: =Bellerive!K12 -> 0
B13: =Bellerive!B13 -> 0 | C13: =Bellerive!C13 -> 0 | D13: =Bellerive!D13 -> 0 | E13: =Bellerive!E13 -> 0 | F13: =Bellerive!F13 -> 0 | G13: =Bellerive!G13 -> 0 | H13: =Bellerive!H13 -> 0 | I13: =Bellerive!I13 -> 0 | ... K13: =Bellerive!K13 -> 0
... B31: =Bellerive!B31 -> 0 | C31: =Bellerive!C31 -> 0 | D31: =Bellerive!D31 -> 0 | E31: =Bellerive!E31 -> 0 | F31: =Bellerive!F31 -> 0 | G31: =Bellerive!G31 -> 0 | H31: =Bellerive!H31 -> 0 | I31: =Bellerive!I31 -> 0 | ... K31: =Bellerive!K31 -> 0
D33: =Bellerive!D33 -> 0 | E33: =Bellerive!E33 -> 0 | F33: =Bellerive!F33 -> 0 | G33: =Bellerive!G33 -> 0 | H33: =Bellerive!H33 -> 0 | I33: =Bellerive!I33 -> 0
A35: CUSSET | B35: NOM | C35: PRENOM | D35: ORANGES | E35: CLEMENTINES | F35: CITRONS | G35: POMELOS | H35: HUILE D'OLIVE | I35: TOTAL | J35: PAYE | K35: IMPAYE | L35: SIGNATURE
B36: =Cusset!B2 -> 0 | C36: =Cusset!C2 -> 0 | D36: =Cusset!D2 -> 0 | E36: =Cusset!E2 -> 0 | F36: =Cusset!F2 -> 0 | G36: =Cusset!G2 -> 0 | H36: =Cusset!H2 -> 0 | I36: =Cusset!I2 -> 0 | ... K36: =Cusset!K2 -> 0
B37: =Cusset!B3 -> 0 | C37: =Cusset!C3 -> 0 | D37: =Cusset!D3 -> 0 | E37: =Cusset!E3 -> 0 | F37: =Cusset!F3 -> 0 | G37: =Cusset!G3 -> 0 | H37: =Cusset!H3 -> 0 | I37: =Cusset!I3 -> 0 | ... K37: =Cusset!K3 -> 0
B38: =Cusset!B4 -> 0 | C38: =Cusset!C4 -> 0 | D38: =Cusset!D4 -> 0 | E38: =Cusset!E4 -> 0 | F38: =Cusset!F4 -> 0 | G38: =Cusset!G4 -> 0 | H38: =Cusset!H4 -> 0 | I38: =Cusset!I4 -> 0 | ... K38: =Cusset!K4 -> 0
B39: =Cusset!B5 -> 0 | C39: =Cusset!C5 -> 0 | D39: =Cusset!D5 -> 0 | E39: =Cusset!E5 -> 0 | F39: =Cusset!F5 -> 0 | G39: =Cusset!G5 -> 0 | H39: =Cusset!H5 -> 0 | I39: =Cusset!I5 -> 0 | ... K39: =Cusset!K5 -> 0
B40: =Cusset!B6 -> 0 | C40: =Cusset!C6 -> 0 | D40: =Cusset!D6 -> 0 | E40: =Cusset!E6 -> 0 | F40: =Cusset!F6 -> 0 | G40: =Cusset!G6 -> 0 | H40: =Cusset!H6 -> 0 | I40: =Cusset!I6 -> 0 | ... K40: =Cusset!K6 -> 0
B41: =Cusset!B7 -> 0 | C41: =Cusset!C7 -> 0 | D41: =Cusset!D7 -> 0 | E41: =Cusset!E7 -> 0 | F41: =Cusset!F7 -> 0 | G41: =Cusset!G7 -> 0 | H41: =Cusset!H7 -> 0 | I41: =Cusset!I7 -> 0 | ... K41: =Cusset!K7 -> 0
B42: =Cusset!B8 -> 0 | C42: =Cusset!C8 -> 0 | D42: =Cusset!D8 -> 0 | E42: =Cusset!E8 -> 0 | F42: =Cusset!F8 -> 0 | G42: =Cusset!G8 -> 0 | H42: =Cusset!H8 -> 0 | I42: =Cusset!I8 -> 0 | ... K42: =Cusset!K8 -> 0
B43: =Cusset!B9 -> 0 | C43: =Cusset!C9 -> 0 | D43: =Cusset!D9 -> 0 | E43: =Cusset!E9 -> 0 | F43: =Cusset!F9 -> 0 | G43: =Cusset!G9 -> 0 | H43: =Cusset!H9 -> 0 | I43: =Cusset!I9 -> 0 | ... K43: =Cusset!K9 -> 0
B44: =Cusset!B10 -> 0 | C44: =Cusset!C10 -> 0 | D44: =Cusset!D10 -> 0 | E44: =Cusset!E10 -> 0 | F44: =Cusset!F10 -> 0 | G44: =Cusset!G10 -> 0 | H44: =Cusset!H10 -> 0 | I44: =Cusset!I10 -> 0 | ... K44: =Cusset!K10 -> 0
B45: =Cusset!B11 -> 0 | C45: =Cusset!C11 -> 0 | D45: =Cusset!D11 -> 0 | E45: =Cusset!E11 -> 0 | F45: =Cusset!F11 -> 0 | G45: =Cusset!G11 -> 0 | H45: =Cusset!H11 -> 0 | I45: =Cusset!I11 -> 0 | ... K45: =Cusset!K11 -> 0
B46: =Cusset!B12 -> 0 | C46: =Cusset!C12 -> 0 | D46: =Cusset!D12 -> 0 | E46: =Cusset!E12 -> 0 | F46: =Cusset!F12 -> 0 | G46: =Cusset!G12 -> 0 | H46: =Cusset!H12 -> 0 | I46: =Cusset!I12 -> 0 | ... K46: =Cusset!K12 -> 0
B47: =Cusset!B13 -> 0 | C47: =Cusset!C13 -> 0 | D47: =Cusset!D13 -> 0 | E47: =Cusset!E13 -> 0 | F47: =Cusset!F13 -> 0 | G47: =Cusset!G13 -> 0 | H47: =Cusset!H13 -> 0 | I47: =Cusset!I13 -> 0 | ... K47: =Cusset!K13 -> 0
... B65: =Cusset!B31 -> 0 | C65: =Cusset!C31 -> 0 | D65: =Cusset!D31 -> 0 | E65: =Cusset!E31 -> 0 | F65: =Cusset!F31 -> 0 | G65: =Cusset!G31 -> 0 | H65: =Cusset!H31 -> 0 | I65: =Cusset!I31 -> 0 | ... K65: =Cusset!K31 -> 0
D67: =SUM(Cusset!$D$2:$D$31) -> 0 | E67: =SUM(Cusset!$E$2:$E$31) -> 0 | F67: =SUM(Cusset!$F$2:$F$31) -> 0 | G67: =SUM(Cusset!$G$2:$G$31) -> 0 | H67: =SUM(Cusset!$H$2:$H$31) -> 0 | I67: =SUM(Cusset!$I$2:$I$31) -> 0
A69: VICHY | B69: NOM | C69: PRENOM | D69: ORANGES | E69: CLEMENTINES | F69: CITRONS | G69: POMELOS | H69: HUILE D'OLIVE | I69: TOTAL | J69: PAYE | K69: IMPAYE | L69: SIGNATURE
B70: =+Vichy!B2 -> 0 | C70: =+Vichy!C2 -> 0 | D70: =+Vichy!D2 -> 0 | E70: =+Vichy!E2 -> 0 | F70: =+Vichy!F2 -> 0 | G70: =+Vichy!G2 -> 0 | H70: =+Vichy!H2 -> 0 | I70: =+Vichy!I2 -> 0 | ... K70: =+Vichy!K2 -> 0
B71: =+Vichy!B3 -> 0 | C71: =+Vichy!C3 -> 0 | D71: =+Vichy!D3 -> 0 | E71: =+Vichy!E3 -> 0 | F71: =+Vichy!F3 -> 0 | G71: =+Vichy!G3 -> 0 | H71: =+Vichy!H3 -> 0 | I71: =+Vichy!I3 -> 0 | ... K71: =+Vichy!K3 -> 0
B72: =+Vichy!B4 -> 0 | C72: =+Vichy!C4 -> 0 | D72: =+Vichy!D4 -> 0 | E72: =+Vichy!E4 -> 0 | F72: =+Vichy!F4 -> 0 | G72: =+Vichy!G4 -> 0 | H72: =+Vichy!H4 -> 0 | I72: =+Vichy!I4 -> 0 | ... K72: =+Vichy!K4 -> 0
B73: =+Vichy!B5 -> 0 | C73: =+Vichy!C5 -> 0 | D73: =+Vichy!D5 -> 0 | E73: =+Vichy!E5 -> 0 | F73: =+Vichy!F5 -> 0 | G73: =+Vichy!G5 -> 0 | H73: =+Vichy!H5 -> 0 | I73: =+Vichy!I5 -> 0 | ... K73: =+Vichy!K5 -> 0
B74: =+Vichy!B6 -> 0 | C74: =+Vichy!C6 -> 0 | D74: =+Vichy!D6 -> 0 | E74: =+Vichy!E6 -> 0 | F74: =+Vichy!F6 -> 0 | G74: =+Vichy!G6 -> 0 | H74: =+Vichy!H6 -> 0 | I74: =+Vichy!I6 -> 0 | ... K74: =+Vichy!K6 -> 0
B75: =+Vichy!B7 -> 0 | C75: =+Vichy!C7 -> 0 | D75: =+Vichy!D7 -> 0 | E75: =+Vichy!E7 -> 0 | F75: =+Vichy!F7 -> 0 | G75: =+Vichy!G7 -> 0 | H75: =+Vichy!H7 -> 0 | I75: =+Vichy!I7 -> 0 | ... K75: =+Vichy!K7 -> 0
B76: =+Vichy!B8 -> 0 | C76: =+Vichy!C8 -> 0 | D76: =+Vichy!D8 -> 0 | E76: =+Vichy!E8 -> 0 | F76: =+Vichy!F8 -> 0 | G76: =+Vichy!G8 -> 0 | H76: =+Vichy!H8 -> 0 | I76: =+Vichy!I8 -> 0 | ... K76: =+Vichy!K8 -> 0
B77: =+Vichy!B9 -> 0 | C77: =+Vichy!C9 -> 0 | D77: =+Vichy!D9 -> 0 | E77: =+Vichy!E9 -> 0 | F77: =+Vichy!F9 -> 0 | G77: =+Vichy!G9 -> 0 | H77: =+Vichy!H9 -> 0 | I77: =+Vichy!I9 -> 0 | ... K77: =+Vichy!K9 -> 0
B78: =+Vichy!B10 -> 0 | C78: =+Vichy!C10 -> 0 | D78: =+Vichy!D10 -> 0 | E78: =+Vichy!E10 -> 0 | F78: =+Vichy!F10 -> 0 | G78: =+Vichy!G10 -> 0 | H78: =+Vichy!H10 -> 0 | I78: =+Vichy!I10 -> 0 | ... K78: =+Vichy!K10 -> 0
B79: =+Vichy!B11 -> 0 | C79: =+Vichy!C11 -> 0 | D79: =+Vichy!D11 -> 0 | E79: =+Vichy!E11 -> 0 | F79: =+Vichy!F11 -> 0 | G79: =+Vichy!G11 -> 0 | H79: =+Vichy!H11 -> 0 | I79: =+Vichy!I11 -> 0 | ... K79: =+Vichy!K11 -> 0
B80: =+Vichy!B12 -> 0 | C80: =+Vichy!C12 -> 0 | D80: =+Vichy!D12 -> 0 | E80: =+Vichy!E12 -> 0 | F80: =+Vichy!F12 -> 0 | G80: =+Vichy!G12 -> 0 | H80: =+Vichy!H12 -> 0 | I80: =+Vichy!I12 -> 0 | ... K80: =+Vichy!K12 -> 0
B81: =+Vichy!B13 -> 0 | C81: =+Vichy!C13 -> 0 | D81: =+Vichy!D13 -> 0 | E81: =+Vichy!E13 -> 0 | F81: =+Vichy!F13 -> 0 | G81: =+Vichy!G13 -> 0 | H81: =+Vichy!H13 -> 0 | I81: =+Vichy!I13 -> 0 | ... K81: =+Vichy!K13 -> 0
... B99: =+Vichy!B31 -> 0 | C99: =+Vichy!C31 -> 0 | D99: =+Vichy!D31 -> 0 | E99: =+Vichy!E31 -> 0 | F99: =+Vichy!F31 -> 0 | G99: =+Vichy!G31 -> 0 | H99: =+Vichy!H31 -> 0 | I99: =+Vichy!I31 -> 0 | ... K99: =+Vichy!K31 -> 0
D101: =SUM(Vichy!$D$2:$D$31) -> 0 | E101: =SUM(Vichy!$E$2:$E$31) -> 0 | F101: =SUM(Vichy!$F$2:$F$31) -> 0 | G101: =SUM(Vichy!$G$2:$G$31) -> 0 | H101: =SUM(Vichy!$H$2:$H$31) -> 0 | I101: =SUM(Vichy!$I$2:$I$31) -> 0
A103: LE MAYET-DE-MONTAGNE | B103: NOM | C103: PRENOM | D103: ORANGES | E103: CLEMENTINES | F103: CITRONS | G103: POMELOS | H103: HUILE D'OLIVE | I103: TOTAL | J103: PAYE | K103: IMPAYE | L103: SIGNATURE
B104: ='Le Mayet'!B2 -> 0 | C104: ='Le Mayet'!C2 -> 0 | D104: ='Le Mayet'!D2 -> 0 | E104: ='Le Mayet'!E2 -> 0 | F104: ='Le Mayet'!F2 -> 0 | G104: ='Le Mayet'!G2 -> 0 | H104: ='Le Mayet'!H2 -> 0 | I104: ='Le Mayet'!I2 -> 0 | ... K104: ='Le Mayet'!K2 -> 0
B105: ='Le Mayet'!B3 -> 0 | C105: ='Le Mayet'!C3 -> 0 | D105: ='Le Mayet'!D3 -> 0 | E105: ='Le Mayet'!E3 -> 0 | F105: ='Le Mayet'!F3 -> 0 | G105: ='Le Mayet'!G3 -> 0 | H105: ='Le Mayet'!H3 -> 0 | I105: ='Le Mayet'!I3 -> 0 | ... K105: ='Le Mayet'!K3 -> 0
B106: ='Le Mayet'!B4 -> 0 | C106: ='Le Mayet'!C4 -> 0 | D106: ='Le Mayet'!D4 -> 0 | E106: ='Le Mayet'!E4 -> 0 | F106: ='Le Mayet'!F4 -> 0 | G106: ='Le Mayet'!G4 -> 0 | H106: ='Le Mayet'!H4 -> 0 | I106: ='Le Mayet'!I4 -> 0 | ... K106: ='Le Mayet'!K4 -> 0
B107: ='Le Mayet'!B5 -> 0 | C107: ='Le Mayet'!C5 -> 0 | D107: ='Le Mayet'!D5 -> 0 | E107: ='Le Mayet'!E5 -> 0 | F107: ='Le Mayet'!F5 -> 0 | G107: ='Le Mayet'!G5 -> 0 | H107: ='Le Mayet'!H5 -> 0 | I107: ='Le Mayet'!I5 -> 0 | ... K107: ='Le Mayet'!K5 -> 0
B108: ='Le Mayet'!B6 -> 0 | C108: ='Le Mayet'!C6 -> 0 | D108: ='Le Mayet'!D6 -> 0 | E108: ='Le Mayet'!E6 -> 0 | F108: ='Le Mayet'!F6 -> 0 | G108: ='Le Mayet'!G6 -> 0 | H108: ='Le Mayet'!H6 -> 0 | I108: ='Le Mayet'!I6 -> 0 | ... K108: ='Le Mayet'!K6 -> 0
B109: ='Le Mayet'!B7 -> 0 | C109: ='Le Mayet'!C7 -> 0 | D109: ='Le Mayet'!D7 -> 0 | E109: ='Le Mayet'!E7 -> 0 | F109: ='Le Mayet'!F7 -> 0 | G109: ='Le Mayet'!G7 -> 0 | H109: ='Le Mayet'!H7 -> 0 | I109: ='Le Mayet'!I7 -> 0 | ... K109: ='Le Mayet'!K7 -> 0
B110: ='Le Mayet'!B8 -> 0 | C110: ='Le Mayet'!C8 -> 0 | D110: ='Le Mayet'!D8 -> 0 | E110: ='Le Mayet'!E8 -> 0 | F110: ='Le Mayet'!F8 -> 0 | G110: ='Le Mayet'!G8 -> 0 | H110: ='Le Mayet'!H8 -> 0 | I110: ='Le Mayet'!I8 -> 0 | ... K110: ='Le Mayet'!K8 -> 0
B111: ='Le Mayet'!B9 -> 0 | C111: ='Le Mayet'!C9 -> 0 | D111: ='Le Mayet'!D9 -> 0 | E111: ='Le Mayet'!E9 -> 0 | F111: ='Le Mayet'!F9 -> 0 | G111: ='Le Mayet'!G9 -> 0 | H111: ='Le Mayet'!H9 -> 0 | I111: ='Le Mayet'!I9 -> 0 | ... K111: ='Le Mayet'!K9 -> 0
B112: ='Le Mayet'!B10 -> 0 | C112: ='Le Mayet'!C10 -> 0 | D112: ='Le Mayet'!D10 -> 0 | E112: ='Le Mayet'!E10 -> 0 | F112: ='Le Mayet'!F10 -> 0 | G112: ='Le Mayet'!G10 -> 0 | H112: ='Le Mayet'!H10 -> 0 | I112: ='Le Mayet'!I10 -> 0 | ... K112: ='Le Mayet'!K10 -> 0
B113: ='Le Mayet'!B11 -> 0 | C113: ='Le Mayet'!C11 -> 0 | D113: ='Le Mayet'!D11 -> 0 | E113: ='Le Mayet'!E11 -> 0 | F113: ='Le Mayet'!F11 -> 0 | G113: ='Le Mayet'!G11 -> 0 | H113: ='Le Mayet'!H11 -> 0 | I113: ='Le Mayet'!I11 -> 0 | ... K113: ='Le Mayet'!K11 -> 0
B114: ='Le Mayet'!B12 -> 0 | C114: ='Le Mayet'!C12 -> 0 | D114: ='Le Mayet'!D12 -> 0 | E114: ='Le Mayet'!E12 -> 0 | F114: ='Le Mayet'!F12 -> 0 | G114: ='Le Mayet'!G12 -> 0 | H114: ='Le Mayet'!H12 -> 0 | I114: ='Le Mayet'!I12 -> 0 | ... K114: ='Le Mayet'!K12 -> 0
B115: ='Le Mayet'!B13 -> 0 | C115: ='Le Mayet'!C13 -> 0 | D115: ='Le Mayet'!D13 -> 0 | E115: ='Le Mayet'!E13 -> 0 | F115: ='Le Mayet'!F13 -> 0 | G115: ='Le Mayet'!G13 -> 0 | H115: ='Le Mayet'!H13 -> 0 | I115: ='Le Mayet'!I13 -> 0 | ... K115: ='Le Mayet'!K13 -> 0
... B133: ='Le Mayet'!B31 -> 0 | C133: ='Le Mayet'!C31 -> 0 | D133: ='Le Mayet'!D31 -> 0 | E133: ='Le Mayet'!E31 -> 0 | F133: ='Le Mayet'!F31 -> 0 | G133: ='Le Mayet'!G31 -> 0 | H133: ='Le Mayet'!H31 -> 0 | I133: ='Le Mayet'!I31 -> 0 | ... K133: ='Le Mayet'!K31 -> 0
D135: =SUM('Le Mayet'!$D$2:$D$31) -> 0 | E135: =SUM('Le Mayet'!$E$2:$E$31) -> 0 | F135: =SUM('Le Mayet'!$F$2:$F$31) -> 0 | G135: =SUM('Le Mayet'!$G$2:$G$31) -> 0 | H135: =SUM('Le Mayet'!$H$2:$H$31) -> 0 | I135: =SUM('Le Mayet'!$I$2:$I$31) -> 0
A137: ARRONNES | B137: NOM | C137: PRENOM | D137: ORANGES | E137: CLEMENTINES | F137: CITRONS | G137: POMELOS | H137: HUILE D'OLIVE | I137: TOTAL | J137: PAYE | K137: IMPAYE | L137: SIGNATURE
B138: =Arronnes!B2 -> 0 | C138: =Arronnes!C2 -> 0 | D138: =Arronnes!D2 -> 0 | E138: =Arronnes!E2 -> 0 | F138: =Arronnes!F2 -> 0 | G138: =Arronnes!G2 -> 0 | H138: =Arronnes!H2 -> 0 | I138: =Arronnes!I2 -> 0 | ... K138: =Arronnes!K2 -> 0
B139: =Arronnes!B3 -> 0 | C139: =Arronnes!C3 -> 0 | D139: =Arronnes!D3 -> 0 | E139: =Arronnes!E3 -> 0 | F139: =Arronnes!F3 -> 0 | G139: =Arronnes!G3 -> 0 | H139: =Arronnes!H3 -> 0 | I139: =Arronnes!I3 -> 0 | ... K139: =Arronnes!K3 -> 0
B140: =Arronnes!B4 -> 0 | C140: =Arronnes!C4 -> 0 | D140: =Arronnes!D4 -> 0 | E140: =Arronnes!E4 -> 0 | F140: =Arronnes!F4 -> 0 | G140: =Arronnes!G4 -> 0 | H140: =Arronnes!H4 -> 0 | I140: =Arronnes!I4 -> 0 | ... K140: =Arronnes!K4 -> 0
B141: =Arronnes!B5 -> 0 | C141: =Arronnes!C5 -> 0 | D141: =Arronnes!D5 -> 0 | E141: =Arronnes!E5 -> 0 | F141: =Arronnes!F5 -> 0 | G141: =Arronnes!G5 -> 0 | H141: =Arronnes!H5 -> 0 | I141: =Arronnes!I5 -> 0 | ... K141: =Arronnes!K5 -> 0
B142: =Arronnes!B6 -> 0 | C142: =Arronnes!C6 -> 0 | D142: =Arronnes!D6 -> 0 | E142: =Arronnes!E6 -> 0 | F142: =Arronnes!F6 -> 0 | G142: =Arronnes!G6 -> 0 | H142: =Arronnes!H6 -> 0 | I142: =Arronnes!I6 -> 0 | ... K142: =Arronnes!K6 -> 0
B143: =Arronnes!B7 -> 0 | C143: =Arronnes!C7 -> 0 | D143: =Arronnes!D7 -> 0 | E143: =Arronnes!E7 -> 0 | F143: =Arronnes!F7 -> 0 | G143: =Arronnes!G7 -> 0 | H143: =Arronnes!H7 -> 0 | I143: =Arronnes!I7 -> 0 | ... K143: =Arronnes!K7 -> 0
B144: =Arronnes!B8 -> 0 | C144: =Arronnes!C8 -> 0 | D144: =Arronnes!D8 -> 0 | E144: =Arronnes!E8 -> 0 | F144: =Arronnes!F8 -> 0 | G144: =Arronnes!G8 -> 0 | H144: =Arronnes!H8 -> 0 | I144: =Arronnes!I8 -> 0 | ... K144: =Arronnes!K8 -> 0
B145: =Arronnes!B9 -> 0 | C145: =Arronnes!C9 -> 0 | D145: =Arronnes!D9 -> 0 | E145: =Arronnes!E9 -> 0 | F145: =Arronnes!F9 -> 0 | G145: =Arronnes!G9 -> 0 | H145: =Arronnes!H9 -> 0 | I145: =Arronnes!I9 -> 0 | ... K145: =Arronnes!K9 -> 0
B146: =Arronnes!B10 -> 0 | C146: =Arronnes!C10 -> 0 | D146: =Arronnes!D10 -> 0 | E146: =Arronnes!E10 -> 0 | F146: =Arronnes!F10 -> 0 | G146: =Arronnes!G10 -> 0 | H146: =Arronnes!H10 -> 0 | I146: =Arronnes!I10 -> 0 | ... K146: =Arronnes!K10 -> 0
B147: =Arronnes!B11 -> 0 | C147: =Arronnes!C11 -> 0 | D147: =Arronnes!D11 -> 0 | E147: =Arronnes!E11 -> 0 | F147: =Arronnes!F11 -> 0 | G147: =Arronnes!G11 -> 0 | H147: =Arronnes!H11 -> 0 | I147: =Arronnes!I11 -> 0 | ... K147: =Arronnes!K11 -> 0
B148: =Arronnes!B12 -> 0 | C148: =Arronnes!C12 -> 0 | D148: =Arronnes!D12 -> 0 | E148: =Arronnes!E12 -> 0 | F148: =Arronnes!F12 -> 0 | G148: =Arronnes!G12 -> 0 | H148: =Arronnes!H12 -> 0 | I148: =Arronnes!I12 -> 0 | ... K148: =Arronnes!K12 -> 0
B149: =Arronnes!B13 -> 0 | C149: =Arronnes!C13 -> 0 | D149: =Arronnes!D13 -> 0 | E149: =Arronnes!E13 -> 0 | F149: =Arronnes!F13 -> 0 | G149: =Arronnes!G13 -> 0 | H149: =Arronnes!H13 -> 0 | I149: =Arronnes!I13 -> 0 | ... K149: =Arronnes!K13 -> 0
... B167: =Arronnes!B31 -> 0 | C167: =Arronnes!C31 -> 0 | D167: =Arronnes!D31 -> 0 | E167: =Arronnes!E31 -> 0 | F167: =Arronnes!F31 -> 0 | G167: =Arronnes!G31 -> 0 | H167: =Arronnes!H31 -> 0 | I167: =Arronnes!I31 -> 0 | ... K167: =Arronnes!K31 -> 0
D169: =SUM(Arronnes!$D$2:$D$31) -> 0 | E169: =SUM(Arronnes!$E$2:$E$31) -> 0 | F169: =SUM(Arronnes!$F$2:$F$31) -> 0 | G169: =SUM(Arronnes!$G$2:$G$31) -> 0 | H169: =SUM(Arronnes!$H$2:$H$31) -> 0 | I169: =SUM(Arronnes!$I$2:$I$31) -> 0
A171: LE VERNET | B171: NOM | C171: PRENOM | D171: ORANGES | E171: CLEMENTINES | F171: CITRONS | G171: POMELOS | H171: HUILE D'OLIVE | I171: TOTAL | J171: PAYE | K171: IMPAYE | L171: SIGNATURE
B172: ='Le Vernet'!B2 -> 0 | C172: ='Le Vernet'!C2 -> 0 | D172: ='Le Vernet'!D2 -> 0 | E172: ='Le Vernet'!E2 -> 0 | F172: ='Le Vernet'!F2 -> 0 | G172: ='Le Vernet'!G2 -> 0 | H172: ='Le Vernet'!H2 -> 0 | I172: ='Le Vernet'!I2 -> 0 | ... K172: ='Le Vernet'!K2 -> 0
B173: ='Le Vernet'!B3 -> 0 | C173: ='Le Vernet'!C3 -> 0 | D173: ='Le Vernet'!D3 -> 0 | E173: ='Le Vernet'!E3 -> 0 | F173: ='Le Vernet'!F3 -> 0 | G173: ='Le Vernet'!G3 -> 0 | H173: ='Le Vernet'!H3 -> 0 | I173: ='Le Vernet'!I3 -> 0 | ... K173: ='Le Vernet'!K3 -> 0
B174: ='Le Vernet'!B4 -> 0 | C174: ='Le Vernet'!C4 -> 0 | D174: ='Le Vernet'!D4 -> 0 | E174: ='Le Vernet'!E4 -> 0 | F174: ='Le Vernet'!F4 -> 0 | G174: ='Le Vernet'!G4 -> 0 | H174: ='Le Vernet'!H4 -> 0 | I174: ='Le Vernet'!I4 -> 0 | ... K174: ='Le Vernet'!K4 -> 0
B175: ='Le Vernet'!B5 -> 0 | C175: ='Le Vernet'!C5 -> 0 | D175: ='Le Vernet'!D5 -> 0 | E175: ='Le Vernet'!E5 -> 0 | F175: ='Le Vernet'!F5 -> 0 | G175: ='Le Vernet'!G5 -> 0 | H175: ='Le Vernet'!H5 -> 0 | I175: ='Le Vernet'!I5 -> 0 | ... K175: ='Le Vernet'!K5 -> 0
B176: ='Le Vernet'!B6 -> 0 | C176: ='Le Vernet'!C6 -> 0 | D176: ='Le Vernet'!D6 -> 0 | E176: ='Le Vernet'!E6 -> 0 | F176: ='Le Vernet'!F6 -> 0 | G176: ='Le Vernet'!G6 -> 0 | H176: ='Le Vernet'!H6 -> 0 | I176: ='Le Vernet'!I6 -> 0 | ... K176: ='Le Vernet'!K6 -> 0
B177: ='Le Vernet'!B7 -> 0 | C177: ='Le Vernet'!C7 -> 0 | D177: ='Le Vernet'!D7 -> 0 | E177: ='Le Vernet'!E7 -> 0 | F177: ='Le Vernet'!F7 -> 0 | G177: ='Le Vernet'!G7 -> 0 | H177: ='Le Vernet'!H7 -> 0 | I177: ='Le Vernet'!I7 -> 0 | ... K177: ='Le Vernet'!K7 -> 0
B178: ='Le Vernet'!B8 -> 0 | C178: ='Le Vernet'!C8 -> 0 | D178: ='Le Vernet'!D8 -> 0 | E178: ='Le Vernet'!E8 -> 0 | F178: ='Le Vernet'!F8 -> 0 | G178: ='Le Vernet'!G8 -> 0 | H178: ='Le Vernet'!H8 -> 0 | I178: ='Le Vernet'!I8 -> 0 | ... K178: ='Le Vernet'!K8 -> 0
B179: ='Le Vernet'!B9 -> 0 | C179: ='Le Vernet'!C9 -> 0 | D179: ='Le Vernet'!D9 -> 0 | E179: ='Le Vernet'!E9 -> 0 | F179: ='Le Vernet'!F9 -> 0 | G179: ='Le Vernet'!G9 -> 0 | H179: ='Le Vernet'!H9 -> 0 | I179: ='Le Vernet'!I9 -> 0 | ... K179: ='Le Vernet'!K9 -> 0
B180: ='Le Vernet'!B10 -> 0 | C180: ='Le Vernet'!C10 -> 0 | D180: ='Le Vernet'!D10 -> 0 | E180: ='Le Vernet'!E10 -> 0 | F180: ='Le Vernet'!F10 -> 0 | G180: ='Le Vernet'!G10 -> 0 | H180: ='Le Vernet'!H10 -> 0 | I180: ='Le Vernet'!I10 -> 0 | ... K180: ='Le Vernet'!K10 -> 0
B181: ='Le Vernet'!B11 -> 0 | C181: ='Le Vernet'!C11 -> 0 | D181: ='Le Vernet'!D11 -> 0 | E181: ='Le Vernet'!E11 -> 0 | F181: ='Le Vernet'!F11 -> 0 | G181: ='Le Vernet'!G11 -> 0 | H181: ='Le Vernet'!H11 -> 0 | I181: ='Le Vernet'!I11 -> 0 | ... K181: ='Le Vernet'!K11 -> 0
B182: ='Le Vernet'!B12 -> 0 | C182: ='Le Vernet'!C12 -> 0 | D182: ='Le Vernet'!D12 -> 0 | E182: ='Le Vernet'!E12 -> 0 | F182: ='Le Vernet'!F12 -> 0 | G182: ='Le Vernet'!G12 -> 0 | H182: ='Le Vernet'!H12 -> 0 | I182: ='Le Vernet'!I12 -> 0 | ... K182: ='Le Vernet'!K12 -> 0
B183: ='Le Vernet'!B13 -> 0 | C183: ='Le Vernet'!C13 -> 0 | D183: ='Le Vernet'!D13 -> 0 | E183: ='Le Vernet'!E13 -> 0 | F183: ='Le Vernet'!F13 -> 0 | G183: ='Le Vernet'!G13 -> 0 | H183: ='Le Vernet'!H13 -> 0 | I183: ='Le Vernet'!I13 -> 0 | ... K183: ='Le Vernet'!K13 -> 0
... B201: ='Le Vernet'!B31 -> 0 | C201: ='Le Vernet'!C31 -> 0 | D201: ='Le Vernet'!D31 -> 0 | E201: ='Le Vernet'!E31 -> 0 | F201: ='Le Vernet'!F31 -> 0 | G201: ='Le Vernet'!G31 -> 0 | H201: ='Le Vernet'!H31 -> 0 | I201: ='Le Vernet'!I31 -> 0 | ... K201: ='Le Vernet'!K31 -> 0
D203: =SUM('Le Vernet'!$D$2:$D$31) -> 0 | E203: =SUM('Le Vernet'!$E$2:$E$31) -> 0 | F203: =SUM('Le Vernet'!$F$2:$F$31) -> 0 | G203: =SUM('Le Vernet'!$G$2:$G$31) -> 0 | H203: =SUM('Le Vernet'!$H$2:$H$31) -> 0 | I203: =SUM('Le Vernet'!$I$2:$I$31) -> 0
A205: RESTAURANTS | B205: NOM | C205: PRENOM | D205: ORANGES | E205: CLEMENTINES | F205: CITRONS | G205: POMELOS | H205: HUILE D'OLIVE | I205: TOTAL | J205: PAYE | K205: IMPAYE | L205: SIGNATURE
B206: =Restaurants!B2 -> 0 | C206: =Restaurants!C2 -> 0 | D206: =Restaurants!D2 -> 0 | E206: =Restaurants!E2 -> 0 | F206: =Restaurants!F2 -> 0 | G206: =Restaurants!G2 -> 0 | H206: =Restaurants!H2 -> 0 | I206: =Restaurants!I2 -> 0 | ... K206: =Restaurants!K2 -> 0
B207: =Restaurants!B3 -> 0 | C207: =Restaurants!C3 -> 0 | D207: =Restaurants!D3 -> 0 | E207: =Restaurants!E3 -> 0 | F207: =Restaurants!F3 -> 0 | G207: =Restaurants!G3 -> 0 | H207: =Restaurants!H3 -> 0 | I207: =Restaurants!I3 -> 0 | ... K207: =Restaurants!K3 -> 0
B208: =Restaurants!B4 -> 0 | C208: =Restaurants!C4 -> 0 | D208: =Restaurants!D4 -> 0 | E208: =Restaurants!E4 -> 0 | F208: =Restaurants!F4 -> 0 | G208: =Restaurants!G4 -> 0 | H208: =Restaurants!H4 -> 0 | I208: =Restaurants!I4 -> 0 | ... K208: =Restaurants!K4 -> 0
B209: =Restaurants!B5 -> 0 | C209: =Restaurants!C5 -> 0 | D209: =Restaurants!D5 -> 0 | E209: =Restaurants!E5 -> 0 | F209: =Restaurants!F5 -> 0 | G209: =Restaurants!G5 -> 0 | H209: =Restaurants!H5 -> 0 | I209: =Restaurants!I5 -> 0 | ... K209: =Restaurants!K5 -> 0
B210: =Restaurants!B6 -> 0 | C210: =Restaurants!C6 -> 0 | D210: =Restaurants!D6 -> 0 | E210: =Restaurants!E6 -> 0 | F210: =Restaurants!F6 -> 0 | G210: =Restaurants!G6 -> 0 | H210: =Restaurants!H6 -> 0 | I210: =Restaurants!I6 -> 0 | ... K210: =Restaurants!K6 -> 0
B211: =Restaurants!B7 -> 0 | C211: =Restaurants!C7 -> 0 | D211: =Restaurants!D7 -> 0 | E211: =Restaurants!E7 -> 0 | F211: =Restaurants!F7 -> 0 | G211: =Restaurants!G7 -> 0 | H211: =Restaurants!H7 -> 0 | I211: =Restaurants!I7 -> 0 | ... K211: =Restaurants!K7 -> 0
B212: =Restaurants!B8 -> 0 | C212: =Restaurants!C8 -> 0 | D212: =Restaurants!D8 -> 0 | E212: =Restaurants!E8 -> 0 | F212: =Restaurants!F8 -> 0 | G212: =Restaurants!G8 -> 0 | H212: =Restaurants!H8 -> 0 | I212: =Restaurants!I8 -> 0 | ... K212: =Restaurants!K8 -> 0
B213: =Restaurants!B9 -> 0 | C213: =Restaurants!C9 -> 0 | D213: =Restaurants!D9 -> 0 | E213: =Restaurants!E9 -> 0 | F213: =Restaurants!F9 -> 0 | G213: =Restaurants!G9 -> 0 | H213: =Restaurants!H9 -> 0 | I213: =Restaurants!I9 -> 0 | ... K213: =Restaurants!K9 -> 0
B214: =Restaurants!B10 -> 0 | C214: =Restaurants!C10 -> 0 | D214: =Restaurants!D10 -> 0 | E214: =Restaurants!E10 -> 0 | F214: =Restaurants!F10 -> 0 | G214: =Restaurants!G10 -> 0 | H214: =Restaurants!H10 -> 0 | I214: =Restaurants!I10 -> 0 | ... K214: =Restaurants!K10 -> 0
...

Sheet Bellerive
A1: BELLERIVE-SUR-ALLIER | B1: NOM | C1: PRENOM | D1: ORANGES | E1: CLEMENTINES | F1: CITRONS | G1: POMELOS | H1: HUILE D'OLIVE | I1: TOTAL | J1: PAYE | K1: IMPAYE | L1: DATE DE REMISES EN BANQUE
I2: =SUM((D2*Global!D3)+(E2*Global!E3)+(F2*Global!F3)+(G2*Global!G3)+(H2*Global!H3)) -> 0
I3: =SUM((D3*Global!D4)+(E3*Global!E4)+(F3*Global!F4)+(G3*Global!G4)+(H3*Global!H4)) -> 0
I4: =SUM((D4*Global!D5)+(E4*Global!E5)+(F4*Global!F5)+(G4*Global!G5)+(H4*Global!H5)) -> 0
I5: =SUM((D5*Global!D6)+(E5*Global!E6)+(F5*Global!F6)+(G5*Global!G6)+(H5*Global!H6)) -> 0
I7: =SUM((D7*Global!D8)+(E7*Global!E8)+(F7*Global!F8)+(G7*Global!G8)+(H7*Global!H8)) -> 0
I8: =SUM((D8*Global!D9)+(E8*Global!E9)+(F8*Global!F9)+(G8*Global!G9)+(H8*Global!H9)) -> 0
I9: =SUM((D9*Global!D10)+(E9*Global!E10)+(F9*Global!F10)+(G9*Global!G10)+(H9*Global!H10)) -> 0
I10: =SUM((D10*Global!D11)+(E10*Global!E11)+(F10*Global!F11)+(G10*Global!G11)+(H10*Global!H11)) -> 0
I11: =SUM((D11*Global!D12)+(E11*Global!E12)+(F11*Global!F12)+(G11*Global!G12)+(H11*Global!H12)) -> 0
I12: =SUM((D12*Global!D13)+(E12*Global!E13)+(F12*Global!F13)+(G12*Global!G13)+(H12*Global!H13)) -> 0
I13: =SUM((D13*Global!D14)+(E13*Global!E14)+(F13*Global!F14)+(G13*Global!G14)+(H13*Global!H14)) -> 0
I14: =SUM((D14*Global!D15)+(E14*Global!E15)+(F14*Global!F15)+(G14*Global!G15)+(H14*Global!H15)) -> 0
... I31: =SUM((D31*Global!D32)+(E31*Global!E32)+(F31*Global!F32)+(G31*Global!G32)+(H31*Global!H32)) -> 0
D33: =SUM(Bellerive!$D$2:$D$31) -> 0 | E33: =SUM(Bellerive!$E$2:$E$31) -> 0 | F33: =SUM(Bellerive!$F$2:$F$31) -> 0 | G33: =SUM(Bellerive!$G$2:$G$31) -> 0 | H33: =SUM(Bellerive!$H$2:$H$31) -> 0 | I33: =SUM(Bellerive!$I$2:$I$31) -> 0

Sheet Cusset
A1: CUSSET | B1: NOM | C1: PRENOM | D1: ORANGES | E1: CLEMENTINES | F1: CITRONS | G1: POMELOS | H1: HUILE D'OLIVE | I1: TOTAL | J1: PAYE | K1: IMPAYE | L1: DATE DE REMISES EN BANQUE
I2: =SUM((D2*Global!D3)+(E2*Global!E3)+(F2*Global!F3)+(G2*Global!G3)+(H2*Global!H3)) -> 0
I3: =SUM((D3*Global!D4)+(E3*Global!E4)+(F3*Global!F4)+(G3*Global!G4)+(H3*Global!H4)) -> 0
I4: =SUM((D4*Global!D5)+(E4*Global!E5)+(F4*Global!F5)+(G4*Global!G5)+(H4*Global!H5)) -> 0
I5: =SUM((D5*Global!D6)+(E5*Global!E6)+(F5*Global!F6)+(G5*Global!G6)+(H5*Global!H6)) -> 0
I7: =SUM((D7*Global!D8)+(E7*Global!E8)+(F7*Global!F8)+(G7*Global!G8)+(H7*Global!H8)) -> 0
I8: =SUM((D8*Global!D9)+(E8*Global!E9)+(F8*Global!F9)+(G8*Global!G9)+(H8*Global!H9)) -> 0
I9: =SUM((D9*Global!D10)+(E9*Global!E10)+(F9*Global!F10)+(G9*Global!G10)+(H9*Global!H10)) -> 0
I10: =SUM((D10*Global!D11)+(E10*Global!E11)+(F10*Global!F11)+(G10*Global!G11)+(H10*Global!H11)) -> 0
I11: =SUM((D11*Global!D12)+(E11*Global!E12)+(F11*Global!F12)+(G11*Global!G12)+(H11*Global!H12)) -> 0
I12: =SUM((D12*Global!D13)+(E12*Global!E13)+(F12*Global!F13)+(G12*Global!G13)+(H12*Global!H13)) -> 0
I13: =SUM((D13*Global!D14)+(E13*Global!E14)+(F13*Global!F14)+(G13*Global!G14)+(H13*Global!H14)) -> 0
I14: =SUM((D14*Global!D15)+(E14*Global!E15)+(F14*Global!F15)+(G14*Global!G15)+(H14*Global!H15)) -> 0
... I31: =SUM((D31*Global!D32)+(E31*Global!E32)+(F31*Global!F32)+(G31*Global!G32)+(H31*Global!H32)) -> 0
D33: =SUM(Cusset!$D$2:$D$31) -> 0 | E33: =SUM(Cusset!$E$2:$E$31) -> 0 | F33: =SUM(Cusset!$F$2:$F$31) -> 0 | G33: =SUM(Cusset!$G$2:$G$31) -> 0 | H33: =SUM(Cusset!$H$2:$H$31) -> 0 | I33: =SUM(Cusset!$I$2:$I$31) -> 0

Sheet Vichy
A1: VICHY | B1: NOM | C1: PRENOM | D1: ORANGES | E1: CLEMENTINES | F1: CITRONS | G1: POMELOS | H1: HUILE D'OLIVE | I1: TOTAL | J1: PAYE | K1: IMPAYE | L1: DATE DE REMISES EN BANQUE
I2: =SUM((D2*Global!D3)+(E2*Global!E3)+(F2*Global!F3)+(G2*Global!G3)+(H2*Global!H3)) -> 0
I3: =SUM((D3*Global!D4)+(E3*Global!E4)+(F3*Global!F4)+(G3*Global!G4)+(H3*Global!H4)) -> 0
I4: =SUM((D4*Global!D5)+(E4*Global!E5)+(F4*Global!F5)+(G4*Global!G5)+(H4*Global!H5)) -> 0
I5: =SUM((D5*Global!D6)+(E5*Global!E6)+(F5*Global!F6)+(G5*Global!G6)+(H5*Global!H6)) -> 0
I7: =SUM((D7*Global!D8)+(E7*Global!E8)+(F7*Global!F8)+(G7*Global!G8)+(H7*Global!H8)) -> 0
I8: =SUM((D8*Global!D9)+(E8*Global!E9)+(F8*Global!F9)+(G8*Global!G9)+(H8*Global!H9)) -> 0
I9: =SUM((D9*Global!D10)+(E9*Global!E10)+(F9*Global!F10)+(G9*Global!G10)+(H9*Global!H10)) -> 0
I10: =SUM((D10*Global!D11)+(E10*Global!E11)+(F10*Global!F11)+(G10*Global!G11)+(H10*Global!H11)) -> 0
I11: =SUM((D11*Global!D12)+(E11*Global!E12)+(F11*Global!F12)+(G11*Global!G12)+(H11*Global!H12)) -> 0
I12: =SUM((D12*Global!D13)+(E12*Global!E13)+(F12*Global!F13)+(G12*Global!G13)+(H12*Global!H13)) -> 0
I13: =SUM((D13*Global!D14)+(E13*Global!E14)+(F13*Global!F14)+(G13*Global!G14)+(H13*Global!H14)) -> 0
I14: =SUM((D14*Global!D15)+(E14*Global!E15)+(F14*Global!F15)+(G14*Global!G15)+(H14*Global!H15)) -> 0
... I31: =SUM((D31*Global!D32)+(E31*Global!E32)+(F31*Global!F32)+(G31*Global!G32)+(H31*Global!H32)) -> 0
D33: =SUM(Vichy!$D$2:$D$31) -> 0 | E33: =SUM(Vichy!$E$2:$E$31) -> 0 | F33: =SUM(Vichy!$F$2:$F$31) -> 0 | G33: =SUM(Vichy!$G$2:$G$31) -> 0 | H33: =SUM(Vichy!$H$2:$H$31) -> 0 | I33: =SUM(Vichy!$I$2:$I$31) -> 0

Sheet Le Mayet
A1: LE MAYET-DE-MONTAGNE | B1: NOM | C1: PRENOM | D1: ORANGES | E1: CLEMENTINES | F1: CITRONS | G1: POMELOS | H1: HUILE D'OLIVE | I1: TOTAL | J1: PAYE | K1: IMPAYE | L1: DATE DE REMISES EN BANQUE
I2: =SUM((D2*Global!D3)+(E2*Global!E3)+(F2*Global!F3)+(G2*Global!G3)+(H2*Global!H3)) -> 0
I3: =SUM((D3*Global!D4)+(E3*Global!E4)+(F3*Global!F4)+(G3*Global!G4)+(H3*Global!H4)) -> 0
I4: =SUM((D4*Global!D5)+(E4*Global!E5)+(F4*Global!F5)+(G4*Global!G5)+(H4*Global!H5)) -> 0
I5: =SUM((D5*Global!D6)+(E5*Global!E6)+(F5*Global!F6)+(G5*Global!G6)+(H5*Global!H6)) -> 0
I7: =SUM((D7*Global!D8)+(E7*Global!E8)+(F7*Global!F8)+(G7*Global!G8)+(H7*Global!H8)) -> 0
I8: =SUM((D8*Global!D9)+(E8*Global!E9)+(F8*Global!F9)+(G8*Global!G9)+(H8*Global!H9)) -> 0
I9: =SUM((D9*Global!D10)+(E9*Global!E10)+(F9*Global!F10)+(G9*Global!G10)+(H9*Global!H10)) -> 0
I10: =SUM((D10*Global!D11)+(E10*Global!E11)+(F10*Global!F11)+(G10*Global!G11)+(H10*Global!H11)) -> 0
I11: =SUM((D11*Global!D12)+(E11*Global!E12)+(F11*Global!F12)+(G11*Global!G12)+(H11*Global!H12)) -> 0
I12: =SUM((D12*Global!D13)+(E12*Global!E13)+(F12*Global!F13)+(G12*Global!G13)+(H12*Global!H13)) -> 0
I13: =SUM((D13*Global!D14)+(E13*Global!E14)+(F13*Global!F14)+(G13*Global!G14)+(H13*Global!H14)) -> 0
I14: =SUM((D14*Global!D15)+(E14*Global!E15)+(F14*Global!F15)+(G14*Global!G15)+(H14*Global!H15)) -> 0
... I31: =SUM((D31*Global!D32)+(E31*Global!E32)+(F31*Global!F32)+(G31*Global!G32)+(H31*Global!H32)) -> 0
D33: =SUM('Le Mayet'!$D$2:$D$31) -> 0 | E33: =SUM('Le Mayet'!$E$2:$E$31) -> 0 | F33: =SUM('Le Mayet'!$F$2:$F$31) -> 0 | G33: =SUM('Le Mayet'!$G$2:$G$31) -> 0 | H33: =SUM('Le Mayet'!$H$2:$H$31) -> 0 | I33: =SUM('Le Mayet'!$I$2:$I$31) -> 0

Sheet Arronnes
A1: ARRONNES | B1: NOM | C1: PRENOM | D1: ORANGES | E1: CLEMENTINES | F1: CITRONS | G1: POMELOS | H1: HUILE D'OLIVE | I1: TOTAL | J1: PAYE | K1: IMPAYE | L1: DATE DE REMISES EN BANQUE
I2: =SUM((D2*Global!D3)+(E2*Global!E3)+(F2*Global!F3)+(G2*Global!G3)+(H2*Global!H3)) -> 0
I3: =SUM((D3*Global!D4)+(E3*Global!E4)+(F3*Global!F4)+(G3*Global!G4)+(H3*Global!H4)) -> 0
I4: =SUM((D4*Global!D5)+(E4*Global!E5)+(F4*Global!F5)+(G4*Global!G5)+(H4*Global!H5)) -> 0
I5: =SUM((D5*Global!D6)+(E5*Global!E6)+(F5*Global!F6)+(G5*Global!G6)+(H5*Global!H6)) -> 0
I7: =SUM((D7*Global!D8)+(E7*Global!E8)+(F7*Global!F8)+(G7*Global!G8)+(H7*Global!H8)) -> 0
I8: =SUM((D8*Global!D9)+(E8*Global!E9)+(F8*Global!F9)+(G8*Global!G9)+(H8*Global!H9)) -> 0
I9: =SUM((D9*Global!D10)+(E9*Global!E10)+(F9*Global!F10)+(G9*Global!G10)+(H9*Global!H10)) -> 0
I10: =SUM((D10*Global!D11)+(E10*Global!E11)+(F10*Global!F11)+(G10*Global!G11)+(H10*Global!H11)) -> 0
I11: =SUM((D11*Global!D12)+(E11*Global!E12)+(F11*Global!F12)+(G11*Global!G12)+(H11*Global!H12)) -> 0
I12: =SUM((D12*Global!D13)+(E12*Global!E13)+(F12*Global!F13)+(G12*Global!G13)+(H12*Global!H13)) -> 0
I13: =SUM((D13*Global!D14)+(E13*Global!E14)+(F13*Global!F14)+(G13*Global!G14)+(H13*Global!H14)) -> 0
I14: =SUM((D14*Global!D15)+(E14*Global!E15)+(F14*Global!F15)+(G14*Global!G15)+(H14*Global!H15)) -> 0
... I31: =SUM((D31*Global!D32)+(E31*Global!E32)+(F31*Global!F32)+(G31*Global!G32)+(H31*Global!H32)) -> 0
D33: =SUM(Arronnes!$D$2:$D$31) -> 0 | E33: =SUM(Arronnes!$E$2:$E$31) -> 0 | F33: =SUM(Arronnes!$F$2:$F$31) -> 0 | G33: =SUM(Arronnes!$G$2:$G$31) -> 0 | H33: =SUM(Arronnes!$H$2:$H$31) -> 0 | I33: =SUM(Arronnes!$I$2:$I$31) -> 0

Sheet Le Vernet
A1: LE VERNET | B1: NOM | C1: PRENOM | D1: ORANGES | E1: CLEMENTINES | F1: CITRONS | G1: POMELOS | H1: HUILE D'OLIVE | I1: TOTAL | J1: PAYE | K1: IMPAYE | L1: DATE DE REMISES EN BANQUE
I2: =SUM((D2*Global!D3)+(E2*Global!E3)+(F2*Global!F3)+(G2*Global!G3)+(H2*Global!H3)) -> 0
I3: =SUM((D3*Global!D4)+(E3*Global!E4)+(F3*Global!F4)+(G3*Global!G4)+(H3*Global!H4)) -> 0
I4: =SUM((D4*Global!D5)+(E4*Global!E5)+(F4*Global!F5)+(G4*Global!G5)+(H4*Global!H5)) -> 0
I5: =SUM((D5*Global!D6)+(E5*Global!E6)+(F5*Global!F6)+(G5*Global!G6)+(H5*Global!H6)) -> 0
I7: =SUM((D7*Global!D8)+(E7*Global!E8)+(F7*Global!F8)+(G7*Global!G8)+(H7*Global!H8)) -> 0
I8: =SUM((D8*Global!D9)+(E8*Global!E9)+(F8*Global!F9)+(G8*Global!G9)+(H8*Global!H9)) -> 0
I9: =SUM((D9*Global!D10)+(E9*Global!E10)+(F9*Global!F10)+(G9*Global!G10)+(H9*Global!H10)) -> 0
I10: =SUM((D10*Global!D11)+(E10*Global!E11)+(F10*Global!F11)+(G10*Global!G11)+(H10*Global!H11)) -> 0
I11: =SUM((D11*Global!D12)+(E11*Global!E12)+(F11*Global!F12)+(G11*Global!G12)+(H11*Global!H12)) -> 0
I12: =SUM((D12*Global!D13)+(E12*Global!E13)+(F12*Global!F13)+(G12*Global!G13)+(H12*Global!H13)) -> 0
I13: =SUM((D13*Global!D14)+(E13*Global!E14)+(F13*Global!F14)+(G13*Global!G14)+(H13*Global!H14)) -> 0
I14: =SUM((D14*Global!D15)+(E14*Global!E15)+(F14*Global!F15)+(G14*Global!G15)+(H14*Global!H15)) -> 0
... I31: =SUM((D31*Global!D32)+(E31*Global!E32)+(F31*Global!F32)+(G31*Global!G32)+(H31*Global!H32)) -> 0
D33: =SUM('Le Vernet'!$D$2:$D$31) -> 0 | E33: =SUM('Le Vernet'!$E$2:$E$31) -> 0 | F33: =SUM('Le Vernet'!$F$2:$F$31) -> 0 | G33: =SUM('Le Vernet'!$G$2:$G$31) -> 0 | H33: =SUM('Le Vernet'!$H$2:$H$31) -> 0 | I33: =SUM('Le Vernet'!$I$2:$I$31) -> 0

Sheet Restaurants
A1: RESTAURANTS | B1: NOM | C1: PRENOM | D1: ORANGES | E1: CLEMENTINES | F1: CITRONS | G1: POMELOS | H1: HUILE D'OLIVE | I1: TOTAL | J1: PAYE | K1: IMPAYE | L1: DATE DE REMISES EN BANQUE
I2: =SUM((D2*Global!D3)+(E2*Global!E3)+(F2*Global!F3)+(G2*Global!G3)+(H2*Global!H3)) -> 0
I3: =SUM((D3*Global!D4)+(E3*Global!E4)+(F3*Global!F4)+(G3*Global!G4)+(H3*Global!H4)) -> 0
I4: =SUM((D4*Global!D5)+(E4*Global!E5)+(F4*Global!F5)+(G4*Global!G5)+(H4*Global!H5)) -> 0
I5: =SUM((D5*Global!D6)+(E5*Global!E6)+(F5*Global!F6)+(G5*Global!G6)+(H5*Global!H6)) -> 0
I7: =SUM((D7*Global!D8)+(E7*Global!E8)+(F7*Global!F8)+(G7*Global!G8)+(H7*Global!H8)) -> 0
I8: =SUM((D8*Global!D9)+(E8*Global!E9)+(F8*Global!F9)+(G8*Global!G9)+(H8*Global!H9)) -> 0
I9: =SUM((D9*Global!D10)+(E9*Global!E10)+(F9*Global!F10)+(G9*Global!G10)+(H9*Global!H10)) -> 0
I10: =SUM((D10*Global!D11)+(E10*Global!E11)+(F10*Global!F11)+(G10*Global!G11)+(H10*Global!H11)) -> 0
I11: =SUM((D11*Global!D12)+(E11*Global!E12)+(F11*Global!F12)+(G11*Global!G12)+(H11*Global!H12)) -> 0
I12: =SUM((D12*Global!D13)+(E12*Global!E13)+(F12*Global!F13)+(G12*Global!G13)+(H12*Global!H13)) -> 0
I13: =SUM((D13*Global!D14)+(E13*Global!E14)+(F13*Global!F14)+(G13*Global!G14)+(H13*Global!H14)) -> 0
I14: =SUM((D14*Global!D15)+(E14*Global!E15)+(F14*Global!F15)+(G14*Global!G15)+(H14*Global!H15)) -> 0
... I31: =SUM((D31*Global!D32)+(E31*Global!E32)+(F31*Global!F32)+(G31*Global!G32)+(H31*Global!H32)) -> 0
D33: =SUM(Restaurants!$D$2:$D$31) -> 0 | E33: =SUM(Restaurants!$E$2:$E$31) -> 0 | F33: =SUM(Restaurants!$F$2:$F$31) -> 0 | G33: =SUM(Restaurants!$G$2:$G$31) -> 0 | H33: =SUM(Restaurants!$H$2:$H$31) -> 0 | I33: =SUM(Restaurants!$I$2:$I$31) -> 0
