Workbook

Sheet Global
D1: ORANGES 10 Kg - 23€ | E1: CLEMENTINES 6 Kg - 16€ | F1: CITRONS 6 Kg - 16€ | G1: POMELOS 8 Kg - 20€ | H1: HUILE D'OLIVE 5 L - 44€ | I1: TOTAL
C2: Poids | D2: 10 | E2: 6 | F2: 6 | G2: 8 | H2: 5
C3: Prix | D3: 23 | E3: 16 | F3: 16 | G3: 20 | H3: 44
C4: TOTAL | D4: =SUM(D39+D74+D108+D142+D176+D210+D244) -> 0 | E4: =SUM(E39+E74+E108+E142+E176+E210+E244) -> 0 | F4: =SUM(F39+F74+F108+F142+F176+F210+F244) -> 0 | G4: =SUM(G39+G74+G108+G142+G176+G210+G244) -> 0 | H4: =SUM(H39+H74+H108+H142+H176+H210+H244) -> 0 | I4: =SUM(D4:H4) -> 0
A7: BELLERIVE-SUR-ALLIER | B7: NOM | C7: PRENOM | D7: ORANGES | E7: CLEMENTINES | F7: CITRONS | G7: POMELOS | H7: HUILE D'OLIVE | I7: TOTAL | J7: PAYE | K7: IMPAYE | L7: DATE DE REMISES EN BANQUE
B8: =Bellerive!B2 -> 0 | C8: =Bellerive!C2 -> 0 | D8: =Bellerive!D2 -> 0 | E8: =Bellerive!E2 -> 0 | F8: =Bellerive!F2 -> 0 | G8: =Bellerive!G2 -> 0 | H8: =Bellerive!H2 -> 0 | I8: =Bellerive!I2 -> 0 | ... L8: =Bellerive!L2 -> 0
B9: =Bellerive!B3 -> 0 | C9: =Bellerive!C3 -> 0 | D9: =Bellerive!D3 -> 0 | E9: =Bellerive!E3 -> 0 | F9: =Bellerive!F3 -> 0 | G9: =Bellerive!G3 -> 0 | H9: =Bellerive!H3 -> 0 | I9: =Bellerive!I3 -> 0 | ... L9: =Bellerive!L3 -> 0
B10: =Bellerive!B4 -> 0 | C10: =Bellerive!C4 -> 0 | D10: =Bellerive!D4 -> 0 | E10: =Bellerive!E4 -> 0 | F10: =Bellerive!F4 -> 0 | G10: =Bellerive!G4 -> 0 | H10: =Bellerive!H4 -> 0 | I10: =Bellerive!I4 -> 0 | ... L10: =Bellerive!L4 -> 0
B11: =Bellerive!B5 -> 0 | C11: =Bellerive!C5 -> 0 | D11: =Bellerive!D5 -> 0 | E11: =Bellerive!E5 -> 0 | F11: =Bellerive!F5 -> 0 | G11: =Bellerive!G5 -> 0 | H11: =Bellerive!H5 -> 0 | I11: =Bellerive!I5 -> 0 | ... L11: =Bellerive!L5 -> 0
B12: =Bellerive!B6 -> 0 | C12: =Bellerive!C6 -> 0 | D12: =Bellerive!D6 -> 0 | E12: =Bellerive!E6 -> 0 | F12: =Bellerive!F6 -> 0 | G12: =Bellerive!G6 -> 0 | H12: =Bellerive!H6 -> 0 | I12: =Bellerive!I6 -> 0 | ... L12: =Bellerive!L6 -> 0
B13: =Bellerive!B7 -> 0 | C13: =Bellerive!C7 -> 0 | D13: =Bellerive!D7 -> 0 | E13: =Bellerive!E7 -> 0 | F13: =Bellerive!F7 -> 0 | G13: =Bellerive!G7 -> 0 | H13: =Bellerive!H7 -> 0 | I13: =Bellerive!I7 -> 0 | ... L13: =Bellerive!L7 -> 0
B14: =Bellerive!B8 -> 0 | C14: =Bellerive!C8 -> 0 | D14: =Bellerive!D8 -> 0 | E14: =Bellerive!E8 -> 0 | F14: =Bellerive!F8 -> 0 | G14: =Bellerive!G8 -> 0 | H14: =Bellerive!H8 -> 0 | I14: =Bellerive!I8 -> 0 | ... L14: =Bellerive!L8 -> 0
B15: =Bellerive!B9 -> 0 | C15: =Bellerive!C9 -> 0 | D15: =Bellerive!D9 -> 0 | E15: =Bellerive!E9 -> 0 | F15: =Bellerive!F9 -> 0 | G15: =Bellerive!G9 -> 0 | H15: =Bellerive!H9 -> 0 | I15: =Bellerive!I9 -> 0 | ... L15: =Bellerive!L9 -> 0
B16: =Bellerive!B10 -> 0 | C16: =Bellerive!C10 -> 0 | D16: =Bellerive!D10 -> 0 | E16: =Bellerive!E10 -> 0 | F16: =Bellerive!F10 -> 0 | G16: =Bellerive!G10 -> 0 | H16: =Bellerive!H10 -> 0 | I16: =Bellerive!I10 -> 0 | ... L16: =Bellerive!L10 -> 0
B17: =Bellerive!B11 -> 0 | C17: =Bellerive!C11 -> 0 | D17: =Bellerive!D11 -> 0 | E17: =Bellerive!E11 -> 0 | F17: =Bellerive!F11 -> 0 | G17: =Bellerive!G11 -> 0 | H17: =Bellerive!H11 -> 0 | I17: =Bellerive!I11 -> 0 | ... L17: =Bellerive!L11 -> 0
B18: =Bellerive!B12 -> 0 | C18: =Bellerive!C12 -> 0 | D18: =Bellerive!D12 -> 0 | E18: =Bellerive!E12 -> 0 | F18: =Bellerive!F12 -> 0 | G18: =Bellerive!G12 -> 0 | H18: =Bellerive!H12 -> 0 | I18: =Bellerive!I12 -> 0 | ... L18: =Bellerive!L12 -> 0
B19: =Bellerive!B13 -> 0 | C19: =Bellerive!C13 -> 0 | D19: =Bellerive!D13 -> 0 | E19: =Bellerive!E13 -> 0 | F19: =Bellerive!F13 -> 0 | G19: =Bellerive!G13 -> 0 | H19: =Bellerive!H13 -> 0 | I19: =Bellerive!I13 -> 0 | ... L19: =Bellerive!L13 -> 0
... B37: =Bellerive!B31 -> 0 | C37: =Bellerive!C31 -> 0 | D37: =Bellerive!D31 -> 0 | E37: =Bellerive!E31 -> 0 | F37: =Bellerive!F31 -> 0 | G37: =Bellerive!G31 -> 0 | H37: =Bellerive!H31 -> 0 | I37: =Bellerive!I31 -> 0 | ... L37: =Bellerive!L31 -> 0
D39: =SUM(Tableau1[ORANGES]) -> 0 | E39: =SUM(Tableau1[CLEMENTINES]) -> 0 | F39: =SUM(Tableau1[CITRONS]) -> 0 | G39: =SUM(Tableau1[POMELOS]) -> 0 | H39: =SUM(Tableau1[HUILE D''OLIVE]) -> 0 | I39: =SUM(Tableau1[TOTAL]) -> 0
A42: CUSSET | B42: NOM | C42: PRENOM | D42: ORANGES | E42: CLEMENTINES | F42: CITRONS | G42: POMELOS | H42: HUILE D'OLIVE | I42: TOTAL | J42: PAYE | K42: IMPAYE | L42: DATE DE REMISES EN BANQUE
B43: =+Cusset!B2 -> 0 | C43: =+Cusset!C2 -> 0 | D43: =+Cusset!D2 -> 0 | E43: =+Cusset!E2 -> 0 | F43: =+Cusset!F2 -> 0 | G43: =+Cusset!G2 -> 0 | H43: =+Cusset!H2 -> 0 | I43: =+Cusset!I2 -> 0 | ... L43: =+Cusset!L2 -> 0
B44: =+Cusset!B3 -> 0 | C44: =+Cusset!C3 -> 0 | D44: =+Cusset!D3 -> 0 | E44: =+Cusset!E3 -> 0 | F44: =+Cusset!F3 -> 0 | G44: =+Cusset!G3 -> 0 | H44: =+Cusset!H3 -> 0 | I44: =+Cusset!I3 -> 0 | ... L44: =+Cusset!L3 -> 0
B45: =+Cusset!B4 -> 0 | C45: =+Cusset!C4 -> 0 | D45: =+Cusset!D4 -> 0 | E45: =+Cusset!E4 -> 0 | F45: =+Cusset!F4 -> 0 | G45: =+Cusset!G4 -> 0 | H45: =+Cusset!H4 -> 0 | I45: =+Cusset!I4 -> 0 | ... L45: =+Cusset!L4 -> 0
B46: =+Cusset!B5 -> 0 | C46: =+Cusset!C5 -> 0 | D46: =+Cusset!D5 -> 0 | E46: =+Cusset!E5 -> 0 | F46: =+Cusset!F5 -> 0 | G46: =+Cusset!G5 -> 0 | H46: =+Cusset!H5 -> 0 | I46: =+Cusset!I5 -> 0 | ... L46: =+Cusset!L5 -> 0
B47: =+Cusset!B6 -> 0 | C47: =+Cusset!C6 -> 0 | D47: =+Cusset!D6 -> 0 | E47: =+Cusset!E6 -> 0 | F47: =+Cusset!F6 -> 0 | G47: =+Cusset!G6 -> 0 | H47: =+Cusset!H6 -> 0 | I47: =+Cusset!I6 -> 0 | ... L47: =+Cusset!L6 -> 0
B48: =+Cusset!B7 -> 0 | C48: =+Cusset!C7 -> 0 | D48: =+Cusset!D7 -> 0 | E48: =+Cusset!E7 -> 0 | F48: =+Cusset!F7 -> 0 | G48: =+Cusset!G7 -> 0 | H48: =+Cusset!H7 -> 0 | I48: =+Cusset!I7 -> 0 | ... L48: =+Cusset!L7 -> 0
B49: =+Cusset!B8 -> 0 | C49: =+Cusset!C8 -> 0 | D49: =+Cusset!D8 -> 0 | E49: =+Cusset!E8 -> 0 | F49: =+Cusset!F8 -> 0 | G49: =+Cusset!G8 -> 0 | H49: =+Cusset!H8 -> 0 | I49: =+Cusset!I8 -> 0 | ... L49: =+Cusset!L8 -> 0
B50: =+Cusset!B9 -> 0 | C50: =+Cusset!C9 -> 0 | D50: =+Cusset!D9 -> 0 | E50: =+Cusset!E9 -> 0 | F50: =+Cusset!F9 -> 0 | G50: =+Cusset!G9 -> 0 | H50: =+Cusset!H9 -> 0 | I50: =+Cusset!I9 -> 0 | ... L50: =+Cusset!L9 -> 0
B51: =+Cusset!B10 -> 0 | C51: =+Cusset!C10 -> 0 | D51: =+Cusset!D10 -> 0 | E51: =+Cusset!E10 -> 0 | F51: =+Cusset!F10 -> 0 | G51: =+Cusset!G10 -> 0 | H51: =+Cusset!H10 -> 0 | I51: =+Cusset!I10 -> 0 | ... L51: =+Cusset!L10 -> 0
B52: =+Cusset!B11 -> 0 | C52: =+Cusset!C11 -> 0 | D52: =+Cusset!D11 -> 0 | E52: =+Cusset!E11 -> 0 | F52: =+Cusset!F11 -> 0 | G52: =+Cusset!G11 -> 0 | H52: =+Cusset!H11 -> 0 | I52: =+Cusset!I11 -> 0 | ... L52: =+Cusset!L11 -> 0
B53: =+Cusset!B12 -> 0 | C53: =+Cusset!C12 -> 0 | D53: =+Cusset!D12 -> 0 | E53: =+Cusset!E12 -> 0 | F53: =+Cusset!F12 -> 0 | G53: =+Cusset!G12 -> 0 | H53: =+Cusset!H12 -> 0 | I53: =+Cusset!I12 -> 0 | ... L53: =+Cusset!L12 -> 0
B54: =+Cusset!B13 -> 0 | C54: =+Cusset!C13 -> 0 | D54: =+Cusset!D13 -> 0 | E54: =+Cusset!E13 -> 0 | F54: =+Cusset!F13 -> 0 | G54: =+Cusset!G13 -> 0 | H54: =+Cusset!H13 -> 0 | I54: =+Cusset!I13 -> 0 | ... L54: =+Cusset!L13 -> 0
... B72: =+Cusset!B31 -> 0 | C72: =+Cusset!C31 -> 0 | D72: =+Cusset!D31 -> 0 | E72: =+Cusset!E31 -> 0 | F72: =+Cusset!F31 -> 0 | G72: =+Cusset!G31 -> 0 | H72: =+Cusset!H31 -> 0 | I72: =+Cusset!I31 -> 0 | ... L72: =+Cusset!L31 -> 0
D74: =SUM(Cusset!$D$2:$D$31) -> 0 | E74: =SUM(Cusset!$E$2:$E$31) -> 0 | F74: =SUM(Cusset!$F$2:$F$31) -> 0 | G74: =SUM(Cusset!$G$2:$G$31) -> 0 | H74: =SUM(Cusset!$H$2:$H$31) -> 0 | I74: =SUM(Cusset!$I$2:$I$31) -> 0
A76: VICHY | B76: NOM | C76: PRENOM | D76: ORANGES | E76: CLEMENTINES | F76: CITRONS | G76: POMELOS | H76: HUILE D'OLIVE | I76: TOTAL | J76: PAYE | K76: IMPAYE | L76: DATE DE REMISES EN BANQUE
B77: =+Vichy!B2 -> 0 | C77: =+Vichy!C2 -> 0 | D77: =+Vichy!D2 -> 0 | E77: =+Vichy!E2 -> 0 | F77: =+Vichy!F2 -> 0 | G77: =+Vichy!G2 -> 0 | H77: =+Vichy!H2 -> 0 | I77: =+Vichy!I2 -> 0 | ... L77: =+Vichy!L2 -> 0
B78: =+Vichy!B3 -> 0 | C78: =+Vichy!C3 -> 0 | D78: =+Vichy!D3 -> 0 | E78: =+Vichy!E3 -> 0 | F78: =+Vichy!F3 -> 0 | G78: =+Vichy!G3 -> 0 | H78: =+Vichy!H3 -> 0 | I78: =+Vichy!I3 -> 0 | ... L78: =+Vichy!L3 -> 0
B79: =+Vichy!B4 -> 0 | C79: =+Vichy!C4 -> 0 | D79: =+Vichy!D4 -> 0 | E79: =+Vichy!E4 -> 0 | F79: =+Vichy!F4 -> 0 | G79: =+Vichy!G4 -> 0 | H79: =+Vichy!H4 -> 0 | I79: =+Vichy!I4 -> 0 | ... L79: =+Vichy!L4 -> 0
B80: =+Vichy!B5 -> 0 | C80: =+Vichy!C5 -> 0 | D80: =+Vichy!D5 -> 0 | E80: =+Vichy!E5 -> 0 | F80: =+Vichy!F5 -> 0 | G80: =+Vichy!G5 -> 0 | H80: =+Vichy!H5 -> 0 | I80: =+Vichy!I5 -> 0 | ... L80: =+Vichy!L5 -> 0
B81: =+Vichy!B6 -> 0 | C81: =+Vichy!C6 -> 0 | D81: =+Vichy!D6 -> 0 | E81: =+Vichy!E6 -> 0 | F81: =+Vichy!F6 -> 0 | G81: =+Vichy!G6 -> 0 | H81: =+Vichy!H6 -> 0 | I81: =+Vichy!I6 -> 0 | ... L81: =+Vichy!L6 -> 0
...

Sheet Emargement
A1: BELLERIVE-SUR-ALLIER | B1: NOM | C1: PRENOM | D1: ORANGES | E1: CLEMENTINES | F1: CITRONS | G1: POMELOS | H1: HUILE D'OLIVE | I1: TOTAL | J1: PAYE | K1: IMPAYE | L1: SIGNATURE
B2: =Bellerive!B2 -> 0 | C2: =Bellerive!C2 -> 0 | D2: =Bellerive!D2 -> 0 | E2: =Bellerive!E2 -> 0 | F2: =Bellerive!F2 -> 0 | G2: =Bellerive!G2 -> 0 | H2: =Bellerive!H2 -> 0 | I2: =Bellerive!I2 -> 0 | ... K2: =Bellerive!K2 -> 0
B3: =Bellerive!B3 -> 0 | C3: =Bellerive!C3 -> 0 | D3: =Bellerive!D3 -> 0 | E3: =Bellerive!E3 -> 0 | F3: =Bellerive!F3 -> 0 | G3: =Bellerive!G3 -> 0 | H3: =Bellerive!H3 -> 0 | I3: =Bellerive!I3 -> 0 | ... K3: =Bellerive!K3 -> 0
B4: =Bellerive!B4 -> 0 | C4: =Bellerive!C4 -> 0 | D4: =Bellerive!D4 -> 0 | E4: =Bellerive!E4 -> 0 | F4: =Bellerive!F4 -> 0 | G4: =Bellerive!G4 -> 0 | H4: =Bellerive!H4 -> 0 | I4: =Bellerive!I4 -> 0 | ... K4: =Bellerive!K4 -> 0
B5: =Bellerive!B5 -> 0 | C5: =Bellerive!C5 -> 0 | D5: =Bellerive!D5 -> 0 | E5: =Bellerive!E5 -> 0 | F5: =Bellerive!F5 -> 0 | G5: =Bellerive!G5 -> 0 | H5: =Bellerive!H5 -> 0 | I5: =Bellerive!I5 -> 0 | ... K5: =Bellerive!K5 -> 0
B6: =Bellerive!B6 -> 0 | C6: =Bellerive!C6 -> 0 | D6: =Bellerive!D6 -> 0 | E6: =Bellerive!E6 -> 0 | F6: =Bellerive!F6 -> 0 | G6: =Bellerive!G6 -> 0 | H6: =Bellerive!H6 -> 0 | I6: =Bellerive!I6 -> 0 | ... K6: =Bellerive!K6 -> 0
B7: =Bellerive!B7 -> 0 | C7: =Bellerive!C7 -> 0 | D7: =Bellerive!D7 -> 0 | E7: =Bellerive!E7 -> 0 | F7: =Bellerive!F7 -> 0 | G7: =Bellerive!G7 -> 0 | H7: =Bellerive!H7 -> 0 | I7: =Bellerive!I7 -> 0 | ... K7: =Bellerive!K7 -> 0
B8: =Bellerive!B8 -> 0 | C8: =Bellerive!C8 -> 0 | D8: =Bellerive!D8 -> 0 | E8: =Bellerive!E8 -> 0 | F8: =Bellerive!F8 -> 0 | G8: =Bellerive!G8 -> 0 | H8: =Bellerive!H8 -> 0 | I8: =Bellerive!I8 -> 0 | ... K8: =Bellerive!K8 -> 0
B9: =Bellerive!B9 -> 0 | C9: =Bellerive!C9 -> 0 | D9: =Bellerive!D9 -> 0 | E9: =Bellerive!E9 -> 0 | F9: =Bellerive!F9 -> 0 | G9: =Bellerive!G9 -> 0 | H9: =Bellerive!H9 -> 0 | I9: =Bellerive!I9 -> 0 | ... K9: =Bellerive!K9 -> 0
B10: =Bellerive!B10 -> 0 | C10: =Bellerive!C10 -> 0 | D10: =Bellerive!D10 -> 0 | E10: =Bellerive!E10 -> 0 | F10: =Bellerive!F10 -> 0 | G10: =Bellerive!G10 -> 0 | H10: =Bellerive!H10 -> 0 | I10: =Bellerive!I10 -> 0 | ... K10: =Bellerive!K10 -> 0
B11: =Bellerive!B11 -> 0 | C11: =Bellerive!C11 -> 0 | D11: =Bellerive!D11 -> 0 | E11: =Bellerive!E11 -> 0 | F11: =Bellerive!F11 -> 0 | G11: =Bellerive!G11 -> 0 | H11: =Bellerive!H11 -> 0 | I11: =Bellerive!I11 -> 0 | ... K11: =Bellerive!K11 -> 0
B12: =Bellerive!B12 -> 0 | C12: =Bellerive!C12 -> 0 | D12: =Bellerive!D12 -> 0 | E12: =Bellerive!E12 -> 0 | F12: =Bellerive!F12 -> 0 | G12: =Bellerive!G12 -> 0 | H12: =Bellerive!H12 -> 0 | I12: =Bellerive!I12 -> 0 | ... K12: =Bellerive!K12 -> 0
B13: =Bellerive!B13 -> 0 | C13: =Bellerive!C13 -> 0 | D13: =Bellerive!D13 -> 0 | E13: =Bellerive!E13 -> 0 | F13: =Bellerive!F13 -> 0 | G13: =Bellerive!G13 -> 0 | H13: =Bellerive!H13 -> 0 | I13: =Bellerive!I13 -> 0 | ... K13: =Bellerive!K13 -> 0
... B31: =Bellerive!B31 -> 0 | C31: =Bellerive!C31 -> 0 | D31: =Bellerive!D31 -> 0 | E31: =Bellerive!E31 -> 0 | F31: =Bellerive!F31 -> 0 | G31: =Bellerive!G31 -> 0 | H31: =Bellerive!H31 -> 0 | I31: =Bellerive!I31 -> 0 | ... K31: =Bellerive!K31 -> 0
D33: =Bellerive!D33 -> 0 | E33: =Bellerive!E33 -> 0 | F33: =Bellerive!F33 -> 0 | G33: =Bellerive!G33 -> 0 | H33: =Bellerive!H33 -> 0 | I33: =Bellerive!I33 -> 0
A35: CUSSET | B35: NOM | C35: PRENOM | D35: ORANGES | E35: CLEMENTINES | F35: CITRONS | G35: POMELOS | H35: HUILE D'OLIVE | I35: TOTAL | J35: PAYE | K35: IMPAYE | L35: SIGNATURE
B36: =Cusset!B2 -> 0 | C36: =Cusset!C2 -> 0 | D36: =Cusset!D2 -> 0 | E36: =Cusset!E2 -> 0 | F36: =Cusset!F2 -> 0 | G36: =Cusset!G2 -> 0 | H36: =Cusset!H2 -> 0 | I36: =Cusset!I2 -> 0 | ... K36: =Cusset!K2 -> 0
B37: =Cusset!B3 -> 0 | C37: =Cusset!C3 -> 0 | D37: =Cusset!D3 -> 0 | E37: =Cusset!E3 -> 0 | F37: =Cusset!F3 -> 0 | G37: =Cusset!G3 -> 0 | H37: =Cusset!H3 -> 0 | I37: =Cusset!I3 -> 0 | ... K37: =Cusset!K3 -> 0
B38: =Cusset!B4 -> 0 | C38: =Cusset!C4 -> 0 | D38: =Cusset!D4 -> 0 | E38: =Cusset!E4 -> 0 | F38: =Cusset!F4 -> 0 | G38: =Cusset!G4 -> 0 | H38: =Cusset!H4 -> 0 | I38: =Cusset!I4 -> 0 | ... K38: =Cusset!K4 -> 0
B39: =Cusset!B5 -> 0 | C39: =Cusset!C5 -> 0 | D39: =Cusset!D5 -> 0 | E39: =Cusset!E5 -> 0 | F39: =Cusset!F5 -> 0 | G39: =Cusset!G5 -> 0 | H39: =Cusset!H5 -> 0 | I39: =Cusset!I5 -> 0 | ... K39: =Cusset!K5 -> 0
B40: =Cusset!B6 -> 0 | C40: =Cusset!C6 -> 0 | D40: =Cusset!D6 -> 0 | E40: =Cusset!E6 -> 0 | F40: =Cusset!F6 -> 0 | G40: =Cusset!G6 -> 0 | H40: =Cusset!H6 -> 0 | I40: =Cusset!I6 -> 0 | ... K40: =Cusset!K6 -> 0
B41: =Cusset!B7 -> 0 | C41: =Cusset!C7 -> 0 | D41: =Cusset!D7 -> 0 | E41: =Cusset!E7 -> 0 | F41: =Cusset!F7 -> 0 | G41: =Cusset!G7 -> 0 | H41: =Cusset!H7 -> 0 | I41: =Cusset!I7 -> 0 | ... K41: =Cusset!K7 -> 0
B42: =Cusset!B8 -> 0 | C42: =Cusset!C8 -> 0 | D42: =Cusset!D8 -> 0 | E42: =Cusset!E8 -> 0 | F42: =Cusset!F8 -> 0 | G42: =Cusset!G8 -> 0 | H42: =Cusset!H8 -> 0 | I42: =Cusset!I8 -> 0 | ... K42: =Cusset!K8 -> 0
B43: =Cusset!B9 -> 0 | C43: =Cusset!C9 -> 0 | D43: =Cusset!D9 -> 0 | E43: =Cusset!E9 -> 0 | F43: =Cusset!F9 -> 0 | G43: =Cusset!G9 -> 0 | H43: =Cusset!H9 -> 0 | I43: =Cusset!I9 -> 0 | ... K43: =Cusset!K9 -> 0
B44: =Cusset!B10 -> 0 | C44: =Cusset!C10 -> 0 | D44: =Cusset!D10 -> 0 | E44: =Cusset!E10 -> 0 | F44: =Cusset!F10 -> 0 | G44: =Cusset!G10 -> 0 | H44: =Cusset!H10 -> 0 | I44: =Cusset!I10 -> 0 | ... K44: =Cusset!K10 -> 0
B45: =Cusset!B11 -> 0 | C45: =Cusset!C11 -> 0 | D45: =Cusset!D11 -> 0 | E45: =Cusset!E11 -> 0 | F45: =Cusset!F11 -> 0 | G45: =Cusset!G11 -> 0 | H45: =Cusset!H11 -> 0 | I45: =Cusset!I11 -> 0 | ... K45: =Cusset!K11 -> 0
B46: =Cusset!B12 -> 0 | C46: =Cusset!C12 -> 0 | D46: =Cusset!D12 -> 0 | E46: =Cusset!E12 -> 0 | F46: =Cusset!F12 -> 0 | G46: =Cusset!G12 -> 0 | H46: =Cusset!H12 -> 0 | I46: =Cusset!I12 -> 0 | ... K46: =Cusset!K12 -> 0
B47: =Cusset!B13 -> 0 | C47: =Cusset!C13 -> 0 | D47: =Cusset!D13 -> 0 | E47: =Cusset!E13 -> 0 | F47: =Cusset!F13 -> 0 | G47: =Cusset!G13 -> 0 | H47: =Cusset!H13 -> 0 | I47: =Cusset!I13 -> 0 | ... K47: =Cusset!K13 -> 0
... B65: =Cusset!B31 -> 0 | C65: =Cusset!C31 -> 0 | D65: =Cusset!D31 -> 0 | E65: =Cusset!E31 -> 0 | F65: =Cusset!F31 -> 0 | G65: =Cusset!G31 -> 0 | H65: =Cusset!H31 -> 0 | I65: =Cusset!I31 -> 0 | ... K65: =Cusset!K31 -> 0
D67: =SUM(Cusset!$D$2:$D$31) -> 0 | E67: =SUM(Cusset!$E$2:$E$31) -> 0 | F67: =SUM(Cusset!$F$2:$F$31) -> 0 | G67: =SUM(Cusset!$G$2:$G$31) -> 0 | H67: =SUM(Cusset!$H$2:$H$31) -> 0 | I67: =SUM(Cusset!$I$2:$I$31) -> 0
A69: VICHY | B69: NOM | C69: PRENOM | D69: ORANGES | E69: CLEMENTINES | F69: CITRONS | G69: POMELOS | H69: HUILE D'OLIVE | I69: TOTAL | J69: PAYE | K69: IMPAYE | L69: SIGNATURE
B70: =+Vichy!B2 -> 0 | C70: =+Vichy!C2 -> 0 | D70: =+Vichy!D2 -> 0 | E70: =+Vichy!E2 -> 0 | F70: =+Vichy!F2 -> 0 | G70: =+Vichy!G2 -> 0 | H70: =+Vichy!H2 -> 0 | I70: =+Vichy!I2 -> 0 | ... K70: =+Vichy!K2 -> 0
B71: =+Vichy!B3 -> 0 | C71: =+Vichy!C3 -> 0 | D71: =+Vichy!D3 -> 0 | E71: =+Vichy!E3 -> 0 | F71: =+Vichy!F3 -> 0 | G71: =+Vichy!G3 -> 0 | H71: =+Vichy!H3 -> 0 | I71: =+Vichy!I3 -> 0 | ... K71: =+Vichy!K3 -> 0
B72: =+Vichy!B4 -> 0 | C72: =+Vichy!C4 -> 0 | D72: =+Vichy!D4 -> 0 | E72: =+Vichy!E4 -> 0 | F72: =+Vichy!F4 -> 0 | G72: =+Vichy!G4 -> 0 | H72: =+Vichy!H4 -> 0 | I72: =+Vichy!I4 -> 0 | ... K72: =+Vichy!K4 -> 0
B73: =+Vichy!B5 -> 0 | C73: =+Vichy!C5 -> 0 | D73: =+Vichy!D5 -> 0 | E73: =+Vichy!E5 -> 0 | F73: =+Vichy!F5 -> 0 | G73: =+Vichy!G5 -> 0 | H73: =+Vichy!H5 -> 0 | I73: =+Vichy!I5 -> 0 | ... K73: =+Vichy!K5 -> 0
B74: =+Vichy!B6 -> 0 | C74: =+Vichy!C6 -> 0 | D74: =+Vichy!D6 -> 0 | E74: =+Vichy!E6 -> 0 | F74: =+Vichy!F6 -> 0 | G74: =+Vichy!G6 -> 0 | H74: =+Vichy!H6 -> 0 | I74: =+Vichy!I6 -> 0 | ... K74: =+Vichy!K6 -> 0
B75: =+Vichy!B7 -> 0 | C75: =+Vichy!C7 -> 0 | D75: =+Vichy!D7 -> 0 | E75: =+Vichy!E7 -> 0 | F75: =+Vichy!F7 -> 0 | G75: =+Vichy!G7 -> 0 | H75: =+Vichy!H7 -> 0 | I75: =+Vichy!I7 -> 0 | ... K75: =+Vichy!K7 -> 0
B76: =+Vichy!B8 -> 0 | C76: =+Vichy!C8 -> 0 | D76: =+Vichy!D8 -> 0 | E76: =+Vichy!E8 -> 0 | F76: =+Vichy!F8 -> 0 | G76: =+Vichy!G8 -> 0 | H76: =+Vichy!H8 -> 0 | I76: =+Vichy!I8 -> 0 | ... K76: =+Vichy!K8 -> 0
B77: =+Vichy!B9 -> 0 | C77: =+Vichy!C9 -> 0 | D77: =+Vichy!D9 -> 0 | E77: =+Vichy!E9 -> 0 | F77: =+Vichy!F9 -> 0 | G77: =+Vichy!G9 -> 0 | H77: =+Vichy!H9 -> 0 | I77: =+Vichy!I9 -> 0 | ... K77: =+Vichy!K9 -> 0
B78: =+Vichy!B10 -> 0 | C78: =+Vichy!C10 -> 0 | D78: =+Vichy!D10 -> 0 | E78: =+Vichy!E10 -> 0 | F78: =+Vichy!F10 -> 0 | G78: =+Vichy!G10 -> 0 | H78: =+Vichy!H10 -> 0 | I78: =+Vichy!I10 -> 0 | ... K78: =+Vichy!K10 -> 0
...

Sheet Bellerive
A1: BELLERIVE-SUR-ALLIER | B1: NOM | C1: PRENOM | D1: ORANGES | E1: CLEMENTINES | F1: CITRONS | G1: POMELOS | H1: HUILE D'OLIVE | I1: TOTAL | J1: PAYE | K1: IMPAYE | L1: DATE DE REMISES EN BANQUE
I2: =SUM((D2*Global!D3)+(E2*Global!E3)+(F2*Global!F3)+(G2*Global!G3)+(H2*Global!H3)) -> 0
I3: =SUM((D3*Global!D4)+(E3*Global!E4)+(F3*Global!F4)+(G3*Global!G4)+(H3*Global!H4)) -> 0
I4: =SUM((D4*Global!D5)+(E4*Global!E5)+(F4*Global!F5)+(G4*Global!G5)+(H4*Global!H5)) -> 0
I5: =SUM((D5*Global!D6)+(E5*Global!E6)+(F5*Global!F6)+(G5*Global!G6)+(H5*Global!H6)) -> 0
I7: =SUM((D7*Global!D8)+(E7*Global!E8)+(F7*Global!F8)+(G7*Global!G8)+(H7*Global!H8)) -> 0
I8: =SUM((D8*Global!D9)+(E8*Global!E9)+(F8*Global!F9)+(G8*Global!G9)+(H8*Global!H9)) -> 0
I9: =SUM((D9*Global!D10)+(E9*Global!E10)+(F9*Global!F10)+(G9*Global!G10)+(H9*Global!H10)) -> 0
I10: =SUM((D10*Global!D11)+(E10*Global!E11)+(F10*Global!F11)+(G10*Global!G11)+(H10*Global!H11)) -> 0
I11: =SUM((D11*Global!D12)+(E11*Global!E12)+(F11*Global!F12)+(G11*Global!G12)+(H11*Global!H12)) -> 0
I12: =SUM((D12*Global!D13)+(E12*Global!E13)+(F12*Global!F13)+(G12*Global!G13)+(H12*Global!H13)) -> 0
I13: =SUM((D13*Global!D14)+(E13*Global!E14)+(F13*Global!F14)+(G13*Global!G14)+(H13*Global!H14)) -> 0
I14: =SUM((D14*Global!D15)+(E14*Global!E15)+(F14*Global!F15)+(G14*Global!G15)+(H14*Global!H15)) -> 0
... I31: =SUM((D31*Global!D32)+(E31*Global!E32)+(F31*Global!F32)+(G31*Global!G32)+(H31*Global!H32)) -> 0
D33: =SUM(Bellerive!$D$2:$D$31) -> 0 | E33: =SUM(Bellerive!$E$2:$E$31) -> 0 | F33: =SUM(Bellerive!$F$2:$F$31) -> 0 | G33: =SUM(Bellerive!$G$2:$G$31) -> 0 | H33: =SUM(Bellerive!$H$2:$H$31) -> 0 | I33: =SUM(Bellerive!$I$2:$I$31) -> 0

Sheet Cusset
A1: CUSSET | B1: NOM | C1: PRENOM | D1: ORANGES | E1: CLEMENTINES | F1: CITRONS | G1: POMELOS | H1: HUILE D'OLIVE | I1: TOTAL | J1: PAYE | K1: IMPAYE | L1: DATE DE REMISES EN BANQUE
I2: =SUM((D2*Global!D3)+(E2*Global!E3)+(F2*Global!F3)+(G2*Global!G3)+(H2*Global!H3)) -> 0
I3: =SUM((D3*Global!D4)+(E3*Global!E4)+(F3*Global!F4)+(G3*Global!G4)+(H3*Global!H4)) -> 0
I4: =SUM((D4*Global!D5)+(E4*Global!E5)+(F4*Global!F5)+(G4*Global!G5)+(H4*Global!H5)) -> 0
I5: =SUM((D5*Global!D6)+(E5*Global!E6)+(F5*Global!F6)+(G5*Global!G6)+(H5*Global!H6)) -> 0
I7: =SUM((D7*Global!D8)+(E7*Global!E8)+(F7*Global!F8)+(G7*Global!G8)+(H7*Global!H8)) -> 0
I8: =SUM((D8*Global!D9)+(E8*Global!E9)+(F8*Global!F9)+(G8*Global!G9)+(H8*Global!H9)) -> 0
I9: =SUM((D9*Global!D10)+(E9*Global!E10)+(F9*Global!F10)+(G9*Global!G10)+(H9*Global!H10)) -> 0
I10: =SUM((D10*Global!D11)+(E10*Global!E11)+(F10*Global!F11)+(G10*Global!G11)+(H10*Global!H11)) -> 0
I11: =SUM((D11*Global!D12)+(E11*Global!E12)+(F11*Global!F12)+(G11*Global!G12)+(H11*Global!H12)) -> 0
I12: =SUM((D12*Global!D13)+(E12*Global!E13)+(F12*Global!F13)+(G12*Global!G13)+(H12*Global!H13)) -> 0
I13: =SUM((D13*Global!D14)+(E13*Global!E14)+(F13*Global!F14)+(G13*Global!G14)+(H13*Global!H14)) -> 0
I14: =SUM((D14*Global!D15)+(E14*Global!E15)+(F14*Global!F15)+(G14*Global!G15)+(H14*Global!H15)) -> 0
... I31: =SUM((D31*Global!D32)+(E31*Global!E32)+(F31*Global!F32)+(G31*Global!G32)+(H31*Global!H32)) -> 0
D33: =SUM(Cusset!$D$2:$D$31) -> 0 | E33: =SUM(Cusset!$E$2:$E$31) -> 0 | F33: =SUM(Cusset!$F$2:$F$31) -> 0 | G33: =SUM(Cusset!$G$2:$G$31) -> 0 | H33: =SUM(Cusset!$H$2:$H$31) -> 0 | I33: =SUM(Cusset!$I$2:$I$31) -> 0

Sheet Vichy
A1: VICHY | B1: NOM | C1: PRENOM | D1: ORANGES | E1: CLEMENTINES | F1: CITRONS | G1: POMELOS | H1: HUILE D'OLIVE | I1: TOTAL | J1: PAYE | K1: IMPAYE | L1: DATE DE REMISES EN BANQUE
I2: =SUM((D2*Global!D3)+(E2*Global!E3)+(F2*Global!F3)+(G2*Global!G3)+(H2*Global!H3)) -> 0
I3: =SUM((D3*Global!D4)+(E3*Global!E4)+(F3*Global!F4)+(G3*Global!G4)+(H3*Global!H4)) -> 0
I4: =SUM((D4*Global!D5)+(E4*Global!E5)+(F4*Global!F5)+(G4*Global!G5)+(H4*Global!H5)) -> 0
I5: =SUM((D5*Global!D6)+(E5*Global!E6)+(F5*Global!F6)+(G5*Global!G6)+(H5*Global!H6)) -> 0
I7: =SUM((D7*Global!D8)+(E7*Global!E8)+(F7*Global!F8)+(G7*Global!G8)+(H7*Global!H8)) -> 0
I8: =SUM((D8*Global!D9)+(E8*Global!E9)+(F8*Global!F9)+(G8*Global!G9)+(H8*Global!H9)) -> 0
I9: =SUM((D9*Global!D10)+(E9*Global!E10)+(F9*Global!F10)+(G9*Global!G10)+(H9*Global!H10)) -> 0
I10: =SUM((D10*Global!D11)+(E10*Global!E11)+(F10*Global!F11)+(G10*Global!G11)+(H10*Global!H11)) -> 0
I11: =SUM((D11*Global!D12)+(E11*Global!E12)+(F11*Global!F12)+(G11*Global!G12)+(H11*Global!H12)) -> 0
I12: =SUM((D12*Global!D13)+(E12*Global!E13)+(F12*Global!F13)+(G12*Global!G13)+(H12*Global!H13)) -> 0
I13: =SUM((D13*Global!D14)+(E13*Global!E14)+(F13*Global!F14)+(G13*Global!G14)+(H13*Global!H14)) -> 0
I14: =SUM((D14*Global!D15)+(E14*Global!E15)+(F14*Global!F15)+(G14*Global!G15)+(H14*Global!H15)) -> 0
... I31: =SUM((D31*Global!D32)+(E31*Global!E32)+(F31*Global!F32)+(G31*Global!G32)+(H31*Global!H32)) -> 0
D33: =SUM(Vichy!$D$2:$D$31) -> 0 | E33: =SUM(Vichy!$E$2:$E$31) -> 0 | F33: =SUM(Vichy!$F$2:$F$31) -> 0 | G33: =SUM(Vichy!$G$2:$G$31) -> 0 | H33: =SUM(Vichy!$H$2:$H$31) -> 0 | I33: =SUM(Vichy!$I$2:$I$31) -> 0

Sheet Le Mayet
A1: LE MAYET-DE-MONTAGNE | B1: NOM | C1: PRENOM | D1: ORANGES | E1: CLEMENTINES | F1: CITRONS | G1: POMELOS | H1: HUILE D'OLIVE | I1: TOTAL | J1: PAYE | K1: IMPAYE | L1: DATE DE REMISES EN BANQUE
I2: =SUM((D2*Global!D3)+(E2*Global!E3)+(F2*Global!F3)+(G2*Global!G3)+(H2*Global!H3)) -> 0
I3: =SUM((D3*Global!D4)+(E3*Global!E4)+(F3*Global!F4)+(G3*Global!G4)+(H3*Global!H4)) -> 0
I4: =SUM((D4*Global!D5)+(E4*Global!E5)+(F4*Global!F5)+(G4*Global!G5)+(H4*Global!H5)) -> 0
I5: =SUM((D5*Global!D6)+(E5*Global!E6)+(F5*Global!F6)+(G5*Global!G6)+(H5*Global!H6)) -> 0
I7: =SUM((D7*Global!D8)+(E7*Global!E8)+(F7*Global!F8)+(G7*Global!G8)+(H7*Global!H8)) -> 0
I8: =SUM((D8*Global!D9)+(E8*Global!E9)+(F8*Global!F9)+(G8*Global!G9)+(H8*Global!H9)) -> 0
I9: =SUM((D9*Global!D10)+(E9*Global!E10)+(F9*Global!F10)+(G9*Global!G10)+(H9*Global!H10)) -> 0
I10: =SUM((D10*Global!D11)+(E10*Global!E11)+(F10*Global!F11)+(G10*Global!G11)+(H10*Global!H11)) -> 0
I11: =SUM((D11*Global!D12)+(E11*Global!E12)+(F11*Global!F12)+(G11*Global!G12)+(H11*Global!H12)) -> 0
I12: =SUM((D12*Global!D13)+(E12*Global!E13)+(F12*Global!F13)+(G12*Global!G13)+(H12*Global!H13)) -> 0
I13: =SUM((D13*Global!D14)+(E13*Global!E14)+(F13*Global!F14)+(G13*Global!G14)+(H13*Global!H14)) -> 0
I14: =SUM((D14*Global!D15)+(E14*Global!E15)+(F14*Global!F15)+(G14*Global!G15)+(H14*Global!H15)) -> 0
... I31: =SUM((D31*Global!D32)+(E31*Global!E32)+(F31*Global!F32)+(G31*Global!G32)+(H31*Global!H32)) -> 0
D33: =SUM('Le Mayet'!$D$2:$D$31) -> 0 | E33: =SUM('Le Mayet'!$E$2:$E$31) -> 0 | F33: =SUM('Le Mayet'!$F$2:$F$31) -> 0 | G33: =SUM('Le Mayet'!$G$2:$G$31) -> 0 | H33: =SUM('Le Mayet'!$H$2:$H$31) -> 0 | I33: =SUM('Le Mayet'!$I$2:$I$31) -> 0

Sheet Arronnes
A1: ARRONNES | B1: NOM | C1: PRENOM | D1: ORANGES | E1: CLEMENTINES | F1: CITRONS | G1: POMELOS | H1: HUILE D'OLIVE | I1: TOTAL | J1: PAYE | K1: IMPAYE | L1: DATE DE REMISES EN BANQUE
I2: =SUM((D2*Global!D3)+(E2*Global!E3)+(F2*Global!F3)+(G2*Global!G3)+(H2*Global!H3)) -> 0
I3: =SUM((D3*Global!D4)+(E3*Global!E4)+(F3*Global!F4)+(G3*Global!G4)+(H3*Global!H4)) -> 0
I4: =SUM((D4*Global!D5)+(E4*Global!E5)+(F4*Global!F5)+(G4*Global!G5)+(H4*Global!H5)) -> 0
I5: =SUM((D5*Global!D6)+(E5*Global!E6)+(F5*Global!F6)+(G5*Global!G6)+(H5*Global!H6)) -> 0
I7: =SUM((D7*Global!D8)+(E7*Global!E8)+(F7*Global!F8)+(G7*Global!G8)+(H7*Global!H8)) -> 0
I8: =SUM((D8*Global!D9)+(E8*Global!E9)+(F8*Global!F9)+(G8*Global!G9)+(H8*Global!H9)) -> 0
I9: =SUM((D9*Global!D10)+(E9*Global!E10)+(F9*Global!F10)+(G9*Global!G10)+(H9*Global!H10)) -> 0
I10: =SUM((D10*Global!D11)+(E10*Global!E11)+(F10*Global!F11)+(G10*Global!G11)+(H10*Global!H11)) -> 0
I11: =SUM((D11*Global!D12)+(E11*Global!E12)+(F11*Global!F12)+(G11*Global!G12)+(H11*Global!H12)) -> 0
I12: =SUM((D12*Global!D13)+(E12*Global!E13)+(F12*Global!F13)+(G12*Global!G13)+(H12*Global!H13)) -> 0
I13: =SUM((D13*Global!D14)+(E13*Global!E14)+(F13*Global!F14)+(G13*Global!G14)+(H13*Global!H14)) -> 0
I14: =SUM((D14*Global!D15)+(E14*Global!E15)+(F14*Global!F15)+(G14*Global!G15)+(H14*Global!H15)) -> 0
... I31: =SUM((D31*Global!D32)+(E31*Global!E32)+(F31*Global!F32)+(G31*Global!G32)+(H31*Global!H32)) -> 0
D33: =SUM(Arronnes!$D$2:$D$31) -> 0 | E33: =SUM(Arronnes!$E$2:$E$31) -> 0 | F33: =SUM(Arronnes!$F$2:$F$31) -> 0 | G33: =SUM(Arronnes!$G$2:$G$31) -> 0 | H33: =SUM(Arronnes!$H$2:$H$31) -> 0 | I33: =SUM(Arronnes!$I$2:$I$31) -> 0

Sheet Le Vernet
A1: LE VERNET | B1: NOM | C1: PRENOM | D1: ORANGES | E1: CLEMENTINES | F1: CITRONS | G1: POMELOS | H1: HUILE D'OLIVE | I1: TOTAL | J1: PAYE | K1: IMPAYE | L1: DATE DE REMISES EN BANQUE
I2: =SUM((D2*Global!D3)+(E2*Global!E3)+(F2*Global!F3)+(G2*Global!G3)+(H2*Global!H3)) -> 0
I3: =SUM((D3*Global!D4)+(E3*Global!E4)+(F3*Global!F4)+(G3*Global!G4)+(H3*Global!H4)) -> 0
I4: =SUM((D4*Global!D5)+(E4*Global!E5)+(F4*Global!F5)+(G4*Global!G5)+(H4*Global!H5)) -> 0
I5: =SUM((D5*Global!D6)+(E5*Global!E6)+(F5*Global!F6)+(G5*Global!G6)+(H5*Global!H6)) -> 0
I7: =SUM((D7*Global!D8)+(E7*Global!E8)+(F7*Global!F8)+(G7*Global!G8)+(H7*Global!H8)) -> 0
I8: =SUM((D8*Global!D9)+(E8*Global!E9)+(F8*Global!F9)+(G8*Global!G9)+(H8*Global!H9)) -> 0
I9: =SUM((D9*Global!D10)+(E9*Global!E10)+(F9*Global!F10)+(G9*Global!G10)+(H9*Global!H10)) -> 0
I10: =SUM((D10*Global!D11)+(E10*Global!E11)+(F10*Global!F11)+(G10*Global!G11)+(H10*Global!H11)) -> 0
I11: =SUM((D11*Global!D12)+(E11*Global!E12)+(F11*Global!F12)+(G11*Global!G12)+(H11*Global!H12)) -> 0
I12: =SUM((D12*Global!D13)+(E12*Global!E13)+(F12*Global!F13)+(G12*Global!G13)+(H12*Global!H13)) -> 0
I13: =SUM((D13*Global!D14)+(E13*Global!E14)+(F13*Global!F14)+(G13*Global!G14)+(H13*Global!H14)) -> 0
I14: =SUM((D14*Global!D15)+(E14*Global!E15)+(F14*Global!F15)+(G14*Global!G15)+(H14*Global!H15)) -> 0
... I31: =SUM((D31*Global!D32)+(E31*Global!E32)+(F31*Global!F32)+(G31*Global!G32)+(H31*Global!H32)) -> 0
D33: =SUM('Le Vernet'!$D$2:$D$31) -> 0 | E33: =SUM('Le Vernet'!$E$2:$E$31) -> 0 | F33: =SUM('Le Vernet'!$F$2:$F$31) -> 0 | G33: =SUM('Le Vernet'!$G$2:$G$31) -> 0 | H33: =SUM('Le Vernet'!$H$2:$H$31) -> 0 | I33: =SUM('Le Vernet'!$I$2:$I$31) -> 0

Sheet Restaurants
A1: RESTAURANTS | B1: NOM | C1: PRENOM | D1: ORANGES | E1: CLEMENTINES | F1: CITRONS | G1: POMELOS | H1: HUILE D'OLIVE | I1: TOTAL | J1: PAYE | K1: IMPAYE | L1: DATE DE REMISES EN BANQUE
I2: =SUM((D2*Global!D3)+(E2*Global!E3)+(F2*Global!F3)+(G2*Global!G3)+(H2*Global!H3)) -> 0
I3: =SUM((D3*Global!D4)+(E3*Global!E4)+(F3*Global!F4)+(G3*Global!G4)+(H3*Global!H4)) -> 0
I4: =SUM((D4*Global!D5)+(E4*Global!E5)+(F4*Global!F5)+(G4*Global!G5)+(H4*Global!H5)) -> 0
I5: =SUM((D5*Global!D6)+(E5*Global!E6)+(F5*Global!F6)+(G5*Global!G6)+(H5*Global!H6)) -> 0
I7: =SUM((D7*Global!D8)+(E7*Global!E8)+(F7*Global!F8)+(G7*Global!G8)+(H7*Global!H8)) -> 0
I8: =SUM((D8*Global!D9)+(E8*Global!E9)+(F8*Global!F9)+(G8*Global!G9)+(H8*Global!H9)) -> 0
I9: =SUM((D9*Global!D10)+(E9*Global!E10)+(F9*Global!F10)+(G9*Global!G10)+(H9*Global!H10)) -> 0
I10: =SUM((D10*Global!D11)+(E10*Global!E11)+(F10*Global!F11)+(G10*Global!G11)+(H10*Global!H11)) -> 0
I11: =SUM((D11*Global!D12)+(E11*Global!E12)+(F11*Global!F12)+(G11*Global!G12)+(H11*Global!H12)) -> 0
I12: =SUM((D12*Global!D13)+(E12*Global!E13)+(F12*Global!F13)+(G12*Global!G13)+(H12*Global!H13)) -> 0
I13: =SUM((D13*Global!D14)+(E13*Global!E14)+(F13*Global!F14)+(G13*Global!G14)+(H13*Global!H14)) -> 0
I14: =SUM((D14*Global!D15)+(E14*Global!E15)+(F14*Global!F15)+(G14*Global!G15)+(H14*Global!H15)) -> 0
... I31: =SUM((D31*Global!D32)+(E31*Global!E32)+(F31*Global!F32)+(G31*Global!G32)+(H31*Global!H32)) -> 0
D33: =SUM(Restaurants!$D$2:$D$31) -> 0 | E33: =SUM(Restaurants!$E$2:$E$31) -> 0 | F33: =SUM(Restaurants!$F$2:$F$31) -> 0 | G33: =SUM(Restaurants!$G$2:$G$31) -> 0 | H33: =SUM(Restaurants!$H$2:$H$31) -> 0 | I33: =SUM(Restaurants!$I$2:$I$31) -> 0
