Workbook

Sheet S 3
A1: Semaine | B1: 3
A2: Nom | B2: Unité | C2: TOTAL VENTES | E2: Type transfo | F2: Nb
A3: Aromates la pièce | B3: Pièce | E3: soupe butternut
A4: Artichaut le kg | B4: Kg | E4: Soupe courge | F4: 232
A5: Aubergine le kg | B5: Kg | E5: Soupe poireaux
A6: Betterave le kg | B6: Kg | E6: Soupe courgette
A7: Blette le kg | B7: Kg | E7: Gaspacho
A8: Carotte le kg | B8: Kg | E8: Coulis
A9: Carotte primeur la botte 500g | B9: Pièce | E9: Haricots verts
A10: Carotte primeur orange la botte 500g | B10: Pièce
A11: Céleri branche vert le kg | B11: Kg
A12: Celeri rave le kg | B12: Kg
A13: Champignon Pleurote gris le kg | B13: Kg
A14: Chou cabus la pièce | B14: Kg
A15: Chou cabus le kg | B15: Kg
A16: Chou chinois pak-choï la pièce | B16: Pièce
A17: Chou chinois pak-choï le kg | B17: Kg
A18: Chou chinois Pe-tsaï la pièce | B18: Pièce
A19: Chou chinois Pe-tsaï le kg | B19: Kg
A20: Chou fleur la pièce | B20: Pièce
A21: Chou fleur le kg | B21: Kg
... A35: Courge la pièce | B35: Pièce
A36: Courge le kg | B36: Kg | C36: 100
A37: Courgette le kg | B37: Kg
A38: Courgette ronde verte le kg | B38: Kg
A39: Echalote le kg | B39: Kg
A40: Echalote nouvelle la botte | B40: Pièce
A41: Endive le kg | B41: Kg
A42: Epinard le kg | B42: Kg
A43: Fenouil le kg | B43: Kg
A44: Fève le kg | B44: Kg
A45: Haricot coco le kg | B45: Kg
A46: Haricot vert le kg | B46: Kg
A47: Kiwi le kg | B47: Kg
A48: Mache le kg | B48: Kg
... A52: Oignon blanc le kg | B52: Kg
A53: Oignon jaune le kg | B53: Kg | C53: 8
A54: Oignon rose le kg | B54: Kg
A55: Oignon rouge le kg | B55: Kg
A56: Orange le kg | B56: Kg
...

Sheet S 10
A1: Semaine | B1: 10
A2: Nom | B2: Unité | C2: TOTAL VENTES | E2: Type transfo | F2: Nb
A3: Aromates la pièce | B3: Pièce | E3: soupe butternut
A4: Artichaut le kg | B4: Kg | E4: Soupe courge
A5: Aubergine le kg | B5: Kg | E5: Soupe poireaux | F5: 232
A6: Betterave le kg | B6: Kg | E6: Soupe courgette
A7: Blette le kg | B7: Kg | E7: Gaspacho
A8: Carotte le kg | B8: Kg | E8: Coulis
A9: Carotte primeur la botte 500g | B9: Pièce | E9: Haricots verts
A10: Carotte primeur orange la botte 500g | B10: Pièce
A11: Céleri branche vert le kg | B11: Kg
A12: Celeri rave le kg | B12: Kg
A13: Champignon Pleurote gris le kg | B13: Kg
A14: Chou cabus la pièce | B14: Kg
A15: Chou cabus le kg | B15: Kg
A16: Chou chinois pak-choï la pièce | B16: Pièce
A17: Chou chinois pak-choï le kg | B17: Kg
A18: Chou chinois Pe-tsaï la pièce | B18: Pièce
A19: Chou chinois Pe-tsaï le kg | B19: Kg
A20: Chou fleur la pièce | B20: Pièce
A21: Chou fleur le kg | B21: Kg
... A52: Oignon blanc le kg | B52: Kg
A53: Oignon jaune le kg | B53: Kg | C53: 8
A54: Oignon rose le kg | B54: Kg
A55: Oignon rouge le kg | B55: Kg
A56: Orange le kg | B56: Kg
A57: Panais le kg | B57: Kg
A58: Patate douce le kg | B58: Kg
A59: Patisson le kg | B59: Kg
A60: Petits pois le kg | B60: Kg
A61: Poire le kg | B61: Kg
A62: Poireau le kg | B62: Kg | C62: 60
A63: Pois mange tout le kg | B63: Kg
A64: Poivron le kg | B64: Kg
A65: Pomelo le kg | B65: Kg
A66: Pomme de terre grenaille le kg | B66: Kg
A67: Pomme de terre le kg | B67: Kg | C67: 20
A68: Pomme le kg | B68: Kg
A69: Radis rave le kg | B69: Kg
A70: Radis rose barquette 250g | B70: Pièce
...

Sheet S 31
A1: Semaine | B1: 31
A2: Nom | B2: Unité | C2: TOTAL VENTES | E2: Type transfo | F2: Nb
A3: Aromates la pièce | B3: Pièce | E3: soupe butternut
A4: Artichaut le kg | B4: Kg | E4: Soupe courge
A5: Aubergine le kg | B5: Kg | E5: Soupe poireaux
A6: Betterave le kg | B6: Kg | E6: Soupe courgette | F6: 125
A7: Blette le kg | B7: Kg | E7: Gaspacho
A8: Carotte le kg | B8: Kg | C8: 6 | E8: Coulis
A9: Carotte primeur la botte 500g | B9: Pièce | E9: Haricots verts
A10: Carotte primeur orange la botte 500g | B10: Pièce
A11: Céleri branche vert le kg | B11: Kg
A12: Celeri rave le kg | B12: Kg
A13: Champignon Pleurote gris le kg | B13: Kg
A14: Chou cabus la pièce | B14: Kg
A15: Chou cabus le kg | B15: Kg
A16: Chou chinois pak-choï la pièce | B16: Pièce
A17: Chou chinois pak-choï le kg | B17: Kg
A18: Chou chinois Pe-tsaï la pièce | B18: Pièce
A19: Chou chinois Pe-tsaï le kg | B19: Kg
A20: Chou fleur la pièce | B20: Pièce
A21: Chou fleur le kg | B21: Kg
... A36: Courge le kg | B36: Kg
A37: Courgette le kg | B37: Kg | C37: 50
A38: Courgette ronde verte le kg | B38: Kg
A39: Echalote le kg | B39: Kg
A40: Echalote nouvelle la botte | B40: Pièce
A41: Endive le kg | B41: Kg
A42: Epinard le kg | B42: Kg
A43: Fenouil le kg | B43: Kg
A44: Fève le kg | B44: Kg
A45: Haricot coco le kg | B45: Kg
A46: Haricot vert le kg | B46: Kg
A47: Kiwi le kg | B47: Kg
A48: Mache le kg | B48: Kg
A49: Mesclun le kg | B49: Kg
... A52: Oignon blanc le kg | B52: Kg
A53: Oignon jaune le kg | B53: Kg | C53: 4
A54: Oignon rose le kg | B54: Kg
A55: Oignon rouge le kg | B55: Kg
A56: Orange le kg | B56: Kg
...

Sheet S 32
A1: Semaine | B1: 32
A2: Nom | B2: Unité | C2: TOTAL VENTES | E2: Type transfo | F2: Nb
A3: Aromates la pièce | B3: Pièce | E3: soupe butternut
A4: Artichaut le kg | B4: Kg | E4: Soupe courge
A5: Aubergine le kg | B5: Kg | E5: Soupe poireaux
A6: Betterave le kg | B6: Kg | E6: Soupe courgette
A7: Blette le kg | B7: Kg | E7: Gaspacho | F7: 121
A8: Carotte le kg | B8: Kg | E8: Coulis
A9: Carotte primeur la botte 500g | B9: Pièce | E9: Haricots verts
A10: Carotte primeur orange la botte 500g | B10: Pièce
A11: Céleri branche vert le kg | B11: Kg
A12: Celeri rave le kg | B12: Kg
A13: Champignon Pleurote gris le kg | B13: Kg
A14: Chou cabus la pièce | B14: Kg
A15: Chou cabus le kg | B15: Kg
A16: Chou chinois pak-choï la pièce | B16: Pièce
A17: Chou chinois pak-choï le kg | B17: Kg
A18: Chou chinois Pe-tsaï la pièce | B18: Pièce
A19: Chou chinois Pe-tsaï le kg | B19: Kg
A20: Chou fleur la pièce | B20: Pièce
A21: Chou fleur le kg | B21: Kg
... A33: Concombre la pièce | B33: Pièce
A34: Concombre le kg | B34: Kg | C34: 20
A35: Courge la pièce | B35: Pièce
A36: Courge le kg | B36: Kg
A37: Courgette le kg | B37: Kg
A38: Courgette ronde verte le kg | B38: Kg
A39: Echalote le kg | B39: Kg
A40: Echalote nouvelle la botte | B40: Pièce
A41: Endive le kg | B41: Kg
A42: Epinard le kg | B42: Kg
A43: Fenouil le kg | B43: Kg
A44: Fève le kg | B44: Kg
A45: Haricot coco le kg | B45: Kg
A46: Haricot vert le kg | B46: Kg
... A52: Oignon blanc le kg | B52: Kg
A53: Oignon jaune le kg | B53: Kg | C53: 4
A54: Oignon rose le kg | B54: Kg
A55: Oignon rouge le kg | B55: Kg
A56: Orange le kg | B56: Kg
...

Sheet S 33
A1: Semaine | B1: 33
A2: Nom | B2: Unité | C2: TOTAL VENTES | E2: Type transfo | F2: Nb
A3: Aromates la pièce | B3: Pièce | E3: soupe butternut
A4: Artichaut le kg | B4: Kg | E4: Soupe courge
A5: Aubergine le kg | B5: Kg | E5: Soupe poireaux
A6: Betterave le kg | B6: Kg | E6: Soupe courgette
A7: Blette le kg | B7: Kg | E7: Gaspacho
A8: Carotte le kg | B8: Kg | E8: Coulis | F8: 150
A9: Carotte primeur la botte 500g | B9: Pièce | E9: Haricots verts
A10: Carotte primeur orange la botte 500g | B10: Pièce
A11: Céleri branche vert le kg | B11: Kg
A12: Celeri rave le kg | B12: Kg
A13: Champignon Pleurote gris le kg | B13: Kg
A14: Chou cabus la pièce | B14: Kg
A15: Chou cabus le kg | B15: Kg
A16: Chou chinois pak-choï la pièce | B16: Pièce
A17: Chou chinois pak-choï le kg | B17: Kg
A18: Chou chinois Pe-tsaï la pièce | B18: Pièce
A19: Chou chinois Pe-tsaï le kg | B19: Kg
A20: Chou fleur la pièce | B20: Pièce
A21: Chou fleur le kg | B21: Kg
... A80: Tomate classique le kg | B80: Kg
A81: Tomate coulis le kg | B81: Kg | C81: 144
A82: Tomatillo la bq | B82: Pièce
A83: Topinambour le kg | B83: Kg

Sheet S 38
A1: Semaine | B1: 38
A2: Nom | B2: Unité | C2: TOTAL VENTES | E2: Type transfo | F2: Nb
A3: Aromates la pièce | B3: Pièce | E3: soupe butternut
A4: Artichaut le kg | B4: Kg | E4: Soupe courge
A5: Aubergine le kg | B5: Kg | E5: Soupe poireaux
A6: Betterave le kg | B6: Kg | E6: Soupe courgette
A7: Blette le kg | B7: Kg | E7: Gaspacho
A8: Carotte le kg | B8: Kg | E8: Coulis
A9: Carotte primeur la botte 500g | B9: Pièce | E9: Haricots verts | F9: 47
A10: Carotte primeur orange la botte 500g | B10: Pièce
A11: Céleri branche vert le kg | B11: Kg
A12: Celeri rave le kg | B12: Kg
A13: Champignon Pleurote gris le kg | B13: Kg
A14: Chou cabus la pièce | B14: Kg
A15: Chou cabus le kg | B15: Kg
A16: Chou chinois pak-choï la pièce | B16: Pièce
A17: Chou chinois pak-choï le kg | B17: Kg
A18: Chou chinois Pe-tsaï la pièce | B18: Pièce
A19: Chou chinois Pe-tsaï le kg | B19: Kg
A20: Chou fleur la pièce | B20: Pièce
A21: Chou fleur le kg | B21: Kg
... A45: Haricot coco le kg | B45: Kg
A46: Haricot vert le kg | B46: Kg | C46: 13
A47: Kiwi le kg | B47: Kg
A48: Mache le kg | B48: Kg
A49: Mesclun le kg | B49: Kg
A50: Navet la botte | B50: Pièce
A51: Navet le kg | B51: Kg
A52: Oignon blanc le kg | B52: Kg
A53: Oignon jaune le kg | B53: Kg
A54: Oignon rose le kg | B54: Kg
A55: Oignon rouge le kg | B55: Kg
A56: Orange le kg | B56: Kg
A57: Panais le kg | B57: Kg
A58: Patate douce le kg | B58: Kg
... A83: Topinambour le kg | B83: Kg

Sheet S 41
A1: Semaine | B1: 41
A2: Nom | B2: Unité | C2: TOTAL VENTES | E2: Type transfo | F2: Nb
A3: Aromates la pièce | B3: Pièce | E3: soupe butternut
A4: Artichaut le kg | B4: Kg | E4: Soupe courge
A5: Aubergine le kg | B5: Kg | E5: Soupe poireaux
A6: Betterave le kg | B6: Kg | E6: Soupe courgette
A7: Blette le kg | B7: Kg | E7: Gaspacho
A8: Carotte le kg | B8: Kg | E8: Coulis | F8: 110
A9: Carotte primeur la botte 500g | B9: Pièce | E9: Haricots verts
A10: Carotte primeur orange la botte 500g | B10: Pièce
A11: Céleri branche vert le kg | B11: Kg
A12: Celeri rave le kg | B12: Kg
A13: Champignon Pleurote gris le kg | B13: Kg
A14: Chou cabus la pièce | B14: Kg
A15: Chou cabus le kg | B15: Kg
A16: Chou chinois pak-choï la pièce | B16: Pièce
A17: Chou chinois pak-choï le kg | B17: Kg
A18: Chou chinois Pe-tsaï la pièce | B18: Pièce
A19: Chou chinois Pe-tsaï le kg | B19: Kg
A20: Chou fleur la pièce | B20: Pièce
A21: Chou fleur le kg | B21: Kg
... A80: Tomate classique le kg | B80: Kg
A81: Tomate coulis le kg | B81: Kg | C81: 106
A82: Tomatillo la bq | B82: Pièce
A83: Topinambour le kg | B83: Kg

Sheet S 46
A1: Semaine | B1: 46
A2: Nom | B2: Unité | C2: TOTAL VENTES | E2: Type transfo | F2: Nb
A3: Aromates la pièce | B3: Pièce | E3: soupe butternut | F3: 119
A4: Artichaut le kg | B4: Kg | E4: Soupe courge
A5: Aubergine le kg | B5: Kg | E5: Soupe poireaux
A6: Betterave le kg | B6: Kg | E6: Soupe courgette
A7: Blette le kg | B7: Kg | E7: Gaspacho
A8: Carotte le kg | B8: Kg | E8: Coulis
A9: Carotte primeur la botte 500g | B9: Pièce | E9: Haricots verts
A10: Carotte primeur orange la botte 500g | B10: Pièce
A11: Céleri branche vert le kg | B11: Kg
A12: Celeri rave le kg | B12: Kg
A13: Champignon Pleurote gris le kg | B13: Kg
A14: Chou cabus la pièce | B14: Kg
A15: Chou cabus le kg | B15: Kg
A16: Chou chinois pak-choï la pièce | B16: Pièce
A17: Chou chinois pak-choï le kg | B17: Kg
A18: Chou chinois Pe-tsaï la pièce | B18: Pièce
A19: Chou chinois Pe-tsaï le kg | B19: Kg
A20: Chou fleur la pièce | B20: Pièce
A21: Chou fleur le kg | B21: Kg
... A35: Courge la pièce | B35: Pièce
A36: Courge le kg | B36: Kg | C36: 50
A37: Courgette le kg | B37: Kg
A38: Courgette ronde verte le kg | B38: Kg
A39: Echalote le kg | B39: Kg
A40: Echalote nouvelle la botte | B40: Pièce
A41: Endive le kg | B41: Kg
A42: Epinard le kg | B42: Kg
A43: Fenouil le kg | B43: Kg
A44: Fève le kg | B44: Kg
A45: Haricot coco le kg | B45: Kg
A46: Haricot vert le kg | B46: Kg
A47: Kiwi le kg | B47: Kg
A48: Mache le kg | B48: Kg
... A52: Oignon blanc le kg | B52: Kg
A53: Oignon jaune le kg | B53: Kg | C53: 5
A54: Oignon rose le kg | B54: Kg
A55: Oignon rouge le kg | B55: Kg
A56: Orange le kg | B56: Kg
...

Sheet TOT
A1: TOTAL ANNUEL | B1: 2021
A2: Nom | B2: Unité | C2: TOTAL VENTES | E2: Type transfo | F2: Nb
A3: Aromates la pièce | B3: Pièce | C3: =SUM('S 3:S 46'!C3) -> 0 | E3: soupe butternut | F3: =SUM('S 3:S 46'!F3) -> 119
A4: Artichaut le kg | B4: Kg | C4: =SUM('S 3:S 46'!C4) -> 0 | E4: Soupe courge | F4: =SUM('S 3:S 46'!F4) -> 232
A5: Aubergine le kg | B5: Kg | C5: =SUM('S 3:S 46'!C5) -> 0 | E5: Soupe poireaux | F5: =SUM('S 3:S 46'!F5) -> 232
A6: Betterave le kg | B6: Kg | C6: =SUM('S 3:S 46'!C6) -> 0 | E6: Soupe courgette | F6: =SUM('S 3:S 46'!F6) -> 125
A7: Blette le kg | B7: Kg | C7: =SUM('S 3:S 46'!C7) -> 0 | E7: Gaspacho | F7: =SUM('S 3:S 46'!F7) -> 121
A8: Carotte le kg | B8: Kg | C8: =SUM('S 3:S 46'!C8) -> 6 | E8: Coulis | F8: =SUM('S 3:S 46'!F8) -> 260
A9: Carotte primeur la botte 500g | B9: Pièce | C9: =SUM('S 3:S 46'!C9) -> 0 | E9: Haricots verts | F9: =SUM('S 3:S 46'!F9) -> 47
A10: Carotte primeur orange la botte 500g | B10: Pièce | C10: =SUM('S 3:S 46'!C10) -> 0
A11: Céleri branche vert le kg | B11: Kg | C11: =SUM('S 3:S 46'!C11) -> 0
A12: Celeri rave le kg | B12: Kg | C12: =SUM('S 3:S 46'!C12) -> 0
A13: Champignon Pleurote gris le kg | B13: Kg | C13: =SUM('S 3:S 46'!C13) -> 0
A14: Chou cabus la pièce | B14: Kg | C14: =SUM('S 3:S 46'!C14) -> 0
A15: Chou cabus le kg | B15: Kg | C15: =SUM('S 3:S 46'!C15) -> 0
A16: Chou chinois pak-choï la pièce | B16: Pièce | C16: =SUM('S 3:S 46'!C16) -> 0
A17: Chou chinois pak-choï le kg | B17: Kg | C17: =SUM('S 3:S 46'!C17) -> 0
A18: Chou chinois Pe-tsaï la pièce | B18: Pièce | C18: =SUM('S 3:S 46'!C18) -> 0
A19: Chou chinois Pe-tsaï le kg | B19: Kg | C19: =SUM('S 3:S 46'!C19) -> 0
A20: Chou fleur la pièce | B20: Pièce | C20: =SUM('S 3:S 46'!C20) -> 0
A21: Chou fleur le kg | B21: Kg | C21: =SUM('S 3:S 46'!C21) -> 0
... A83: Topinambour le kg | B83: Kg | C83: =SUM('S 3:S 46'!C83) -> 0
C84: =SUM('S 3:S 46'!C84) -> 0
C85: =SUM('S 3:S 46'!C85) -> 0
C86: =SUM('S 3:S 46'!C86) -> 0
C87: =SUM('S 3:S 46'!C87) -> 0
C88: =SUM('S 3:S 46'!C88) -> 0
C89: =SUM('S 3:S 46'!C89) -> 0
C90: =SUM('S 3:S 46'!C90) -> 0
C91: =SUM('S 3:S 46'!C91) -> 0
C92: =SUM('S 3:S 46'!C92) -> 0
C93: =SUM('S 3:S 46'!C93) -> 0
C94: =SUM('S 3:S 46'!C94) -> 0
C95: =SUM('S 3:S 46'!C95) -> 0
... C119: =SUM('S 3:S 46'!C119) -> 0
A120: Total | B120: Kg | C120: =SUBTOTAL(109,Tableau2245689101112[TOTAL VENTES]) -> 701
