Workbook

Sheet Global
D1: ORANGES | E1: CLÉMENTINES | F1: CITRONS | G1: POMELOS | H1: HUILE D'OLIVE | I1: AMANDES AVEC PEAU | J1: AMANDES BLANCHES | K1: POUDRE D'AMANDE | L1: TOTAL
C2: Poids (en Kg et L) | D2: 10 | E2: 6 | F2: 6 | G2: 8 | H2: 5 | I2: 1 | J2: 1 | K2: 1 | O2: PAYÉ
C3: Prix/Poids (en euros) | D3: 1 | E3: 2 | F3: 3 | G3: 4 | H3: 5 | I3: 6 | J3: 7 | K3: 8 | O3: FACTURÉ
C4: Quantité totale | D4: =SUM(Tableau1[ORANGES]) -> 13 | E4: =SUM(Tableau1[CLÉMENTINES]) -> 20 | F4: =SUM(Tableau1[CITRONS]) -> 11 | G4: =SUM(Tableau1[POMELOS]) -> 8 | H4: =SUM(Tableau1[HUILE D''OLIVE]) -> 0 | I4: =SUM(Tableau1[AMANDES AVEC PEAU]) -> 0 | J4: =SUM(Tableau1[AMANDES BLANCHES]) -> 0 | K4: =SUM(Tableau1[POUDRE D''AMANDE]) -> 0 | O4: JARDINS
C5: Coût total | D5: =D4*D3 -> 13 | E5: =E4*E3 -> 40 | F5: =F4*F3 -> 33 | G5: =G4*G3 -> 32 | H5: =H4*H3 -> 0 | I5: =I4*I3 -> 0 | J5: =J4*J3 -> 0 | K5: =K4*K3 -> 0 | L5: =SUM(D5:K5) -> 118 | O5: EN ATTENTE
O6: A FACTURER
A7: LIEUX DE DEPOTS | B7: NOM | C7: Prénom | D7: ORANGES | E7: CLÉMENTINES | F7: CITRONS | G7: POMELOS | H7: HUILE D'OLIVE | I7: AMANDES AVEC PEAU | J7: AMANDES BLANCHES | K7: POUDRE D'AMANDE | L7: TOTAL | M7: STATUT | N7: DÉTAILS | O7: DATE DE REMISES EN BANQUE
A8: ARRONNES | B8: JDC | C8: JDC | D8: 13 | E8: 20 | F8: 11 | G8: 8 | L8: =Tableau1[[#This Row],[ORANGES]]*D3+Tableau1[[#This Row],[CLÉMENTINES]]*E3+Tableau1[[#This Row],[CITRONS]]*F3+Tableau1[[#This Row],[POMELOS]]*G3 -> 118
Q10: VICHY
Q11: CUSSET
Q12: BELLERIVE
Q13: ARRONNES
Q14: LE MAYET
Q15: LE MAYET SESC
Q16: LE VERNET
Q17: VENDAT
Q18: BROUT-VERNET
Q19: RESTOS
Q20: MARCHÉ COUVERT
L73: =SUM((D73*Global!$D$3)+(E73*Global!$E$3)+(F73*Global!$F$3)+(G73*Global!$G$3)+(H73*Global!$H$3)) -> 0
D76: Colonne1 | E76: Colonne2 | F76: Colonne3 | G76: Colonne4 | H76: Colonne5 | I76: Colonne6
D77: STATUT | H77: Nombre de commandes | I77: VALEUR TOTALE
D78: TOTAL RÉGLÉ | H78: =COUNTIF(Tableau1[STATUT],"PAYÉ") -> 0 | I78: =SUMIF(Tableau1[STATUT],"PAYÉ",Tableau1[TOTAL]) -> 0
D79: TOTAL EN ATTENTE DE REGLEMENT | H79: =COUNTIF(Tableau1[STATUT],"EN ATTENTE")+COUNTIF(Tableau1[STATUT],"A FACTURER") -> 0 | I79: =SUMIF(Tableau1[STATUT],"EN ATTENTE",Tableau1[TOTAL])+SUMIF(Tableau1[STATUT],"A FACTURER",Tableau1[TOTAL]) -> 0
D80: TOTAL ACHATS JARDINS | H80: =COUNTIF(Tableau1[STATUT],"JARDINS") -> 0 | I80: =SUMIF(Tableau1[STATUT],"JARDINS",Tableau1[TOTAL]) -> 0
D81: TOTAL GLOBAL | H81: =SUM(Tableau3[Colonne5]) -> 0 | I81: =SUM(L8:L73) -> 118

Sheet Emargement
A1: LIEUX DE DEPOTS | B1: NOM | C1: PRENOM | D1: ORANGES | E1: MANDARINES | F1: CITRONS | G1: POMELOS | H1: HUILE D'OLIVE | I1: AMANDES AVEC PEAU | J1: AMANDES BLANCHES | K1: POUDRE D'AMANDE | L1: TOTAL | M1: STATUT | N1: DÉTAILS | O1: SIGNATURE
A2: =Global!A16 -> 0 | B2: =Global!B16 -> 0 | C2: =Global!C16 -> 0 | D2: =Global!D16 -> 0 | E2: =Global!E16 -> 0 | F2: =Global!F16 -> 0 | G2: =Global!G16 -> 0 | H2: =Global!H16 -> 0 | ... N2: =Global!N16 -> 0
A3: =Global!A15 -> 0 | B3: =Global!B15 -> 0 | C3: =Global!C15 -> 0 | D3: =Global!D15 -> 0 | E3: =Global!E15 -> 0 | F3: =Global!F15 -> 0 | G3: =Global!G15 -> 0 | H3: =Global!H15 -> 0 | ... N3: =Global!N15 -> 0
A4: =Global!A14 -> 0 | B4: =Global!B14 -> 0 | C4: =Global!C14 -> 0 | D4: =Global!D14 -> 0 | E4: =Global!E14 -> 0 | F4: =Global!F14 -> 0 | G4: =Global!G14 -> 0 | H4: =Global!H14 -> 0 | ... N4: =Global!N14 -> 0
A5: =Global!A13 -> 0 | B5: =Global!B13 -> 0 | C5: =Global!C13 -> 0 | D5: =Global!D13 -> 0 | E5: =Global!E13 -> 0 | F5: =Global!F13 -> 0 | G5: =Global!G13 -> 0 | H5: =Global!H13 -> 0 | ... N5: =Global!N13 -> 0
A6: =Global!A12 -> 0 | B6: =Global!B12 -> 0 | C6: =Global!C12 -> 0 | D6: =Global!D12 -> 0 | E6: =Global!E12 -> 0 | F6: =Global!F12 -> 0 | G6: =Global!G12 -> 0 | H6: =Global!H12 -> 0 | ... N6: =Global!N12 -> 0
A7: =Global!A11 -> 0 | B7: =Global!B11 -> 0 | C7: =Global!C11 -> 0 | D7: =Global!D11 -> 0 | E7: =Global!E11 -> 0 | F7: =Global!F11 -> 0 | G7: =Global!G11 -> 0 | H7: =Global!H11 -> 0 | ... N7: =Global!N11 -> 0
A8: =Global!A9 -> 0 | B8: =Global!B9 -> 0 | C8: =Global!C9 -> 0 | D8: =Global!D9 -> 0 | E8: =Global!E9 -> 0 | F8: =Global!F9 -> 0 | G8: =Global!G9 -> 0 | H8: =Global!H9 -> 0 | ... N8: =Global!N9 -> 0
A9: =Global!A8 -> ARRONNES | B9: =Global!B8 -> JDC | C9: =Global!C8 -> JDC | D9: =Global!D8 -> 13 | E9: =Global!E8 -> 20 | F9: =Global!F8 -> 11 | G9: =Global!G8 -> 8 | H9: =Global!H8 -> 0 | ... N9: =Global!N8 -> 0
A10: =Global!A10 -> 0 | B10: =Global!B10 -> 0 | C10: =Global!C10 -> 0 | D10: =Global!D10 -> 0 | E10: =Global!E10 -> 0 | F10: =Global!F10 -> 0 | G10: =Global!G10 -> 0 | H10: =Global!H10 -> 0 | ... N10: =Global!N10 -> 0
A11: =Global!A73 -> 0 | B11: =Global!B73 -> 0 | C11: =Global!C73 -> 0 | D11: =Global!D73 -> 0 | E11: =Global!E73 -> 0 | F11: =Global!F73 -> 0 | G11: =Global!G73 -> 0 | H11: =Global!H73 -> 0 | ... N11: =Global!N73 -> 0
A12: =Global!A19 -> 0 | B12: =Global!B19 -> 0 | C12: =Global!C19 -> 0 | D12: =Global!D19 -> 0 | E12: =Global!E19 -> 0 | F12: =Global!F19 -> 0 | G12: =Global!G19 -> 0 | H12: =Global!H19 -> 0 | ... N12: =Global!N19 -> 0
A13: =Global!A20 -> 0 | B13: =Global!B20 -> 0 | C13: =Global!C20 -> 0 | D13: =Global!D20 -> 0 | E13: =Global!E20 -> 0 | F13: =Global!F20 -> 0 | G13: =Global!G20 -> 0 | H13: =Global!H20 -> 0 | ... N13: =Global!N20 -> 0
A14: =Global!A22 -> 0 | B14: =Global!B22 -> 0 | C14: =Global!C22 -> 0 | D14: =Global!D22 -> 0 | E14: =Global!E22 -> 0 | F14: =Global!F22 -> 0 | G14: =Global!G22 -> 0 | H14: =Global!H22 -> 0 | ... N14: =Global!N22 -> 0
A15: =Global!A21 -> 0 | B15: =Global!B21 -> 0 | C15: =Global!C21 -> 0 | D15: =Global!D21 -> 0 | E15: =Global!E21 -> 0 | F15: =Global!F21 -> 0 | G15: =Global!G21 -> 0 | H15: =Global!H21 -> 0 | ... N15: =Global!N21 -> 0
A16: =Global!A18 -> 0 | B16: =Global!B18 -> 0 | C16: =Global!C18 -> 0 | D16: =Global!D18 -> 0 | E16: =Global!E18 -> 0 | F16: =Global!F18 -> 0 | G16: =Global!G18 -> 0 | H16: =Global!H18 -> 0 | ... N16: =Global!N18 -> 0
A17: =Global!A23 -> 0 | B17: =Global!B23 -> 0 | C17: =Global!C23 -> 0 | D17: =Global!D23 -> 0 | E17: =Global!E23 -> 0 | F17: =Global!F23 -> 0 | G17: =Global!G23 -> 0 | H17: =Global!H23 -> 0 | ... N17: =Global!N23 -> 0
A18: =Global!A17 -> 0 | B18: =Global!B17 -> 0 | C18: =Global!C17 -> 0 | D18: =Global!D17 -> 0 | E18: =Global!E17 -> 0 | F18: =Global!F17 -> 0 | G18: =Global!G17 -> 0 | H18: =Global!H17 -> 0 | ... N18: =Global!N17 -> 0
A19: =Global!A26 -> 0 | B19: =Global!B26 -> 0 | C19: =Global!C26 -> 0 | D19: =Global!D26 -> 0 | E19: =Global!E26 -> 0 | F19: =Global!F26 -> 0 | G19: =Global!G26 -> 0 | H19: =Global!H26 -> 0 | ... N19: =Global!N26 -> 0
A20: =Global!A24 -> 0 | B20: =Global!B24 -> 0 | C20: =Global!C24 -> 0 | D20: =Global!D24 -> 0 | E20: =Global!E24 -> 0 | F20: =Global!F24 -> 0 | G20: =Global!G24 -> 0 | H20: =Global!H24 -> 0 | ... N20: =Global!N24 -> 0
A21: =Global!A28 -> 0 | B21: =Global!B28 -> 0 | C21: =Global!C28 -> 0 | D21: =Global!D28 -> 0 | E21: =Global!E28 -> 0 | F21: =Global!F28 -> 0 | G21: =Global!G28 -> 0 | H21: =Global!H28 -> 0 | ... N21: =Global!N28 -> 0
A22: =Global!A25 -> 0 | B22: =Global!B25 -> 0 | C22: =Global!C25 -> 0 | D22: =Global!D25 -> 0 | E22: =Global!E25 -> 0 | F22: =Global!F25 -> 0 | G22: =Global!G25 -> 0 | H22: =Global!H25 -> 0 | ... N22: =Global!N25 -> 0
A23: =Global!A27 -> 0 | B23: =Global!B27 -> 0 | C23: =Global!C27 -> 0 | D23: =Global!D27 -> 0 | E23: =Global!E27 -> 0 | F23: =Global!F27 -> 0 | G23: =Global!G27 -> 0 | H23: =Global!H27 -> 0 | ... N23: =Global!N27 -> 0
A24: =Global!A29 -> 0 | B24: =Global!B29 -> 0 | C24: =Global!C29 -> 0 | D24: =Global!D29 -> 0 | E24: =Global!E29 -> 0 | F24: =Global!F29 -> 0 | G24: =Global!G29 -> 0 | H24: =Global!H29 -> 0 | ... N24: =Global!N29 -> 0
A25: =Global!A33 -> 0 | B25: =Global!B33 -> 0 | C25: =Global!C33 -> 0 | D25: =Global!D33 -> 0 | E25: =Global!E33 -> 0 | F25: =Global!F33 -> 0 | G25: =Global!G33 -> 0 | H25: =Global!H33 -> 0 | ... N25: =Global!N33 -> 0
A26: =Global!A34 -> 0 | B26: =Global!B34 -> 0 | C26: =Global!C34 -> 0 | D26: =Global!D34 -> 0 | E26: =Global!E34 -> 0 | F26: =Global!F34 -> 0 | G26: =Global!G34 -> 0 | H26: =Global!H34 -> 0 | ... N26: =Global!N34 -> 0
A27: =Global!A35 -> 0 | B27: =Global!B35 -> 0 | C27: =Global!C35 -> 0 | D27: =Global!D35 -> 0 | E27: =Global!E35 -> 0 | F27: =Global!F35 -> 0 | G27: =Global!G35 -> 0 | H27: =Global!H35 -> 0 | ... N27: =Global!N35 -> 0
A28: =Global!A31 -> 0 | B28: =Global!B31 -> 0 | C28: =Global!C31 -> 0 | D28: =Global!D31 -> 0 | E28: =Global!E31 -> 0 | F28: =Global!F31 -> 0 | G28: =Global!G31 -> 0 | H28: =Global!H31 -> 0 | ... N28: =Global!N31 -> 0
A29: =Global!A32 -> 0 | B29: =Global!B32 -> 0 | C29: =Global!C32 -> 0 | D29: =Global!D32 -> 0 | E29: =Global!E32 -> 0 | F29: =Global!F32 -> 0 | G29: =Global!G32 -> 0 | H29: =Global!H32 -> 0 | ... N29: =Global!N32 -> 0
A30: =Global!A30 -> 0 | B30: =Global!B30 -> 0 | C30: =Global!C30 -> 0 | D30: =Global!D30 -> 0 | E30: =Global!E30 -> 0 | F30: =Global!F30 -> 0 | G30: =Global!G30 -> 0 | H30: =Global!H30 -> 0 | ... N30: =Global!N30 -> 0
A31: =Global!A37 -> 0 | B31: =Global!B37 -> 0 | C31: =Global!C37 -> 0 | D31: =Global!D37 -> 0 | E31: =Global!E37 -> 0 | F31: =Global!F37 -> 0 | G31: =Global!G37 -> 0 | H31: =Global!H37 -> 0 | ... N31: =Global!N37 -> 0
A32: =Global!A41 -> 0 | B32: =Global!B41 -> 0 | C32: =Global!C41 -> 0 | D32: =Global!D41 -> 0 | E32: =Global!E41 -> 0 | F32: =Global!F41 -> 0 | G32: =Global!G41 -> 0 | H32: =Global!H41 -> 0 | ... N32: =Global!N41 -> 0
A33: =Global!A44 -> 0 | B33: =Global!B44 -> 0 | C33: =Global!C44 -> 0 | D33: =Global!D44 -> 0 | E33: =Global!E44 -> 0 | F33: =Global!F44 -> 0 | G33: =Global!G44 -> 0 | H33: =Global!H44 -> 0 | ... N33: =Global!N44 -> 0
A34: =Global!A43 -> 0 | B34: =Global!B43 -> 0 | C34: =Global!C43 -> 0 | D34: =Global!D43 -> 0 | E34: =Global!E43 -> 0 | F34: =Global!F43 -> 0 | G34: =Global!G43 -> 0 | H34: =Global!H43 -> 0 | ... N34: =Global!N43 -> 0
A35: =Global!A40 -> 0 | B35: =Global!B40 -> 0 | C35: =Global!C40 -> 0 | D35: =Global!D40 -> 0 | E35: =Global!E40 -> 0 | F35: =Global!F40 -> 0 | G35: =Global!G40 -> 0 | H35: =Global!H40 -> 0 | ... N35: =Global!N40 -> 0
A36: =Global!A42 -> 0 | B36: =Global!B42 -> 0 | C36: =Global!C42 -> 0 | D36: =Global!D42 -> 0 | E36: =Global!E42 -> 0 | F36: =Global!F42 -> 0 | G36: =Global!G42 -> 0 | H36: =Global!H42 -> 0 | ... N36: =Global!N42 -> 0
A37: =Global!A39 -> 0 | B37: =Global!B39 -> 0 | C37: =Global!C39 -> 0 | D37: =Global!D39 -> 0 | E37: =Global!E39 -> 0 | F37: =Global!F39 -> 0 | G37: =Global!G39 -> 0 | H37: =Global!H39 -> 0 | ... N37: =Global!N39 -> 0
A38: =Global!A38 -> 0 | B38: =Global!B38 -> 0 | C38: =Global!C38 -> 0 | D38: =Global!D38 -> 0 | E38: =Global!E38 -> 0 | F38: =Global!F38 -> 0 | G38: =Global!G38 -> 0 | H38: =Global!H38 -> 0 | ... N38: =Global!N38 -> 0
A39: =Global!A36 -> 0 | B39: =Global!B36 -> 0 | C39: =Global!C36 -> 0 | D39: =Global!D36 -> 0 | E39: =Global!E36 -> 0 | F39: =Global!F36 -> 0 | G39: =Global!G36 -> 0 | H39: =Global!H36 -> 0 | ... N39: =Global!N36 -> 0
A40: =Global!A45 -> 0 | B40: =Global!B45 -> 0 | C40: =Global!C45 -> 0 | D40: =Global!D45 -> 0 | E40: =Global!E45 -> 0 | F40: =Global!F45 -> 0 | G40: =Global!G45 -> 0 | H40: =Global!H45 -> 0 | ... N40: =Global!N45 -> 0
A41: =Global!A48 -> 0 | B41: =Global!B48 -> 0 | C41: =Global!C48 -> 0 | D41: =Global!D48 -> 0 | E41: =Global!E48 -> 0 | F41: =Global!F48 -> 0 | G41: =Global!G48 -> 0 | H41: =Global!H48 -> 0 | ... N41: =Global!N48 -> 0
A42: =Global!A49 -> 0 | B42: =Global!B49 -> 0 | C42: =Global!C49 -> 0 | D42: =Global!D49 -> 0 | E42: =Global!E49 -> 0 | F42: =Global!F49 -> 0 | G42: =Global!G49 -> 0 | H42: =Global!H49 -> 0 | ... N42: =Global!N49 -> 0
A43: =Global!A46 -> 0 | B43: =Global!B46 -> 0 | C43: =Global!C46 -> 0 | D43: =Global!D46 -> 0 | E43: =Global!E46 -> 0 | F43: =Global!F46 -> 0 | G43: =Global!G46 -> 0 | H43: =Global!H46 -> 0 | ... N43: =Global!N46 -> 0
A44: =Global!A50 -> 0 | B44: =Global!B50 -> 0 | C44: =Global!C50 -> 0 | D44: =Global!D50 -> 0 | E44: =Global!E50 -> 0 | F44: =Global!F50 -> 0 | G44: =Global!G50 -> 0 | H44: =Global!H50 -> 0 | ... N44: =Global!N50 -> 0
A45: =Global!A51 -> 0 | B45: =Global!B51 -> 0 | C45: =Global!C51 -> 0 | D45: =Global!D51 -> 0 | E45: =Global!E51 -> 0 | F45: =Global!F51 -> 0 | G45: =Global!G51 -> 0 | H45: =Global!H51 -> 0 | ... N45: =Global!N51 -> 0
A46: =Global!A47 -> 0 | B46: =Global!B47 -> 0 | C46: =Global!C47 -> 0 | D46: =Global!D47 -> 0 | E46: =Global!E47 -> 0 | F46: =Global!F47 -> 0 | G46: =Global!G47 -> 0 | H46: =Global!H47 -> 0 | ... N46: =Global!N47 -> 0
A47: =Global!A52 -> 0 | B47: =Global!B52 -> 0 | C47: =Global!C52 -> 0 | D47: =Global!D52 -> 0 | E47: =Global!E52 -> 0 | F47: =Global!F52 -> 0 | G47: =Global!G52 -> 0 | H47: =Global!H52 -> 0 | ... N47: =Global!N52 -> 0
A48: =Global!A53 -> 0 | B48: =Global!B53 -> 0 | C48: =Global!C53 -> 0 | D48: =Global!D53 -> 0 | E48: =Global!E53 -> 0 | F48: =Global!F53 -> 0 | G48: =Global!G53 -> 0 | H48: =Global!H53 -> 0 | ... N48: =Global!N53 -> 0
A49: =Global!A54 -> 0 | B49: =Global!B54 -> 0 | C49: =Global!C54 -> 0 | D49: =Global!D54 -> 0 | E49: =Global!E54 -> 0 | F49: =Global!F54 -> 0 | G49: =Global!G54 -> 0 | H49: =Global!H54 -> 0 | ... N49: =Global!N54 -> 0
A50: =Global!A68 -> 0 | B50: =Global!B68 -> 0 | C50: =Global!C68 -> 0 | D50: =Global!D68 -> 0 | E50: =Global!E68 -> 0 | F50: =Global!F68 -> 0 | G50: =Global!G68 -> 0 | H50: =Global!H68 -> 0 | ... N50: =Global!N68 -> 0

Sheet Recap Clem
A1: LIEU | B1: ORANGES | C1: CLÉMENTINES | D1: CITRONS | E1: POMELOS | F1: HUILE | G1: AMANDES AVEC PEAU | H1: AMANDES BLANCHES | I1: POUDRE D'AMANDE
A2: =Global!Q10 -> VICHY | B2: =SUMIF(Tableau1[LIEUX DE DEPOTS],Tableau2[[#This Row],[LIEU]],Tableau1[ORANGES]) -> 0 | C2: =SUMIF(Tableau1[LIEUX DE DEPOTS],Tableau2[[#This Row],[LIEU]],Tableau1[CLÉMENTINES]) -> 0 | D2: =SUMIF(Tableau1[LIEUX DE DEPOTS],Tableau2[[#This Row],[LIEU]],Tableau1[CITRONS]) -> 0 | E2: =SUMIF(Tableau1[LIEUX DE DEPOTS],Tableau2[[#This Row],[LIEU]],Tableau1[POMELOS]) -> 0 | F2: =SUMIF(Tableau1[LIEUX DE DEPOTS],Tableau2[[#This Row],[LIEU]],Tableau1[HUILE D''OLIVE]) -> 0 | G2: =SUMIF(Tableau1[LIEUX DE DEPOTS],Tableau2[[#This Row],[LIEU]],Tableau1[AMANDES AVEC PEAU]) -> 0 | H2: =SUMIF(Tableau1[LIEUX DE DEPOTS],Tableau2[[#This Row],[LIEU]],Tableau1[AMANDES BLANCHES]) -> 0 | I2: =SUMIF(Tableau1[LIEUX DE DEPOTS],Tableau2[[#This Row],[LIEU]],Tableau1[POUDRE D''AMANDE]) -> 0
A3: =Global!Q11 -> CUSSET | B3: =SUMIF(Tableau1[LIEUX DE DEPOTS],Tableau2[[#This Row],[LIEU]],Tableau1[ORANGES]) -> 0 | C3: =SUMIF(Tableau1[LIEUX DE DEPOTS],Tableau2[[#This Row],[LIEU]],Tableau1[CLÉMENTINES]) -> 0 | D3: =SUMIF(Tableau1[LIEUX DE DEPOTS],Tableau2[[#This Row],[LIEU]],Tableau1[CITRONS]) -> 0 | E3: =SUMIF(Tableau1[LIEUX DE DEPOTS],Tableau2[[#This Row],[LIEU]],Tableau1[POMELOS]) -> 0 | F3: =SUMIF(Tableau1[LIEUX DE DEPOTS],Tableau2[[#This Row],[LIEU]],Tableau1[HUILE D''OLIVE]) -> 0 | G3: =SUMIF(Tableau1[LIEUX DE DEPOTS],Tableau2[[#This Row],[LIEU]],Tableau1[AMANDES AVEC PEAU]) -> 0 | H3: =SUMIF(Tableau1[LIEUX DE DEPOTS],Tableau2[[#This Row],[LIEU]],Tableau1[AMANDES BLANCHES]) -> 0 | I3: =SUMIF(Tableau1[LIEUX DE DEPOTS],Tableau2[[#This Row],[LIEU]],Tableau1[POUDRE D''AMANDE]) -> 0
A4: =Global!Q12 -> BELLERIVE | B4: =SUMIF(Tableau1[LIEUX DE DEPOTS],Tableau2[[#This Row],[LIEU]],Tableau1[ORANGES]) -> 0 | C4: =SUMIF(Tableau1[LIEUX DE DEPOTS],Tableau2[[#This Row],[LIEU]],Tableau1[CLÉMENTINES]) -> 0 | D4: =SUMIF(Tableau1[LIEUX DE DEPOTS],Tableau2[[#This Row],[LIEU]],Tableau1[CITRONS]) -> 0 | E4: =SUMIF(Tableau1[LIEUX DE DEPOTS],Tableau2[[#This Row],[LIEU]],Tableau1[POMELOS]) -> 0 | F4: =SUMIF(Tableau1[LIEUX DE DEPOTS],Tableau2[[#This Row],[LIEU]],Tableau1[HUILE D''OLIVE]) -> 0 | G4: =SUMIF(Tableau1[LIEUX DE DEPOTS],Tableau2[[#This Row],[LIEU]],Tableau1[AMANDES AVEC PEAU]) -> 0 | H4: =SUMIF(Tableau1[LIEUX DE DEPOTS],Tableau2[[#This Row],[LIEU]],Tableau1[AMANDES BLANCHES]) -> 0 | I4: =SUMIF(Tableau1[LIEUX DE DEPOTS],Tableau2[[#This Row],[LIEU]],Tableau1[POUDRE D''AMANDE]) -> 0
A5: =Global!Q13 -> ARRONNES | B5: =SUMIF(Tableau1[LIEUX DE DEPOTS],Tableau2[[#This Row],[LIEU]],Tableau1[ORANGES]) -> 13 | C5: =SUMIF(Tableau1[LIEUX DE DEPOTS],Tableau2[[#This Row],[LIEU]],Tableau1[CLÉMENTINES]) -> 20 | D5: =SUMIF(Tableau1[LIEUX DE DEPOTS],Tableau2[[#This Row],[LIEU]],Tableau1[CITRONS]) -> 11 | E5: =SUMIF(Tableau1[LIEUX DE DEPOTS],Tableau2[[#This Row],[LIEU]],Tableau1[POMELOS]) -> 8 | F5: =SUMIF(Tableau1[LIEUX DE DEPOTS],Tableau2[[#This Row],[LIEU]],Tableau1[HUILE D''OLIVE]) -> 0 | G5: =SUMIF(Tableau1[LIEUX DE DEPOTS],Tableau2[[#This Row],[LIEU]],Tableau1[AMANDES AVEC PEAU]) -> 0 | H5: =SUMIF(Tableau1[LIEUX DE DEPOTS],Tableau2[[#This Row],[LIEU]],Tableau1[AMANDES BLANCHES]) -> 0 | I5: =SUMIF(Tableau1[LIEUX DE DEPOTS],Tableau2[[#This Row],[LIEU]],Tableau1[POUDRE D''AMANDE]) -> 0
A6: =Global!Q14 -> LE MAYET | B6: =SUMIF(Tableau1[LIEUX DE DEPOTS],Tableau2[[#This Row],[LIEU]],Tableau1[ORANGES]) -> 0 | C6: =SUMIF(Tableau1[LIEUX DE DEPOTS],Tableau2[[#This Row],[LIEU]],Tableau1[CLÉMENTINES]) -> 0 | D6: =SUMIF(Tableau1[LIEUX DE DEPOTS],Tableau2[[#This Row],[LIEU]],Tableau1[CITRONS]) -> 0 | E6: =SUMIF(Tableau1[LIEUX DE DEPOTS],Tableau2[[#This Row],[LIEU]],Tableau1[POMELOS]) -> 0 | F6: =SUMIF(Tableau1[LIEUX DE DEPOTS],Tableau2[[#This Row],[LIEU]],Tableau1[HUILE D''OLIVE]) -> 0 | G6: =SUMIF(Tableau1[LIEUX DE DEPOTS],Tableau2[[#This Row],[LIEU]],Tableau1[AMANDES AVEC PEAU]) -> 0 | H6: =SUMIF(Tableau1[LIEUX DE DEPOTS],Tableau2[[#This Row],[LIEU]],Tableau1[AMANDES BLANCHES]) -> 0 | I6: =SUMIF(Tableau1[LIEUX DE DEPOTS],Tableau2[[#This Row],[LIEU]],Tableau1[POUDRE D''AMANDE]) -> 0
A7: =Global!Q15 -> LE MAYET SESC | B7: =SUMIF(Tableau1[LIEUX DE DEPOTS],Tableau2[[#This Row],[LIEU]],Tableau1[ORANGES]) -> 0 | C7: =SUMIF(Tableau1[LIEUX DE DEPOTS],Tableau2[[#This Row],[LIEU]],Tableau1[CLÉMENTINES]) -> 0 | D7: =SUMIF(Tableau1[LIEUX DE DEPOTS],Tableau2[[#This Row],[LIEU]],Tableau1[CITRONS]) -> 0 | E7: =SUMIF(Tableau1[LIEUX DE DEPOTS],Tableau2[[#This Row],[LIEU]],Tableau1[POMELOS]) -> 0 | F7: =SUMIF(Tableau1[LIEUX DE DEPOTS],Tableau2[[#This Row],[LIEU]],Tableau1[HUILE D''OLIVE]) -> 0 | G7: =SUMIF(Tableau1[LIEUX DE DEPOTS],Tableau2[[#This Row],[LIEU]],Tableau1[AMANDES AVEC PEAU]) -> 0 | H7: =SUMIF(Tableau1[LIEUX DE DEPOTS],Tableau2[[#This Row],[LIEU]],Tableau1[AMANDES BLANCHES]) -> 0 | I7: =SUMIF(Tableau1[LIEUX DE DEPOTS],Tableau2[[#This Row],[LIEU]],Tableau1[POUDRE D''AMANDE]) -> 0
A8: =Global!Q16 -> LE VERNET | B8: =SUMIF(Tableau1[LIEUX DE DEPOTS],Tableau2[[#This Row],[LIEU]],Tableau1[ORANGES]) -> 0 | C8: =SUMIF(Tableau1[LIEUX DE DEPOTS],Tableau2[[#This Row],[LIEU]],Tableau1[CLÉMENTINES]) -> 0 | D8: =SUMIF(Tableau1[LIEUX DE DEPOTS],Tableau2[[#This Row],[LIEU]],Tableau1[CITRONS]) -> 0 | E8: =SUMIF(Tableau1[LIEUX DE DEPOTS],Tableau2[[#This Row],[LIEU]],Tableau1[POMELOS]) -> 0 | F8: =SUMIF(Tableau1[LIEUX DE DEPOTS],Tableau2[[#This Row],[LIEU]],Tableau1[HUILE D''OLIVE]) -> 0 | G8: =SUMIF(Tableau1[LIEUX DE DEPOTS],Tableau2[[#This Row],[LIEU]],Tableau1[AMANDES AVEC PEAU]) -> 0 | H8: =SUMIF(Tableau1[LIEUX DE DEPOTS],Tableau2[[#This Row],[LIEU]],Tableau1[AMANDES BLANCHES]) -> 0 | I8: =SUMIF(Tableau1[LIEUX DE DEPOTS],Tableau2[[#This Row],[LIEU]],Tableau1[POUDRE D''AMANDE]) -> 0
A9: =Global!Q17 -> VENDAT | B9: =SUMIF(Tableau1[LIEUX DE DEPOTS],Tableau2[[#This Row],[LIEU]],Tableau1[ORANGES]) -> 0 | C9: =SUMIF(Tableau1[LIEUX DE DEPOTS],Tableau2[[#This Row],[LIEU]],Tableau1[CLÉMENTINES]) -> 0 | D9: =SUMIF(Tableau1[LIEUX DE DEPOTS],Tableau2[[#This Row],[LIEU]],Tableau1[CITRONS]) -> 0 | E9: =SUMIF(Tableau1[LIEUX DE DEPOTS],Tableau2[[#This Row],[LIEU]],Tableau1[POMELOS]) -> 0 | F9: =SUMIF(Tableau1[LIEUX DE DEPOTS],Tableau2[[#This Row],[LIEU]],Tableau1[HUILE D''OLIVE]) -> 0 | G9: =SUMIF(Tableau1[LIEUX DE DEPOTS],Tableau2[[#This Row],[LIEU]],Tableau1[AMANDES AVEC PEAU]) -> 0 | H9: =SUMIF(Tableau1[LIEUX DE DEPOTS],Tableau2[[#This Row],[LIEU]],Tableau1[AMANDES BLANCHES]) -> 0 | I9: =SUMIF(Tableau1[LIEUX DE DEPOTS],Tableau2[[#This Row],[LIEU]],Tableau1[POUDRE D''AMANDE]) -> 0
A10: =Global!Q18 -> BROUT-VERNET | B10: =SUMIF(Tableau1[LIEUX DE DEPOTS],Tableau2[[#This Row],[LIEU]],Tableau1[ORANGES]) -> 0 | C10: =SUMIF(Tableau1[LIEUX DE DEPOTS],Tableau2[[#This Row],[LIEU]],Tableau1[CLÉMENTINES]) -> 0 | D10: =SUMIF(Tableau1[LIEUX DE DEPOTS],Tableau2[[#This Row],[LIEU]],Tableau1[CITRONS]) -> 0 | E10: =SUMIF(Tableau1[LIEUX DE DEPOTS],Tableau2[[#This Row],[LIEU]],Tableau1[POMELOS]) -> 0 | F10: =SUMIF(Tableau1[LIEUX DE DEPOTS],Tableau2[[#This Row],[LIEU]],Tableau1[HUILE D''OLIVE]) -> 0 | G10: =SUMIF(Tableau1[LIEUX DE DEPOTS],Tableau2[[#This Row],[LIEU]],Tableau1[AMANDES AVEC PEAU]) -> 0 | H10: =SUMIF(Tableau1[LIEUX DE DEPOTS],Tableau2[[#This Row],[LIEU]],Tableau1[AMANDES BLANCHES]) -> 0 | I10: =SUMIF(Tableau1[LIEUX DE DEPOTS],Tableau2[[#This Row],[LIEU]],Tableau1[POUDRE D''AMANDE]) -> 0
A11: =Global!Q19 -> RESTOS | B11: =SUMIF(Tableau1[LIEUX DE DEPOTS],Tableau2[[#This Row],[LIEU]],Tableau1[ORANGES]) -> 0 | C11: =SUMIF(Tableau1[LIEUX DE DEPOTS],Tableau2[[#This Row],[LIEU]],Tableau1[CLÉMENTINES]) -> 0 | D11: =SUMIF(Tableau1[LIEUX DE DEPOTS],Tableau2[[#This Row],[LIEU]],Tableau1[CITRONS]) -> 0 | E11: =SUMIF(Tableau1[LIEUX DE DEPOTS],Tableau2[[#This Row],[LIEU]],Tableau1[POMELOS]) -> 0 | F11: =SUMIF(Tableau1[LIEUX DE DEPOTS],Tableau2[[#This Row],[LIEU]],Tableau1[HUILE D''OLIVE]) -> 0 | G11: =SUMIF(Tableau1[LIEUX DE DEPOTS],Tableau2[[#This Row],[LIEU]],Tableau1[AMANDES AVEC PEAU]) -> 0 | H11: =SUMIF(Tableau1[LIEUX DE DEPOTS],Tableau2[[#This Row],[LIEU]],Tableau1[AMANDES BLANCHES]) -> 0 | I11: =SUMIF(Tableau1[LIEUX DE DEPOTS],Tableau2[[#This Row],[LIEU]],Tableau1[POUDRE D''AMANDE]) -> 0
A12: =Global!Q20 -> MARCHÉ COUVERT | B12: =SUMIF(Tableau1[LIEUX DE DEPOTS],Tableau2[[#This Row],[LIEU]],Tableau1[ORANGES]) -> 0 | C12: =SUMIF(Tableau1[LIEUX DE DEPOTS],Tableau2[[#This Row],[LIEU]],Tableau1[CLÉMENTINES]) -> 0 | D12: =SUMIF(Tableau1[LIEUX DE DEPOTS],Tableau2[[#This Row],[LIEU]],Tableau1[CITRONS]) -> 0 | E12: =SUMIF(Tableau1[LIEUX DE DEPOTS],Tableau2[[#This Row],[LIEU]],Tableau1[POMELOS]) -> 0 | F12: =SUMIF(Tableau1[LIEUX DE DEPOTS],Tableau2[[#This Row],[LIEU]],Tableau1[HUILE D''OLIVE]) -> 0 | G12: =SUMIF(Tableau1[LIEUX DE DEPOTS],Tableau2[[#This Row],[LIEU]],Tableau1[AMANDES AVEC PEAU]) -> 0 | H12: =SUMIF(Tableau1[LIEUX DE DEPOTS],Tableau2[[#This Row],[LIEU]],Tableau1[AMANDES BLANCHES]) -> 0 | I12: =SUMIF(Tableau1[LIEUX DE DEPOTS],Tableau2[[#This Row],[LIEU]],Tableau1[POUDRE D''AMANDE]) -> 0
A13: TOTAL | B13: =SUM(B2:B12) -> 13 | C13: =SUM(C2:C12) -> 20 | D13: =SUM(D2:D12) -> 11 | E13: =SUM(E2:E12) -> 8 | F13: =SUM(F2:F12) -> 0 | G13: =SUMIF(Tableau1[LIEUX DE DEPOTS],Tableau2[[#This Row],[LIEU]],Tableau1[AMANDES AVEC PEAU]) -> 0 | H13: =SUMIF(Tableau1[LIEUX DE DEPOTS],Tableau2[[#This Row],[LIEU]],Tableau1[AMANDES BLANCHES]) -> 0 | I13: =SUMIF(Tableau1[LIEUX DE DEPOTS],Tableau2[[#This Row],[LIEU]],Tableau1[POUDRE D''AMANDE]) -> 0
