Workbook
Name att: DANGER!$G$1:$J$1
Name attente: DANGER!$A$12:$O$12
Name choix: Données!$E$2:$E$3
Name delai: DANGER!$D$8,DANGER!$A$8,DANGER!$B$8,DANGER!$C$8
Name deux: DANGER!$A$1:$A$2
Name heure: DANGER!$D$1:$D$2
Name inter: DANGER!$B$1:$B$3
Name kjl: Tableau7[[#Headers],[Q9]]
Name liste: Données!$E$2,Données!$E$3
Name moyen: DANGER!$A$4,DANGER!$A$5,DANGER!$A$6
Name moyens: DANGER!$B$7,DANGER!$A$4,DANGER!$A$5,DANGER!$A$6
Name ok: DANGER!$B$15:$B$18
Name okay: DANGER!$B$15:$C$18
Name question: Données!$E$2:$E$3
Name questions: DANGER!$A$1:$A$2
Name satisfaction: DANGER!$A$10,DANGER!$B$10,DANGER!$C$10
Name semaine: DANGER!$K$1:$K$5
Name service: DANGER!$F$1:$F$4

Sheet Données
A1: Q1 SERVICE | B1: JOUR | C1: Q2 | D1: SI NON | E1: Q2b | F1: Q3 | G1: SI OUI | H1: Q4 | I1: Q5 | J1: Q5b | K1: Q6 | L1: Q7 | M1: Q7b | N1: Q8 | O1: Q9 | P1: SI NON2 | Q1: Q10 | R1: CONTRÔLE | S1: RECEPTION | T1: BUREAU | U1: Q11 | V1: SI OUI2 | W1: SI retard | X1: Q12 | Y1: Q13 | Z1: Securité 1 | AA1: Securité 2 | AB1: Securité 3 | AC1: GLOBAL
A2: EC | B2: lundi | C2: non | D2: non | E2: oui | F2: non | G2: sur place | H2: entre 24-48h | I2: 4 | J2: 4 | K2: complet | L2: non | M2: non | N2: ne sais pas | O2: oui | R2: très satisfaisant | S2: très satisfaisant | T2: très satisfaisant | U2: oui | V2: En retard | W2: 15-30 | X2: plus de 60 | Y2: oui | Z2: non | AA2: oui | AB2: non | AC2: moy. satisfaisant
A3: AFE | B3: lundi | C3: non | D3: non | E3: non | F3: non | G3: mail | H3: moins 24h | I3: 8 | J3: 3 | K3: pas du tout | L3: non | M3: oui | N3: oui | O3: non | R3: satisfaisant | S3: satisfaisant | T3: satisfaisant | U3: non | V3: En retard | W3: plus de 60 | X3: 30-60 | Y3: non | Z3: non | AA3: non | AB3: oui | AC3: satisfaisant
A4: EC | B4: lundi | C4: oui | D4: oui | E4: non | F4: oui | G4: téléphone | H4: plus de 48h | I4: 4 | J4: 6 | K4: complet | L4: non | M4: non | N4: non | O4: non | R4: moy. satisfaisant | S4: moy. satisfaisant | T4: moy. satisfaisant | U4: oui | V4: A l'heure | W4: 15-30 | X4: 0-15 | Y4: non | Z4: oui | AA4: non | AB4: oui | AC4: pas du tout satisfaisant
A5: EC | B5: lundi | C5: non | D5: oui | E5: non | F5: oui | G5: sur place | H5: moins 24h | I5: 1 | J5: 2 | K5: pas du tout | L5: non | M5: oui | N5: ne sais pas | O5: oui | R5: pas du tout satisfaisant | S5: pas du tout satisfaisant | T5: pas du tout satisfaisant | U5: non | V5: A l'heure | W5: 30-60 | X5: plus de 60 | Y5: non | Z5: oui | AA5: oui | AB5: non | AC5: très satisfaisant
A6: EC | B6: lundi | C6: oui | G6: sur place | K6: partiel | L6: non | M6: non | N6: oui
A7: EC | B7: lundi | C7: oui | G7: sur place | K7: complet | L7: oui | M7: non | N7: oui
A8: EC | B8: lundi | C8: oui | G8: sur place | K8: partiel | L8: oui | M8: non | N8: oui
A9: EC | B9: lundi | C9: non | G9: sur place | K9: pas du tout | L9: oui | M9: non | N9: ne sais pas
A10: EC | B10: lundi | C10: non | G10: sur place
A11: EC | B11: lundi | C11: non | G11: sur place

Sheet Analyse
A3: LUNDI | B3: ETAT-CIVIL | C3: REPONSES | I3: LUNDI | J3: AFE | K3: REPONSES | Q3: LUNDI | R3: AS | S3: REPONSES | Y3: LUNDI | Z3: VISAS | AA3: REPONSES
B5: Votre démarche | C5: oui | D5: non | J5: Votre démarche | K5: oui | L5: non | R5: Votre démarche | S5: oui | T5: non | Z5: Votre démarche | AA5: oui | AB5: non
B6: Question 2 : Avez-vous pu arriver à terme de la démarche que vous venez d’entreprendre ? | C6: =COUNTIFS(Données!C2:C10000, "oui", Données!A2:A10000, "EC", Données!B2:B10000, "lundi") -> 4 | D6: =COUNTIFS(Données!C2:C10000, "non", Données!A2:A10000, "EC", Données!B2:B10000, "lundi") -> 5 | J6: Question 2 : Avez-vous pu arriver à terme de la démarche que vous venez d’entreprendre ? | K6: =COUNTIFS(Données!K2:K10000, "oui", Données!I2:I10000, "AFE", Données!J2:J10000, "lundi") -> 0 | L6: =COUNTIFS(Données!K2:K10000, "non", Données!I2:I10000, "AFE", Données!J2:J10000, "lundi") -> 0 | R6: Question 2 : Avez-vous pu arriver à terme de la démarche que vous venez d’entreprendre ? | S6: =COUNTIFS(Données!S2:S10000, "oui", Données!Q2:Q10000, "AS", Données!R2:R10000, "lundi") -> 0 | T6: =COUNTIFS(Données!S2:S10000, "non", Données!Q2:Q10000, "AS", Données!R2:R10000, "lundi") -> 0 | Z6: Question 2 : Avez-vous pu arriver à terme de la démarche que vous venez d’entreprendre ? | AA6: =COUNTIFS(Données!AA2:AA10000, "oui", Données!Y2:Y10000, "VISAS", Données!Z2:Z10000, "lundi") -> 0 | AB6: =COUNTIFS(Données!AA2:AA10000, "non", Données!Y2:Y10000, "VISAS", Données!Z2:Z10000, "lundi") -> 0
B8: Si NON, savez-vous pourquoi ? | C8: =COUNTIFS(Données!D2:D10000, "oui", Données!A2:A10000, "EC", Données!B2:B10000, "lundi") -> 2 | D8: =COUNTIFS(Données!D2:D10000, "non", Données!A2:A10000, "EC", Données!B2:B10000, "lundi") -> 1 | J8: Si NON, savez-vous pourquoi ? | K8: =COUNTIFS(Données!L2:L10000, "oui", Données!I2:I10000, "AFE", Données!J2:J10000, "lundi") -> 0 | L8: =COUNTIFS(Données!L2:L10000, "non", Données!I2:I10000, "AFE", Données!J2:J10000, "lundi") -> 0 | R8: Si NON, savez-vous pourquoi ? | S8: =COUNTIFS(Données!T2:T10000, "oui", Données!Q2:Q10000, "AS", Données!R2:R10000, "lundi") -> 0 | T8: =COUNTIFS(Données!T2:T10000, "non", Données!Q2:Q10000, "AS", Données!R2:R10000, "lundi") -> 0 | Z8: Si NON, savez-vous pourquoi ? | AA8: =COUNTIFS(Données!AB2:AB10000, "oui", Données!Y2:Y10000, "VISAS", Données!Z2:Z10000, "lundi") -> 0 | AB8: =COUNTIFS(Données!AB2:AB10000, "non", Données!Y2:Y10000, "VISAS", Données!Z2:Z10000, "lundi") -> 0
B10: Question 2b : Avez-vous été informé du délai et des modalités nécessaires à sa réalisation ? | C10: =COUNTIFS(Données!E2:E10000, "oui", Données!A2:A10000, "EC", Données!B2:B10000, "lundi") -> 1 | D10: =COUNTIFS(Données!E2:E10000, "non", Données!A2:A10000, "EC", Données!B2:B10000, "lundi") -> 2 | J10: Question 2b : Avez-vous été informé du délai et des modalités nécessaires à sa réalisation ? | K10: =COUNTIFS(Données!M2:M10000, "oui", Données!I2:I10000, "AFE", Données!J2:J10000, "lundi") -> 0 | L10: =COUNTIFS(Données!M2:M10000, "non", Données!I2:I10000, "AFE", Données!J2:J10000, "lundi") -> 0 | R10: Question 2b : Avez-vous été informé du délai et des modalités nécessaires à sa réalisation ? | S10: =COUNTIFS(Données!U2:U10000, "oui", Données!Q2:Q10000, "AS", Données!R2:R10000, "lundi") -> 0 | T10: =COUNTIFS(Données!U2:U10000, "non", Données!Q2:Q10000, "AS", Données!R2:R10000, "lundi") -> 0 | Z10: Question 2b : Avez-vous été informé du délai et des modalités nécessaires à sa réalisation ? | AA10: =COUNTIFS(Données!AC2:AC10000, "oui", Données!Y2:Y10000, "VISAS", Données!Z2:Z10000, "lundi") -> 0 | AB10: =COUNTIFS(Données!AC2:AC10000, "non", Données!Y2:Y10000, "VISAS", Données!Z2:Z10000, "lundi") -> 0
B12: Premier contact avec le Consulat | C12: oui | D12: non | J12: Premier contact avec le Consulat | K12: oui | L12: non | R12: Premier contact avec le Consulat | S12: oui | T12: non | Z12: Premier contact avec le Consulat | AA12: oui | AB12: non
B13: Question 3 : Avez-vous pris contact avec le consulat avant d’effectuer votre démarche ? | C13: =COUNTIFS(Données!F2:F10000, "oui", Données!A2:A10000, "EC", Données!B2:B10000, "lundi") -> 2 | D13: =COUNTIFS(Données!F2:F10000, "non", Données!A2:A10000, "EC", Données!B2:B10000, "lundi") -> 1 | J13: Question 3 : Avez-vous pris contact avec le consulat avant d’effectuer votre démarche ? | K13: =COUNTIFS(Données!N2:N10000, "oui", Données!I2:I10000, "AFE", Données!J2:J10000, "lundi") -> 0 | L13: =COUNTIFS(Données!N2:N10000, "non", Données!I2:I10000, "AFE", Données!J2:J10000, "lundi") -> 0 | R13: Question 3 : Avez-vous pris contact avec le consulat avant d’effectuer votre démarche ? | S13: =COUNTIFS(Données!V2:V10000, "oui", Données!Q2:Q10000, "AS", Données!R2:R10000, "lundi") -> 0 | T13: =COUNTIFS(Données!V2:V10000, "non", Données!Q2:Q10000, "AS", Données!R2:R10000, "lundi") -> 0 | Z13: Question 3 : Avez-vous pris contact avec le consulat avant d’effectuer votre démarche ? | AA13: =COUNTIFS(Données!AD2:AD10000, "oui", Données!Y2:Y10000, "VISAS", Données!Z2:Z10000, "lundi") -> 0 | AB13: =COUNTIFS(Données!AD2:AD10000, "non", Données!Y2:Y10000, "VISAS", Données!Z2:Z10000, "lundi") -> 0
B15: Si OUI, par quels moyens ? (entourez la réponse) : | C15: téléphone | D15: mail | E15: sur place | J15: Si OUI, par quels moyens ? (entourez la réponse) : | K15: téléphone | L15: mail | M15: sur place | R15: Si OUI, par quels moyens ? (entourez la réponse) : | S15: téléphone | T15: mail | U15: sur place | Z15: Si OUI, par quels moyens ? (entourez la réponse) : | AA15: téléphone | AB15: mail | AC15: sur place
C17: =COUNTIFS(Données!G2:G10000, "téléphone", Données!A2:A10000, "EC", Données!B2:B10000, "lundi") -> 1 | D17: =COUNTIFS(Données!G2:G10000, "mail", Données!A2:A10000, "EC", Données!B2:B10000, "lundi") -> 0 | E17: =COUNTIFS(Données!G2:G10000, "sur place", Données!A2:A10000, "EC", Données!B2:B10000, "lundi") -> 8 | K17: =COUNTIFS(Données!O2:O10000, "téléphone", Données!I2:I10000, "AFE", Données!J2:J10000, "lundi") -> 0 | L17: =COUNTIFS(Données!O2:O10000, "mail", Données!I2:I10000, "AFE", Données!J2:J10000, "lundi") -> 0 | M17: =COUNTIFS(Données!O2:O10000, "sur place", Données!I2:I10000, "AFE", Données!J2:J10000, "lundi") -> 0 | S17: =COUNTIFS(Données!W2:W10000, "téléphone", Données!Q2:Q10000, "AS", Données!R2:R10000, "lundi") -> 0 | T17: =COUNTIFS(Données!W2:W10000, "mail", Données!Q2:Q10000, "AS", Données!R2:R10000, "lundi") -> 0 | U17: =COUNTIFS(Données!W2:W10000, "sur place", Données!Q2:Q10000, "AS", Données!R2:R10000, "lundi") -> 0 | AA17: =COUNTIFS(Données!AE2:AE10000, "téléphone", Données!Y2:Y10000, "VISAS", Données!Z2:Z10000, "lundi") -> 0 | AB17: =COUNTIFS(Données!AE2:AE10000, "mail", Données!Y2:Y10000, "VISAS", Données!Z2:Z10000, "lundi") -> 0 | AC17: =COUNTIFS(Données!AE2:AE10000, "sur place", Données!Y2:Y10000, "VISAS", Données!Z2:Z10000, "lundi") -> 0
B18: Question 4 : Quel a été le délai de réponse suite à cette première prise de contact ? | C18: immédiat | D18: moins 24h | E18: entre 24 et 48h | F18: plus de 48h | J18: Question 4 : Quel a été le délai de réponse suite à cette première prise de contact ? | K18: immédiat | L18: moins 24h | M18: entre 24 et 48h | N18: plus de 48h | R18: Question 4 : Quel a été le délai de réponse suite à cette première prise de contact ? | S18: immédiat | T18: moins 24h | U18: entre 24 et 48h | V18: plus de 48h | Z18: Question 4 : Quel a été le délai de réponse suite à cette première prise de contact ? | AA18: immédiat | AB18: moins 24h | AC18: entre 24 et 48h | AD18: plus de 48h
C20: =COUNTIFS(Données!H2:H10000, "immédiat", Données!A2:A10000, "EC", Données!B2:B10000, "lundi") -> 0 | D20: =COUNTIFS(Données!H2:H10000, "entre 24-48h", Données!A2:A10000, "EC", Données!B2:B10000, "lundi") -> 1 | E20: =COUNTIFS(Données!H2:H10000, "entre 24-48h", Données!A2:A10000, "EC", Données!B2:B10000, "lundi") -> 1 | F20: =COUNTIFS(Données!H2:H10000, "plus de 48h", Données!A2:A10000, "EC", Données!B2:B10000, "lundi") -> 1 | K20: =COUNTIFS(Données!P2:P10000, "immédiat", Données!I2:I10000, "AFE", Données!J2:J10000, "lundi") -> 0 | L20: =COUNTIFS(Données!P2:P10000, "entre 24-48h", Données!I2:I10000, "AFE", Données!J2:J10000, "lundi") -> 0 | M20: =COUNTIFS(Données!P2:P10000, "entre 24-48h", Données!I2:I10000, "AFE", Données!J2:J10000, "lundi") -> 0 | N20: =COUNTIFS(Données!P2:P10000, "plus de 48h", Données!I2:I10000, "AFE", Données!J2:J10000, "lundi") -> 0 | S20: =COUNTIFS(Données!X2:X10000, "immédiat", Données!Q2:Q10000, "AS", Données!R2:R10000, "lundi") -> 0 | T20: =COUNTIFS(Données!X2:X10000, "entre 24-48h", Données!Q2:Q10000, "AS", Données!R2:R10000, "lundi") -> 0 | U20: =COUNTIFS(Données!X2:X10000, "entre 24-48h", Données!Q2:Q10000, "AS", Données!R2:R10000, "lundi") -> 0 | V20: =COUNTIFS(Données!X2:X10000, "plus de 48h", Données!Q2:Q10000, "AS", Données!R2:R10000, "lundi") -> 0 | AA20: =COUNTIFS(Données!AF2:AF10000, "immédiat", Données!Y2:Y10000, "VISAS", Données!Z2:Z10000, "lundi") -> 0 | AB20: =COUNTIFS(Données!AF2:AF10000, "entre 24-48h", Données!Y2:Y10000, "VISAS", Données!Z2:Z10000, "lundi") -> 0 | AC20: =COUNTIFS(Données!AF2:AF10000, "entre 24-48h", Données!Y2:Y10000, "VISAS", Données!Z2:Z10000, "lundi") -> 0 | AD20: =COUNTIFS(Données!AF2:AF10000, "plus de 48h", Données!Y2:Y10000, "VISAS", Données!Z2:Z10000, "lundi") -> 0
B21: Question 5 : Quel a été le nombre d’appels nécessaires pour accéder à… | C21: un agent | D21: l’information | J21: Question 5 : Quel a été le nombre d’appels nécessaires pour accéder à… | K21: un agent | L21: l’information | R21: Question 5 : Quel a été le nombre d’appels nécessaires pour accéder à… | S21: un agent | T21: l’information | Z21: Question 5 : Quel a été le nombre d’appels nécessaires pour accéder à… | AA21: un agent | AB21: l’information
C23: =SUMIFS(Données!I:I,Données!A:A,"EC",Données!B:B,"lundi") -> 9 | D23: =SUMIFS(Données!J:J,Données!A:A,"EC",Données!B:B,"lundi") -> 12 | K23: =SUMIFS(Données!Q:Q,Données!I:I,"AFE",Données!J:J,"lundi") -> 0 | L23: =SUMIFS(Données!R:R,Données!I:I,"AFE",Données!J:J,"lundi") -> 0 | S23: =SUMIFS(Données!Y:Y,Données!Q:Q,"AS",Données!R:R,"lundi") -> 0 | T23: =SUMIFS(Données!Z:Z,Données!Q:Q,"AS",Données!R:R,"lundi") -> 0 | AA23: =SUMIFS(Données!AG:AG,Données!Y:Y,"VISAS",Données!Z:Z,"lundi") -> 0 | AB23: =SUMIFS(Données!AH:AH,Données!Y:Y,"VISAS",Données!Z:Z,"lundi") -> 0
B24: Question 6 : In fine, avez-vous été satisfait(e) de la réponse obtenue ? Pour quelles raisons ? | C24: complètement | D24: partiellement | E24: pas du tout | J24: Question 6 : In fine, avez-vous été satisfait(e) de la réponse obtenue ? Pour quelles raisons ? | K24: complètement | L24: partiellement | M24: pas du tout | R24: Question 6 : In fine, avez-vous été satisfait(e) de la réponse obtenue ? Pour quelles raisons ? | S24: complètement | T24: partiellement | U24: pas du tout | Z24: Question 6 : In fine, avez-vous été satisfait(e) de la réponse obtenue ? Pour quelles raisons ? | AA24: complètement | AB24: partiellement | AC24: pas du tout
C26: =COUNTIFS(Données!K2:K10000, "complet", Données!A2:A10000, "EC", Données!B2:B10000, "lundi") -> 3 | D26: =COUNTIFS(Données!K2:K10000, "partiel", Données!A2:A10000, "EC", Données!B2:B10000, "lundi") -> 2 | E26: =COUNTIFS(Données!K2:K10000, "pas du tout", Données!A2:A10000, "EC", Données!B2:B10000, "lundi") -> 2 | K26: =COUNTIFS(Données!S2:S10000, "complet", Données!I2:I10000, "AFE", Données!J2:J10000, "lundi") -> 0 | L26: =COUNTIFS(Données!S2:S10000, "partiel", Données!I2:I10000, "AFE", Données!J2:J10000, "lundi") -> 0 | M26: =COUNTIFS(Données!S2:S10000, "pas du tout", Données!I2:I10000, "AFE", Données!J2:J10000, "lundi") -> 0 | S26: =COUNTIFS(Données!AA2:AA10000, "complet", Données!Q2:Q10000, "AS", Données!R2:R10000, "lundi") -> 0 | T26: =COUNTIFS(Données!AA2:AA10000, "partiel", Données!Q2:Q10000, "AS", Données!R2:R10000, "lundi") -> 0 | U26: =COUNTIFS(Données!AA2:AA10000, "pas du tout", Données!Q2:Q10000, "AS", Données!R2:R10000, "lundi") -> 0 | AA26: =COUNTIFS(Données!AI2:AI10000, "complet", Données!Y2:Y10000, "VISAS", Données!Z2:Z10000, "lundi") -> 0 | AB26: =COUNTIFS(Données!AI2:AI10000, "partiel", Données!Y2:Y10000, "VISAS", Données!Z2:Z10000, "lundi") -> 0 | AC26: =COUNTIFS(Données!AI2:AI10000, "pas du tout", Données!Y2:Y10000, "VISAS", Données!Z2:Z10000, "lundi") -> 0
B27: Communication internet | C27: oui | D27: non | E27: ne sais pas | J27: Communication internet | K27: oui | L27: non | M27: ne sais pas | R27: Communication internet | S27: oui | T27: non | U27: ne sais pas | Z27: Communication internet | AA27: oui | AB27: non | AC27: ne sais pas
B28: Question 7 : Avez-vous connaissance du site internet ? | C28: =COUNTIFS(Données!L2:L10000, "oui", Données!A2:A10000, "EC", Données!B2:B10000, "lundi") -> 3 | D28: =COUNTIFS(Données!L2:L10000, "non", Données!A2:A10000, "EC", Données!B2:B10000, "lundi") -> 4 | E28: _ | J28: Question 7 : Avez-vous connaissance du site internet ? | K28: =COUNTIFS(Données!T2:T10000, "oui", Données!I2:I10000, "AFE", Données!J2:J10000, "lundi") -> 0 | L28: =COUNTIFS(Données!T2:T10000, "non", Données!I2:I10000, "AFE", Données!J2:J10000, "lundi") -> 0 | M28: _ | R28: Question 7 : Avez-vous connaissance du site internet ? | S28: =COUNTIFS(Données!AB2:AB10000, "oui", Données!Q2:Q10000, "AS", Données!R2:R10000, "lundi") -> 0 | T28: =COUNTIFS(Données!AB2:AB10000, "non", Données!Q2:Q10000, "AS", Données!R2:R10000, "lundi") -> 0 | U28: _ | Z28: Question 7 : Avez-vous connaissance du site internet ? | AA28: =COUNTIFS(Données!AJ2:AJ10000, "oui", Données!Y2:Y10000, "VISAS", Données!Z2:Z10000, "lundi") -> 0 | AB28: =COUNTIFS(Données!AJ2:AJ10000, "non", Données!Y2:Y10000, "VISAS", Données!Z2:Z10000, "lundi") -> 0 | AC28: _
B30: Question 7b : Avez-vous connaissanc de la page FB ? | C30: =COUNTIFS(Données!M2:M10000, "oui", Données!A2:A10000, "EC", Données!B2:B10000, "lundi") -> 1 | D30: =COUNTIFS(Données!M2:M10000, "non", Données!A2:A10000, "EC", Données!B2:B10000, "lundi") -> 6 | E30: _ | J30: Question 7b : Avez-vous connaissanc de la page FB ? | K30: =COUNTIFS(Données!U2:U10000, "oui", Données!I2:I10000, "AFE", Données!J2:J10000, "lundi") -> 0 | L30: =COUNTIFS(Données!U2:U10000, "non", Données!I2:I10000, "AFE", Données!J2:J10000, "lundi") -> 0 | M30: _ | R30: Question 7b : Avez-vous connaissanc de la page FB ? | S30: =COUNTIFS(Données!AC2:AC10000, "oui", Données!Q2:Q10000, "AS", Données!R2:R10000, "lundi") -> 0 | T30: =COUNTIFS(Données!AC2:AC10000, "non", Données!Q2:Q10000, "AS", Données!R2:R10000, "lundi") -> 0 | U30: _ | Z30: Question 7b : Avez-vous connaissanc de la page FB ? | AA30: =COUNTIFS(Données!AK2:AK10000, "oui", Données!Y2:Y10000, "VISAS", Données!Z2:Z10000, "lundi") -> 0 | AB30: =COUNTIFS(Données!AK2:AK10000, "non", Données!Y2:Y10000, "VISAS", Données!Z2:Z10000, "lundi") -> 0 | AC30: _
B32: Question 8 : Votre démarche était-elle réalisable sur internet ? | C32: =COUNTIFS(Données!N2:N10000, "oui", Données!A2:A10000, "EC", Données!B2:B10000, "lundi") -> 3 | D32: =COUNTIFS(Données!N2:N10000, "non", Données!A2:A10000, "EC", Données!B2:B10000, "lundi") -> 1 | E32: =COUNTIFS(Données!N2:N10000, "ne sais pas", Données!A2:A10000, "EC", Données!B2:B10000, "lundi") -> 3 | J32: Question 8 : Votre démarche était-elle réalisable sur internet ? | K32: =COUNTIFS(Données!V2:V10000, "oui", Données!I2:I10000, "AFE", Données!J2:J10000, "lundi") -> 0 | L32: =COUNTIFS(Données!V2:V10000, "non", Données!I2:I10000, "AFE", Données!J2:J10000, "lundi") -> 0 | M32: =COUNTIFS(Données!V2:V10000, "ne sais pas", Données!I2:I10000, "AFE", Données!J2:J10000, "lundi") -> 0 | R32: Question 8 : Votre démarche était-elle réalisable sur internet ? | S32: =COUNTIFS(Données!AD2:AD10000, "oui", Données!Q2:Q10000, "AS", Données!R2:R10000, "lundi") -> 0 | T32: =COUNTIFS(Données!AD2:AD10000, "non", Données!Q2:Q10000, "AS", Données!R2:R10000, "lundi") -> 0 | U32: =COUNTIFS(Données!AD2:AD10000, "ne sais pas", Données!Q2:Q10000, "AS", Données!R2:R10000, "lundi") -> 0 | Z32: Question 8 : Votre démarche était-elle réalisable sur internet ? | AA32: =COUNTIFS(Données!AL2:AL10000, "oui", Données!Y2:Y10000, "VISAS", Données!Z2:Z10000, "lundi") -> 0 | AB32: =COUNTIFS(Données!AL2:AL10000, "non", Données!Y2:Y10000, "VISAS", Données!Z2:Z10000, "lundi") -> 0 | AC32: =COUNTIFS(Données!AL2:AL10000, "ne sais pas", Données!Y2:Y10000, "VISAS", Données!Z2:Z10000, "lundi") -> 0
B34: Si OUI, en avez-vous été informé(e) ? | C34: =COUNTIFS(Données!M2:M10000, "oui", Données!A2:A10000, "EC", Données!B2:B10000, "lundi") -> 1 | D34: =COUNTIFS(Données!N2:N10000, "non", Données!A2:A10000, "EC", Données!B2:B10000, "lundi") -> 1 | E34: _ | J34: Si OUI, en avez-vous été informé(e) ? | K34: =COUNTIFS(Données!U2:U10000, "oui", Données!I2:I10000, "AFE", Données!J2:J10000, "lundi") -> 0 | L34: =COUNTIFS(Données!V2:V10000, "non", Données!I2:I10000, "AFE", Données!J2:J10000, "lundi") -> 0 | M34: _ | R34: Si OUI, en avez-vous été informé(e) ? | S34: =COUNTIFS(Données!AC2:AC10000, "oui", Données!Q2:Q10000, "AS", Données!R2:R10000, "lundi") -> 0 | T34: =COUNTIFS(Données!AD2:AD10000, "non", Données!Q2:Q10000, "AS", Données!R2:R10000, "lundi") -> 0 | U34: _ | Z34: Si OUI, en avez-vous été informé(e) ? | AA34: =COUNTIFS(Données!AK2:AK10000, "oui", Données!Y2:Y10000, "VISAS", Données!Z2:Z10000, "lundi") -> 0 | AB34: =COUNTIFS(Données!AL2:AL10000, "non", Données!Y2:Y10000, "VISAS", Données!Z2:Z10000, "lundi") -> 0 | AC34: _
B36: Question 9 : Réaliserez-vous la prochaine fois votre démarche sur internet ? | C36: =COUNTIFS(Données!O2:O10000, "oui", Données!A2:A10000, "EC", Données!B2:B10000, "lundi") -> 2 | D36: =COUNTIFS(Données!O2:O10000, "non", Données!A2:A10000, "EC", Données!B2:B10000, "lundi") -> 1 | E36: _ | J36: Question 9 : Réaliserez-vous la prochaine fois votre démarche sur internet ? | K36: =COUNTIFS(Données!W2:W10000, "oui", Données!I2:I10000, "AFE", Données!J2:J10000, "lundi") -> 0 | L36: =COUNTIFS(Données!W2:W10000, "non", Données!I2:I10000, "AFE", Données!J2:J10000, "lundi") -> 0 | M36: _ | R36: Question 9 : Réaliserez-vous la prochaine fois votre démarche sur internet ? | S36: =COUNTIFS(Données!AE2:AE10000, "oui", Données!Q2:Q10000, "AS", Données!R2:R10000, "lundi") -> 0 | T36: =COUNTIFS(Données!AE2:AE10000, "non", Données!Q2:Q10000, "AS", Données!R2:R10000, "lundi") -> 0 | U36: _ | Z36: Question 9 : Réaliserez-vous la prochaine fois votre démarche sur internet ? | AA36: =COUNTIFS(Données!AM2:AM10000, "oui", Données!Y2:Y10000, "VISAS", Données!Z2:Z10000, "lundi") -> 0 | AB36: =COUNTIFS(Données!AM2:AM10000, "non", Données!Y2:Y10000, "VISAS", Données!Z2:Z10000, "lundi") -> 0 | AC36: _
B38: Accueil au consulat | C38: très satisfaisant | D38: satisfaisant | E38: moy. satisfaisant | F38: pas du tout satisfaisant | J38: Accueil au consulat | K38: très satisfaisant | L38: satisfaisant | M38: moy. satisfaisant | N38: pas du tout satisfaisant | R38: Accueil au consulat | S38: très satisfaisant | T38: satisfaisant | U38: moy. satisfaisant | V38: pas du tout satisfaisant | Z38: Accueil au consulat | AA38: très satisfaisant | AB38: satisfaisant | AC38: moy. satisfaisant | AD38: pas du tout satisfaisant
B39: Question 10 : Comment qualifieriez-vous l’accueil qui vous a été réservé ? | J39: Question 10 : Comment qualifieriez-vous l’accueil qui vous a été réservé ? | R39: Question 10 : Comment qualifieriez-vous l’accueil qui vous a été réservé ? | Z39: Question 10 : Comment qualifieriez-vous l’accueil qui vous a été réservé ?
B40: Contrôle sécurité | C40: =COUNTIFS(Données!R2:R10000, "très satisfaisant", Données!A2:A10000, "EC", Données!B2:B10000, "lundi") -> 1 | D40: =COUNTIFS(Données!R2:R10000, "satisfaisant", Données!A2:A10000, "EC", Données!B2:B10000, "lundi") -> 0 | E40: =COUNTIFS(Données!S2:S10000, "moy. satisfaisant", Données!A2:A10000, "EC", Données!B2:B10000, "lundi") -> 1 | F40: =COUNTIFS(Données!R2:R10000, "pas du tout satisfaisant", Données!A2:A10000, "EC", Données!B2:B10000, "lundi") -> 1 | J40: Contrôle sécurité | K40: =COUNTIFS(Données!Z2:Z10000, "très satisfaisant", Données!I2:I10000, "AFE", Données!J2:J10000, "lundi") -> 0 | L40: =COUNTIFS(Données!Z2:Z10000, "satisfaisant", Données!I2:I10000, "AFE", Données!J2:J10000, "lundi") -> 0 | M40: =COUNTIFS(Données!AA2:AA10000, "moy. satisfaisant", Données!I2:I10000, "AFE", Données!J2:J10000, "lundi") -> 0 | N40: =COUNTIFS(Données!Z2:Z10000, "pas du tout satisfaisant", Données!I2:I10000, "AFE", Données!J2:J10000, "lundi") -> 0 | R40: Contrôle sécurité | S40: =COUNTIFS(Données!AH2:AH10000, "très satisfaisant", Données!Q2:Q10000, "AS", Données!R2:R10000, "lundi") -> 0 | T40: =COUNTIFS(Données!AH2:AH10000, "satisfaisant", Données!Q2:Q10000, "AS", Données!R2:R10000, "lundi") -> 0 | U40: =COUNTIFS(Données!AI2:AI10000, "moy. satisfaisant", Données!Q2:Q10000, "AS", Données!R2:R10000, "lundi") -> 0 | V40: =COUNTIFS(Données!AH2:AH10000, "pas du tout satisfaisant", Données!Q2:Q10000, "AS", Données!R2:R10000, "lundi") -> 0 | Z40: Contrôle sécurité | AA40: =COUNTIFS(Données!AP2:AP10000, "très satisfaisant", Données!Y2:Y10000, "VISAS", Données!Z2:Z10000, "lundi") -> 0 | AB40: =COUNTIFS(Données!AP2:AP10000, "satisfaisant", Données!Y2:Y10000, "VISAS", Données!Z2:Z10000, "lundi") -> 0 | AC40: =COUNTIFS(Données!AQ2:AQ10000, "moy. satisfaisant", Données!Y2:Y10000, "VISAS", Données!Z2:Z10000, "lundi") -> 0 | AD40: =COUNTIFS(Données!AP2:AP10000, "pas du tout satisfaisant", Données!Y2:Y10000, "VISAS", Données!Z2:Z10000, "lundi") -> 0
B41: Réception (accueil) | C41: =COUNTIFS(Données!S2:S10000, "très satisfaisant", Données!A2:A10000, "EC", Données!B2:B10000, "lundi") -> 1 | D41: =COUNTIFS(Données!S2:S10000, "satisfaisant", Données!A2:A10000, "EC", Données!B2:B10000, "lundi") -> 0 | E41: =COUNTIFS(Données!S2:S10000, "moy. satisfaisant", Données!A2:A10000, "EC", Données!B2:B10000, "lundi") -> 1 | F41: =COUNTIFS(Données!S2:S10000, "pas du tout satisfaisant", Données!A2:A10000, "EC", Données!B2:B10000, "lundi") -> 1 | J41: Réception (accueil) | K41: =COUNTIFS(Données!AA2:AA10000, "très satisfaisant", Données!I2:I10000, "AFE", Données!J2:J10000, "lundi") -> 0 | L41: =COUNTIFS(Données!AA2:AA10000, "satisfaisant", Données!I2:I10000, "AFE", Données!J2:J10000, "lundi") -> 0 | M41: =COUNTIFS(Données!AA2:AA10000, "moy. satisfaisant", Données!I2:I10000, "AFE", Données!J2:J10000, "lundi") -> 0 | N41: =COUNTIFS(Données!AA2:AA10000, "pas du tout satisfaisant", Données!I2:I10000, "AFE", Données!J2:J10000, "lundi") -> 0 | R41: Réception (accueil) | S41: =COUNTIFS(Données!AI2:AI10000, "très satisfaisant", Données!Q2:Q10000, "AS", Données!R2:R10000, "lundi") -> 0 | T41: =COUNTIFS(Données!AI2:AI10000, "satisfaisant", Données!Q2:Q10000, "AS", Données!R2:R10000, "lundi") -> 0 | U41: =COUNTIFS(Données!AI2:AI10000, "moy. satisfaisant", Données!Q2:Q10000, "AS", Données!R2:R10000, "lundi") -> 0 | V41: =COUNTIFS(Données!AI2:AI10000, "pas du tout satisfaisant", Données!Q2:Q10000, "AS", Données!R2:R10000, "lundi") -> 0 | Z41: Réception (accueil) | AA41: =COUNTIFS(Données!AQ2:AQ10000, "très satisfaisant", Données!Y2:Y10000, "VISAS", Données!Z2:Z10000, "lundi") -> 0 | AB41: =COUNTIFS(Données!AQ2:AQ10000, "satisfaisant", Données!Y2:Y10000, "VISAS", Données!Z2:Z10000, "lundi") -> 0 | AC41: =COUNTIFS(Données!AQ2:AQ10000, "moy. satisfaisant", Données!Y2:Y10000, "VISAS", Données!Z2:Z10000, "lundi") -> 0 | AD41: =COUNTIFS(Données!AQ2:AQ10000, "pas du tout satisfaisant", Données!Y2:Y10000, "VISAS", Données!Z2:Z10000, "lundi") -> 0
B42: Agent du bureau | C42: =COUNTIFS(Données!T2:T10000, "très satisfaisant", Données!A2:A10000, "EC", Données!B2:B10000, "lundi") -> 1 | D42: =COUNTIFS(Données!T2:T10000, "satisfaisant", Données!A2:A10000, "EC", Données!B2:B10000, "lundi") -> 0 | E42: =COUNTIFS(Données!T2:T10000, "moy. satisfaisant", Données!A2:A10000, "EC", Données!B2:B10000, "lundi") -> 1 | F42: =COUNTIFS(Données!T2:T10000, "pas du tout satisfaisant", Données!A2:A10000, "EC", Données!B2:B10000, "lundi") -> 1 | J42: Agent du bureau | K42: =COUNTIFS(Données!AB2:AB10000, "très satisfaisant", Données!I2:I10000, "AFE", Données!J2:J10000, "lundi") -> 0 | L42: =COUNTIFS(Données!AB2:AB10000, "satisfaisant", Données!I2:I10000, "AFE", Données!J2:J10000, "lundi") -> 0 | M42: =COUNTIFS(Données!AB2:AB10000, "moy. satisfaisant", Données!I2:I10000, "AFE", Données!J2:J10000, "lundi") -> 0 | N42: =COUNTIFS(Données!AB2:AB10000, "pas du tout satisfaisant", Données!I2:I10000, "AFE", Données!J2:J10000, "lundi") -> 0 | R42: Agent du bureau | S42: =COUNTIFS(Données!AJ2:AJ10000, "très satisfaisant", Données!Q2:Q10000, "AS", Données!R2:R10000, "lundi") -> 0 | T42: =COUNTIFS(Données!AJ2:AJ10000, "satisfaisant", Données!Q2:Q10000, "AS", Données!R2:R10000, "lundi") -> 0 | U42: =COUNTIFS(Données!AJ2:AJ10000, "moy. satisfaisant", Données!Q2:Q10000, "AS", Données!R2:R10000, "lundi") -> 0 | V42: =COUNTIFS(Données!AJ2:AJ10000, "pas du tout satisfaisant", Données!Q2:Q10000, "AS", Données!R2:R10000, "lundi") -> 0 | Z42: Agent du bureau | AA42: =COUNTIFS(Données!AR2:AR10000, "très satisfaisant", Données!Y2:Y10000, "VISAS", Données!Z2:Z10000, "lundi") -> 0 | AB42: =COUNTIFS(Données!AR2:AR10000, "satisfaisant", Données!Y2:Y10000, "VISAS", Données!Z2:Z10000, "lundi") -> 0 | AC42: =COUNTIFS(Données!AR2:AR10000, "moy. satisfaisant", Données!Y2:Y10000, "VISAS", Données!Z2:Z10000, "lundi") -> 0 | AD42: =COUNTIFS(Données!AR2:AR10000, "pas du tout satisfaisant", Données!Y2:Y10000, "VISAS", Données!Z2:Z10000, "lundi") -> 0
B43: Délai d'attente | C43: oui | D43: non | J43: Délai d'attente | K43: oui | L43: non | R43: Délai d'attente | S43: oui | T43: non | Z43: Délai d'attente | AA43: oui | AB43: non
B44: Question 11 : Aviez-vous pris rendez-vous ? | C44: =COUNTIFS(Données!U2:U10000, "oui", Données!A2:A10000, "EC", Données!B2:B10000, "lundi") -> 2 | D44: =COUNTIFS(Données!U2:U10000, "oui", Données!A2:A10000, "EC", Données!B2:B10000, "lundi") -> 2 | J44: Question 11 : Aviez-vous pris rendez-vous ? | K44: =COUNTIFS(Données!AC2:AC10000, "oui", Données!I2:I10000, "AFE", Données!J2:J10000, "lundi") -> 0 | L44: =COUNTIFS(Données!AC2:AC10000, "oui", Données!I2:I10000, "AFE", Données!J2:J10000, "lundi") -> 0 | R44: Question 11 : Aviez-vous pris rendez-vous ? | S44: =COUNTIFS(Données!AK2:AK10000, "oui", Données!Q2:Q10000, "AS", Données!R2:R10000, "lundi") -> 0 | T44: =COUNTIFS(Données!AK2:AK10000, "oui", Données!Q2:Q10000, "AS", Données!R2:R10000, "lundi") -> 0 | Z44: Question 11 : Aviez-vous pris rendez-vous ? | AA44: =COUNTIFS(Données!AS2:AS10000, "oui", Données!Y2:Y10000, "VISAS", Données!Z2:Z10000, "lundi") -> 0 | AB44: =COUNTIFS(Données!AS2:AS10000, "oui", Données!Y2:Y10000, "VISAS", Données!Z2:Z10000, "lundi") -> 0
B45: Si OUI, vous avez été reçu « … » ? | C45: A l'heure | D45: En retard | J45: Si OUI, vous avez été reçu « … » ? | K45: A l'heure | L45: En retard | R45: Si OUI, vous avez été reçu « … » ? | S45: A l'heure | T45: En retard | Z45: Si OUI, vous avez été reçu « … » ? | AA45: A l'heure | AB45: En retard
C47: =COUNTIFS(Données!V2:V10000, "A l'heure", Données!A2:A10000, "EC", Données!B2:B10000, "lundi") -> 2 | D47: =COUNTIFS(Données!V2:V10000, "En retard", Données!A2:A10000, "EC", Données!B2:B10000, "lundi") -> 1 | K47: =COUNTIFS(Données!AD2:AD10000, "A l'heure", Données!I2:I10000, "AFE", Données!J2:J10000, "lundi") -> 0 | L47: =COUNTIFS(Données!AD2:AD10000, "En retard", Données!I2:I10000, "AFE", Données!J2:J10000, "lundi") -> 0 | S47: =COUNTIFS(Données!AL2:AL10000, "A l'heure", Données!Q2:Q10000, "AS", Données!R2:R10000, "lundi") -> 0 | T47: =COUNTIFS(Données!AL2:AL10000, "En retard", Données!Q2:Q10000, "AS", Données!R2:R10000, "lundi") -> 0 | AA47: =COUNTIFS(Données!AT2:AT10000, "A l'heure", Données!Y2:Y10000, "VISAS", Données!Z2:Z10000, "lundi") -> 0 | AB47: =COUNTIFS(Données!AT2:AT10000, "En retard", Données!Y2:Y10000, "VISAS", Données!Z2:Z10000, "lundi") -> 0
B48: Si en EN RETARD, vous estimez votre temps d’attente compris entre : | C48: 0-15 | D48: 15-30 | E48: 30-60 | F48: plus 60 | J48: Si en EN RETARD, vous estimez votre temps d’attente compris entre : | K48: 0-15 | L48: 15-30 | M48: 30-60 | N48: plus 60 | R48: Si en EN RETARD, vous estimez votre temps d’attente compris entre : | S48: 0-15 | T48: 15-30 | U48: 30-60 | V48: plus 60 | Z48: Si en EN RETARD, vous estimez votre temps d’attente compris entre : | AA48: 0-15 | AB48: 15-30 | AC48: 30-60 | AD48: plus 60
C50: =COUNTIFS(Données!W2:W10000, "0-15", Données!A2:A10000, "EC", Données!B2:B10000, "lundi") -> 0 | D50: =COUNTIFS(Données!W2:W10000, "15-30", Données!A2:A10000, "EC", Données!B2:B10000, "lundi") -> 2 | E50: =COUNTIFS(Données!W2:W10000, "30-60", Données!A2:A10000, "EC", Données!B2:B10000, "lundi") -> 1 | F50: =COUNTIFS(Données!W2:W10000, "plus 60", Données!A2:A10000, "EC", Données!B2:B10000, "lundi") -> 0 | K50: =COUNTIFS(Données!AE2:AE10000, "0-15", Données!I2:I10000, "AFE", Données!J2:J10000, "lundi") -> 0 | L50: =COUNTIFS(Données!AE2:AE10000, "15-30", Données!I2:I10000, "AFE", Données!J2:J10000, "lundi") -> 0 | M50: =COUNTIFS(Données!AE2:AE10000, "30-60", Données!I2:I10000, "AFE", Données!J2:J10000, "lundi") -> 0 | N50: =COUNTIFS(Données!AE2:AE10000, "plus 60", Données!I2:I10000, "AFE", Données!J2:J10000, "lundi") -> 0 | S50: =COUNTIFS(Données!AM2:AM10000, "0-15", Données!Q2:Q10000, "AS", Données!R2:R10000, "lundi") -> 0 | T50: =COUNTIFS(Données!AM2:AM10000, "15-30", Données!Q2:Q10000, "AS", Données!R2:R10000, "lundi") -> 0 | U50: =COUNTIFS(Données!AM2:AM10000, "30-60", Données!Q2:Q10000, "AS", Données!R2:R10000, "lundi") -> 0 | V50: =COUNTIFS(Données!AM2:AM10000, "plus 60", Données!Q2:Q10000, "AS", Données!R2:R10000, "lundi") -> 0 | AA50: =COUNTIFS(Données!AU2:AU10000, "0-15", Données!Y2:Y10000, "VISAS", Données!Z2:Z10000, "lundi") -> 0 | AB50: =COUNTIFS(Données!AU2:AU10000, "15-30", Données!Y2:Y10000, "VISAS", Données!Z2:Z10000, "lundi") -> 0 | AC50: =COUNTIFS(Données!AU2:AU10000, "30-60", Données!Y2:Y10000, "VISAS", Données!Z2:Z10000, "lundi") -> 0 | AD50: =COUNTIFS(Données!AU2:AU10000, "plus 60", Données!Y2:Y10000, "VISAS", Données!Z2:Z10000, "lundi") -> 0
B51: Question 12 : Vous n’aviez PAS RENDEZ-VOUS, à combien estimez-vous votre temps d’attente ? | C51: 0-15 | D51: 15-30 | E51: 30-60 | F51: plus 60 | J51: Question 12 : Vous n’aviez PAS RENDEZ-VOUS, à combien estimez-vous votre temps d’attente ? | K51: 0-15 | L51: 15-30 | M51: 30-60 | N51: plus 60 | R51: Question 12 : Vous n’aviez PAS RENDEZ-VOUS, à combien estimez-vous votre temps d’attente ? | S51: 0-15 | T51: 15-30 | U51: 30-60 | V51: plus 60 | Z51: Question 12 : Vous n’aviez PAS RENDEZ-VOUS, à combien estimez-vous votre temps d’attente ? | AA51: 0-15 | AB51: 15-30 | AC51: 30-60 | AD51: plus 60
C53: =COUNTIFS(Données!X2:X10000, "0-15", Données!A2:A10000, "EC", Données!B2:B10000, "lundi") -> 1 | D53: =COUNTIFS(Données!X2:X10000, "15-30", Données!A2:A10000, "EC", Données!B2:B10000, "lundi") -> 0 | E53: =COUNTIFS(Données!X2:X10000, "30-60", Données!A2:A10000, "EC", Données!B2:B10000, "lundi") -> 0 | F53: =COUNTIFS(Données!X2:X10000, "plus 60", Données!A2:A10000, "EC", Données!B2:B10000, "lundi") -> 0 | K53: =COUNTIFS(Données!AF2:AF10000, "0-15", Données!I2:I10000, "AFE", Données!J2:J10000, "lundi") -> 0 | L53: =COUNTIFS(Données!AF2:AF10000, "15-30", Données!I2:I10000, "AFE", Données!J2:J10000, "lundi") -> 0 | M53: =COUNTIFS(Données!AF2:AF10000, "30-60", Données!I2:I10000, "AFE", Données!J2:J10000, "lundi") -> 0 | N53: =COUNTIFS(Données!AF2:AF10000, "plus 60", Données!I2:I10000, "AFE", Données!J2:J10000, "lundi") -> 0 | S53: =COUNTIFS(Données!AN2:AN10000, "0-15", Données!Q2:Q10000, "AS", Données!R2:R10000, "lundi") -> 0 | T53: =COUNTIFS(Données!AN2:AN10000, "15-30", Données!Q2:Q10000, "AS", Données!R2:R10000, "lundi") -> 0 | U53: =COUNTIFS(Données!AN2:AN10000, "30-60", Données!Q2:Q10000, "AS", Données!R2:R10000, "lundi") -> 0 | V53: =COUNTIFS(Données!AN2:AN10000, "plus 60", Données!Q2:Q10000, "AS", Données!R2:R10000, "lundi") -> 0 | AA53: =COUNTIFS(Données!AV2:AV10000, "0-15", Données!Y2:Y10000, "VISAS", Données!Z2:Z10000, "lundi") -> 0 | AB53: =COUNTIFS(Données!AV2:AV10000, "15-30", Données!Y2:Y10000, "VISAS", Données!Z2:Z10000, "lundi") -> 0 | AC53: =COUNTIFS(Données!AV2:AV10000, "30-60", Données!Y2:Y10000, "VISAS", Données!Z2:Z10000, "lundi") -> 0 | AD53: =COUNTIFS(Données!AV2:AV10000, "plus 60", Données!Y2:Y10000, "VISAS", Données!Z2:Z10000, "lundi") -> 0
B54: Sécurité | C54: oui | D54: non | J54: Sécurité | K54: oui | L54: non | R54: Sécurité | S54: oui | T54: non | Z54: Sécurité | AA54: oui | AB54: non
B55: 1. Connaissez-vous le nom et les coordonnées de votre ilotier ? | C55: =COUNTIFS(Données!Z2:Z10000, "oui", Données!A2:A10000, "EC", Données!B2:B10000, "lundi") -> 2 | D55: =COUNTIFS(Données!Z2:Z10000, "non", Données!A2:A10000, "EC", Données!B2:B10000, "lundi") -> 1 | J55: 1. Connaissez-vous le nom et les coordonnées de votre ilotier ? | K55: =COUNTIFS(Données!AH2:AH10000, "oui", Données!I2:I10000, "AFE", Données!J2:J10000, "lundi") -> 0 | L55: =COUNTIFS(Données!AH2:AH10000, "non", Données!I2:I10000, "AFE", Données!J2:J10000, "lundi") -> 0 | R55: 1. Connaissez-vous le nom et les coordonnées de votre ilotier ? | S55: =COUNTIFS(Données!AP2:AP10000, "oui", Données!Q2:Q10000, "AS", Données!R2:R10000, "lundi") -> 0 | T55: =COUNTIFS(Données!AP2:AP10000, "non", Données!Q2:Q10000, "AS", Données!R2:R10000, "lundi") -> 0 | Z55: 1. Connaissez-vous le nom et les coordonnées de votre ilotier ? | AA55: =COUNTIFS(Données!AX2:AX10000, "oui", Données!Y2:Y10000, "VISAS", Données!Z2:Z10000, "lundi") -> 0 | AB55: =COUNTIFS(Données!AX2:AX10000, "non", Données!Y2:Y10000, "VISAS", Données!Z2:Z10000, "lundi") -> 0
B56: 2. Savez-vous quel est son rôle ? | C56: =COUNTIFS(Données!AA2:AA10000, "oui", Données!A2:A10000, "EC", Données!B2:B10000, "lundi") -> 2 | D56: =COUNTIFS(Données!AA2:AA10000, "non", Données!A2:A10000, "EC", Données!B2:B10000, "lundi") -> 1 | J56: 2. Savez-vous quel est son rôle ? | K56: =COUNTIFS(Données!AI2:AI10000, "oui", Données!I2:I10000, "AFE", Données!J2:J10000, "lundi") -> 0 | L56: =COUNTIFS(Données!AI2:AI10000, "non", Données!I2:I10000, "AFE", Données!J2:J10000, "lundi") -> 0 | R56: 2. Savez-vous quel est son rôle ? | S56: =COUNTIFS(Données!AQ2:AQ10000, "oui", Données!Q2:Q10000, "AS", Données!R2:R10000, "lundi") -> 0 | T56: =COUNTIFS(Données!AQ2:AQ10000, "non", Données!Q2:Q10000, "AS", Données!R2:R10000, "lundi") -> 0 | Z56: 2. Savez-vous quel est son rôle ? | AA56: =COUNTIFS(Données!AY2:AY10000, "oui", Données!Y2:Y10000, "VISAS", Données!Z2:Z10000, "lundi") -> 0 | AB56: =COUNTIFS(Données!AY2:AY10000, "non", Données!Y2:Y10000, "VISAS", Données!Z2:Z10000, "lundi") -> 0
B57: ARIANE | C57: =COUNTIFS(Données!AB2:AB10000, "oui", Données!A2:A10000, "EC", Données!B2:B10000, "lundi") -> 1 | D57: =COUNTIFS(Données!AB2:AB10000, "non", Données!A2:A10000, "EC", Données!B2:B10000, "lundi") -> 2 | J57: ARIANE | K57: =COUNTIFS(Données!AJ2:AJ10000, "oui", Données!I2:I10000, "AFE", Données!J2:J10000, "lundi") -> 0 | L57: =COUNTIFS(Données!AJ2:AJ10000, "non", Données!I2:I10000, "AFE", Données!J2:J10000, "lundi") -> 0 | R57: ARIANE | S57: =COUNTIFS(Données!AR2:AR10000, "oui", Données!Q2:Q10000, "AS", Données!R2:R10000, "lundi") -> 0 | T57: =COUNTIFS(Données!AR2:AR10000, "non", Données!Q2:Q10000, "AS", Données!R2:R10000, "lundi") -> 0 | Z57: ARIANE | AA57: =COUNTIFS(Données!AZ2:AZ10000, "oui", Données!Y2:Y10000, "VISAS", Données!Z2:Z10000, "lundi") -> 0 | AB57: =COUNTIFS(Données!AZ2:AZ10000, "non", Données!Y2:Y10000, "VISAS", Données!Z2:Z10000, "lundi") -> 0
B58: Evaluation globale | C58: très satisfaisant | D58: satisfaisant | E58: moy. satisfaisant | F58: pas du tout satisfaisant | J58: Evaluation globale | K58: très satisfaisant | L58: satisfaisant | M58: moy. satisfaisant | N58: pas du tout satisfaisant | R58: Evaluation globale | S58: très satisfaisant | T58: satisfaisant | U58: moy. satisfaisant | V58: pas du tout satisfaisant | Z58: Evaluation globale | AA58: très satisfaisant | AB58: satisfaisant | AC58: moy. satisfaisant | AD58: pas du tout satisfaisant
C60: =COUNTIFS(Données!AC2:AC10000, "très satisfaisant", Données!A2:A10000, "EC", Données!B2:B10000, "lundi") -> 1 | D60: =COUNTIFS(Données!AC2:AC10000, "satisfaisant", Données!A2:A10000, "EC", Données!B2:B10000, "lundi") -> 0 | E60: =COUNTIFS(Données!AC2:AC10000, "moy. satisfaisant", Données!A2:A10000, "EC", Données!B2:B10000, "lundi") -> 1 | F60: =COUNTIFS(Données!AC2:AC10000, "pas du tout satisfaisant", Données!A2:A10000, "EC", Données!B2:B10000, "lundi") -> 1 | K60: =COUNTIFS(Données!AK2:AK10000, "très satisfaisant", Données!I2:I10000, "AFE", Données!J2:J10000, "lundi") -> 0 | L60: =COUNTIFS(Données!AK2:AK10000, "satisfaisant", Données!I2:I10000, "AFE", Données!J2:J10000, "lundi") -> 0 | M60: =COUNTIFS(Données!AK2:AK10000, "moy. satisfaisant", Données!I2:I10000, "AFE", Données!J2:J10000, "lundi") -> 0 | N60: =COUNTIFS(Données!AK2:AK10000, "pas du tout satisfaisant", Données!I2:I10000, "AFE", Données!J2:J10000, "lundi") -> 0 | S60: =COUNTIFS(Données!AS2:AS10000, "très satisfaisant", Données!Q2:Q10000, "AS", Données!R2:R10000, "lundi") -> 0 | T60: =COUNTIFS(Données!AS2:AS10000, "satisfaisant", Données!Q2:Q10000, "AS", Données!R2:R10000, "lundi") -> 0 | U60: =COUNTIFS(Données!AS2:AS10000, "moy. satisfaisant", Données!Q2:Q10000, "AS", Données!R2:R10000, "lundi") -> 0 | V60: =COUNTIFS(Données!AS2:AS10000, "pas du tout satisfaisant", Données!Q2:Q10000, "AS", Données!R2:R10000, "lundi") -> 0 | AA60: =COUNTIFS(Données!BA2:BA10000, "très satisfaisant", Données!Y2:Y10000, "VISAS", Données!Z2:Z10000, "lundi") -> 0 | AB60: =COUNTIFS(Données!BA2:BA10000, "satisfaisant", Données!Y2:Y10000, "VISAS", Données!Z2:Z10000, "lundi") -> 0 | AC60: =COUNTIFS(Données!BA2:BA10000, "moy. satisfaisant", Données!Y2:Y10000, "VISAS", Données!Z2:Z10000, "lundi") -> 0 | AD60: =COUNTIFS(Données!BA2:BA10000, "pas du tout satisfaisant", Données!Y2:Y10000, "VISAS", Données!Z2:Z10000, "lundi") -> 0
...

Sheet Synthèse

Sheet DANGER
A1: oui | B1: oui | D1: A l'heure | F1: AFE | G1: 0-15 | H1: 15-30 | I1: 30-60 | J1: plus de 60 | K1: lundi
A2: non | B2: non | D2: En retard | F2: EC | K2: mardi
B3: ne sais pas | F3: AS | K3: mercredi
A4: téléphone | F4: VISAS | K4: jeudi
A5: mail | K5: vendredi
A6: sur place
A8: immédiat | B8: moins 24h | C8: entre 24-48h | D8: plus de 48h
A10: complet | B10: partiel | C10: pas du tout
A12: 1 | B12: 2 | C12: 3 | D12: 4 | E12: 5 | F12: 6 | G12: 7 | H12: 8 | I12: 9 | J12: 10 | K12: 11 | L12: 12 | M12: 13 | N12: 14 | O12: 15
B15: très satisfaisant
B16: satisfaisant
B17: moy. satisfaisant
B18: pas du tout satisfaisant
