Workbook
Name att: DANGER!$G$1:$J$1
Name attente: DANGER!$A$12:$O$12
Name choix: Données!$E$2:$E$3
Name delai: DANGER!$D$8,DANGER!$A$8,DANGER!$B$8,DANGER!$C$8
Name deux: DANGER!$A$1:$A$2
Name heure: DANGER!$D$1:$D$2
Name inter: DANGER!$B$1:$B$3
Name kjl: Tableau7[[#Headers],[Q9]]
Name liste: Données!$E$2,Données!$E$3
Name moyen: DANGER!$A$4,DANGER!$A$5,DANGER!$A$6
Name moyens: DANGER!$B$7,DANGER!$A$4,DANGER!$A$5,DANGER!$A$6
Name ok: DANGER!$B$15:$B$18
Name okay: DANGER!$B$15:$C$18
Name question: Données!$E$2:$E$3
Name questions: DANGER!$A$1:$A$2
Name satisfaction: DANGER!$A$10,DANGER!$B$10,DANGER!$C$10
Name semaine: DANGER!$K$1:$K$5
Name service: DANGER!$F$1:$F$4

Sheet Données
A1: Q1 SERVICE | B1: JOUR | C1: Q2 | D1: SI NON | E1: Q2b | F1: Q3 | G1: SI OUI | H1: Q4 | I1: Q5 | J1: Q5b | K1: Q6 | L1: Q7 | M1: Q7b | N1: Q8 | O1: Q9 | P1: SI NON2 | Q1: Q10 | R1: CONTRÔLE | S1: RECEPTION | T1: BUREAU | U1: Q11 | V1: SI OUI2 | W1: SI retard | X1: Q12 | Y1: Q13 | Z1: Securité 1 | AA1: Securité 2 | AB1: Securité 3 | AC1: GLOBAL
A2: EC | B2: lundi | C2: non | D2: non | E2: oui | F2: non | G2: sur place | H2: entre 24-48h | I2: 4 | J2: 4 | K2: complet | L2: non | M2: non | N2: ne sais pas | O2: oui | R2: très satisfaisant | S2: très satisfaisant | T2: très satisfaisant | U2: oui | V2: En retard | W2: 15-30 | X2: plus de 60 | Y2: oui | Z2: non | AA2: oui | AB2: non | AC2: moy. satisfaisant
A3: AFE | B3: lundi | C3: non | D3: non | E3: non | F3: non | G3: mail | H3: moins 24h | I3: 8 | J3: 3 | K3: pas du tout | L3: non | M3: oui | N3: oui | O3: non | R3: satisfaisant | S3: satisfaisant | T3: satisfaisant | U3: non | V3: En retard | W3: plus de 60 | X3: 30-60 | Y3: non | Z3: non | AA3: non | AB3: oui | AC3: satisfaisant
A4: EC | B4: lundi | C4: oui | D4: oui | E4: non | F4: oui | G4: téléphone | H4: plus de 48h | I4: 4 | J4: 6 | K4: complet | L4: non | M4: non | N4: non | O4: non | R4: moy. satisfaisant | S4: moy. satisfaisant | T4: moy. satisfaisant | U4: oui | V4: A l'heure | W4: 15-30 | X4: 0-15 | Y4: non | Z4: oui | AA4: non | AB4: oui | AC4: pas du tout satisfaisant
A5: EC | B5: lundi | C5: non | D5: oui | E5: non | F5: oui | G5: sur place | H5: moins 24h | I5: 1 | J5: 2 | K5: pas du tout | L5: non | M5: oui | N5: ne sais pas | O5: oui | R5: pas du tout satisfaisant | S5: pas du tout satisfaisant | T5: pas du tout satisfaisant | U5: non | V5: A l'heure | W5: 30-60 | X5: plus de 60 | Y5: non | Z5: oui | AA5: oui | AB5: non | AC5: très satisfaisant
A6: EC | B6: lundi | C6: oui | G6: sur place | K6: partiel | L6: non | M6: non | N6: oui
A7: EC | B7: lundi | C7: oui | G7: sur place | K7: complet | L7: oui | M7: non | N7: oui
A8: EC | B8: lundi | C8: oui | G8: sur place | K8: partiel | L8: oui | M8: non | N8: oui
A9: EC | B9: lundi | C9: non | G9: sur place | K9: pas du tout | L9: oui | M9: non | N9: ne sais pas
A10: EC | B10: lundi | C10: non | G10: sur place
A11: EC | B11: lundi | C11: non | G11: sur place

Sheet Analyse
A3: LUNDI | B3: ETAT-CIVIL | C3: REPONSES | I3: LUNDI | J3: AFE | K3: REPONSES | Q3: LUNDI | R3: AS | S3: REPONSES | Y3: LUNDI | Z3: VISAS | AA3: REPONSES
B5: Votre démarche | C5: oui | D5: non | J5: Votre démarche | K5: oui | L5: non | R5: Votre démarche | S5: oui | T5: non | Z5: Votre démarche | AA5: oui | AB5: non
B6: Question 2 : Avez-vous pu arriver à terme de la démarche que vous venez d’entreprendre ? | C6: =COUNTIFS(Données!C2:C10000, "oui", Données!A2:A10000, "EC", Données!B2:B10000, "lundi") -> 4 | D6: =COUNTIFS(Données!C2:C10000, "non", Données!A2:A10000, "EC", Données!B2:B10000, "lundi") -> 5 | J6: Question 2 : Avez-vous pu arriver à terme de la démarche que vous venez d’entreprendre ? | K6: =COUNTIFS(Données!K2:K10000, "oui", Données!I2:I10000, "AFE", Données!J2:J10000, "lundi") -> 0 | L6: =COUNTIFS(Données!K2:K10000, "non", Données!I2:I10000, "AFE", Données!J2:J10000, "lundi") -> 0 | R6: Question 2 : Avez-vous pu arriver à terme de la démarche que vous venez d’entreprendre ? | S6: =COUNTIFS(Données!S2:S10000, "oui", Données!Q2:Q10000, "AS", Données!R2:R10000, "lundi") -> 0 | T6: =COUNTIFS(Données!S2:S10000, "non", Données!Q2:Q10000, "AS", Données!R2:R10000, "lundi") -> 0 | Z6: Question 2 : Avez-vous pu arriver à terme de la démarche que vous venez d’entreprendre ? | AA6: =COUNTIFS(Données!AA2:AA10000, "oui", Données!Y2:Y10000, "VISAS", Données!Z2:Z10000, "lundi") -> 0 | AB6: =COUNTIFS(Données!AA2:AA10000, "non", Données!Y2:Y10000, "VISAS", Données!Z2:Z10000, "lundi") -> 0
B8: Si NON, savez-vous pourquoi ? | C8: =COUNTIFS(Données!D2:D10000, "oui", Données!A2:A10000, "EC", Données!B2:B10000, "lundi") -> 2 | D8: =COUNTIFS(Données!D2:D10000, "non", Données!A2:A10000, "EC", Données!B2:B10000, "lundi") -> 1 | J8: Si NON, savez-vous pourquoi ? | K8: =COUNTIFS(Données!L2:L10000, "oui", Données!I2:I10000, "AFE", Données!J2:J10000, "lundi") -> 0 | L8: =COUNTIFS(Données!L2:L10000, "non", Données!I2:I10000, "AFE", Données!J2:J10000, "lundi") -> 0 | R8: Si NON, savez-vous pourquoi ? | S8: =COUNTIFS(Données!T2:T10000, "oui", Données!Q2:Q10000, "AS", Données!R2:R10000, "lundi") -> 0 | T8: =COUNTIFS(Données!T2:T10000, "non", Données!Q2:Q10000, "AS", Données!R2:R10000, "lundi") -> 0 | Z8: Si NON, savez-vous pourquoi ? | AA8: =COUNTIFS(Données!AB2:AB10000, "oui", Données!Y2:Y10000, "VISAS", Données!Z2:Z10000, "lundi") -> 0 | AB8: =COUNTIFS(Données!AB2:AB10000, "non", Données!Y2:Y10000, "VISAS", Données!Z2:Z10000, "lundi") -> 0
B10: Question 2b : Avez-vous été informé du délai et des modalités nécessaires à sa réalisation ? | C10: =COUNTIFS(Données!E2:E10000, "oui", Données!A2:A10000, "EC", Données!B2:B10000, "lundi") -> 1 | D10: =COUNTIFS(Données!E2:E10000, "non", Données!A2:A10000, "EC", Données!B2:B10000, "lundi") -> 2 | J10: Question 2b : Avez-vous été informé du délai et des modalités nécessaires à sa réalisation ? | K10: =COUNTIFS(Données!M2:M10000, "oui", Données!I2:I10000, "AFE", Données!J2:J10000, "lundi") -> 0 | L10: =COUNTIFS(Données!M2:M10000, "non", Données!I2:I10000, "AFE", Données!J2:J10000, "lundi") -> 0 | R10: Question 2b : Avez-vous été informé du délai et des modalités nécessaires à sa réalisation ? | S10: =COUNTIFS(Données!U2:U10000, "oui", Données!Q2:Q10000, "AS", Données!R2:R10000, "lundi") -> 0 | T10: =COUNTIFS(Données!U2:U10000, "non", Données!Q2:Q10000, "AS", Données!R2:R10000, "lundi") -> 0 | Z10: Question 2b : Avez-vous été informé du délai et des modalités nécessaires à sa réalisation ? | AA10: =COUNTIFS(Données!AC2:AC10000, "oui", Données!Y2:Y10000, "VISAS", Données!Z2:Z10000, "lundi") -> 0 | AB10: =COUNTIFS(Données!AC2:AC10000, "non", Données!Y2:Y10000, "VISAS", Données!Z2:Z10000, "lundi") -> 0
B12: Premier contact avec le Consulat | C12: oui | D12: non | J12: Premier contact avec le Consulat | K12: oui | L12: non | R12: Premier contact avec le Consulat | S12: oui | T12: non | Z12: Premier contact avec le Consulat | AA12: oui | AB12: non
B13: Question 3 : Avez-vous pris contact avec le consulat avant d’effectuer votre démarche ? | C13: =COUNTIFS(Données!F2:F10000, "oui", Données!A2:A10000, "EC", Données!B2:B10000, "lundi") -> 2 | D13: =COUNTIFS(Données!F2:F10000, "non", Données!A2:A10000, "EC", Données!B2:B10000, "lundi") -> 1 | J13: Question 3 : Avez-vous pris contact avec le consulat avant d’effectuer votre démarche ? | K13: =COUNTIFS(Données!N2:N10000, "oui", Données!I2:I10000, "AFE", Données!J2:J10000, "lundi") -> 0 | L13: =COUNTIFS(Données!N2:N10000, "non", Données!I2:I10000, "AFE", Données!J2:J10000, "lundi") -> 0 | R13: Question 3 : Avez-vous pris contact avec le consulat avant d’effectuer votre démarche ? | S13: =COUNTIFS(Données!V2:V10000, "oui", Données!Q2:Q10000, "AS", Données!R2:R10000, "lundi") -> 0 | T13: =COUNTIFS(Données!V2:V10000, "non", Données!Q2:Q10000, "AS", Données!R2:R10000, "lundi") -> 0 | Z13: Question 3 : Avez-vous pris contact avec le consulat avant d’effectuer votre démarche ? | AA13: =COUNTIFS(Données!AD2:AD10000, "oui", Données!Y2:Y10000, "VISAS", Données!Z2:Z10000, "lundi") -> 0 | AB13: =COUNTIFS(Données!AD2:AD10000, "non", Données!Y2:Y10000, "VISAS", Données!Z2:Z10000, "lundi") -> 0
B15: Si OUI, par quels moyens ? (entourez la réponse) : | C15: téléphone | D15: mail | E15: sur place | J15: Si OUI, par quels moyens ? (entourez la réponse) : | K15: téléphone | L15: mail | M15: sur place | R15: Si OUI, par quels moyens ? (entourez la réponse) : | S15: téléphone | T15: mail | U15: sur place | Z15: Si OUI, par quels moyens ? (entourez la réponse) : | AA15: téléphone | AB15: mail | AC15: sur place
C17: =COUNTIFS(Données!G2:G10000, "téléphone", Données!A2:A10000, "EC", Données!B2:B10000, "lundi") -> 1 | D17: =COUNTIFS(Données!G2:G10000, "mail", Données!A2:A10000, "EC", Données!B2:B10000, "lundi") -> 0 | E17: =COUNTIFS(Données!G2:G10000, "sur place", Données!A2:A10000, "EC", Données!B2:B10000, "lundi") -> 8 | K17: =COUNTIFS(Données!O2:O10000, "téléphone", Données!I2:I10000, "AFE", Données!J2:J10000, "lundi") -> 0 | L17: =COUNTIFS(Données!O2:O10000, "mail", Données!I2:I10000, "AFE", Données!J2:J10000, "lundi") -> 0 | M17: =COUNTIFS(Données!O2:O10000, "sur place", Données!I2:I10000, "AFE", Données!J2:J10000, "lundi") -> 0 | S17: =COUNTIFS(Données!W2:W10000, "téléphone", Données!Q2:Q10000, "AS", Données!R2:R10000, "lundi") -> 0 | T17: =COUNTIFS(Données!W2:W10000, "mail", Données!Q2:Q10000, "AS", Données!R2:R10000, "lundi") -> 0 | U17: =COUNTIFS(Données!W2:W10000, "sur place", Données!Q2:Q10000, "AS", Données!R2:R10000, "lundi") -> 0 | AA17: =COUNTIFS(Données!AE2:AE10000, "téléphone", Données!Y2:Y10000, "VISAS", Données!Z2:Z10000, "lundi") -> 0 | AB17: =COUNTIFS(Données!AE2:AE10000, "mail", Données!Y2:Y10000, "VISAS", Données!Z2:Z10000, "lundi") -> 0 | AC17: =COUNTIFS(Données!AE2:AE10000, "sur place", Données!Y2:Y10000, "VISAS", Données!Z2:Z10000, "lundi") -> 0
B18: Question 4 : Quel a été le délai de réponse suite à cette première prise de contact ? | C18: immédiat | D18: moins 24h | E18: entre 24 et 48h | F18: plus de 48h | J18: Question 4 : Quel a été le délai de réponse suite à cette première prise de contact ? | K18: immédiat | L18: moins 24h | M18: entre 24 et 48h | N18: plus de 48h | R18: Question 4 : Quel a été le délai de réponse suite à cette première prise de contact ? | S18: immédiat | T18: moins 24h | U18: entre 24 et 48h | V18: plus de 48h | Z18: Question 4 : Quel a été le délai de réponse suite à cette première prise de contact ? | AA18: immédiat | AB18: moins 24h | AC18: entre 24 et 48h | AD18: plus de 48h
C20: =COUNTIFS(Données!H2:H10000, "immédiat", Données!A2:A10000, "EC", Données!B2:B10000, "lundi") -> 0 | D20: =COUNTIFS(Données!H2:H10000, "entre 24-48h", Données!A2:A10000, "EC", Données!B2:B10000, "lundi") -> 1 | E20: =COUNTIFS(Données!H2:H10000, "entre 24-48h", Données!A2:A10000, "EC", Données!B2:B10000, "lundi") -> 1 | F20: =COUNTIFS(Données!H2:H10000, "plus de 48h", Données!A2:A10000, "EC", Données!B2:B10000, "lundi") -> 1 | K20: =COUNTIFS(Données!P2:P10000, "immédiat", Données!I2:I10000, "AFE", Données!J2:J10000, "lundi") -> 0 | L20: =COUNTIFS(Données!P2:P10000, "entre 24-48h", Données!I2:I10000, "AFE", Données!J2:J10000, "lundi") -> 0 | M20: =COUNTIFS(Données!P2:P10000, "entre 24-48h", Données!I2:I10000, "AFE", Données!J2:J10000, "lundi") -> 0 | N20: =COUNTIFS(Données!P2:P10000, "plus de 48h", Données!I2:I10000, "AFE", Données!J2:J10000, "lundi") -> 0 | S20: =COUNTIFS(Données!X2:X10000, "immédiat", Données!Q2:Q10000, "AS", Données!R2:R10000, "lundi") -> 0 | T20: =COUNTIFS(Données!X2:X10000, "entre 24-48h", Données!Q2:Q10000, "AS", Données!R2:R10000, "lundi") -> 0 | U20: =COUNTIFS(Données!X2:X10000, "entre 24-48h", Données!Q2:Q10000, "AS", Données!R2:R10000, "lundi") -> 0 | V20: =COUNTIFS(Données!X2:X10000, "plus de 48h", Données!Q2:Q10000, "AS", Données!R2:R10000, "lundi") -> 0 | AA20: =COUNTIFS(Données!AF2:AF10000, "immédiat", Données!Y2:Y10000, "VISAS", Données!Z2:Z10000, "lundi") -> 0 | AB20: =COUNTIFS(Données!AF2:AF10000, "entre 24-48h", Données!Y2:Y10000, "VISAS", Données!Z2:Z10000, "lundi") -> 0 | AC20: =COUNTIFS(Données!AF2:AF10000, "entre 24-48h", Données!Y2:Y10000, "VISAS", Données!Z2:Z10000, "lundi") -> 0 | AD20: =COUNTIFS(Données!AF2:AF10000, "plus de 48h", Données!Y2:Y10000, "VISAS", Données!Z2:Z10000, "lundi") -> 0
B21: Question 5 : Quel a été le nombre d’appels nécessaires pour accéder à… | C21: un agent | D21: l’information | J21: Question 5 : Quel a été le nombre d’appels nécessaires pour accéder à… | K21: un agent | L21: l’information | R21: Question 5 : Quel a été le nombre d’appels nécessaires pour accéder à… | S21: un agent | T21: l’information | Z21: Question 5 : Quel a été le nombre d’appels nécessaires pour accéder à… | AA21: un agent | AB21: l’information
C23: =SUMIFS(Données!I:I,Données!A:A,"EC",Données!B:B,"lundi") -> 9 | D23: =SUMIFS(Données!J:J,Données!A:A,"EC",Données!B:B,"lundi") -> 12 | K23: =SUMIFS(Données!Q:Q,Données!I:I,"AFE",Données!J:J,"lundi") -> 0 | L23: =SUMIFS(Données!R:R,Données!I:I,"AFE",Données!J:J,"lundi") -> 0 | S23: =SUMIFS(Données!Y:Y,Données!Q:Q,"AS",Données!R:R,"lundi") -> 0 | T23: =SUMIFS(Données!Z:Z,Données!Q:Q,"AS",Données!R:R,"lundi") -> 0 | AA23: =SUMIFS(Données!AG:AG,Données!Y:Y,"VISAS",Données!Z:Z,"lundi") -> 0 | AB23: =SUMIFS(Données!AH:AH,Données!Y:Y,"VISAS",Données!Z:Z,"lundi") -> 0
B24: Question 6 : In fine, avez-vous été satisfait(e) de la réponse obtenue ? Pour quelles raisons ? | C24: complètement | D24: partiellement | E24: pas du tout | J24: Question 6 : In fine, avez-vous été satisfait(e) de la réponse obtenue ? Pour quelles raisons ? | K24: complètement | L24: partiellement | M24: pas du tout | R24: Question 6 : In fine, avez-vous été satisfait(e) de la réponse obtenue ? Pour quelles raisons ? | S24: complètement | T24: partiellement | U24: pas du tout | Z24: Question 6 : In fine, avez-vous été satisfait(e) de la réponse obtenue ? Pour quelles raisons ? | AA24: complètement | AB24: partiellement | AC24: pas du tout
C26: =COUNTIFS(Données!K2:K10000, "complet", Données!A2:A10000, "EC", Données!B2:B10000, "lundi") -> 3 | D26: =COUNTIFS(Données!K2:K10000, "partiel", Données!A2:A10000, "EC", Données!B2:B10000, "lundi") -> 2 | E26: =COUNTIFS(Données!K2:K10000, "pas du tout", Données!A2:A10000, "EC", Données!B2:B10000, "lundi") -> 2 | K26: =COUNTIFS(Données!S2:S10000, "complet", Données!I2:I10000, "AFE", Données!J2:J10000, "lundi") -> 0 | L26: =COUNTIFS(Données!S2:S10000, "partiel", Données!I2:I10000, "AFE", Données!J2:J10000, "lundi") -> 0 | M26: =COUNTIFS(Données!S2:S10000, "pas du tout", Données!I2:I10000, "AFE", Données!J2:J10000, "lundi") -> 0 | S26: =COUNTIFS(Données!AA2:AA10000, "complet", Données!Q2:Q10000, "AS", Données!R2:R10000, "lundi") -> 0 | T26: =COUNTIFS(Données!AA2:AA10000, "partiel", Données!Q2:Q10000, "AS", Données!R2:R10000, "lundi") -> 0 | U26: =COUNTIFS(Données!AA2:AA10000, "pas du tout", Données!Q2:Q10000, "AS", Données!R2:R10000, "lundi") -> 0 | AA26: =COUNTIFS(Données!AI2:AI10000, "complet", Données!Y2:Y10000, "VISAS", Données!Z2:Z10000, "lundi") -> 0 | AB26: =COUNTIFS(Données!AI2:AI10000, "partiel", Données!Y2:Y10000, "VISAS", Données!Z2:Z10000, "lundi") -> 0 | AC26: =COUNTIFS(Données!AI2:AI10000, "pas du tout", Données!Y2:Y10000, "VISAS", Données!Z2:Z10000, "lundi") -> 0
B27: Communication internet | C27: oui | D27: non | E27: ne sais pas | J27: Communication internet | K27: oui | L27: non | M27: ne sais pas | R27: Communication internet | S27: oui | T27: non | U27: ne sais pas | Z27: Communication internet | AA27: oui | AB27: non | AC27: ne sais pas
B28: Question 7 : Avez-vous connaissance du site internet ? | C28: =COUNTIFS(Données!L2:L10000, "oui", Données!A2:A10000, "EC", Données!B2:B10000, "lundi") -> 3 | D28: =COUNTIFS(Données!L2:L10000, "non", Données!A2:A10000, "EC", Données!B2:B10000, "lundi") -> 4 | E28: _ | J28: Question 7 : Avez-vous connaissance du site internet ? | K28: =COUNTIFS(Données!T2:T10000, "oui", Données!I2:I10000, "AFE", Données!J2:J10000, "lundi") -> 0 | L28: =COUNTIFS(Données!T2:T10000, "non", Données!I2:I10000, "AFE", Données!J2:J10000, "lundi") -> 0 | M28: _ | R28: Question 7 : Avez-vous connaissance du site internet ? | S28: =COUNTIFS(Données!AB2:AB10000, "oui", Données!Q2:Q10000, "AS", Données!R2:R10000, "lundi") -> 0 | T28: =COUNTIFS(Données!AB2:AB10000, "non", Données!Q2:Q10000, "AS", Données!R2:R10000, "lundi") -> 0 | U28: _ | Z28: Question 7 : Avez-vous connaissance du site internet ? | AA28: =COUNTIFS(Données!AJ2:AJ10000, "oui", Données!Y2:Y10000, "VISAS", Données!Z2:Z10000, "lundi") -> 0 | AB28: =COUNTIFS(Données!AJ2:AJ10000, "non", Données!Y2:Y10000, "VISAS", Données!Z2:Z10000, "lundi") -> 0 | AC28: _
B30: Question 7b : Avez-vous connaissanc de la page FB ? | C30: =COUNTIFS(Données!M2:M10000, "oui", Données!A2:A10000, "EC", Données!B2:B10000, "lundi") -> 1 | D30: =COUNTIFS(Données!M2:M10000, "non", Données!A2:A10000, "EC", Données!B2:B10000, "lundi") -> 6 | E30: _ | J30: Question 7b : Avez-vous connaissanc de la page FB ? | K30: =COUNTIFS(Données!U2:U10000, "oui", Données!I2:I10000, "AFE", Données!J2:J10000, "lundi") -> 0 | L30: =COUNTIFS(Données!U2:U10000, "non", Données!I2:I10000, "AFE", Données!J2:J10000, "lundi") -> 0 | M30: _ | R30: Question 7b : Avez-vous connaissanc de la page FB ? | S30: =COUNTIFS(Données!AC2:AC10000, "oui", Données!Q2:Q10000, "AS", Données!R2:R10000, "lundi") -> 0 | T30: =COUNTIFS(Données!AC2:AC10000, "non", Données!Q2:Q10000, "AS", Données!R2:R10000, "lundi") -> 0 | U30: _ | Z30: Question 7b : Avez-vous connaissanc de la page FB ? | AA30: =COUNTIFS(Données!AK2:AK10000, "oui", Données!Y2:Y10000, "VISAS", Données!Z2:Z10000, "lundi") -> 0 | AB30: =COUNTIFS(Données!AK2:AK10000, "non", Données!Y2:Y10000, "VISAS", Données!Z2:Z10000, "lundi") -> 0 | AC30: _
B32: Question 8 : Votre démarche était-elle réalisable sur internet ? | C32: =COUNTIFS(Données!N2:N10000, "oui", Données!A2:A10000, "EC", Données!B2:B10000, "lundi") -> 3 | D32: =COUNTIFS(Données!N2:N10000, "non", Données!A2:A10000, "EC", Données!B2:B10000, "lundi") -> 1 | E32: =COUNTIFS(Données!N2:N10000, "ne sais pas", Données!A2:A10000, "EC", Données!B2:B10000, "lundi") -> 3 | J32: Question 8 : Votre démarche était-elle réalisable sur internet ? | K32: =COUNTIFS(Données!V2:V10000, "oui", Données!I2:I10000, "AFE", Données!J2:J10000, "lundi") -> 0 | L32: =COUNTIFS(Données!V2:V10000, "non", Données!I2:I10000, "AFE", Données!J2:J10000, "lundi") -> 0 | M32: =COUNTIFS(Données!V2:V10000, "ne sais pas", Données!I2:I10000, "AFE", Données!J2:J10000, "lundi") -> 0 | R32: Question 8 : Votre démarche était-elle réalisable sur internet ? | S32: =COUNTIFS(Données!AD2:AD10000, "oui", Données!Q2:Q10000, "AS", Données!R2:R10000, "lundi") -> 0 | T32: =COUNTIFS(Données!AD2:AD10000, "non", Données!Q2:Q10000, "AS", Données!R2:R10000, "lundi") -> 0 | U32: =COUNTIFS(Données!AD2:AD10000, "ne sais pas", Données!Q2:Q10000, "AS", Données!R2:R10000, "lundi") -> 0 | Z32: Question 8 : Votre démarche était-elle réalisable sur internet ? | AA32: =COUNTIFS(Données!AL2:AL10000, "oui", Données!Y2:Y10000, "VISAS", Données!Z2:Z10000, "lundi") -> 0 | AB32: =COUNTIFS(Données!AL2:AL10000, "non", Données!Y2:Y10000, "VISAS", Données!Z2:Z10000, "lundi") -> 0 | AC32: =COUNTIFS(Données!AL2:AL10000, "ne sais pas", Données!Y2:Y10000, "VISAS", Données!Z2:Z10000, "lundi") -> 0
B34: Si OUI, en avez-vous été informé(e) ? | C34: =COUNTIFS(Données!M2:M10000, "oui", Données!A2:A10000, "EC", Données!B2:B10000, "lundi") -> 1 | D34: =COUNTIFS(Données!N2:N10000, "non", Données!A2:A10000, "EC", Données!B2:B10000, "lundi") -> 1 | E34: _ | J34: Si OUI, en avez-vous été informé(e) ? | K34: =COUNTIFS(Données!U2:U10000, "oui", Données!I2:I10000, "AFE", Données!J2:J10000, "lundi") -> 0 | L34: =COUNTIFS(Données!V2:V10000, "non", Données!I2:I10000, "AFE", Données!J2:J10000, "lundi") -> 0 | M34: _ | R34: Si OUI, en avez-vous été informé(e) ? | S34: =COUNTIFS(Données!AC2:AC10000, "oui", Données!Q2:Q10000, "AS", Données!R2:R10000, "lundi") -> 0 | T34: =COUNTIFS(Données!AD2:AD10000, "non", Données!Q2:Q10000, "AS", Données!R2:R10000, "lundi") -> 0 | U34: _ | Z34: Si OUI, en avez-vous été informé(e) ? | AA34: =COUNTIFS(Données!AK2:AK10000, "oui", Données!Y2:Y10000, "VISAS", Données!Z2:Z10000, "lundi") -> 0 | AB34: =COUNTIFS(Données!AL2:AL10000, "non", Données!Y2:Y10000, "VISAS", Données!Z2:Z10000, "lundi") -> 0 | AC34: _
B36: Question 9 : Réaliserez-vous la prochaine fois votre démarche sur internet ? | C36: =COUNTIFS(Données!O2:O10000, "oui", Données!A2:A10000, "EC", Données!B2:B10000, "lundi") -> 2 | D36: =COUNTIFS(Données!O2:O10000, "non", Données!A2:A10000, "EC", Données!B2:B10000, "lundi") -> 1 | E36: _ | J36: Question 9 : Réaliserez-vous la prochaine fois votre démarche sur internet ? | K36: =COUNTIFS(Données!W2:W10000, "oui", Données!I2:I10000, "AFE", Données!J2:J10000, "lundi") -> 0 | L36: =COUNTIFS(Données!W2:W10000, "non", Données!I2:I10000, "AFE", Données!J2:J10000, "lundi") -> 0 | M36: _ | R36: Question 9 : Réaliserez-vous la prochaine fois votre démarche sur internet ? | S36: =COUNTIFS(Données!AE2:AE10000, "oui", Données!Q2:Q10000, "AS", Données!R2:R10000, "lundi") -> 0 | T36: =COUNTIFS(Données!AE2:AE10000, "non", Données!Q2:Q10000, "AS", Données!R2:R10000, "lundi") -> 0 | U36: _ | Z36: Question 9 : Réaliserez-vous la prochaine fois votre démarche sur internet ? | AA36: =COUNTIFS(Données!AM2:AM10000, "oui", Données!Y2:Y10000, "VISAS", Données!Z2:Z10000, "lundi") -> 0 | AB36: =COUNTIFS(Données!AM2:AM10000, "non", Données!Y2:Y10000, "VISAS", Données!Z2:Z10000, "lundi") -> 0 | AC36: _
B38: Accueil au consulat | C38: très satisfaisant | D38: satisfaisant | E38: moy. satisfaisant | F38: pas du tout satisfaisant | J38: Accueil au consulat | K38: très satisfaisant | L38: satisfaisant | M38: moy. satisfaisant | N38: pas du tout satisfaisant | R38: Accueil au consulat | S38: très satisfaisant | T38: satisfaisant | U38: moy. satisfaisant | V38: pas du tout satisfaisant | Z38: Accueil au consulat | AA38: très satisfaisant | AB38: satisfaisant | AC38: moy. satisfaisant | AD38: pas du tout satisfaisant
B39: Question 10 : Comment qualifieriez-vous l’accueil qui vous a été réservé ? | J39: Question 10 : Comment qualifieriez-vous l’accueil qui vous a été réservé ? | R39: Question 10 : Comment qualifieriez-vous l’accueil qui vous a été réservé ? | Z39: Question 10 : Comment qualifieriez-vous l’accueil qui vous a été réservé ?
B40: Contrôle sécurité | C40: =COUNTIFS(Données!R2:R10000, "très satisfaisant", Données!A2:A10000, "EC", Données!B2:B10000, "lundi") -> 1 | D40: =COUNTIFS(Données!R2:R10000, "satisfaisant", Données!A2:A10000, "EC", Données!B2:B10000, "lundi") -> 0 | E40: =COUNTIFS(Données!S2:S10000, "moy. satisfaisant", Données!A2:A10000, "EC", Données!B2:B10000, "lundi") -> 1 | F40: =COUNTIFS(Données!R2:R10000, "pas du tout satisfaisant", Données!A2:A10000, "EC", Données!B2:B10000, "lundi") -> 1 | J40: Contrôle sécurité | K40: =COUNTIFS(Données!Z2:Z10000, "très satisfaisant", Données!I2:I10000, "AFE", Données!J2:J10000, "lundi") -> 0 | L40: =COUNTIFS(Données!Z2:Z10000, "satisfaisant", Données!I2:I10000, "AFE", Données!J2:J10000, "lundi") -> 0 | M40: =COUNTIFS(Données!AA2:AA10000, "moy. satisfaisant", Données!I2:I10000, "AFE", Données!J2:J10000, "lundi") -> 0 | N40: =COUNTIFS(Données!Z2:Z10000, "pas du tout satisfaisant", Données!I2:I10000, "AFE", Données!J2:J10000, "lundi") -> 0 | R40: Contrôle sécurité | S40: =COUNTIFS(Données!AH2:AH10000, "très satisfaisant", Données!Q2:Q10000, "AS", Données!R2:R10000, "lundi") -> 0 | T40: =COUNTIFS(Données!AH2:AH10000, "satisfaisant", Données!Q2:Q10000, "AS", Données!R2:R10000, "lundi") -> 0 | U40: =COUNTIFS(Données!AI2:AI10000, "moy. satisfaisant", Données!Q2:Q10000, "AS", Données!R2:R10000, "lundi") -> 0 | V40: =COUNTIFS(Données!AH2:AH10000, "pas du tout satisfaisant", Données!Q2:Q10000, "AS", Données!R2:R10000, "lundi") -> 0 | Z40: Contrôle sécurité | AA40: =COUNTIFS(Données!AP2:AP10000, "très satisfaisant", Données!Y2:Y10000, "VISAS", Données!Z2:Z10000, "lundi") -> 0 | AB40: =COUNTIFS(Données!AP2:AP10000, "satisfaisant", Données!Y2:Y10000, "VISAS", Données!Z2:Z10000, "lundi") -> 0 | AC40: =COUNTIFS(Données!AQ2:AQ10000, "moy. satisfaisant", Données!Y2:Y10000, "VISAS", Données!Z2:Z10000, "lundi") -> 0 | AD40: =COUNTIFS(Données!AP2:AP10000, "pas du tout satisfaisant", Données!Y2:Y10000, "VISAS", Données!Z2:Z10000, "lundi") -> 0
B41: Réception (accueil) | C41: =COUNTIFS(Données!S2:S10000, "très satisfaisant", Données!A2:A10000, "EC", Données!B2:B10000, "lundi") -> 1 | D41: =COUNTIFS(Données!S2:S10000, "satisfaisant", Données!A2:A10000, "EC", Données!B2:B10000, "lundi") -> 0 | E41: =COUNTIFS(Données!S2:S10000, "moy. satisfaisant", Données!A2:A10000, "EC", Données!B2:B10000, "lundi") -> 1 | F41: =COUNTIFS(Données!S2:S10000, "pas du tout satisfaisant", Données!A2:A10000, "EC", Données!B2:B10000, "lundi") -> 1 | J41: Réception (accueil) | K41: =COUNTIFS(Données!AA2:AA10000, "très satisfaisant", Données!I2:I10000, "AFE", Données!J2:J10000, "lundi") -> 0 | L41: =COUNTIFS(Données!AA2:AA10000, "satisfaisant", Données!I2:I10000, "AFE", Données!J2:J10000, "lundi") -> 0 | M41: =COUNTIFS(Données!AA2:AA10000, "moy. satisfaisant", Données!I2:I10000, "AFE", Données!J2:J10000, "lundi") -> 0 | N41: =COUNTIFS(Données!AA2:AA10000, "pas du tout satisfaisant", Données!I2:I10000, "AFE", Données!J2:J10000, "lundi") -> 0 | R41: Réception (accueil) | S41: =COUNTIFS(Données!AI2:AI10000, "très satisfaisant", Données!Q2:Q10000, "AS", Données!R2:R10000, "lundi") -> 0 | T41: =COUNTIFS(Données!AI2:AI10000, "satisfaisant", Données!Q2:Q10000, "AS", Données!R2:R10000, "lundi") -> 0 | U41: =COUNTIFS(Données!AI2:AI10000, "moy. satisfaisant", Données!Q2:Q10000, "AS", Données!R2:R10000, "lundi") -> 0 | V41: =COUNTIFS(Données!AI2:AI10000, "pas du tout satisfaisant", Données!Q2:Q10000, "AS", Données!R2:R10000, "lundi") -> 0 | Z41: Réception (accueil) | AA41: =COUNTIFS(Données!AQ2:AQ10000, "très satisfaisant", Données!Y2:Y10000, "VISAS", Données!Z2:Z10000, "lundi") -> 0 | AB41: =COUNTIFS(Données!AQ2:AQ10000, "satisfaisant", Données!Y2:Y10000, "VISAS", Données!Z2:Z10000, "lundi") -> 0 | AC41: =COUNTIFS(Données!AQ2:AQ10000, "moy. satisfaisant", Données!Y2:Y10000, "VISAS", Données!Z2:Z10000, "lundi") -> 0 | AD41: =COUNTIFS(Données!AQ2:AQ10000, "pas du tout satisfaisant", Données!Y2:Y10000, "VISAS", Données!Z2:Z10000, "lundi") -> 0
B42: Agent du bureau | C42: =COUNTIFS(Données!T2:T10000, "très satisfaisant", Données!A2:A10000, "EC", Données!B2:B10000, "lundi") -> 1 | D42: =COUNTIFS(Données!T2:T10000, "satisfaisant", Données!A2:A10000, "EC", Données!B2:B10000, "lundi") -> 0 | E42: =COUNTIFS(Données!T2:T10000, "moy. satisfaisant", Données!A2:A10000, "EC", Données!B2:B10000, "lundi") -> 1 | F42: =COUNTIFS(Données!T2:T10000, "pas du tout satisfaisant", Données!A2:A10000, "EC", Données!B2:B10000, "lundi") -> 1 | J42: Agent du bureau | K42: =COUNTIFS(Données!AB2:AB10000, "très satisfaisant", Données!I2:I10000, "AFE", Données!J2:J10000, "lundi") -> 0 | L42: =COUNTIFS(Données!AB2:AB10000, "satisfaisant", Données!I2:I10000, "AFE", Données!J2:J10000, "lundi") -> 0 | M42: =COUNTIFS(Données!AB2:AB10000, "moy. satisfaisant", Données!I2:I10000, "AFE", Données!J2:J10000, "lundi") -> 0 | N42: =COUNTIFS(Données!AB2:AB10000, "pas du tout satisfaisant", Données!I2:I10000, "AFE", Données!J2:J10000, "lundi") -> 0 | R42: Agent du bureau | S42: =COUNTIFS(Données!AJ2:AJ10000, "très satisfaisant", Données!Q2:Q10000, "AS", Données!R2:R10000, "lundi") -> 0 | T42: =COUNTIFS(Données!AJ2:AJ10000, "satisfaisant", Données!Q2:Q10000, "AS", Données!R2:R10000, "lundi") -> 0 | U42: =COUNTIFS(Données!AJ2:AJ10000, "moy. satisfaisant", Données!Q2:Q10000, "AS", Données!R2:R10000, "lundi") -> 0 | V42: =COUNTIFS(Données!AJ2:AJ10000, "pas du tout satisfaisant", Données!Q2:Q10000, "AS", Données!R2:R10000, "lundi") -> 0 | Z42: Agent du bureau | AA42: =COUNTIFS(Données!AR2:AR10000, "très satisfaisant", Données!Y2:Y10000, "VISAS", Données!Z2:Z10000, "lundi") -> 0 | AB42: =COUNTIFS(Données!AR2:AR10000, "satisfaisant", Données!Y2:Y10000, "VISAS", Données!Z2:Z10000, "lundi") -> 0 | AC42: =COUNTIFS(Données!AR2:AR10000, "moy. satisfaisant", Données!Y2:Y10000, "VISAS", Données!Z2:Z10000, "lundi") -> 0 | AD42: =COUNTIFS(Données!AR2:AR10000, "pas du tout satisfaisant", Données!Y2:Y10000, "VISAS", Données!Z2:Z10000, "lundi") -> 0
B43: Délai d'attente | C43: oui | D43: non | J43: Délai d'attente | K43: oui | L43: non | R43: Délai d'attente | S43: oui | T43: non | Z43: Délai d'attente | AA43: oui | AB43: non
B44: Question 11 : Aviez-vous pris rendez-vous ? | C44: =COUNTIFS(Données!U2:U10000, "oui", Données!A2:A10000, "EC", Données!B2:B10000, "lundi") -> 2 | D44: =COUNTIFS(Données!U2:U10000, "oui", Données!A2:A10000, "EC", Données!B2:B10000, "lundi") -> 2 | J44: Question 11 : Aviez-vous pris rendez-vous ? | K44: =COUNTIFS(Données!AC2:AC10000, "oui", Données!I2:I10000, "AFE", Données!J2:J10000, "lundi") -> 0 | L44: =COUNTIFS(Données!AC2:AC10000, "oui", Données!I2:I10000, "AFE", Données!J2:J10000, "lundi") -> 0 | R44: Question 11 : Aviez-vous pris rendez-vous ? | S44: =COUNTIFS(Données!AK2:AK10000, "oui", Données!Q2:Q10000, "AS", Données!R2:R10000, "lundi") -> 0 | T44: =COUNTIFS(Données!AK2:AK10000, "oui", Données!Q2:Q10000, "AS", Données!R2:R10000, "lundi") -> 0 | Z44: Question 11 : Aviez-vous pris rendez-vous ? | AA44: =COUNTIFS(Données!AS2:AS10000, "oui", Données!Y2:Y10000, "VISAS", Données!Z2:Z10000, "lundi") -> 0 | AB44: =COUNTIFS(Données!AS2:AS10000, "oui", Données!Y2:Y10000, "VISAS", Données!Z2:Z10000, "lundi") -> 0
B45: Si OUI, vous avez été reçu « … » ? | C45: A l'heure | D45: En retard | J45: Si OUI, vous avez été reçu « … » ? | K45: A l'heure | L45: En retard | R45: Si OUI, vous avez été reçu « … » ? | S45: A l'heure | T45: En retard | Z45: Si OUI, vous avez été reçu « … » ? | AA45: A l'heure | AB45: En retard
C47: =COUNTIFS(Données!V2:V10000, "A l'heure", Données!A2:A10000, "EC", Données!B2:B10000, "lundi") -> 2 | D47: =COUNTIFS(Données!V2:V10000, "En retard", Données!A2:A10000, "EC", Données!B2:B10000, "lundi") -> 1 | K47: =COUNTIFS(Données!AD2:AD10000, "A l'heure", Données!I2:I10000, "AFE", Données!J2:J10000, "lundi") -> 0 | L47: =COUNTIFS(Données!AD2:AD10000, "En retard", Données!I2:I10000, "AFE", Données!J2:J10000, "lundi") -> 0 | S47: =COUNTIFS(Données!AL2:AL10000, "A l'heure", Données!Q2:Q10000, "AS", Données!R2:R10000, "lundi") -> 0 | T47: =COUNTIFS(Données!AL2:AL10000, "En retard", Données!Q2:Q10000, "AS", Données!R2:R10000, "lundi") -> 0 | AA47: =COUNTIFS(Données!AT2:AT10000, "A l'heure", Données!Y2:Y10000, "VISAS", Données!Z2:Z10000, "lundi") -> 0 | AB47: =COUNTIFS(Données!AT2:AT10000, "En retard", Données!Y2:Y10000, "VISAS", Données!Z2:Z10000, "lundi") -> 0
B48: Si en EN RETARD, vous estimez votre temps d’attente compris entre : | C48: 0-15 | D48: 15-30 | E48: 30-60 | F48: plus 60 | J48: Si en EN RETARD, vous estimez votre temps d’attente compris entre : | K48: 0-15 | L48: 15-30 | M48: 30-60 | N48: plus 60 | R48: Si en EN RETARD, vous estimez votre temps d’attente compris entre : | S48: 0-15 | T48: 15-30 | U48: 30-60 | V48: plus 60 | Z48: Si en EN RETARD, vous estimez votre temps d’attente compris entre : | AA48: 0-15 | AB48: 15-30 | AC48: 30-60 | AD48: plus 60
C50: =COUNTIFS(Données!W2:W10000, "0-15", Données!A2:A10000, "EC", Données!B2:B10000, "lundi") -> 0 | D50: =COUNTIFS(Données!W2:W10000, "15-30", Données!A2:A10000, "EC", Données!B2:B10000, "lundi") -> 2 | E50: =COUNTIFS(Données!W2:W10000, "30-60", Données!A2:A10000, "EC", Données!B2:B10000, "lundi") -> 1 | F50: =COUNTIFS(Données!W2:W10000, "plus 60", Données!A2:A10000, "EC", Données!B2:B10000, "lundi") -> 0 | K50: =COUNTIFS(Données!AE2:AE10000, "0-15", Données!I2:I10000, "AFE", Données!J2:J10000, "lundi") -> 0 | L50: =COUNTIFS(Données!AE2:AE10000, "15-30", Données!I2:I10000, "AFE", Données!J2:J10000, "lundi") -> 0 | M50: =COUNTIFS(Données!AE2:AE10000, "30-60", Données!I2:I10000, "AFE", Données!J2:J10000, "lundi") -> 0 | N50: =COUNTIFS(Données!AE2:AE10000, "plus 60", Données!I2:I10000, "AFE", Données!J2:J10000, "lundi") -> 0 | S50: =COUNTIFS(Données!AM2:AM10000, "0-15", Données!Q2:Q10000, "AS", Données!R2:R10000, "lundi") -> 0 | T50: =COUNTIFS(Données!AM2:AM10000, "15-30", Données!Q2:Q10000, "AS", Données!R2:R10000, "lundi") -> 0 | U50: =COUNTIFS(Données!AM2:AM10000, "30-60", Données!Q2:Q10000, "AS", Données!R2:R10000, "lundi") -> 0 | V50: =COUNTIFS(Données!AM2:AM10000, "plus 60", Données!Q2:Q10000, "AS", Données!R2:R10000, "lundi") -> 0 | AA50: =COUNTIFS(Données!AU2:AU10000, "0-15", Données!Y2:Y10000, "VISAS", Données!Z2:Z10000, "lundi") -> 0 | AB50: =COUNTIFS(Données!AU2:AU10000, "15-30", Données!Y2:Y10000, "VISAS", Données!Z2:Z10000, "lundi") -> 0 | AC50: =COUNTIFS(Données!AU2:AU10000, "30-60", Données!Y2:Y10000, "VISAS", Données!Z2:Z10000, "lundi") -> 0 | AD50: =COUNTIFS(Données!AU2:AU10000, "plus 60", Données!Y2:Y10000, "VISAS", Données!Z2:Z10000, "lundi") -> 0
B51: Question 12 : Vous n’aviez PAS RENDEZ-VOUS, à combien estimez-vous votre temps d’attente ? | C51: 0-15 | D51: 15-30 | E51: 30-60 | F51: plus 60 | J51: Question 12 : Vous n’aviez PAS RENDEZ-VOUS, à combien estimez-vous votre temps d’attente ? | K51: 0-15 | L51: 15-30 | M51: 30-60 | N51: plus 60 | R51: Question 12 : Vous n’aviez PAS RENDEZ-VOUS, à combien estimez-vous votre temps d’attente ? | S51: 0-15 | T51: 15-30 | U51: 30-60 | V51: plus 60 | Z51: Question 12 : Vous n’aviez PAS RENDEZ-VOUS, à combien estimez-vous votre temps d’attente ? | AA51: 0-15 | AB51: 15-30 | AC51: 30-60 | AD51: plus 60
C53: =COUNTIFS(Données!X2:X10000, "0-15", Données!A2:A10000, "EC", Données!B2:B10000, "lundi") -> 1 | D53: =COUNTIFS(Données!X2:X10000, "15-30", Données!A2:A10000, "EC", Données!B2:B10000, "lundi") -> 0 | E53: =COUNTIFS(Données!X2:X10000, "30-60", Données!A2:A10000, "EC", Données!B2:B10000, "lundi") -> 0 | F53: =COUNTIFS(Données!X2:X10000, "plus 60", Données!A2:A10000, "EC", Données!B2:B10000, "lundi") -> 0 | K53: =COUNTIFS(Données!AF2:AF10000, "0-15", Données!I2:I10000, "AFE", Données!J2:J10000, "lundi") -> 0 | L53: =COUNTIFS(Données!AF2:AF10000, "15-30", Données!I2:I10000, "AFE", Données!J2:J10000, "lundi") -> 0 | M53: =COUNTIFS(Données!AF2:AF10000, "30-60", Données!I2:I10000, "AFE", Données!J2:J10000, "lundi") -> 0 | N53: =COUNTIFS(Données!AF2:AF10000, "plus 60", Données!I2:I10000, "AFE", Données!J2:J10000, "lundi") -> 0 | S53: =COUNTIFS(Données!AN2:AN10000, "0-15", Données!Q2:Q10000, "AS", Données!R2:R10000, "lundi") -> 0 | T53: =COUNTIFS(Données!AN2:AN10000, "15-30", Données!Q2:Q10000, "AS", Données!R2:R10000, "lundi") -> 0 | U53: =COUNTIFS(Données!AN2:AN10000, "30-60", Données!Q2:Q10000, "AS", Données!R2:R10000, "lundi") -> 0 | V53: =COUNTIFS(Données!AN2:AN10000, "plus 60", Données!Q2:Q10000, "AS", Données!R2:R10000, "lundi") -> 0 | AA53: =COUNTIFS(Données!AV2:AV10000, "0-15", Données!Y2:Y10000, "VISAS", Données!Z2:Z10000, "lundi") -> 0 | AB53: =COUNTIFS(Données!AV2:AV10000, "15-30", Données!Y2:Y10000, "VISAS", Données!Z2:Z10000, "lundi") -> 0 | AC53: =COUNTIFS(Données!AV2:AV10000, "30-60", Données!Y2:Y10000, "VISAS", Données!Z2:Z10000, "lundi") -> 0 | AD53: =COUNTIFS(Données!AV2:AV10000, "plus 60", Données!Y2:Y10000, "VISAS", Données!Z2:Z10000, "lundi") -> 0
B54: Sécurité | C54: oui | D54: non | J54: Sécurité | K54: oui | L54: non | R54: Sécurité | S54: oui | T54: non | Z54: Sécurité | AA54: oui | AB54: non
B55: 1. Connaissez-vous le nom et les coordonnées de votre ilotier ? | C55: =COUNTIFS(Données!Z2:Z10000, "oui", Données!A2:A10000, "EC", Données!B2:B10000, "lundi") -> 2 | D55: =COUNTIFS(Données!Z2:Z10000, "non", Données!A2:A10000, "EC", Données!B2:B10000, "lundi") -> 1 | J55: 1. Connaissez-vous le nom et les coordonnées de votre ilotier ? | K55: =COUNTIFS(Données!AH2:AH10000, "oui", Données!I2:I10000, "AFE", Données!J2:J10000, "lundi") -> 0 | L55: =COUNTIFS(Données!AH2:AH10000, "non", Données!I2:I10000, "AFE", Données!J2:J10000, "lundi") -> 0 | R55: 1. Connaissez-vous le nom et les coordonnées de votre ilotier ? | S55: =COUNTIFS(Données!AP2:AP10000, "oui", Données!Q2:Q10000, "AS", Données!R2:R10000, "lundi") -> 0 | T55: =COUNTIFS(Données!AP2:AP10000, "non", Données!Q2:Q10000, "AS", Données!R2:R10000, "lundi") -> 0 | Z55: 1. Connaissez-vous le nom et les coordonnées de votre ilotier ? | AA55: =COUNTIFS(Données!AX2:AX10000, "oui", Données!Y2:Y10000, "VISAS", Données!Z2:Z10000, "lundi") -> 0 | AB55: =COUNTIFS(Données!AX2:AX10000, "non", Données!Y2:Y10000, "VISAS", Données!Z2:Z10000, "lundi") -> 0
B56: 2. Savez-vous quel est son rôle ? | C56: =COUNTIFS(Données!AA2:AA10000, "oui", Données!A2:A10000, "EC", Données!B2:B10000, "lundi") -> 2 | D56: =COUNTIFS(Données!AA2:AA10000, "non", Données!A2:A10000, "EC", Données!B2:B10000, "lundi") -> 1 | J56: 2. Savez-vous quel est son rôle ? | K56: =COUNTIFS(Données!AI2:AI10000, "oui", Données!I2:I10000, "AFE", Données!J2:J10000, "lundi") -> 0 | L56: =COUNTIFS(Données!AI2:AI10000, "non", Données!I2:I10000, "AFE", Données!J2:J10000, "lundi") -> 0 | R56: 2. Savez-vous quel est son rôle ? | S56: =COUNTIFS(Données!AQ2:AQ10000, "oui", Données!Q2:Q10000, "AS", Données!R2:R10000, "lundi") -> 0 | T56: =COUNTIFS(Données!AQ2:AQ10000, "non", Données!Q2:Q10000, "AS", Données!R2:R10000, "lundi") -> 0 | Z56: 2. Savez-vous quel est son rôle ? | AA56: =COUNTIFS(Données!AY2:AY10000, "oui", Données!Y2:Y10000, "VISAS", Données!Z2:Z10000, "lundi") -> 0 | AB56: =COUNTIFS(Données!AY2:AY10000, "non", Données!Y2:Y10000, "VISAS", Données!Z2:Z10000, "lundi") -> 0
B57: ARIANE | C57: =COUNTIFS(Données!AB2:AB10000, "oui", Données!A2:A10000, "EC", Données!B2:B10000, "lundi") -> 1 | D57: =COUNTIFS(Données!AB2:AB10000, "non", Données!A2:A10000, "EC", Données!B2:B10000, "lundi") -> 2 | J57: ARIANE | K57: =COUNTIFS(Données!AJ2:AJ10000, "oui", Données!I2:I10000, "AFE", Données!J2:J10000, "lundi") -> 0 | L57: =COUNTIFS(Données!AJ2:AJ10000, "non", Données!I2:I10000, "AFE", Données!J2:J10000, "lundi") -> 0 | R57: ARIANE | S57: =COUNTIFS(Données!AR2:AR10000, "oui", Données!Q2:Q10000, "AS", Données!R2:R10000, "lundi") -> 0 | T57: =COUNTIFS(Données!AR2:AR10000, "non", Données!Q2:Q10000, "AS", Données!R2:R10000, "lundi") -> 0 | Z57: ARIANE | AA57: =COUNTIFS(Données!AZ2:AZ10000, "oui", Données!Y2:Y10000, "VISAS", Données!Z2:Z10000, "lundi") -> 0 | AB57: =COUNTIFS(Données!AZ2:AZ10000, "non", Données!Y2:Y10000, "VISAS", Données!Z2:Z10000, "lundi") -> 0
B58: Evaluation globale | C58: très satisfaisant | D58: satisfaisant | E58: moy. satisfaisant | F58: pas du tout satisfaisant | J58: Evaluation globale | K58: très satisfaisant | L58: satisfaisant | M58: moy. satisfaisant | N58: pas du tout satisfaisant | R58: Evaluation globale | S58: très satisfaisant | T58: satisfaisant | U58: moy. satisfaisant | V58: pas du tout satisfaisant | Z58: Evaluation globale | AA58: très satisfaisant | AB58: satisfaisant | AC58: moy. satisfaisant | AD58: pas du tout satisfaisant
C60: =COUNTIFS(Données!AC2:AC10000, "très satisfaisant", Données!A2:A10000, "EC", Données!B2:B10000, "lundi") -> 1 | D60: =COUNTIFS(Données!AC2:AC10000, "satisfaisant", Données!A2:A10000, "EC", Données!B2:B10000, "lundi") -> 0 | E60: =COUNTIFS(Données!AC2:AC10000, "moy. satisfaisant", Données!A2:A10000, "EC", Données!B2:B10000, "lundi") -> 1 | F60: =COUNTIFS(Données!AC2:AC10000, "pas du tout satisfaisant", Données!A2:A10000, "EC", Données!B2:B10000, "lundi") -> 1 | K60: =COUNTIFS(Données!AK2:AK10000, "très satisfaisant", Données!I2:I10000, "AFE", Données!J2:J10000, "lundi") -> 0 | L60: =COUNTIFS(Données!AK2:AK10000, "satisfaisant", Données!I2:I10000, "AFE", Données!J2:J10000, "lundi") -> 0 | M60: =COUNTIFS(Données!AK2:AK10000, "moy. satisfaisant", Données!I2:I10000, "AFE", Données!J2:J10000, "lundi") -> 0 | N60: =COUNTIFS(Données!AK2:AK10000, "pas du tout satisfaisant", Données!I2:I10000, "AFE", Données!J2:J10000, "lundi") -> 0 | S60: =COUNTIFS(Données!AS2:AS10000, "très satisfaisant", Données!Q2:Q10000, "AS", Données!R2:R10000, "lundi") -> 0 | T60: =COUNTIFS(Données!AS2:AS10000, "satisfaisant", Données!Q2:Q10000, "AS", Données!R2:R10000, "lundi") -> 0 | U60: =COUNTIFS(Données!AS2:AS10000, "moy. satisfaisant", Données!Q2:Q10000, "AS", Données!R2:R10000, "lundi") -> 0 | V60: =COUNTIFS(Données!AS2:AS10000, "pas du tout satisfaisant", Données!Q2:Q10000, "AS", Données!R2:R10000, "lundi") -> 0 | AA60: =COUNTIFS(Données!BA2:BA10000, "très satisfaisant", Données!Y2:Y10000, "VISAS", Données!Z2:Z10000, "lundi") -> 0 | AB60: =COUNTIFS(Données!BA2:BA10000, "satisfaisant", Données!Y2:Y10000, "VISAS", Données!Z2:Z10000, "lundi") -> 0 | AC60: =COUNTIFS(Données!BA2:BA10000, "moy. satisfaisant", Données!Y2:Y10000, "VISAS", Données!Z2:Z10000, "lundi") -> 0 | AD60: =COUNTIFS(Données!BA2:BA10000, "pas du tout satisfaisant", Données!Y2:Y10000, "VISAS", Données!Z2:Z10000, "lundi") -> 0
A65: MARDI | B65: ETAT-CIVIL | C65: REPONSES | I65: MARDI | J65: AFE | K65: REPONSES | Q65: MARDI | R65: AS | S65: REPONSES | Y65: MARDI | Z65: VISAS | AA65: REPONSES
B67: Votre démarche | C67: oui | D67: non | J67: Votre démarche | K67: oui | L67: non | R67: Votre démarche | S67: oui | T67: non | Z67: Votre démarche | AA67: oui | AB67: non
B68: Question 2 : Avez-vous pu arriver à terme de la démarche que vous venez d’entreprendre ? | C68: =COUNTIFS(Données!C64:C10062, "oui", Données!A64:A10062, "EC", Données!B64:B10062, "lundi") -> 0 | D68: =COUNTIFS(Données!C64:C10062, "non", Données!A64:A10062, "EC", Données!B64:B10062, "mardi") -> 0 | J68: Question 2 : Avez-vous pu arriver à terme de la démarche que vous venez d’entreprendre ? | K68: =COUNTIFS(Données!K64:K10062, "oui", Données!I64:I10062, "AFE", Données!J64:J10062, "mardi") -> 0 | L68: =COUNTIFS(Données!K64:K10062, "non", Données!I64:I10062, "AFE", Données!J64:J10062, "mardi") -> 0 | R68: Question 2 : Avez-vous pu arriver à terme de la démarche que vous venez d’entreprendre ? | S68: =COUNTIFS(Données!S64:S10062, "oui", Données!Q64:Q10062, "AS", Données!R64:R10062, "mardi") -> 0 | T68: =COUNTIFS(Données!S64:S10062, "non", Données!Q64:Q10062, "AS", Données!R64:R10062, "mardi") -> 0 | Z68: Question 2 : Avez-vous pu arriver à terme de la démarche que vous venez d’entreprendre ? | AA68: =COUNTIFS(Données!AA64:AA10062, "oui", Données!Y64:Y10062, "VISAS", Données!Z64:Z10062, "mardi") -> 0 | AB68: =COUNTIFS(Données!AA64:AA10062, "non", Données!Y64:Y10062, "VISAS", Données!Z64:Z10062, "mardi") -> 0
B70: Si NON, savez-vous pourquoi ? | C70: =COUNTIFS(Données!D64:D10062, "oui", Données!A64:A10062, "EC", Données!B64:B10062, "mardi") -> 0 | D70: =COUNTIFS(Données!D64:D10062, "non", Données!A64:A10062, "EC", Données!B64:B10062, "mardi") -> 0 | J70: Si NON, savez-vous pourquoi ? | K70: =COUNTIFS(Données!L64:L10062, "oui", Données!I64:I10062, "AFE", Données!J64:J10062, "mardi") -> 0 | L70: =COUNTIFS(Données!L64:L10062, "non", Données!I64:I10062, "AFE", Données!J64:J10062, "mardi") -> 0 | R70: Si NON, savez-vous pourquoi ? | S70: =COUNTIFS(Données!T64:T10062, "oui", Données!Q64:Q10062, "AS", Données!R64:R10062, "mardi") -> 0 | T70: =COUNTIFS(Données!T64:T10062, "non", Données!Q64:Q10062, "AS", Données!R64:R10062, "mardi") -> 0 | Z70: Si NON, savez-vous pourquoi ? | AA70: =COUNTIFS(Données!AB64:AB10062, "oui", Données!Y64:Y10062, "VISAS", Données!Z64:Z10062, "mardi") -> 0 | AB70: =COUNTIFS(Données!AB64:AB10062, "non", Données!Y64:Y10062, "VISAS", Données!Z64:Z10062, "mardi") -> 0
B72: Question 2b : Avez-vous été informé du délai et des modalités nécessaires à sa réalisation ? | C72: =COUNTIFS(Données!E64:E10062, "oui", Données!A64:A10062, "EC", Données!B64:B10062, "mardi") -> 0 | D72: =COUNTIFS(Données!E64:E10062, "non", Données!A64:A10062, "EC", Données!B64:B10062, "mardi") -> 0 | J72: Question 2b : Avez-vous été informé du délai et des modalités nécessaires à sa réalisation ? | K72: =COUNTIFS(Données!M64:M10062, "oui", Données!I64:I10062, "AFE", Données!J64:J10062, "mardi") -> 0 | L72: =COUNTIFS(Données!M64:M10062, "non", Données!I64:I10062, "AFE", Données!J64:J10062, "mardi") -> 0 | R72: Question 2b : Avez-vous été informé du délai et des modalités nécessaires à sa réalisation ? | S72: =COUNTIFS(Données!U64:U10062, "oui", Données!Q64:Q10062, "AS", Données!R64:R10062, "mardi") -> 0 | T72: =COUNTIFS(Données!U64:U10062, "non", Données!Q64:Q10062, "AS", Données!R64:R10062, "mardi") -> 0 | Z72: Question 2b : Avez-vous été informé du délai et des modalités nécessaires à sa réalisation ? | AA72: =COUNTIFS(Données!AC64:AC10062, "oui", Données!Y64:Y10062, "VISAS", Données!Z64:Z10062, "mardi") -> 0 | AB72: =COUNTIFS(Données!AC64:AC10062, "non", Données!Y64:Y10062, "VISAS", Données!Z64:Z10062, "mardi") -> 0
B74: Premier contact avec le Consulat | C74: oui | D74: non | J74: Premier contact avec le Consulat | K74: oui | L74: non | R74: Premier contact avec le Consulat | S74: oui | T74: non | Z74: Premier contact avec le Consulat | AA74: oui | AB74: non
B75: Question 3 : Avez-vous pris contact avec le consulat avant d’effectuer votre démarche ? | C75: =COUNTIFS(Données!F64:F10062, "oui", Données!A64:A10062, "EC", Données!B64:B10062, "mardi") -> 0 | D75: =COUNTIFS(Données!F64:F10062, "non", Données!A64:A10062, "EC", Données!B64:B10062, "mardi") -> 0 | J75: Question 3 : Avez-vous pris contact avec le consulat avant d’effectuer votre démarche ? | K75: =COUNTIFS(Données!N64:N10062, "oui", Données!I64:I10062, "AFE", Données!J64:J10062, "mardi") -> 0 | L75: =COUNTIFS(Données!N64:N10062, "non", Données!I64:I10062, "AFE", Données!J64:J10062, "mardi") -> 0 | R75: Question 3 : Avez-vous pris contact avec le consulat avant d’effectuer votre démarche ? | S75: =COUNTIFS(Données!V64:V10062, "oui", Données!Q64:Q10062, "AS", Données!R64:R10062, "mardi") -> 0 | T75: =COUNTIFS(Données!V64:V10062, "non", Données!Q64:Q10062, "AS", Données!R64:R10062, "mardi") -> 0 | Z75: Question 3 : Avez-vous pris contact avec le consulat avant d’effectuer votre démarche ? | AA75: =COUNTIFS(Données!AD64:AD10062, "oui", Données!Y64:Y10062, "VISAS", Données!Z64:Z10062, "mardi") -> 0 | AB75: =COUNTIFS(Données!AD64:AD10062, "non", Données!Y64:Y10062, "VISAS", Données!Z64:Z10062, "mardi") -> 0
B77: Si OUI, par quels moyens ? (entourez la réponse) : | C77: téléphone | D77: mail | E77: sur place | J77: Si OUI, par quels moyens ? (entourez la réponse) : | K77: téléphone | L77: mail | M77: sur place | R77: Si OUI, par quels moyens ? (entourez la réponse) : | S77: téléphone | T77: mail | U77: sur place | Z77: Si OUI, par quels moyens ? (entourez la réponse) : | AA77: téléphone | AB77: mail | AC77: sur place
C79: =COUNTIFS(Données!G64:G10062, "téléphone", Données!A64:A10062, "EC", Données!B64:B10062, "mardi") -> 0 | D79: =COUNTIFS(Données!G64:G10062, "mail", Données!A64:A10062, "EC", Données!B64:B10062, "mardi") -> 0 | E79: =COUNTIFS(Données!G64:G10062, "sur place", Données!A64:A10062, "EC", Données!B64:B10062, "mardi") -> 0 | K79: =COUNTIFS(Données!O64:O10062, "téléphone", Données!I64:I10062, "AFE", Données!J64:J10062, "mardi") -> 0 | L79: =COUNTIFS(Données!O64:O10062, "mail", Données!I64:I10062, "AFE", Données!J64:J10062, "mardi") -> 0 | M79: =COUNTIFS(Données!O64:O10062, "sur place", Données!I64:I10062, "AFE", Données!J64:J10062, "mardi") -> 0 | S79: =COUNTIFS(Données!W64:W10062, "téléphone", Données!Q64:Q10062, "AS", Données!R64:R10062, "mardi") -> 0 | T79: =COUNTIFS(Données!W64:W10062, "mail", Données!Q64:Q10062, "AS", Données!R64:R10062, "mardi") -> 0 | U79: =COUNTIFS(Données!W64:W10062, "sur place", Données!Q64:Q10062, "AS", Données!R64:R10062, "mardi") -> 0 | AA79: =COUNTIFS(Données!AE64:AE10062, "téléphone", Données!Y64:Y10062, "VISAS", Données!Z64:Z10062, "mardi") -> 0 | AB79: =COUNTIFS(Données!AE64:AE10062, "mail", Données!Y64:Y10062, "VISAS", Données!Z64:Z10062, "mardi") -> 0 | AC79: =COUNTIFS(Données!AE64:AE10062, "sur place", Données!Y64:Y10062, "VISAS", Données!Z64:Z10062, "mardi") -> 0
B80: Question 4 : Quel a été le délai de réponse suite à cette première prise de contact ? | C80: immédiat | D80: moins 24h | E80: entre 24 et 48h | F80: plus de 48h | J80: Question 4 : Quel a été le délai de réponse suite à cette première prise de contact ? | K80: immédiat | L80: moins 24h | M80: entre 24 et 48h | N80: plus de 48h | R80: Question 4 : Quel a été le délai de réponse suite à cette première prise de contact ? | S80: immédiat | T80: moins 24h | U80: entre 24 et 48h | V80: plus de 48h | Z80: Question 4 : Quel a été le délai de réponse suite à cette première prise de contact ? | AA80: immédiat | AB80: moins 24h | AC80: entre 24 et 48h | AD80: plus de 48h
C82: =COUNTIFS(Données!H64:H10062, "immédiat", Données!A64:A10062, "EC", Données!B64:B10062, "mardi") -> 0 | D82: =COUNTIFS(Données!H64:H10062, "entre 24-48h", Données!A64:A10062, "EC", Données!B64:B10062, "mardi") -> 0 | E82: =COUNTIFS(Données!H64:H10062, "entre 24-48h", Données!A64:A10062, "EC", Données!B64:B10062, "mardi") -> 0 | F82: =COUNTIFS(Données!H64:H10062, "plus de 48h", Données!A64:A10062, "EC", Données!B64:B10062, "mardi") -> 0 | K82: =COUNTIFS(Données!P64:P10062, "immédiat", Données!I64:I10062, "AFE", Données!J64:J10062, "mardi") -> 0 | L82: =COUNTIFS(Données!P64:P10062, "entre 24-48h", Données!I64:I10062, "AFE", Données!J64:J10062, "mardi") -> 0 | M82: =COUNTIFS(Données!P64:P10062, "entre 24-48h", Données!I64:I10062, "AFE", Données!J64:J10062, "mardi") -> 0 | N82: =COUNTIFS(Données!P64:P10062, "plus de 48h", Données!I64:I10062, "AFE", Données!J64:J10062, "mardi") -> 0 | S82: =COUNTIFS(Données!X64:X10062, "immédiat", Données!Q64:Q10062, "AS", Données!R64:R10062, "mardi") -> 0 | T82: =COUNTIFS(Données!X64:X10062, "entre 24-48h", Données!Q64:Q10062, "AS", Données!R64:R10062, "mardi") -> 0 | U82: =COUNTIFS(Données!X64:X10062, "entre 24-48h", Données!Q64:Q10062, "AS", Données!R64:R10062, "mardi") -> 0 | V82: =COUNTIFS(Données!X64:X10062, "plus de 48h", Données!Q64:Q10062, "AS", Données!R64:R10062, "mardi") -> 0 | AA82: =COUNTIFS(Données!AF64:AF10062, "immédiat", Données!Y64:Y10062, "VISAS", Données!Z64:Z10062, "mardi") -> 0 | AB82: =COUNTIFS(Données!AF64:AF10062, "entre 24-48h", Données!Y64:Y10062, "VISAS", Données!Z64:Z10062, "mardi") -> 0 | AC82: =COUNTIFS(Données!AF64:AF10062, "entre 24-48h", Données!Y64:Y10062, "VISAS", Données!Z64:Z10062, "mardi") -> 0 | AD82: =COUNTIFS(Données!AF64:AF10062, "plus de 48h", Données!Y64:Y10062, "VISAS", Données!Z64:Z10062, "mardi") -> 0
B83: Question 5 : Quel a été le nombre d’appels nécessaires pour accéder à… | C83: un agent | D83: l’information | J83: Question 5 : Quel a été le nombre d’appels nécessaires pour accéder à… | K83: un agent | L83: l’information | R83: Question 5 : Quel a été le nombre d’appels nécessaires pour accéder à… | S83: un agent | T83: l’information | Z83: Question 5 : Quel a été le nombre d’appels nécessaires pour accéder à… | AA83: un agent | AB83: l’information
C85: =SUMIFS(Données!I:I,Données!A:A,"EC",Données!B:B,"mardi") -> 0 | D85: =SUMIFS(Données!J:J,Données!A:A,"EC",Données!B:B,"mardi") -> 0 | K85: =SUMIFS(Données!Q:Q,Données!I:I,"AFE",Données!J:J,"mardi") -> 0 | L85: =SUMIFS(Données!R:R,Données!I:I,"AFE",Données!J:J,"mardi") -> 0 | S85: =SUMIFS(Données!Y:Y,Données!Q:Q,"AS",Données!R:R,"mardi") -> 0 | T85: =SUMIFS(Données!Z:Z,Données!Q:Q,"AS",Données!R:R,"mardi") -> 0 | AA85: =SUMIFS(Données!AG:AG,Données!Y:Y,"VISAS",Données!Z:Z,"mardi") -> 0 | AB85: =SUMIFS(Données!AH:AH,Données!Y:Y,"VISAS",Données!Z:Z,"mardi") -> 0
B86: Question 6 : In fine, avez-vous été satisfait(e) de la réponse obtenue ? Pour quelles raisons ? | C86: complètement | D86: partiellement | E86: pas du tout | J86: Question 6 : In fine, avez-vous été satisfait(e) de la réponse obtenue ? Pour quelles raisons ? | K86: complètement | L86: partiellement | M86: pas du tout | R86: Question 6 : In fine, avez-vous été satisfait(e) de la réponse obtenue ? Pour quelles raisons ? | S86: complètement | T86: partiellement | U86: pas du tout | Z86: Question 6 : In fine, avez-vous été satisfait(e) de la réponse obtenue ? Pour quelles raisons ? | AA86: complètement | AB86: partiellement | AC86: pas du tout
C88: =COUNTIFS(Données!K64:K10062, "complet", Données!A64:A10062, "EC", Données!B64:B10062, "mardi") -> 0 | D88: =COUNTIFS(Données!K64:K10062, "partiel", Données!A64:A10062, "EC", Données!B64:B10062, "mardi") -> 0 | E88: =COUNTIFS(Données!K64:K10062, "pas du tout", Données!A64:A10062, "EC", Données!B64:B10062, "mardi") -> 0 | K88: =COUNTIFS(Données!S64:S10062, "complet", Données!I64:I10062, "AFE", Données!J64:J10062, "mardi") -> 0 | L88: =COUNTIFS(Données!S64:S10062, "partiel", Données!I64:I10062, "AFE", Données!J64:J10062, "mardi") -> 0 | M88: =COUNTIFS(Données!S64:S10062, "pas du tout", Données!I64:I10062, "AFE", Données!J64:J10062, "mardi") -> 0 | S88: =COUNTIFS(Données!AA64:AA10062, "complet", Données!Q64:Q10062, "AS", Données!R64:R10062, "mardi") -> 0 | T88: =COUNTIFS(Données!AA64:AA10062, "partiel", Données!Q64:Q10062, "AS", Données!R64:R10062, "mardi") -> 0 | U88: =COUNTIFS(Données!AA64:AA10062, "pas du tout", Données!Q64:Q10062, "AS", Données!R64:R10062, "mardi") -> 0 | AA88: =COUNTIFS(Données!AI64:AI10062, "complet", Données!Y64:Y10062, "VISAS", Données!Z64:Z10062, "mardi") -> 0 | AB88: =COUNTIFS(Données!AI64:AI10062, "partiel", Données!Y64:Y10062, "VISAS", Données!Z64:Z10062, "mardi") -> 0 | AC88: =COUNTIFS(Données!AI64:AI10062, "pas du tout", Données!Y64:Y10062, "VISAS", Données!Z64:Z10062, "mardi") -> 0
B89: Communication internet | C89: oui | D89: non | E89: ne sais pas | J89: Communication internet | K89: oui | L89: non | M89: ne sais pas | R89: Communication internet | S89: oui | T89: non | U89: ne sais pas | Z89: Communication internet | AA89: oui | AB89: non | AC89: ne sais pas
B90: Question 7 : Avez-vous connaissance du site internet ? | C90: =COUNTIFS(Données!L64:L10062, "oui", Données!A64:A10062, "EC", Données!B64:B10062, "mardi") -> 0 | D90: =COUNTIFS(Données!L64:L10062, "non", Données!A64:A10062, "EC", Données!B64:B10062, "mardi") -> 0 | E90: _ | J90: Question 7 : Avez-vous connaissance du site internet ? | K90: =COUNTIFS(Données!T64:T10062, "oui", Données!I64:I10062, "AFE", Données!J64:J10062, "mardi") -> 0 | L90: =COUNTIFS(Données!T64:T10062, "non", Données!I64:I10062, "AFE", Données!J64:J10062, "mardi") -> 0 | M90: _ | R90: Question 7 : Avez-vous connaissance du site internet ? | S90: =COUNTIFS(Données!AB64:AB10062, "oui", Données!Q64:Q10062, "AS", Données!R64:R10062, "mardi") -> 0 | T90: =COUNTIFS(Données!AB64:AB10062, "non", Données!Q64:Q10062, "AS", Données!R64:R10062, "mardi") -> 0 | U90: _ | Z90: Question 7 : Avez-vous connaissance du site internet ? | AA90: =COUNTIFS(Données!AJ64:AJ10062, "oui", Données!Y64:Y10062, "VISAS", Données!Z64:Z10062, "mardi") -> 0 | AB90: =COUNTIFS(Données!AJ64:AJ10062, "non", Données!Y64:Y10062, "VISAS", Données!Z64:Z10062, "mardi") -> 0 | AC90: _
B92: Question 7b : Avez-vous connaissanc de la page FB ? | C92: =COUNTIFS(Données!M64:M10062, "oui", Données!A64:A10062, "EC", Données!B64:B10062, "mardi") -> 0 | D92: =COUNTIFS(Données!M64:M10062, "non", Données!A64:A10062, "EC", Données!B64:B10062, "mardi") -> 0 | E92: _ | J92: Question 7b : Avez-vous connaissanc de la page FB ? | K92: =COUNTIFS(Données!U64:U10062, "oui", Données!I64:I10062, "AFE", Données!J64:J10062, "mardi") -> 0 | L92: =COUNTIFS(Données!U64:U10062, "non", Données!I64:I10062, "AFE", Données!J64:J10062, "mardi") -> 0 | M92: _ | R92: Question 7b : Avez-vous connaissanc de la page FB ? | S92: =COUNTIFS(Données!AC64:AC10062, "oui", Données!Q64:Q10062, "AS", Données!R64:R10062, "mardi") -> 0 | T92: =COUNTIFS(Données!AC64:AC10062, "non", Données!Q64:Q10062, "AS", Données!R64:R10062, "mardi") -> 0 | U92: _ | Z92: Question 7b : Avez-vous connaissanc de la page FB ? | AA92: =COUNTIFS(Données!AK64:AK10062, "oui", Données!Y64:Y10062, "VISAS", Données!Z64:Z10062, "mardi") -> 0 | AB92: =COUNTIFS(Données!AK64:AK10062, "non", Données!Y64:Y10062, "VISAS", Données!Z64:Z10062, "mardi") -> 0 | AC92: _
B94: Question 8 : Votre démarche était-elle réalisable sur internet ? | C94: =COUNTIFS(Données!N64:N10062, "oui", Données!A64:A10062, "EC", Données!B64:B10062, "mardi") -> 0 | D94: =COUNTIFS(Données!N64:N10062, "non", Données!A64:A10062, "EC", Données!B64:B10062, "mardi") -> 0 | E94: =COUNTIFS(Données!N64:N10062, "ne sais pas", Données!A64:A10062, "EC", Données!B64:B10062, "mardi") -> 0 | J94: Question 8 : Votre démarche était-elle réalisable sur internet ? | K94: =COUNTIFS(Données!V64:V10062, "oui", Données!I64:I10062, "AFE", Données!J64:J10062, "mardi") -> 0 | L94: =COUNTIFS(Données!V64:V10062, "non", Données!I64:I10062, "AFE", Données!J64:J10062, "mardi") -> 0 | M94: =COUNTIFS(Données!V64:V10062, "ne sais pas", Données!I64:I10062, "AFE", Données!J64:J10062, "mardi") -> 0 | R94: Question 8 : Votre démarche était-elle réalisable sur internet ? | S94: =COUNTIFS(Données!AD64:AD10062, "oui", Données!Q64:Q10062, "AS", Données!R64:R10062, "mardi") -> 0 | T94: =COUNTIFS(Données!AD64:AD10062, "non", Données!Q64:Q10062, "AS", Données!R64:R10062, "mardi") -> 0 | U94: =COUNTIFS(Données!AD64:AD10062, "ne sais pas", Données!Q64:Q10062, "AS", Données!R64:R10062, "mardi") -> 0 | Z94: Question 8 : Votre démarche était-elle réalisable sur internet ? | AA94: =COUNTIFS(Données!AL64:AL10062, "oui", Données!Y64:Y10062, "VISAS", Données!Z64:Z10062, "mardi") -> 0 | AB94: =COUNTIFS(Données!AL64:AL10062, "non", Données!Y64:Y10062, "VISAS", Données!Z64:Z10062, "mardi") -> 0 | AC94: =COUNTIFS(Données!AL64:AL10062, "ne sais pas", Données!Y64:Y10062, "VISAS", Données!Z64:Z10062, "mardi") -> 0
B96: Si OUI, en avez-vous été informé(e) ? | C96: =COUNTIFS(Données!M64:M10062, "oui", Données!A64:A10062, "EC", Données!B64:B10062, "mardi") -> 0 | D96: =COUNTIFS(Données!N64:N10062, "non", Données!A64:A10062, "EC", Données!B64:B10062, "mardi") -> 0 | E96: _ | J96: Si OUI, en avez-vous été informé(e) ? | K96: =COUNTIFS(Données!U64:U10062, "oui", Données!I64:I10062, "AFE", Données!J64:J10062, "mardi") -> 0 | L96: =COUNTIFS(Données!V64:V10062, "non", Données!I64:I10062, "AFE", Données!J64:J10062, "mardi") -> 0 | M96: _ | R96: Si OUI, en avez-vous été informé(e) ? | S96: =COUNTIFS(Données!AC64:AC10062, "oui", Données!Q64:Q10062, "AS", Données!R64:R10062, "mardi") -> 0 | T96: =COUNTIFS(Données!AD64:AD10062, "non", Données!Q64:Q10062, "AS", Données!R64:R10062, "mardi") -> 0 | U96: _ | Z96: Si OUI, en avez-vous été informé(e) ? | AA96: =COUNTIFS(Données!AK64:AK10062, "oui", Données!Y64:Y10062, "VISAS", Données!Z64:Z10062, "mardi") -> 0 | AB96: =COUNTIFS(Données!AL64:AL10062, "non", Données!Y64:Y10062, "VISAS", Données!Z64:Z10062, "mardi") -> 0 | AC96: _
B98: Question 9 : Réaliserez-vous la prochaine fois votre démarche sur internet ? | C98: =COUNTIFS(Données!O64:O10062, "oui", Données!A64:A10062, "EC", Données!B64:B10062, "mardi") -> 0 | D98: =COUNTIFS(Données!O64:O10062, "non", Données!A64:A10062, "EC", Données!B64:B10062, "mardi") -> 0 | E98: _ | J98: Question 9 : Réaliserez-vous la prochaine fois votre démarche sur internet ? | K98: =COUNTIFS(Données!W64:W10062, "oui", Données!I64:I10062, "AFE", Données!J64:J10062, "mardi") -> 0 | L98: =COUNTIFS(Données!W64:W10062, "non", Données!I64:I10062, "AFE", Données!J64:J10062, "mardi") -> 0 | M98: _ | R98: Question 9 : Réaliserez-vous la prochaine fois votre démarche sur internet ? | S98: =COUNTIFS(Données!AE64:AE10062, "oui", Données!Q64:Q10062, "AS", Données!R64:R10062, "mardi") -> 0 | T98: =COUNTIFS(Données!AE64:AE10062, "non", Données!Q64:Q10062, "AS", Données!R64:R10062, "mardi") -> 0 | U98: _ | Z98: Question 9 : Réaliserez-vous la prochaine fois votre démarche sur internet ? | AA98: =COUNTIFS(Données!AM64:AM10062, "oui", Données!Y64:Y10062, "VISAS", Données!Z64:Z10062, "mardi") -> 0 | AB98: =COUNTIFS(Données!AM64:AM10062, "non", Données!Y64:Y10062, "VISAS", Données!Z64:Z10062, "mardi") -> 0 | AC98: _
B100: Accueil au consulat | C100: très satisfaisant | D100: satisfaisant | E100: moy. satisfaisant | F100: pas du tout satisfaisant | J100: Accueil au consulat | K100: très satisfaisant | L100: satisfaisant | M100: moy. satisfaisant | N100: pas du tout satisfaisant | R100: Accueil au consulat | S100: très satisfaisant | T100: satisfaisant | U100: moy. satisfaisant | V100: pas du tout satisfaisant | Z100: Accueil au consulat | AA100: très satisfaisant | AB100: satisfaisant | AC100: moy. satisfaisant | AD100: pas du tout satisfaisant
B101: Question 10 : Comment qualifieriez-vous l’accueil qui vous a été réservé ? | J101: Question 10 : Comment qualifieriez-vous l’accueil qui vous a été réservé ? | R101: Question 10 : Comment qualifieriez-vous l’accueil qui vous a été réservé ? | Z101: Question 10 : Comment qualifieriez-vous l’accueil qui vous a été réservé ?
B102: Contrôle sécurité | C102: =COUNTIFS(Données!R64:R10062, "très satisfaisant", Données!A64:A10062, "EC", Données!B64:B10062, "mardi") -> 0 | D102: =COUNTIFS(Données!R64:R10062, "satisfaisant", Données!A64:A10062, "EC", Données!B64:B10062, "mardi") -> 0 | E102: =COUNTIFS(Données!S64:S10062, "moy. satisfaisant", Données!A64:A10062, "EC", Données!B64:B10062, "mardi") -> 0 | F102: =COUNTIFS(Données!R64:R10062, "pas du tout satisfaisant", Données!A64:A10062, "EC", Données!B64:B10062, "mardi") -> 0 | J102: Contrôle sécurité | K102: =COUNTIFS(Données!Z64:Z10062, "très satisfaisant", Données!I64:I10062, "AFE", Données!J64:J10062, "mardi") -> 0 | L102: =COUNTIFS(Données!Z64:Z10062, "satisfaisant", Données!I64:I10062, "AFE", Données!J64:J10062, "mardi") -> 0 | M102: =COUNTIFS(Données!AA64:AA10062, "moy. satisfaisant", Données!I64:I10062, "AFE", Données!J64:J10062, "mardi") -> 0 | N102: =COUNTIFS(Données!Z64:Z10062, "pas du tout satisfaisant", Données!I64:I10062, "AFE", Données!J64:J10062, "mardi") -> 0 | R102: Contrôle sécurité | S102: =COUNTIFS(Données!AH64:AH10062, "très satisfaisant", Données!Q64:Q10062, "AS", Données!R64:R10062, "mardi") -> 0 | T102: =COUNTIFS(Données!AH64:AH10062, "satisfaisant", Données!Q64:Q10062, "AS", Données!R64:R10062, "mardi") -> 0 | U102: =COUNTIFS(Données!AI64:AI10062, "moy. satisfaisant", Données!Q64:Q10062, "AS", Données!R64:R10062, "mardi") -> 0 | V102: =COUNTIFS(Données!AH64:AH10062, "pas du tout satisfaisant", Données!Q64:Q10062, "AS", Données!R64:R10062, "mardi") -> 0 | Z102: Contrôle sécurité | AA102: =COUNTIFS(Données!AP64:AP10062, "très satisfaisant", Données!Y64:Y10062, "VISAS", Données!Z64:Z10062, "mardi") -> 0 | AB102: =COUNTIFS(Données!AP64:AP10062, "satisfaisant", Données!Y64:Y10062, "VISAS", Données!Z64:Z10062, "mardi") -> 0 | AC102: =COUNTIFS(Données!AQ64:AQ10062, "moy. satisfaisant", Données!Y64:Y10062, "VISAS", Données!Z64:Z10062, "mardi") -> 0 | AD102: =COUNTIFS(Données!AP64:AP10062, "pas du tout satisfaisant", Données!Y64:Y10062, "VISAS", Données!Z64:Z10062, "mardi") -> 0
B103: Réception (accueil) | C103: =COUNTIFS(Données!S64:S10062, "très satisfaisant", Données!A64:A10062, "EC", Données!B64:B10062, "mardi") -> 0 | D103: =COUNTIFS(Données!S64:S10062, "satisfaisant", Données!A64:A10062, "EC", Données!B64:B10062, "mardi") -> 0 | E103: =COUNTIFS(Données!S64:S10062, "moy. satisfaisant", Données!A64:A10062, "EC", Données!B64:B10062, "mardi") -> 0 | F103: =COUNTIFS(Données!S64:S10062, "pas du tout satisfaisant", Données!A64:A10062, "EC", Données!B64:B10062, "mardi") -> 0 | J103: Réception (accueil) | K103: =COUNTIFS(Données!AA64:AA10062, "très satisfaisant", Données!I64:I10062, "AFE", Données!J64:J10062, "mardi") -> 0 | L103: =COUNTIFS(Données!AA64:AA10062, "satisfaisant", Données!I64:I10062, "AFE", Données!J64:J10062, "mardi") -> 0 | M103: =COUNTIFS(Données!AA64:AA10062, "moy. satisfaisant", Données!I64:I10062, "AFE", Données!J64:J10062, "mardi") -> 0 | N103: =COUNTIFS(Données!AA64:AA10062, "pas du tout satisfaisant", Données!I64:I10062, "AFE", Données!J64:J10062, "mardi") -> 0 | R103: Réception (accueil) | S103: =COUNTIFS(Données!AI64:AI10062, "très satisfaisant", Données!Q64:Q10062, "AS", Données!R64:R10062, "mardi") -> 0 | T103: =COUNTIFS(Données!AI64:AI10062, "satisfaisant", Données!Q64:Q10062, "AS", Données!R64:R10062, "mardi") -> 0 | U103: =COUNTIFS(Données!AI64:AI10062, "moy. satisfaisant", Données!Q64:Q10062, "AS", Données!R64:R10062, "mardi") -> 0 | V103: =COUNTIFS(Données!AI64:AI10062, "pas du tout satisfaisant", Données!Q64:Q10062, "AS", Données!R64:R10062, "mardi") -> 0 | Z103: Réception (accueil) | AA103: =COUNTIFS(Données!AQ64:AQ10062, "très satisfaisant", Données!Y64:Y10062, "VISAS", Données!Z64:Z10062, "mardi") -> 0 | AB103: =COUNTIFS(Données!AQ64:AQ10062, "satisfaisant", Données!Y64:Y10062, "VISAS", Données!Z64:Z10062, "mardi") -> 0 | AC103: =COUNTIFS(Données!AQ64:AQ10062, "moy. satisfaisant", Données!Y64:Y10062, "VISAS", Données!Z64:Z10062, "mardi") -> 0 | AD103: =COUNTIFS(Données!AQ64:AQ10062, "pas du tout satisfaisant", Données!Y64:Y10062, "VISAS", Données!Z64:Z10062, "mardi") -> 0
B104: Agent du bureau | C104: =COUNTIFS(Données!T64:T10062, "très satisfaisant", Données!A64:A10062, "EC", Données!B64:B10062, "mardi") -> 0 | D104: =COUNTIFS(Données!T64:T10062, "satisfaisant", Données!A64:A10062, "EC", Données!B64:B10062, "mardi") -> 0 | E104: =COUNTIFS(Données!T64:T10062, "moy. satisfaisant", Données!A64:A10062, "EC", Données!B64:B10062, "mardi") -> 0 | F104: =COUNTIFS(Données!T64:T10062, "pas du tout satisfaisant", Données!A64:A10062, "EC", Données!B64:B10062, "mardi") -> 0 | J104: Agent du bureau | K104: =COUNTIFS(Données!AB64:AB10062, "très satisfaisant", Données!I64:I10062, "AFE", Données!J64:J10062, "mardi") -> 0 | L104: =COUNTIFS(Données!AB64:AB10062, "satisfaisant", Données!I64:I10062, "AFE", Données!J64:J10062, "mardi") -> 0 | M104: =COUNTIFS(Données!AB64:AB10062, "moy. satisfaisant", Données!I64:I10062, "AFE", Données!J64:J10062, "mardi") -> 0 | N104: =COUNTIFS(Données!AB64:AB10062, "pas du tout satisfaisant", Données!I64:I10062, "AFE", Données!J64:J10062, "mardi") -> 0 | R104: Agent du bureau | S104: =COUNTIFS(Données!AJ64:AJ10062, "très satisfaisant", Données!Q64:Q10062, "AS", Données!R64:R10062, "mardi") -> 0 | T104: =COUNTIFS(Données!AJ64:AJ10062, "satisfaisant", Données!Q64:Q10062, "AS", Données!R64:R10062, "mardi") -> 0 | U104: =COUNTIFS(Données!AJ64:AJ10062, "moy. satisfaisant", Données!Q64:Q10062, "AS", Données!R64:R10062, "mardi") -> 0 | V104: =COUNTIFS(Données!AJ64:AJ10062, "pas du tout satisfaisant", Données!Q64:Q10062, "AS", Données!R64:R10062, "mardi") -> 0 | Z104: Agent du bureau | AA104: =COUNTIFS(Données!AR64:AR10062, "très satisfaisant", Données!Y64:Y10062, "VISAS", Données!Z64:Z10062, "mardi") -> 0 | AB104: =COUNTIFS(Données!AR64:AR10062, "satisfaisant", Données!Y64:Y10062, "VISAS", Données!Z64:Z10062, "mardi") -> 0 | AC104: =COUNTIFS(Données!AR64:AR10062, "moy. satisfaisant", Données!Y64:Y10062, "VISAS", Données!Z64:Z10062, "mardi") -> 0 | AD104: =COUNTIFS(Données!AR64:AR10062, "pas du tout satisfaisant", Données!Y64:Y10062, "VISAS", Données!Z64:Z10062, "mardi") -> 0
B105: Délai d'attente | C105: oui | D105: non | J105: Délai d'attente | K105: oui | L105: non | R105: Délai d'attente | S105: oui | T105: non | Z105: Délai d'attente | AA105: oui | AB105: non
B106: Question 11 : Aviez-vous pris rendez-vous ? | C106: =COUNTIFS(Données!U64:U10062, "oui", Données!A64:A10062, "EC", Données!B64:B10062, "mardi") -> 0 | D106: =COUNTIFS(Données!U64:U10062, "oui", Données!A64:A10062, "EC", Données!B64:B10062, "mardi") -> 0 | J106: Question 11 : Aviez-vous pris rendez-vous ? | K106: =COUNTIFS(Données!AC64:AC10062, "oui", Données!I64:I10062, "AFE", Données!J64:J10062, "mardi") -> 0 | L106: =COUNTIFS(Données!AC64:AC10062, "oui", Données!I64:I10062, "AFE", Données!J64:J10062, "mardi") -> 0 | R106: Question 11 : Aviez-vous pris rendez-vous ? | S106: =COUNTIFS(Données!AK64:AK10062, "oui", Données!Q64:Q10062, "AS", Données!R64:R10062, "mardi") -> 0 | T106: =COUNTIFS(Données!AK64:AK10062, "oui", Données!Q64:Q10062, "AS", Données!R64:R10062, "mardi") -> 0 | Z106: Question 11 : Aviez-vous pris rendez-vous ? | AA106: =COUNTIFS(Données!AS64:AS10062, "oui", Données!Y64:Y10062, "VISAS", Données!Z64:Z10062, "mardi") -> 0 | AB106: =COUNTIFS(Données!AS64:AS10062, "oui", Données!Y64:Y10062, "VISAS", Données!Z64:Z10062, "mardi") -> 0
B107: Si OUI, vous avez été reçu « … » ? | C107: A l'heure | D107: En retard | J107: Si OUI, vous avez été reçu « … » ? | K107: A l'heure | L107: En retard | R107: Si OUI, vous avez été reçu « … » ? | S107: A l'heure | T107: En retard | Z107: Si OUI, vous avez été reçu « … » ? | AA107: A l'heure | AB107: En retard
C109: =COUNTIFS(Données!V64:V10062, "A l'heure", Données!A64:A10062, "EC", Données!B64:B10062, "mardi") -> 0 | D109: =COUNTIFS(Données!V64:V10062, "En retard", Données!A64:A10062, "EC", Données!B64:B10062, "mardi") -> 0 | K109: =COUNTIFS(Données!AD64:AD10062, "A l'heure", Données!I64:I10062, "AFE", Données!J64:J10062, "mardi") -> 0 | L109: =COUNTIFS(Données!AD64:AD10062, "En retard", Données!I64:I10062, "AFE", Données!J64:J10062, "mardi") -> 0 | S109: =COUNTIFS(Données!AL64:AL10062, "A l'heure", Données!Q64:Q10062, "AS", Données!R64:R10062, "mardi") -> 0 | T109: =COUNTIFS(Données!AL64:AL10062, "En retard", Données!Q64:Q10062, "AS", Données!R64:R10062, "mardi") -> 0 | AA109: =COUNTIFS(Données!AT64:AT10062, "A l'heure", Données!Y64:Y10062, "VISAS", Données!Z64:Z10062, "mardi") -> 0 | AB109: =COUNTIFS(Données!AT64:AT10062, "En retard", Données!Y64:Y10062, "VISAS", Données!Z64:Z10062, "mardi") -> 0
B110: Si en EN RETARD, vous estimez votre temps d’attente compris entre : | C110: 0-15 | D110: 15-30 | E110: 30-60 | F110: plus 60 | J110: Si en EN RETARD, vous estimez votre temps d’attente compris entre : | K110: 0-15 | L110: 15-30 | M110: 30-60 | N110: plus 60 | R110: Si en EN RETARD, vous estimez votre temps d’attente compris entre : | S110: 0-15 | T110: 15-30 | U110: 30-60 | V110: plus 60 | Z110: Si en EN RETARD, vous estimez votre temps d’attente compris entre : | AA110: 0-15 | AB110: 15-30 | AC110: 30-60 | AD110: plus 60
C112: =COUNTIFS(Données!W64:W10062, "0-15", Données!A64:A10062, "EC", Données!B64:B10062, "mardi") -> 0 | D112: =COUNTIFS(Données!W64:W10062, "15-30", Données!A64:A10062, "EC", Données!B64:B10062, "mardi") -> 0 | E112: =COUNTIFS(Données!W64:W10062, "30-60", Données!A64:A10062, "EC", Données!B64:B10062, "mardi") -> 0 | F112: =COUNTIFS(Données!W64:W10062, "plus 60", Données!A64:A10062, "EC", Données!B64:B10062, "mardi") -> 0 | K112: =COUNTIFS(Données!AE64:AE10062, "0-15", Données!I64:I10062, "AFE", Données!J64:J10062, "mardi") -> 0 | L112: =COUNTIFS(Données!AE64:AE10062, "15-30", Données!I64:I10062, "AFE", Données!J64:J10062, "mardi") -> 0 | M112: =COUNTIFS(Données!AE64:AE10062, "30-60", Données!I64:I10062, "AFE", Données!J64:J10062, "mardi") -> 0 | N112: =COUNTIFS(Données!AE64:AE10062, "plus 60", Données!I64:I10062, "AFE", Données!J64:J10062, "mardi") -> 0 | S112: =COUNTIFS(Données!AM64:AM10062, "0-15", Données!Q64:Q10062, "AS", Données!R64:R10062, "mardi") -> 0 | T112: =COUNTIFS(Données!AM64:AM10062, "15-30", Données!Q64:Q10062, "AS", Données!R64:R10062, "mardi") -> 0 | U112: =COUNTIFS(Données!AM64:AM10062, "30-60", Données!Q64:Q10062, "AS", Données!R64:R10062, "mardi") -> 0 | V112: =COUNTIFS(Données!AM64:AM10062, "plus 60", Données!Q64:Q10062, "AS", Données!R64:R10062, "mardi") -> 0 | AA112: =COUNTIFS(Données!AU64:AU10062, "0-15", Données!Y64:Y10062, "VISAS", Données!Z64:Z10062, "mardi") -> 0 | AB112: =COUNTIFS(Données!AU64:AU10062, "15-30", Données!Y64:Y10062, "VISAS", Données!Z64:Z10062, "mardi") -> 0 | AC112: =COUNTIFS(Données!AU64:AU10062, "30-60", Données!Y64:Y10062, "VISAS", Données!Z64:Z10062, "mardi") -> 0 | AD112: =COUNTIFS(Données!AU64:AU10062, "plus 60", Données!Y64:Y10062, "VISAS", Données!Z64:Z10062, "mardi") -> 0
B113: Question 12 : Vous n’aviez PAS RENDEZ-VOUS, à combien estimez-vous votre temps d’attente ? | C113: 0-15 | D113: 15-30 | E113: 30-60 | F113: plus 60 | J113: Question 12 : Vous n’aviez PAS RENDEZ-VOUS, à combien estimez-vous votre temps d’attente ? | K113: 0-15 | L113: 15-30 | M113: 30-60 | N113: plus 60 | R113: Question 12 : Vous n’aviez PAS RENDEZ-VOUS, à combien estimez-vous votre temps d’attente ? | S113: 0-15 | T113: 15-30 | U113: 30-60 | V113: plus 60 | Z113: Question 12 : Vous n’aviez PAS RENDEZ-VOUS, à combien estimez-vous votre temps d’attente ? | AA113: 0-15 | AB113: 15-30 | AC113: 30-60 | AD113: plus 60
C115: =COUNTIFS(Données!X64:X10062, "0-15", Données!A64:A10062, "EC", Données!B64:B10062, "mardi") -> 0 | D115: =COUNTIFS(Données!X64:X10062, "15-30", Données!A64:A10062, "EC", Données!B64:B10062, "mardi") -> 0 | E115: =COUNTIFS(Données!X64:X10062, "30-60", Données!A64:A10062, "EC", Données!B64:B10062, "mardi") -> 0 | F115: =COUNTIFS(Données!X64:X10062, "plus 60", Données!A64:A10062, "EC", Données!B64:B10062, "mardi") -> 0 | K115: =COUNTIFS(Données!AF64:AF10062, "0-15", Données!I64:I10062, "AFE", Données!J64:J10062, "mardi") -> 0 | L115: =COUNTIFS(Données!AF64:AF10062, "15-30", Données!I64:I10062, "AFE", Données!J64:J10062, "mardi") -> 0 | M115: =COUNTIFS(Données!AF64:AF10062, "30-60", Données!I64:I10062, "AFE", Données!J64:J10062, "mardi") -> 0 | N115: =COUNTIFS(Données!AF64:AF10062, "plus 60", Données!I64:I10062, "AFE", Données!J64:J10062, "mardi") -> 0 | S115: =COUNTIFS(Données!AN64:AN10062, "0-15", Données!Q64:Q10062, "AS", Données!R64:R10062, "mardi") -> 0 | T115: =COUNTIFS(Données!AN64:AN10062, "15-30", Données!Q64:Q10062, "AS", Données!R64:R10062, "mardi") -> 0 | U115: =COUNTIFS(Données!AN64:AN10062, "30-60", Données!Q64:Q10062, "AS", Données!R64:R10062, "mardi") -> 0 | V115: =COUNTIFS(Données!AN64:AN10062, "plus 60", Données!Q64:Q10062, "AS", Données!R64:R10062, "mardi") -> 0 | AA115: =COUNTIFS(Données!AV64:AV10062, "0-15", Données!Y64:Y10062, "VISAS", Données!Z64:Z10062, "mardi") -> 0 | AB115: =COUNTIFS(Données!AV64:AV10062, "15-30", Données!Y64:Y10062, "VISAS", Données!Z64:Z10062, "mardi") -> 0 | AC115: =COUNTIFS(Données!AV64:AV10062, "30-60", Données!Y64:Y10062, "VISAS", Données!Z64:Z10062, "mardi") -> 0 | AD115: =COUNTIFS(Données!AV64:AV10062, "plus 60", Données!Y64:Y10062, "VISAS", Données!Z64:Z10062, "mardi") -> 0
B116: Sécurité | C116: oui | D116: non | J116: Sécurité | K116: oui | L116: non | R116: Sécurité | S116: oui | T116: non | Z116: Sécurité | AA116: oui | AB116: non
B117: 1. Connaissez-vous le nom et les coordonnées de votre ilotier ? | C117: =COUNTIFS(Données!Z64:Z10062, "oui", Données!A64:A10062, "EC", Données!B64:B10062, "mardi") -> 0 | D117: =COUNTIFS(Données!Z64:Z10062, "non", Données!A64:A10062, "EC", Données!B64:B10062, "mardi") -> 0 | J117: 1. Connaissez-vous le nom et les coordonnées de votre ilotier ? | K117: =COUNTIFS(Données!AH64:AH10062, "oui", Données!I64:I10062, "AFE", Données!J64:J10062, "mardi") -> 0 | L117: =COUNTIFS(Données!AH64:AH10062, "non", Données!I64:I10062, "AFE", Données!J64:J10062, "mardi") -> 0 | R117: 1. Connaissez-vous le nom et les coordonnées de votre ilotier ? | S117: =COUNTIFS(Données!AP64:AP10062, "oui", Données!Q64:Q10062, "AS", Données!R64:R10062, "mardi") -> 0 | T117: =COUNTIFS(Données!AP64:AP10062, "non", Données!Q64:Q10062, "AS", Données!R64:R10062, "mardi") -> 0 | Z117: 1. Connaissez-vous le nom et les coordonnées de votre ilotier ? | AA117: =COUNTIFS(Données!AX64:AX10062, "oui", Données!Y64:Y10062, "VISAS", Données!Z64:Z10062, "mardi") -> 0 | AB117: =COUNTIFS(Données!AX64:AX10062, "non", Données!Y64:Y10062, "VISAS", Données!Z64:Z10062, "mardi") -> 0
B118: 2. Savez-vous quel est son rôle ? | C118: =COUNTIFS(Données!AA64:AA10062, "oui", Données!A64:A10062, "EC", Données!B64:B10062, "mardi") -> 0 | D118: =COUNTIFS(Données!AA64:AA10062, "non", Données!A64:A10062, "EC", Données!B64:B10062, "mardi") -> 0 | J118: 2. Savez-vous quel est son rôle ? | K118: =COUNTIFS(Données!AI64:AI10062, "oui", Données!I64:I10062, "AFE", Données!J64:J10062, "mardi") -> 0 | L118: =COUNTIFS(Données!AI64:AI10062, "non", Données!I64:I10062, "AFE", Données!J64:J10062, "mardi") -> 0 | R118: 2. Savez-vous quel est son rôle ? | S118: =COUNTIFS(Données!AQ64:AQ10062, "oui", Données!Q64:Q10062, "AS", Données!R64:R10062, "mardi") -> 0 | T118: =COUNTIFS(Données!AQ64:AQ10062, "non", Données!Q64:Q10062, "AS", Données!R64:R10062, "mardi") -> 0 | Z118: 2. Savez-vous quel est son rôle ? | AA118: =COUNTIFS(Données!AY64:AY10062, "oui", Données!Y64:Y10062, "VISAS", Données!Z64:Z10062, "mardi") -> 0 | AB118: =COUNTIFS(Données!AY64:AY10062, "non", Données!Y64:Y10062, "VISAS", Données!Z64:Z10062, "mardi") -> 0
B119: ARIANE | C119: =COUNTIFS(Données!AB64:AB10062, "oui", Données!A64:A10062, "EC", Données!B64:B10062, "mardi") -> 0 | D119: =COUNTIFS(Données!AB64:AB10062, "non", Données!A64:A10062, "EC", Données!B64:B10062, "mardi") -> 0 | J119: ARIANE | K119: =COUNTIFS(Données!AJ64:AJ10062, "oui", Données!I64:I10062, "AFE", Données!J64:J10062, "mardi") -> 0 | L119: =COUNTIFS(Données!AJ64:AJ10062, "non", Données!I64:I10062, "AFE", Données!J64:J10062, "mardi") -> 0 | R119: ARIANE | S119: =COUNTIFS(Données!AR64:AR10062, "oui", Données!Q64:Q10062, "AS", Données!R64:R10062, "mardi") -> 0 | T119: =COUNTIFS(Données!AR64:AR10062, "non", Données!Q64:Q10062, "AS", Données!R64:R10062, "mardi") -> 0 | Z119: ARIANE | AA119: =COUNTIFS(Données!AZ64:AZ10062, "oui", Données!Y64:Y10062, "VISAS", Données!Z64:Z10062, "mardi") -> 0 | AB119: =COUNTIFS(Données!AZ64:AZ10062, "non", Données!Y64:Y10062, "VISAS", Données!Z64:Z10062, "mardi") -> 0
B120: Evaluation globale | C120: très satisfaisant | D120: satisfaisant | E120: moy. satisfaisant | F120: pas du tout satisfaisant | J120: Evaluation globale | K120: très satisfaisant | L120: satisfaisant | M120: moy. satisfaisant | N120: pas du tout satisfaisant | R120: Evaluation globale | S120: très satisfaisant | T120: satisfaisant | U120: moy. satisfaisant | V120: pas du tout satisfaisant | Z120: Evaluation globale | AA120: très satisfaisant | AB120: satisfaisant | AC120: moy. satisfaisant | AD120: pas du tout satisfaisant
C122: =COUNTIFS(Données!AC64:AC10062, "très satisfaisant", Données!A64:A10062, "EC", Données!B64:B10062, "mardi") -> 0 | D122: =COUNTIFS(Données!AC64:AC10062, "satisfaisant", Données!A64:A10062, "EC", Données!B64:B10062, "mardi") -> 0 | E122: =COUNTIFS(Données!AC64:AC10062, "moy. satisfaisant", Données!A64:A10062, "EC", Données!B64:B10062, "mardi") -> 0 | F122: =COUNTIFS(Données!AC64:AC10062, "pas du tout satisfaisant", Données!A64:A10062, "EC", Données!B64:B10062, "mardi") -> 0 | K122: =COUNTIFS(Données!AK64:AK10062, "très satisfaisant", Données!I64:I10062, "AFE", Données!J64:J10062, "mardi") -> 0 | L122: =COUNTIFS(Données!AK64:AK10062, "satisfaisant", Données!I64:I10062, "AFE", Données!J64:J10062, "mardi") -> 0 | M122: =COUNTIFS(Données!AK64:AK10062, "moy. satisfaisant", Données!I64:I10062, "AFE", Données!J64:J10062, "mardi") -> 0 | N122: =COUNTIFS(Données!AK64:AK10062, "pas du tout satisfaisant", Données!I64:I10062, "AFE", Données!J64:J10062, "mardi") -> 0 | S122: =COUNTIFS(Données!AS64:AS10062, "très satisfaisant", Données!Q64:Q10062, "AS", Données!R64:R10062, "mardi") -> 0 | T122: =COUNTIFS(Données!AS64:AS10062, "satisfaisant", Données!Q64:Q10062, "AS", Données!R64:R10062, "mardi") -> 0 | U122: =COUNTIFS(Données!AS64:AS10062, "moy. satisfaisant", Données!Q64:Q10062, "AS", Données!R64:R10062, "mardi") -> 0 | V122: =COUNTIFS(Données!AS64:AS10062, "pas du tout satisfaisant", Données!Q64:Q10062, "AS", Données!R64:R10062, "mardi") -> 0 | AA122: =COUNTIFS(Données!BA64:BA10062, "très satisfaisant", Données!Y64:Y10062, "VISAS", Données!Z64:Z10062, "mardi") -> 0 | AB122: =COUNTIFS(Données!BA64:BA10062, "satisfaisant", Données!Y64:Y10062, "VISAS", Données!Z64:Z10062, "mardi") -> 0 | AC122: =COUNTIFS(Données!BA64:BA10062, "moy. satisfaisant", Données!Y64:Y10062, "VISAS", Données!Z64:Z10062, "mardi") -> 0 | AD122: =COUNTIFS(Données!BA64:BA10062, "pas du tout satisfaisant", Données!Y64:Y10062, "VISAS", Données!Z64:Z10062, "mardi") -> 0
A127: MERCREDI | B127: ETAT-CIVIL | C127: REPONSES | I127: MERCREDI | J127: AFE | K127: REPONSES | Q127: MERCREDI | R127: AS | S127: REPONSES | Y127: MERCREDI | Z127: VISAS | AA127: REPONSES
B129: Votre démarche | C129: oui | D129: non | J129: Votre démarche | K129: oui | L129: non | R129: Votre démarche | S129: oui | T129: non | Z129: Votre démarche | AA129: oui | AB129: non
B130: Question 2 : Avez-vous pu arriver à terme de la démarche que vous venez d’entreprendre ? | C130: =COUNTIFS(Données!C126:C10124, "oui", Données!A126:A10124, "EC", Données!B126:B10124, "mercredi") -> 0 | D130: =COUNTIFS(Données!C126:C10124, "non", Données!A126:A10124, "EC", Données!B126:B10124, "mercredi") -> 0 | J130: Question 2 : Avez-vous pu arriver à terme de la démarche que vous venez d’entreprendre ? | K130: =COUNTIFS(Données!K126:K10124, "oui", Données!I126:I10124, "AFE", Données!J126:J10124, "mercredi") -> 0 | L130: =COUNTIFS(Données!K126:K10124, "non", Données!I126:I10124, "AFE", Données!J126:J10124, "mercredi") -> 0 | R130: Question 2 : Avez-vous pu arriver à terme de la démarche que vous venez d’entreprendre ? | S130: =COUNTIFS(Données!S126:S10124, "oui", Données!Q126:Q10124, "AS", Données!R126:R10124, "mercredi") -> 0 | T130: =COUNTIFS(Données!S126:S10124, "non", Données!Q126:Q10124, "AS", Données!R126:R10124, "mercredi") -> 0 | Z130: Question 2 : Avez-vous pu arriver à terme de la démarche que vous venez d’entreprendre ? | AA130: =COUNTIFS(Données!AA126:AA10124, "oui", Données!Y126:Y10124, "VISAS", Données!Z126:Z10124, "mercredi") -> 0 | AB130: =COUNTIFS(Données!AA126:AA10124, "non", Données!Y126:Y10124, "VISAS", Données!Z126:Z10124, "mercredi") -> 0
B132: Si NON, savez-vous pourquoi ? | C132: =COUNTIFS(Données!D126:D10124, "oui", Données!A126:A10124, "EC", Données!B126:B10124, "mercredi") -> 0 | D132: =COUNTIFS(Données!D126:D10124, "non", Données!A126:A10124, "EC", Données!B126:B10124, "mercredi") -> 0 | J132: Si NON, savez-vous pourquoi ? | K132: =COUNTIFS(Données!L126:L10124, "oui", Données!I126:I10124, "AFE", Données!J126:J10124, "mercredi") -> 0 | L132: =COUNTIFS(Données!L126:L10124, "non", Données!I126:I10124, "AFE", Données!J126:J10124, "mercredi") -> 0 | R132: Si NON, savez-vous pourquoi ? | S132: =COUNTIFS(Données!T126:T10124, "oui", Données!Q126:Q10124, "AS", Données!R126:R10124, "mercredi") -> 0 | T132: =COUNTIFS(Données!T126:T10124, "non", Données!Q126:Q10124, "AS", Données!R126:R10124, "mercredi") -> 0 | Z132: Si NON, savez-vous pourquoi ? | AA132: =COUNTIFS(Données!AB126:AB10124, "oui", Données!Y126:Y10124, "VISAS", Données!Z126:Z10124, "mercredi") -> 0 | AB132: =COUNTIFS(Données!AB126:AB10124, "non", Données!Y126:Y10124, "VISAS", Données!Z126:Z10124, "mercredi") -> 0
B134: Question 2b : Avez-vous été informé du délai et des modalités nécessaires à sa réalisation ? | C134: =COUNTIFS(Données!E126:E10124, "oui", Données!A126:A10124, "EC", Données!B126:B10124, "mercredi") -> 0 | D134: =COUNTIFS(Données!E126:E10124, "non", Données!A126:A10124, "EC", Données!B126:B10124, "mercredi") -> 0 | J134: Question 2b : Avez-vous été informé du délai et des modalités nécessaires à sa réalisation ? | K134: =COUNTIFS(Données!M126:M10124, "oui", Données!I126:I10124, "AFE", Données!J126:J10124, "mercredi") -> 0 | L134: =COUNTIFS(Données!M126:M10124, "non", Données!I126:I10124, "AFE", Données!J126:J10124, "mercredi") -> 0 | R134: Question 2b : Avez-vous été informé du délai et des modalités nécessaires à sa réalisation ? | S134: =COUNTIFS(Données!U126:U10124, "oui", Données!Q126:Q10124, "AS", Données!R126:R10124, "mercredi") -> 0 | T134: =COUNTIFS(Données!U126:U10124, "non", Données!Q126:Q10124, "AS", Données!R126:R10124, "mercredi") -> 0 | Z134: Question 2b : Avez-vous été informé du délai et des modalités nécessaires à sa réalisation ? | AA134: =COUNTIFS(Données!AC126:AC10124, "oui", Données!Y126:Y10124, "VISAS", Données!Z126:Z10124, "mercredi") -> 0 | AB134: =COUNTIFS(Données!AC126:AC10124, "non", Données!Y126:Y10124, "VISAS", Données!Z126:Z10124, "mercredi") -> 0
B136: Premier contact avec le Consulat | C136: oui | D136: non | J136: Premier contact avec le Consulat | K136: oui | L136: non | R136: Premier contact avec le Consulat | S136: oui | T136: non | Z136: Premier contact avec le Consulat | AA136: oui | AB136: non
B137: Question 3 : Avez-vous pris contact avec le consulat avant d’effectuer votre démarche ? | C137: =COUNTIFS(Données!F126:F10124, "oui", Données!A126:A10124, "EC", Données!B126:B10124, "mercredi") -> 0 | D137: =COUNTIFS(Données!F126:F10124, "non", Données!A126:A10124, "EC", Données!B126:B10124, "mercredi") -> 0 | J137: Question 3 : Avez-vous pris contact avec le consulat avant d’effectuer votre démarche ? | K137: =COUNTIFS(Données!N126:N10124, "oui", Données!I126:I10124, "AFE", Données!J126:J10124, "mercredi") -> 0 | L137: =COUNTIFS(Données!N126:N10124, "non", Données!I126:I10124, "AFE", Données!J126:J10124, "mercredi") -> 0 | R137: Question 3 : Avez-vous pris contact avec le consulat avant d’effectuer votre démarche ? | S137: =COUNTIFS(Données!V126:V10124, "oui", Données!Q126:Q10124, "AS", Données!R126:R10124, "mercredi") -> 0 | T137: =COUNTIFS(Données!V126:V10124, "non", Données!Q126:Q10124, "AS", Données!R126:R10124, "mercredi") -> 0 | Z137: Question 3 : Avez-vous pris contact avec le consulat avant d’effectuer votre démarche ? | AA137: =COUNTIFS(Données!AD126:AD10124, "oui", Données!Y126:Y10124, "VISAS", Données!Z126:Z10124, "mercredi") -> 0 | AB137: =COUNTIFS(Données!AD126:AD10124, "non", Données!Y126:Y10124, "VISAS", Données!Z126:Z10124, "mercredi") -> 0
B139: Si OUI, par quels moyens ? (entourez la réponse) : | C139: téléphone | D139: mail | E139: sur place | J139: Si OUI, par quels moyens ? (entourez la réponse) : | K139: téléphone | L139: mail | M139: sur place | R139: Si OUI, par quels moyens ? (entourez la réponse) : | S139: téléphone | T139: mail | U139: sur place | Z139: Si OUI, par quels moyens ? (entourez la réponse) : | AA139: téléphone | AB139: mail | AC139: sur place
C141: =COUNTIFS(Données!G126:G10124, "téléphone", Données!A126:A10124, "EC", Données!B126:B10124, "mercredi") -> 0 | D141: =COUNTIFS(Données!G126:G10124, "mail", Données!A126:A10124, "EC", Données!B126:B10124, "mercredi") -> 0 | E141: =COUNTIFS(Données!G126:G10124, "sur place", Données!A126:A10124, "EC", Données!B126:B10124, "mercredi") -> 0 | K141: =COUNTIFS(Données!O126:O10124, "téléphone", Données!I126:I10124, "AFE", Données!J126:J10124, "mercredi") -> 0 | L141: =COUNTIFS(Données!O126:O10124, "mail", Données!I126:I10124, "AFE", Données!J126:J10124, "mercredi") -> 0 | M141: =COUNTIFS(Données!O126:O10124, "sur place", Données!I126:I10124, "AFE", Données!J126:J10124, "mercredi") -> 0 | S141: =COUNTIFS(Données!W126:W10124, "téléphone", Données!Q126:Q10124, "AS", Données!R126:R10124, "mercredi") -> 0 | T141: =COUNTIFS(Données!W126:W10124, "mail", Données!Q126:Q10124, "AS", Données!R126:R10124, "mercredi") -> 0 | U141: =COUNTIFS(Données!W126:W10124, "sur place", Données!Q126:Q10124, "AS", Données!R126:R10124, "mercredi") -> 0 | AA141: =COUNTIFS(Données!AE126:AE10124, "téléphone", Données!Y126:Y10124, "VISAS", Données!Z126:Z10124, "mercredi") -> 0 | AB141: =COUNTIFS(Données!AE126:AE10124, "mail", Données!Y126:Y10124, "VISAS", Données!Z126:Z10124, "mercredi") -> 0 | AC141: =COUNTIFS(Données!AE126:AE10124, "sur place", Données!Y126:Y10124, "VISAS", Données!Z126:Z10124, "mercredi") -> 0
B142: Question 4 : Quel a été le délai de réponse suite à cette première prise de contact ? | C142: immédiat | D142: moins 24h | E142: entre 24 et 48h | F142: plus de 48h | J142: Question 4 : Quel a été le délai de réponse suite à cette première prise de contact ? | K142: immédiat | L142: moins 24h | M142: entre 24 et 48h | N142: plus de 48h | R142: Question 4 : Quel a été le délai de réponse suite à cette première prise de contact ? | S142: immédiat | T142: moins 24h | U142: entre 24 et 48h | V142: plus de 48h | Z142: Question 4 : Quel a été le délai de réponse suite à cette première prise de contact ? | AA142: immédiat | AB142: moins 24h | AC142: entre 24 et 48h | AD142: plus de 48h
C144: =COUNTIFS(Données!H126:H10124, "immédiat", Données!A126:A10124, "EC", Données!B126:B10124, "mercredi") -> 0 | D144: =COUNTIFS(Données!H126:H10124, "entre 24-48h", Données!A126:A10124, "EC", Données!B126:B10124, "mercredi") -> 0 | E144: =COUNTIFS(Données!H126:H10124, "entre 24-48h", Données!A126:A10124, "EC", Données!B126:B10124, "mercredi") -> 0 | F144: =COUNTIFS(Données!H126:H10124, "plus de 48h", Données!A126:A10124, "EC", Données!B126:B10124, "mercredi") -> 0 | K144: =COUNTIFS(Données!P126:P10124, "immédiat", Données!I126:I10124, "AFE", Données!J126:J10124, "mercredi") -> 0 | L144: =COUNTIFS(Données!P126:P10124, "entre 24-48h", Données!I126:I10124, "AFE", Données!J126:J10124, "mercredi") -> 0 | M144: =COUNTIFS(Données!P126:P10124, "entre 24-48h", Données!I126:I10124, "AFE", Données!J126:J10124, "mercredi") -> 0 | N144: =COUNTIFS(Données!P126:P10124, "plus de 48h", Données!I126:I10124, "AFE", Données!J126:J10124, "mercredi") -> 0 | S144: =COUNTIFS(Données!X126:X10124, "immédiat", Données!Q126:Q10124, "AS", Données!R126:R10124, "mercredi") -> 0 | T144: =COUNTIFS(Données!X126:X10124, "entre 24-48h", Données!Q126:Q10124, "AS", Données!R126:R10124, "mercredi") -> 0 | U144: =COUNTIFS(Données!X126:X10124, "entre 24-48h", Données!Q126:Q10124, "AS", Données!R126:R10124, "mercredi") -> 0 | V144: =COUNTIFS(Données!X126:X10124, "plus de 48h", Données!Q126:Q10124, "AS", Données!R126:R10124, "mercredi") -> 0 | AA144: =COUNTIFS(Données!AF126:AF10124, "immédiat", Données!Y126:Y10124, "VISAS", Données!Z126:Z10124, "mercredi") -> 0 | AB144: =COUNTIFS(Données!AF126:AF10124, "entre 24-48h", Données!Y126:Y10124, "VISAS", Données!Z126:Z10124, "mercredi") -> 0 | AC144: =COUNTIFS(Données!AF126:AF10124, "entre 24-48h", Données!Y126:Y10124, "VISAS", Données!Z126:Z10124, "mercredi") -> 0 | AD144: =COUNTIFS(Données!AF126:AF10124, "plus de 48h", Données!Y126:Y10124, "VISAS", Données!Z126:Z10124, "mercredi") -> 0
B145: Question 5 : Quel a été le nombre d’appels nécessaires pour accéder à… | C145: un agent | D145: l’information | J145: Question 5 : Quel a été le nombre d’appels nécessaires pour accéder à… | K145: un agent | L145: l’information | R145: Question 5 : Quel a été le nombre d’appels nécessaires pour accéder à… | S145: un agent | T145: l’information | Z145: Question 5 : Quel a été le nombre d’appels nécessaires pour accéder à… | AA145: un agent | AB145: l’information
C147: =SUMIFS(Données!I:I,Données!A:A,"EC",Données!B:B,"mercredi") -> 0 | D147: =SUMIFS(Données!J:J,Données!A:A,"EC",Données!B:B,"mercredi") -> 0 | K147: =SUMIFS(Données!Q:Q,Données!I:I,"AFE",Données!J:J,"mercredi") -> 0 | L147: =SUMIFS(Données!R:R,Données!I:I,"AFE",Données!J:J,"mercredi") -> 0 | S147: =SUMIFS(Données!Y:Y,Données!Q:Q,"AS",Données!R:R,"mercredi") -> 0 | T147: =SUMIFS(Données!Z:Z,Données!Q:Q,"AS",Données!R:R,"mercredi") -> 0 | AA147: =SUMIFS(Données!AG:AG,Données!Y:Y,"VISAS",Données!Z:Z,"mercredi") -> 0 | AB147: =SUMIFS(Données!AH:AH,Données!Y:Y,"VISAS",Données!Z:Z,"mercredi") -> 0
B148: Question 6 : In fine, avez-vous été satisfait(e) de la réponse obtenue ? Pour quelles raisons ? | C148: complètement | D148: partiellement | E148: pas du tout | J148: Question 6 : In fine, avez-vous été satisfait(e) de la réponse obtenue ? Pour quelles raisons ? | K148: complètement | L148: partiellement | M148: pas du tout | R148: Question 6 : In fine, avez-vous été satisfait(e) de la réponse obtenue ? Pour quelles raisons ? | S148: complètement | T148: partiellement | U148: pas du tout | Z148: Question 6 : In fine, avez-vous été satisfait(e) de la réponse obtenue ? Pour quelles raisons ? | AA148: complètement | AB148: partiellement | AC148: pas du tout
C150: =COUNTIFS(Données!K126:K10124, "complet", Données!A126:A10124, "EC", Données!B126:B10124, "mercredi") -> 0 | D150: =COUNTIFS(Données!K126:K10124, "partiel", Données!A126:A10124, "EC", Données!B126:B10124, "mercredi") -> 0 | E150: =COUNTIFS(Données!K126:K10124, "pas du tout", Données!A126:A10124, "EC", Données!B126:B10124, "mercredi") -> 0 | K150: =COUNTIFS(Données!S126:S10124, "complet", Données!I126:I10124, "AFE", Données!J126:J10124, "mercredi") -> 0 | L150: =COUNTIFS(Données!S126:S10124, "partiel", Données!I126:I10124, "AFE", Données!J126:J10124, "mercredi") -> 0 | M150: =COUNTIFS(Données!S126:S10124, "pas du tout", Données!I126:I10124, "AFE", Données!J126:J10124, "mercredi") -> 0 | S150: =COUNTIFS(Données!AA126:AA10124, "complet", Données!Q126:Q10124, "AS", Données!R126:R10124, "mercredi") -> 0 | T150: =COUNTIFS(Données!AA126:AA10124, "partiel", Données!Q126:Q10124, "AS", Données!R126:R10124, "mercredi") -> 0 | U150: =COUNTIFS(Données!AA126:AA10124, "pas du tout", Données!Q126:Q10124, "AS", Données!R126:R10124, "mercredi") -> 0 | AA150: =COUNTIFS(Données!AI126:AI10124, "complet", Données!Y126:Y10124, "VISAS", Données!Z126:Z10124, "mercredi") -> 0 | AB150: =COUNTIFS(Données!AI126:AI10124, "partiel", Données!Y126:Y10124, "VISAS", Données!Z126:Z10124, "mercredi") -> 0 | AC150: =COUNTIFS(Données!AI126:AI10124, "pas du tout", Données!Y126:Y10124, "VISAS", Données!Z126:Z10124, "mercredi") -> 0
B151: Communication internet | C151: oui | D151: non | E151: ne sais pas | J151: Communication internet | K151: oui | L151: non | M151: ne sais pas | R151: Communication internet | S151: oui | T151: non | U151: ne sais pas | Z151: Communication internet | AA151: oui | AB151: non | AC151: ne sais pas
B152: Question 7 : Avez-vous connaissance du site internet ? | C152: =COUNTIFS(Données!L126:L10124, "oui", Données!A126:A10124, "EC", Données!B126:B10124, "mercredi") -> 0 | D152: =COUNTIFS(Données!L126:L10124, "non", Données!A126:A10124, "EC", Données!B126:B10124, "mercredi") -> 0 | E152: _ | J152: Question 7 : Avez-vous connaissance du site internet ? | K152: =COUNTIFS(Données!T126:T10124, "oui", Données!I126:I10124, "AFE", Données!J126:J10124, "mercredi") -> 0 | L152: =COUNTIFS(Données!T126:T10124, "non", Données!I126:I10124, "AFE", Données!J126:J10124, "mercredi") -> 0 | M152: _ | R152: Question 7 : Avez-vous connaissance du site internet ? | S152: =COUNTIFS(Données!AB126:AB10124, "oui", Données!Q126:Q10124, "AS", Données!R126:R10124, "mercredi") -> 0 | T152: =COUNTIFS(Données!AB126:AB10124, "non", Données!Q126:Q10124, "AS", Données!R126:R10124, "mercredi") -> 0 | U152: _ | Z152: Question 7 : Avez-vous connaissance du site internet ? | AA152: =COUNTIFS(Données!AJ126:AJ10124, "oui", Données!Y126:Y10124, "VISAS", Données!Z126:Z10124, "mercredi") -> 0 | AB152: =COUNTIFS(Données!AJ126:AJ10124, "non", Données!Y126:Y10124, "VISAS", Données!Z126:Z10124, "mercredi") -> 0 | AC152: _
B154: Question 7b : Avez-vous connaissanc de la page FB ? | C154: =COUNTIFS(Données!M126:M10124, "oui", Données!A126:A10124, "EC", Données!B126:B10124, "mercredi") -> 0 | D154: =COUNTIFS(Données!M126:M10124, "non", Données!A126:A10124, "EC", Données!B126:B10124, "mercredi") -> 0 | E154: _ | J154: Question 7b : Avez-vous connaissanc de la page FB ? | K154: =COUNTIFS(Données!U126:U10124, "oui", Données!I126:I10124, "AFE", Données!J126:J10124, "mercredi") -> 0 | L154: =COUNTIFS(Données!U126:U10124, "non", Données!I126:I10124, "AFE", Données!J126:J10124, "mercredi") -> 0 | M154: _ | R154: Question 7b : Avez-vous connaissanc de la page FB ? | S154: =COUNTIFS(Données!AC126:AC10124, "oui", Données!Q126:Q10124, "AS", Données!R126:R10124, "mercredi") -> 0 | T154: =COUNTIFS(Données!AC126:AC10124, "non", Données!Q126:Q10124, "AS", Données!R126:R10124, "mercredi") -> 0 | U154: _ | Z154: Question 7b : Avez-vous connaissanc de la page FB ? | AA154: =COUNTIFS(Données!AK126:AK10124, "oui", Données!Y126:Y10124, "VISAS", Données!Z126:Z10124, "mercredi") -> 0 | AB154: =COUNTIFS(Données!AK126:AK10124, "non", Données!Y126:Y10124, "VISAS", Données!Z126:Z10124, "mercredi") -> 0 | AC154: _
B156: Question 8 : Votre démarche était-elle réalisable sur internet ? | C156: =COUNTIFS(Données!N126:N10124, "oui", Données!A126:A10124, "EC", Données!B126:B10124, "mercredi") -> 0 | D156: =COUNTIFS(Données!N126:N10124, "non", Données!A126:A10124, "EC", Données!B126:B10124, "mercredi") -> 0 | E156: =COUNTIFS(Données!N126:N10124, "ne sais pas", Données!A126:A10124, "EC", Données!B126:B10124, "mercredi") -> 0 | J156: Question 8 : Votre démarche était-elle réalisable sur internet ? | K156: =COUNTIFS(Données!V126:V10124, "oui", Données!I126:I10124, "AFE", Données!J126:J10124, "mercredi") -> 0 | L156: =COUNTIFS(Données!V126:V10124, "non", Données!I126:I10124, "AFE", Données!J126:J10124, "mercredi") -> 0 | M156: =COUNTIFS(Données!V126:V10124, "ne sais pas", Données!I126:I10124, "AFE", Données!J126:J10124, "mercredi") -> 0 | R156: Question 8 : Votre démarche était-elle réalisable sur internet ? | S156: =COUNTIFS(Données!AD126:AD10124, "oui", Données!Q126:Q10124, "AS", Données!R126:R10124, "mercredi") -> 0 | T156: =COUNTIFS(Données!AD126:AD10124, "non", Données!Q126:Q10124, "AS", Données!R126:R10124, "mercredi") -> 0 | U156: =COUNTIFS(Données!AD126:AD10124, "ne sais pas", Données!Q126:Q10124, "AS", Données!R126:R10124, "mercredi") -> 0 | Z156: Question 8 : Votre démarche était-elle réalisable sur internet ? | AA156: =COUNTIFS(Données!AL126:AL10124, "oui", Données!Y126:Y10124, "VISAS", Données!Z126:Z10124, "mercredi") -> 0 | AB156: =COUNTIFS(Données!AL126:AL10124, "non", Données!Y126:Y10124, "VISAS", Données!Z126:Z10124, "mercredi") -> 0 | AC156: =COUNTIFS(Données!AL126:AL10124, "ne sais pas", Données!Y126:Y10124, "VISAS", Données!Z126:Z10124, "mercredi") -> 0
B158: Si OUI, en avez-vous été informé(e) ? | C158: =COUNTIFS(Données!M126:M10124, "oui", Données!A126:A10124, "EC", Données!B126:B10124, "mercredi") -> 0 | D158: =COUNTIFS(Données!N126:N10124, "non", Données!A126:A10124, "EC", Données!B126:B10124, "mercredi") -> 0 | E158: _ | J158: Si OUI, en avez-vous été informé(e) ? | K158: =COUNTIFS(Données!U126:U10124, "oui", Données!I126:I10124, "AFE", Données!J126:J10124, "mercredi") -> 0 | L158: =COUNTIFS(Données!V126:V10124, "non", Données!I126:I10124, "AFE", Données!J126:J10124, "mercredi") -> 0 | M158: _ | R158: Si OUI, en avez-vous été informé(e) ? | S158: =COUNTIFS(Données!AC126:AC10124, "oui", Données!Q126:Q10124, "AS", Données!R126:R10124, "mercredi") -> 0 | T158: =COUNTIFS(Données!AD126:AD10124, "non", Données!Q126:Q10124, "AS", Données!R126:R10124, "mercredi") -> 0 | U158: _ | Z158: Si OUI, en avez-vous été informé(e) ? | AA158: =COUNTIFS(Données!AK126:AK10124, "oui", Données!Y126:Y10124, "VISAS", Données!Z126:Z10124, "mercredi") -> 0 | AB158: =COUNTIFS(Données!AL126:AL10124, "non", Données!Y126:Y10124, "VISAS", Données!Z126:Z10124, "mercredi") -> 0 | AC158: _
...

Sheet Synthèse

Sheet DANGER
A1: oui | B1: oui | D1: A l'heure | F1: AFE | G1: 0-15 | H1: 15-30 | I1: 30-60 | J1: plus de 60 | K1: lundi
A2: non | B2: non | D2: En retard | F2: EC | K2: mardi
B3: ne sais pas | F3: AS | K3: mercredi
A4: téléphone | F4: VISAS | K4: jeudi
A5: mail | K5: vendredi
A6: sur place
A8: immédiat | B8: moins 24h | C8: entre 24-48h | D8: plus de 48h
A10: complet | B10: partiel | C10: pas du tout
A12: 1 | B12: 2 | C12: 3 | D12: 4 | E12: 5 | F12: 6 | G12: 7 | H12: 8 | I12: 9 | J12: 10 | K12: 11 | L12: 12 | M12: 13 | N12: 14 | O12: 15
B15: très satisfaisant
B16: satisfaisant
B17: moy. satisfaisant
B18: pas du tout satisfaisant
