Workbook

Sheet Janvier
A1: Fiche de présence
A3: Nom de l'employé : | G3: Total HS : | H3: =G43 -> 1.25
A5: Date | B5: Matin | D5: Après-midi
B6: Heure d'arrivée | C6: Heure de Départ | D6: Heure d'arrivée | E6: Heure de Départ | F6: Heure effectuée | G6: Heures supplémentaires | H6: Commentaire (maladie, férié…)
A7: 43101 | B7: 8 | C7: 12 | D7: 14 | E7: 17 | F7: =IF(B7="","",(C7-B7)+(E7-D7)) -> 7 | G7: =IF(F7="","",IF(F7-7<0,"",IF(F7<=0,"",F7-7))) -> 0 | H7: férié
A8: 43102 | B8: 8 | C8: 12 | D8: 14 | E8: 18 | F8: =IF(B8="","",(C8-B8)+(E8-D8)) -> 8 | G8: =IF(F8="","",IF(F8-7<0,"",IF(F8<=0,"",F8-7))) -> 1
A9: 43103 | B9: 8 | C9: 12 | D9: 14 | E9: 16 | F9: =IF(B9="","",(C9-B9)+(E9-D9)) -> 6 | G9: =IF(F9="","",IF(F9-7<0,"",IF(F9<=0,"",F9-7)))
A10: 43104 | F10: =IF(B10="","",(C10-B10)+(E10-D10)) | G10: =IF(F10="","",IF(F10-7<0,"",IF(F10<=0,"",F10-7)))
A11: 43105 | F11: =IF(B11="","",(C11-B11)+(E11-D11)) | G11: =IF(F11="","",IF(F11-7<0,"",IF(F11<=0,"",F11-7)))
A12: 43106
A13: 43107
A14: Total d'heures hebdomadaires | F14: =SUM(F7:F11) -> 21 | G14: =SUM(G7:G11) -> 1
A15: Heures supplémentaires majorees | G15: =G14*1.25 -> 1.25
A16: 43108 | F16: =IF(B16="","",(C16-B16)+(E16-D16)) | G16: =IF(F16="","",IF(F16-7<0,"",IF(F16<=0,"",F16-7)))
A17: 43109 | F17: =IF(B17="","",(C17-B17)+(E17-D17)) | G17: =IF(F17="","",IF(F17-7<0,"",IF(F17<=0,"",F17-7)))
A18: 43110 | F18: =IF(B18="","",(C18-B18)+(E18-D18)) | G18: =IF(F18="","",IF(F18-7<0,"",IF(F18<=0,"",F18-7)))
A19: 43111 | F19: =IF(B19="","",(C19-B19)+(E19-D19)) | G19: =IF(F19="","",IF(F19-7<0,"",IF(F19<=0,"",F19-7)))
A20: 43112 | F20: =IF(B20="","",(C20-B20)+(E20-D20)) | G20: =IF(F20="","",IF(F20-7<0,"",IF(F20<=0,"",F20-7)))
A21: 43113
A22: 43114
A23: Total d'heures hebdomadaires | F23: =SUM(F16:F20) -> 0 | G23: =SUM(G16:G20) -> 0
A24: Heures supplémentaires majorees | G24: =G23*1.25 -> 0
A25: 43115 | F25: =IF(B25="","",(C25-B25)+(E25-D25)) | G25: =IF(F25="","",IF(F25-7<0,"",IF(F25<=0,"",F25-7)))
A26: 43116 | F26: =IF(B26="","",(C26-B26)+(E26-D26)) | G26: =IF(F26="","",IF(F26-7<0,"",IF(F26<=0,"",F26-7)))
A27: 43117 | F27: =IF(B27="","",(C27-B27)+(E27-D27)) | G27: =IF(F27="","",IF(F27-7<0,"",IF(F27<=0,"",F27-7)))
A28: 43118 | F28: =IF(B28="","",(C28-B28)+(E28-D28)) | G28: =IF(F28="","",IF(F28-7<0,"",IF(F28<=0,"",F28-7)))
A29: 43119 | F29: =IF(B29="","",(C29-B29)+(E29-D29)) | G29: =IF(F29="","",IF(F29-7<0,"",IF(F29<=0,"",F29-7)))
A30: 43120
A31: 43121
A32: Total d'heures hebdomadaires | F32: =SUM(F25:F29) -> 0 | G32: =SUM(G25:G29) -> 0
A33: Heures supplémentaires majorees | G33: =G32*1.25 -> 0
A34: 43122 | F34: =IF(B34="","",(C34-B34)+(E34-D34)) | G34: =IF(F34="","",IF(F34-7<0,"",IF(F34<=0,"",F34-7)))
A35: 43123 | F35: =IF(B35="","",(C35-B35)+(E35-D35)) | G35: =IF(F35="","",IF(F35-7<0,"",IF(F35<=0,"",F35-7)))
A36: 43124 | F36: =IF(B36="","",(C36-B36)+(E36-D36)) | G36: =IF(F36="","",IF(F36-7<0,"",IF(F36<=0,"",F36-7)))
A37: 43125 | F37: =IF(B37="","",(C37-B37)+(E37-D37)) | G37: =IF(F37="","",IF(F37-7<0,"",IF(F37<=0,"",F37-7)))
A38: 43126 | F38: =IF(B38="","",(C38-B38)+(E38-D38)) | G38: =IF(F38="","",IF(F38-7<0,"",IF(F38<=0,"",F38-7)))
A39: 43127
A40: 43128
A41: Total d'heures hebdomadaires | F41: =SUM(F34:F38) -> 0 | G41: =SUM(G34:G38) -> 0
A42: Heures supplémentaires majorees | G42: =G41*1.25 -> 0
A43: Total d'heures Mensuelles | F43: =F14+F23+F32+F41 -> 21 | G43: =G15+G24+G33+G42 -> 1.25

Sheet Février
A1: Fiche de présence
A3: Nom de l'employé : | G3: Total HS : | H3: =G43+Janvier!H3 -> -173.75
A5: Date | B5: Matin | D5: Après-midi
B6: Heure d'arrivée | C6: Heure de Départ | D6: Heure d'arrivée | E6: Heure de Départ | F6: Heure effectuée | G6: Heures supplémentaires | H6: Commentaire (maladie, férié…)
A7: 43129 | F7: =(C7-B7)+(E7-D7) -> 0 | G7: =F7-7 -> -7
A8: 43130 | F8: =(C8-B8)+(E8-D8) -> 0 | G8: =F8-7 -> -7
A9: 43131 | F9: =(C9-B9)+(E9-D9) -> 0 | G9: =F9-7 -> -7
A10: 43132 | F10: =(C10-B10)+(E10-D10) -> 0 | G10: =F10-7 -> -7
A11: 43133 | F11: =(C11-B11)+(E11-D11) -> 0 | G11: =F11-7 -> -7
A12: 43134
A13: 43135
A14: Total d'heures hebdomadaires | F14: =SUM(F7:F11) -> 0 | G14: =SUM(G7:G11) -> -35
A15: Heures supplémentaires majorees | G15: =G14*1.25 -> -43.75
A16: 43136 | F16: =(C16-B16)+(E16-D16) -> 0 | G16: =F16-7 -> -7
A17: 43137 | F17: =(C17-B17)+(E17-D17) -> 0 | G17: =F17-7 -> -7
A18: 43138 | F18: =(C18-B18)+(E18-D18) -> 0 | G18: =F18-7 -> -7
A19: 43139 | F19: =(C19-B19)+(E19-D19) -> 0 | G19: =F19-7 -> -7
A20: 43140 | F20: =(C20-B20)+(E20-D20) -> 0 | G20: =F20-7 -> -7
A21: 43141
A22: 43142
A23: Total d'heures hebdomadaires | F23: =SUM(F16:F20) -> 0 | G23: =SUM(G16:G20) -> -35
A24: Heures supplémentaires majorees | G24: =G23*1.25 -> -43.75
A25: 43143 | F25: =(C25-B25)+(E25-D25) -> 0 | G25: =F25-7 -> -7
A26: 43144 | F26: =(C26-B26)+(E26-D26) -> 0 | G26: =F26-7 -> -7
A27: 43145 | F27: =(C27-B27)+(E27-D27) -> 0 | G27: =F27-7 -> -7
A28: 43146 | F28: =(C28-B28)+(E28-D28) -> 0 | G28: =F28-7 -> -7
A29: 43147 | F29: =(C29-B29)+(E29-D29) -> 0 | G29: =F29-7 -> -7
A30: 43148
A31: 43149
A32: Total d'heures hebdomadaires | F32: =SUM(F25:F29) -> 0 | G32: =SUM(G25:G29) -> -35
A33: Heures supplémentaires majorees | G33: =G32*1.25 -> -43.75
A34: 43150 | F34: =(C34-B34)+(E34-D34) -> 0 | G34: =F34-7 -> -7
A35: 43151 | F35: =(C35-B35)+(E35-D35) -> 0 | G35: =F35-7 -> -7
A36: 43152 | F36: =(C36-B36)+(E36-D36) -> 0 | G36: =F36-7 -> -7
A37: 43153 | F37: =(C37-B37)+(E37-D37) -> 0 | G37: =F37-7 -> -7
A38: 43154 | F38: =(C38-B38)+(E38-D38) -> 0 | G38: =F38-7 -> -7
A39: 43155
A40: 43156
A41: Total d'heures hebdomadaires | F41: =SUM(F34:F38) -> 0 | G41: =SUM(G34:G38) -> -35
A42: Heures supplémentaires majorees | G42: =G41*1.25 -> -43.75
A43: Total d'heures Mensuelles | F43: =F14+F23+F32+F41 -> 0 | G43: =G15+G24+G33+G42 -> -175

Sheet Mars
A1: Fiche de présence
A3: Nom de l'employé : | G3: Total HS : | H3: =G52+Février!G43 -> -393.75
A5: Date | B5: Matin | D5: Après-midi
B6: Heure d'arrivée | C6: Heure de Départ | D6: Heure d'arrivée | E6: Heure de Départ | F6: Heure effectuée | G6: Heures supplémentaires | H6: Commentaire (maladie, férié…)
A7: 43157 | F7: =(C7-B7)+(E7-D7) -> 0 | G7: =F7-7 -> -7
A8: 43158 | F8: =(C8-B8)+(E8-D8) -> 0 | G8: =F8-7 -> -7
A9: 43159 | F9: =(C9-B9)+(E9-D9) -> 0 | G9: =F9-7 -> -7
A10: 43160 | F10: =(C10-B10)+(E10-D10) -> 0 | G10: =F10-7 -> -7
A11: 43161 | F11: =(C11-B11)+(E11-D11) -> 0 | G11: =F11-7 -> -7
A12: 43162
A13: 43163
A14: Total d'heures hebdomadaires | F14: =SUM(F7:F11) -> 0 | G14: =SUM(G7:G11) -> -35
A15: Heures supplémentaires majorees | G15: =G14*1.25 -> -43.75
A16: 43164 | F16: =(C16-B16)+(E16-D16) -> 0 | G16: =F16-7 -> -7
A17: 43165 | F17: =(C17-B17)+(E17-D17) -> 0 | G17: =F17-7 -> -7
A18: 43166 | F18: =(C18-B18)+(E18-D18) -> 0 | G18: =F18-7 -> -7
A19: 43167 | F19: =(C19-B19)+(E19-D19) -> 0 | G19: =F19-7 -> -7
A20: 43168 | F20: =(C20-B20)+(E20-D20) -> 0 | G20: =F20-7 -> -7
A21: 43169
A22: 43170
A23: Total d'heures hebdomadaires | F23: =SUM(F16:F20) -> 0 | G23: =SUM(G16:G20) -> -35
A24: Heures supplémentaires majorees | G24: =G23*1.25 -> -43.75
A25: 43171 | F25: =(C25-B25)+(E25-D25) -> 0 | G25: =F25-7 -> -7
A26: 43172 | F26: =(C26-B26)+(E26-D26) -> 0 | G26: =F26-7 -> -7
A27: 43173 | F27: =(C27-B27)+(E27-D27) -> 0 | G27: =F27-7 -> -7
A28: 43174 | F28: =(C28-B28)+(E28-D28) -> 0 | G28: =F28-7 -> -7
A29: 43175 | F29: =(C29-B29)+(E29-D29) -> 0 | G29: =F29-7 -> -7
A30: 43176
A31: 43177
A32: Total d'heures hebdomadaires | F32: =SUM(F25:F29) -> 0 | G32: =SUM(G25:G29) -> -35
A33: Heures supplémentaires majorees | G33: =G32*1.25 -> -43.75
A34: 43178 | F34: =(C34-B34)+(E34-D34) -> 0 | G34: =F34-7 -> -7
A35: 43179 | F35: =(C35-B35)+(E35-D35) -> 0 | G35: =F35-7 -> -7
A36: 43180 | F36: =(C36-B36)+(E36-D36) -> 0 | G36: =F36-7 -> -7
A37: 43181 | F37: =(C37-B37)+(E37-D37) -> 0 | G37: =F37-7 -> -7
A38: 43182 | F38: =(C38-B38)+(E38-D38) -> 0 | G38: =F38-7 -> -7
A39: 43183
A40: 43184
A41: Total d'heures hebdomadaires | F41: =SUM(F34:F38) -> 0 | G41: =SUM(G34:G38) -> -35
A42: Heures supplémentaires majorees | G42: =G41*1.25 -> -43.75
A43: 43178 | F43: =(C43-B43)+(E43-D43) -> 0 | G43: =F43-7 -> -7
A44: 43179 | F44: =(C44-B44)+(E44-D44) -> 0 | G44: =F44-7 -> -7
A45: 43180 | F45: =(C45-B45)+(E45-D45) -> 0 | G45: =F45-7 -> -7
A46: 43181 | F46: =(C46-B46)+(E46-D46) -> 0 | G46: =F46-7 -> -7
A47: 43182 | F47: =(C47-B47)+(E47-D47) -> 0 | G47: =F47-7 -> -7
A48: 43183
A49: 43184
A50: Total d'heures hebdomadaires | F50: =SUM(F43:F47) -> 0 | G50: =SUM(G43:G47) -> -35
A51: Heures supplémentaires majorees | G51: =G50*1.25 -> -43.75
A52: Total d'heures Mensuelles | F52: =F14+F23+F32+F41+F50 -> 0 | G52: =G15+G24+G33+G42+G51 -> -218.75

Sheet Avril
A1: Fiche de présence
A3: Nom de l'employé : | G3: Total HS : | H3: =G43+Mars!H3 -> -560
A5: Date | B5: Matin | D5: Après-midi
B6: Heure d'arrivée | C6: Heure de Départ | D6: Heure d'arrivée | E6: Heure de Départ | F6: Heure effectuée | G6: Heures supplémentaires | H6: Commentaire (maladie, férié…)
A7: 43192 | B7: 9 | C7: 12 | D7: 14 | E7: 18 | F7: =(C7-B7)+(E7-D7) -> 7 | G7: =F7-7 -> 0 | H7: férié
A8: 43193 | F8: =(C8-B8)+(E8-D8) -> 0 | G8: =F8-7 -> -7
A9: 43194 | F9: =(C9-B9)+(E9-D9) -> 0 | G9: =F9-7 -> -7
A10: 43195 | F10: =(C10-B10)+(E10-D10) -> 0 | G10: =F10-7 -> -7
A11: 43196 | F11: =(C11-B11)+(E11-D11) -> 0 | G11: =F11-7 -> -7
A12: 43197
A13: 43198
A14: Total d'heures hebdomadaires | F14: =SUM(F7:F11) -> 7 | G14: =SUM(G7:G11) -> -28
A15: Heures supplémentaires majorees | G15: =G14*1.25 -> -35
A16: 43199 | F16: =(C16-B16)+(E16-D16) -> 0 | G16: =F16-7 -> -7
A17: 43200 | F17: =(C17-B17)+(E17-D17) -> 0 | G17: =F17-7 -> -7
A18: 43201 | F18: =(C18-B18)+(E18-D18) -> 0 | G18: =F18-7 -> -7
A19: 43202 | F19: =(C19-B19)+(E19-D19) -> 0 | G19: =F19-7 -> -7
A20: 43203 | F20: =(C20-B20)+(E20-D20) -> 0 | G20: =F20-7 -> -7
A21: 43204
A22: 43205
A23: Total d'heures hebdomadaires | F23: =SUM(F16:F20) -> 0 | G23: =SUM(G16:G20) -> -35
A24: Heures supplémentaires majorees | G24: =G23*1.25 -> -43.75
A25: 43206 | F25: =(C25-B25)+(E25-D25) -> 0 | G25: =F25-7 -> -7
A26: 43207 | F26: =(C26-B26)+(E26-D26) -> 0 | G26: =F26-7 -> -7
A27: 43208 | F27: =(C27-B27)+(E27-D27) -> 0 | G27: =F27-7 -> -7
A28: 43209 | F28: =(C28-B28)+(E28-D28) -> 0 | G28: =F28-7 -> -7
A29: 43210 | F29: =(C29-B29)+(E29-D29) -> 0 | G29: =F29-7 -> -7
A30: 43211
A31: 43212
A32: Total d'heures hebdomadaires | F32: =SUM(F25:F29) -> 0 | G32: =SUM(G25:G29) -> -35
A33: Heures supplémentaires majorees | G33: =G32*1.25 -> -43.75
A34: 43213 | F34: =(C34-B34)+(E34-D34) -> 0 | G34: =F34-7 -> -7
A35: 43214 | F35: =(C35-B35)+(E35-D35) -> 0 | G35: =F35-7 -> -7
A36: 43215 | F36: =(C36-B36)+(E36-D36) -> 0 | G36: =F36-7 -> -7
A37: 43216 | F37: =(C37-B37)+(E37-D37) -> 0 | G37: =F37-7 -> -7
A38: 43217 | F38: =(C38-B38)+(E38-D38) -> 0 | G38: =F38-7 -> -7
A39: 43218
A40: 43219
A41: Total d'heures hebdomadaires | F41: =SUM(F34:F38) -> 0 | G41: =SUM(G34:G38) -> -35
A42: Heures supplémentaires majorees | G42: =G41*1.25 -> -43.75
A43: Total d'heures Mensuelles | F43: =F14+F23+F32+F41 -> 7 | G43: =G15+G24+G33+G42 -> -166.25

Sheet Mai
A1: Fiche de présence
A3: Nom de l'employé : | G3: Total HS : | H3: =G52+Avril!H3 -> -743.75
A5: Date | B5: Matin | D5: Après-midi
B6: Heure d'arrivée | C6: Heure de Départ | D6: Heure d'arrivée | E6: Heure de Départ | F6: Heure effectuée | G6: Heures supplémentaires | H6: Commentaire (maladie, férié…)
A7: 43220 | F7: =(C7-B7)+(E7-D7) -> 0 | G7: =F7-7 -> -7
A8: 43221 | B8: 9 | C8: 12 | D8: 14 | E8: 18 | F8: =(C8-B8)+(E8-D8) -> 7 | G8: =F8-7 -> 0 | H8: férié
A9: 43222 | F9: =(C9-B9)+(E9-D9) -> 0 | G9: =F9-7 -> -7
A10: 43223 | F10: =(C10-B10)+(E10-D10) -> 0 | G10: =F10-7 -> -7
A11: 43224 | F11: =(C11-B11)+(E11-D11) -> 0 | G11: =F11-7 -> -7
A12: 43225
A13: 43226
A14: Total d'heures hebdomadaires | F14: =SUM(F7:F11) -> 7 | G14: =SUM(G7:G11) -> -28
A15: Heures supplémentaires majorees | G15: =G14*1.25 -> -35
A16: 43227 | F16: =(C16-B16)+(E16-D16) -> 0 | G16: =F16-7 -> -7
A17: 43228 | B17: 9 | C17: 12 | D17: 14 | E17: 18 | F17: =(C17-B17)+(E17-D17) -> 7 | G17: =F17-7 -> 0 | H17: férié
A18: 43229 | F18: =(C18-B18)+(E18-D18) -> 0 | G18: =F18-7 -> -7
A19: 43230 | B19: 9 | C19: 12 | D19: 14 | E19: 18 | F19: =(C19-B19)+(E19-D19) -> 7 | G19: =F19-7 -> 0 | H19: férié
A20: 43231 | F20: =(C20-B20)+(E20-D20) -> 0 | G20: =F20-7 -> -7
A21: 43232
A22: 43233
A23: Total d'heures hebdomadaires | F23: =SUM(F16:F20) -> 14 | G23: =SUM(G16:G20) -> -21
A24: Heures supplémentaires majorees | G24: =G23*1.25 -> -26.25
A25: 43234 | F25: =(C25-B25)+(E25-D25) -> 0 | G25: =F25-7 -> -7
A26: 43235 | F26: =(C26-B26)+(E26-D26) -> 0 | G26: =F26-7 -> -7
A27: 43236 | F27: =(C27-B27)+(E27-D27) -> 0 | G27: =F27-7 -> -7
A28: 43237 | F28: =(C28-B28)+(E28-D28) -> 0 | G28: =F28-7 -> -7
A29: 43238 | F29: =(C29-B29)+(E29-D29) -> 0 | G29: =F29-7 -> -7
A30: 43239
A31: 43240
A32: Total d'heures hebdomadaires | F32: =SUM(F25:F29) -> 0 | G32: =SUM(G25:G29) -> -35
A33: Heures supplémentaires majorees | G33: =G32*1.25 -> -43.75
A34: 43241 | B34: 9 | C34: 12 | D34: 14 | E34: 18 | F34: =(C34-B34)+(E34-D34) -> 7 | G34: =F34-7 -> 0 | H34: férié
A35: 43242 | F35: =(C35-B35)+(E35-D35) -> 0 | G35: =F35-7 -> -7
A36: 43243 | F36: =(C36-B36)+(E36-D36) -> 0 | G36: =F36-7 -> -7
A37: 43244 | F37: =(C37-B37)+(E37-D37) -> 0 | G37: =F37-7 -> -7
A38: 43245 | F38: =(C38-B38)+(E38-D38) -> 0 | G38: =F38-7 -> -7
A39: 43246
A40: 43247
A41: Total d'heures hebdomadaires | F41: =SUM(F34:F38) -> 7 | G41: =SUM(G34:G38) -> -28
A42: Heures supplémentaires majorees | G42: =G41*1.25 -> -35
A43: 43248 | F43: =(C43-B43)+(E43-D43) -> 0 | G43: =F43-7 -> -7
A44: 43249 | F44: =(C44-B44)+(E44-D44) -> 0 | G44: =F44-7 -> -7
A45: 43250 | F45: =(C45-B45)+(E45-D45) -> 0 | G45: =F45-7 -> -7
A46: 43251 | F46: =(C46-B46)+(E46-D46) -> 0 | G46: =F46-7 -> -7
A47: 43252 | F47: =(C47-B47)+(E47-D47) -> 0 | G47: =F47-7 -> -7
A48: 43253
A49: 43254
A50: Total d'heures hebdomadaires | F50: =SUM(F43:F47) -> 0 | G50: =SUM(G43:G47) -> -35
A51: Heures supplémentaires majorees | G51: =G50*1.25 -> -43.75
A52: Total d'heures Mensuelles | F52: =F14+F23+F32+F41+F50 -> 28 | G52: =G15+G24+G33+G42+G51 -> -183.75

Sheet Juin
A1: Fiche de présence
A3: Nom de l'employé : | G3: Total HS : | H3: =G43+Mai!H3 -> -918.75
A5: Date | B5: Matin | D5: Après-midi
B6: Heure d'arrivée | C6: Heure de Départ | D6: Heure d'arrivée | E6: Heure de Départ | F6: Heure effectuée | G6: Heures supplémentaires | H6: Commentaire (maladie, férié…)
A7: 43255 | F7: =(C7-B7)+(E7-D7) -> 0 | G7: =F7-7 -> -7
A8: 43256 | F8: =(C8-B8)+(E8-D8) -> 0 | G8: =F8-7 -> -7
A9: 43257 | F9: =(C9-B9)+(E9-D9) -> 0 | G9: =F9-7 -> -7
A10: 43258 | F10: =(C10-B10)+(E10-D10) -> 0 | G10: =F10-7 -> -7
A11: 43259 | F11: =(C11-B11)+(E11-D11) -> 0 | G11: =F11-7 -> -7
A12: 43260
A13: 43261
A14: Total d'heures hebdomadaires | F14: =SUM(F7:F11) -> 0 | G14: =SUM(G7:G11) -> -35
A15: Heures supplémentaires majorees | G15: =G14*1.25 -> -43.75
A16: 43262 | F16: =(C16-B16)+(E16-D16) -> 0 | G16: =F16-7 -> -7
A17: 43263 | F17: =(C17-B17)+(E17-D17) -> 0 | G17: =F17-7 -> -7
A18: 43264 | F18: =(C18-B18)+(E18-D18) -> 0 | G18: =F18-7 -> -7
A19: 43265 | F19: =(C19-B19)+(E19-D19) -> 0 | G19: =F19-7 -> -7
A20: 43266 | F20: =(C20-B20)+(E20-D20) -> 0 | G20: =F20-7 -> -7
A21: 43267
A22: 43268
A23: Total d'heures hebdomadaires | F23: =SUM(F16:F20) -> 0 | G23: =SUM(G16:G20) -> -35
A24: Heures supplémentaires majorees | G24: =G23*1.25 -> -43.75
A25: 43269 | F25: =(C25-B25)+(E25-D25) -> 0 | G25: =F25-7 -> -7
A26: 43270 | F26: =(C26-B26)+(E26-D26) -> 0 | G26: =F26-7 -> -7
A27: 43271 | F27: =(C27-B27)+(E27-D27) -> 0 | G27: =F27-7 -> -7
A28: 43272 | F28: =(C28-B28)+(E28-D28) -> 0 | G28: =F28-7 -> -7
A29: 43273 | F29: =(C29-B29)+(E29-D29) -> 0 | G29: =F29-7 -> -7
A30: 43274
A31: 43275
A32: Total d'heures hebdomadaires | F32: =SUM(F25:F29) -> 0 | G32: =SUM(G25:G29) -> -35
A33: Heures supplémentaires majorees | G33: =G32*1.25 -> -43.75
A34: 43276 | F34: =(C34-B34)+(E34-D34) -> 0 | G34: =F34-7 -> -7
A35: 43277 | F35: =(C35-B35)+(E35-D35) -> 0 | G35: =F35-7 -> -7
A36: 43278 | F36: =(C36-B36)+(E36-D36) -> 0 | G36: =F36-7 -> -7
A37: 43279 | F37: =(C37-B37)+(E37-D37) -> 0 | G37: =F37-7 -> -7
A38: 43280 | F38: =(C38-B38)+(E38-D38) -> 0 | G38: =F38-7 -> -7
A39: 43281
A40: 43282
A41: Total d'heures hebdomadaires | F41: =SUM(F34:F38) -> 0 | G41: =SUM(G34:G38) -> -35
A42: Heures supplémentaires majorees | G42: =G41*1.25 -> -43.75
A43: Total d'heures Mensuelles | F43: =F14+F23+F32+F41 -> 0 | G43: =G15+G24+G33+G42 -> -175

Sheet Juillet
A1: Fiche de présence
A3: Nom de l'employé : | G3: Total HS : | H3: =G43+Juin!H3 -> -1093.75
A5: Date | B5: Matin | D5: Après-midi
B6: Heure d'arrivée | C6: Heure de Départ | D6: Heure d'arrivée | E6: Heure de Départ | F6: Heure effectuée | G6: Heures supplémentaires | H6: Commentaire (maladie, férié…)
A7: 43283 | F7: =(C7-B7)+(E7-D7) -> 0 | G7: =F7-7 -> -7
A8: 43284 | F8: =(C8-B8)+(E8-D8) -> 0 | G8: =F8-7 -> -7
A9: 43285 | F9: =(C9-B9)+(E9-D9) -> 0 | G9: =F9-7 -> -7
A10: 43286 | F10: =(C10-B10)+(E10-D10) -> 0 | G10: =F10-7 -> -7
A11: 43287 | F11: =(C11-B11)+(E11-D11) -> 0 | G11: =F11-7 -> -7
A12: 43288
A13: 43289
A14: Total d'heures hebdomadaires | F14: =SUM(F7:F11) -> 0 | G14: =SUM(G7:G11) -> -35
A15: Heures supplémentaires majorees | G15: =G14*1.25 -> -43.75
A16: 43290 | F16: =(C16-B16)+(E16-D16) -> 0 | G16: =F16-7 -> -7
A17: 43291 | F17: =(C17-B17)+(E17-D17) -> 0 | G17: =F17-7 -> -7
A18: 43292 | F18: =(C18-B18)+(E18-D18) -> 0 | G18: =F18-7 -> -7
A19: 43293 | F19: =(C19-B19)+(E19-D19) -> 0 | G19: =F19-7 -> -7
A20: 43294 | F20: =(C20-B20)+(E20-D20) -> 0 | G20: =F20-7 -> -7
A21: 43295
A22: 43296
A23: Total d'heures hebdomadaires | F23: =SUM(F16:F20) -> 0 | G23: =SUM(G16:G20) -> -35
A24: Heures supplémentaires majorees | G24: =G23*1.25 -> -43.75
A25: 43297 | F25: =(C25-B25)+(E25-D25) -> 0 | G25: =F25-7 -> -7
A26: 43298 | F26: =(C26-B26)+(E26-D26) -> 0 | G26: =F26-7 -> -7
A27: 43299 | F27: =(C27-B27)+(E27-D27) -> 0 | G27: =F27-7 -> -7
A28: 43300 | F28: =(C28-B28)+(E28-D28) -> 0 | G28: =F28-7 -> -7
A29: 43301 | F29: =(C29-B29)+(E29-D29) -> 0 | G29: =F29-7 -> -7
A30: 43302
A31: 43303
A32: Total d'heures hebdomadaires | F32: =SUM(F25:F29) -> 0 | G32: =SUM(G25:G29) -> -35
A33: Heures supplémentaires majorees | G33: =G32*1.25 -> -43.75
A34: 43304 | F34: =(C34-B34)+(E34-D34) -> 0 | G34: =F34-7 -> -7
A35: 43305 | F35: =(C35-B35)+(E35-D35) -> 0 | G35: =F35-7 -> -7
A36: 43306 | F36: =(C36-B36)+(E36-D36) -> 0 | G36: =F36-7 -> -7
A37: 43307 | F37: =(C37-B37)+(E37-D37) -> 0 | G37: =F37-7 -> -7
A38: 43308 | F38: =(C38-B38)+(E38-D38) -> 0 | G38: =F38-7 -> -7
A39: 43309
A40: 43310
A41: Total d'heures hebdomadaires | F41: =SUM(F34:F38) -> 0 | G41: =SUM(G34:G38) -> -35
A42: Heures supplémentaires majorees | G42: =G41*1.25 -> -43.75
A43: Total d'heures Mensuelles | F43: =F14+F23+F32+F41 -> 0 | G43: =G15+G24+G33+G42 -> -175

Sheet Août
A1: Fiche de présence
A3: Nom de l'employé : | G3: Total HS : | H3: =G52+Juillet!H3 -> -1303.75
A5: Date | B5: Matin | D5: Après-midi
B6: Heure d'arrivée | C6: Heure de Départ | D6: Heure d'arrivée | E6: Heure de Départ | F6: Heure effectuée | G6: Heures supplémentaires | H6: Commentaire (maladie, férié…)
A7: 43311 | F7: =(C7-B7)+(E7-D7) -> 0 | G7: =F7-7 -> -7
A8: 43312 | F8: =(C8-B8)+(E8-D8) -> 0 | G8: =F8-7 -> -7
A9: 43313 | F9: =(C9-B9)+(E9-D9) -> 0 | G9: =F9-7 -> -7
A10: 43314 | F10: =(C10-B10)+(E10-D10) -> 0 | G10: =F10-7 -> -7
A11: 43315 | F11: =(C11-B11)+(E11-D11) -> 0 | G11: =F11-7 -> -7
A12: 43316
A13: 43317
A14: Total d'heures hebdomadaires | F14: =SUM(F7:F11) -> 0 | G14: =SUM(G7:G11) -> -35
A15: Heures supplémentaires majorees | G15: =G14*1.25 -> -43.75
A16: 43318 | F16: =(C16-B16)+(E16-D16) -> 0 | G16: =F16-7 -> -7
A17: 43319 | F17: =(C17-B17)+(E17-D17) -> 0 | G17: =F17-7 -> -7
A18: 43320 | F18: =(C18-B18)+(E18-D18) -> 0 | G18: =F18-7 -> -7
A19: 43321 | F19: =(C19-B19)+(E19-D19) -> 0 | G19: =F19-7 -> -7
A20: 43322 | F20: =(C20-B20)+(E20-D20) -> 0 | G20: =F20-7 -> -7
A21: 43323
A22: 43324
A23: Total d'heures hebdomadaires | F23: =SUM(F16:F20) -> 0 | G23: =SUM(G16:G20) -> -35
A24: Heures supplémentaires majorees | G24: =G23*1.25 -> -43.75
A25: 43325 | F25: =(C25-B25)+(E25-D25) -> 0 | G25: =F25-7 -> -7
A26: 43326 | F26: =(C26-B26)+(E26-D26) -> 0 | G26: =F26-7 -> -7
A27: 43327 | B27: 9 | C27: 12 | D27: 14 | E27: 18 | F27: =(C27-B27)+(E27-D27) -> 7 | G27: =F27-7 -> 0 | H27: férié
A28: 43328 | F28: =(C28-B28)+(E28-D28) -> 0 | G28: =F28-7 -> -7
A29: 43329 | F29: =(C29-B29)+(E29-D29) -> 0 | G29: =F29-7 -> -7
A30: 43330
A31: 43331
A32: Total d'heures hebdomadaires | F32: =SUM(F25:F29) -> 7 | G32: =SUM(G25:G29) -> -28
A33: Heures supplémentaires majorees | G33: =G32*1.25 -> -35
A34: 43332 | F34: =(C34-B34)+(E34-D34) -> 0 | G34: =F34-7 -> -7
A35: 43333 | F35: =(C35-B35)+(E35-D35) -> 0 | G35: =F35-7 -> -7
A36: 43334 | F36: =(C36-B36)+(E36-D36) -> 0 | G36: =F36-7 -> -7
A37: 43335 | F37: =(C37-B37)+(E37-D37) -> 0 | G37: =F37-7 -> -7
A38: 43336 | F38: =(C38-B38)+(E38-D38) -> 0 | G38: =F38-7 -> -7
A39: 43337
A40: 43338
A41: Total d'heures hebdomadaires | F41: =SUM(F34:F38) -> 0 | G41: =SUM(G34:G38) -> -35
A42: Heures supplémentaires majorees | G42: =G41*1.25 -> -43.75
A43: 43339 | F43: =(C43-B43)+(E43-D43) -> 0 | G43: =F43-7 -> -7
A44: 43340 | F44: =(C44-B44)+(E44-D44) -> 0 | G44: =F44-7 -> -7
A45: 43341 | F45: =(C45-B45)+(E45-D45) -> 0 | G45: =F45-7 -> -7
A46: 43342 | F46: =(C46-B46)+(E46-D46) -> 0 | G46: =F46-7 -> -7
A47: 43343 | F47: =(C47-B47)+(E47-D47) -> 0 | G47: =F47-7 -> -7
A48: 43344
A49: 43345
A50: Total d'heures hebdomadaires | F50: =SUM(F43:F47) -> 0 | G50: =SUM(G43:G47) -> -35
A51: Heures supplémentaires majorees | G51: =G50*1.25 -> -43.75
A52: Total d'heures Mensuelles | F52: =F14+F23+F32+F41+F50 -> 7 | G52: =G15+G24+G33+G42+G51 -> -210

Sheet Septembre
A1: Fiche de présence
A3: Nom de l'employé : | G3: Total HS : | H3: =G43+Août!H3 -> -1478.75
A5: Date | B5: Matin | D5: Après-midi
B6: Heure d'arrivée | C6: Heure de Départ | D6: Heure d'arrivée | E6: Heure de Départ | F6: Heure effectuée | G6: Heures supplémentaires | H6: Commentaire (maladie, férié…)
A7: 43346 | F7: =(C7-B7)+(E7-D7) -> 0 | G7: =F7-7 -> -7
A8: 43347 | F8: =(C8-B8)+(E8-D8) -> 0 | G8: =F8-7 -> -7
A9: 43348 | F9: =(C9-B9)+(E9-D9) -> 0 | G9: =F9-7 -> -7
A10: 43349 | F10: =(C10-B10)+(E10-D10) -> 0 | G10: =F10-7 -> -7
A11: 43350 | F11: =(C11-B11)+(E11-D11) -> 0 | G11: =F11-7 -> -7
A12: 43351
A13: 43352
A14: Total d'heures hebdomadaires | F14: =SUM(F7:F11) -> 0 | G14: =SUM(G7:G11) -> -35
A15: Heures supplémentaires majorees | G15: =G14*1.25 -> -43.75
A16: 43353 | F16: =(C16-B16)+(E16-D16) -> 0 | G16: =F16-7 -> -7
A17: 43354 | F17: =(C17-B17)+(E17-D17) -> 0 | G17: =F17-7 -> -7
A18: 43355 | F18: =(C18-B18)+(E18-D18) -> 0 | G18: =F18-7 -> -7
A19: 43356 | F19: =(C19-B19)+(E19-D19) -> 0 | G19: =F19-7 -> -7
A20: 43357 | F20: =(C20-B20)+(E20-D20) -> 0 | G20: =F20-7 -> -7
A21: 43358
A22: 43359
A23: Total d'heures hebdomadaires | F23: =SUM(F16:F20) -> 0 | G23: =SUM(G16:G20) -> -35
A24: Heures supplémentaires majorees | G24: =G23*1.25 -> -43.75
A25: 43360 | F25: =(C25-B25)+(E25-D25) -> 0 | G25: =F25-7 -> -7
A26: 43361 | F26: =(C26-B26)+(E26-D26) -> 0 | G26: =F26-7 -> -7
A27: 43362 | F27: =(C27-B27)+(E27-D27) -> 0 | G27: =F27-7 -> -7
A28: 43363 | F28: =(C28-B28)+(E28-D28) -> 0 | G28: =F28-7 -> -7
A29: 43364 | F29: =(C29-B29)+(E29-D29) -> 0 | G29: =F29-7 -> -7
A30: 43365
A31: 43366
A32: Total d'heures hebdomadaires | F32: =SUM(F25:F29) -> 0 | G32: =SUM(G25:G29) -> -35
A33: Heures supplémentaires majorees | G33: =G32*1.25 -> -43.75
A34: 43367 | F34: =(C34-B34)+(E34-D34) -> 0 | G34: =F34-7 -> -7
A35: 43368 | F35: =(C35-B35)+(E35-D35) -> 0 | G35: =F35-7 -> -7
A36: 43369 | F36: =(C36-B36)+(E36-D36) -> 0 | G36: =F36-7 -> -7
A37: 43370 | F37: =(C37-B37)+(E37-D37) -> 0 | G37: =F37-7 -> -7
A38: 43371 | F38: =(C38-B38)+(E38-D38) -> 0 | G38: =F38-7 -> -7
A39: 43372
A40: 43373
A41: Total d'heures hebdomadaires | F41: =SUM(F34:F38) -> 0 | G41: =SUM(G34:G38) -> -35
A42: Heures supplémentaires majorees | G42: =G41*1.25 -> -43.75
A43: Total d'heures Mensuelles | F43: =F14+F23+F32+F41 -> 0 | G43: =G15+G24+G33+G42 -> -175

Sheet Octobre
A1: Fiche de présence
A3: Nom de l'employé : | G3: Total HS : | H3: =G43+Septembre!H3 -> -1653.75
A5: Date | B5: Matin | D5: Après-midi
B6: Heure d'arrivée | C6: Heure de Départ | D6: Heure d'arrivée | E6: Heure de Départ | F6: Heure effectuée | G6: Heures supplémentaires | H6: Commentaire (maladie, férié…)
A7: 43374 | F7: =(C7-B7)+(E7-D7) -> 0 | G7: =F7-7 -> -7
A8: 43375 | F8: =(C8-B8)+(E8-D8) -> 0 | G8: =F8-7 -> -7
A9: 43376 | F9: =(C9-B9)+(E9-D9) -> 0 | G9: =F9-7 -> -7
A10: 43377 | F10: =(C10-B10)+(E10-D10) -> 0 | G10: =F10-7 -> -7
A11: 43378 | F11: =(C11-B11)+(E11-D11) -> 0 | G11: =F11-7 -> -7
A12: 43379
A13: 43380
A14: Total d'heures hebdomadaires | F14: =SUM(F7:F11) -> 0 | G14: =SUM(G7:G11) -> -35
A15: Heures supplémentaires majorees | G15: =G14*1.25 -> -43.75
A16: 43381 | F16: =(C16-B16)+(E16-D16) -> 0 | G16: =F16-7 -> -7
A17: 43382 | F17: =(C17-B17)+(E17-D17) -> 0 | G17: =F17-7 -> -7
A18: 43383 | F18: =(C18-B18)+(E18-D18) -> 0 | G18: =F18-7 -> -7
A19: 43384 | F19: =(C19-B19)+(E19-D19) -> 0 | G19: =F19-7 -> -7
A20: 43385 | F20: =(C20-B20)+(E20-D20) -> 0 | G20: =F20-7 -> -7
A21: 43386
A22: 43387
A23: Total d'heures hebdomadaires | F23: =SUM(F16:F20) -> 0 | G23: =SUM(G16:G20) -> -35
A24: Heures supplémentaires majorees | G24: =G23*1.25 -> -43.75
A25: 43388 | F25: =(C25-B25)+(E25-D25) -> 0 | G25: =F25-7 -> -7
A26: 43389 | F26: =(C26-B26)+(E26-D26) -> 0 | G26: =F26-7 -> -7
A27: 43390 | F27: =(C27-B27)+(E27-D27) -> 0 | G27: =F27-7 -> -7
A28: 43391 | F28: =(C28-B28)+(E28-D28) -> 0 | G28: =F28-7 -> -7
A29: 43392 | F29: =(C29-B29)+(E29-D29) -> 0 | G29: =F29-7 -> -7
A30: 43393
A31: 43394
A32: Total d'heures hebdomadaires | F32: =SUM(F25:F29) -> 0 | G32: =SUM(G25:G29) -> -35
A33: Heures supplémentaires majorees | G33: =G32*1.25 -> -43.75
A34: 43395 | F34: =(C34-B34)+(E34-D34) -> 0 | G34: =F34-7 -> -7
A35: 43396 | F35: =(C35-B35)+(E35-D35) -> 0 | G35: =F35-7 -> -7
A36: 43397 | F36: =(C36-B36)+(E36-D36) -> 0 | G36: =F36-7 -> -7
A37: 43398 | F37: =(C37-B37)+(E37-D37) -> 0 | G37: =F37-7 -> -7
A38: 43399 | F38: =(C38-B38)+(E38-D38) -> 0 | G38: =F38-7 -> -7
A39: 43400
A40: 43401
A41: Total d'heures hebdomadaires | F41: =SUM(F34:F38) -> 0 | G41: =SUM(G34:G38) -> -35
A42: Heures supplémentaires majorees | G42: =G41*1.25 -> -43.75
A43: Total d'heures Mensuelles | F43: =F14+F23+F32+F41 -> 0 | G43: =G15+G24+G33+G42 -> -175

Sheet Novembre
A1: Fiche de présence
A3: Nom de l'employé : | G3: Total HS : | H3: =G52+Octobre!H3 -> -1863.75
A5: Date | B5: Matin | D5: Après-midi
B6: Heure d'arrivée | C6: Heure de Départ | D6: Heure d'arrivée | E6: Heure de Départ | F6: Heure effectuée | G6: Heures supplémentaires | H6: Commentaire (maladie, férié…)
A7: 43402 | F7: =(C7-B7)+(E7-D7) -> 0 | G7: =F7-7 -> -7
A8: 43403 | F8: =(C8-B8)+(E8-D8) -> 0 | G8: =F8-7 -> -7
A9: 43404 | F9: =(C9-B9)+(E9-D9) -> 0 | G9: =F9-7 -> -7
A10: 43405 | B10: 9 | C10: 12 | D10: 14 | E10: 18 | F10: =(C10-B10)+(E10-D10) -> 7 | G10: =F10-7 -> 0 | H10: férié
A11: 43406 | F11: =(C11-B11)+(E11-D11) -> 0 | G11: =F11-7 -> -7
A12: 43407
A13: 43408
A14: Total d'heures hebdomadaires | F14: =SUM(F7:F11) -> 7 | G14: =SUM(G7:G11) -> -28
A15: Heures supplémentaires majorees | G15: =G14*1.25 -> -35
A16: 43409 | F16: =(C16-B16)+(E16-D16) -> 0 | G16: =F16-7 -> -7
A17: 43410 | F17: =(C17-B17)+(E17-D17) -> 0 | G17: =F17-7 -> -7
A18: 43411 | F18: =(C18-B18)+(E18-D18) -> 0 | G18: =F18-7 -> -7
A19: 43412 | F19: =(C19-B19)+(E19-D19) -> 0 | G19: =F19-7 -> -7
A20: 43413 | F20: =(C20-B20)+(E20-D20) -> 0 | G20: =F20-7 -> -7
A21: 43414
A22: 43415
A23: Total d'heures hebdomadaires | F23: =SUM(F16:F20) -> 0 | G23: =SUM(G16:G20) -> -35
A24: Heures supplémentaires majorees | G24: =G23*1.25 -> -43.75
A25: 43416 | F25: =(C25-B25)+(E25-D25) -> 0 | G25: =F25-7 -> -7
A26: 43417 | F26: =(C26-B26)+(E26-D26) -> 0 | G26: =F26-7 -> -7
A27: 43418 | F27: =(C27-B27)+(E27-D27) -> 0 | G27: =F27-7 -> -7
A28: 43419 | F28: =(C28-B28)+(E28-D28) -> 0 | G28: =F28-7 -> -7
A29: 43420 | F29: =(C29-B29)+(E29-D29) -> 0 | G29: =F29-7 -> -7
A30: 43421
A31: 43422
A32: Total d'heures hebdomadaires | F32: =SUM(F25:F29) -> 0 | G32: =SUM(G25:G29) -> -35
A33: Heures supplémentaires majorees | G33: =G32*1.25 -> -43.75
A34: 43423 | F34: =(C34-B34)+(E34-D34) -> 0 | G34: =F34-7 -> -7
A35: 43424 | F35: =(C35-B35)+(E35-D35) -> 0 | G35: =F35-7 -> -7
A36: 43425 | F36: =(C36-B36)+(E36-D36) -> 0 | G36: =F36-7 -> -7
A37: 43426 | F37: =(C37-B37)+(E37-D37) -> 0 | G37: =F37-7 -> -7
A38: 43427 | F38: =(C38-B38)+(E38-D38) -> 0 | G38: =F38-7 -> -7
A39: 43428
A40: 43429
A41: Total d'heures hebdomadaires | F41: =SUM(F34:F38) -> 0 | G41: =SUM(G34:G38) -> -35
A42: Heures supplémentaires majorees | G42: =G41*1.25 -> -43.75
A43: 43430 | F43: =(C43-B43)+(E43-D43) -> 0 | G43: =F43-7 -> -7
A44: 43431 | F44: =(C44-B44)+(E44-D44) -> 0 | G44: =F44-7 -> -7
A45: 43432 | F45: =(C45-B45)+(E45-D45) -> 0 | G45: =F45-7 -> -7
A46: 43433 | F46: =(C46-B46)+(E46-D46) -> 0 | G46: =F46-7 -> -7
A47: 43434 | F47: =(C47-B47)+(E47-D47) -> 0 | G47: =F47-7 -> -7
A48: 43435
A49: 43436
A50: Total d'heures hebdomadaires | F50: =SUM(F43:F47) -> 0 | G50: =SUM(G43:G47) -> -35
A51: Heures supplémentaires majorees | G51: =G50*1.25 -> -43.75
A52: Total d'heures Mensuelles | F52: =F14+F23+F32+F41+F50 -> 7 | G52: =G15+G24+G33+G42+G51 -> -210

Sheet Décembre
A1: Fiche de présence
A3: Nom de l'employé : | G3: Total HS : | H3: =G43+Novembre!H3 -> -2030
A5: Date | B5: Matin | D5: Après-midi
B6: Heure d'arrivée | C6: Heure de Départ | D6: Heure d'arrivée | E6: Heure de Départ | F6: Heure effectuée | G6: Heures supplémentaires | H6: Commentaire (maladie, férié…)
A7: 43437 | F7: =(C7-B7)+(E7-D7) -> 0 | G7: =F7-7 -> -7
A8: 43438 | F8: =(C8-B8)+(E8-D8) -> 0 | G8: =F8-7 -> -7
A9: 43439 | F9: =(C9-B9)+(E9-D9) -> 0 | G9: =F9-7 -> -7
A10: 43440 | F10: =(C10-B10)+(E10-D10) -> 0 | G10: =F10-7 -> -7
A11: 43441 | F11: =(C11-B11)+(E11-D11) -> 0 | G11: =F11-7 -> -7
A12: 43442
A13: 43443
A14: Total d'heures hebdomadaires | F14: =SUM(F7:F11) -> 0 | G14: =SUM(G7:G11) -> -35
A15: Heures supplémentaires majorees | G15: =G14*1.25 -> -43.75
A16: 43444 | F16: =(C16-B16)+(E16-D16) -> 0 | G16: =F16-7 -> -7
A17: 43445 | F17: =(C17-B17)+(E17-D17) -> 0 | G17: =F17-7 -> -7
A18: 43446 | F18: =(C18-B18)+(E18-D18) -> 0 | G18: =F18-7 -> -7
A19: 43447 | F19: =(C19-B19)+(E19-D19) -> 0 | G19: =F19-7 -> -7
A20: 43448 | F20: =(C20-B20)+(E20-D20) -> 0 | G20: =F20-7 -> -7
A21: 43449
A22: 43450
A23: Total d'heures hebdomadaires | F23: =SUM(F16:F20) -> 0 | G23: =SUM(G16:G20) -> -35
A24: Heures supplémentaires majorees | G24: =G23*1.25 -> -43.75
A25: 43451 | F25: =(C25-B25)+(E25-D25) -> 0 | G25: =F25-7 -> -7
A26: 43452 | F26: =(C26-B26)+(E26-D26) -> 0 | G26: =F26-7 -> -7
A27: 43453 | F27: =(C27-B27)+(E27-D27) -> 0 | G27: =F27-7 -> -7
A28: 43454 | F28: =(C28-B28)+(E28-D28) -> 0 | G28: =F28-7 -> -7
A29: 43455 | F29: =(C29-B29)+(E29-D29) -> 0 | G29: =F29-7 -> -7
A30: 43456
A31: 43457
A32: Total d'heures hebdomadaires | F32: =SUM(F25:F29) -> 0 | G32: =SUM(G25:G29) -> -35
A33: Heures supplémentaires majorees | G33: =G32*1.25 -> -43.75
A34: 43458 | F34: =(C34-B34)+(E34-D34) -> 0 | G34: =F34-7 -> -7
A35: 43459 | B35: 9 | C35: 12 | D35: 14 | E35: 18 | F35: =(C35-B35)+(E35-D35) -> 7 | G35: =F35-7 -> 0 | H35: férié
A36: 43460 | F36: =(C36-B36)+(E36-D36) -> 0 | G36: =F36-7 -> -7
A37: 43461 | F37: =(C37-B37)+(E37-D37) -> 0 | G37: =F37-7 -> -7
A38: 43462 | F38: =(C38-B38)+(E38-D38) -> 0 | G38: =F38-7 -> -7
A39: 43463
A40: 43464
A41: Total d'heures hebdomadaires | F41: =SUM(F34:F38) -> 7 | G41: =SUM(G34:G38) -> -28
A42: Heures supplémentaires majorees | G42: =G41*1.25 -> -35
A43: Total d'heures Mensuelles | F43: =F14+F23+F32+F41 -> 7 | G43: =G15+G24+G33+G42 -> -166.25
