Workbook

Sheet Entrée
A2: Prévisionnel de trésorerie du 01/08/2017 au 31/07/2018 - Scénario Base
A3: Entreprise Démo, Scénario : Base | C3: Août | D3: Septembre | E3: Octobre | F3: Novembre | G3: Décembre | H3: Janvier | I3: Février | J3: Mars | K3: Avril | L3: Mai | M3: Juin | N3: Juillet
A4: En euros
A5: Trésorerie en début de mois | C5: 8560 | D5: =C33 -> 11556 | E5: =D33 -> 9039 | F5: =E33 -> 8617.51 | G5: =F33 -> 10117.51 | H5: =G33 -> 11317.51 | I5: =H33 -> 4817.51 | J5: =I33 -> 11317.51 | K5: =J33 -> 11817.51 | ... N5: =M33 -> 7317.51
A7: Encaissements (encaissements perçus + Facturation engagée + Reste à faire sur prévisionnel) | C7: =+C8+C15 -> 14000 | D7: =+D8+D15 -> 15500 | E7: =+E8+E15 -> 12795.51 | F7: =+F8+F15 -> 18000 | G7: =+G8+G15 -> 20000 | H7: =+H8+H15 -> 10000 | I7: =+I8+I15 -> 25000 | J7: =+J8+J15 -> 18000 | ... N7: =+N8+N15 -> 18000
A8: Facturation clients | C8: =+C9+C10+C11+C12+C13+C14 -> 14000 | D8: =+D9+D10+D11+D12+D13+D14 -> 15500 | E8: =+E9+E10+E11+E12+E13+E14 -> 12795.51 | F8: =+F9+F10+F11+F12+F13+F14 -> 18000 | G8: =+G9+G10+G11+G12+G13+G14 -> 20000 | H8: =+H9+H10+H11+H12+H13+H14 -> 10000 | I8: =+I9+I10+I11+I12+I13+I14 -> 25000 | J8: =+J9+J10+J11+J12+J13+J14 -> 18000 | ... N8: =+N9+N10+N11+N12+N13+N14 -> 18000
A9: Client #1 | C9: 10000 | D9: 6000 | E9: 1295.51 | F9: 6055 | G9: 900 | H9: 0 | I9: 0 | J9: 0 | K9: 0 | L9: 0 | M9: 0 | N9: 0
A10: Client #2 | C10: 0 | D10: 3500 | E10: 3500 | F10: 3500 | G10: 3500 | H10: 3500 | I10: 3500 | J10: 0 | K10: 0 | L10: 0 | M10: 0 | N10: 0
A11: Client #3 | C11: 4000 | D11: 6000 | E11: 8000 | F11: 4465 | G11: 0 | H11: 0 | I11: 0 | J11: 0 | K11: 0 | L11: 0 | M11: 0 | N11: 0
A12: Client #4 | C12: 0 | D12: 0 | E12: 0 | F12: 0 | G12: 1500 | H12: 0 | I12: 0 | J12: 0 | K12: 0 | L12: 0 | M12: 0 | N12: 0
A13: Client #5 | C13: 0 | D13: 0 | E13: 0 | F13: 0 | G13: 0 | H13: 0 | I13: 0 | J13: 0 | K13: 0 | L13: 0 | M13: 0 | N13: 0
A14: Reste à faire sur objectif | C14: 0 | D14: 0 | E14: 0 | F14: 3980 | G14: 14100 | H14: 6500 | I14: 21500 | J14: 18000 | K14: 15000 | L14: 15000 | M14: 18000 | N14: 18000
A15: Divers | C15: 0 | D15: 0 | E15: 0 | F15: 0 | G15: 0 | H15: 0 | I15: 0 | J15: 0 | K15: 0 | L15: 0 | M15: 0 | N15: 0
A17: Décaissements (décaissements réalisés + facturation engagée + reste à faire sur prévisionnel) | C17: =+C18+C19+C26+C27+C31 -> 11004 | D17: =+D18+D19+D26+D27+D31 -> 18017 | E17: =+E18+E19+E26+E27+E31 -> 13217 | F17: =+F18+F19+F26+F27+F31 -> 16500 | G17: =+G18+G19+G26+G27+G31 -> 18800 | H17: =+H18+H19+H26+H27+H31 -> 16500 | I17: =+I18+I19+I26+I27+I31 -> 18500 | J17: =+J18+J19+J26+J27+J31 -> 17500 | ... N17: =+N18+N19+N26+N27+N31 -> 17500
A18: TVA | C18: 1300 | D18: 1250 | E18: 150 | F18: 1000 | G18: 1300 | H18: 1000 | I18: 1000 | J18: 1000 | K18: 1000 | L18: 1000 | M18: 1000 | N18: 1000
A19: Fournisseurs | C19: =+C20+C23+C25 -> 2750 | D19: =+D20+D23+D25 -> 9750 | E19: =+E20+E23+E25 -> 6500 | F19: =+F20+F23+F25 -> 5000 | G19: =+G20+G23+G25 -> 7000 | H19: =+H20+H23+H25 -> 5000 | I19: =+I20+I23+I25 -> 5000 | J19: =+J20+J23+J25 -> 5000 | ... N19: =+N20+N23+N25 -> 5000
A20: Fournisseurs matière première | C20: =+C21+C22 -> 2750 | D20: =+D21+D22 -> 1750 | E20: =+E21+E22 -> 6500 | F20: =+F21+F22 -> 1958 | G20: =+G21+G22 -> 3000 | H20: =+H21+H22 -> 0 | I20: =+I21+I22 -> 2500 | J20: =+J21+J22 -> 0 | ... N20: =+N21+N22 -> 0
A21: Fournisseur #1 | C21: 2500 | D21: 1750 | E21: 3000 | F21: 1958 | G21: 3000 | H21: 0 | I21: 2500 | J21: 0 | K21: 0 | L21: 0 | M21: 0 | N21: 0
A22: Fournisseur #3 | C22: 250 | D22: 0 | E22: 3500 | F22: 0 | G22: 0 | H22: 0 | I22: 0 | J22: 0 | K22: 0 | L22: 0 | M22: 0 | N22: 0
A23: FOurnisseurs services | C23: =+C24 -> 0 | D23: =+D24 -> 8000 | E23: =+E24 -> 0 | F23: =+F24 -> 0 | G23: =+G24 -> 4000 | H23: =+H24 -> 0 | I23: =+I24 -> 0 | J23: =+J24 -> 0 | ... N23: =+N24 -> 0
A24: Fournisseur #2 | C24: 0 | D24: 8000 | E24: 0 | F24: 0 | G24: 4000 | H24: 0 | I24: 0 | J24: 0 | K24: 0 | L24: 0 | M24: 0 | N24: 0
A25: Reste à faire sur objectif | C25: 0 | D25: 0 | E25: 0 | F25: 3042 | G25: 0 | H25: 5000 | I25: 2500 | J25: 5000 | K25: 5000 | L25: 5000 | M25: 5000 | N25: 5000
A26: Frais généraux | C26: 1000 | D26: 1000 | E26: 1000 | F26: 3000 | G26: 3000 | H26: 3000 | I26: 5000 | J26: 3000 | K26: 3000 | L26: 3000 | M26: 3000 | N26: 3000
A27: Rémunérations | C27: =+C28+C29+C30 -> 5954 | D27: =+D28+D29+D30 -> 6017 | E27: =+E28+E29+E30 -> 5567 | F27: =+F28+F29+F30 -> 6000 | G27: =+G28+G29+G30 -> 6000 | H27: =+H28+H29+H30 -> 6000 | I27: =+I28+I29+I30 -> 6000 | J27: =+J28+J29+J30 -> 6000 | ... N27: =+N28+N29+N30 -> 6000
A28: Salaires | C28: 4000 | D28: 4000 | E28: 4000 | F28: 4000 | G28: 4000 | H28: 4000 | I28: 4000 | J28: 0 | K28: 0 | L28: 0 | M28: 0 | N28: 0
A29: Urssaf | C29: 1954 | D29: 2017 | E29: 1567 | F29: 0 | G29: 0 | H29: 0 | I29: 0 | J29: 0 | K29: 0 | L29: 0 | M29: 0 | N29: 0
A30: Reste à faire sur objectif | C30: 0 | D30: 0 | E30: 0 | F30: 2000 | G30: 2000 | H30: 2000 | I30: 2000 | J30: 6000 | K30: 6000 | L30: 6000 | M30: 6000 | N30: 6000
A31: Prêts | C31: 0 | D31: 0 | E31: 0 | F31: 1500 | G31: 1500 | H31: 1500 | I31: 1500 | J31: 2500 | K31: 2500 | L31: 2500 | M31: 2500 | N31: 2500
A33: Trésorerie en fin de mois | C33: =C5+C7-C17 -> 11556 | D33: =D5+D7-D17 -> 9039 | E33: =E5+E7-E17 -> 8617.51 | F33: =F5+F7-F17 -> 10117.51 | G33: =G5+G7-G17 -> 11317.51 | H33: =H5+H7-H17 -> 4817.51 | I33: =I5+I7-I17 -> 11317.51 | J33: =J5+J7-J17 -> 11817.51 | ... N33: =N5+N7-N17 -> 7817.51

Sheet Sortie
A2: Prévisionnel de trésorerie du 01/08/2017 au 31/07/2018 - Scénario Base
A3: Entreprise Démo, Scénario : Base | C3: Août | D3: Septembre | E3: Octobre | F3: Novembre | G3: Décembre | H3: Janvier | I3: Février | J3: Mars | K3: Avril | L3: Mai | M3: Juin
A4: En euros
A7: Encaissements (encaissements perçus + Facturation engagée + Reste à faire sur prévisionnel) | C7: =+C8+C15 -> 12916.667 | D7: =+D8+D15 -> 10662.925 | E7: =+E8+E15 -> 15000 | F7: =+F8+F15 -> 16666.667 | G7: =+G8+G15 -> 8333.3333 | H7: =+H8+H15 -> 20833.333 | I7: =+I8+I15 -> 15000 | J7: =+J8+J15 -> 12500 | ... M7: =+M8+M15 -> 15000
A8: Facturation clients | C8: =+C9+C10+C11+C12+C13+C14 -> 12916.667 | D8: =+D9+D10+D11+D12+D13+D14 -> 10662.925 | E8: =+E9+E10+E11+E12+E13+E14 -> 15000 | F8: =+F9+F10+F11+F12+F13+F14 -> 16666.667 | G8: =+G9+G10+G11+G12+G13+G14 -> 8333.3333 | H8: =+H9+H10+H11+H12+H13+H14 -> 20833.333 | I8: =+I9+I10+I11+I12+I13+I14 -> 15000 | J8: =+J9+J10+J11+J12+J13+J14 -> 12500 | ... M8: =+M9+M10+M11+M12+M13+M14 -> 15000
A9: Client #1 | C9: =+Entrée!D9/1.2 -> 5000 | D9: =+Entrée!E9/1.2 -> 1079.5917 | E9: =+Entrée!F9/1.2 -> 5045.8333 | F9: =+Entrée!G9/1.2 -> 750 | G9: =+Entrée!H9/1.2 -> 0 | H9: =+Entrée!I9/1.2 -> 0 | I9: =+Entrée!J9/1.2 -> 0 | J9: =+Entrée!K9/1.2 -> 0 | ... M9: =+Entrée!N9/1.2 -> 0
A10: Client #2 | C10: =+Entrée!D10/1.2 -> 2916.6667 | D10: =+Entrée!E10/1.2 -> 2916.6667 | E10: =+Entrée!F10/1.2 -> 2916.6667 | F10: =+Entrée!G10/1.2 -> 2916.6667 | G10: =+Entrée!H10/1.2 -> 2916.6667 | H10: =+Entrée!I10/1.2 -> 2916.6667 | I10: =+Entrée!J10/1.2 -> 0 | J10: =+Entrée!K10/1.2 -> 0 | ... M10: =+Entrée!N10/1.2 -> 0
A11: Client #3 | C11: =+Entrée!D11/1.2 -> 5000 | D11: =+Entrée!E11/1.2 -> 6666.6667 | E11: =+Entrée!F11/1.2 -> 3720.8333 | F11: =+Entrée!G11/1.2 -> 0 | G11: =+Entrée!H11/1.2 -> 0 | H11: =+Entrée!I11/1.2 -> 0 | I11: =+Entrée!J11/1.2 -> 0 | J11: =+Entrée!K11/1.2 -> 0 | ... M11: =+Entrée!N11/1.2 -> 0
A12: Client #4 | C12: =+Entrée!D12/1.2 -> 0 | D12: =+Entrée!E12/1.2 -> 0 | E12: =+Entrée!F12/1.2 -> 0 | F12: =+Entrée!G12/1.2 -> 1250 | G12: =+Entrée!H12/1.2 -> 0 | H12: =+Entrée!I12/1.2 -> 0 | I12: =+Entrée!J12/1.2 -> 0 | J12: =+Entrée!K12/1.2 -> 0 | ... M12: =+Entrée!N12/1.2 -> 0
A13: Client #5 | C13: =+Entrée!D13/1.2 -> 0 | D13: =+Entrée!E13/1.2 -> 0 | E13: =+Entrée!F13/1.2 -> 0 | F13: =+Entrée!G13/1.2 -> 0 | G13: =+Entrée!H13/1.2 -> 0 | H13: =+Entrée!I13/1.2 -> 0 | I13: =+Entrée!J13/1.2 -> 0 | J13: =+Entrée!K13/1.2 -> 0 | ... M13: =+Entrée!N13/1.2 -> 0
A14: Reste à faire sur objectif | C14: =+Entrée!D14/1.2 -> 0 | D14: =+Entrée!E14/1.2 -> 0 | E14: =+Entrée!F14/1.2 -> 3316.6667 | F14: =+Entrée!G14/1.2 -> 11750 | G14: =+Entrée!H14/1.2 -> 5416.6667 | H14: =+Entrée!I14/1.2 -> 17916.667 | I14: =+Entrée!J14/1.2 -> 15000 | J14: =+Entrée!K14/1.2 -> 12500 | ... M14: =+Entrée!N14/1.2 -> 15000
A15: Divers | C15: 0 | D15: 0 | E15: 0 | F15: 0 | G15: 0 | H15: 0 | I15: 0 | J15: 0 | K15: 0 | L15: 0 | M15: 0
A17: Décaissements (décaissements réalisés + facturation engagée + reste à faire sur prévisionnel) | C17: =+C18+C19+C26+C27+C31 -> 9079 | D17: =+D18+D19+D26+D27+D31 -> 14975.333 | E17: =+E18+E19+E26+E27+E31 -> 11817 | F17: =+F18+F19+F26+F27+F31 -> 14673.667 | G17: =+G18+G19+G26+G27+G31 -> 15833.333 | H17: =+H18+H19+H26+H27+H31 -> 15000 | I17: =+I18+I19+I26+I27+I31 -> 16250 | J17: =+J18+J19+J26+J27+J31 -> 16000 | ... M17: =+M18+M19+M26+M27+M31 -> 16000
A18: TVA
A19: Fournisseurs | C19: =+C20+C23+C25 -> 2291.6667 | D19: =+D20+D23+D25 -> 8125 | E19: =+E20+E23+E25 -> 5416.6667 | F19: =+F20+F23+F25 -> 4673.6667 | G19: =+G20+G23+G25 -> 5833.3333 | H19: =+H20+H23+H25 -> 5000 | I19: =+I20+I23+I25 -> 4583.3333 | J19: =+J20+J23+J25 -> 5000 | ... M19: =+M20+M23+M25 -> 5000
A20: Fournisseurs matière première | C20: =+C21+C22 -> 2291.6667 | D20: =+D21+D22 -> 1458.3333 | E20: =+E21+E22 -> 5416.6667 | F20: =+F21+F22 -> 1631.6667 | G20: =+G21+G22 -> 2500 | H20: =+H21+H22 -> 0 | I20: =+I21+I22 -> 2083.3333 | J20: =+J21+J22 -> 0 | ... M20: =+M21+M22 -> 0
A21: Fournisseur #1 | C21: =+Entrée!C21/1.2 -> 2083.3333 | D21: =+Entrée!D21/1.2 -> 1458.3333 | E21: =+Entrée!E21/1.2 -> 2500 | F21: =+Entrée!F21/1.2 -> 1631.6667 | G21: =+Entrée!G21/1.2 -> 2500 | H21: =+Entrée!H21/1.2 -> 0 | I21: =+Entrée!I21/1.2 -> 2083.3333 | J21: =+Entrée!J21/1.2 -> 0 | ... M21: =+Entrée!M21/1.2 -> 0
A22: Fournisseur #3 | C22: =+Entrée!C22/1.2 -> 208.33333 | D22: =+Entrée!D22/1.2 -> 0 | E22: =+Entrée!E22/1.2 -> 2916.6667 | F22: =+Entrée!F22/1.2 -> 0 | G22: =+Entrée!G22/1.2 -> 0 | H22: =+Entrée!H22/1.2 -> 0 | I22: =+Entrée!I22/1.2 -> 0 | J22: =+Entrée!J22/1.2 -> 0 | ... M22: =+Entrée!M22/1.2 -> 0
A23: FOurnisseurs services | C23: =+C24 -> 0 | D23: =+D24 -> 6666.6667 | E23: =+E24 -> 0 | F23: =+F24 -> 0 | G23: =+G24 -> 3333.3333 | H23: =+H24 -> 0 | I23: =+I24 -> 0 | J23: =+J24 -> 0 | ... M23: =+M24 -> 0
A24: Fournisseur #2 | C24: =+Entrée!C24/1.2 -> 0 | D24: =+Entrée!D24/1.2 -> 6666.6667 | E24: =+Entrée!E24/1.2 -> 0 | F24: =+Entrée!F24/1.2 -> 0 | G24: =+Entrée!G24/1.2 -> 3333.3333 | H24: =+Entrée!H24/1.2 -> 0 | I24: =+Entrée!I24/1.2 -> 0 | J24: =+Entrée!J24/1.2 -> 0 | ... M24: =+Entrée!M24/1.2 -> 0
A25: Reste à faire sur objectif | C25: 0 | D25: 0 | E25: 0 | F25: 3042 | G25: 0 | H25: 5000 | I25: 2500 | J25: 5000 | K25: 5000 | L25: 5000 | M25: 5000
A26: Frais généraux | C26: =+Entrée!C26/1.2 -> 833.33333 | D26: =+Entrée!D26/1.2 -> 833.33333 | E26: =+Entrée!E26/1.2 -> 833.33333 | F26: =+Entrée!F26/1.2 -> 2500 | G26: =+Entrée!G26/1.2 -> 2500 | H26: =+Entrée!H26/1.2 -> 2500 | I26: =+Entrée!I26/1.2 -> 4166.6667 | J26: =+Entrée!J26/1.2 -> 2500 | ... M26: =+Entrée!M26/1.2 -> 2500
A27: Rémunérations | C27: =+C28+C29+C30 -> 5954 | D27: =+D28+D29+D30 -> 6017 | E27: =+E28+E29+E30 -> 5567 | F27: =+F28+F29+F30 -> 6000 | G27: =+G28+G29+G30 -> 6000 | H27: =+H28+H29+H30 -> 6000 | I27: =+I28+I29+I30 -> 6000 | J27: =+J28+J29+J30 -> 6000 | ... M27: =+M28+M29+M30 -> 6000
A28: Salaires | C28: =+Entrée!C28 -> 4000 | D28: =+Entrée!D28 -> 4000 | E28: =+Entrée!E28 -> 4000 | F28: =+Entrée!F28 -> 4000 | G28: =+Entrée!G28 -> 4000 | H28: =+Entrée!H28 -> 4000 | I28: =+Entrée!I28 -> 4000 | J28: =+Entrée!J28 -> 0 | ... M28: =+Entrée!M28 -> 0
A29: Urssaf | C29: =+Entrée!C29 -> 1954 | D29: =+Entrée!D29 -> 2017 | E29: =+Entrée!E29 -> 1567 | F29: =+Entrée!F29 -> 0 | G29: =+Entrée!G29 -> 0 | H29: =+Entrée!H29 -> 0 | I29: =+Entrée!I29 -> 0 | J29: =+Entrée!J29 -> 0 | ... M29: =+Entrée!M29 -> 0
A30: Reste à faire sur objectif | C30: =+Entrée!C30 -> 0 | D30: =+Entrée!D30 -> 0 | E30: =+Entrée!E30 -> 0 | F30: =+Entrée!F30 -> 2000 | G30: =+Entrée!G30 -> 2000 | H30: =+Entrée!H30 -> 2000 | I30: =+Entrée!I30 -> 2000 | J30: =+Entrée!J30 -> 6000 | ... M30: =+Entrée!M30 -> 6000
A31: Prêts | C31: =+Entrée!C31 -> 0 | D31: =+Entrée!D31 -> 0 | E31: =+Entrée!E31 -> 0 | F31: =+Entrée!F31 -> 1500 | G31: =+Entrée!G31 -> 1500 | H31: =+Entrée!H31 -> 1500 | I31: =+Entrée!I31 -> 1500 | J31: =+Entrée!J31 -> 2500 | ... M31: =+Entrée!M31 -> 2500
