Workbook

Sheet facturation
B2: FACTURATION A: | M2: Non Dégret | Y2: câblage Dégret | AE2: Temps/Materiels
AE3: Cable cat6 2412 | AG3: Connecteur Cat6 | AJ3: Plaque mural KS | AN3: Boite a raccordement latéral | AQ3: Patch P. | AR3: Patch Cord cat6 | AW3: Temps technicien cableur | AZ3: Temps technicien Electrique
M4: Non-EPA | P4: EPA | S4: Non-EPA | V4: EPA | Y4: Non-EPA | AB4: EPA
B6: Pro | C6: # B.T | D6: VARIA | E6: # B.C | F6: NOM CONTACT | G6: EMAIL CONTACT | H6: Soumission | I6: PRIX Soumis | J6: Acquis | K6: DATE DEBUT | L6: DATE FIN | M6: 1er | N6: 2 à 5 | O6: 6 à 10 | P6: 1er | Q6: 2 à 5 | R6: 6 à 10 | S6: 1er | T6: 2 à 5 | U6: 6 à 10 | V6: 1er | W6: 2 à 5 | X6: 6 à 10 | Y6: 1er | Z6: 2 à 5 | AA6: 6 à 10 | AB6: 1er | AC6: 2 à 5 | AD6: 6 à 10 | AE6: Blanc ($/M) | AF6: Vert ($/M) | AG6: Blanc | AH6: Noir | AI6: Vert | AJ6: 1 port | AK6: 2 port | AL6: 4 port | AM6: 6 port | AN6: 1 port | AO6: 2 port | AP6: 4 port | AQ6: 48 port | AR6: 2' | AS6: 4' | AT6: 7' | AU6: 10' | AV6: 15' | AW6: REG | AX6: Overtime | AY6: Ferier | AZ6: REG | BA6: Overtime | BB6: Ferier | BC6: Misc. | BD6: total ($) | BE6: commentaire
B7: DEMO | C7: DEMO | D7: DEMO | E7: DEMO | F7: DEMO | G7: DEMO | H7: DEMO | I7: DEMO | J7: DEMO | K7: DEMO | L7: DEMO | M7: 0.1 | N7: 1.1 | O7: 2.1 | P7: 3.1 | Q7: 4.1 | R7: 5.1 | S7: 6.1 | T7: 7.1 | U7: 8.1 | V7: 9.1 | W7: 10.1 | X7: 11.1 | Y7: 12.1 | Z7: 13.1 | AA7: 14.1 | AB7: 15.1 | AC7: 16.1 | AD7: 17.1 | AE7: 18.1 | AF7: 19.1 | AG7: 20.1 | AH7: 21.1 | AI7: 22.1 | AJ7: 23.1 | AK7: 24.1 | AL7: 25.1 | AM7: 26.1 | AN7: 27.1 | AO7: 28.1 | AP7: 29.1 | AQ7: 30.1 | AR7: 31.1 | AS7: 32.1 | AT7: 33.1 | AU7: 34.1 | AV7: 35.1 | AW7: 36.1 | AX7: 37.1 | AY7: 38.1 | AZ7: 39.1 | BA7: 40.1 | BB7: 0 | BD7: =SUM(M7*RESUMÉ!$E$14,N7*RESUMÉ!$E$15,O7*RESUMÉ!$E$16,P7*RESUMÉ!$E$17,Q7*RESUMÉ!$E$18,R7*RESUMÉ!$E$19,S7*RESUMÉ!$E$20,T7*RESUMÉ!$E$21,U7*RESUMÉ!$E$22,V7*RESUMÉ!$E$23,W7*RESUMÉ!$E$24,X7*RESUMÉ!$E$25,Y7*RESUMÉ!$E$26,Z7*RESUMÉ!$E$27,AA7*RESUMÉ!$E$28,AB7*RESUMÉ!$E$29,AC7*RESUMÉ!$E$30,AD7*RESUMÉ!$E$31,AE7*'LISTE DE PRIX'!$F$6,AF7*'LISTE DE PRIX'!$F$7,AG7*'LISTE DE PRIX'!$F$12,AH7*'LISTE DE PRIX'!$F$13,AI7*'LISTE DE PRIX'!$F$14,AJ7*'LISTE DE PRIX'!$F$8,AK7*'LISTE DE PRIX'!$F$9,AL7*'LISTE DE PRIX'!$F$10,AM7*'LISTE DE PRIX'!$F$11,AN7*'LISTE DE PRIX'!$F$16,AO7*'LISTE DE PRIX'!$F$17,AP7*'LISTE DE PRIX'!$F$18,AQ7*'LISTE DE PRIX'!$F$15,AR7*'LISTE DE PRIX'!$F$19,AS7*'LISTE DE PRIX'!$F$20,AT7*'LISTE DE PRIX'!$F$21,AU7*'LISTE DE PRIX'!$F$22,AV7*'LISTE DE PRIX'!$F$23,AW7*'LISTE DE PRIX'!$F$25,AX7*'LISTE DE PRIX'!$F$26,AY7*'LISTE DE PRIX'!$F$27,AZ7*'LISTE DE PRIX'!$F$28,BA7*'LISTE DE PRIX'!$F$29,BB7*'LISTE DE PRIX'!$F$30)+MasterTable[[#This Row],[Misc.]] -> 48941.145
B8: 2222 | D8: VAR-111 | F8: Landais, Jean-Michel | G8: jean-michel.lendais@veolia.com | H8: SC360-017115 | I8: 6012 | J8: TBD | M8: =SUM(0) -> 0 | N8: =SUM(0) -> 0 | O8: =SUM(0) -> 0 | P8: =SUM(0) -> 0 | Q8: =SUM(0) -> 0 | R8: =SUM(0) -> 0 | S8: =SUM(0) -> 0 | T8: =SUM(0) -> 0 | ... BB8: =SUM(0) -> 0 | BD8: =SUM(M8*RESUMÉ!$E$14,N8*RESUMÉ!$E$15,O8*RESUMÉ!$E$16,P8*RESUMÉ!$E$17,Q8*RESUMÉ!$E$18,R8*RESUMÉ!$E$19,S8*RESUMÉ!$E$20,T8*RESUMÉ!$E$21,U8*RESUMÉ!$E$22,V8*RESUMÉ!$E$23,W8*RESUMÉ!$E$24,X8*RESUMÉ!$E$25,Y8*RESUMÉ!$E$26,Z8*RESUMÉ!$E$27,AA8*RESUMÉ!$E$28,AB8*RESUMÉ!$E$29,AC8*RESUMÉ!$E$30,AD8*RESUMÉ!$E$31,AE8*'LISTE DE PRIX'!$F$6,AF8*'LISTE DE PRIX'!$F$7,AG8*'LISTE DE PRIX'!$F$12,AH8*'LISTE DE PRIX'!$F$13,AI8*'LISTE DE PRIX'!$F$14,AJ8*'LISTE DE PRIX'!$F$8,AK8*'LISTE DE PRIX'!$F$9,AL8*'LISTE DE PRIX'!$F$10,AM8*'LISTE DE PRIX'!$F$11,AN8*'LISTE DE PRIX'!$F$16,AO8*'LISTE DE PRIX'!$F$17,AP8*'LISTE DE PRIX'!$F$18,AQ8*'LISTE DE PRIX'!$F$15,AR8*'LISTE DE PRIX'!$F$19,AS8*'LISTE DE PRIX'!$F$20,AT8*'LISTE DE PRIX'!$F$21,AU8*'LISTE DE PRIX'!$F$22,AV8*'LISTE DE PRIX'!$F$23,AW8*'LISTE DE PRIX'!$F$25,AX8*'LISTE DE PRIX'!$F$26,AY8*'LISTE DE PRIX'!$F$27,AZ8*'LISTE DE PRIX'!$F$28,BA8*'LISTE DE PRIX'!$F$29,BB8*'LISTE DE PRIX'!$F$30)+MasterTable[[#This Row],[Misc.]] -> 0
B9: 2222 | D9: VAR-114 | F9: Neves-Pelchat, Julien | G9: julien.nevespelchat@veolia.com | H9: SC360-017118 | I9: 78084 | J9: TBD | K9: 43027 | M9: =SUM(0) -> 0 | N9: =SUM(0) -> 0 | O9: =SUM(0) -> 0 | P9: =SUM(0) -> 0 | Q9: =SUM(0) -> 0 | R9: =SUM(0) -> 0 | S9: =SUM(0) -> 0 | T9: =SUM(0) -> 0 | ... BB9: =SUM(0) -> 0 | BD9: =SUM(M9*RESUMÉ!$E$14,N9*RESUMÉ!$E$15,O9*RESUMÉ!$E$16,P9*RESUMÉ!$E$17,Q9*RESUMÉ!$E$18,R9*RESUMÉ!$E$19,S9*RESUMÉ!$E$20,T9*RESUMÉ!$E$21,U9*RESUMÉ!$E$22,V9*RESUMÉ!$E$23,W9*RESUMÉ!$E$24,X9*RESUMÉ!$E$25,Y9*RESUMÉ!$E$26,Z9*RESUMÉ!$E$27,AA9*RESUMÉ!$E$28,AB9*RESUMÉ!$E$29,AC9*RESUMÉ!$E$30,AD9*RESUMÉ!$E$31,AE9*'LISTE DE PRIX'!$F$6,AF9*'LISTE DE PRIX'!$F$7,AG9*'LISTE DE PRIX'!$F$12,AH9*'LISTE DE PRIX'!$F$13,AI9*'LISTE DE PRIX'!$F$14,AJ9*'LISTE DE PRIX'!$F$8,AK9*'LISTE DE PRIX'!$F$9,AL9*'LISTE DE PRIX'!$F$10,AM9*'LISTE DE PRIX'!$F$11,AN9*'LISTE DE PRIX'!$F$16,AO9*'LISTE DE PRIX'!$F$17,AP9*'LISTE DE PRIX'!$F$18,AQ9*'LISTE DE PRIX'!$F$15,AR9*'LISTE DE PRIX'!$F$19,AS9*'LISTE DE PRIX'!$F$20,AT9*'LISTE DE PRIX'!$F$21,AU9*'LISTE DE PRIX'!$F$22,AV9*'LISTE DE PRIX'!$F$23,AW9*'LISTE DE PRIX'!$F$25,AX9*'LISTE DE PRIX'!$F$26,AY9*'LISTE DE PRIX'!$F$27,AZ9*'LISTE DE PRIX'!$F$28,BA9*'LISTE DE PRIX'!$F$29,BB9*'LISTE DE PRIX'!$F$30)+MasterTable[[#This Row],[Misc.]] -> 0
B10: 2222 | D10: VAR-127 | F10: Perron, Gilles | G10: GILLES.PERRON@VEOLIA.COM | H10: SC360-017046 | I10: 720 | J10: TBD | K10: 42954 | M10: =SUM(0) -> 0 | N10: =SUM(0) -> 0 | O10: =SUM(0) -> 0 | P10: =SUM(0) -> 0 | Q10: =SUM(0) -> 0 | R10: =SUM(0) -> 0 | S10: =SUM(0) -> 0 | T10: =SUM(0) -> 0 | ... BB10: =SUM(0) -> 0 | BD10: =SUM(M10*RESUMÉ!$E$14,N10*RESUMÉ!$E$15,O10*RESUMÉ!$E$16,P10*RESUMÉ!$E$17,Q10*RESUMÉ!$E$18,R10*RESUMÉ!$E$19,S10*RESUMÉ!$E$20,T10*RESUMÉ!$E$21,U10*RESUMÉ!$E$22,V10*RESUMÉ!$E$23,W10*RESUMÉ!$E$24,X10*RESUMÉ!$E$25,Y10*RESUMÉ!$E$26,Z10*RESUMÉ!$E$27,AA10*RESUMÉ!$E$28,AB10*RESUMÉ!$E$29,AC10*RESUMÉ!$E$30,AD10*RESUMÉ!$E$31,AE10*'LISTE DE PRIX'!$F$6,AF10*'LISTE DE PRIX'!$F$7,AG10*'LISTE DE PRIX'!$F$12,AH10*'LISTE DE PRIX'!$F$13,AI10*'LISTE DE PRIX'!$F$14,AJ10*'LISTE DE PRIX'!$F$8,AK10*'LISTE DE PRIX'!$F$9,AL10*'LISTE DE PRIX'!$F$10,AM10*'LISTE DE PRIX'!$F$11,AN10*'LISTE DE PRIX'!$F$16,AO10*'LISTE DE PRIX'!$F$17,AP10*'LISTE DE PRIX'!$F$18,AQ10*'LISTE DE PRIX'!$F$15,AR10*'LISTE DE PRIX'!$F$19,AS10*'LISTE DE PRIX'!$F$20,AT10*'LISTE DE PRIX'!$F$21,AU10*'LISTE DE PRIX'!$F$22,AV10*'LISTE DE PRIX'!$F$23,AW10*'LISTE DE PRIX'!$F$25,AX10*'LISTE DE PRIX'!$F$26,AY10*'LISTE DE PRIX'!$F$27,AZ10*'LISTE DE PRIX'!$F$28,BA10*'LISTE DE PRIX'!$F$29,BB10*'LISTE DE PRIX'!$F$30)+MasterTable[[#This Row],[Misc.]] -> 0
B11: 2222 | D11: TURG-047 | F11: Beauregard, Francois | G11: francois.beauregard@veolia.com | H11: SC360-017130 | I11: 4248 | J11: TBD | K11: 43045 | L11: 43045 | M11: =SUM(0) -> 0 | N11: =SUM(0) -> 0 | O11: =SUM(0) -> 0 | P11: =SUM(0) -> 0 | Q11: =SUM(0) -> 0 | R11: =SUM(0) -> 0 | S11: =SUM(0) -> 0 | T11: =SUM(0) -> 0 | ... BB11: =SUM(0) -> 0 | BD11: =SUM(M11*RESUMÉ!$E$14,N11*RESUMÉ!$E$15,O11*RESUMÉ!$E$16,P11*RESUMÉ!$E$17,Q11*RESUMÉ!$E$18,R11*RESUMÉ!$E$19,S11*RESUMÉ!$E$20,T11*RESUMÉ!$E$21,U11*RESUMÉ!$E$22,V11*RESUMÉ!$E$23,W11*RESUMÉ!$E$24,X11*RESUMÉ!$E$25,Y11*RESUMÉ!$E$26,Z11*RESUMÉ!$E$27,AA11*RESUMÉ!$E$28,AB11*RESUMÉ!$E$29,AC11*RESUMÉ!$E$30,AD11*RESUMÉ!$E$31,AE11*'LISTE DE PRIX'!$F$6,AF11*'LISTE DE PRIX'!$F$7,AG11*'LISTE DE PRIX'!$F$12,AH11*'LISTE DE PRIX'!$F$13,AI11*'LISTE DE PRIX'!$F$14,AJ11*'LISTE DE PRIX'!$F$8,AK11*'LISTE DE PRIX'!$F$9,AL11*'LISTE DE PRIX'!$F$10,AM11*'LISTE DE PRIX'!$F$11,AN11*'LISTE DE PRIX'!$F$16,AO11*'LISTE DE PRIX'!$F$17,AP11*'LISTE DE PRIX'!$F$18,AQ11*'LISTE DE PRIX'!$F$15,AR11*'LISTE DE PRIX'!$F$19,AS11*'LISTE DE PRIX'!$F$20,AT11*'LISTE DE PRIX'!$F$21,AU11*'LISTE DE PRIX'!$F$22,AV11*'LISTE DE PRIX'!$F$23,AW11*'LISTE DE PRIX'!$F$25,AX11*'LISTE DE PRIX'!$F$26,AY11*'LISTE DE PRIX'!$F$27,AZ11*'LISTE DE PRIX'!$F$28,BA11*'LISTE DE PRIX'!$F$29,BB11*'LISTE DE PRIX'!$F$30)+MasterTable[[#This Row],[Misc.]] -> 0
B12: 2222 | D12: VAR-118 | E12: M1977 | F12: Beauregard, Francois | G12: francois.beauregard@veolia.com | H12: SC360-017083 | I12: 4619 | J12: OUI | K12: TBD | M12: =SUM(0) -> 0 | N12: =SUM(0) -> 0 | O12: =SUM(0) -> 0 | P12: =SUM(0) -> 0 | Q12: =SUM(0) -> 0 | R12: =SUM(0) -> 0 | S12: =SUM(0) -> 0 | T12: =SUM(0) -> 0 | ... BB12: =SUM(0) -> 0 | BD12: =SUM(M12*RESUMÉ!$E$14,N12*RESUMÉ!$E$15,O12*RESUMÉ!$E$16,P12*RESUMÉ!$E$17,Q12*RESUMÉ!$E$18,R12*RESUMÉ!$E$19,S12*RESUMÉ!$E$20,T12*RESUMÉ!$E$21,U12*RESUMÉ!$E$22,V12*RESUMÉ!$E$23,W12*RESUMÉ!$E$24,X12*RESUMÉ!$E$25,Y12*RESUMÉ!$E$26,Z12*RESUMÉ!$E$27,AA12*RESUMÉ!$E$28,AB12*RESUMÉ!$E$29,AC12*RESUMÉ!$E$30,AD12*RESUMÉ!$E$31,AE12*'LISTE DE PRIX'!$F$6,AF12*'LISTE DE PRIX'!$F$7,AG12*'LISTE DE PRIX'!$F$12,AH12*'LISTE DE PRIX'!$F$13,AI12*'LISTE DE PRIX'!$F$14,AJ12*'LISTE DE PRIX'!$F$8,AK12*'LISTE DE PRIX'!$F$9,AL12*'LISTE DE PRIX'!$F$10,AM12*'LISTE DE PRIX'!$F$11,AN12*'LISTE DE PRIX'!$F$16,AO12*'LISTE DE PRIX'!$F$17,AP12*'LISTE DE PRIX'!$F$18,AQ12*'LISTE DE PRIX'!$F$15,AR12*'LISTE DE PRIX'!$F$19,AS12*'LISTE DE PRIX'!$F$20,AT12*'LISTE DE PRIX'!$F$21,AU12*'LISTE DE PRIX'!$F$22,AV12*'LISTE DE PRIX'!$F$23,AW12*'LISTE DE PRIX'!$F$25,AX12*'LISTE DE PRIX'!$F$26,AY12*'LISTE DE PRIX'!$F$27,AZ12*'LISTE DE PRIX'!$F$28,BA12*'LISTE DE PRIX'!$F$29,BB12*'LISTE DE PRIX'!$F$30)+MasterTable[[#This Row],[Misc.]] -> 0
B13: 2222 | C13: 2979/2980 | D13: VAR-160 | E13: M2073 | F13: Neves-Pelchat, Julien | G13: julien.nevespelchat@veolia.com | H13: SC360-017126 | I13: 1152 | J13: OUI | K13: 43038 | L13: 43049 | M13: =SUM(0) -> 0 | N13: =SUM(0) -> 0 | O13: =SUM(0) -> 0 | P13: =SUM(0) -> 0 | Q13: =SUM(0) -> 0 | R13: =SUM(0) -> 0 | S13: =SUM(0) -> 0 | T13: =SUM(0) -> 0 | ... AD13: =SUM(0) -> 0 | AE13: 76 | AF13: =SUM(0) -> 0 | AG13: 2 | AH13: 2 | AI13: =SUM(0) -> 0 | AJ13: =SUM(0) -> 0 | AK13: =SUM(0) -> 0 | AL13: =SUM(0) -> 0 | AM13: =SUM(0) -> 0 | AN13: =SUM(0) -> 0 | AO13: =SUM(0) -> 0 | AP13: =SUM(0) -> 0 | ... AS13: =SUM(0) -> 0 | AT13: 0 | AU13: 0 | AV13: =SUM(0) -> 0 | AW13: 18 | AX13: =SUM(0) -> 0 | AY13: =SUM(0) -> 0 | AZ13: =SUM(0) -> 0 | BA13: =SUM(0) -> 0 | BB13: =SUM(0) -> 0 | BD13: =SUM(M13*RESUMÉ!$E$14,N13*RESUMÉ!$E$15,O13*RESUMÉ!$E$16,P13*RESUMÉ!$E$17,Q13*RESUMÉ!$E$18,R13*RESUMÉ!$E$19,S13*RESUMÉ!$E$20,T13*RESUMÉ!$E$21,U13*RESUMÉ!$E$22,V13*RESUMÉ!$E$23,W13*RESUMÉ!$E$24,X13*RESUMÉ!$E$25,Y13*RESUMÉ!$E$26,Z13*RESUMÉ!$E$27,AA13*RESUMÉ!$E$28,AB13*RESUMÉ!$E$29,AC13*RESUMÉ!$E$30,AD13*RESUMÉ!$E$31,AE13*'LISTE DE PRIX'!$F$6,AF13*'LISTE DE PRIX'!$F$7,AG13*'LISTE DE PRIX'!$F$12,AH13*'LISTE DE PRIX'!$F$13,AI13*'LISTE DE PRIX'!$F$14,AJ13*'LISTE DE PRIX'!$F$8,AK13*'LISTE DE PRIX'!$F$9,AL13*'LISTE DE PRIX'!$F$10,AM13*'LISTE DE PRIX'!$F$11,AN13*'LISTE DE PRIX'!$F$16,AO13*'LISTE DE PRIX'!$F$17,AP13*'LISTE DE PRIX'!$F$18,AQ13*'LISTE DE PRIX'!$F$15,AR13*'LISTE DE PRIX'!$F$19,AS13*'LISTE DE PRIX'!$F$20,AT13*'LISTE DE PRIX'!$F$21,AU13*'LISTE DE PRIX'!$F$22,AV13*'LISTE DE PRIX'!$F$23,AW13*'LISTE DE PRIX'!$F$25,AX13*'LISTE DE PRIX'!$F$26,AY13*'LISTE DE PRIX'!$F$27,AZ13*'LISTE DE PRIX'!$F$28,BA13*'LISTE DE PRIX'!$F$29,BB13*'LISTE DE PRIX'!$F$30)+MasterTable[[#This Row],[Misc.]] -> 1198.0795 | BE13: A FACTURER
B14: 2222 | D14: VSSM-003 | E14: M2121 | F14: Neves-Pelchat, Julien | G14: julien.nevespelchat@veolia.com | H14: SC360-017128(T/M) | I14: TEMP/MATERIEL | J14: ANN | M14: =SUM(0) -> 0 | N14: =SUM(0) -> 0 | O14: =SUM(0) -> 0 | P14: =SUM(0) -> 0 | Q14: =SUM(0) -> 0 | R14: =SUM(0) -> 0 | S14: =SUM(0) -> 0 | T14: =SUM(0) -> 0 | ... BB14: =SUM(0) -> 0 | BD14: =SUM(M14*RESUMÉ!$E$14,N14*RESUMÉ!$E$15,O14*RESUMÉ!$E$16,P14*RESUMÉ!$E$17,Q14*RESUMÉ!$E$18,R14*RESUMÉ!$E$19,S14*RESUMÉ!$E$20,T14*RESUMÉ!$E$21,U14*RESUMÉ!$E$22,V14*RESUMÉ!$E$23,W14*RESUMÉ!$E$24,X14*RESUMÉ!$E$25,Y14*RESUMÉ!$E$26,Z14*RESUMÉ!$E$27,AA14*RESUMÉ!$E$28,AB14*RESUMÉ!$E$29,AC14*RESUMÉ!$E$30,AD14*RESUMÉ!$E$31,AE14*'LISTE DE PRIX'!$F$6,AF14*'LISTE DE PRIX'!$F$7,AG14*'LISTE DE PRIX'!$F$12,AH14*'LISTE DE PRIX'!$F$13,AI14*'LISTE DE PRIX'!$F$14,AJ14*'LISTE DE PRIX'!$F$8,AK14*'LISTE DE PRIX'!$F$9,AL14*'LISTE DE PRIX'!$F$10,AM14*'LISTE DE PRIX'!$F$11,AN14*'LISTE DE PRIX'!$F$16,AO14*'LISTE DE PRIX'!$F$17,AP14*'LISTE DE PRIX'!$F$18,AQ14*'LISTE DE PRIX'!$F$15,AR14*'LISTE DE PRIX'!$F$19,AS14*'LISTE DE PRIX'!$F$20,AT14*'LISTE DE PRIX'!$F$21,AU14*'LISTE DE PRIX'!$F$22,AV14*'LISTE DE PRIX'!$F$23,AW14*'LISTE DE PRIX'!$F$25,AX14*'LISTE DE PRIX'!$F$26,AY14*'LISTE DE PRIX'!$F$27,AZ14*'LISTE DE PRIX'!$F$28,BA14*'LISTE DE PRIX'!$F$29,BB14*'LISTE DE PRIX'!$F$30)+MasterTable[[#This Row],[Misc.]] -> 0
B15: 2222 | C15: 2971 | D15: VAR-150.16 | E15: M2065 | F15: Perron, Gilles | G15: GILLES.PERRON@VEOLIA.COM | H15: TEMP/MAT | I15: TEMP/MATERIEL | J15: OUI | K15: 43038 | L15: 43038 | M15: =SUM(0) -> 0 | N15: =SUM(0) -> 0 | O15: =SUM(0) -> 0 | P15: =SUM(0) -> 0 | Q15: =SUM(0) -> 0 | R15: =SUM(0) -> 0 | S15: =SUM(0) -> 0 | T15: =SUM(0) -> 0 | ... AD15: =SUM(0) -> 0 | AE15: 90 | AF15: =SUM(0) -> 0 | AG15: 1 | AH15: 1 | AI15: =SUM(0) -> 0 | AJ15: =SUM(0) -> 0 | AK15: =SUM(0) -> 0 | AL15: 1 | AM15: =SUM(0) -> 0 | AN15: =SUM(0) -> 0 | AO15: =SUM(0) -> 0 | AP15: =SUM(0) -> 0 | AQ15: =SUM(0) -> 0 | AR15: =SUM(0) -> 0 | AS15: =SUM(0) -> 0 | AT15: 1 | AU15: 1 | AV15: =SUM(0) -> 0 | AW15: 6 | AX15: =SUM(0) -> 0 | AY15: =SUM(0) -> 0 | AZ15: =SUM(0) -> 0 | BA15: =SUM(0) -> 0 | BB15: =SUM(0) -> 0 | BD15: =SUM(M15*RESUMÉ!$E$14,N15*RESUMÉ!$E$15,O15*RESUMÉ!$E$16,P15*RESUMÉ!$E$17,Q15*RESUMÉ!$E$18,R15*RESUMÉ!$E$19,S15*RESUMÉ!$E$20,T15*RESUMÉ!$E$21,U15*RESUMÉ!$E$22,V15*RESUMÉ!$E$23,W15*RESUMÉ!$E$24,X15*RESUMÉ!$E$25,Y15*RESUMÉ!$E$26,Z15*RESUMÉ!$E$27,AA15*RESUMÉ!$E$28,AB15*RESUMÉ!$E$29,AC15*RESUMÉ!$E$30,AD15*RESUMÉ!$E$31,AE15*'LISTE DE PRIX'!$F$6,AF15*'LISTE DE PRIX'!$F$7,AG15*'LISTE DE PRIX'!$F$12,AH15*'LISTE DE PRIX'!$F$13,AI15*'LISTE DE PRIX'!$F$14,AJ15*'LISTE DE PRIX'!$F$8,AK15*'LISTE DE PRIX'!$F$9,AL15*'LISTE DE PRIX'!$F$10,AM15*'LISTE DE PRIX'!$F$11,AN15*'LISTE DE PRIX'!$F$16,AO15*'LISTE DE PRIX'!$F$17,AP15*'LISTE DE PRIX'!$F$18,AQ15*'LISTE DE PRIX'!$F$15,AR15*'LISTE DE PRIX'!$F$19,AS15*'LISTE DE PRIX'!$F$20,AT15*'LISTE DE PRIX'!$F$21,AU15*'LISTE DE PRIX'!$F$22,AV15*'LISTE DE PRIX'!$F$23,AW15*'LISTE DE PRIX'!$F$25,AX15*'LISTE DE PRIX'!$F$26,AY15*'LISTE DE PRIX'!$F$27,AZ15*'LISTE DE PRIX'!$F$28,BA15*'LISTE DE PRIX'!$F$29,BB15*'LISTE DE PRIX'!$F$30)+MasterTable[[#This Row],[Misc.]] -> 501.58401 | BE15: A FACTURER
B16: 2222 | C16: 2972 | D16: TURG-056 | E16: M2110 | F16: Neves-Pelchat, Julien | G16: julien.nevespelchat@veolia.com | H16: TEMP/MAT | I16: TEMP/MATERIEL | J16: OUI | K16: 43042 | L16: 43042 | M16: =SUM(0) -> 0 | N16: =SUM(0) -> 0 | O16: =SUM(0) -> 0 | P16: =SUM(0) -> 0 | Q16: =SUM(0) -> 0 | R16: =SUM(0) -> 0 | S16: =SUM(0) -> 0 | T16: =SUM(0) -> 0 | ... AD16: =SUM(0) -> 0 | AE16: 30 | AF16: =SUM(0) -> 0 | AG16: 1 | AH16: 1 | AI16: =SUM(0) -> 0 | AJ16: =SUM(0) -> 0 | AK16: 0 | AL16: 1 | AM16: =SUM(0) -> 0 | AN16: =SUM(0) -> 0 | AO16: =SUM(0) -> 0 | AP16: =SUM(0) -> 0 | AQ16: =SUM(0) -> 0 | AR16: =SUM(0) -> 0 | AS16: =SUM(0) -> 0 | AT16: 1 | AU16: 1 | AV16: =SUM(0) -> 0 | AW16: 4 | AX16: 2 | AY16: =SUM(0) -> 0 | AZ16: =SUM(0) -> 0 | BA16: =SUM(0) -> 0 | BB16: =SUM(0) -> 0 | BD16: =SUM(M16*RESUMÉ!$E$14,N16*RESUMÉ!$E$15,O16*RESUMÉ!$E$16,P16*RESUMÉ!$E$17,Q16*RESUMÉ!$E$18,R16*RESUMÉ!$E$19,S16*RESUMÉ!$E$20,T16*RESUMÉ!$E$21,U16*RESUMÉ!$E$22,V16*RESUMÉ!$E$23,W16*RESUMÉ!$E$24,X16*RESUMÉ!$E$25,Y16*RESUMÉ!$E$26,Z16*RESUMÉ!$E$27,AA16*RESUMÉ!$E$28,AB16*RESUMÉ!$E$29,AC16*RESUMÉ!$E$30,AD16*RESUMÉ!$E$31,AE16*'LISTE DE PRIX'!$F$6,AF16*'LISTE DE PRIX'!$F$7,AG16*'LISTE DE PRIX'!$F$12,AH16*'LISTE DE PRIX'!$F$13,AI16*'LISTE DE PRIX'!$F$14,AJ16*'LISTE DE PRIX'!$F$8,AK16*'LISTE DE PRIX'!$F$9,AL16*'LISTE DE PRIX'!$F$10,AM16*'LISTE DE PRIX'!$F$11,AN16*'LISTE DE PRIX'!$F$16,AO16*'LISTE DE PRIX'!$F$17,AP16*'LISTE DE PRIX'!$F$18,AQ16*'LISTE DE PRIX'!$F$15,AR16*'LISTE DE PRIX'!$F$19,AS16*'LISTE DE PRIX'!$F$20,AT16*'LISTE DE PRIX'!$F$21,AU16*'LISTE DE PRIX'!$F$22,AV16*'LISTE DE PRIX'!$F$23,AW16*'LISTE DE PRIX'!$F$25,AX16*'LISTE DE PRIX'!$F$26,AY16*'LISTE DE PRIX'!$F$27,AZ16*'LISTE DE PRIX'!$F$28,BA16*'LISTE DE PRIX'!$F$29,BB16*'LISTE DE PRIX'!$F$30)+MasterTable[[#This Row],[Misc.]] -> 503.79678 | BE16: A FACTURER
B17: EXEMPLE | M17: =SUM(0) -> 0 | N17: =SUM(0) -> 0 | O17: =SUM(0) -> 0 | P17: =SUM(0) -> 0 | Q17: =SUM(0) -> 0 | R17: =SUM(0) -> 0 | S17: =SUM(0) -> 0 | T17: =SUM(0) -> 0 | ... BB17: =SUM(0) -> 0 | BD17: =SUM(M17*RESUMÉ!$E$14,N17*RESUMÉ!$E$15,O17*RESUMÉ!$E$16,P17*RESUMÉ!$E$17,Q17*RESUMÉ!$E$18,R17*RESUMÉ!$E$19,S17*RESUMÉ!$E$20,T17*RESUMÉ!$E$21,U17*RESUMÉ!$E$22,V17*RESUMÉ!$E$23,W17*RESUMÉ!$E$24,X17*RESUMÉ!$E$25,Y17*RESUMÉ!$E$26,Z17*RESUMÉ!$E$27,AA17*RESUMÉ!$E$28,AB17*RESUMÉ!$E$29,AC17*RESUMÉ!$E$30,AD17*RESUMÉ!$E$31,AE17*'LISTE DE PRIX'!$F$6,AF17*'LISTE DE PRIX'!$F$7,AG17*'LISTE DE PRIX'!$F$12,AH17*'LISTE DE PRIX'!$F$13,AI17*'LISTE DE PRIX'!$F$14,AJ17*'LISTE DE PRIX'!$F$8,AK17*'LISTE DE PRIX'!$F$9,AL17*'LISTE DE PRIX'!$F$10,AM17*'LISTE DE PRIX'!$F$11,AN17*'LISTE DE PRIX'!$F$16,AO17*'LISTE DE PRIX'!$F$17,AP17*'LISTE DE PRIX'!$F$18,AQ17*'LISTE DE PRIX'!$F$15,AR17*'LISTE DE PRIX'!$F$19,AS17*'LISTE DE PRIX'!$F$20,AT17*'LISTE DE PRIX'!$F$21,AU17*'LISTE DE PRIX'!$F$22,AV17*'LISTE DE PRIX'!$F$23,AW17*'LISTE DE PRIX'!$F$25,AX17*'LISTE DE PRIX'!$F$26,AY17*'LISTE DE PRIX'!$F$27,AZ17*'LISTE DE PRIX'!$F$28,BA17*'LISTE DE PRIX'!$F$29,BB17*'LISTE DE PRIX'!$F$30)+MasterTable[[#This Row],[Misc.]] -> 0
B18: 2222 | C18: 2973 | D18: VAR-132 | E18: M2124 | F18: Beauregard, Francois | G18: francois.beauregard@veolia.com | H18: SC360-017117(T/M) | I18: 502.72 | J18: OUI | K18: 43045 | L18: 43045 | M18: =SUM(0) -> 0 | N18: =SUM(0) -> 0 | O18: =SUM(0) -> 0 | P18: =SUM(0) -> 0 | Q18: =SUM(0) -> 0 | R18: =SUM(0) -> 0 | S18: =SUM(0) -> 0 | T18: =SUM(0) -> 0 | ... AD18: =SUM(0) -> 0 | AE18: 150 | AF18: =SUM(0) -> 0 | AG18: 2 | AH18: 2 | AI18: =SUM(0) -> 0 | AJ18: =SUM(0) -> 0 | AK18: =SUM(0) -> 0 | AL18: =SUM(0) -> 0 | AM18: =SUM(0) -> 0 | AN18: =SUM(0) -> 0 | AO18: =SUM(0) -> 0 | AP18: =SUM(0) -> 0 | ... AS18: =SUM(0) -> 0 | AT18: 2 | AU18: 2 | AV18: =SUM(0) -> 0 | AW18: 7 | AX18: =SUM(0) -> 0 | AY18: =SUM(0) -> 0 | AZ18: =SUM(0) -> 0 | BA18: =SUM(0) -> 0 | BB18: =SUM(0) -> 0 | BD18: =SUM(M18*RESUMÉ!$E$14,N18*RESUMÉ!$E$15,O18*RESUMÉ!$E$16,P18*RESUMÉ!$E$17,Q18*RESUMÉ!$E$18,R18*RESUMÉ!$E$19,S18*RESUMÉ!$E$20,T18*RESUMÉ!$E$21,U18*RESUMÉ!$E$22,V18*RESUMÉ!$E$23,W18*RESUMÉ!$E$24,X18*RESUMÉ!$E$25,Y18*RESUMÉ!$E$26,Z18*RESUMÉ!$E$27,AA18*RESUMÉ!$E$28,AB18*RESUMÉ!$E$29,AC18*RESUMÉ!$E$30,AD18*RESUMÉ!$E$31,AE18*'LISTE DE PRIX'!$F$6,AF18*'LISTE DE PRIX'!$F$7,AG18*'LISTE DE PRIX'!$F$12,AH18*'LISTE DE PRIX'!$F$13,AI18*'LISTE DE PRIX'!$F$14,AJ18*'LISTE DE PRIX'!$F$8,AK18*'LISTE DE PRIX'!$F$9,AL18*'LISTE DE PRIX'!$F$10,AM18*'LISTE DE PRIX'!$F$11,AN18*'LISTE DE PRIX'!$F$16,AO18*'LISTE DE PRIX'!$F$17,AP18*'LISTE DE PRIX'!$F$18,AQ18*'LISTE DE PRIX'!$F$15,AR18*'LISTE DE PRIX'!$F$19,AS18*'LISTE DE PRIX'!$F$20,AT18*'LISTE DE PRIX'!$F$21,AU18*'LISTE DE PRIX'!$F$22,AV18*'LISTE DE PRIX'!$F$23,AW18*'LISTE DE PRIX'!$F$25,AX18*'LISTE DE PRIX'!$F$26,AY18*'LISTE DE PRIX'!$F$27,AZ18*'LISTE DE PRIX'!$F$28,BA18*'LISTE DE PRIX'!$F$29,BB18*'LISTE DE PRIX'!$F$30)+MasterTable[[#This Row],[Misc.]] -> 668.4627 | BE18: A FACTURER
B19: 2222 | C19: 2960/0755/0754/0753/2967 | D19: VSSM | E19: M1721 | F19: Landais, Jean-Michel | G19: jean-michel.lendais@veolia.com | H19: fichel excel | I19: 13259 | J19: OUI | K19: 42996 | L19: 43014 | M19: =SUM(1+1+1+1+1+1+1) -> 7 | N19: =SUM(4+4+1+4+1+1) -> 15 | O19: =SUM(1+4+1) -> 6 | P19: =SUM(0) -> 0 | Q19: =SUM(0) -> 0 | R19: =SUM(0) -> 0 | S19: =SUM(1+1+1+1+1+1+1+1+1) -> 9 | T19: =SUM(4+1+4+4+3) -> 16 | U19: =SUM(2+6+3) -> 11 | V19: =SUM(0) -> 0 | W19: =SUM(0) -> 0 | X19: =SUM(0) -> 0 | Y19: =SUM(0) -> 0 | Z19: =SUM(0) -> 0 | AA19: =SUM(0) -> 0 | AB19: =SUM(0) -> 0 | AC19: =SUM(0) -> 0 | AD19: =SUM(0) -> 0 | AE19: 170 | AF19: =SUM(0) -> 0 | AG19: 2 | AH19: 2 | AI19: =SUM(0) -> 0 | AJ19: =SUM(0) -> 0 | AK19: =SUM(0) -> 0 | AL19: 1 | AM19: =SUM(0) -> 0 | AN19: =SUM(0) -> 0 | AO19: =SUM(0) -> 0 | AP19: =SUM(0) -> 0 | AQ19: =SUM(0) -> 0 | AR19: =SUM(0) -> 0 | AS19: =SUM(0) -> 0 | AT19: =SUM(0) -> 0 | ... AV19: =SUM(0) -> 0 | AW19: 33 | AX19: =SUM(0) -> 0 | AY19: =SUM(0) -> 0 | AZ19: =SUM(0) -> 0 | BA19: =SUM(0) -> 0 | BB19: =SUM(0) -> 0 | BD19: =SUM(M19*RESUMÉ!$E$14,N19*RESUMÉ!$E$15,O19*RESUMÉ!$E$16,P19*RESUMÉ!$E$17,Q19*RESUMÉ!$E$18,R19*RESUMÉ!$E$19,S19*RESUMÉ!$E$20,T19*RESUMÉ!$E$21,U19*RESUMÉ!$E$22,V19*RESUMÉ!$E$23,W19*RESUMÉ!$E$24,X19*RESUMÉ!$E$25,Y19*RESUMÉ!$E$26,Z19*RESUMÉ!$E$27,AA19*RESUMÉ!$E$28,AB19*RESUMÉ!$E$29,AC19*RESUMÉ!$E$30,AD19*RESUMÉ!$E$31,AE19*'LISTE DE PRIX'!$F$6,AF19*'LISTE DE PRIX'!$F$7,AG19*'LISTE DE PRIX'!$F$12,AH19*'LISTE DE PRIX'!$F$13,AI19*'LISTE DE PRIX'!$F$14,AJ19*'LISTE DE PRIX'!$F$8,AK19*'LISTE DE PRIX'!$F$9,AL19*'LISTE DE PRIX'!$F$10,AM19*'LISTE DE PRIX'!$F$11,AN19*'LISTE DE PRIX'!$F$16,AO19*'LISTE DE PRIX'!$F$17,AP19*'LISTE DE PRIX'!$F$18,AQ19*'LISTE DE PRIX'!$F$15,AR19*'LISTE DE PRIX'!$F$19,AS19*'LISTE DE PRIX'!$F$20,AT19*'LISTE DE PRIX'!$F$21,AU19*'LISTE DE PRIX'!$F$22,AV19*'LISTE DE PRIX'!$F$23,AW19*'LISTE DE PRIX'!$F$25,AX19*'LISTE DE PRIX'!$F$26,AY19*'LISTE DE PRIX'!$F$27,AZ19*'LISTE DE PRIX'!$F$28,BA19*'LISTE DE PRIX'!$F$29,BB19*'LISTE DE PRIX'!$F$30)+MasterTable[[#This Row],[Misc.]] -> 2255.5184 | BE19: FACTURATION FAIT (CREDIT DE 948,92$)
B20: 2222 | C20: 0756/0752/0751 | D20: TEL ROUGE | E20: M1707 | F20: Landais, Jean-Michel | G20: jean-michel.lendais@veolia.com | H20: SC360-017091 | I20: TEMP/MATERIEL | J20: OUI | K20: 42997 | L20: 43000 | M20: =SUM(0) -> 0 | N20: =SUM(0) -> 0 | O20: =SUM(0) -> 0 | P20: =SUM(0) -> 0 | Q20: =SUM(0) -> 0 | R20: =SUM(0) -> 0 | S20: =SUM(0) -> 0 | T20: =SUM(0) -> 0 | ... AD20: =SUM(0) -> 0 | AE20: 160 | AF20: =SUM(0) -> 0 | AG20: 3 | AH20: 3 | AI20: =SUM(0) -> 0 | AJ20: 3 | AK20: =SUM(0) -> 0 | AL20: =SUM(0) -> 0 | AM20: =SUM(0) -> 0 | AN20: =SUM(0) -> 0 | AO20: =SUM(0) -> 0 | AP20: =SUM(0) -> 0 | AQ20: =SUM(0) -> 0 | AR20: 3 | AS20: =SUM(0) -> 0 | AT20: =SUM(0) -> 0 | AU20: 0 | AV20: =SUM(0) -> 0 | AW20: 32 | AX20: =SUM(0) -> 0 | AY20: =SUM(0) -> 0 | BA20: =SUM(0) -> 0 | BB20: =SUM(0) -> 0 | BD20: =SUM(M20*RESUMÉ!$E$14,N20*RESUMÉ!$E$15,O20*RESUMÉ!$E$16,P20*RESUMÉ!$E$17,Q20*RESUMÉ!$E$18,R20*RESUMÉ!$E$19,S20*RESUMÉ!$E$20,T20*RESUMÉ!$E$21,U20*RESUMÉ!$E$22,V20*RESUMÉ!$E$23,W20*RESUMÉ!$E$24,X20*RESUMÉ!$E$25,Y20*RESUMÉ!$E$26,Z20*RESUMÉ!$E$27,AA20*RESUMÉ!$E$28,AB20*RESUMÉ!$E$29,AC20*RESUMÉ!$E$30,AD20*RESUMÉ!$E$31,AE20*'LISTE DE PRIX'!$F$6,AF20*'LISTE DE PRIX'!$F$7,AG20*'LISTE DE PRIX'!$F$12,AH20*'LISTE DE PRIX'!$F$13,AI20*'LISTE DE PRIX'!$F$14,AJ20*'LISTE DE PRIX'!$F$8,AK20*'LISTE DE PRIX'!$F$9,AL20*'LISTE DE PRIX'!$F$10,AM20*'LISTE DE PRIX'!$F$11,AN20*'LISTE DE PRIX'!$F$16,AO20*'LISTE DE PRIX'!$F$17,AP20*'LISTE DE PRIX'!$F$18,AQ20*'LISTE DE PRIX'!$F$15,AR20*'LISTE DE PRIX'!$F$19,AS20*'LISTE DE PRIX'!$F$20,AT20*'LISTE DE PRIX'!$F$21,AU20*'LISTE DE PRIX'!$F$22,AV20*'LISTE DE PRIX'!$F$23,AW20*'LISTE DE PRIX'!$F$25,AX20*'LISTE DE PRIX'!$F$26,AY20*'LISTE DE PRIX'!$F$27,AZ20*'LISTE DE PRIX'!$F$28,BA20*'LISTE DE PRIX'!$F$29,BB20*'LISTE DE PRIX'!$F$30)+MasterTable[[#This Row],[Misc.]] -> 2183.0805 | BE20: FACTURATION FAIT
B21: 2222 | C21: N/A | D21: VAR-102 | E21: M1833 | F21: Perron, Gilles | G21: GILLES.PERRON@VEOLIA.COM | H21: SC360-017095 | I21: 1704 | J21: OUI | K21: 43006 | L21: 43007 | M21: 3 | N21: =SUM(0) -> 0 | O21: =SUM(0) -> 0 | P21: =SUM(0) -> 0 | Q21: =SUM(0) -> 0 | R21: =SUM(0) -> 0 | S21: =SUM(0) -> 0 | T21: =SUM(0) -> 0 | U21: =SUM(0) -> 0 | ... AV21: =SUM(0) -> 0 | AW21: 11.5 | AX21: =SUM(0) -> 0 | AY21: =SUM(0) -> 0 | AZ21: =SUM(0) -> 0 | BA21: =SUM(0) -> 0 | BB21: =SUM(0) -> 0 | BD21: =SUM(M21*RESUMÉ!$E$14,N21*RESUMÉ!$E$15,O21*RESUMÉ!$E$16,P21*RESUMÉ!$E$17,Q21*RESUMÉ!$E$18,R21*RESUMÉ!$E$19,S21*RESUMÉ!$E$20,T21*RESUMÉ!$E$21,U21*RESUMÉ!$E$22,V21*RESUMÉ!$E$23,W21*RESUMÉ!$E$24,X21*RESUMÉ!$E$25,Y21*RESUMÉ!$E$26,Z21*RESUMÉ!$E$27,AA21*RESUMÉ!$E$28,AB21*RESUMÉ!$E$29,AC21*RESUMÉ!$E$30,AD21*RESUMÉ!$E$31,AE21*'LISTE DE PRIX'!$F$6,AF21*'LISTE DE PRIX'!$F$7,AG21*'LISTE DE PRIX'!$F$12,AH21*'LISTE DE PRIX'!$F$13,AI21*'LISTE DE PRIX'!$F$14,AJ21*'LISTE DE PRIX'!$F$8,AK21*'LISTE DE PRIX'!$F$9,AL21*'LISTE DE PRIX'!$F$10,AM21*'LISTE DE PRIX'!$F$11,AN21*'LISTE DE PRIX'!$F$16,AO21*'LISTE DE PRIX'!$F$17,AP21*'LISTE DE PRIX'!$F$18,AQ21*'LISTE DE PRIX'!$F$15,AR21*'LISTE DE PRIX'!$F$19,AS21*'LISTE DE PRIX'!$F$20,AT21*'LISTE DE PRIX'!$F$21,AU21*'LISTE DE PRIX'!$F$22,AV21*'LISTE DE PRIX'!$F$23,AW21*'LISTE DE PRIX'!$F$25,AX21*'LISTE DE PRIX'!$F$26,AY21*'LISTE DE PRIX'!$F$27,AZ21*'LISTE DE PRIX'!$F$28,BA21*'LISTE DE PRIX'!$F$29,BB21*'LISTE DE PRIX'!$F$30)+MasterTable[[#This Row],[Misc.]] -> 692.99971 | BE21: FACTURATION FAIT
B22: 2222 | C22: N/A | D22: VAR-149 | E22: M1822 | F22: Neves-Pelchat, Julien | G22: julien.nevespelchat@veolia.com | H22: CONTRACTUEL | I22: 1872 | J22: OUI | K22: 43007 | L22: 43010 | M22: =SUM(0) -> 0 | N22: =SUM(0) -> 0 | O22: =SUM(0) -> 0 | P22: 4 | Q22: =SUM(0) -> 0 | R22: =SUM(0) -> 0 | S22: =SUM(0) -> 0 | T22: =SUM(0) -> 0 | U22: =SUM(0) -> 0 | V22: =SUM(0) -> 0 | W22: =SUM(0) -> 0 | X22: =SUM(0) -> 0 | ... BB22: =SUM(0) -> 0 | BD22: =SUM(M22*RESUMÉ!$E$14,N22*RESUMÉ!$E$15,O22*RESUMÉ!$E$16,P22*RESUMÉ!$E$17,Q22*RESUMÉ!$E$18,R22*RESUMÉ!$E$19,S22*RESUMÉ!$E$20,T22*RESUMÉ!$E$21,U22*RESUMÉ!$E$22,V22*RESUMÉ!$E$23,W22*RESUMÉ!$E$24,X22*RESUMÉ!$E$25,Y22*RESUMÉ!$E$26,Z22*RESUMÉ!$E$27,AA22*RESUMÉ!$E$28,AB22*RESUMÉ!$E$29,AC22*RESUMÉ!$E$30,AD22*RESUMÉ!$E$31,AE22*'LISTE DE PRIX'!$F$6,AF22*'LISTE DE PRIX'!$F$7,AG22*'LISTE DE PRIX'!$F$12,AH22*'LISTE DE PRIX'!$F$13,AI22*'LISTE DE PRIX'!$F$14,AJ22*'LISTE DE PRIX'!$F$8,AK22*'LISTE DE PRIX'!$F$9,AL22*'LISTE DE PRIX'!$F$10,AM22*'LISTE DE PRIX'!$F$11,AN22*'LISTE DE PRIX'!$F$16,AO22*'LISTE DE PRIX'!$F$17,AP22*'LISTE DE PRIX'!$F$18,AQ22*'LISTE DE PRIX'!$F$15,AR22*'LISTE DE PRIX'!$F$19,AS22*'LISTE DE PRIX'!$F$20,AT22*'LISTE DE PRIX'!$F$21,AU22*'LISTE DE PRIX'!$F$22,AV22*'LISTE DE PRIX'!$F$23,AW22*'LISTE DE PRIX'!$F$25,AX22*'LISTE DE PRIX'!$F$26,AY22*'LISTE DE PRIX'!$F$27,AZ22*'LISTE DE PRIX'!$F$28,BA22*'LISTE DE PRIX'!$F$29,BB22*'LISTE DE PRIX'!$F$30)+MasterTable[[#This Row],[Misc.]] -> 4 | BE22: FACTURATION FAIT
B23: 2222 | C23: 2966 | D23: VAR-112 | E23: M1912 | F23: Landais, Jean-Michel | G23: jean-michel.lendais@veolia.com | H23: SC360-017125 | I23: 1368 | J23: OUI | K23: 43024 | L23: 16-oct.17 | M23: =SUM(0) -> 0 | N23: =SUM(0) -> 0 | O23: =SUM(0) -> 0 | P23: 1 | Q23: =SUM(0) -> 0 | R23: =SUM(0) -> 0 | S23: 1 | T23: =SUM(0) -> 0 | U23: =SUM(0) -> 0 | V23: =SUM(0) -> 0 | W23: =SUM(0) -> 0 | X23: =SUM(0) -> 0 | Y23: =SUM(0) -> 0 | Z23: =SUM(0) -> 0 | AA23: =SUM(0) -> 0 | ... AV23: =SUM(0) -> 0 | AW23: 9.0828 | AX23: =SUM(0) -> 0 | AY23: =SUM(0) -> 0 | AZ23: 0 | BA23: =SUM(0) -> 0 | BB23: =SUM(0) -> 0 | BD23: =SUM(M23*RESUMÉ!$E$14,N23*RESUMÉ!$E$15,O23*RESUMÉ!$E$16,P23*RESUMÉ!$E$17,Q23*RESUMÉ!$E$18,R23*RESUMÉ!$E$19,S23*RESUMÉ!$E$20,T23*RESUMÉ!$E$21,U23*RESUMÉ!$E$22,V23*RESUMÉ!$E$23,W23*RESUMÉ!$E$24,X23*RESUMÉ!$E$25,Y23*RESUMÉ!$E$26,Z23*RESUMÉ!$E$27,AA23*RESUMÉ!$E$28,AB23*RESUMÉ!$E$29,AC23*RESUMÉ!$E$30,AD23*RESUMÉ!$E$31,AE23*'LISTE DE PRIX'!$F$6,AF23*'LISTE DE PRIX'!$F$7,AG23*'LISTE DE PRIX'!$F$12,AH23*'LISTE DE PRIX'!$F$13,AI23*'LISTE DE PRIX'!$F$14,AJ23*'LISTE DE PRIX'!$F$8,AK23*'LISTE DE PRIX'!$F$9,AL23*'LISTE DE PRIX'!$F$10,AM23*'LISTE DE PRIX'!$F$11,AN23*'LISTE DE PRIX'!$F$16,AO23*'LISTE DE PRIX'!$F$17,AP23*'LISTE DE PRIX'!$F$18,AQ23*'LISTE DE PRIX'!$F$15,AR23*'LISTE DE PRIX'!$F$19,AS23*'LISTE DE PRIX'!$F$20,AT23*'LISTE DE PRIX'!$F$21,AU23*'LISTE DE PRIX'!$F$22,AV23*'LISTE DE PRIX'!$F$23,AW23*'LISTE DE PRIX'!$F$25,AX23*'LISTE DE PRIX'!$F$26,AY23*'LISTE DE PRIX'!$F$27,AZ23*'LISTE DE PRIX'!$F$28,BA23*'LISTE DE PRIX'!$F$29,BB23*'LISTE DE PRIX'!$F$30)+MasterTable[[#This Row],[Misc.]] -> 546.96777 | BE23: FACTURATION FAIT
D24: VAR-131(INCLUS DANS VAR-118) | H24: SC360-017041 | I24: 1043 | J24: ANN | K24: 42944 | M24: =SUM(0) -> 0 | N24: =SUM(0) -> 0 | O24: =SUM(0) -> 0 | P24: =SUM(0) -> 0 | Q24: =SUM(0) -> 0 | R24: =SUM(0) -> 0 | S24: =SUM(0) -> 0 | T24: =SUM(0) -> 0 | ... BB24: =SUM(0) -> 0 | BD24: =SUM(M24*RESUMÉ!$E$14,N24*RESUMÉ!$E$15,O24*RESUMÉ!$E$16,P24*RESUMÉ!$E$17,Q24*RESUMÉ!$E$18,R24*RESUMÉ!$E$19,S24*RESUMÉ!$E$20,T24*RESUMÉ!$E$21,U24*RESUMÉ!$E$22,V24*RESUMÉ!$E$23,W24*RESUMÉ!$E$24,X24*RESUMÉ!$E$25,Y24*RESUMÉ!$E$26,Z24*RESUMÉ!$E$27,AA24*RESUMÉ!$E$28,AB24*RESUMÉ!$E$29,AC24*RESUMÉ!$E$30,AD24*RESUMÉ!$E$31,AE24*'LISTE DE PRIX'!$F$6,AF24*'LISTE DE PRIX'!$F$7,AG24*'LISTE DE PRIX'!$F$12,AH24*'LISTE DE PRIX'!$F$13,AI24*'LISTE DE PRIX'!$F$14,AJ24*'LISTE DE PRIX'!$F$8,AK24*'LISTE DE PRIX'!$F$9,AL24*'LISTE DE PRIX'!$F$10,AM24*'LISTE DE PRIX'!$F$11,AN24*'LISTE DE PRIX'!$F$16,AO24*'LISTE DE PRIX'!$F$17,AP24*'LISTE DE PRIX'!$F$18,AQ24*'LISTE DE PRIX'!$F$15,AR24*'LISTE DE PRIX'!$F$19,AS24*'LISTE DE PRIX'!$F$20,AT24*'LISTE DE PRIX'!$F$21,AU24*'LISTE DE PRIX'!$F$22,AV24*'LISTE DE PRIX'!$F$23,AW24*'LISTE DE PRIX'!$F$25,AX24*'LISTE DE PRIX'!$F$26,AY24*'LISTE DE PRIX'!$F$27,AZ24*'LISTE DE PRIX'!$F$28,BA24*'LISTE DE PRIX'!$F$29,BB24*'LISTE DE PRIX'!$F$30)+MasterTable[[#This Row],[Misc.]] -> 0
B25: 2222 | C25: 2969 | D25: VAR-P1 | E25: M1995 | F25: Neves-Pelchat, Julien | G25: julien.nevespelchat@veolia.com | H25: SC360-017122 | I25: 1847 | J25: OUI | K25: 43032 | L25: 43032 | M25: 1 | N25: 1 | O25: =SUM(0) -> 0 | P25: 1 | Q25: 1 | R25: =SUM(0) -> 0 | S25: =SUM(0) -> 0 | T25: =SUM(0) -> 0 | U25: =SUM(0) -> 0 | V25: =SUM(0) -> 0 | W25: =SUM(0) -> 0 | X25: =SUM(0) -> 0 | Y25: =SUM(0) -> 0 | ... AV25: =SUM(0) -> 0 | AW25: 8 | AX25: =SUM(0) -> 0 | AY25: =SUM(0) -> 0 | AZ25: =SUM(0) -> 0 | BA25: =SUM(0) -> 0 | BB25: =SUM(0) -> 0 | BD25: =SUM(M25*RESUMÉ!$E$14,N25*RESUMÉ!$E$15,O25*RESUMÉ!$E$16,P25*RESUMÉ!$E$17,Q25*RESUMÉ!$E$18,R25*RESUMÉ!$E$19,S25*RESUMÉ!$E$20,T25*RESUMÉ!$E$21,U25*RESUMÉ!$E$22,V25*RESUMÉ!$E$23,W25*RESUMÉ!$E$24,X25*RESUMÉ!$E$25,Y25*RESUMÉ!$E$26,Z25*RESUMÉ!$E$27,AA25*RESUMÉ!$E$28,AB25*RESUMÉ!$E$29,AC25*RESUMÉ!$E$30,AD25*RESUMÉ!$E$31,AE25*'LISTE DE PRIX'!$F$6,AF25*'LISTE DE PRIX'!$F$7,AG25*'LISTE DE PRIX'!$F$12,AH25*'LISTE DE PRIX'!$F$13,AI25*'LISTE DE PRIX'!$F$14,AJ25*'LISTE DE PRIX'!$F$8,AK25*'LISTE DE PRIX'!$F$9,AL25*'LISTE DE PRIX'!$F$10,AM25*'LISTE DE PRIX'!$F$11,AN25*'LISTE DE PRIX'!$F$16,AO25*'LISTE DE PRIX'!$F$17,AP25*'LISTE DE PRIX'!$F$18,AQ25*'LISTE DE PRIX'!$F$15,AR25*'LISTE DE PRIX'!$F$19,AS25*'LISTE DE PRIX'!$F$20,AT25*'LISTE DE PRIX'!$F$21,AU25*'LISTE DE PRIX'!$F$22,AV25*'LISTE DE PRIX'!$F$23,AW25*'LISTE DE PRIX'!$F$25,AX25*'LISTE DE PRIX'!$F$26,AY25*'LISTE DE PRIX'!$F$27,AZ25*'LISTE DE PRIX'!$F$28,BA25*'LISTE DE PRIX'!$F$29,BB25*'LISTE DE PRIX'!$F$30)+MasterTable[[#This Row],[Misc.]] -> 483.9998 | BE25: FACTURATION FAIT
B26: 2222 | D26: VAR-VSSM-006 | E26: M2170 | F26: Beauregard, Francois | G26: francois.beauregard@veolia.com | H26: T/M | J26: OUI | K26: 43052 | M26: =SUM(0) -> 0 | N26: =SUM(0) -> 0 | O26: =SUM(0) -> 0 | P26: =SUM(0) -> 0 | Q26: =SUM(0) -> 0 | R26: =SUM(0) -> 0 | S26: =SUM(0) -> 0 | T26: =SUM(0) -> 0 | ... BB26: =SUM(0) -> 0 | BD26: =SUM(M26*RESUMÉ!$E$14,N26*RESUMÉ!$E$15,O26*RESUMÉ!$E$16,P26*RESUMÉ!$E$17,Q26*RESUMÉ!$E$18,R26*RESUMÉ!$E$19,S26*RESUMÉ!$E$20,T26*RESUMÉ!$E$21,U26*RESUMÉ!$E$22,V26*RESUMÉ!$E$23,W26*RESUMÉ!$E$24,X26*RESUMÉ!$E$25,Y26*RESUMÉ!$E$26,Z26*RESUMÉ!$E$27,AA26*RESUMÉ!$E$28,AB26*RESUMÉ!$E$29,AC26*RESUMÉ!$E$30,AD26*RESUMÉ!$E$31,AE26*'LISTE DE PRIX'!$F$6,AF26*'LISTE DE PRIX'!$F$7,AG26*'LISTE DE PRIX'!$F$12,AH26*'LISTE DE PRIX'!$F$13,AI26*'LISTE DE PRIX'!$F$14,AJ26*'LISTE DE PRIX'!$F$8,AK26*'LISTE DE PRIX'!$F$9,AL26*'LISTE DE PRIX'!$F$10,AM26*'LISTE DE PRIX'!$F$11,AN26*'LISTE DE PRIX'!$F$16,AO26*'LISTE DE PRIX'!$F$17,AP26*'LISTE DE PRIX'!$F$18,AQ26*'LISTE DE PRIX'!$F$15,AR26*'LISTE DE PRIX'!$F$19,AS26*'LISTE DE PRIX'!$F$20,AT26*'LISTE DE PRIX'!$F$21,AU26*'LISTE DE PRIX'!$F$22,AV26*'LISTE DE PRIX'!$F$23,AW26*'LISTE DE PRIX'!$F$25,AX26*'LISTE DE PRIX'!$F$26,AY26*'LISTE DE PRIX'!$F$27,AZ26*'LISTE DE PRIX'!$F$28,BA26*'LISTE DE PRIX'!$F$29,BB26*'LISTE DE PRIX'!$F$30)+MasterTable[[#This Row],[Misc.]] -> 0
B27: 2222 | C27: 2960 | D27: TURG-0033 | E27: M1883 | F27: Landais, Jean-Michel | G27: jean-michel.lendais@veolia.com | H27: T/M | J27: OUI | K27: 43014 | L27: 43014 | M27: =SUM(0) -> 0 | N27: =SUM(0) -> 0 | O27: =SUM(0) -> 0 | P27: =SUM(0) -> 0 | Q27: =SUM(0) -> 0 | R27: =SUM(0) -> 0 | S27: =SUM(0) -> 0 | T27: =SUM(0) -> 0 | ... AD27: =SUM(0) -> 0 | AE27: 155 | AF27: =SUM(0) -> 0 | AG27: 2 | AH27: 2 | AI27: =SUM(0) -> 0 | AJ27: =SUM(0) -> 0 | AK27: =SUM(0) -> 0 | AL27: =SUM(0) -> 0 | AM27: =SUM(0) -> 0 | AN27: =SUM(0) -> 0 | AO27: 1 | AP27: =SUM(0) -> 0 | AQ27: =SUM(0) -> 0 | AR27: =SUM(0) -> 0 | AS27: =SUM(0) -> 0 | AT27: 1 | AU27: 1 | AV27: =SUM(0) -> 0 | AW27: 12 | AX27: =SUM(0) -> 0 | AY27: =SUM(0) -> 0 | AZ27: =SUM(0) -> 0 | BA27: =SUM(0) -> 0 | BB27: =SUM(0) -> 0 | BD27: =SUM(M27*RESUMÉ!$E$14,N27*RESUMÉ!$E$15,O27*RESUMÉ!$E$16,P27*RESUMÉ!$E$17,Q27*RESUMÉ!$E$18,R27*RESUMÉ!$E$19,S27*RESUMÉ!$E$20,T27*RESUMÉ!$E$21,U27*RESUMÉ!$E$22,V27*RESUMÉ!$E$23,W27*RESUMÉ!$E$24,X27*RESUMÉ!$E$25,Y27*RESUMÉ!$E$26,Z27*RESUMÉ!$E$27,AA27*RESUMÉ!$E$28,AB27*RESUMÉ!$E$29,AC27*RESUMÉ!$E$30,AD27*RESUMÉ!$E$31,AE27*'LISTE DE PRIX'!$F$6,AF27*'LISTE DE PRIX'!$F$7,AG27*'LISTE DE PRIX'!$F$12,AH27*'LISTE DE PRIX'!$F$13,AI27*'LISTE DE PRIX'!$F$14,AJ27*'LISTE DE PRIX'!$F$8,AK27*'LISTE DE PRIX'!$F$9,AL27*'LISTE DE PRIX'!$F$10,AM27*'LISTE DE PRIX'!$F$11,AN27*'LISTE DE PRIX'!$F$16,AO27*'LISTE DE PRIX'!$F$17,AP27*'LISTE DE PRIX'!$F$18,AQ27*'LISTE DE PRIX'!$F$15,AR27*'LISTE DE PRIX'!$F$19,AS27*'LISTE DE PRIX'!$F$20,AT27*'LISTE DE PRIX'!$F$21,AU27*'LISTE DE PRIX'!$F$22,AV27*'LISTE DE PRIX'!$F$23,AW27*'LISTE DE PRIX'!$F$25,AX27*'LISTE DE PRIX'!$F$26,AY27*'LISTE DE PRIX'!$F$27,AZ27*'LISTE DE PRIX'!$F$28,BA27*'LISTE DE PRIX'!$F$29,BB27*'LISTE DE PRIX'!$F$30)+MasterTable[[#This Row],[Misc.]] -> 948.91758 | BE27: A FACTURER
BD28: =SUM(M28*RESUMÉ!$E$14,N28*RESUMÉ!$E$15,O28*RESUMÉ!$E$16,P28*RESUMÉ!$E$17,Q28*RESUMÉ!$E$18,R28*RESUMÉ!$E$19,S28*RESUMÉ!$E$20,T28*RESUMÉ!$E$21,U28*RESUMÉ!$E$22,V28*RESUMÉ!$E$23,W28*RESUMÉ!$E$24,X28*RESUMÉ!$E$25,Y28*RESUMÉ!$E$26,Z28*RESUMÉ!$E$27,AA28*RESUMÉ!$E$28,AB28*RESUMÉ!$E$29,AC28*RESUMÉ!$E$30,AD28*RESUMÉ!$E$31,AE28*'LISTE DE PRIX'!$F$6,AF28*'LISTE DE PRIX'!$F$7,AG28*'LISTE DE PRIX'!$F$12,AH28*'LISTE DE PRIX'!$F$13,AI28*'LISTE DE PRIX'!$F$14,AJ28*'LISTE DE PRIX'!$F$8,AK28*'LISTE DE PRIX'!$F$9,AL28*'LISTE DE PRIX'!$F$10,AM28*'LISTE DE PRIX'!$F$11,AN28*'LISTE DE PRIX'!$F$16,AO28*'LISTE DE PRIX'!$F$17,AP28*'LISTE DE PRIX'!$F$18,AQ28*'LISTE DE PRIX'!$F$15,AR28*'LISTE DE PRIX'!$F$19,AS28*'LISTE DE PRIX'!$F$20,AT28*'LISTE DE PRIX'!$F$21,AU28*'LISTE DE PRIX'!$F$22,AV28*'LISTE DE PRIX'!$F$23,AW28*'LISTE DE PRIX'!$F$25,AX28*'LISTE DE PRIX'!$F$26,AY28*'LISTE DE PRIX'!$F$27,AZ28*'LISTE DE PRIX'!$F$28,BA28*'LISTE DE PRIX'!$F$29,BB28*'LISTE DE PRIX'!$F$30)+MasterTable[[#This Row],[Misc.]] -> 0
H29: TOTAL | I29: =SUM(I9:I28) -> 110418.72
A31: FACTURATION A FAIRE | BB31: TOTAL | BD31: =SUM(BD8:BD30)-BD28 -> 9987.4068
B32: SEPTEMBRE/OCTOBRE
B33: NOVEMBRE
B34: DECEMBRE
B35: JANVIER
B36: FÉVRIER
B37: MARS
B38: AVRIL
B39: MAI
B40: JUIN
B41: JUILLET
B42: AOÛT
B43: SEPTEMBRE
...

Sheet LISTE DE PRIX
B2: Liste de prix unitaire
C5: Nbres | D5: Prix Cost | E5: Margin | F5: Prix Sales
C6: 1 | D6: 0.8026 | E6: 0.2 | F6: =(D6*E6)+D6 -> 0.96312
C7: 1 | D7: 0.8026 | E7: 0.2 | F7: =(D7*E7)+D7 -> 0.96312
C8: 1 | D8: 2.4216 | E8: 0.2 | F8: =(D8*E8)+D8 -> 2.90592
C9: 1 | D9: 2.4216 | E9: 0.2 | F9: =(D9*E9)+D9 -> 2.90592
C10: 1 | D10: 2.4216 | E10: 0.2 | F10: =(D10*E10)+D10 -> 2.90592
C11: 1 | D11: 2.4216 | E11: 0.2 | F11: =(D11*E11)+D11 -> 2.90592
C12: 1 | D12: 9.3506 | E12: 0.2 | F12: =(D12*E12)+D12 -> 11.22072
C13: 1 | D13: 9.3506 | E13: 0.2 | F13: =(D13*E13)+D13 -> 11.22072
C14: 1 | D14: 9.3506 | E14: 0.2 | F14: =(D14*E14)+D14 -> 11.22072
C15: 1 | D15: 550.58 | E15: 0.2 | F15: =(D15*E15)+D15 -> 660.696
C16: 1 | D16: 2.8619 | E16: 0.2 | F16: =(D16*E16)+D16 -> 3.43428
C17: 1 | D17: 4.3295 | E17: 0.2 | F17: =(D17*E17)+D17 -> 5.1954
... C30: 1 | D30: 270 | E30: 0.388889 | F30: =(D30*E30)+D30 -> 375.00003

Sheet RESUMÉ
B1: PRIX AVEC Matériel et Main-œuvre
C3: 1 CABLES | E3: 2 À 5 CABLES | G3: 6 À 10
B4: TYPE DE CABLES | C4: COSTS | D4: SALES | E4: COSTS | F4: SALES | G4: COST | H4: SALES
B5: CHUM NON-CCQ | C5: 1 | D5: 1 | E5: 1 | F5: 1 | G5: 1 | H5: 1
B6: CHUM HEPA NON-CCQ | C6: 1 | D6: 1 | E6: 1 | F6: 1 | G6: 1 | H6: 1
B7: PROJECTCO NON-CCQ | C7: 1 | D7: 1 | E7: 1 | F7: 1 | G7: 1 | H7: 1
B8: PROJECTCO HEPA NON-CCQ | C8: 1 | D8: 1 | E8: 1 | F8: 1 | G8: 1 | H8: 1
B9: PROJECTCO CCQ | C9: 1 | D9: 1 | E9: 1 | F9: 1 | G9: 1 | H9: 1
B10: PROJECTCO HEPA CCQ | C10: 1 | D10: 1 | E10: 1 | F10: 1 | G10: 1 | H10: 1
B13: TYPE DE CABLE | C13: NOMBRE DE CABLE | D13: PRIX COST | E13: PRIX SALES
B14: CHUM NON-CCQ | C14: 1 | D14: 1 | E14: =D5 -> 1
B15: CHUM NON-CCQ | C15: 2 A 5 | D15: 1 | E15: =D6 -> 1
B16: CHUM NON-CCQ | C16: 6 A 10 | D16: 1 | E16: =D7 -> 1
B17: CHUM HEPA NON-CCQ | C17: 1 | D17: 1 | E17: =D8 -> 1
B18: CHUM HEPA NON-CCQ | C18: 2 A 5 | D18: 1 | E18: =D9 -> 1
B19: CHUM HEPA NON-CCQ | C19: 6 A 10 | D19: 1 | E19: 1
B20: PROJECTCO NON-CCQ | C20: 1 | D20: 1 | E20: 1
B21: PROJECTCO NON-CCQ | C21: 2 A 5 | D21: 1 | E21: 1
B22: PROJECTCO NON-CCQ | C22: 6 A 10 | D22: 1 | E22: 1
B23: PROJECTCO HEPA NON-CCQ | C23: 1 | D23: 1 | E23: 1
B24: PROJECTCO HEPA NON-CCQ | C24: 2 A 5 | D24: 1 | E24: 1
B25: PROJECTCO HEPA NON-CCQ | C25: 6 A 10 | D25: 1 | E25: =D16 -> 1
B26: PROJECTCO CCQ | C26: 1 | D26: 1 | E26: =D17 -> 1
B27: PROJECTCO CCQ | C27: 2 A 5 | D27: 1 | E27: =D18 -> 1
B28: PROJECTCO CCQ | C28: 6 A 10 | D28: 1 | E28: =D19 -> 1
B29: PROJECTCO CCQ HEPA | C29: 1 | D29: 1 | E29: =D20 -> 1
B30: PROJECTCO CCQ HEPA | C30: 2 A 5 | D30: 1 | E30: =D21 -> 1
B31: PROJECTCO CCQ HEPA | C31: 6 A 10 | D31: 1 | E31: =D22 -> 1

Sheet var-160
A1: VARIA: | B1: =REPLACE(CELL("FILENAME",B1),1,SEARCH("]",CELL("FILENAME",B1)),"") -> var-160
A2: Bon commande: | B2: =INDEX(MasterTable['# B.C],(_xlfn.AGGREGATE(15,6,(ROW(MasterTable['# B.C])-ROW(MasterTable[#Headers]))/(MasterTable[[VARIA ]:[VARIA ]]=$B$1),ROWS($B$2:B2)))) -> M2073
A3: BON TRAVAIL: | B3: =INDEX(MasterTable['# B.T],(_xlfn.AGGREGATE(15,6,(ROW(MasterTable['# B.T])-ROW(MasterTable[#Headers]))/(MasterTable[[VARIA ]:[VARIA ]]=$B$1),ROWS($B$3:B3)))) -> 2979/2980
A4: Contact: | B4: =INDEX(MasterTable[NOM CONTACT],(_xlfn.AGGREGATE(15,6,(ROW(MasterTable[NOM CONTACT])-ROW(MasterTable[#Headers]))/(MasterTable[[VARIA ]:[VARIA ]]=$B$1),ROWS($B$4:B4)))) -> Neves-Pelchat, Julien
A6: Item Descrition | D6: Numero Produit | E6: Ref. | F6: Quantité | G6: Prix ($/U) | H6: Total ($)
G7: Column1
A8: Câblage Non Dégret CHUM | D8: Non-EPA | E8: 1er | F8: =INDEX(MasterTable[1er],(_xlfn.AGGREGATE(15,6,(ROW(MasterTable[1er])-ROW(MasterTable[#Headers]))/(MasterTable[[VARIA ]:[VARIA ]]=$B$1),ROWS(F8:F8)))) -> 0 | G8: =RESUMÉ!E14 -> 1
A9: Câblage Non Dégret CHUM | D9: Non-EPA | E9: 2 à 5 | F9: =INDEX(MasterTable[2 à 5],(_xlfn.AGGREGATE(15,6,(ROW(MasterTable[2 à 5])-ROW(MasterTable[#Headers]))/(MasterTable[[VARIA ]:[VARIA ]]=$B$1),ROWS(F9:F9)))) -> 0 | G9: =RESUMÉ!E15 -> 1
A10: Câblage Non Dégret CHUM | D10: Non-EPA | E10: 6 à 10 | F10: =INDEX(MasterTable[6 à 10],(_xlfn.AGGREGATE(15,6,(ROW(MasterTable[6 à 10])-ROW(MasterTable[#Headers]))/(MasterTable[[VARIA ]:[VARIA ]]=$B$1),ROWS(F10:F10)))) -> 0 | G10: =RESUMÉ!E16 -> 1
A11: Câblage Non Dégret CHUM | D11: EPA | E11: 1er | F11: =INDEX(MasterTable[[1er ]],(_xlfn.AGGREGATE(15,6,(ROW(MasterTable[[1er ]])-ROW(MasterTable[#Headers]))/(MasterTable[[VARIA ]:[VARIA ]]=$B$1),ROWS(F11:F11)))) -> 0 | G11: =RESUMÉ!E17 -> 1
A12: Câblage Non Dégret CHUM | D12: EPA | E12: 2 à 5 | F12: =INDEX(MasterTable[[2 à 5 ]],(_xlfn.AGGREGATE(15,6,(ROW(MasterTable[[2 à 5 ]])-ROW(MasterTable[#Headers]))/(MasterTable[[VARIA ]:[VARIA ]]=$B$1),ROWS(F12:F12)))) -> 0 | G12: =RESUMÉ!E18 -> 1
A13: Câblage Non Dégret CHUM | D13: EPA | E13: 6 à 10 | F13: =INDEX(MasterTable[[6 à 10 ]],(_xlfn.AGGREGATE(15,6,(ROW(MasterTable[[6 à 10 ]])-ROW(MasterTable[#Headers]))/(MasterTable[[VARIA ]:[VARIA ]]=$B$1),ROWS(F13:F13)))) -> 0 | G13: =RESUMÉ!E19 -> 1
A14: Câblage Non Dégret ProjectCo | D14: Non-EPA | E14: 1er | F14: =INDEX(MasterTable[[1er ]],(_xlfn.AGGREGATE(15,6,(ROW(MasterTable[[1er ]])-ROW(MasterTable[#Headers]))/(MasterTable[[VARIA ]:[VARIA ]]=$B$1),ROWS(F14:F14)))) -> 0 | G14: =RESUMÉ!E20 -> 1
A15: Câblage Non Dégret ProjectCo | D15: Non-EPA | E15: 2 à 5 | F15: =INDEX(MasterTable[[2 à 5 ]],(_xlfn.AGGREGATE(15,6,(ROW(MasterTable[[2 à 5 ]])-ROW(MasterTable[#Headers]))/(MasterTable[[VARIA ]:[VARIA ]]=$B$1),ROWS(F15:F15)))) -> 0 | G15: =RESUMÉ!E21 -> 1
A16: Câblage Non Dégret ProjectCo | D16: Non-EPA | E16: 6 à 10 | F16: =INDEX(MasterTable[[6 à 10 ]],(_xlfn.AGGREGATE(15,6,(ROW(MasterTable[[6 à 10 ]])-ROW(MasterTable[#Headers]))/(MasterTable[[VARIA ]:[VARIA ]]=$B$1),ROWS(F16:F16)))) -> 0 | G16: =RESUMÉ!E22 -> 1
A17: Câblage Non Dégret ProjectCo | D17: EPA | E17: 1er | F17: =INDEX(MasterTable[[1er ]],(_xlfn.AGGREGATE(15,6,(ROW(MasterTable[[1er ]])-ROW(MasterTable[#Headers]))/(MasterTable[[VARIA ]:[VARIA ]]=$B$1),ROWS(F17:F17)))) -> 0 | G17: =RESUMÉ!E23 -> 1
A18: Câblage Non Dégret ProjectCo | D18: EPA | E18: 2 à 5 | F18: =INDEX(MasterTable[[2 à 5 ]],(_xlfn.AGGREGATE(15,6,(ROW(MasterTable[[2 à 5 ]])-ROW(MasterTable[#Headers]))/(MasterTable[[VARIA ]:[VARIA ]]=$B$1),ROWS(F18:F18)))) -> 0 | G18: =RESUMÉ!E24 -> 1
A19: Câblage Non Dégret ProjectCo | D19: EPA | E19: 6 à 10 | F19: =INDEX(MasterTable[[6 à 10 ]],(_xlfn.AGGREGATE(15,6,(ROW(MasterTable[[6 à 10 ]])-ROW(MasterTable[#Headers]))/(MasterTable[[VARIA ]:[VARIA ]]=$B$1),ROWS(F19:F19)))) -> 0 | G19: =RESUMÉ!E25 -> 1
A20: Câblage DÉGRET ProjectCo | D20: Non-EPA | E20: 1er | F20: =INDEX(MasterTable[[1er ]],(_xlfn.AGGREGATE(15,6,(ROW(MasterTable[[1er ]])-ROW(MasterTable[#Headers]))/(MasterTable[[VARIA ]:[VARIA ]]=$B$1),ROWS(F20:F20)))) -> 0 | G20: =RESUMÉ!E26 -> 1
A21: Câblage DÉGRET ProjectCo | D21: Non-EPA | E21: 2 à 5 | F21: =INDEX(MasterTable[[2 à 5 ]],(_xlfn.AGGREGATE(15,6,(ROW(MasterTable[[2 à 5 ]])-ROW(MasterTable[#Headers]))/(MasterTable[[VARIA ]:[VARIA ]]=$B$1),ROWS(F21:F21)))) -> 0 | G21: =RESUMÉ!E27 -> 1
A22: Câblage DÉGRET ProjectCo | D22: Non-EPA | E22: 6 à 10 | F22: =INDEX(MasterTable[[6 à 10 ]],(_xlfn.AGGREGATE(15,6,(ROW(MasterTable[[6 à 10 ]])-ROW(MasterTable[#Headers]))/(MasterTable[[VARIA ]:[VARIA ]]=$B$1),ROWS(F22:F22)))) -> 0 | G22: =RESUMÉ!E28 -> 1
A23: Câblage DÉGRET ProjectCo | D23: EPA | E23: 1er | F23: =INDEX(MasterTable[[1er ]],(_xlfn.AGGREGATE(15,6,(ROW(MasterTable[[1er ]])-ROW(MasterTable[#Headers]))/(MasterTable[[VARIA ]:[VARIA ]]=$B$1),ROWS(F23:F23)))) -> 0 | G23: =RESUMÉ!E29 -> 1
A24: Câblage DÉGRET ProjectCo | D24: EPA | E24: 2 à 5 | F24: =INDEX(MasterTable[[2 à 5 ]],(_xlfn.AGGREGATE(15,6,(ROW(MasterTable[[2 à 5 ]])-ROW(MasterTable[#Headers]))/(MasterTable[[VARIA ]:[VARIA ]]=$B$1),ROWS(F24:F24)))) -> 0 | G24: =RESUMÉ!E30 -> 1
A25: Câblage DÉGRET ProjectCo | D25: EPA | E25: 6 à 10 | F25: =INDEX(MasterTable[[6 à 10 ]],(_xlfn.AGGREGATE(15,6,(ROW(MasterTable[[6 à 10 ]])-ROW(MasterTable[#Headers]))/(MasterTable[[VARIA ]:[VARIA ]]=$B$1),ROWS(F25:F25)))) -> 0 | G25: =RESUMÉ!E31 -> 1
A26: BELDEN CABLE CAT6 2412 BLANC | E26: Blanc (M) | F26: =INDEX(MasterTable[Blanc ($/M)],(_xlfn.AGGREGATE(15,6,(ROW(MasterTable[Blanc ($/M)])-ROW(MasterTable[#Headers]))/(MasterTable[[VARIA ]:[VARIA ]]=$B$1),ROWS(F26:F26)))) -> 76 | G26: =RESUMÉ!E32 -> 0
A27: BELDEN CABLE CAT6 2412 VERT | E27: Vert (M) | F27: =INDEX(MasterTable[Vert ($/M)],(_xlfn.AGGREGATE(15,6,(ROW(MasterTable[Vert ($/M)])-ROW(MasterTable[#Headers]))/(MasterTable[[VARIA ]:[VARIA ]]=$B$1),ROWS(F27:F27)))) -> 0 | G27: =RESUMÉ!E33 -> 0
A28: CONNECTEUR KS CAT6 BLANC | E28: Blanc | F28: =INDEX(MasterTable[Blanc],(_xlfn.AGGREGATE(15,6,(ROW(MasterTable[Blanc])-ROW(MasterTable[#Headers]))/(MasterTable[[VARIA ]:[VARIA ]]=$B$1),ROWS(F28:F28)))) -> 2 | G28: =RESUMÉ!E34 -> 0
A29: CONNECTEUR KS CAT6 NOIR | E29: Noir | F29: =INDEX(MasterTable[Noir],(_xlfn.AGGREGATE(15,6,(ROW(MasterTable[Noir])-ROW(MasterTable[#Headers]))/(MasterTable[[VARIA ]:[VARIA ]]=$B$1),ROWS(F29:F29)))) -> 2 | G29: =RESUMÉ!E35 -> 0
A30: CONNECTEUR KS CAT6 VERT | E30: Vert | F30: =INDEX(MasterTable[Vert],(_xlfn.AGGREGATE(15,6,(ROW(MasterTable[Vert])-ROW(MasterTable[#Headers]))/(MasterTable[[VARIA ]:[VARIA ]]=$B$1),ROWS(F30:F30)))) -> 0 | G30: =RESUMÉ!E36 -> 0
A31: Plaque Mural 1 port KS Blanc | E31: 1 port | F31: =INDEX(MasterTable[1 port],(_xlfn.AGGREGATE(15,6,(ROW(MasterTable[1 port])-ROW(MasterTable[#Headers]))/(MasterTable[[VARIA ]:[VARIA ]]=$B$1),ROWS(F31:F31)))) -> 0 | G31: =RESUMÉ!E37 -> 0
A32: Plaque Mural 2 port KS Blanc | E32: 2 port | F32: =INDEX(MasterTable[2 port],(_xlfn.AGGREGATE(15,6,(ROW(MasterTable[2 port])-ROW(MasterTable[#Headers]))/(MasterTable[[VARIA ]:[VARIA ]]=$B$1),ROWS(F32:F32)))) -> 0 | G32: =RESUMÉ!E38 -> 0
A33: Plaque Mural 4 port KS Blanc | E33: 4 port | F33: =INDEX(MasterTable[4 port],(_xlfn.AGGREGATE(15,6,(ROW(MasterTable[4 port])-ROW(MasterTable[#Headers]))/(MasterTable[[VARIA ]:[VARIA ]]=$B$1),ROWS(F33:F33)))) -> 0 | G33: =RESUMÉ!E39 -> 0
A34: Plaque Mural 6 port KS Blanc | E34: 6 port | F34: =INDEX(MasterTable[6 port],(_xlfn.AGGREGATE(15,6,(ROW(MasterTable[6 port])-ROW(MasterTable[#Headers]))/(MasterTable[[VARIA ]:[VARIA ]]=$B$1),ROWS(F34:F34)))) -> 0 | G34: =RESUMÉ!E40 -> 0
A35: Boite sortie latéral KS Blanc 1port | E35: 1 port | F35: =INDEX(MasterTable[[1 port ]],(_xlfn.AGGREGATE(15,6,(ROW(MasterTable[[1 port ]])-ROW(MasterTable[#Headers]))/(MasterTable[[VARIA ]:[VARIA ]]=$B$1),ROWS(F35:F35)))) -> 0 | G35: =RESUMÉ!E41 -> 0
A36: Boite sortie latéral KS Blanc 2port | E36: 2 port | F36: =INDEX(MasterTable[[2 port ]],(_xlfn.AGGREGATE(15,6,(ROW(MasterTable[[2 port ]])-ROW(MasterTable[#Headers]))/(MasterTable[[VARIA ]:[VARIA ]]=$B$1),ROWS(F36:F36)))) -> 0 | G36: =RESUMÉ!E42 -> 0
A37: Boite sortie latéral KS Blanc 4port | E37: 4 port | F37: =INDEX(MasterTable[[4 port ]],(_xlfn.AGGREGATE(15,6,(ROW(MasterTable[[4 port ]])-ROW(MasterTable[#Headers]))/(MasterTable[[VARIA ]:[VARIA ]]=$B$1),ROWS(F37:F37)))) -> 0 | G37: =RESUMÉ!E43 -> 0
A38: PatchPanel 48 port KS 1U | E38: 48 port | F38: =INDEX(MasterTable[48 port],(_xlfn.AGGREGATE(15,6,(ROW(MasterTable[48 port])-ROW(MasterTable[#Headers]))/(MasterTable[[VARIA ]:[VARIA ]]=$B$1),ROWS(F38:F38)))) -> 0 | G38: =RESUMÉ!E44 -> 0
A39: Cordon de Raccordement blanc 2' | E39: 2' | F39: =INDEX(MasterTable[2''],(_xlfn.AGGREGATE(15,6,(ROW(MasterTable[2''])-ROW(MasterTable[#Headers]))/(MasterTable[[VARIA ]:[VARIA ]]=$B$1),ROWS(F39:F39)))) -> 0 | G39: =RESUMÉ!E45 -> 0
A40: Cordon de Raccordement blanc 4' | E40: 4' | F40: =INDEX(MasterTable[4''],(_xlfn.AGGREGATE(15,6,(ROW(MasterTable[4''])-ROW(MasterTable[#Headers]))/(MasterTable[[VARIA ]:[VARIA ]]=$B$1),ROWS(F40:F40)))) -> 0 | G40: =RESUMÉ!E46 -> 0
A41: Cordon de Raccordement blanc 7' | E41: 7' | F41: =INDEX(MasterTable[7''],(_xlfn.AGGREGATE(15,6,(ROW(MasterTable[7''])-ROW(MasterTable[#Headers]))/(MasterTable[[VARIA ]:[VARIA ]]=$B$1),ROWS(F41:F41)))) -> 0 | G41: =RESUMÉ!E47 -> 0
...
