Workbook

Sheet pivot
A1: Tractor | B1: 4005
A3: Storage bins | B3: Material desc. | C3: Sum of Qty to deliver
A4: AA 10 | B4: Material 10 | C4: 15
A5: AA 7 | B5: Material 7 | C5: 20
A6: AA 19 | B6: Material 19 | C6: 5
A7: AA 2 | B7: Material 2 | C7: 9
A8: Grand Total | C8: 49

Sheet raw data
A1: Storage bins | B1: Material Number | C1: Material desc. | D1: Qty to deliver | E1: Tractor
A2: =VLOOKUP(B2,'data storage location'!$B$2:$C$67,2,FALSE) -> AA 11 | B2: 3410 | C2: Material 11 | E2: 3736
A3: =VLOOKUP(B3,'data storage location'!$B$2:$C$67,2,FALSE) -> AA 8 | B3: 63908 | C3: Material 8 | E3: 3736
A4: =VLOOKUP(B4,'data storage location'!$B$2:$C$67,2,FALSE) -> AA 13 | B4: 59848 | C4: Material 13 | E4: 3736
A5: =VLOOKUP(B5,'data storage location'!$B$2:$C$67,2,FALSE) -> AA 1 | B5: 3371 | C5: Material 1 | E5: 3736
A6: =VLOOKUP(B6,'data storage location'!$B$2:$C$67,2,FALSE) -> AA 11 | B6: 3410 | C6: Material 11 | D6: 16 | E6: 3736
A7: =VLOOKUP(B7,'data storage location'!$B$2:$C$67,2,FALSE) -> AA 8 | B7: 63908 | C7: Material 8 | D7: 10 | E7: 3736
A8: =VLOOKUP(B8,'data storage location'!$B$2:$C$67,2,FALSE) -> AA 13 | B8: 59848 | C8: Material 13 | D8: 54 | E8: 3736
A9: =VLOOKUP(B9,'data storage location'!$B$2:$C$67,2,FALSE) -> AA 1 | B9: 3371 | C9: Material 1 | D9: 80 | E9: 3736
A10: =VLOOKUP(B10,'data storage location'!$B$2:$C$67,2,FALSE) -> AA 1 | B10: 3371 | C10: Material 1 | E10: 3840
A11: =VLOOKUP(B11,'data storage location'!$B$2:$C$67,2,FALSE) -> AA 48 | B11: 7527110 | C11: Material 48 | E11: 3840
A12: =VLOOKUP(B12,'data storage location'!$B$2:$C$67,2,FALSE) -> AA 12 | B12: 6175 | C12: Material 12 | E12: 3840
A13: =VLOOKUP(B13,'data storage location'!$B$2:$C$67,2,FALSE) -> AA 1 | B13: 3371 | C13: Material 1 | D13: 7 | E13: 3840
A14: =VLOOKUP(B14,'data storage location'!$B$2:$C$67,2,FALSE) -> AA 48 | B14: 7527110 | C14: Material 48 | D14: 2 | E14: 3840
A15: =VLOOKUP(B15,'data storage location'!$B$2:$C$67,2,FALSE) -> AA 12 | B15: 6175 | C15: Material 12 | D15: 3 | E15: 3840
A16: =VLOOKUP(B16,'data storage location'!$B$2:$C$67,2,FALSE) -> AA 1 | B16: 3371 | C16: Material 1 | E16: 3840
A17: =VLOOKUP(B17,'data storage location'!$B$2:$C$67,2,FALSE) -> AA 1 | B17: 3371 | C17: Material 1 | D17: 2 | E17: 3840
A18: =VLOOKUP(B18,'data storage location'!$B$2:$C$67,2,FALSE) -> AA 3 | B18: 11385 | C18: Material 3 | E18: 3840
A19: =VLOOKUP(B19,'data storage location'!$B$2:$C$67,2,FALSE) -> AA 3 | B19: 11385 | C19: Material 3 | D19: 2 | E19: 3840
A20: =VLOOKUP(B20,'data storage location'!$B$2:$C$67,2,FALSE) -> AA 4 | B20: 18724 | C20: Material 4 | E20: 3840
A21: =VLOOKUP(B21,'data storage location'!$B$2:$C$67,2,FALSE) -> AA 20 | B21: 63907 | C21: Material 20 | E21: 3840
A22: =VLOOKUP(B22,'data storage location'!$B$2:$C$67,2,FALSE) -> AA 4 | B22: 18724 | C22: Material 4 | D22: 2 | E22: 3840
A23: =VLOOKUP(B23,'data storage location'!$B$2:$C$67,2,FALSE) -> AA 20 | B23: 63907 | C23: Material 20 | D23: 7 | E23: 3840
A24: =VLOOKUP(B24,'data storage location'!$B$2:$C$67,2,FALSE) -> AA 6 | B24: 54632 | C24: Material 6 | E24: 3845
A25: =VLOOKUP(B25,'data storage location'!$B$2:$C$67,2,FALSE) -> AA 16 | B25: 7511093 | C25: Material 16 | D25: 2 | E25: 3845
A26: =VLOOKUP(B26,'data storage location'!$B$2:$C$67,2,FALSE) -> AA 3 | B26: 11385 | C26: Material 3 | E26: 3845
A27: =VLOOKUP(B27,'data storage location'!$B$2:$C$67,2,FALSE) -> AA 8 | B27: 63908 | C27: Material 8 | E27: 3845
A28: =VLOOKUP(B28,'data storage location'!$B$2:$C$67,2,FALSE) -> AA 6 | B28: 54632 | C28: Material 6 | D28: 1 | E28: 3845
A29: =VLOOKUP(B29,'data storage location'!$B$2:$C$67,2,FALSE) -> AA 3 | B29: 11385 | C29: Material 3 | D29: 5 | E29: 3845
A30: =VLOOKUP(B30,'data storage location'!$B$2:$C$67,2,FALSE) -> AA 8 | B30: 63908 | C30: Material 8 | D30: 1 | E30: 3845
A31: =VLOOKUP(B31,'data storage location'!$B$2:$C$67,2,FALSE) -> AA 3 | B31: 11385 | C31: Material 3 | E31: 3845
A32: =VLOOKUP(B32,'data storage location'!$B$2:$C$67,2,FALSE) -> AA 3 | B32: 11385 | C32: Material 3 | D32: 4 | E32: 3845
A33: =VLOOKUP(B33,'data storage location'!$B$2:$C$67,2,FALSE) -> AA 3 | B33: 11385 | C33: Material 3 | E33: 3845
A34: =VLOOKUP(B34,'data storage location'!$B$2:$C$67,2,FALSE) -> AA 10 | B34: 65660 | C34: Material 10 | E34: 3845
A35: =VLOOKUP(B35,'data storage location'!$B$2:$C$67,2,FALSE) -> AA 3 | B35: 11385 | C35: Material 3 | D35: 3 | E35: 3845
A36: =VLOOKUP(B36,'data storage location'!$B$2:$C$67,2,FALSE) -> AA 10 | B36: 65660 | C36: Material 10 | D36: 1 | E36: 3845
A37: =VLOOKUP(B37,'data storage location'!$B$2:$C$67,2,FALSE) -> AA 1 | B37: 3371 | C37: Material 1 | E37: 3845
A38: =VLOOKUP(B38,'data storage location'!$B$2:$C$67,2,FALSE) -> AA 1 | B38: 3371 | C38: Material 1 | D38: 3 | E38: 3845
A39: =VLOOKUP(B39,'data storage location'!$B$2:$C$67,2,FALSE) -> AA 9 | B39: 9974 | C39: Material 9 | E39: 3845
A40: =VLOOKUP(B40,'data storage location'!$B$2:$C$67,2,FALSE) -> AA 1 | B40: 3371 | C40: Material 1 | E40: 3845
A41: =VLOOKUP(B41,'data storage location'!$B$2:$C$67,2,FALSE) -> AA 8 | B41: 63908 | C41: Material 8 | E41: 3845
A42: =VLOOKUP(B42,'data storage location'!$B$2:$C$67,2,FALSE) -> AA 9 | B42: 9974 | C42: Material 9 | D42: 1 | E42: 3845
A43: =VLOOKUP(B43,'data storage location'!$B$2:$C$67,2,FALSE) -> AA 1 | B43: 3371 | C43: Material 1 | D43: 10 | E43: 3845
A44: =VLOOKUP(B44,'data storage location'!$B$2:$C$67,2,FALSE) -> AA 8 | B44: 63908 | C44: Material 8 | D44: 2 | E44: 3845
A45: =VLOOKUP(B45,'data storage location'!$B$2:$C$67,2,FALSE) -> AA 22 | B45: 7507645 | C45: Material 22 | E45: 4001
A46: =VLOOKUP(B46,'data storage location'!$B$2:$C$67,2,FALSE) -> AA 7 | B46: 60036 | C46: Material 7 | E46: 4001
A47: =VLOOKUP(B47,'data storage location'!$B$2:$C$67,2,FALSE) -> AA 22 | B47: 7507645 | C47: Material 22 | D47: 2 | E47: 4001
A48: =VLOOKUP(B48,'data storage location'!$B$2:$C$67,2,FALSE) -> AA 7 | B48: 60036 | C48: Material 7 | D48: 2 | E48: 4001
A49: =VLOOKUP(B49,'data storage location'!$B$2:$C$67,2,FALSE) -> AA 6 | B49: 54632 | C49: Material 6 | E49: 4001
A50: =VLOOKUP(B50,'data storage location'!$B$2:$C$67,2,FALSE) -> AA 1 | B50: 3371 | C50: Material 1 | E50: 4001
A51: =VLOOKUP(B51,'data storage location'!$B$2:$C$67,2,FALSE) -> AA 6 | B51: 54632 | C51: Material 6 | D51: 3 | E51: 4001
A52: =VLOOKUP(B52,'data storage location'!$B$2:$C$67,2,FALSE) -> AA 1 | B52: 3371 | C52: Material 1 | D52: 5 | E52: 4001
A53: =VLOOKUP(B53,'data storage location'!$B$2:$C$67,2,FALSE) -> AA 6 | B53: 54632 | C53: Material 6 | E53: 4001
A54: =VLOOKUP(B54,'data storage location'!$B$2:$C$67,2,FALSE) -> AA 21 | B54: 60128 | C54: Material 21 | E54: 4001
A55: =VLOOKUP(B55,'data storage location'!$B$2:$C$67,2,FALSE) -> AA 10 | B55: 65660 | C55: Material 10 | E55: 4001
A56: =VLOOKUP(B56,'data storage location'!$B$2:$C$67,2,FALSE) -> AA 6 | B56: 54632 | C56: Material 6 | D56: 1 | E56: 4001
A57: =VLOOKUP(B57,'data storage location'!$B$2:$C$67,2,FALSE) -> AA 21 | B57: 60128 | C57: Material 21 | D57: 6 | E57: 4001
A58: =VLOOKUP(B58,'data storage location'!$B$2:$C$67,2,FALSE) -> AA 10 | B58: 65660 | C58: Material 10 | D58: 2 | E58: 4001
A59: =VLOOKUP(B59,'data storage location'!$B$2:$C$67,2,FALSE) -> AA 10 | B59: 65660 | C59: Material 10 | E59: 4001
A60: =VLOOKUP(B60,'data storage location'!$B$2:$C$67,2,FALSE) -> AA 10 | B60: 65660 | C60: Material 10 | D60: 4 | E60: 4001
A61: =VLOOKUP(B61,'data storage location'!$B$2:$C$67,2,FALSE) -> AA 1 | B61: 3371 | C61: Material 1 | E61: 4001
A62: =VLOOKUP(B62,'data storage location'!$B$2:$C$67,2,FALSE) -> AA 1 | B62: 3371 | C62: Material 1 | D62: 2 | E62: 4001
A63: =VLOOKUP(B63,'data storage location'!$B$2:$C$67,2,FALSE) -> AA 1 | B63: 3371 | C63: Material 1 | E63: 4001
A64: =VLOOKUP(B64,'data storage location'!$B$2:$C$67,2,FALSE) -> AA 6 | B64: 54632 | C64: Material 6 | E64: 4001
A65: =VLOOKUP(B65,'data storage location'!$B$2:$C$67,2,FALSE) -> AA 19 | B65: 66644 | C65: Material 19 | E65: 4001
A66: =VLOOKUP(B66,'data storage location'!$B$2:$C$67,2,FALSE) -> AA 16 | B66: 7511093 | C66: Material 16 | D66: 1 | E66: 4001
A67: =VLOOKUP(B67,'data storage location'!$B$2:$C$67,2,FALSE) -> AA 1 | B67: 3371 | C67: Material 1 | D67: 2 | E67: 4001
A68: =VLOOKUP(B68,'data storage location'!$B$2:$C$67,2,FALSE) -> AA 6 | B68: 54632 | C68: Material 6 | D68: 3 | E68: 4001
A69: =VLOOKUP(B69,'data storage location'!$B$2:$C$67,2,FALSE) -> AA 19 | B69: 66644 | C69: Material 19 | D69: 2 | E69: 4001
A70: =VLOOKUP(B70,'data storage location'!$B$2:$C$67,2,FALSE) -> AA 7 | B70: 60036 | C70: Material 7 | E70: 4001
A71: =VLOOKUP(B71,'data storage location'!$B$2:$C$67,2,FALSE) -> AA 7 | B71: 60036 | C71: Material 7 | D71: 1 | E71: 4001
A72: =VLOOKUP(B72,'data storage location'!$B$2:$C$67,2,FALSE) -> AA 10 | B72: 65660 | C72: Material 10 | E72: 4005
A73: =VLOOKUP(B73,'data storage location'!$B$2:$C$67,2,FALSE) -> AA 7 | B73: 60036 | C73: Material 7 | E73: 4005
A74: =VLOOKUP(B74,'data storage location'!$B$2:$C$67,2,FALSE) -> AA 2 | B74: 3372 | C74: Material 2 | E74: 4005
A75: =VLOOKUP(B75,'data storage location'!$B$2:$C$67,2,FALSE) -> AA 19 | B75: 66644 | C75: Material 19 | E75: 4005
A76: =VLOOKUP(B76,'data storage location'!$B$2:$C$67,2,FALSE) -> AA 10 | B76: 65660 | C76: Material 10 | D76: 15 | E76: 4005
A77: =VLOOKUP(B77,'data storage location'!$B$2:$C$67,2,FALSE) -> AA 7 | B77: 60036 | C77: Material 7 | D77: 20 | E77: 4005
A78: =VLOOKUP(B78,'data storage location'!$B$2:$C$67,2,FALSE) -> AA 2 | B78: 3372 | C78: Material 2 | D78: 8 | E78: 4005
A79: =VLOOKUP(B79,'data storage location'!$B$2:$C$67,2,FALSE) -> AA 19 | B79: 66644 | C79: Material 19 | D79: 5 | E79: 4005
A80: =VLOOKUP(B80,'data storage location'!$B$2:$C$67,2,FALSE) -> AA 2 | B80: 3372 | C80: Material 2 | E80: 4005
A81: =VLOOKUP(B81,'data storage location'!$B$2:$C$67,2,FALSE) -> AA 2 | B81: 3372 | C81: Material 2 | D81: 1 | E81: 4005
A82: =VLOOKUP(B82,'data storage location'!$B$2:$C$67,2,FALSE) -> AA 3 | B82: 11385 | C82: Material 3 | E82: 4023
A83: =VLOOKUP(B83,'data storage location'!$B$2:$C$67,2,FALSE) -> AA 3 | B83: 11385 | C83: Material 3 | D83: 4 | E83: 4023
A84: =VLOOKUP(B84,'data storage location'!$B$2:$C$67,2,FALSE) -> AA 40 | B84: 74583 | C84: Material 40 | D84: 1 | E84: 4023
A85: =VLOOKUP(B85,'data storage location'!$B$2:$C$67,2,FALSE) -> AA 16 | B85: 7511093 | C85: Material 16 | D85: 2 | E85: 4127
A86: =VLOOKUP(B86,'data storage location'!$B$2:$C$67,2,FALSE) -> AA 4 | B86: 18724 | C86: Material 4 | E86: 4127
A87: =VLOOKUP(B87,'data storage location'!$B$2:$C$67,2,FALSE) -> AA 9 | B87: 9974 | C87: Material 9 | E87: 4127
A88: =VLOOKUP(B88,'data storage location'!$B$2:$C$67,2,FALSE) -> AA 1 | B88: 3371 | C88: Material 1 | E88: 4127
A89: =VLOOKUP(B89,'data storage location'!$B$2:$C$67,2,FALSE) -> AA 6 | B89: 54632 | C89: Material 6 | E89: 4127
A90: =VLOOKUP(B90,'data storage location'!$B$2:$C$67,2,FALSE) -> AA 19 | B90: 66644 | C90: Material 19 | E90: 4127
A91: =VLOOKUP(B91,'data storage location'!$B$2:$C$67,2,FALSE) -> AA 8 | B91: 63908 | C91: Material 8 | E91: 4127
A92: =VLOOKUP(B92,'data storage location'!$B$2:$C$67,2,FALSE) -> AA 10 | B92: 65660 | C92: Material 10 | E92: 4127
A93: =VLOOKUP(B93,'data storage location'!$B$2:$C$67,2,FALSE) -> AA 4 | B93: 18724 | C93: Material 4 | D93: 1 | E93: 4127
A94: =VLOOKUP(B94,'data storage location'!$B$2:$C$67,2,FALSE) -> AA 9 | B94: 9974 | C94: Material 9 | D94: 1 | E94: 4127
A95: =VLOOKUP(B95,'data storage location'!$B$2:$C$67,2,FALSE) -> AA 1 | B95: 3371 | C95: Material 1 | D95: 20 | E95: 4127
A96: =VLOOKUP(B96,'data storage location'!$B$2:$C$67,2,FALSE) -> AA 6 | B96: 54632 | C96: Material 6 | D96: 2 | E96: 4127
A97: =VLOOKUP(B97,'data storage location'!$B$2:$C$67,2,FALSE) -> AA 19 | B97: 66644 | C97: Material 19 | D97: 2 | E97: 4127
A98: =VLOOKUP(B98,'data storage location'!$B$2:$C$67,2,FALSE) -> AA 8 | B98: 63908 | C98: Material 8 | D98: 1 | E98: 4127
A99: =VLOOKUP(B99,'data storage location'!$B$2:$C$67,2,FALSE) -> AA 10 | B99: 65660 | C99: Material 10 | D99: 2 | E99: 4127
A100: =VLOOKUP(B100,'data storage location'!$B$2:$C$67,2,FALSE) -> AA 7 | B100: 60036 | C100: Material 7 | E100: 4127
...

Sheet data storage location
A1: Material description | B1: SKU | C1: Stora. Bin
A2: Material 1 | B2: 3371 | C2: AA 1
A3: Material 2 | B3: 3372 | C3: AA 2
A4: Material 3 | B4: 11385 | C4: AA 3
A5: Material 4 | B5: 18724 | C5: AA 4
A6: Material 5 | B6: 62327 | C6: AA 5
A7: Material 6 | B7: 54632 | C7: AA 6
A8: Material 7 | B8: 60036 | C8: AA 7
A9: Material 8 | B9: 63908 | C9: AA 8
A10: Material 9 | B10: 9974 | C10: AA 9
A11: Material 10 | B11: 65660 | C11: AA 10
A12: Material 11 | B12: 3410 | C12: AA 11
A13: Material 12 | B13: 6175 | C13: AA 12
... A58: Material 57 | B58: 7559697 | C58: AA 57
