Workbook

Sheet pivot
A1: Tractor | B1: 4005
A3: Storage bins | B3: Material desc. | C3: Sum of Qty to deliver
A4: AA 10 | B4: Material 10 | C4: 15
A5: AA 7 | B5: Material 7 | C5: 20
A6: AA 19 | B6: Material 19 | C6: 5
A7: AA 2 | B7: Material 2 | C7: 9
A8: Grand Total | C8: 49

Sheet raw data
A1: Storage bins | B1: Material Number | C1: Material desc. | D1: Qty to deliver | E1: Tractor
A2: =VLOOKUP(B2,'data storage location'!$B$2:$C$67,2,FALSE) -> AA 11 | B2: 3410 | C2: Material 11 | E2: 3736
A3: =VLOOKUP(B3,'data storage location'!$B$2:$C$67,2,FALSE) -> AA 8 | B3: 63908 | C3: Material 8 | E3: 3736
A4: =VLOOKUP(B4,'data storage location'!$B$2:$C$67,2,FALSE) -> AA 13 | B4: 59848 | C4: Material 13 | E4: 3736
A5: =VLOOKUP(B5,'data storage location'!$B$2:$C$67,2,FALSE) -> AA 1 | B5: 3371 | C5: Material 1 | E5: 3736
A6: =VLOOKUP(B6,'data storage location'!$B$2:$C$67,2,FALSE) -> AA 11 | B6: 3410 | C6: Material 11 | D6: 16 | E6: 3736
A7: =VLOOKUP(B7,'data storage location'!$B$2:$C$67,2,FALSE) -> AA 8 | B7: 63908 | C7: Material 8 | D7: 10 | E7: 3736
A8: =VLOOKUP(B8,'data storage location'!$B$2:$C$67,2,FALSE) -> AA 13 | B8: 59848 | C8: Material 13 | D8: 54 | E8: 3736
A9: =VLOOKUP(B9,'data storage location'!$B$2:$C$67,2,FALSE) -> AA 1 | B9: 3371 | C9: Material 1 | D9: 80 | E9: 3736
A10: =VLOOKUP(B10,'data storage location'!$B$2:$C$67,2,FALSE) -> AA 1 | B10: 3371 | C10: Material 1 | E10: 3840
A11: =VLOOKUP(B11,'data storage location'!$B$2:$C$67,2,FALSE) -> AA 48 | B11: 7527110 | C11: Material 48 | E11: 3840
A12: =VLOOKUP(B12,'data storage location'!$B$2:$C$67,2,FALSE) -> AA 12 | B12: 6175 | C12: Material 12 | E12: 3840
A13: =VLOOKUP(B13,'data storage location'!$B$2:$C$67,2,FALSE) -> AA 1 | B13: 3371 | C13: Material 1 | D13: 7 | E13: 3840
A14: =VLOOKUP(B14,'data storage location'!$B$2:$C$67,2,FALSE) -> AA 48 | B14: 7527110 | C14: Material 48 | D14: 2 | E14: 3840
A15: =VLOOKUP(B15,'data storage location'!$B$2:$C$67,2,FALSE) -> AA 12 | B15: 6175 | C15: Material 12 | D15: 3 | E15: 3840
A16: =VLOOKUP(B16,'data storage location'!$B$2:$C$67,2,FALSE) -> AA 1 | B16: 3371 | C16: Material 1 | E16: 3840
A17: =VLOOKUP(B17,'data storage location'!$B$2:$C$67,2,FALSE) -> AA 1 | B17: 3371 | C17: Material 1 | D17: 2 | E17: 3840
A18: =VLOOKUP(B18,'data storage location'!$B$2:$C$67,2,FALSE) -> AA 3 | B18: 11385 | C18: Material 3 | E18: 3840
A19: =VLOOKUP(B19,'data storage location'!$B$2:$C$67,2,FALSE) -> AA 3 | B19: 11385 | C19: Material 3 | D19: 2 | E19: 3840
A20: =VLOOKUP(B20,'data storage location'!$B$2:$C$67,2,FALSE) -> AA 4 | B20: 18724 | C20: Material 4 | E20: 3840
A21: =VLOOKUP(B21,'data storage location'!$B$2:$C$67,2,FALSE) -> AA 20 | B21: 63907 | C21: Material 20 | E21: 3840
A22: =VLOOKUP(B22,'data storage location'!$B$2:$C$67,2,FALSE) -> AA 4 | B22: 18724 | C22: Material 4 | D22: 2 | E22: 3840
A23: =VLOOKUP(B23,'data storage location'!$B$2:$C$67,2,FALSE) -> AA 20 | B23: 63907 | C23: Material 20 | D23: 7 | E23: 3840
A24: =VLOOKUP(B24,'data storage location'!$B$2:$C$67,2,FALSE) -> AA 6 | B24: 54632 | C24: Material 6 | E24: 3845
A25: =VLOOKUP(B25,'data storage location'!$B$2:$C$67,2,FALSE) -> AA 16 | B25: 7511093 | C25: Material 16 | D25: 2 | E25: 3845
A26: =VLOOKUP(B26,'data storage location'!$B$2:$C$67,2,FALSE) -> AA 3 | B26: 11385 | C26: Material 3 | E26: 3845
A27: =VLOOKUP(B27,'data storage location'!$B$2:$C$67,2,FALSE) -> AA 8 | B27: 63908 | C27: Material 8 | E27: 3845
A28: =VLOOKUP(B28,'data storage location'!$B$2:$C$67,2,FALSE) -> AA 6 | B28: 54632 | C28: Material 6 | D28: 1 | E28: 3845
A29: =VLOOKUP(B29,'data storage location'!$B$2:$C$67,2,FALSE) -> AA 3 | B29: 11385 | C29: Material 3 | D29: 5 | E29: 3845
A30: =VLOOKUP(B30,'data storage location'!$B$2:$C$67,2,FALSE) -> AA 8 | B30: 63908 | C30: Material 8 | D30: 1 | E30: 3845
A31: =VLOOKUP(B31,'data storage location'!$B$2:$C$67,2,FALSE) -> AA 3 | B31: 11385 | C31: Material 3 | E31: 3845
A32: =VLOOKUP(B32,'data storage location'!$B$2:$C$67,2,FALSE) -> AA 3 | B32: 11385 | C32: Material 3 | D32: 4 | E32: 3845
A33: =VLOOKUP(B33,'data storage location'!$B$2:$C$67,2,FALSE) -> AA 3 | B33: 11385 | C33: Material 3 | E33: 3845
A34: =VLOOKUP(B34,'data storage location'!$B$2:$C$67,2,FALSE) -> AA 10 | B34: 65660 | C34: Material 10 | E34: 3845
A35: =VLOOKUP(B35,'data storage location'!$B$2:$C$67,2,FALSE) -> AA 3 | B35: 11385 | C35: Material 3 | D35: 3 | E35: 3845
A36: =VLOOKUP(B36,'data storage location'!$B$2:$C$67,2,FALSE) -> AA 10 | B36: 65660 | C36: Material 10 | D36: 1 | E36: 3845
A37: =VLOOKUP(B37,'data storage location'!$B$2:$C$67,2,FALSE) -> AA 1 | B37: 3371 | C37: Material 1 | E37: 3845
A38: =VLOOKUP(B38,'data storage location'!$B$2:$C$67,2,FALSE) -> AA 1 | B38: 3371 | C38: Material 1 | D38: 3 | E38: 3845
A39: =VLOOKUP(B39,'data storage location'!$B$2:$C$67,2,FALSE) -> AA 9 | B39: 9974 | C39: Material 9 | E39: 3845
A40: =VLOOKUP(B40,'data storage location'!$B$2:$C$67,2,FALSE) -> AA 1 | B40: 3371 | C40: Material 1 | E40: 3845
...

Sheet data storage location
A1: Material description | B1: SKU | C1: Stora. Bin
A2: Material 1 | B2: 3371 | C2: AA 1
A3: Material 2 | B3: 3372 | C3: AA 2
A4: Material 3 | B4: 11385 | C4: AA 3
A5: Material 4 | B5: 18724 | C5: AA 4
A6: Material 5 | B6: 62327 | C6: AA 5
A7: Material 6 | B7: 54632 | C7: AA 6
A8: Material 7 | B8: 60036 | C8: AA 7
A9: Material 8 | B9: 63908 | C9: AA 8
A10: Material 9 | B10: 9974 | C10: AA 9
A11: Material 10 | B11: 65660 | C11: AA 10
A12: Material 11 | B12: 3410 | C12: AA 11
A13: Material 12 | B13: 6175 | C13: AA 12
... A58: Material 57 | B58: 7559697 | C58: AA 57
