Workbook

Sheet Devis
K2: collage | L2: 60 | N2: =M2*L2 -> 0 | P2: Heure atelier | Q2: =SUM(M2:M7) -> 0 | R2: =SUM(M2:M7) -> 0 | S2: =R2*Q2 -> 0
C3: Client | F3: Prix 1 | K3: usinage | L3: 80 | N3: =M3*L3 -> 0 | P3: BE | Q3: 0 | S3: =R3*Q3 -> 0
C4: Ouvrage | F4: Total HT | H4: =SUM($R:$R) -> 14 | K4: montage | L4: 60 | N4: =M4*L4 -> 0 | P4: Mise à plat | Q4: 0 | S4: =R4*Q4 -> 0
C5: TVA | D5: 0.2 | F5: Total TTC | H5: =SUM($S:$S) -> 0 | K5: Laque | L5: 60 | N5: =M5*L5 -> 0 | P5: Programmation | Q5: 0 | S5: =R5*Q5 -> 0
C6: date | K6: re-montage | L6: 60 | N6: =M6*L6 -> 0 | U6: Total heure
C7: Marge | D7: 0 | K7: emballage | L7: 30 | N7: =M7*L7 -> 0 | P7: Pose 1 | Q7: 60 | S7: =R7*Q7 -> 0 | U7: =SUM(R2:R8) -> 0
D8: 0 | P8: Pose 2 | Q8: 60 | S8: =R8*Q8 -> 0
B10: Désignation | C10: fournisseur | D10: Détails | E10: code article | F10: longueur | G10: largeur | H10: epaisseur | I10: prix HT | J10: Quantité | K10: Volume | L10: Coefficient de perte | M10: Volume Cfté | N10: Sous total | O10: Coefficient de vente | P10: Prix de vente | Q10: Total HT | R10: Total TTC
B11: MP | F11: 1 | G11: 1 | H11: 1 | I11: 10 | J11: 1 | K11: =F11*G11*H11*J11 -> 1 | L11: 0.1 | M11: =(K11*L11)+K11 -> 1.1 | N11: =M11*I11 -> 11 | O11: 0.1 | P11: =(N11*O11)+N11 -> 12.1 | R11: =ROUNDUP(((($D$5*Q11)/100)+Q11),0) -> 0
R12: =ROUNDUP(((($D$5*Q12)/100)+Q12),0) -> 0
R13: =ROUNDUP(((($D$5*Q13)/100)+Q13),0) -> 0
R14: =ROUNDUP(((($D$5*Q14)/100)+Q14),0) -> 0
R15: =ROUNDUP(((($D$5*Q15)/100)+Q15),0) -> 0
R16: =ROUNDUP(((($D$5*Q16)/100)+Q16),0) -> 0
R17: =ROUNDUP(((($D$5*Q17)/100)+Q17),0) -> 0
R18: =ROUNDUP(((($D$5*Q18)/100)+Q18),0) -> 0
R19: =ROUNDUP(((($D$5*Q19)/100)+Q19),0) -> 0
R20: =ROUNDUP(((($D$5*Q20)/100)+Q20),0) -> 0
Q21: =ROUNDUP(SUM(P11:P20),0) -> 13 | R21: =ROUNDUP(((($D$5*Q21)/100)+Q21),0) -> 14

Sheet Liste
A1: Liste
A4: Désignation | B4: Fournisseur | C4: Détails | D4: code article | E4: longueur | F4: largeur | G4: epaisseur | H4: prix HT | I4: Coefficient de perte | J4: Coefficient de vente | K4: Ordre
A5: MP | B5: Abet laminati | C5: 877 Morbida | E5: 3.05 | F5: 1.3 | G5: 1 | H5: 35 | I5: 0 | J5: =Devis!$D$8 -> 0 | K5: =IF(COUNTIF(A$4:A5,table[[#This Row],[Désignation]])=1,MAX(K$4:K4)+1) -> 1 | N5: =IFERROR(INDEX(table[Désignation],MATCH(ROW()-4,table[Ordre],0)),"") -> MP
A6: MP | B6: Abet laminati | C6: Polaris noir | D6: 2902 | E6: 3.05 | F6: 1.3 | G6: 1 | H6: 24 | I6: 0 | J6: =Devis!$D$8 -> 0 | K6: =IF(COUNTIF(A$4:A6,table[[#This Row],[Désignation]])=1,MAX(K$4:K5)+1) -> FALSE | N6: =IFERROR(INDEX(table[Désignation],MATCH(ROW()-4,table[Ordre],0)),"") -> QU
A7: MP | B7: Abet laminati | C7: Print HPL | E7: 3.05 | F7: 1.3 | G7: 1 | H7: 11.1 | I7: 0 | J7: =Devis!$D$8 -> 0 | K7: =IF(COUNTIF(A$4:A7,table[[#This Row],[Désignation]])=1,MAX(K$4:K6)+1) -> FALSE | N7: =IFERROR(INDEX(table[Désignation],MATCH(ROW()-4,table[Ordre],0)),"") -> EM
A8: QU | B8: Accuride | C8: 100% course 500 mm | D8: 252752 | E8: 1 | F8: 1 | G8: 1 | H8: 17.64 | I8: 0 | J8: =Devis!$D$8 -> 0 | K8: =IF(COUNTIF(A$4:A8,table[[#This Row],[Désignation]])=1,MAX(K$4:K7)+1) -> 2 | N8: =IFERROR(INDEX(table[Désignation],MATCH(ROW()-4,table[Ordre],0)),"") -> MO
A9: QU | B9: Accuride | C9: 100% course 400 mm | D9: 252738 | E9: 1 | F9: 1 | G9: 1 | H9: 14.66 | I9: 0 | J9: =Devis!$D$8 -> 0 | K9: =IF(COUNTIF(A$4:A9,table[[#This Row],[Désignation]])=1,MAX(K$4:K8)+1) -> FALSE | N9: =IFERROR(INDEX(table[Désignation],MATCH(ROW()-4,table[Ordre],0)),"") -> FO
A10: QU | B10: Accuride | C10: Coulisse push lache | D10: 300 mm | E10: 1 | F10: 1 | G10: 1 | H10: 17.52 | I10: 0 | J10: =Devis!$D$8 -> 0 | K10: =IF(COUNTIF(A$4:A10,table[[#This Row],[Désignation]])=1,MAX(K$4:K9)+1) -> FALSE | N10: =IFERROR(INDEX(table[Désignation],MATCH(ROW()-4,table[Ordre],0)),"") -> PE
A11: MP | B11: AJ Timber | C11: Plan de travail chêne 38 mm | D11: PLACHE3006538 | E11: 1 | F11: 1 | G11: 1 | H11: 125.36 | I11: 0 | J11: =Devis!$D$8 -> 0 | K11: =IF(COUNTIF(A$4:A11,table[[#This Row],[Désignation]])=1,MAX(K$4:K10)+1) -> FALSE | N11: =IFERROR(INDEX(table[Désignation],MATCH(ROW()-4,table[Ordre],0)),"")
A12: MP | B12: AJ Timber | C12: Plan de travail hêtre 38 mm | D12: PLAHETRE20006526 | E12: 1 | F12: 1 | G12: 1 | H12: 98.33 | I12: 0 | J12: =Devis!$D$8 -> 0 | K12: =IF(COUNTIF(A$4:A12,table[[#This Row],[Désignation]])=1,MAX(K$4:K11)+1) -> FALSE | N12: =IFERROR(INDEX(table[Désignation],MATCH(ROW()-4,table[Ordre],0)),"")
A13: MP | B13: AJ Timber | C13: CP bouleau 15 mm | D13: B/BB | E13: 2.44 | F13: 1.22 | G13: 1 | H13: 10.45 | I13: 0 | J13: =Devis!$D$8 -> 0 | K13: =IF(COUNTIF(A$4:A13,table[[#This Row],[Désignation]])=1,MAX(K$4:K12)+1) -> FALSE | N13: =IFERROR(INDEX(table[Désignation],MATCH(ROW()-4,table[Ordre],0)),"")
A14: MP | B14: Barillet | C14: Hêtre toute épaisseur | E14: 1 | F14: 1 | G14: 1 | H14: 575 | I14: 0 | J14: =Devis!$D$8 -> 0 | K14: =IF(COUNTIF(A$4:A14,table[[#This Row],[Désignation]])=1,MAX(K$4:K13)+1) -> FALSE | N14: =IFERROR(INDEX(table[Désignation],MATCH(ROW()-4,table[Ordre],0)),"")
A15: MP | B15: Barillet | C15: CP Peuplier 30 mm | D15: ordinaire | E15: 2.5 | F15: 1.22 | G15: 1 | H15: 23.49 | I15: 0 | J15: =Devis!$D$8 -> 0 | K15: =IF(COUNTIF(A$4:A15,table[[#This Row],[Désignation]])=1,MAX(K$4:K14)+1) -> FALSE | N15: =IFERROR(INDEX(table[Désignation],MATCH(ROW()-4,table[Ordre],0)),"")
A16: MP | B16: Barillet | C16: CP bouleau 30 mm | D16: S/BB | E16: 3.1 | F16: 1.53 | G16: 1 | H16: 33.7 | I16: 0 | J16: =Devis!$D$8 -> 0 | K16: =IF(COUNTIF(A$4:A16,table[[#This Row],[Désignation]])=1,MAX(K$4:K15)+1) -> FALSE | N16: =IFERROR(INDEX(table[Désignation],MATCH(ROW()-4,table[Ordre],0)),"")
A17: MP | B17: Barillet | C17: CP bouleau 18 mm | D17: S/BB | E17: 3.1 | F17: 1.53 | G17: 1 | H17: 16.99 | I17: 0 | J17: =Devis!$D$8 -> 0 | K17: =IF(COUNTIF(A$4:A17,table[[#This Row],[Désignation]])=1,MAX(K$4:K16)+1) -> FALSE | N17: =IFERROR(INDEX(table[Désignation],MATCH(ROW()-4,table[Ordre],0)),"")
A18: MP | B18: Barillet | C18: CP bouleau 9 mm | D18: S/BB | E18: 3.1 | F18: 1.53 | G18: 1 | H18: 14.1 | I18: 0 | J18: =Devis!$D$8 -> 0 | K18: =IF(COUNTIF(A$4:A18,table[[#This Row],[Désignation]])=1,MAX(K$4:K17)+1) -> FALSE | N18: =IFERROR(INDEX(table[Désignation],MATCH(ROW()-4,table[Ordre],0)),"")
A19: MP | B19: Barillet | C19: CP peulpier 30 mm | D19: B/BB | E19: 2.5 | F19: 1.22 | G19: 1 | H19: 30.1 | I19: 0 | J19: =Devis!$D$8 -> 0 | K19: =IF(COUNTIF(A$4:A19,table[[#This Row],[Désignation]])=1,MAX(K$4:K18)+1) -> FALSE | N19: =IFERROR(INDEX(table[Désignation],MATCH(ROW()-4,table[Ordre],0)),"")
A20: MP | B20: Barillet | C20: Aggloméré CTBH 38mm | D20: Hydro | E20: 3.06 | F20: 2.07 | G20: 1 | H20: 14.6 | I20: 0 | J20: =Devis!$D$8 -> 0 | K20: =IF(COUNTIF(A$4:A20,table[[#This Row],[Désignation]])=1,MAX(K$4:K19)+1) -> FALSE | N20: =IFERROR(INDEX(table[Désignation],MATCH(ROW()-4,table[Ordre],0)),"")
A21: MP | B21: Barillet | C21: Aggloméré CTBH 30mm | D21: Hydro | E21: 3.06 | F21: 2.07 | G21: 1 | H21: 13.6 | I21: 0 | J21: =Devis!$D$8 -> 0 | K21: =IF(COUNTIF(A$4:A21,table[[#This Row],[Désignation]])=1,MAX(K$4:K20)+1) -> FALSE | N21: =IFERROR(INDEX(table[Désignation],MATCH(ROW()-4,table[Ordre],0)),"")
A22: MP | B22: Barillet | C22: Aggloméré CTBH 22 mm | D22: Hydro | E22: 3.06 | F22: 1.85 | G22: 1 | H22: 6.75 | I22: 0 | J22: =Devis!$D$8 -> 0 | K22: =IF(COUNTIF(A$4:A22,table[[#This Row],[Désignation]])=1,MAX(K$4:K21)+1) -> FALSE | N22: =IFERROR(INDEX(table[Désignation],MATCH(ROW()-4,table[Ordre],0)),"")
A23: MP | B23: Barillet | C23: AggloméréCTBH 19 mm | D23: Hydro | E23: 2.8 | F23: 2.07 | G23: 1 | H23: 6.5 | I23: 0 | J23: =Devis!$D$8 -> 0 | K23: =IF(COUNTIF(A$4:A23,table[[#This Row],[Désignation]])=1,MAX(K$4:K22)+1) -> FALSE | N23: =IFERROR(INDEX(table[Désignation],MATCH(ROW()-4,table[Ordre],0)),"")
A24: MP | B24: Barillet | C24: Aggloméré CTBH 19 mm | D24: Hydro | E24: 3.05 | F24: 1.85 | G24: 1 | H24: 6.98 | I24: 0 | J24: =Devis!$D$8 -> 0 | K24: =IF(COUNTIF(A$4:A24,table[[#This Row],[Désignation]])=1,MAX(K$4:K23)+1) -> FALSE | N24: =IFERROR(INDEX(table[Désignation],MATCH(ROW()-4,table[Ordre],0)),"")
A25: MP | B25: Barillet | C25: Aggloméré 30mm | D25: Standart | E25: 2.8 | F25: 2.07 | G25: 1 | H25: 6.9 | I25: 0 | J25: =Devis!$D$8 -> 0 | K25: =IF(COUNTIF(A$4:A25,table[[#This Row],[Désignation]])=1,MAX(K$4:K24)+1) -> FALSE | N25: =IFERROR(INDEX(table[Désignation],MATCH(ROW()-4,table[Ordre],0)),"")
A26: MP | B26: Barillet | C26: Aggloméré22 mm | D26: Standart | E26: 2.8 | F26: 2.07 | G26: 1 | H26: 4.75 | I26: 0 | J26: =Devis!$D$8 -> 0 | K26: =IF(COUNTIF(A$4:A26,table[[#This Row],[Désignation]])=1,MAX(K$4:K25)+1) -> FALSE | N26: =IFERROR(INDEX(table[Désignation],MATCH(ROW()-4,table[Ordre],0)),"")
A27: MP | B27: Barillet | C27: Aggloméré19 mm | D27: Standart | E27: 3.05 | F27: 1.85 | G27: 1 | H27: 5.72 | I27: 0 | J27: =Devis!$D$8 -> 0 | K27: =IF(COUNTIF(A$4:A27,table[[#This Row],[Désignation]])=1,MAX(K$4:K26)+1) -> FALSE | N27: =IFERROR(INDEX(table[Désignation],MATCH(ROW()-4,table[Ordre],0)),"")
A28: MP | B28: Barillet | C28: Chêne BME | E28: 1 | F28: 1 | G28: 1 | H28: 1250 | I28: 0 | J28: =Devis!$D$8 -> 0 | K28: =IF(COUNTIF(A$4:A28,table[[#This Row],[Désignation]])=1,MAX(K$4:K27)+1) -> FALSE | N28: =IFERROR(INDEX(table[Désignation],MATCH(ROW()-4,table[Ordre],0)),"")
A29: MP | B29: Barillet | C29: CP cintrable 9mm | E29: 2.5 | F29: 1.22 | G29: 1 | H29: 14 | I29: 0 | J29: =Devis!$D$8 -> 0 | K29: =IF(COUNTIF(A$4:A29,table[[#This Row],[Désignation]])=1,MAX(K$4:K28)+1) -> FALSE | N29: =IFERROR(INDEX(table[Désignation],MATCH(ROW()-4,table[Ordre],0)),"")
A30: MP | B30: Barillet | C30: CP hêtre 9 mm | E30: 2.5 | F30: 1.53 | G30: 1 | H30: 25.85 | I30: 0 | J30: =Devis!$D$8 -> 0 | K30: =IF(COUNTIF(A$4:A30,table[[#This Row],[Désignation]])=1,MAX(K$4:K29)+1) -> FALSE | N30: =IFERROR(INDEX(table[Désignation],MATCH(ROW()-4,table[Ordre],0)),"")
A31: MP | B31: Barillet | C31: Contre-balancement | E31: 3.05 | F31: 1.32 | G31: 1 | H31: 3.97 | I31: 0 | J31: =Devis!$D$8 -> 0 | K31: =IF(COUNTIF(A$4:A31,table[[#This Row],[Désignation]])=1,MAX(K$4:K30)+1) -> FALSE | N31: =IFERROR(INDEX(table[Désignation],MATCH(ROW()-4,table[Ordre],0)),"")
A32: MP | B32: Barillet | C32: 3 plis épicéa | D32: 19 mm | E32: 5 | F32: 1.25 | G32: 1 | H32: 17.8 | I32: 0 | J32: =Devis!$D$8 -> 0 | K32: =IF(COUNTIF(A$4:A32,table[[#This Row],[Désignation]])=1,MAX(K$4:K31)+1) -> FALSE | N32: =IFERROR(INDEX(table[Désignation],MATCH(ROW()-4,table[Ordre],0)),"")
A33: MP | B33: Barillet | C33: Sipo Avivé | D33: 54 mm / 3350 | E33: 1 | F33: 1 | G33: 1 | H33: 1210 | I33: 0 | J33: =Devis!$D$8 -> 0 | K33: =IF(COUNTIF(A$4:A33,table[[#This Row],[Désignation]])=1,MAX(K$4:K32)+1) -> FALSE | N33: =IFERROR(INDEX(table[Désignation],MATCH(ROW()-4,table[Ordre],0)),"")
A34: MP | B34: Barillet | C34: Bois d'ossature | D34: 45 x 95 | E34: 5.4 | F34: 1 | G34: 1 | H34: 1.76 | I34: 0 | J34: =Devis!$D$8 -> 0 | K34: =IF(COUNTIF(A$4:A34,table[[#This Row],[Désignation]])=1,MAX(K$4:K33)+1) -> FALSE | N34: =IFERROR(INDEX(table[Désignation],MATCH(ROW()-4,table[Ordre],0)),"")
A35: MP | B35: Barillet | C35: sapin menuiserie | D35: 38 x 200 | E35: 1 | F35: 1 | G35: 1 | H35: 3.58 | I35: 0 | J35: =Devis!$D$8 -> 0 | K35: =IF(COUNTIF(A$4:A35,table[[#This Row],[Désignation]])=1,MAX(K$4:K34)+1) -> FALSE | N35: =IFERROR(INDEX(table[Désignation],MATCH(ROW()-4,table[Ordre],0)),"")
A36: MP | B36: Barillet | C36: Parquet | E36: 1 | F36: 1 | G36: 1 | I36: 0 | J36: =Devis!$D$8 -> 0 | K36: =IF(COUNTIF(A$4:A36,table[[#This Row],[Désignation]])=1,MAX(K$4:K35)+1) -> FALSE | N36: =IFERROR(INDEX(table[Désignation],MATCH(ROW()-4,table[Ordre],0)),"")
A37: MP | B37: Barillet | C37: Colle parquet | E37: 1 | F37: 1 | G37: 1 | I37: 0 | J37: =Devis!$D$8 -> 0 | K37: =IF(COUNTIF(A$4:A37,table[[#This Row],[Désignation]])=1,MAX(K$4:K36)+1) -> FALSE | N37: =IFERROR(INDEX(table[Désignation],MATCH(ROW()-4,table[Ordre],0)),"")
A38: MP | B38: Barillet | C38: H3991 | D38: Mélamine | E38: 2.8 | F38: 2.07 | G38: 1 | H38: 14.7 | I38: 0 | J38: =Devis!$D$8 -> 0 | K38: =IF(COUNTIF(A$4:A38,table[[#This Row],[Désignation]])=1,MAX(K$4:K37)+1) -> FALSE | N38: =IFERROR(INDEX(table[Désignation],MATCH(ROW()-4,table[Ordre],0)),"")
A39: MP | B39: Barillet | C39: H3991 | D39: Stratifié | E39: 2.8 | F39: 1.31 | G39: 1 | H39: 19.7 | I39: 0 | J39: =Devis!$D$8 -> 0 | K39: =IF(COUNTIF(A$4:A39,table[[#This Row],[Désignation]])=1,MAX(K$4:K38)+1) -> FALSE | N39: =IFERROR(INDEX(table[Désignation],MATCH(ROW()-4,table[Ordre],0)),"")
A40: MP | B40: Barillet | C40: CP filmé | D40: 9 mm | E40: 2.5 | F40: 1.25 | G40: 1 | H40: 11.15 | I40: 0 | J40: =Devis!$D$8 -> 0 | K40: =IF(COUNTIF(A$4:A40,table[[#This Row],[Désignation]])=1,MAX(K$4:K39)+1) -> FALSE | N40: =IFERROR(INDEX(table[Désignation],MATCH(ROW()-4,table[Ordre],0)),"")
A41: MP | B41: Barillet | C41: CP filmé | D41: 12 mm | E41: 2.5 | F41: 1.25 | G41: 1 | H41: 12.9 | I41: 0 | J41: =Devis!$D$8 -> 0 | K41: =IF(COUNTIF(A$4:A41,table[[#This Row],[Désignation]])=1,MAX(K$4:K40)+1) -> FALSE | N41: =IFERROR(INDEX(table[Désignation],MATCH(ROW()-4,table[Ordre],0)),"")
A42: MP | B42: Barillet | C42: CP bouleau 21 mm | E42: 3.04 | F42: 1.53 | G42: 1 | H42: 19.22 | I42: 0 | J42: =Devis!$D$8 -> 0 | K42: =IF(COUNTIF(A$4:A42,table[[#This Row],[Désignation]])=1,MAX(K$4:K41)+1) -> FALSE | N42: =IFERROR(INDEX(table[Désignation],MATCH(ROW()-4,table[Ordre],0)),"")
...
