Workbook
Name alcool2018: 'Prep2017 '!#REF!
Name coefreappro: #REF!
Name coefreappro: #REF!
Name coefstockage: #REF!
Name coefstockage: #REF!
Name coefzur: #REF!
Name DIM: '[1]Feuille 4'!#REF!
Name DIM: '[2]Feuille 4'!#REF!
Name MGS: '[1]Feuille 4'!#REF!
Name MGS: '[2]Feuille 4'!#REF!
Name MOUVEMENTS: '[1]Feuille 4'!#REF!
Name MOUVEMENTS: '[2]Feuille 4'!#REF!
Name MOYDIM: '[1]Feuille 4'!#REF!
Name MOYDIM: '[2]Feuille 4'!#REF!
Name MOYMGS: '[1]Feuille 4'!#REF!
Name MOYMGS: '[2]Feuille 4'!#REF!
Name MOYNET: '[1]Feuille 4'!#REF!
Name MOYNET: '[2]Feuille 4'!#REF!
Name MOYPCS: '[1]Feuille 4'!#REF!
Name MOYPCS: '[2]Feuille 4'!#REF!
Name NBJOURS: '[1]Feuille 4'!#REF!
Name NBJOURS: '[2]Feuille 4'!#REF!
Name NET: '[1]Feuille 4'!#REF!
Name NET: '[2]Feuille 4'!#REF!
Name PCS: '[1]Feuille 4'!#REF!
Name PCS: '[2]Feuille 4'!#REF!
Name realise2017: 'Prep2017 '!$A$1:$NA$15
Name realise2017AGN: 'Prep2017 '!$A$4:$NA$4
Name realise2017MGS: 'Prep2017 '!$A$12:$NA$12
Name realsie2017NETTO: 'Prep2017 '!$A$8:$NA$8
Name REPART: [3]Data!$B$6:$D$11
Name S01PIL: PIL_PREP2018!$O$1:$Z$17
Name s01realise: 'Prep2017 '!$B$1:$G$15
Name s02realise: 'Prep2017 '!$I$1:$N$15
Name total: '[1]Feuille 4'!#REF!
Name total: '[2]Feuille 4'!#REF!

Sheet PIL_PREP2018
B1: SEMAINE 52 | O1: S01 | AB1: S02 | AO1: S03 | BB1: S04 | BO1: S05
B2: LUNDI | D2: MARDI | F2: MERCREDI | H2: JEUDI | J2: VENDREDI | L2: SAMEDI | O2: LUNDI | Q2: MARDI | S2: MERCREDI | U2: JEUDI | W2: VENDREDI | Y2: SAMEDI | AB2: LUNDI | AD2: MARDI | AF2: MERCREDI | AH2: JEUDI | AJ2: VENDREDI | AL2: SAMEDI | AO2: LUNDI | AQ2: MARDI | AS2: MERCREDI | AU2: JEUDI | AW2: VENDREDI | AY2: SAMEDI | BB2: LUNDI | BD2: MARDI | BF2: MERCREDI | BH2: JEUDI | BJ2: VENDREDI | BL2: SAMEDI | BO2: LUNDI | BQ2: MARDI | BS2: MERCREDI | BU2: JEUDI | BW2: VENDREDI | BY2: SAMEDI
B3: 43094 | D3: 43095 | F3: 43096 | H3: 43097 | J3: 43098 | L3: 43099 | O3: 43101 | Q3: 43102 | S3: 43103 | U3: 43104 | W3: 43105 | Y3: 43106 | AB3: 43108 | AD3: 43109 | AF3: 43110 | AH3: 43111 | AJ3: 43112 | AL3: 43113 | AO3: 43115 | AQ3: 43116 | AS3: 43117 | AU3: 43118 | AW3: 43119 | AY3: 43120 | BB3: 43122 | BD3: 43123 | BF3: 43124 | BH3: 43125 | BJ3: 43126 | BL3: 43127 | BO3: 43129 | BQ3: 43130 | BS3: 43131 | BU3: 43132 | BW3: 43133 | BY3: 43134
B4: MATIN | C4: APRMIDI | D4: MATIN | E4: APRMIDI | F4: MATIN | G4: APRMIDI | H4: MATIN | I4: APRMIDI | J4: MATIN | K4: APRMIDI | L4: MATIN | M4: APRMIDI | O4: MATIN | P4: APRMIDI | Q4: MATIN | R4: APRMIDI | S4: MATIN | T4: APRMIDI | U4: MATIN | V4: APRMIDI | W4: MATIN | X4: APRMIDI | Y4: MATIN | Z4: APRMIDI | AB4: MATIN | AC4: APRMIDI | AD4: MATIN | AE4: APRMIDI | AF4: MATIN | AG4: APRMIDI | AH4: MATIN | AI4: APRMIDI | AJ4: MATIN | AK4: APRMIDI | AL4: MATIN | AM4: APRMIDI | AO4: MATIN | AP4: APRMIDI | AQ4: MATIN | AR4: APRMIDI | AS4: MATIN | AT4: APRMIDI | AU4: MATIN | AV4: APRMIDI | AW4: MATIN | AX4: APRMIDI | AY4: MATIN | AZ4: APRMIDI | BB4: MATIN | BC4: APRMIDI | BD4: MATIN | BE4: APRMIDI | BF4: MATIN | BG4: APRMIDI | BH4: MATIN | BI4: APRMIDI | BJ4: MATIN | BK4: APRMIDI | BL4: MATIN | BM4: APRMIDI | BO4: MATIN | BP4: APRMIDI | BQ4: MATIN | BR4: APRMIDI | BS4: MATIN | BT4: APRMIDI | BU4: MATIN | BV4: APRMIDI | BW4: MATIN | BX4: APRMIDI | BY4: MATIN | BZ4: APRMIDI
B5: PRÉVISIONS TOMBÉE | O5: PRÉVISIONS TOMBÉE | AB5: PRÉVISIONS TOMBÉE | AO5: PRÉVISIONS TOMBÉE | BB5: PRÉVISIONS TOMBÉE | BO5: PRÉVISIONS TOMBÉE
A6: Transfert (EIT, Portugal,…)
A7: AGN | D7: 3267 | F7: 6739 | H7: 5225 | J7: 7769
A8: AGN promo
A9: AGN total | B9: =B7+B8 -> 0 | D9: =D7+D8 -> 3267 | F9: =F7+F8 -> 6739 | H9: =H7+H8 -> 5225 | J9: =J7+J8 -> 7769 | L9: =L7+L8 -> 0 | O9: =O7+O8 -> 0 | Q9: =Q7+Q8 -> 0 | S9: =S7+S8 -> 0 | U9: =U7+U8 -> 0 | W9: =W7+W8 -> 0 | Y9: =Y7+Y8 -> 0 | AB9: =AB7+AB8 -> 0 | AD9: =AD7+AD8 -> 0 | AF9: =AF7+AF8 -> 0 | AH9: =AH7+AH8 -> 0 | AJ9: =AJ7+AJ8 -> 0 | AL9: =AL7+AL8 -> 0 | AO9: =AO7+AO8 -> 0 | AQ9: =AQ7+AQ8 -> 0 | AS9: =AS7+AS8 -> 0 | AU9: =AU7+AU8 -> 0 | AW9: =AW7+AW8 -> 0 | AY9: =AY7+AY8 -> 0 | BB9: =BB7+BB8 -> 0 | BD9: =BD7+BD8 -> 0 | BF9: =BF7+BF8 -> 0 | BH9: =BH7+BH8 -> 0 | BJ9: =BJ7+BJ8 -> 0 | BL9: =BL7+BL8 -> 0 | BO9: =BO7+BO8 -> 0 | BQ9: =BQ7+BQ8 -> 0 | BS9: =BS7+BS8 -> 0 | BU9: =BU7+BU8 -> 0 | BW9: =BW7+BW8 -> 0 | BY9: =BY7+BY8 -> 0
A10: Net | D10: 9145 | F10: 11583 | H10: 3306 | J10: 8832 | L10: 10401 | Q10: =INDEX(realise2017,8,3) -> 14539 | S10: =INDEX(realise2017,8,4) -> 13065 | U10: =INDEX(realise2017,8,5) -> 5705 | W10: =INDEX(realise2017,8,6) -> 10706 | Y10: =INDEX(realise2017,8,7) -> 12783 | AB10: =HLOOKUP(AB1,realise2017,8,0) -> 10047 | AD10: ='Prep2017 '!$O$8*'Prep2017 '!J9 -> 16949 | AF10: ='Prep2017 '!$O$8*'Prep2017 '!K9 -> 14285 | AH10: ='Prep2017 '!$O$8*'Prep2017 '!L9 -> 4402 | AJ10: ='Prep2017 '!$O$8*'Prep2017 '!M9 -> 9210 | AL10: ='Prep2017 '!$O$8*'Prep2017 '!N9 -> 10818 | AO10: ='Prep2017 '!$V$8*'Prep2017 '!P9 -> 7610 | AQ10: ='Prep2017 '!$V$8*'Prep2017 '!Q9 -> 14696 | AS10: ='Prep2017 '!$V$8*'Prep2017 '!R9 -> 13340 | AU10: ='Prep2017 '!$V$8*'Prep2017 '!S9 -> 4217 | AW10: ='Prep2017 '!$V$8*'Prep2017 '!T9 -> 7428 | AY10: ='Prep2017 '!$V$8*'Prep2017 '!U9 -> 9246 | BB10: ='Prep2017 '!$AC$8*'Prep2017 '!W9 -> 7048 | BD10: ='Prep2017 '!$AC$8*'Prep2017 '!X9 -> 13747 | BF10: ='Prep2017 '!$AC$8*'Prep2017 '!Y9 -> 11843 | BH10: ='Prep2017 '!$AC$8*'Prep2017 '!Z9 -> 4077 | BJ10: ='Prep2017 '!$AC$8*'Prep2017 '!AA9 -> 9132 | BL10: ='Prep2017 '!$AC$8*'Prep2017 '!AB9 -> 10568 | BO10: ='Prep2017 '!$AJ$8*'Prep2017 '!AD9 -> 8107 | BQ10: ='Prep2017 '!$AJ$8*'Prep2017 '!AE9 -> 14148 | BS10: ='Prep2017 '!$AJ$8*'Prep2017 '!AF9 -> 12117 | BU10: ='Prep2017 '!$AJ$8*'Prep2017 '!AG9 -> 5516 | BW10: ='Prep2017 '!$AJ$8*'Prep2017 '!AH9 -> 11033 | BY10: ='Prep2017 '!$AJ$8*'Prep2017 '!AI9 -> 11848
A11: Net promo
A12: Net total | B12: =B10+B11 -> 0 | D12: =D10+D11 -> 9145 | F12: =F10+F11 -> 11583 | H12: =H10+H11 -> 3306 | J12: =J10+J11 -> 8832 | L12: =L10+L11 -> 10401 | O12: =O10+O11 -> 0 | Q12: =Q10+Q11 -> 14539 | S12: =S10+S11 -> 13065 | U12: =U10+U11 -> 5705 | W12: =W10+W11 -> 10706 | Y12: =Y10+Y11 -> 12783 | AB12: =AB10+AB11 -> 10047 | AD12: =AD10+AD11 -> 16949 | AF12: =AF10+AF11 -> 14285 | AH12: =AH10+AH11 -> 4402 | AJ12: =AJ10+AJ11 -> 9210 | AL12: =AL10+AL11 -> 10818 | AO12: =AO10+AO11 -> 7610 | AQ12: =AQ10+AQ11 -> 14696 | AS12: =AS10+AS11 -> 13340 | AU12: =AU10+AU11 -> 4217 | AW12: =AW10+AW11 -> 7428 | AY12: =AY10+AY11 -> 9246 | BB12: =BB10+BB11 -> 7048 | BD12: =BD10+BD11 -> 13747 | BF12: =BF10+BF11 -> 11843 | BH12: =BH10+BH11 -> 4077 | BJ12: =BJ10+BJ11 -> 9132 | BL12: =BL10+BL11 -> 10568 | BO12: =BO10+BO11 -> 8107 | BQ12: =BQ10+BQ11 -> 14148 | BS12: =BS10+BS11 -> 12117 | BU12: =BU10+BU11 -> 5516 | BW12: =BW10+BW11 -> 11033 | BY12: =BY10+BY11 -> 11848
A13: MGS | D13: 10225 | F13: 8298 | H13: 8221 | J13: 14898 | L13: 3322 | Q13: =INDEX(realise2017,12,3) -> 16365 | S13: =INDEX(realise2017,12,4) -> 13513 | U13: =INDEX(realise2017,12,5) -> 12803 | W13: =INDEX(realise2017,12,6) -> 13200 | Y13: =INDEX(realise2017,12,7) -> 2700 | AB13: ='Prep2017 '!$O$12*'Prep2017 '!I13 -> 15380 | AD13: ='Prep2017 '!$O$12*'Prep2017 '!J13 -> 17388 | AF13: ='Prep2017 '!$O$12*'Prep2017 '!K13 -> 13099 | AH13: ='Prep2017 '!$O$12*'Prep2017 '!L13 -> 11406 | AJ13: ='Prep2017 '!$O$12*'Prep2017 '!M13 -> 12068 | AL13: ='Prep2017 '!$O$12*'Prep2017 '!N13 -> 2272 | AO13: ='Prep2017 '!$V$12*'Prep2017 '!P13 -> 14324 | AQ13: ='Prep2017 '!$V$12*'Prep2017 '!Q13 -> 18006 | AS13: ='Prep2017 '!$V$12*'Prep2017 '!R13 -> 13155 | AU13: ='Prep2017 '!$V$12*'Prep2017 '!S13 -> 11660 | AW13: ='Prep2017 '!$V$12*'Prep2017 '!T13 -> 12567 | AY13: ='Prep2017 '!$V$12*'Prep2017 '!U13 -> 2277 | BB13: ='Prep2017 '!$AC$12*'Prep2017 '!W13 -> 15318 | BD13: ='Prep2017 '!$AC$12*'Prep2017 '!X13 -> 15970 | BF13: ='Prep2017 '!$AC$12*'Prep2017 '!Y13 -> 12913 | BH13: ='Prep2017 '!$AC$12*'Prep2017 '!Z13 -> 10693 | BJ13: ='Prep2017 '!$AC$12*'Prep2017 '!AA13 -> 10792 | BL13: ='Prep2017 '!$AC$12*'Prep2017 '!AB13 -> 2270 | BO13: ='Prep2017 '!$AJ$12*'Prep2017 '!AD13 -> 13159 | BQ13: ='Prep2017 '!$AJ$12*'Prep2017 '!AE13 -> 16106 | BS13: ='Prep2017 '!$AJ$12*'Prep2017 '!AF13 -> 13324 | BU13: ='Prep2017 '!$AJ$12*'Prep2017 '!AG13 -> 10592 | BW13: ='Prep2017 '!$AJ$12*'Prep2017 '!AH13 -> 11257 | BY13: ='Prep2017 '!$AJ$12*'Prep2017 '!AI13 -> 2213
A14: MG promo différée
A15: MG promo immédiat
A16: MG total | B16: =B13+B14 -> 0 | D16: =D13+D14 -> 10225 | F16: =F13+F14 -> 8298 | H16: =H13+H14 -> 8221 | J16: =J13+J14 -> 14898 | L16: =L13+L14 -> 3322 | O16: =O13+O14 -> 0 | Q16: =Q13+Q14 -> 16365 | S16: =S13+S14 -> 13513 | U16: =U13+U14 -> 12803 | W16: =W13+W14 -> 13200 | Y16: =Y13+Y14 -> 2700 | AB16: =AB13+AB14 -> 15380 | AD16: =AD13+AD14 -> 17388 | AF16: =AF13+AF14 -> 13099 | AH16: =AH13+AH14 -> 11406 | AJ16: =AJ13+AJ14 -> 12068 | AL16: =AL13+AL14 -> 2272 | AO16: =AO13+AO14 -> 14324 | AQ16: =AQ13+AQ14 -> 18006 | AS16: =AS13+AS14 -> 13155 | AU16: =AU13+AU14 -> 11660 | AW16: =AW13+AW14 -> 12567 | AY16: =AY13+AY14 -> 2277 | BB16: =BB13+BB14 -> 15318 | BD16: =BD13+BD14 -> 15970 | BF16: =BF13+BF14 -> 12913 | BH16: =BH13+BH14 -> 10693 | BJ16: =BJ13+BJ14 -> 10792 | BL16: =BL13+BL14 -> 2270 | BO16: =BO13+BO14 -> 13159 | BQ16: =BQ13+BQ14 -> 16106 | BS16: =BS13+BS14 -> 13324 | BU16: =BU13+BU14 -> 10592 | BW16: =BW13+BW14 -> 11257 | BY16: =BY13+BY14 -> 2213
A17: DONT MG BRESSOLS
B19: ÉCARTS RÉELS | O19: ÉCARTS RÉELS | AB19: ÉCARTS RÉELS | AO19: ÉCARTS RÉELS | BB19: ÉCARTS RÉELS | BO19: ÉCARTS RÉELS
A20: BESOIN REEL EqTP | B20: =B42+B43+B44+B45 -> 0 | C20: =C42+C43+C44+C45 -> 0 | D20: =D42+D43+D44+D45 -> 0 | E20: =E42+E43+E44+E45 -> 15.019388 | F20: =F42+F43+F44+F45 -> 7.6848739 | G20: =G42+G43+G44+G45 -> 16.359959 | H20: =H42+H43+H44+H45 -> 9.7336134 | I20: =I42+I43+I44+I45 -> 14.727061 | ... M20: =M42+M43+M44+M45 -> 8.8586667 | O20: =O42+O43+O44+O45 -> 0 | P20: =P42+P43+P44+P45 -> 0 | Q20: =Q42+Q43+Q44+Q45 -> 13.054622 | R20: =R42+R43+R44+R45 -> 34.307869 | S20: =S42+S43+S44+S45 -> 46.525516 | T20: =T42+T43+T44+T45 -> 64.074866 | U20: =U42+U43+U44+U45 -> 75.053858 | V20: =V42+V43+V44+V45 -> 91.681131 | ... Z20: =Z42+Z43+Z44+Z45 -> 294.28289 | AB20: =AB42+AB43+AB44+AB45 -> 136.86325 | AC20: =AC42+AC43+AC44+AC45 -> 156.83728 | AD20: =AD42+AD43+AD44+AD45 -> 165.28014 | AE20: =AE42+AE43+AE44+AE45 -> 187.86196 | AF20: =AF42+AF43+AF44+AF45 -> 202.10481 | AG20: =AG42+AG43+AG44+AG45 -> 219.1165 | AH20: =AH42+AH43+AH44+AH45 -> 231.1207 | AI20: =AI42+AI43+AI44+AI45 -> 245.93369 | ... AM20: =AM42+AM43+AM44+AM45 -> 643.99002 | AO20: =AO42+AO43+AO44+AO45 -> 285.08648 | AP20: =AP42+AP43+AP44+AP45 -> 303.68908 | AQ20: =AQ42+AQ43+AQ44+AQ45 -> 310.08403 | AR20: =AR42+AR43+AR44+AR45 -> 333.46845 | AS20: =AS42+AS43+AS44+AS45 -> 345.81803 | AT20: =AT42+AT43+AT44+AT45 -> 362.90244 | AU20: =AU42+AU43+AU44+AU45 -> 374.11253 | AV20: =AV42+AV43+AV44+AV45 -> 389.25539 | ... AZ20: =AZ42+AZ43+AZ44+AZ45 -> 976.07772 | BB20: =BB42+BB43+BB44+BB45 -> 426.08877 | BC20: =BC42+BC43+BC44+BC45 -> 445.98228 | BD20: =BD42+BD43+BD44+BD45 -> 451.90497 | BE20: =BE42+BE43+BE44+BE45 -> 472.64523 | BF20: =BF42+BF43+BF44+BF45 -> 484.19733 | BG20: =BG42+BG43+BG44+BG45 -> 500.96746 | BH20: =BH42+BH43+BH44+BH45 -> 510.91956 | BI20: =BI42+BI43+BI44+BI45 -> 524.80657 | ... BM20: =BM42+BM43+BM44+BM45 -> 1290.0305 | BO20: =BO42+BO43+BO44+BO45 -> 561.75088 | BP20: =BP42+BP43+BP44+BP45 -> 578.84049 | BQ20: =BQ42+BQ43+BQ44+BQ45 -> 585.65309 | BR20: =BR42+BR43+BR44+BR45 -> 606.56998 | BS20: =BS42+BS43+BS44+BS45 -> 618.45905 | BT20: =BT42+BT43+BT44+BT45 -> 635.76295 | BU20: =BU42+BU43+BU44+BU45 -> 645.9453 | BV20: =BV42+BV43+BV44+BV45 -> 659.70115 | ... BZ20: =BZ42+BZ43+BZ44+BZ45 -> 1612.5699
A21: PLANNING EqTP | B21: =[4]Synthèse!$NB$22 -> 0 | C21: =[4]Synthèse!$NB$81 -> 0 | D21: =[4]Synthèse!$NC$22 -> 11 | E21: =[4]Synthèse!$NC$81 -> 21 | F21: =[4]Synthèse!$ND$22 -> 12 | G21: =[4]Synthèse!$ND$81 -> 20 | H21: =[4]Synthèse!$NE$22 -> 12 | I21: =[4]Synthèse!$NE$81 -> 21 | J21: =[4]Synthèse!$NF$22 -> 7 | K21: =[4]Synthèse!$NF$81 -> 29 | L21: =[4]Synthèse!$NG$22 -> 14 | M21: =[4]Synthèse!$NG$81 -> 0 | O21: =[5]Synthèse!$I$22 -> 0 | P21: =[5]Synthèse!$I$81 -> 0 | Q21: =[5]Synthèse!$J$22 -> 0 | R21: =[5]Synthèse!$J$81 -> 0 | S21: =[5]Synthèse!$K$22 -> 0 | T21: =[5]Synthèse!$K$81 -> 0 | U21: =[5]Synthèse!$L$22 -> 0 | V21: =[5]Synthèse!$L$81 -> 0 | W21: =[5]Synthèse!$M$22 -> 0 | X21: =[5]Synthèse!$M$81 -> 0 | Y21: =[5]Synthèse!$N$22 -> 0 | Z21: =[5]Synthèse!$N$81 -> 0 | AB21: =[5]Synthèse!$P$22 -> 0 | AC21: =[5]Synthèse!$P$81 -> 0 | AD21: =[5]Synthèse!$Q$22 -> 0 | AE21: =[5]Synthèse!$Q$81 -> 0 | AF21: =[5]Synthèse!$R$22 -> 0 | AG21: =[5]Synthèse!$R$81 -> 0 | AH21: =[5]Synthèse!$S$22 -> 0 | AI21: =[5]Synthèse!$S$81 -> 0 | AJ21: =[5]Synthèse!$T$22 -> 0 | AK21: =[5]Synthèse!$T$81 -> 0 | AL21: =[5]Synthèse!$U$22 -> 0 | AM21: =[5]Synthèse!$U$81 -> 0 | AO21: =[5]Synthèse!$W$22 -> 0 | AP21: =[5]Synthèse!$W$81 -> 0 | AQ21: =[5]Synthèse!$X$22 -> 0 | AR21: =[5]Synthèse!$X$81 -> 0 | AS21: =[5]Synthèse!$Y$22 -> 0 | AT21: =[5]Synthèse!$Y$81 -> 0 | AU21: =[5]Synthèse!$Z$22 -> 0 | AV21: =[5]Synthèse!$Z$81 -> 0 | AW21: =[5]Synthèse!$AA$22 -> 0 | AX21: =[5]Synthèse!$AA$81 -> 0 | AY21: =[5]Synthèse!$AB$22 -> 0 | AZ21: =[5]Synthèse!$AB$81 -> 0 | BB21: =[5]Synthèse!$AD$22 -> 0 | BC21: =[5]Synthèse!$AD$81 -> 0 | BD21: =[5]Synthèse!$AE$22 -> 0 | BE21: =[5]Synthèse!$AE$81 -> 0 | BF21: =[5]Synthèse!$AF$22 -> 0 | BG21: =[5]Synthèse!$AF$81 -> 0 | BH21: =[5]Synthèse!$AG$22 -> 0 | BI21: =[5]Synthèse!$AG$81 -> 0 | BJ21: =[5]Synthèse!$AH$22 -> 0 | BK21: =[5]Synthèse!$AH$81 -> 0 | BL21: =[5]Synthèse!$AI$22 -> 0 | BM21: =[5]Synthèse!$AI$81 -> 0 | BO21: =[5]Synthèse!$AK$22 -> 0 | BP21: =[5]Synthèse!$AK$81 -> 0 | BQ21: =[5]Synthèse!$AL$22 -> 0 | BR21: =[5]Synthèse!$AL$81 -> 0 | BS21: =[5]Synthèse!$AM$22 -> 0 | BT21: =[5]Synthèse!$AM$81 -> 0 | BU21: =[5]Synthèse!$AN$22 -> 0 | BV21: =[5]Synthèse!$AN$81 -> 0 | BW21: =[5]Synthèse!$AO$22 -> 0 | BX21: =[5]Synthèse!$AO$81 -> 0 | BY21: =[5]Synthèse!$AP$22 -> 0 | BZ21: =[5]Synthèse!$AP$81 -> 0
A22: DELTA REEL EqTP | B22: =B21-B20 -> 0 | C22: =C21-C20 -> 0 | D22: =D21-D20 -> 11 | E22: =E21-E20 -> 5.9806122 | F22: =F21-F20 -> 4.3151261 | G22: =G21-G20 -> 3.6400408 | H22: =H21-H20 -> 2.2663866 | I22: =I21-I20 -> 6.2729388 | ... M22: =M21-M20 -> -8.8586667 | O22: =O21-O20 -> 0 | P22: =P21-P20 -> 0 | Q22: =Q21-Q20 -> -13.054622 | R22: =R21-R20 -> -34.307869 | S22: =S21-S20 -> -46.525516 | T22: =T21-T20 -> -64.074866 | U22: =U21-U20 -> -75.053858 | V22: =V21-V20 -> -91.681131 | ... Z22: =Z21-Z20 -> -294.28289 | AB22: =AB21-AB20 -> -136.86325 | AC22: =AC21-AC20 -> -156.83728 | AD22: =AD21-AD20 -> -165.28014 | AE22: =AE21-AE20 -> -187.86196 | AF22: =AF21-AF20 -> -202.10481 | AG22: =AG21-AG20 -> -219.1165 | AH22: =AH21-AH20 -> -231.1207 | AI22: =AI21-AI20 -> -245.93369 | ... AM22: =AM21-AM20 -> -643.99002 | AO22: =AO21-AO20 -> -285.08648 | AP22: =AP21-AP20 -> -303.68908 | AQ22: =AQ21-AQ20 -> -310.08403 | AR22: =AR21-AR20 -> -333.46845 | AS22: =AS21-AS20 -> -345.81803 | AT22: =AT21-AT20 -> -362.90244 | AU22: =AU21-AU20 -> -374.11253 | AV22: =AV21-AV20 -> -389.25539 | ... AZ22: =AZ21-AZ20 -> -976.07772 | BB22: =BB21-BB20 -> -426.08877 | BC22: =BC21-BC20 -> -445.98228 | BD22: =BD21-BD20 -> -451.90497 | BE22: =BE21-BE20 -> -472.64523 | BF22: =BF21-BF20 -> -484.19733 | BG22: =BG21-BG20 -> -500.96746 | BH22: =BH21-BH20 -> -510.91956 | BI22: =BI21-BI20 -> -524.80657 | ... BM22: =BM21-BM20 -> -1290.0305 | BO22: =BO21-BO20 -> -561.75088 | BP22: =BP21-BP20 -> -578.84049 | BQ22: =BQ21-BQ20 -> -585.65309 | BR22: =BR21-BR20 -> -606.56998 | BS22: =BS21-BS20 -> -618.45905 | BT22: =BT21-BT20 -> -635.76295 | BU22: =BU21-BU20 -> -645.9453 | BV22: =BV21-BV20 -> -659.70115 | ... BZ22: =BZ21-BZ20 -> -1612.5699
A23: DELTA REEL Colis MG | B23: =IF((-B22*B48*B37)<0,0,(-B22*B48*B37)) -> 0 | C23: =IF((-C22*C48*C37)<0,0,(-C22*C48*C37)) -> 0 | D23: =IF((-D22*D48*D37)<0,0,(-D22*D48*D37)) -> 0 | E23: =IF((-E22*E48*E37)<0,0,(-E22*E48*E37)) -> 0 | F23: =IF((-F22*F48*F37)<0,0,(-F22*F48*F37)) -> 0 | G23: =IF((-G22*G48*G37)<0,0,(-G22*G48*G37)) -> 0 | H23: =IF((-H22*H48*H37)<0,0,(-H22*H48*H37)) -> 0 | I23: =IF((-I22*I48*I37)<0,0,(-I22*I48*I37)) -> 0 | ... M23: =IF((-M22*M48*M37)<0,0,(-M22*M48*M37)) -> 3322 | O23: =IF((-O22*O48*O37)<0,0,(-O22*O48*O37)) -> 0 | P23: =IF((-P22*P48*P37)<0,0,(-P22*P48*P37)) -> 0 | Q23: =IF((-Q22*Q48*Q37)<0,0,(-Q22*Q48*Q37)) -> 10052.059 | R23: =IF((-R22*R48*R37)<0,0,(-R22*R48*R37)) -> 26417.059 | S23: =IF((-S22*S48*S37)<0,0,(-S22*S48*S37)) -> 35824.647 | T23: =IF((-T22*T48*T37)<0,0,(-T22*T48*T37)) -> 49337.647 | U23: =IF((-U22*U48*U37)<0,0,(-U22*U48*U37)) -> 57791.471 | V23: =IF((-V22*V48*V37)<0,0,(-V22*V48*V37)) -> 70594.471 | ... Z23: =IF((-Z22*Z48*Z37)<0,0,(-Z22*Z48*Z37)) -> 97113.353 | AB23: =IF((-AB22*AB48*AB37)<0,0,(-AB22*AB48*AB37)) -> 105384.71 | AC23: =IF((-AC22*AC48*AC37)<0,0,(-AC22*AC48*AC37)) -> 120764.71 | AD23: =IF((-AD22*AD48*AD37)<0,0,(-AD22*AD48*AD37)) -> 127265.71 | AE23: =IF((-AE22*AE48*AE37)<0,0,(-AE22*AE48*AE37)) -> 144653.71 | AF23: =IF((-AF22*AF48*AF37)<0,0,(-AF22*AF48*AF37)) -> 155620.71 | AG23: =IF((-AG22*AG48*AG37)<0,0,(-AG22*AG48*AG37)) -> 168719.71 | AH23: =IF((-AH22*AH48*AH37)<0,0,(-AH22*AH48*AH37)) -> 177962.94 | AI23: =IF((-AI22*AI48*AI37)<0,0,(-AI22*AI48*AI37)) -> 189368.94 | ... AM23: =IF((-AM22*AM48*AM37)<0,0,(-AM22*AM48*AM37)) -> 212516.71 | AO23: =IF((-AO22*AO48*AO37)<0,0,(-AO22*AO48*AO37)) -> 219516.59 | AP23: =IF((-AP22*AP48*AP37)<0,0,(-AP22*AP48*AP37)) -> 233840.59 | AQ23: =IF((-AQ22*AQ48*AQ37)<0,0,(-AQ22*AQ48*AQ37)) -> 238764.71 | AR23: =IF((-AR22*AR48*AR37)<0,0,(-AR22*AR48*AR37)) -> 256770.71 | AS23: =IF((-AS22*AS48*AS37)<0,0,(-AS22*AS48*AS37)) -> 266279.88 | AT23: =IF((-AT22*AT48*AT37)<0,0,(-AT22*AT48*AT37)) -> 279434.88 | AU23: =IF((-AU22*AU48*AU37)<0,0,(-AU22*AU48*AU37)) -> 288066.65 | AV23: =IF((-AV22*AV48*AV37)<0,0,(-AV22*AV48*AV37)) -> 299726.65 | ... AZ23: =IF((-AZ22*AZ48*AZ37)<0,0,(-AZ22*AZ48*AZ37)) -> 322105.65 | BB23: =IF((-BB22*BB48*BB37)<0,0,(-BB22*BB48*BB37)) -> 328088.35 | BC23: =IF((-BC22*BC48*BC37)<0,0,(-BC22*BC48*BC37)) -> 343406.35 | BD23: =IF((-BD22*BD48*BD37)<0,0,(-BD22*BD48*BD37)) -> 347966.82 | BE23: =IF((-BE22*BE48*BE37)<0,0,(-BE22*BE48*BE37)) -> 363936.82 | BF23: =IF((-BF22*BF48*BF37)<0,0,(-BF22*BF48*BF37)) -> 372831.94 | BG23: =IF((-BG22*BG48*BG37)<0,0,(-BG22*BG48*BG37)) -> 385744.94 | BH23: =IF((-BH22*BH48*BH37)<0,0,(-BH22*BH48*BH37)) -> 393408.06 | BI23: =IF((-BI22*BI48*BI37)<0,0,(-BI22*BI48*BI37)) -> 404101.06 | ... BM23: =IF((-BM22*BM48*BM37)<0,0,(-BM22*BM48*BM37)) -> 425710.06 | BO23: =IF((-BO22*BO48*BO37)<0,0,(-BO22*BO48*BO37)) -> 432548.18 | BP23: =IF((-BP22*BP48*BP37)<0,0,(-BP22*BP48*BP37)) -> 445707.18 | BQ23: =IF((-BQ22*BQ48*BQ37)<0,0,(-BQ22*BQ48*BQ37)) -> 450952.88 | BR23: =IF((-BR22*BR48*BR37)<0,0,(-BR22*BR48*BR37)) -> 467058.88 | BS23: =IF((-BS22*BS48*BS37)<0,0,(-BS22*BS48*BS37)) -> 476213.47 | BT23: =IF((-BT22*BT48*BT37)<0,0,(-BT22*BT48*BT37)) -> 489537.47 | BU23: =IF((-BU22*BU48*BU37)<0,0,(-BU22*BU48*BU37)) -> 497377.88 | BV23: =IF((-BV22*BV48*BV37)<0,0,(-BV22*BV48*BV37)) -> 507969.88 | ... BZ23: =IF((-BZ22*BZ48*BZ37)<0,0,(-BZ22*BZ48*BZ37)) -> 532148.06
B25: PILOTAGE LONG TERME | O25: PILOTAGE | AB25: PILOTAGE | AO25: PILOTAGE | BB25: PILOTAGE | BO25: PILOTAGE
B27: RÉPARTITION DE L'ACTIVITÉ | O27: RÉPARTITION DE L'ACTIVITÉ | AB27: RÉPARTITION DE L'ACTIVITÉ | AO27: RÉPARTITION DE L'ACTIVITÉ | BB27: RÉPARTITION DE L'ACTIVITÉ | BO27: RÉPARTITION DE L'ACTIVITÉ
A28: Transfert (EIT, Portugal,…) | D28: 0 | E28: =D6 -> 0 | F28: =E51 -> 0 | G28: =F6 -> 0 | H28: =G51 -> 0 | I28: =H6 -> 0 | J28: =I51 -> 0 | K28: =J6 -> 0 | L28: =K51 -> 0 | M28: =L51 -> 0 | Q28: 0 | R28: =Q6 -> 0 | S28: 0 | T28: =S6 -> 0 | U28: 0 | V28: =U6 -> 0 | W28: 0 | X28: =W6 -> 0 | Y28: 0 | Z28: =Y51 -> 0 | AB28: 0 | AC28: =AB6 -> 0 | AD28: 0 | AE28: =AD6 -> 0 | AF28: 0 | AG28: =AF6 -> 0 | AH28: 0 | AI28: =AH6 -> 0 | AJ28: 0 | AK28: =AJ6 -> 0 | AL28: 0 | AM28: =AL51 -> 0 | AO28: 0 | AP28: =AO6 -> 0 | AQ28: 0 | AR28: =AQ6 -> 0 | AS28: 0 | AT28: =AS6 -> 0 | AU28: 0 | AV28: =AU6 -> 0 | AW28: 0 | AX28: =AW6 -> 0 | AY28: 0 | AZ28: =AY51 -> 0 | BB28: 0 | BC28: =BB6 -> 0 | BD28: 0 | BE28: =BD6 -> 0 | BF28: 0 | BG28: =BF6 -> 0 | BH28: 0 | BI28: =BH6 -> 0 | BJ28: 0 | BK28: =BJ6 -> 0 | BL28: 0 | BM28: =BL51 -> 0 | BO28: 0 | BP28: =BO6 -> 0 | BQ28: 0 | BR28: =BQ6 -> 0 | BS28: 0 | BT28: =BS6 -> 0 | BU28: 0 | BV28: =BU6 -> 0 | BW28: 0 | BX28: =BW6 -> 0 | BY28: 0 | BZ28: =BY51 -> 0
A29: AGN | D29: 0 | E29: =D9 -> 3267 | F29: 0 | G29: =F9 -> 6739 | H29: 0 | I29: =H9 -> 5225 | J29: 0 | K29: =J9 -> 7769 | L29: 0 | M29: =L9 -> 0 | Q29: 0 | R29: =Q9 -> 0 | S29: 0 | T29: =S9 -> 0 | U29: 0 | V29: =U9 -> 0 | W29: 0 | X29: =W9 -> 0 | Y29: 0 | Z29: =Y9 -> 0 | AB29: 0 | AC29: =AB9 -> 0 | AD29: 0 | AE29: =AD9 -> 0 | AF29: 0 | AG29: =AF9 -> 0 | AH29: 0 | AI29: =AH9 -> 0 | AJ29: 0 | AK29: =AJ9 -> 0 | AL29: 0 | AM29: =AL9 -> 0 | AO29: 0 | AP29: =AO9 -> 0 | AQ29: 0 | AR29: =AQ9 -> 0 | AS29: 0 | AT29: =AS9 -> 0 | AU29: 0 | AV29: =AU9 -> 0 | AW29: 0 | AX29: =AW9 -> 0 | AY29: 0 | AZ29: =AY9 -> 0 | BB29: 0 | BC29: =BB9 -> 0 | BD29: 0 | BE29: =BD9 -> 0 | BF29: 0 | BG29: =BF9 -> 0 | BH29: 0 | BI29: =BH9 -> 0 | BJ29: 0 | BK29: =BJ9 -> 0 | BL29: 0 | BM29: =BL9 -> 0 | BO29: 0 | BP29: =BO9 -> 0 | BQ29: 0 | BR29: =BQ9 -> 0 | BS29: 0 | BT29: =BS9 -> 0 | BU29: 0 | BV29: =BU9 -> 0 | BW29: 0 | BX29: =BW9 -> 0 | BY29: 0 | BZ29: =BY9 -> 0
A30: Net | E30: =IF(OR(D52="",D52=0),0,D52) -> 0 | F30: =IF(OR(E52="",E52=0),D12,E52) -> 9145 | G30: =IF(OR(F52="",F52=0),0,F52) -> 0 | H30: =IF(OR(G52="",G52=0),F12,G52) -> 11583 | I30: =IF(OR(H52="",H52=0),0,H52) -> 0 | J30: =IF(OR(I52="",I52=0),H12,I52) -> 3306 | K30: =(J12*0.5)+(IF(OR(J52="",J52=0),0,J52)) -> 4416 | L30: =(J12*0.5)+(IF(OR(K52="",K52=0),0,K52)) -> 4416 | M30: =IF(OR(L52="",L52=0),0,L52) -> 0 | Q30: =IF(OR(M52="",M52=0),L12,M52) -> 10401 | R30: =IF(OR(Q52="",Q52=0),0,Q52) -> 0 | S30: =IF(OR(R52="",R52=0),Q12,R52) -> 14539 | T30: =IF(OR(S52="",S52=0),0,S52) -> 0 | U30: =IF(OR(T52="",T52=0),S12,T52) -> 13065 | V30: =IF(OR(U52="",U52=0),0,U52) -> 0 | W30: =IF(OR(V52="",V52=0),U12,V52) -> 5705 | X30: =(W12*0.5)+(IF(OR(W52="",W52=0),0,W52)) -> 5353 | Y30: =(W12*0.5)+(IF(OR(X52="",X52=0),0,X52)) -> 5353 | Z30: =IF(OR(Y52="",Y52=0),0,Y52) -> 0 | AB30: =IF(OR(Z52="",Z52=0),Y12,Z52) -> 12783 | AC30: =IF(OR(AB52="",AB52=0),0,AB52) -> 0 | AD30: =IF(OR(AC52="",AC52=0),AB12,AC52) -> 10047 | AE30: =IF(OR(AD52="",AD52=0),0,AD52) -> 0 | AF30: =IF(OR(AE52="",AE52=0),AD12,AE52) -> 16949 | AG30: =IF(OR(AF52="",AF52=0),0,AF52) -> 0 | AH30: =IF(OR(AG52="",AG52=0),AF12,AG52) -> 14285 | AI30: =IF(OR(AH52="",AH52=0),0,AH52) -> 0 | AJ30: =IF(OR(AI52="",AI52=0),AH12,AI52) -> 4402 | AK30: =(AJ12*0.5)+(IF(OR(AJ52="",AJ52=0),0,AJ52)) -> 4605 | AL30: =(AJ12*0.5)+(IF(OR(AK52="",AK52=0),0,AK52)) -> 4605 | AM30: =IF(OR(AL52="",AL52=0),0,AL52) -> 0 | AO30: =IF(OR(AM52="",AM52=0),AL12,AM52) -> 10818 | AP30: =IF(OR(AO52="",AO52=0),0,AO52) -> 0 | AQ30: =IF(OR(AP52="",AP52=0),AO12,AP52) -> 7610 | AR30: =IF(OR(AQ52="",AQ52=0),0,AQ52) -> 0 | AS30: =IF(OR(AR52="",AR52=0),AQ12,AR52) -> 14696 | AT30: =IF(OR(AS52="",AS52=0),0,AS52) -> 0 | AU30: =IF(OR(AT52="",AT52=0),AS12,AT52) -> 13340 | AV30: =IF(OR(AU52="",AU52=0),0,AU52) -> 0 | AW30: =IF(OR(AV52="",AV52=0),AU12,AV52) -> 4217 | AX30: =(AW12*0.5)+(IF(OR(AW52="",AW52=0),0,AW52)) -> 3714 | AY30: =(AW12*0.5)+(IF(OR(AX52="",AX52=0),0,AX52)) -> 3714 | AZ30: =IF(OR(AY52="",AY52=0),0,AY52) -> 0 | BB30: =IF(OR(AZ52="",AZ52=0),AY12,AZ52) -> 9246 | BC30: =IF(OR(BB52="",BB52=0),0,BB52) -> 0 | BD30: =IF(OR(BC52="",BC52=0),BB12,BC52) -> 7048 | BE30: =IF(OR(BD52="",BD52=0),0,BD52) -> 0 | BF30: =IF(OR(BE52="",BE52=0),BD12,BE52) -> 13747 | BG30: =IF(OR(BF52="",BF52=0),0,BF52) -> 0 | BH30: =IF(OR(BG52="",BG52=0),BF12,BG52) -> 11843 | BI30: =IF(OR(BH52="",BH52=0),0,BH52) -> 0 | BJ30: =IF(OR(BI52="",BI52=0),BH12,BI52) -> 4077 | BK30: =(BJ12*0.5)+(IF(OR(BJ52="",BJ52=0),0,BJ52)) -> 4566 | BL30: =(BJ12*0.5)+(IF(OR(BK52="",BK52=0),0,BK52)) -> 4566 | BM30: =IF(OR(BL52="",BL52=0),0,BL52) -> 0 | BO30: =IF(OR(BM52="",BM52=0),BL12,BM52) -> 10568 | BP30: =IF(OR(BO52="",BO52=0),0,BO52) -> 0 | BQ30: =IF(OR(BP52="",BP52=0),BO12,BP52) -> 8107 | BR30: =IF(OR(BQ52="",BQ52=0),0,BQ52) -> 0 | BS30: =IF(OR(BR52="",BR52=0),BQ12,BR52) -> 14148 | BT30: =IF(OR(BS52="",BS52=0),0,BS52) -> 0 | BU30: =IF(OR(BT52="",BT52=0),BS12,BT52) -> 12117 | BV30: =IF(OR(BU52="",BU52=0),0,BU52) -> 0 | BW30: =IF(OR(BV52="",BV52=0),BU12,BV52) -> 5516 | BX30: =(BW12*0.5)+(IF(OR(BW52="",BW52=0),0,BW52)) -> 5516.5 | BY30: =(BW12*0.5)+(IF(OR(BX52="",BX52=0),0,BX52)) -> 5516.5 | BZ30: =IF(OR(BY52="",BY52=0),0,BY52) -> 0
A31: MGS | E31: =IF(OR(D53="",D53=0),D16+D23,D16+D53) -> 10225 | F31: =IF(OR(E53="",E53=0),D15+E23,D15+E53) -> 0 | G31: =IF(OR(F53="",F53=0),F16+F23,F16+F53) -> 8298 | H31: =IF(OR(G53="",G53=0),F15+G23,F15+G53) -> 0 | I31: =IF(OR(H53="",H53=0),H16+H23,H16+H53) -> 8221 | J31: =IF(OR(I53="",I53=0),H15+I23,H15+I53) -> 0 | K31: =IF(OR(J53="",J53=0),J16+J23,J16+J53) -> 14898 | L31: =IF(OR(K53="",K53=0),J15+K23,J15+K53) -> 0 | M31: =IF(OR(L53="",L53=0),L16+L23,L16+L53) -> 3322 | Q31: =IF(OR(M53="",M53=0),L15+M23,L15+M53) -> 3322 | R31: =IF(OR(Q53="",Q53=0),Q16+Q23,Q16+Q53) -> 26417.059 | S31: =IF(OR(R53="",R53=0),Q15+R23,Q15+R53) -> 26417.059 | T31: =IF(OR(S53="",S53=0),S16+S23,S16+S53) -> 49337.647 | U31: =IF(OR(T53="",T53=0),S15+T23,S15+T53) -> 49337.647 | V31: =IF(OR(U53="",U53=0),U16+U23,U16+U53) -> 70594.471 | W31: =IF(OR(V53="",V53=0),U15+V23,U15+V53) -> 70594.471 | X31: =IF(OR(W53="",W53=0),W16+W23,W16+W53) -> 87485.941 | Y31: =IF(OR(X53="",X53=0),W15+X23,W15+X53) -> 90949.647 | Z31: =IF(OR(Y53="",Y53=0),Y16+Y23,Y16+Y53) -> 97113.353 | AB31: =IF(OR(Z53="",Z53=0),Y15+Z23,Y15+Z53) -> 97113.353 | AC31: =IF(OR(AB53="",AB53=0),AB16+AB23,AB16+AB53) -> 120764.71 | AD31: =IF(OR(AC53="",AC53=0),AB15+AC23,AB15+AC53) -> 120764.71 | AE31: =IF(OR(AD53="",AD53=0),AD16+AD23,AD16+AD53) -> 144653.71 | AF31: =IF(OR(AE53="",AE53=0),AD15+AE23,AD15+AE53) -> 144653.71 | AG31: =IF(OR(AF53="",AF53=0),AF16+AF23,AF16+AF53) -> 168719.71 | AH31: =IF(OR(AG53="",AG53=0),AF15+AG23,AF15+AG53) -> 168719.71 | AI31: =IF(OR(AH53="",AH53=0),AH16+AH23,AH16+AH53) -> 189368.94 | AJ31: =IF(OR(AI53="",AI53=0),AH15+AI23,AH15+AI53) -> 189368.94 | AK31: =IF(OR(AJ53="",AJ53=0),AJ16+AJ23,AJ16+AJ53) -> 204285.29 | AL31: =IF(OR(AK53="",AK53=0),AJ15+AK23,AJ15+AK53) -> 207265 | AM31: =IF(OR(AL53="",AL53=0),AL16+AL23,AL16+AL53) -> 212516.71 | AO31: =IF(OR(AM53="",AM53=0),AL15+AM23,AL15+AM53) -> 212516.71 | AP31: =IF(OR(AO53="",AO53=0),AO16+AO23,AO16+AO53) -> 233840.59 | AQ31: =IF(OR(AP53="",AP53=0),AO15+AP23,AO15+AP53) -> 233840.59 | AR31: =IF(OR(AQ53="",AQ53=0),AQ16+AQ23,AQ16+AQ53) -> 256770.71 | AS31: =IF(OR(AR53="",AR53=0),AQ15+AR23,AQ15+AR53) -> 256770.71 | AT31: =IF(OR(AS53="",AS53=0),AS16+AS23,AS16+AS53) -> 279434.88 | AU31: =IF(OR(AT53="",AT53=0),AS15+AT23,AS15+AT53) -> 279434.88 | AV31: =IF(OR(AU53="",AU53=0),AU16+AU23,AU16+AU53) -> 299726.65 | AW31: =IF(OR(AV53="",AV53=0),AU15+AV23,AU15+AV53) -> 299726.65 | AX31: =IF(OR(AW53="",AW53=0),AW16+AW23,AW16+AW53) -> 315022.29 | AY31: =IF(OR(AX53="",AX53=0),AW15+AX23,AW15+AX53) -> 317425.47 | AZ31: =IF(OR(AY53="",AY53=0),AY16+AY23,AY16+AY53) -> 322105.65 | BB31: =IF(OR(AZ53="",AZ53=0),AY15+AZ23,AY15+AZ53) -> 322105.65 | BC31: =IF(OR(BB53="",BB53=0),BB16+BB23,BB16+BB53) -> 343406.35 | BD31: =IF(OR(BC53="",BC53=0),BB15+BC23,BB15+BC53) -> 343406.35 | BE31: =IF(OR(BD53="",BD53=0),BD16+BD23,BD16+BD53) -> 363936.82 | BF31: =IF(OR(BE53="",BE53=0),BD15+BE23,BD15+BE53) -> 363936.82 | BG31: =IF(OR(BF53="",BF53=0),BF16+BF23,BF16+BF53) -> 385744.94 | BH31: =IF(OR(BG53="",BG53=0),BF15+BG23,BF15+BG53) -> 385744.94 | BI31: =IF(OR(BH53="",BH53=0),BH16+BH23,BH16+BH53) -> 404101.06 | BJ31: =IF(OR(BI53="",BI53=0),BH15+BI23,BH15+BI53) -> 404101.06 | BK31: =IF(OR(BJ53="",BJ53=0),BJ16+BJ23,BJ16+BJ53) -> 417531.12 | BL31: =IF(OR(BK53="",BK53=0),BJ15+BK23,BJ15+BK53) -> 420485.59 | BM31: =IF(OR(BL53="",BL53=0),BL16+BL23,BL16+BL53) -> 425710.06 | BO31: =IF(OR(BM53="",BM53=0),BL15+BM23,BL15+BM53) -> 425710.06 | BP31: =IF(OR(BO53="",BO53=0),BO16+BO23,BO16+BO53) -> 445707.18 | BQ31: =IF(OR(BP53="",BP53=0),BO15+BP23,BO15+BP53) -> 445707.18 | BR31: =IF(OR(BQ53="",BQ53=0),BQ16+BQ23,BQ16+BQ53) -> 467058.88 | BS31: =IF(OR(BR53="",BR53=0),BQ15+BR23,BQ15+BR53) -> 467058.88 | BT31: =IF(OR(BS53="",BS53=0),BS16+BS23,BS16+BS53) -> 489537.47 | BU31: =IF(OR(BT53="",BT53=0),BS15+BT23,BS15+BT53) -> 489537.47 | BV31: =IF(OR(BU53="",BU53=0),BU16+BU23,BU16+BU53) -> 507969.88 | BW31: =IF(OR(BV53="",BV53=0),BU15+BV23,BU15+BV53) -> 507969.88 | BX31: =IF(OR(BW53="",BW53=0),BW16+BW23,BW16+BW53) -> 522796.06 | BY31: =IF(OR(BX53="",BX53=0),BW15+BX23,BW15+BX53) -> 526365.56 | BZ31: =IF(OR(BY53="",BY53=0),BY16+BY23,BY16+BY53) -> 532148.06
B33: PRODUCTION HORAIRE RÉELLE | O33: PRODUCTION HORAIRE RÉELLE | AB33: PRODUCTIVITE RÉELLE | AO33: PRODUCTION HORAIRE RÉELLE | BB33: PRODUCTION HORAIRE RÉELLE | BO33: PRODUCTION HORAIRE RÉELLE
A34: Transfert (EIT, Portugal,…) | B34: 150 | C34: 150 | D34: 150 | E34: 150 | F34: 150 | G34: 150 | H34: 150 | I34: 150 | J34: 150 | K34: 150 | L34: 150 | M34: 150 | O34: 150 | P34: 150 | Q34: 150 | R34: 150 | S34: 150 | T34: 150 | U34: 150 | V34: 150 | W34: 150 | X34: 150 | Y34: 150 | Z34: 150 | AB34: 150 | AC34: 150 | AD34: 150 | AE34: 150 | AF34: 150 | AG34: 150 | AH34: 150 | AI34: 150 | AJ34: 150 | AK34: 150 | AL34: 150 | AM34: 150 | AO34: 150 | AP34: 150 | AQ34: 150 | AR34: 150 | AS34: 150 | AT34: 150 | AU34: 150 | AV34: 150 | AW34: 150 | AX34: 150 | AY34: 150 | AZ34: 150 | BB34: 150 | BC34: 150 | BD34: 150 | BE34: 150 | BF34: 150 | BG34: 150 | BH34: 150 | BI34: 150 | BJ34: 150 | BK34: 150 | BL34: 150 | BM34: 150 | BO34: 150 | BP34: 150 | BQ34: 150 | BR34: 150 | BS34: 150 | BT34: 150 | BU34: 150 | BV34: 150 | BW34: 150 | BX34: 150 | BY34: 150 | BZ34: 150
A35: AGN | B35: 140 | C35: 140 | D35: 140 | E35: 140 | F35: 140 | G35: 140 | H35: 140 | I35: 140 | J35: 140 | K35: 140 | L35: 140 | M35: 140 | O35: 140 | P35: 140 | Q35: 140 | R35: 140 | S35: 140 | T35: 140 | U35: 140 | V35: 140 | W35: 140 | X35: 140 | Y35: 140 | Z35: 140 | AB35: 140 | AC35: 140 | AD35: 140 | AE35: 140 | AF35: 140 | AG35: 140 | AH35: 140 | AI35: 140 | AJ35: 140 | AK35: 140 | AL35: 140 | AM35: 140 | AO35: 140 | AP35: 140 | AQ35: 140 | AR35: 140 | AS35: 140 | AT35: 140 | AU35: 140 | AV35: 140 | AW35: 140 | AX35: 140 | AY35: 140 | AZ35: 140 | BB35: 140 | BC35: 140 | BD35: 140 | BE35: 140 | BF35: 140 | BG35: 140 | BH35: 140 | BI35: 140 | BJ35: 140 | BK35: 140 | BL35: 140 | BM35: 140 | BO35: 140 | BP35: 140 | BQ35: 140 | BR35: 140 | BS35: 140 | BT35: 140 | BU35: 140 | BV35: 140 | BW35: 140 | BX35: 140 | BY35: 140 | BZ35: 140
A36: Net | B36: 170 | C36: 170 | D36: 170 | E36: 170 | F36: 170 | G36: 170 | H36: 170 | I36: 170 | J36: 170 | K36: 170 | L36: 170 | M36: 170 | O36: 170 | P36: 170 | Q36: 170 | R36: 170 | S36: 170 | T36: 170 | U36: 170 | V36: 170 | W36: 170 | X36: 170 | Y36: 170 | Z36: 170 | AB36: 170 | AC36: 170 | AD36: 170 | AE36: 170 | AF36: 170 | AG36: 170 | AH36: 170 | AI36: 170 | AJ36: 170 | AK36: 170 | AL36: 170 | AM36: 170 | AO36: 170 | AP36: 170 | AQ36: 170 | AR36: 170 | AS36: 170 | AT36: 170 | AU36: 170 | AV36: 170 | AW36: 170 | AX36: 170 | AY36: 170 | AZ36: 170 | BB36: 170 | BC36: 170 | BD36: 170 | BE36: 170 | BF36: 170 | BG36: 170 | BH36: 170 | BI36: 170 | BJ36: 170 | BK36: 170 | BL36: 170 | BM36: 170 | BO36: 170 | BP36: 170 | BQ36: 170 | BR36: 170 | BS36: 170 | BT36: 170 | BU36: 170 | BV36: 170 | BW36: 170 | BX36: 170 | BY36: 170 | BZ36: 170
A37: MGS | B37: 125 | C37: 125 | D37: 125 | E37: 125 | F37: 125 | G37: 125 | H37: 125 | I37: 125 | J37: 125 | K37: 125 | L37: 125 | M37: 125 | O37: 125 | P37: 125 | Q37: 110 | R37: 110 | S37: 110 | T37: 110 | U37: 110 | V37: 110 | W37: 110 | X37: 110 | Y37: 110 | Z37: 110 | AB37: 110 | AC37: 110 | AD37: 110 | AE37: 110 | AF37: 110 | AG37: 110 | AH37: 110 | AI37: 110 | AJ37: 110 | AK37: 110 | AL37: 110 | AM37: 110 | AO37: 110 | AP37: 110 | AQ37: 110 | AR37: 110 | AS37: 110 | AT37: 110 | AU37: 110 | AV37: 110 | AW37: 110 | AX37: 110 | AY37: 110 | AZ37: 110 | BB37: 110 | BC37: 110 | BD37: 110 | BE37: 110 | BF37: 110 | BG37: 110 | BH37: 110 | BI37: 110 | BJ37: 110 | BK37: 110 | BL37: 110 | BM37: 110 | BO37: 110 | BP37: 110 | BQ37: 110 | BR37: 110 | BS37: 110 | BT37: 110 | BU37: 110 | BV37: 110 | BW37: 110 | BX37: 110 | BY37: 110 | BZ37: 110
B39: PILOTAGE RÉEL | O39: PILOTAGE RÉEL | AB39: RÉEL | AO39: PILOTAGE RÉEL | BB39: PILOTAGE RÉEL | BO39: PILOTAGE RÉEL
B41: BESOIN EN EFFECTIF | O41: BESOIN EN EFFECTIF | AB41: BESOIN EN EFFECTIFS | AO41: BESOIN EN EFFECTIFS | BB41: BESOIN EN EFFECTIFS | BO41: BESOIN EN EFFECTIFS
A42: Transfert (EIT, Portugal,…) | B42: =(B28/(B34*B48)) -> 0 | C42: =(C28/(C34*C48)) -> 0 | D42: =(D28/(D34*D48)) -> 0 | E42: =(E28/(E34*E48)) -> 0 | F42: =(F28/(F34*F48)) -> 0 | G42: =(G28/(G34*G48)) -> 0 | H42: =(H28/(H34*H48)) -> 0 | I42: =(I28/(I34*I48)) -> 0 | ... M42: =(M28/(M34*M48)) -> 0 | O42: =(O28/(O34*O48)) -> 0 | P42: =(P28/(P34*P48)) -> 0 | Q42: =(Q28/(Q34*Q48)) -> 0 | R42: =(R28/(R34*R48)) -> 0 | S42: =(S28/(S34*S48)) -> 0 | T42: =(T28/(T34*T48)) -> 0 | U42: =(U28/(U34*U48)) -> 0 | V42: =(V28/(V34*V48)) -> 0 | ... Z42: =(Z28/(Z34*Z48)) -> 0 | AB42: =(AB28/(AB34*AB48)) -> 0 | AC42: =(AC28/(AC34*AC48)) -> 0 | AD42: =(AD28/(AD34*AD48)) -> 0 | AE42: =(AE28/(AE34*AE48)) -> 0 | AF42: =(AF28/(AF34*AF48)) -> 0 | AG42: =(AG28/(AG34*AG48)) -> 0 | AH42: =(AH28/(AH34*AH48)) -> 0 | AI42: =(AI28/(AI34*AI48)) -> 0 | ... AM42: =(AM28/(AM34*AM48)) -> 0 | AO42: =(AO28/(AO34*AO48)) -> 0 | AP42: =(AP28/(AP34*AP48)) -> 0 | AQ42: =(AQ28/(AQ34*AQ48)) -> 0 | AR42: =(AR28/(AR34*AR48)) -> 0 | AS42: =(AS28/(AS34*AS48)) -> 0 | AT42: =(AT28/(AT34*AT48)) -> 0 | AU42: =(AU28/(AU34*AU48)) -> 0 | AV42: =(AV28/(AV34*AV48)) -> 0 | ... AZ42: =(AZ28/(AZ34*AZ48)) -> 0 | BB42: =(BB28/(BB34*BB48)) -> 0 | BC42: =(BC28/(BC34*BC48)) -> 0 | BD42: =(BD28/(BD34*BD48)) -> 0 | BE42: =(BE28/(BE34*BE48)) -> 0 | BF42: =(BF28/(BF34*BF48)) -> 0 | BG42: =(BG28/(BG34*BG48)) -> 0 | BH42: =(BH28/(BH34*BH48)) -> 0 | BI42: =(BI28/(BI34*BI48)) -> 0 | ... BM42: =(BM28/(BM34*BM48)) -> 0 | BO42: =(BO28/(BO34*BO48)) -> 0 | BP42: =(BP28/(BP34*BP48)) -> 0 | BQ42: =(BQ28/(BQ34*BQ48)) -> 0 | BR42: =(BR28/(BR34*BR48)) -> 0 | BS42: =(BS28/(BS34*BS48)) -> 0 | BT42: =(BT28/(BT34*BT48)) -> 0 | BU42: =(BU28/(BU34*BU48)) -> 0 | BV42: =(BV28/(BV34*BV48)) -> 0 | ... BZ42: =(BZ28/(BZ34*BZ48)) -> 0
A43: AGN | B43: =(B29/(B35*B48)) -> 0 | C43: =(C29/(C35*C48)) -> 0 | D43: =(D29/(D35*D48)) -> 0 | E43: =(E29/(E35*E48)) -> 3.3336735 | F43: =(F29/(F35*F48)) -> 0 | G43: =(G29/(G35*G48)) -> 6.8765306 | H43: =(H29/(H35*H48)) -> 0 | I43: =(I29/(I35*I48)) -> 5.3316327 | ... M43: =(M29/(M35*M48)) -> 0 | O43: =(O29/(O35*O48)) -> 0 | P43: =(P29/(P35*P48)) -> 0 | Q43: =(Q29/(Q35*Q48)) -> 0 | R43: =(R29/(R35*R48)) -> 0 | S43: =(S29/(S35*S48)) -> 0 | T43: =(T29/(T35*T48)) -> 0 | U43: =(U29/(U35*U48)) -> 0 | V43: =(V29/(V35*V48)) -> 0 | ... Z43: =(Z29/(Z35*Z48)) -> 0 | AB43: =(AB29/(AB35*AB48)) -> 0 | AC43: =(AC29/(AC35*AC48)) -> 0 | AD43: =(AD29/(AD35*AD48)) -> 0 | AE43: =(AE29/(AE35*AE48)) -> 0 | AF43: =(AF29/(AF35*AF48)) -> 0 | AG43: =(AG29/(AG35*AG48)) -> 0 | AH43: =(AH29/(AH35*AH48)) -> 0 | AI43: =(AI29/(AI35*AI48)) -> 0 | ... AM43: =(AM29/(AM35*AM48)) -> 0 | AO43: =(AO29/(AO35*AO48)) -> 0 | AP43: =(AP29/(AP35*AP48)) -> 0 | AQ43: =(AQ29/(AQ35*AQ48)) -> 0 | AR43: =(AR29/(AR35*AR48)) -> 0 | AS43: =(AS29/(AS35*AS48)) -> 0 | AT43: =(AT29/(AT35*AT48)) -> 0 | AU43: =(AU29/(AU35*AU48)) -> 0 | AV43: =(AV29/(AV35*AV48)) -> 0 | ... AZ43: =(AZ29/(AZ35*AZ48)) -> 0 | BB43: =(BB29/(BB35*BB48)) -> 0 | BC43: =(BC29/(BC35*BC48)) -> 0 | BD43: =(BD29/(BD35*BD48)) -> 0 | BE43: =(BE29/(BE35*BE48)) -> 0 | BF43: =(BF29/(BF35*BF48)) -> 0 | BG43: =(BG29/(BG35*BG48)) -> 0 | BH43: =(BH29/(BH35*BH48)) -> 0 | BI43: =(BI29/(BI35*BI48)) -> 0 | ... BM43: =(BM29/(BM35*BM48)) -> 0 | BO43: =(BO29/(BO35*BO48)) -> 0 | BP43: =(BP29/(BP35*BP48)) -> 0 | BQ43: =(BQ29/(BQ35*BQ48)) -> 0 | BR43: =(BR29/(BR35*BR48)) -> 0 | BS43: =(BS29/(BS35*BS48)) -> 0 | BT43: =(BT29/(BT35*BT48)) -> 0 | BU43: =(BU29/(BU35*BU48)) -> 0 | BV43: =(BV29/(BV35*BV48)) -> 0 | ... BZ43: =(BZ29/(BZ35*BZ48)) -> 0
A44: Net | B44: =(B30/(B36*B48)) -> 0 | C44: =(C30/(C36*C48)) -> 0 | D44: =(D30/(D36*D48)) -> 0 | E44: =(E30/(E36*E48)) -> 0 | F44: =(F30/(F36*F48)) -> 7.6848739 | G44: =(G30/(G36*G48)) -> 0 | H44: =(H30/(H36*H48)) -> 9.7336134 | I44: =(I30/(I36*I48)) -> 0 | ... M44: =(M30/(M36*M48)) -> 0 | O44: =(O30/(O36*O48)) -> 0 | P44: =(P30/(P36*P48)) -> 0 | Q44: =(Q30/(Q36*Q48)) -> 8.7403361 | R44: =(R30/(R36*R48)) -> 0 | S44: =(S30/(S36*S48)) -> 12.217647 | T44: =(T30/(T36*T48)) -> 0 | U44: =(U30/(U36*U48)) -> 10.978992 | V44: =(V30/(V36*V48)) -> 0 | ... Z44: =(Z30/(Z36*Z48)) -> 0 | AB44: =(AB30/(AB36*AB48)) -> 10.742017 | AC44: =(AC30/(AC36*AC48)) -> 0 | AD44: =(AD30/(AD36*AD48)) -> 8.4428571 | AE44: =(AE30/(AE36*AE48)) -> 0 | AF44: =(AF30/(AF36*AF48)) -> 14.242857 | AG44: =(AG30/(AG36*AG48)) -> 0 | AH44: =(AH30/(AH36*AH48)) -> 12.004202 | AI44: =(AI30/(AI36*AI48)) -> 0 | ... AM44: =(AM30/(AM36*AM48)) -> 0 | AO44: =(AO30/(AO36*AO48)) -> 9.0907563 | AP44: =(AP30/(AP36*AP48)) -> 0 | AQ44: =(AQ30/(AQ36*AQ48)) -> 6.394958 | AR44: =(AR30/(AR36*AR48)) -> 0 | AS44: =(AS30/(AS36*AS48)) -> 12.34958 | AT44: =(AT30/(AT36*AT48)) -> 0 | AU44: =(AU30/(AU36*AU48)) -> 11.210084 | AV44: =(AV30/(AV36*AV48)) -> 0 | ... AZ44: =(AZ30/(AZ36*AZ48)) -> 0 | BB44: =(BB30/(BB36*BB48)) -> 7.7697479 | BC44: =(BC30/(BC36*BC48)) -> 0 | BD44: =(BD30/(BD36*BD48)) -> 5.9226891 | BE44: =(BE30/(BE36*BE48)) -> 0 | BF44: =(BF30/(BF36*BF48)) -> 11.552101 | BG44: =(BG30/(BG36*BG48)) -> 0 | BH44: =(BH30/(BH36*BH48)) -> 9.9521008 | BI44: =(BI30/(BI36*BI48)) -> 0 | ... BM44: =(BM30/(BM36*BM48)) -> 0 | BO44: =(BO30/(BO36*BO48)) -> 8.8806723 | BP44: =(BP30/(BP36*BP48)) -> 0 | BQ44: =(BQ30/(BQ36*BQ48)) -> 6.812605 | BR44: =(BR30/(BR36*BR48)) -> 0 | BS44: =(BS30/(BS36*BS48)) -> 11.889076 | BT44: =(BT30/(BT36*BT48)) -> 0 | BU44: =(BU30/(BU36*BU48)) -> 10.182353 | BV44: =(BV30/(BV36*BV48)) -> 0 | ... BZ44: =(BZ30/(BZ36*BZ48)) -> 0
A45: MGS | B45: =(B31/(B37*B48)) -> 0 | C45: =(C31/(C37*C48)) -> 0 | D45: =(D31/(D37*D48)) -> 0 | E45: =(E31/(E37*E48)) -> 11.685714 | F45: =(F31/(F37*F48)) -> 0 | G45: =(G31/(G37*G48)) -> 9.4834286 | H45: =(H31/(H37*H48)) -> 0 | I45: =(I31/(I37*I48)) -> 9.3954286 | ... M45: =(M31/(M37*M48)) -> 8.8586667 | O45: =(O31/(O37*O48)) -> 0 | P45: =(P31/(P37*P48)) -> 0 | Q45: =(Q31/(Q37*Q48)) -> 4.3142857 | R45: =(R31/(R37*R48)) -> 34.307869 | S45: =(S31/(S37*S48)) -> 34.307869 | T45: =(T31/(T37*T48)) -> 64.074866 | U45: =(U31/(U37*U48)) -> 64.074866 | V45: =(V31/(V37*V48)) -> 91.681131 | ... Z45: =(Z31/(Z37*Z48)) -> 294.28289 | AB45: =(AB31/(AB37*AB48)) -> 126.12124 | AC45: =(AC31/(AC37*AC48)) -> 156.83728 | AD45: =(AD31/(AD37*AD48)) -> 156.83728 | AE45: =(AE31/(AE37*AE48)) -> 187.86196 | AF45: =(AF31/(AF37*AF48)) -> 187.86196 | AG45: =(AG31/(AG37*AG48)) -> 219.1165 | AH45: =(AH31/(AH37*AH48)) -> 219.1165 | AI45: =(AI31/(AI37*AI48)) -> 245.93369 | ... AM45: =(AM31/(AM37*AM48)) -> 643.99002 | AO45: =(AO31/(AO37*AO48)) -> 275.99572 | AP45: =(AP31/(AP37*AP48)) -> 303.68908 | AQ45: =(AQ31/(AQ37*AQ48)) -> 303.68908 | AR45: =(AR31/(AR37*AR48)) -> 333.46845 | AS45: =(AS31/(AS37*AS48)) -> 333.46845 | AT45: =(AT31/(AT37*AT48)) -> 362.90244 | AU45: =(AU31/(AU37*AU48)) -> 362.90244 | AV45: =(AV31/(AV37*AV48)) -> 389.25539 | ... AZ45: =(AZ31/(AZ37*AZ48)) -> 976.07772 | BB45: =(BB31/(BB37*BB48)) -> 418.31902 | BC45: =(BC31/(BC37*BC48)) -> 445.98228 | BD45: =(BD31/(BD37*BD48)) -> 445.98228 | BE45: =(BE31/(BE37*BE48)) -> 472.64523 | BF45: =(BF31/(BF37*BF48)) -> 472.64523 | BG45: =(BG31/(BG37*BG48)) -> 500.96746 | BH45: =(BH31/(BH37*BH48)) -> 500.96746 | BI45: =(BI31/(BI37*BI48)) -> 524.80657 | ... BM45: =(BM31/(BM37*BM48)) -> 1290.0305 | BO45: =(BO31/(BO37*BO48)) -> 552.87021 | BP45: =(BP31/(BP37*BP48)) -> 578.84049 | BQ45: =(BQ31/(BQ37*BQ48)) -> 578.84049 | BR45: =(BR31/(BR37*BR48)) -> 606.56998 | BS45: =(BS31/(BS37*BS48)) -> 606.56998 | BT45: =(BT31/(BT37*BT48)) -> 635.76295 | BU45: =(BU31/(BU37*BU48)) -> 635.76295 | BV45: =(BV31/(BV37*BV48)) -> 659.70115 | ... BZ45: =(BZ31/(BZ37*BZ48)) -> 1612.5699
B47: HEURES TRAVAILLÉES PAR JOUR | O47: HEURES TRAVAILLÉES PAR JOUR | AB47: HEURES TRAVAILLÉES PAR JOUR | AO47: HEURES TRAVAILLÉES PAR JOUR | BB47: HEURES TRAVAILLÉES PAR JOUR | BO47: HEURES TRAVAILLÉES PAR JOUR
...

Sheet Prep2017 
B1: S01 | I1: S02 | P1: S03 | W1: S04 | AD1: S05 | AK1: S06 | AR1: S07 | AY1: S08 | BF1: S09 | BM1: S10 | BT1: S11 | CA1: S12 | CH1: S13 | CO1: S14 | CV1: S15 | DC1: S16 | DJ1: S17 | DQ1: S18 | DX1: S19 | EE1: S20 | EL1: S21 | ES1: S22 | EZ1: S23 | FG1: S24 | FN1: S25 | FU1: S26 | GB1: S27 | GI1: S28 | GP1: S29 | GW1: S30 | HD1: S31 | HK1: S32 | HR1: S33 | HY1: S34 | IF1: S35 | IM1: S36 | IT1: S37 | JA1: S38 | JH1: S39 | JO1: S40 | JV1: S41 | KC1: S42 | KJ1: S43 | KQ1: S44 | KX1: S45 | LE1: S46 | LL1: S47 | LS1: S48 | LZ1: S49 | MG1: S50 | MN1: S51 | MU1: S52
A2: tombée du | B2: lundi | C2: mardi | D2: mercredi | E2: jeudi | F2: vendredi | G2: samedi | I2: lundi | J2: mardi | K2: mercredi | L2: jeudi | M2: vendredi | N2: samedi | P2: lundi | Q2: mardi | R2: mercredi | S2: jeudi | T2: vendredi | U2: samedi | W2: lundi | X2: mardi | Y2: mercredi | Z2: jeudi | AA2: vendredi | AB2: samedi | AD2: lundi | AE2: mardi | AF2: mercredi | AG2: jeudi | AH2: vendredi | AI2: samedi | AK2: lundi | AL2: mardi | AM2: mercredi | AN2: jeudi | AO2: vendredi | AP2: samedi | AR2: lundi | AS2: mardi | AT2: mercredi | AU2: jeudi | AV2: vendredi | AW2: samedi | AY2: lundi | AZ2: mardi | BA2: mercredi | BB2: jeudi | BC2: vendredi | BD2: samedi | BF2: lundi | BG2: mardi | BH2: mercredi | BI2: jeudi | BJ2: vendredi | BK2: samedi | BM2: lundi | BN2: mardi | BO2: mercredi | BP2: jeudi | BQ2: vendredi | BR2: samedi | BT2: lundi | BU2: mardi | BV2: mercredi | BW2: jeudi | BX2: vendredi | BY2: samedi | CA2: lundi | CB2: mardi | CC2: mercredi | CD2: jeudi | CE2: vendredi | CF2: samedi | CH2: lundi | CI2: mardi | CJ2: mercredi | CK2: jeudi | CL2: vendredi | CM2: samedi | CO2: lundi | CP2: mardi | CQ2: mercredi | CR2: jeudi | CS2: vendredi | CT2: samedi | CV2: lundi | CW2: mardi | CX2: mercredi | CY2: jeudi | CZ2: vendredi | DA2: samedi | DC2: lundi | DD2: mardi | DE2: mercredi | DF2: jeudi | DG2: vendredi | DH2: samedi | DJ2: lundi | DK2: mardi | DL2: mercredi | DM2: jeudi | DN2: vendredi | DO2: samedi | DQ2: lundi | DR2: mardi | DS2: mercredi | DT2: jeudi | DU2: vendredi | DV2: samedi | DX2: lundi | DY2: mardi | DZ2: mercredi | EA2: jeudi | EB2: vendredi | EC2: samedi | EE2: lundi | EF2: mardi | EG2: mercredi | EH2: jeudi | EI2: vendredi | EJ2: samedi | EL2: lundi | EM2: mardi | EN2: mercredi | EO2: jeudi | EP2: vendredi | EQ2: samedi | ES2: lundi | ET2: mardi | EU2: mercredi | EV2: jeudi | EW2: vendredi | EX2: samedi | EZ2: lundi | FA2: mardi | FB2: mercredi | FC2: jeudi | FD2: vendredi | FE2: samedi | FG2: lundi | FH2: mardi | FI2: mercredi | FJ2: jeudi | FK2: vendredi | FL2: samedi | FN2: lundi | FO2: mardi | FP2: mercredi | FQ2: jeudi | FR2: vendredi | FS2: samedi | FU2: lundi | FV2: mardi | FW2: mercredi | FX2: jeudi | FY2: vendredi | FZ2: samedi | GB2: lundi | GC2: mardi | GD2: mercredi | GE2: jeudi | GF2: vendredi | GG2: samedi | GI2: lundi | GJ2: mardi | GK2: mercredi | GL2: jeudi | GM2: vendredi | GN2: samedi | GP2: lundi | GQ2: mardi | GR2: mercredi | GS2: jeudi | GT2: vendredi | GU2: samedi | GW2: lundi | GX2: mardi | GY2: mercredi | GZ2: jeudi | HA2: vendredi | HB2: samedi | HD2: lundi | HE2: mardi | HF2: mercredi | HG2: jeudi | HH2: vendredi | HI2: samedi | HK2: lundi | HL2: mardi | HM2: mercredi | HN2: jeudi | HO2: vendredi | HP2: samedi | HR2: lundi | HS2: mardi | HT2: mercredi | HU2: jeudi | HV2: vendredi | HW2: samedi | HY2: lundi | HZ2: mardi | IA2: mercredi | IB2: jeudi | IC2: vendredi | ID2: samedi | IF2: lundi | IG2: mardi | IH2: mercredi | II2: jeudi | IJ2: vendredi | IK2: samedi | IM2: lundi | IN2: mardi | IO2: mercredi | IP2: jeudi | IQ2: vendredi | IR2: samedi | IT2: lundi | IU2: mardi | IV2: mercredi | IW2: jeudi | IX2: vendredi | IY2: samedi | JA2: lundi | JB2: mardi | JC2: mercredi | JD2: jeudi | JE2: vendredi | JF2: samedi | JH2: lundi | JI2: mardi | JJ2: mercredi | JK2: jeudi | JL2: vendredi | JM2: samedi | JO2: lundi | JP2: mardi | JQ2: mercredi | JR2: jeudi | JS2: vendredi | JT2: samedi | JV2: lundi | JW2: mardi | JX2: mercredi | JY2: jeudi | JZ2: vendredi | KA2: samedi | KC2: lundi | KD2: mardi | KE2: mercredi | KF2: jeudi | KG2: vendredi | KH2: samedi | KJ2: lundi | KK2: mardi | KL2: mercredi | KM2: jeudi | KN2: vendredi | KO2: samedi | KQ2: lundi | KR2: mardi | KS2: mercredi | KT2: jeudi | KU2: vendredi | KV2: samedi | KX2: lundi | KY2: mardi | KZ2: mercredi | LA2: jeudi | LB2: vendredi | LC2: samedi | LE2: lundi | LF2: mardi | LG2: mercredi | LH2: jeudi | LI2: vendredi | LJ2: samedi | LL2: lundi | LM2: mardi | LN2: mercredi | LO2: jeudi | LP2: vendredi | LQ2: samedi | LS2: lundi | LT2: mardi | LU2: mercredi | LV2: jeudi | LW2: vendredi | LX2: samedi | LZ2: lundi | MA2: mardi | MB2: mercredi | MC2: jeudi | MD2: vendredi | ME2: samedi | MG2: lundi | MH2: mardi | MI2: mercredi | MJ2: jeudi | MK2: vendredi | ML2: samedi | MN2: lundi | MO2: mardi | MP2: mercredi | MQ2: jeudi | MR2: vendredi | MS2: samedi | MU2: lundi | MV2: mardi | MW2: mercredi | MX2: jeudi | MY2: vendredi | MZ2: samedi
B3: 42737 | C3: 42738 | D3: 42739 | E3: 42740 | F3: 42741 | G3: 42742 | I3: 42744 | J3: 42745 | K3: 42746 | L3: 42747 | M3: 42748 | N3: 42749 | P3: 42751 | Q3: 42752 | R3: 42753 | S3: 42754 | T3: 42755 | U3: 42756 | W3: 42758 | X3: 42759 | Y3: 42760 | Z3: 42761 | AA3: 42762 | AB3: 42763 | AD3: 42765 | AE3: 42766 | AF3: 42767 | AG3: 42768 | AH3: 42769 | AI3: 42770 | AK3: 42772 | AL3: 42773 | AM3: 42774 | AN3: 42775 | AO3: 42776 | AP3: 42777 | AR3: 42779 | AS3: 42780 | AT3: 42781 | AU3: 42782 | AV3: 42783 | AW3: 42784 | AY3: 42786 | AZ3: 42787 | BA3: 42788 | BB3: 42789 | BC3: 42790 | BD3: 42791 | BF3: 42793 | BG3: 42794 | BH3: 42795 | BI3: 42796 | BJ3: 42797 | BK3: 42798 | BM3: 42800 | BN3: 42801 | BO3: 42802 | BP3: 42803 | BQ3: 42804 | BR3: 42805 | BT3: 42807 | BU3: 42808 | BV3: 42809 | BW3: 42810 | BX3: 42811 | BY3: 42812 | CA3: 42814 | CB3: 42815 | CC3: 42816 | CD3: 42817 | CE3: 42818 | CF3: 42819 | CH3: 42821 | CI3: 42822 | CJ3: 42823 | CK3: 42824 | CL3: 42825 | CM3: 42826 | CO3: 42828 | CP3: 42829 | CQ3: 42830 | CR3: 42831 | CS3: 42832 | CT3: 42833 | CV3: 42835 | CW3: 42836 | CX3: 42837 | CY3: 42838 | CZ3: 42839 | DA3: 42840 | DC3: 42842 | DD3: 42843 | DE3: 42844 | DF3: 42845 | DG3: 42846 | DH3: 42847 | DJ3: 42849 | DK3: 42850 | DL3: 42851 | DM3: 42852 | DN3: 42853 | DO3: 42854 | DQ3: 42856 | DR3: 42857 | DS3: 42858 | DT3: 42859 | DU3: 42860 | DV3: 42861 | DX3: 42863 | DY3: 42864 | DZ3: 42865 | EA3: 42866 | EB3: 42867 | EC3: 42868 | EE3: 42870 | EF3: 42871 | EG3: 42872 | EH3: 42873 | EI3: 42874 | EJ3: 42875 | EL3: 42877 | EM3: 42878 | EN3: 42879 | EO3: 42880 | EP3: 42881 | EQ3: 42882 | ES3: 42884 | ET3: 42885 | EU3: 42886 | EV3: 42887 | EW3: 42888 | EX3: 42889 | EZ3: 42891 | FA3: 42892 | FB3: 42893 | FC3: 42894 | FD3: 42895 | FE3: 42896 | FG3: 42898 | FH3: 42899 | FI3: 42900 | FJ3: 42901 | FK3: 42902 | FL3: 42903 | FN3: 42905 | FO3: 42906 | FP3: 42907 | FQ3: 42908 | FR3: 42909 | FS3: 42910 | FU3: 42912 | FV3: 42913 | FW3: 42914 | FX3: 42915 | FY3: 42916 | FZ3: 42917 | GB3: 42919 | GC3: 42920 | GD3: 42921 | GE3: 42922 | GF3: 42923 | GG3: 42924 | GI3: 42926 | GJ3: 42927 | GK3: 42928 | GL3: 42929 | GM3: 42930 | GN3: 42931 | GP3: 42933 | GQ3: 42934 | GR3: 42935 | GS3: 42936 | GT3: 42937 | GU3: 42938 | GW3: 42940 | GX3: 42941 | GY3: 42942 | GZ3: 42943 | HA3: 42944 | HB3: 42945 | HD3: 42947 | HE3: 42948 | HF3: 42949 | HG3: 42950 | HH3: 42951 | HI3: 42952 | HK3: 42954 | HL3: 42955 | HM3: 42956 | HN3: 42957 | HO3: 42958 | HP3: 42959 | HR3: 42961 | HS3: 42962 | HT3: 42963 | HU3: 42964 | HV3: 42965 | HW3: 42966 | HY3: 42968 | HZ3: 42969 | IA3: 42970 | IB3: 42971 | IC3: 42972 | ID3: 42973 | IF3: 42975 | IG3: 42976 | IH3: 42977 | II3: 42978 | IJ3: 42979 | IK3: 42980 | IM3: 42982 | IN3: 42983 | IO3: 42984 | IP3: 42985 | IQ3: 42986 | IR3: 42987 | IT3: 42989 | IU3: 42990 | IV3: 42991 | IW3: 42992 | IX3: 42993 | IY3: 42994 | JA3: 42996 | JB3: 42997 | JC3: 42998 | JD3: 42999 | JE3: 43000 | JF3: 43001 | JH3: 43003 | JI3: 43004 | JJ3: 43005 | JK3: 43006 | JL3: 43007 | JM3: 43008 | JO3: 43010 | JP3: 43011 | JQ3: 43012 | JR3: 43013 | JS3: 43014 | JT3: 43015 | JV3: 43017 | JW3: 43018 | JX3: 43019 | JY3: 43020 | JZ3: 43021 | KA3: 43022 | KC3: 43024 | KD3: 43025 | KE3: 43026 | KF3: 43027 | KG3: 43028 | KH3: 43029 | KJ3: 43031 | KK3: 43032 | KL3: 43033 | KM3: 43034 | KN3: 43035 | KO3: 43036 | KQ3: 43038 | KR3: 43039 | KS3: 43040 | KT3: 43041 | KU3: 43042 | KV3: 43043 | KX3: 43045 | KY3: 43046 | KZ3: 43047 | LA3: 43048 | LB3: 43049 | LC3: 43050 | LE3: 43052 | LF3: 43053 | LG3: 43054 | LH3: 43055 | LI3: 43056 | LJ3: 43057 | LL3: 43059 | LM3: 43060 | LN3: 43061 | LO3: 43062 | LP3: 43063 | LQ3: 43064 | LS3: 43066 | LT3: 43067 | LU3: 43068 | LV3: 43069 | LW3: 43070 | LX3: 43071 | LZ3: 43073 | MA3: 43074 | MB3: 43075 | MC3: 43076 | MD3: 43077 | ME3: 43078 | MG3: 43080 | MH3: 43081 | MI3: 43082 | MJ3: 43083 | MK3: 43084 | ML3: 43085 | MN3: 43087 | MO3: 43088 | MP3: 43089 | MQ3: 43090 | MR3: 43091 | MS3: 43092 | MU3: 43094 | MV3: 43095 | MW3: 43096 | MX3: 43097 | MY3: 43098 | MZ3: 43099
A4: AGN SUIVI | H4: =SUM(B4:G4) -> 0 | O4: =SUM(I4:N4) -> 0 | V4: =SUM(P4:U4) -> 0 | AC4: =SUM(W4:AB4) -> 0 | AJ4: =SUM(AD4:AI4) -> 0 | AQ4: =SUM(AK4:AP4) -> 0 | AX4: =SUM(AR4:AW4) -> 0 | BE4: =SUM(AY4:BD4) -> 0 | BL4: =SUM(BF4:BK4) -> 0 | BS4: =SUM(BM4:BR4) -> 0 | BZ4: =SUM(BT4:BY4) -> 0 | CG4: =SUM(CA4:CF4) -> 0 | CN4: =SUM(CH4:CM4) -> 0 | CS4: 1216 | CT4: 2885 | CU4: =SUM(CO4:CT4) -> 4101 | CV4: 5829 | CW4: 3790 | CX4: 6576 | CY4: 5008 | CZ4: 2021 | DA4: 6020 | DB4: =SUM(CV4:DA4) -> 29244 | DD4: 3009 | DE4: 6207 | DF4: 4982 | DG4: 1049 | DH4: 2548 | DI4: =SUM(DC4:DH4) -> 17795 | DJ4: 5014 | DK4: 3220 | DL4: 5703 | DM4: 4327 | DN4: 1712 | DO4: 5761 | DP4: =SUM(DJ4:DO4) -> 25737 | DR4: 3402 | DS4: 7018 | DT4: 5441 | DU4: 2003 | DV4: 6088 | DW4: =SUM(DQ4:DV4) -> 23952 | DY4: 3400 | DZ4: 6524 | EA4: 5285 | EB4: 1071 | EC4: 2801 | ED4: =SUM(DX4:EC4) -> 19081 | EE4: 5337 | EF4: 3489 | EG4: 5416 | EH4: 4286 | EI4: 1143 | EJ4: 3338 | EK4: =SUM(EE4:EJ4) -> 23009 | EL4: 6273 | EM4: 3959 | EN4: 8002 | EP4: 1252 | EQ4: 3837 | ER4: =SUM(EL4:EQ4) -> 23323 | ES4: 6028 | ET4: 3973 | EU4: 5912 | EV4: 4740 | EW4: 1976 | EX4: 6081 | EY4: =SUM(ES4:EX4) -> 28710 | FA4: 3091 | FB4: 6173 | FC4: 5242 | FD4: 1164 | FE4: 3024 | FF4: =SUM(EZ4:FE4) -> 18694 | FG4: 6017 | FH4: 3774 | FI4: 5772 | FJ4: 4711 | FK4: 1041 | FL4: 2906 | FM4: =SUM(FG4:FL4) -> 24221 | FN4: 5552 | FO4: 3585 | FP4: 6010 | FQ4: 4804 | FR4: 1138 | FS4: 2833 | FT4: =SUM(FN4:FS4) -> 23922 | FU4: 5581 | FV4: 3547 | FW4: 5698 | FX4: 4540 | FY4: 1100 | FZ4: 3441 | GA4: =SUM(FU4:FZ4) -> 23907 | GB4: 6108 | GC4: 4154 | GD4: 6065 | GE4: 5014 | GF4: 1352 | GG4: 4833 | GH4: =SUM(GB4:GG4) -> 27526 | GI4: 6736 | GJ4: 5209 | GK4: 8685 | GL4: 1435 | GN4: 3828 | GO4: =SUM(GI4:GN4) -> 25893 | GP4: 6578 | GQ4: 4179 | GR4: 7408 | GS4: 5141 | GT4: 1290 | GU4: 3594 | GV4: =SUM(GP4:GU4) -> 28190 | GW4: 6227 | GX4: 4013 | GY4: 7218 | GZ4: 5604 | HA4: 923 | HB4: 4088 | HC4: =SUM(GW4:HB4) -> 28073 | HD4: 6368 | HE4: 4850 | HF4: 8742 | HG4: 6019 | HH4: 1234 | HI4: 4394 | HJ4: =SUM(HD4:HI4) -> 31607 | HK4: 6955 | HL4: 5043 | HM4: 8407 | HN4: 6541 | HO4: 1644 | HP4: 7177 | HQ4: =SUM(HK4:HP4) -> 35767 | HR4: 6145 | HT4: 7397 | HU4: 6742 | HV4: 901 | HW4: 4052 | HX4: =SUM(HR4:HW4) -> 25237 | HY4: 6144 | HZ4: 4402 | IA4: =7072-57 -> 7015 | IB4: 5325 | IC4: 980 | ID4: 3331 | IE4: =SUM(HY4:ID4) -> 27197 | IF4: 5533 | IG4: 3709 | IH4: 5889 | II4: 4532 | IJ4: 1030 | IK4: 3322 | IL4: =SUM(IF4:IK4) -> 24015 | IM4: 5498 | IN4: 3519 | IO4: 4986 | IP4: 4352 | IQ4: 956 | IR4: 2707 | IS4: =SUM(IM4:IR4) -> 22018 | IT4: 5170 | IU4: 3021 | IV4: 5496 | IW4: 4292 | IX4: 910 | IY4: 2545 | IZ4: =SUM(IT4:IY4) -> 21434 | JA4: 5128 | JB4: 3013 | JC4: 4976 | JD4: 4271 | JE4: 817 | JF4: 2476 | JG4: =SUM(JA4:JF4) -> 20681 | JH4: 4943 | JI4: 2899 | JJ4: 4675 | JK4: 4173 | JL4: 846 | JM4: 2743 | JN4: =SUM(JH4:JM4) -> 20279 | JO4: 5056 | JP4: 3707 | JQ4: 5201 | JR4: 4176 | JS4: 952 | JT4: 2487 | JU4: =SUM(JO4:JT4) -> 21579 | JV4: 5096 | JW4: 3132 | JX4: 4867 | JY4: 4138 | JZ4: 791 | KA4: 2370 | KB4: =SUM(JV4:KA4) -> 20394 | KC4: 5020 | KD4: 3196 | KE4: 4586 | KF4: 4065 | KG4: 903 | KH4: 2435 | KI4: =SUM(KC4:KH4) -> 20205 | KJ4: 4749 | KK4: 3447 | KL4: 5251 | KM4: 4333 | KN4: 834 | KO4: 3711 | KP4: =SUM(KJ4:KO4) -> 22325 | KQ4: 6253 | KR4: 5551 | KT4: 4927 | KU4: 1093 | KV4: 3006 | KW4: =SUM(KQ4:KV4) -> 20830 | KX4: 6626 | KY4: 3725 | KZ4: 5229 | LA4: 4020 | LD4: =SUM(KX4:LC4) -> 19600 | LK4: =SUM(LE4:LJ4) -> 0 | LR4: =SUM(LL4:LQ4) -> 0 | LY4: =SUM(LS4:LX4) -> 0 | MF4: =SUM(LZ4:ME4) -> 0 | MM4: =SUM(MG4:ML4) -> 0 | MT4: =SUM(MN4:MS4) -> 0 | NA4: =SUM(MU4:MZ4) -> 0
