Workbook
Name alcool2018: 'Prep2017 '!#REF!
Name coefreappro: #REF!
Name coefreappro: #REF!
Name coefstockage: #REF!
Name coefstockage: #REF!
Name coefzur: #REF!
Name DIM: '[1]Feuille 4'!#REF!
Name DIM: '[2]Feuille 4'!#REF!
Name MGS: '[1]Feuille 4'!#REF!
Name MGS: '[2]Feuille 4'!#REF!
Name MOUVEMENTS: '[1]Feuille 4'!#REF!
Name MOUVEMENTS: '[2]Feuille 4'!#REF!
Name MOYDIM: '[1]Feuille 4'!#REF!
Name MOYDIM: '[2]Feuille 4'!#REF!
Name MOYMGS: '[1]Feuille 4'!#REF!
Name MOYMGS: '[2]Feuille 4'!#REF!
Name MOYNET: '[1]Feuille 4'!#REF!
Name MOYNET: '[2]Feuille 4'!#REF!
Name MOYPCS: '[1]Feuille 4'!#REF!
Name MOYPCS: '[2]Feuille 4'!#REF!
Name NBJOURS: '[1]Feuille 4'!#REF!
Name NBJOURS: '[2]Feuille 4'!#REF!
Name NET: '[1]Feuille 4'!#REF!
Name NET: '[2]Feuille 4'!#REF!
Name PCS: '[1]Feuille 4'!#REF!
Name PCS: '[2]Feuille 4'!#REF!
Name realise2017: 'Prep2017 '!$A$1:$NA$15
Name realise2017AGN: 'Prep2017 '!$A$4:$NA$4
Name realise2017MGS: 'Prep2017 '!$A$12:$NA$12
Name realsie2017NETTO: 'Prep2017 '!$A$8:$NA$8
Name REPART: [3]Data!$B$6:$D$11
Name S01PIL: PIL_PREP2018!$O$1:$Z$17
Name s01realise: 'Prep2017 '!$B$1:$G$15
Name s02realise: 'Prep2017 '!$I$1:$N$15
Name total: '[1]Feuille 4'!#REF!
Name total: '[2]Feuille 4'!#REF!

Sheet PIL_PREP2018
B1: SEMAINE 52 | O1: S01 | AB1: S02 | AO1: S03 | BB1: S04 | BO1: S05
B2: LUNDI | D2: MARDI | F2: MERCREDI | H2: JEUDI | J2: VENDREDI | L2: SAMEDI | O2: LUNDI | Q2: MARDI | S2: MERCREDI | U2: JEUDI | W2: VENDREDI | Y2: SAMEDI | AB2: LUNDI | AD2: MARDI | AF2: MERCREDI | AH2: JEUDI | AJ2: VENDREDI | AL2: SAMEDI | AO2: LUNDI | AQ2: MARDI | AS2: MERCREDI | AU2: JEUDI | AW2: VENDREDI | AY2: SAMEDI | BB2: LUNDI | BD2: MARDI | BF2: MERCREDI | BH2: JEUDI | BJ2: VENDREDI | BL2: SAMEDI | BO2: LUNDI | BQ2: MARDI | BS2: MERCREDI | BU2: JEUDI | BW2: VENDREDI | BY2: SAMEDI
B3: 43094 | D3: 43095 | F3: 43096 | H3: 43097 | J3: 43098 | L3: 43099 | O3: 43101 | Q3: 43102 | S3: 43103 | U3: 43104 | W3: 43105 | Y3: 43106 | AB3: 43108 | AD3: 43109 | AF3: 43110 | AH3: 43111 | AJ3: 43112 | AL3: 43113 | AO3: 43115 | AQ3: 43116 | AS3: 43117 | AU3: 43118 | AW3: 43119 | AY3: 43120 | BB3: 43122 | BD3: 43123 | BF3: 43124 | BH3: 43125 | BJ3: 43126 | BL3: 43127 | BO3: 43129 | BQ3: 43130 | BS3: 43131 | BU3: 43132 | BW3: 43133 | BY3: 43134
B4: MATIN | C4: APRMIDI | D4: MATIN | E4: APRMIDI | F4: MATIN | G4: APRMIDI | H4: MATIN | I4: APRMIDI | J4: MATIN | K4: APRMIDI | L4: MATIN | M4: APRMIDI | O4: MATIN | P4: APRMIDI | Q4: MATIN | R4: APRMIDI | S4: MATIN | T4: APRMIDI | U4: MATIN | V4: APRMIDI | W4: MATIN | X4: APRMIDI | Y4: MATIN | Z4: APRMIDI | AB4: MATIN | AC4: APRMIDI | AD4: MATIN | AE4: APRMIDI | AF4: MATIN | AG4: APRMIDI | AH4: MATIN | AI4: APRMIDI | AJ4: MATIN | AK4: APRMIDI | AL4: MATIN | AM4: APRMIDI | AO4: MATIN | AP4: APRMIDI | AQ4: MATIN | AR4: APRMIDI | AS4: MATIN | AT4: APRMIDI | AU4: MATIN | AV4: APRMIDI | AW4: MATIN | AX4: APRMIDI | AY4: MATIN | AZ4: APRMIDI | BB4: MATIN | BC4: APRMIDI | BD4: MATIN | BE4: APRMIDI | BF4: MATIN | BG4: APRMIDI | BH4: MATIN | BI4: APRMIDI | BJ4: MATIN | BK4: APRMIDI | BL4: MATIN | BM4: APRMIDI | BO4: MATIN | BP4: APRMIDI | BQ4: MATIN | BR4: APRMIDI | BS4: MATIN | BT4: APRMIDI | BU4: MATIN | BV4: APRMIDI | BW4: MATIN | BX4: APRMIDI | BY4: MATIN | BZ4: APRMIDI
B5: PRÉVISIONS TOMBÉE | O5: PRÉVISIONS TOMBÉE | AB5: PRÉVISIONS TOMBÉE | AO5: PRÉVISIONS TOMBÉE | BB5: PRÉVISIONS TOMBÉE | BO5: PRÉVISIONS TOMBÉE
A6: Transfert (EIT, Portugal,…)
A7: AGN | D7: 3267 | F7: 6739 | H7: 5225 | J7: 7769
A8: AGN promo
A9: AGN total | B9: =B7+B8 -> 0 | D9: =D7+D8 -> 3267 | F9: =F7+F8 -> 6739 | H9: =H7+H8 -> 5225 | J9: =J7+J8 -> 7769 | L9: =L7+L8 -> 0 | O9: =O7+O8 -> 0 | Q9: =Q7+Q8 -> 0 | S9: =S7+S8 -> 0 | U9: =U7+U8 -> 0 | W9: =W7+W8 -> 0 | Y9: =Y7+Y8 -> 0 | AB9: =AB7+AB8 -> 0 | AD9: =AD7+AD8 -> 0 | AF9: =AF7+AF8 -> 0 | AH9: =AH7+AH8 -> 0 | AJ9: =AJ7+AJ8 -> 0 | AL9: =AL7+AL8 -> 0 | AO9: =AO7+AO8 -> 0 | AQ9: =AQ7+AQ8 -> 0 | AS9: =AS7+AS8 -> 0 | AU9: =AU7+AU8 -> 0 | AW9: =AW7+AW8 -> 0 | AY9: =AY7+AY8 -> 0 | BB9: =BB7+BB8 -> 0 | BD9: =BD7+BD8 -> 0 | BF9: =BF7+BF8 -> 0 | BH9: =BH7+BH8 -> 0 | BJ9: =BJ7+BJ8 -> 0 | BL9: =BL7+BL8 -> 0 | BO9: =BO7+BO8 -> 0 | BQ9: =BQ7+BQ8 -> 0 | BS9: =BS7+BS8 -> 0 | BU9: =BU7+BU8 -> 0 | BW9: =BW7+BW8 -> 0 | BY9: =BY7+BY8 -> 0
A10: Net | D10: 9145 | F10: 11583 | H10: 3306 | J10: 8832 | L10: 10401 | Q10: =INDEX(realise2017,8,3) -> 14539 | S10: =INDEX(realise2017,8,4) -> 13065 | U10: =INDEX(realise2017,8,5) -> 5705 | W10: =INDEX(realise2017,8,6) -> 10706 | Y10: =INDEX(realise2017,8,7) -> 12783 | AB10: =HLOOKUP(AB1,realise2017,8,0) -> 10047 | AD10: ='Prep2017 '!$O$8*'Prep2017 '!J9 -> 16949 | AF10: ='Prep2017 '!$O$8*'Prep2017 '!K9 -> 14285 | AH10: ='Prep2017 '!$O$8*'Prep2017 '!L9 -> 4402 | AJ10: ='Prep2017 '!$O$8*'Prep2017 '!M9 -> 9210 | AL10: ='Prep2017 '!$O$8*'Prep2017 '!N9 -> 10818 | AO10: ='Prep2017 '!$V$8*'Prep2017 '!P9 -> 7610 | AQ10: ='Prep2017 '!$V$8*'Prep2017 '!Q9 -> 14696 | AS10: ='Prep2017 '!$V$8*'Prep2017 '!R9 -> 13340 | AU10: ='Prep2017 '!$V$8*'Prep2017 '!S9 -> 4217 | AW10: ='Prep2017 '!$V$8*'Prep2017 '!T9 -> 7428 | AY10: ='Prep2017 '!$V$8*'Prep2017 '!U9 -> 9246 | BB10: ='Prep2017 '!$AC$8*'Prep2017 '!W9 -> 7048 | BD10: ='Prep2017 '!$AC$8*'Prep2017 '!X9 -> 13747 | BF10: ='Prep2017 '!$AC$8*'Prep2017 '!Y9 -> 11843 | BH10: ='Prep2017 '!$AC$8*'Prep2017 '!Z9 -> 4077 | BJ10: ='Prep2017 '!$AC$8*'Prep2017 '!AA9 -> 9132 | BL10: ='Prep2017 '!$AC$8*'Prep2017 '!AB9 -> 10568 | BO10: ='Prep2017 '!$AJ$8*'Prep2017 '!AD9 -> 8107 | BQ10: ='Prep2017 '!$AJ$8*'Prep2017 '!AE9 -> 14148 | BS10: ='Prep2017 '!$AJ$8*'Prep2017 '!AF9 -> 12117 | BU10: ='Prep2017 '!$AJ$8*'Prep2017 '!AG9 -> 5516 | BW10: ='Prep2017 '!$AJ$8*'Prep2017 '!AH9 -> 11033 | BY10: ='Prep2017 '!$AJ$8*'Prep2017 '!AI9 -> 11848
A11: Net promo
A12: Net total | B12: =B10+B11 -> 0 | D12: =D10+D11 -> 9145 | F12: =F10+F11 -> 11583 | H12: =H10+H11 -> 3306 | J12: =J10+J11 -> 8832 | L12: =L10+L11 -> 10401 | O12: =O10+O11 -> 0 | Q12: =Q10+Q11 -> 14539 | S12: =S10+S11 -> 13065 | U12: =U10+U11 -> 5705 | W12: =W10+W11 -> 10706 | Y12: =Y10+Y11 -> 12783 | AB12: =AB10+AB11 -> 10047 | AD12: =AD10+AD11 -> 16949 | AF12: =AF10+AF11 -> 14285 | AH12: =AH10+AH11 -> 4402 | AJ12: =AJ10+AJ11 -> 9210 | AL12: =AL10+AL11 -> 10818 | AO12: =AO10+AO11 -> 7610 | AQ12: =AQ10+AQ11 -> 14696 | AS12: =AS10+AS11 -> 13340 | AU12: =AU10+AU11 -> 4217 | AW12: =AW10+AW11 -> 7428 | AY12: =AY10+AY11 -> 9246 | BB12: =BB10+BB11 -> 7048 | BD12: =BD10+BD11 -> 13747 | BF12: =BF10+BF11 -> 11843 | BH12: =BH10+BH11 -> 4077 | BJ12: =BJ10+BJ11 -> 9132 | BL12: =BL10+BL11 -> 10568 | BO12: =BO10+BO11 -> 8107 | BQ12: =BQ10+BQ11 -> 14148 | BS12: =BS10+BS11 -> 12117 | BU12: =BU10+BU11 -> 5516 | BW12: =BW10+BW11 -> 11033 | BY12: =BY10+BY11 -> 11848
A13: MGS | D13: 10225 | F13: 8298 | H13: 8221 | J13: 14898 | L13: 3322 | Q13: =INDEX(realise2017,12,3) -> 16365 | S13: =INDEX(realise2017,12,4) -> 13513 | U13: =INDEX(realise2017,12,5) -> 12803 | W13: =INDEX(realise2017,12,6) -> 13200 | Y13: =INDEX(realise2017,12,7) -> 2700 | AB13: ='Prep2017 '!$O$12*'Prep2017 '!I13 -> 15380 | AD13: ='Prep2017 '!$O$12*'Prep2017 '!J13 -> 17388 | AF13: ='Prep2017 '!$O$12*'Prep2017 '!K13 -> 13099 | AH13: ='Prep2017 '!$O$12*'Prep2017 '!L13 -> 11406 | AJ13: ='Prep2017 '!$O$12*'Prep2017 '!M13 -> 12068 | AL13: ='Prep2017 '!$O$12*'Prep2017 '!N13 -> 2272 | AO13: ='Prep2017 '!$V$12*'Prep2017 '!P13 -> 14324 | AQ13: ='Prep2017 '!$V$12*'Prep2017 '!Q13 -> 18006 | AS13: ='Prep2017 '!$V$12*'Prep2017 '!R13 -> 13155 | AU13: ='Prep2017 '!$V$12*'Prep2017 '!S13 -> 11660 | AW13: ='Prep2017 '!$V$12*'Prep2017 '!T13 -> 12567 | AY13: ='Prep2017 '!$V$12*'Prep2017 '!U13 -> 2277 | BB13: ='Prep2017 '!$AC$12*'Prep2017 '!W13 -> 15318 | BD13: ='Prep2017 '!$AC$12*'Prep2017 '!X13 -> 15970 | BF13: ='Prep2017 '!$AC$12*'Prep2017 '!Y13 -> 12913 | BH13: ='Prep2017 '!$AC$12*'Prep2017 '!Z13 -> 10693 | BJ13: ='Prep2017 '!$AC$12*'Prep2017 '!AA13 -> 10792 | BL13: ='Prep2017 '!$AC$12*'Prep2017 '!AB13 -> 2270 | BO13: ='Prep2017 '!$AJ$12*'Prep2017 '!AD13 -> 13159 | BQ13: ='Prep2017 '!$AJ$12*'Prep2017 '!AE13 -> 16106 | BS13: ='Prep2017 '!$AJ$12*'Prep2017 '!AF13 -> 13324 | BU13: ='Prep2017 '!$AJ$12*'Prep2017 '!AG13 -> 10592 | BW13: ='Prep2017 '!$AJ$12*'Prep2017 '!AH13 -> 11257 | BY13: ='Prep2017 '!$AJ$12*'Prep2017 '!AI13 -> 2213
A14: MG promo différée
A15: MG promo immédiat
A16: MG total | B16: =B13+B14 -> 0 | D16: =D13+D14 -> 10225 | F16: =F13+F14 -> 8298 | H16: =H13+H14 -> 8221 | J16: =J13+J14 -> 14898 | L16: =L13+L14 -> 3322 | O16: =O13+O14 -> 0 | Q16: =Q13+Q14 -> 16365 | S16: =S13+S14 -> 13513 | U16: =U13+U14 -> 12803 | W16: =W13+W14 -> 13200 | Y16: =Y13+Y14 -> 2700 | AB16: =AB13+AB14 -> 15380 | AD16: =AD13+AD14 -> 17388 | AF16: =AF13+AF14 -> 13099 | AH16: =AH13+AH14 -> 11406 | AJ16: =AJ13+AJ14 -> 12068 | AL16: =AL13+AL14 -> 2272 | AO16: =AO13+AO14 -> 14324 | AQ16: =AQ13+AQ14 -> 18006 | AS16: =AS13+AS14 -> 13155 | AU16: =AU13+AU14 -> 11660 | AW16: =AW13+AW14 -> 12567 | AY16: =AY13+AY14 -> 2277 | BB16: =BB13+BB14 -> 15318 | BD16: =BD13+BD14 -> 15970 | BF16: =BF13+BF14 -> 12913 | BH16: =BH13+BH14 -> 10693 | BJ16: =BJ13+BJ14 -> 10792 | BL16: =BL13+BL14 -> 2270 | BO16: =BO13+BO14 -> 13159 | BQ16: =BQ13+BQ14 -> 16106 | BS16: =BS13+BS14 -> 13324 | BU16: =BU13+BU14 -> 10592 | BW16: =BW13+BW14 -> 11257 | BY16: =BY13+BY14 -> 2213
A17: DONT MG BRESSOLS
B19: ÉCARTS RÉELS | O19: ÉCARTS RÉELS | AB19: ÉCARTS RÉELS | AO19: ÉCARTS RÉELS | BB19: ÉCARTS RÉELS | BO19: ÉCARTS RÉELS
A20: BESOIN REEL EqTP | B20: =B42+B43+B44+B45 -> 0 | C20: =C42+C43+C44+C45 -> 0 | D20: =D42+D43+D44+D45 -> 0 | E20: =E42+E43+E44+E45 -> 15.019388 | F20: =F42+F43+F44+F45 -> 7.6848739 | G20: =G42+G43+G44+G45 -> 16.359959 | H20: =H42+H43+H44+H45 -> 9.7336134 | I20: =I42+I43+I44+I45 -> 14.727061 | ... M20: =M42+M43+M44+M45 -> 8.8586667 | O20: =O42+O43+O44+O45 -> 0 | P20: =P42+P43+P44+P45 -> 0 | Q20: =Q42+Q43+Q44+Q45 -> 13.054622 | R20: =R42+R43+R44+R45 -> 34.307869 | S20: =S42+S43+S44+S45 -> 46.525516 | T20: =T42+T43+T44+T45 -> 64.074866 | U20: =U42+U43+U44+U45 -> 75.053858 | V20: =V42+V43+V44+V45 -> 91.681131 | ... Z20: =Z42+Z43+Z44+Z45 -> 294.28289 | AB20: =AB42+AB43+AB44+AB45 -> 136.86325 | AC20: =AC42+AC43+AC44+AC45 -> 156.83728 | AD20: =AD42+AD43+AD44+AD45 -> 165.28014 | AE20: =AE42+AE43+AE44+AE45 -> 187.86196 | AF20: =AF42+AF43+AF44+AF45 -> 202.10481 | AG20: =AG42+AG43+AG44+AG45 -> 219.1165 | AH20: =AH42+AH43+AH44+AH45 -> 231.1207 | AI20: =AI42+AI43+AI44+AI45 -> 245.93369 | ... AM20: =AM42+AM43+AM44+AM45 -> 643.99002 | AO20: =AO42+AO43+AO44+AO45 -> 285.08648 | AP20: =AP42+AP43+AP44+AP45 -> 303.68908 | AQ20: =AQ42+AQ43+AQ44+AQ45 -> 310.08403 | AR20: =AR42+AR43+AR44+AR45 -> 333.46845 | AS20: =AS42+AS43+AS44+AS45 -> 345.81803 | AT20: =AT42+AT43+AT44+AT45 -> 362.90244 | AU20: =AU42+AU43+AU44+AU45 -> 374.11253 | AV20: =AV42+AV43+AV44+AV45 -> 389.25539 | ... AZ20: =AZ42+AZ43+AZ44+AZ45 -> 976.07772 | BB20: =BB42+BB43+BB44+BB45 -> 426.08877 | BC20: =BC42+BC43+BC44+BC45 -> 445.98228 | BD20: =BD42+BD43+BD44+BD45 -> 451.90497 | BE20: =BE42+BE43+BE44+BE45 -> 472.64523 | BF20: =BF42+BF43+BF44+BF45 -> 484.19733 | BG20: =BG42+BG43+BG44+BG45 -> 500.96746 | BH20: =BH42+BH43+BH44+BH45 -> 510.91956 | BI20: =BI42+BI43+BI44+BI45 -> 524.80657 | ... BM20: =BM42+BM43+BM44+BM45 -> 1290.0305 | BO20: =BO42+BO43+BO44+BO45 -> 561.75088 | BP20: =BP42+BP43+BP44+BP45 -> 578.84049 | BQ20: =BQ42+BQ43+BQ44+BQ45 -> 585.65309 | BR20: =BR42+BR43+BR44+BR45 -> 606.56998 | BS20: =BS42+BS43+BS44+BS45 -> 618.45905 | BT20: =BT42+BT43+BT44+BT45 -> 635.76295 | BU20: =BU42+BU43+BU44+BU45 -> 645.9453 | BV20: =BV42+BV43+BV44+BV45 -> 659.70115 | ... BZ20: =BZ42+BZ43+BZ44+BZ45 -> 1612.5699
A21: PLANNING EqTP | B21: =[4]Synthèse!$NB$22 -> 0 | C21: =[4]Synthèse!$NB$81 -> 0 | D21: =[4]Synthèse!$NC$22 -> 11 | E21: =[4]Synthèse!$NC$81 -> 21 | F21: =[4]Synthèse!$ND$22 -> 12 | G21: =[4]Synthèse!$ND$81 -> 20 | H21: =[4]Synthèse!$NE$22 -> 12 | I21: =[4]Synthèse!$NE$81 -> 21 | J21: =[4]Synthèse!$NF$22 -> 7 | K21: =[4]Synthèse!$NF$81 -> 29 | L21: =[4]Synthèse!$NG$22 -> 14 | M21: =[4]Synthèse!$NG$81 -> 0 | O21: =[5]Synthèse!$I$22 -> 0 | P21: =[5]Synthèse!$I$81 -> 0 | Q21: =[5]Synthèse!$J$22 -> 0 | R21: =[5]Synthèse!$J$81 -> 0 | S21: =[5]Synthèse!$K$22 -> 0 | T21: =[5]Synthèse!$K$81 -> 0 | U21: =[5]Synthèse!$L$22 -> 0 | V21: =[5]Synthèse!$L$81 -> 0 | W21: =[5]Synthèse!$M$22 -> 0 | X21: =[5]Synthèse!$M$81 -> 0 | Y21: =[5]Synthèse!$N$22 -> 0 | Z21: =[5]Synthèse!$N$81 -> 0 | AB21: =[5]Synthèse!$P$22 -> 0 | AC21: =[5]Synthèse!$P$81 -> 0 | AD21: =[5]Synthèse!$Q$22 -> 0 | AE21: =[5]Synthèse!$Q$81 -> 0 | AF21: =[5]Synthèse!$R$22 -> 0 | AG21: =[5]Synthèse!$R$81 -> 0 | AH21: =[5]Synthèse!$S$22 -> 0 | AI21: =[5]Synthèse!$S$81 -> 0 | AJ21: =[5]Synthèse!$T$22 -> 0 | AK21: =[5]Synthèse!$T$81 -> 0 | AL21: =[5]Synthèse!$U$22 -> 0 | AM21: =[5]Synthèse!$U$81 -> 0 | AO21: =[5]Synthèse!$W$22 -> 0 | AP21: =[5]Synthèse!$W$81 -> 0 | AQ21: =[5]Synthèse!$X$22 -> 0 | AR21: =[5]Synthèse!$X$81 -> 0 | AS21: =[5]Synthèse!$Y$22 -> 0 | AT21: =[5]Synthèse!$Y$81 -> 0 | AU21: =[5]Synthèse!$Z$22 -> 0 | AV21: =[5]Synthèse!$Z$81 -> 0 | AW21: =[5]Synthèse!$AA$22 -> 0 | AX21: =[5]Synthèse!$AA$81 -> 0 | AY21: =[5]Synthèse!$AB$22 -> 0 | AZ21: =[5]Synthèse!$AB$81 -> 0 | BB21: =[5]Synthèse!$AD$22 -> 0 | BC21: =[5]Synthèse!$AD$81 -> 0 | BD21: =[5]Synthèse!$AE$22 -> 0 | BE21: =[5]Synthèse!$AE$81 -> 0 | BF21: =[5]Synthèse!$AF$22 -> 0 | BG21: =[5]Synthèse!$AF$81 -> 0 | BH21: =[5]Synthèse!$AG$22 -> 0 | BI21: =[5]Synthèse!$AG$81 -> 0 | BJ21: =[5]Synthèse!$AH$22 -> 0 | BK21: =[5]Synthèse!$AH$81 -> 0 | BL21: =[5]Synthèse!$AI$22 -> 0 | BM21: =[5]Synthèse!$AI$81 -> 0 | BO21: =[5]Synthèse!$AK$22 -> 0 | BP21: =[5]Synthèse!$AK$81 -> 0 | BQ21: =[5]Synthèse!$AL$22 -> 0 | BR21: =[5]Synthèse!$AL$81 -> 0 | BS21: =[5]Synthèse!$AM$22 -> 0 | BT21: =[5]Synthèse!$AM$81 -> 0 | BU21: =[5]Synthèse!$AN$22 -> 0 | BV21: =[5]Synthèse!$AN$81 -> 0 | BW21: =[5]Synthèse!$AO$22 -> 0 | BX21: =[5]Synthèse!$AO$81 -> 0 | BY21: =[5]Synthèse!$AP$22 -> 0 | BZ21: =[5]Synthèse!$AP$81 -> 0
A22: DELTA REEL EqTP | B22: =B21-B20 -> 0 | C22: =C21-C20 -> 0 | D22: =D21-D20 -> 11 | E22: =E21-E20 -> 5.9806122 | F22: =F21-F20 -> 4.3151261 | G22: =G21-G20 -> 3.6400408 | H22: =H21-H20 -> 2.2663866 | I22: =I21-I20 -> 6.2729388 | ... M22: =M21-M20 -> -8.8586667 | O22: =O21-O20 -> 0 | P22: =P21-P20 -> 0 | Q22: =Q21-Q20 -> -13.054622 | R22: =R21-R20 -> -34.307869 | S22: =S21-S20 -> -46.525516 | T22: =T21-T20 -> -64.074866 | U22: =U21-U20 -> -75.053858 | V22: =V21-V20 -> -91.681131 | ... Z22: =Z21-Z20 -> -294.28289 | AB22: =AB21-AB20 -> -136.86325 | AC22: =AC21-AC20 -> -156.83728 | AD22: =AD21-AD20 -> -165.28014 | AE22: =AE21-AE20 -> -187.86196 | AF22: =AF21-AF20 -> -202.10481 | AG22: =AG21-AG20 -> -219.1165 | AH22: =AH21-AH20 -> -231.1207 | AI22: =AI21-AI20 -> -245.93369 | ... AM22: =AM21-AM20 -> -643.99002 | AO22: =AO21-AO20 -> -285.08648 | AP22: =AP21-AP20 -> -303.68908 | AQ22: =AQ21-AQ20 -> -310.08403 | AR22: =AR21-AR20 -> -333.46845 | AS22: =AS21-AS20 -> -345.81803 | AT22: =AT21-AT20 -> -362.90244 | AU22: =AU21-AU20 -> -374.11253 | AV22: =AV21-AV20 -> -389.25539 | ... AZ22: =AZ21-AZ20 -> -976.07772 | BB22: =BB21-BB20 -> -426.08877 | BC22: =BC21-BC20 -> -445.98228 | BD22: =BD21-BD20 -> -451.90497 | BE22: =BE21-BE20 -> -472.64523 | BF22: =BF21-BF20 -> -484.19733 | BG22: =BG21-BG20 -> -500.96746 | BH22: =BH21-BH20 -> -510.91956 | BI22: =BI21-BI20 -> -524.80657 | ... BM22: =BM21-BM20 -> -1290.0305 | BO22: =BO21-BO20 -> -561.75088 | BP22: =BP21-BP20 -> -578.84049 | BQ22: =BQ21-BQ20 -> -585.65309 | BR22: =BR21-BR20 -> -606.56998 | BS22: =BS21-BS20 -> -618.45905 | BT22: =BT21-BT20 -> -635.76295 | BU22: =BU21-BU20 -> -645.9453 | BV22: =BV21-BV20 -> -659.70115 | ... BZ22: =BZ21-BZ20 -> -1612.5699
A23: DELTA REEL Colis MG | B23: =IF((-B22*B48*B37)<0,0,(-B22*B48*B37)) -> 0 | C23: =IF((-C22*C48*C37)<0,0,(-C22*C48*C37)) -> 0 | D23: =IF((-D22*D48*D37)<0,0,(-D22*D48*D37)) -> 0 | E23: =IF((-E22*E48*E37)<0,0,(-E22*E48*E37)) -> 0 | F23: =IF((-F22*F48*F37)<0,0,(-F22*F48*F37)) -> 0 | G23: =IF((-G22*G48*G37)<0,0,(-G22*G48*G37)) -> 0 | H23: =IF((-H22*H48*H37)<0,0,(-H22*H48*H37)) -> 0 | I23: =IF((-I22*I48*I37)<0,0,(-I22*I48*I37)) -> 0 | ... M23: =IF((-M22*M48*M37)<0,0,(-M22*M48*M37)) -> 3322 | O23: =IF((-O22*O48*O37)<0,0,(-O22*O48*O37)) -> 0 | P23: =IF((-P22*P48*P37)<0,0,(-P22*P48*P37)) -> 0 | Q23: =IF((-Q22*Q48*Q37)<0,0,(-Q22*Q48*Q37)) -> 10052.059 | R23: =IF((-R22*R48*R37)<0,0,(-R22*R48*R37)) -> 26417.059 | S23: =IF((-S22*S48*S37)<0,0,(-S22*S48*S37)) -> 35824.647 | T23: =IF((-T22*T48*T37)<0,0,(-T22*T48*T37)) -> 49337.647 | U23: =IF((-U22*U48*U37)<0,0,(-U22*U48*U37)) -> 57791.471 | V23: =IF((-V22*V48*V37)<0,0,(-V22*V48*V37)) -> 70594.471 | ... Z23: =IF((-Z22*Z48*Z37)<0,0,(-Z22*Z48*Z37)) -> 97113.353 | AB23: =IF((-AB22*AB48*AB37)<0,0,(-AB22*AB48*AB37)) -> 105384.71 | AC23: =IF((-AC22*AC48*AC37)<0,0,(-AC22*AC48*AC37)) -> 120764.71 | AD23: =IF((-AD22*AD48*AD37)<0,0,(-AD22*AD48*AD37)) -> 127265.71 | AE23: =IF((-AE22*AE48*AE37)<0,0,(-AE22*AE48*AE37)) -> 144653.71 | AF23: =IF((-AF22*AF48*AF37)<0,0,(-AF22*AF48*AF37)) -> 155620.71 | AG23: =IF((-AG22*AG48*AG37)<0,0,(-AG22*AG48*AG37)) -> 168719.71 | AH23: =IF((-AH22*AH48*AH37)<0,0,(-AH22*AH48*AH37)) -> 177962.94 | AI23: =IF((-AI22*AI48*AI37)<0,0,(-AI22*AI48*AI37)) -> 189368.94 | ... AM23: =IF((-AM22*AM48*AM37)<0,0,(-AM22*AM48*AM37)) -> 212516.71 | AO23: =IF((-AO22*AO48*AO37)<0,0,(-AO22*AO48*AO37)) -> 219516.59 | AP23: =IF((-AP22*AP48*AP37)<0,0,(-AP22*AP48*AP37)) -> 233840.59 | AQ23: =IF((-AQ22*AQ48*AQ37)<0,0,(-AQ22*AQ48*AQ37)) -> 238764.71 | AR23: =IF((-AR22*AR48*AR37)<0,0,(-AR22*AR48*AR37)) -> 256770.71 | AS23: =IF((-AS22*AS48*AS37)<0,0,(-AS22*AS48*AS37)) -> 266279.88 | AT23: =IF((-AT22*AT48*AT37)<0,0,(-AT22*AT48*AT37)) -> 279434.88 | AU23: =IF((-AU22*AU48*AU37)<0,0,(-AU22*AU48*AU37)) -> 288066.65 | AV23: =IF((-AV22*AV48*AV37)<0,0,(-AV22*AV48*AV37)) -> 299726.65 | ... AZ23: =IF((-AZ22*AZ48*AZ37)<0,0,(-AZ22*AZ48*AZ37)) -> 322105.65 | BB23: =IF((-BB22*BB48*BB37)<0,0,(-BB22*BB48*BB37)) -> 328088.35 | BC23: =IF((-BC22*BC48*BC37)<0,0,(-BC22*BC48*BC37)) -> 343406.35 | BD23: =IF((-BD22*BD48*BD37)<0,0,(-BD22*BD48*BD37)) -> 347966.82 | BE23: =IF((-BE22*BE48*BE37)<0,0,(-BE22*BE48*BE37)) -> 363936.82 | BF23: =IF((-BF22*BF48*BF37)<0,0,(-BF22*BF48*BF37)) -> 372831.94 | BG23: =IF((-BG22*BG48*BG37)<0,0,(-BG22*BG48*BG37)) -> 385744.94 | BH23: =IF((-BH22*BH48*BH37)<0,0,(-BH22*BH48*BH37)) -> 393408.06 | BI23: =IF((-BI22*BI48*BI37)<0,0,(-BI22*BI48*BI37)) -> 404101.06 | ... BM23: =IF((-BM22*BM48*BM37)<0,0,(-BM22*BM48*BM37)) -> 425710.06 | BO23: =IF((-BO22*BO48*BO37)<0,0,(-BO22*BO48*BO37)) -> 432548.18 | BP23: =IF((-BP22*BP48*BP37)<0,0,(-BP22*BP48*BP37)) -> 445707.18 | BQ23: =IF((-BQ22*BQ48*BQ37)<0,0,(-BQ22*BQ48*BQ37)) -> 450952.88 | BR23: =IF((-BR22*BR48*BR37)<0,0,(-BR22*BR48*BR37)) -> 467058.88 | BS23: =IF((-BS22*BS48*BS37)<0,0,(-BS22*BS48*BS37)) -> 476213.47 | BT23: =IF((-BT22*BT48*BT37)<0,0,(-BT22*BT48*BT37)) -> 489537.47 | BU23: =IF((-BU22*BU48*BU37)<0,0,(-BU22*BU48*BU37)) -> 497377.88 | BV23: =IF((-BV22*BV48*BV37)<0,0,(-BV22*BV48*BV37)) -> 507969.88 | ... BZ23: =IF((-BZ22*BZ48*BZ37)<0,0,(-BZ22*BZ48*BZ37)) -> 532148.06
B25: PILOTAGE LONG TERME | O25: PILOTAGE | AB25: PILOTAGE | AO25: PILOTAGE | BB25: PILOTAGE | BO25: PILOTAGE
B27: RÉPARTITION DE L'ACTIVITÉ | O27: RÉPARTITION DE L'ACTIVITÉ | AB27: RÉPARTITION DE L'ACTIVITÉ | AO27: RÉPARTITION DE L'ACTIVITÉ | BB27: RÉPARTITION DE L'ACTIVITÉ | BO27: RÉPARTITION DE L'ACTIVITÉ
A28: Transfert (EIT, Portugal,…) | D28: 0 | E28: =D6 -> 0 | F28: =E51 -> 0 | G28: =F6 -> 0 | H28: =G51 -> 0 | I28: =H6 -> 0 | J28: =I51 -> 0 | K28: =J6 -> 0 | L28: =K51 -> 0 | M28: =L51 -> 0 | Q28: 0 | R28: =Q6 -> 0 | S28: 0 | T28: =S6 -> 0 | U28: 0 | V28: =U6 -> 0 | W28: 0 | X28: =W6 -> 0 | Y28: 0 | Z28: =Y51 -> 0 | AB28: 0 | AC28: =AB6 -> 0 | AD28: 0 | AE28: =AD6 -> 0 | AF28: 0 | AG28: =AF6 -> 0 | AH28: 0 | AI28: =AH6 -> 0 | AJ28: 0 | AK28: =AJ6 -> 0 | AL28: 0 | AM28: =AL51 -> 0 | AO28: 0 | AP28: =AO6 -> 0 | AQ28: 0 | AR28: =AQ6 -> 0 | AS28: 0 | AT28: =AS6 -> 0 | AU28: 0 | AV28: =AU6 -> 0 | AW28: 0 | AX28: =AW6 -> 0 | AY28: 0 | AZ28: =AY51 -> 0 | BB28: 0 | BC28: =BB6 -> 0 | BD28: 0 | BE28: =BD6 -> 0 | BF28: 0 | BG28: =BF6 -> 0 | BH28: 0 | BI28: =BH6 -> 0 | BJ28: 0 | BK28: =BJ6 -> 0 | BL28: 0 | BM28: =BL51 -> 0 | BO28: 0 | BP28: =BO6 -> 0 | BQ28: 0 | BR28: =BQ6 -> 0 | BS28: 0 | BT28: =BS6 -> 0 | BU28: 0 | BV28: =BU6 -> 0 | BW28: 0 | BX28: =BW6 -> 0 | BY28: 0 | BZ28: =BY51 -> 0
A29: AGN | D29: 0 | E29: =D9 -> 3267 | F29: 0 | G29: =F9 -> 6739 | H29: 0 | I29: =H9 -> 5225 | J29: 0 | K29: =J9 -> 7769 | L29: 0 | M29: =L9 -> 0 | Q29: 0 | R29: =Q9 -> 0 | S29: 0 | T29: =S9 -> 0 | U29: 0 | V29: =U9 -> 0 | W29: 0 | X29: =W9 -> 0 | Y29: 0 | Z29: =Y9 -> 0 | AB29: 0 | AC29: =AB9 -> 0 | AD29: 0 | AE29: =AD9 -> 0 | AF29: 0 | AG29: =AF9 -> 0 | AH29: 0 | AI29: =AH9 -> 0 | AJ29: 0 | AK29: =AJ9 -> 0 | AL29: 0 | AM29: =AL9 -> 0 | AO29: 0 | AP29: =AO9 -> 0 | AQ29: 0 | AR29: =AQ9 -> 0 | AS29: 0 | AT29: =AS9 -> 0 | AU29: 0 | AV29: =AU9 -> 0 | AW29: 0 | AX29: =AW9 -> 0 | AY29: 0 | AZ29: =AY9 -> 0 | BB29: 0 | BC29: =BB9 -> 0 | BD29: 0 | BE29: =BD9 -> 0 | BF29: 0 | BG29: =BF9 -> 0 | BH29: 0 | BI29: =BH9 -> 0 | BJ29: 0 | BK29: =BJ9 -> 0 | BL29: 0 | BM29: =BL9 -> 0 | BO29: 0 | BP29: =BO9 -> 0 | BQ29: 0 | BR29: =BQ9 -> 0 | BS29: 0 | BT29: =BS9 -> 0 | BU29: 0 | BV29: =BU9 -> 0 | BW29: 0 | BX29: =BW9 -> 0 | BY29: 0 | BZ29: =BY9 -> 0
A30: Net | E30: =IF(OR(D52="",D52=0),0,D52) -> 0 | F30: =IF(OR(E52="",E52=0),D12,E52) -> 9145 | G30: =IF(OR(F52="",F52=0),0,F52) -> 0 | H30: =IF(OR(G52="",G52=0),F12,G52) -> 11583 | I30: =IF(OR(H52="",H52=0),0,H52) -> 0 | J30: =IF(OR(I52="",I52=0),H12,I52) -> 3306 | K30: =(J12*0.5)+(IF(OR(J52="",J52=0),0,J52)) -> 4416 | L30: =(J12*0.5)+(IF(OR(K52="",K52=0),0,K52)) -> 4416 | M30: =IF(OR(L52="",L52=0),0,L52) -> 0 | Q30: =IF(OR(M52="",M52=0),L12,M52) -> 10401 | R30: =IF(OR(Q52="",Q52=0),0,Q52) -> 0 | S30: =IF(OR(R52="",R52=0),Q12,R52) -> 14539 | T30: =IF(OR(S52="",S52=0),0,S52) -> 0 | U30: =IF(OR(T52="",T52=0),S12,T52) -> 13065 | V30: =IF(OR(U52="",U52=0),0,U52) -> 0 | W30: =IF(OR(V52="",V52=0),U12,V52) -> 5705 | X30: =(W12*0.5)+(IF(OR(W52="",W52=0),0,W52)) -> 5353 | Y30: =(W12*0.5)+(IF(OR(X52="",X52=0),0,X52)) -> 5353 | Z30: =IF(OR(Y52="",Y52=0),0,Y52) -> 0 | AB30: =IF(OR(Z52="",Z52=0),Y12,Z52) -> 12783 | AC30: =IF(OR(AB52="",AB52=0),0,AB52) -> 0 | AD30: =IF(OR(AC52="",AC52=0),AB12,AC52) -> 10047 | AE30: =IF(OR(AD52="",AD52=0),0,AD52) -> 0 | AF30: =IF(OR(AE52="",AE52=0),AD12,AE52) -> 16949 | AG30: =IF(OR(AF52="",AF52=0),0,AF52) -> 0 | AH30: =IF(OR(AG52="",AG52=0),AF12,AG52) -> 14285 | AI30: =IF(OR(AH52="",AH52=0),0,AH52) -> 0 | AJ30: =IF(OR(AI52="",AI52=0),AH12,AI52) -> 4402 | AK30: =(AJ12*0.5)+(IF(OR(AJ52="",AJ52=0),0,AJ52)) -> 4605 | AL30: =(AJ12*0.5)+(IF(OR(AK52="",AK52=0),0,AK52)) -> 4605 | AM30: =IF(OR(AL52="",AL52=0),0,AL52) -> 0 | AO30: =IF(OR(AM52="",AM52=0),AL12,AM52) -> 10818 | AP30: =IF(OR(AO52="",AO52=0),0,AO52) -> 0 | AQ30: =IF(OR(AP52="",AP52=0),AO12,AP52) -> 7610 | AR30: =IF(OR(AQ52="",AQ52=0),0,AQ52) -> 0 | AS30: =IF(OR(AR52="",AR52=0),AQ12,AR52) -> 14696 | AT30: =IF(OR(AS52="",AS52=0),0,AS52) -> 0 | AU30: =IF(OR(AT52="",AT52=0),AS12,AT52) -> 13340 | AV30: =IF(OR(AU52="",AU52=0),0,AU52) -> 0 | AW30: =IF(OR(AV52="",AV52=0),AU12,AV52) -> 4217 | AX30: =(AW12*0.5)+(IF(OR(AW52="",AW52=0),0,AW52)) -> 3714 | AY30: =(AW12*0.5)+(IF(OR(AX52="",AX52=0),0,AX52)) -> 3714 | AZ30: =IF(OR(AY52="",AY52=0),0,AY52) -> 0 | BB30: =IF(OR(AZ52="",AZ52=0),AY12,AZ52) -> 9246 | BC30: =IF(OR(BB52="",BB52=0),0,BB52) -> 0 | BD30: =IF(OR(BC52="",BC52=0),BB12,BC52) -> 7048 | BE30: =IF(OR(BD52="",BD52=0),0,BD52) -> 0 | BF30: =IF(OR(BE52="",BE52=0),BD12,BE52) -> 13747 | BG30: =IF(OR(BF52="",BF52=0),0,BF52) -> 0 | BH30: =IF(OR(BG52="",BG52=0),BF12,BG52) -> 11843 | BI30: =IF(OR(BH52="",BH52=0),0,BH52) -> 0 | BJ30: =IF(OR(BI52="",BI52=0),BH12,BI52) -> 4077 | BK30: =(BJ12*0.5)+(IF(OR(BJ52="",BJ52=0),0,BJ52)) -> 4566 | BL30: =(BJ12*0.5)+(IF(OR(BK52="",BK52=0),0,BK52)) -> 4566 | BM30: =IF(OR(BL52="",BL52=0),0,BL52) -> 0 | BO30: =IF(OR(BM52="",BM52=0),BL12,BM52) -> 10568 | BP30: =IF(OR(BO52="",BO52=0),0,BO52) -> 0 | BQ30: =IF(OR(BP52="",BP52=0),BO12,BP52) -> 8107 | BR30: =IF(OR(BQ52="",BQ52=0),0,BQ52) -> 0 | BS30: =IF(OR(BR52="",BR52=0),BQ12,BR52) -> 14148 | BT30: =IF(OR(BS52="",BS52=0),0,BS52) -> 0 | BU30: =IF(OR(BT52="",BT52=0),BS12,BT52) -> 12117 | BV30: =IF(OR(BU52="",BU52=0),0,BU52) -> 0 | BW30: =IF(OR(BV52="",BV52=0),BU12,BV52) -> 5516 | BX30: =(BW12*0.5)+(IF(OR(BW52="",BW52=0),0,BW52)) -> 5516.5 | BY30: =(BW12*0.5)+(IF(OR(BX52="",BX52=0),0,BX52)) -> 5516.5 | BZ30: =IF(OR(BY52="",BY52=0),0,BY52) -> 0
A31: MGS | E31: =IF(OR(D53="",D53=0),D16+D23,D16+D53) -> 10225 | F31: =IF(OR(E53="",E53=0),D15+E23,D15+E53) -> 0 | G31: =IF(OR(F53="",F53=0),F16+F23,F16+F53) -> 8298 | H31: =IF(OR(G53="",G53=0),F15+G23,F15+G53) -> 0 | I31: =IF(OR(H53="",H53=0),H16+H23,H16+H53) -> 8221 | J31: =IF(OR(I53="",I53=0),H15+I23,H15+I53) -> 0 | K31: =IF(OR(J53="",J53=0),J16+J23,J16+J53) -> 14898 | L31: =IF(OR(K53="",K53=0),J15+K23,J15+K53) -> 0 | M31: =IF(OR(L53="",L53=0),L16+L23,L16+L53) -> 3322 | Q31: =IF(OR(M53="",M53=0),L15+M23,L15+M53) -> 3322 | R31: =IF(OR(Q53="",Q53=0),Q16+Q23,Q16+Q53) -> 26417.059 | S31: =IF(OR(R53="",R53=0),Q15+R23,Q15+R53) -> 26417.059 | T31: =IF(OR(S53="",S53=0),S16+S23,S16+S53) -> 49337.647 | U31: =IF(OR(T53="",T53=0),S15+T23,S15+T53) -> 49337.647 | V31: =IF(OR(U53="",U53=0),U16+U23,U16+U53) -> 70594.471 | W31: =IF(OR(V53="",V53=0),U15+V23,U15+V53) -> 70594.471 | X31: =IF(OR(W53="",W53=0),W16+W23,W16+W53) -> 87485.941 | Y31: =IF(OR(X53="",X53=0),W15+X23,W15+X53) -> 90949.647 | Z31: =IF(OR(Y53="",Y53=0),Y16+Y23,Y16+Y53) -> 97113.353 | AB31: =IF(OR(Z53="",Z53=0),Y15+Z23,Y15+Z53) -> 97113.353 | AC31: =IF(OR(AB53="",AB53=0),AB16+AB23,AB16+AB53) -> 120764.71 | AD31: =IF(OR(AC53="",AC53=0),AB15+AC23,AB15+AC53) -> 120764.71 | AE31: =IF(OR(AD53="",AD53=0),AD16+AD23,AD16+AD53) -> 144653.71 | AF31: =IF(OR(AE53="",AE53=0),AD15+AE23,AD15+AE53) -> 144653.71 | AG31: =IF(OR(AF53="",AF53=0),AF16+AF23,AF16+AF53) -> 168719.71 | AH31: =IF(OR(AG53="",AG53=0),AF15+AG23,AF15+AG53) -> 168719.71 | AI31: =IF(OR(AH53="",AH53=0),AH16+AH23,AH16+AH53) -> 189368.94 | AJ31: =IF(OR(AI53="",AI53=0),AH15+AI23,AH15+AI53) -> 189368.94 | AK31: =IF(OR(AJ53="",AJ53=0),AJ16+AJ23,AJ16+AJ53) -> 204285.29 | AL31: =IF(OR(AK53="",AK53=0),AJ15+AK23,AJ15+AK53) -> 207265 | AM31: =IF(OR(AL53="",AL53=0),AL16+AL23,AL16+AL53) -> 212516.71 | AO31: =IF(OR(AM53="",AM53=0),AL15+AM23,AL15+AM53) -> 212516.71 | AP31: =IF(OR(AO53="",AO53=0),AO16+AO23,AO16+AO53) -> 233840.59 | AQ31: =IF(OR(AP53="",AP53=0),AO15+AP23,AO15+AP53) -> 233840.59 | AR31: =IF(OR(AQ53="",AQ53=0),AQ16+AQ23,AQ16+AQ53) -> 256770.71 | AS31: =IF(OR(AR53="",AR53=0),AQ15+AR23,AQ15+AR53) -> 256770.71 | AT31: =IF(OR(AS53="",AS53=0),AS16+AS23,AS16+AS53) -> 279434.88 | AU31: =IF(OR(AT53="",AT53=0),AS15+AT23,AS15+AT53) -> 279434.88 | AV31: =IF(OR(AU53="",AU53=0),AU16+AU23,AU16+AU53) -> 299726.65 | AW31: =IF(OR(AV53="",AV53=0),AU15+AV23,AU15+AV53) -> 299726.65 | AX31: =IF(OR(AW53="",AW53=0),AW16+AW23,AW16+AW53) -> 315022.29 | AY31: =IF(OR(AX53="",AX53=0),AW15+AX23,AW15+AX53) -> 317425.47 | AZ31: =IF(OR(AY53="",AY53=0),AY16+AY23,AY16+AY53) -> 322105.65 | BB31: =IF(OR(AZ53="",AZ53=0),AY15+AZ23,AY15+AZ53) -> 322105.65 | BC31: =IF(OR(BB53="",BB53=0),BB16+BB23,BB16+BB53) -> 343406.35 | BD31: =IF(OR(BC53="",BC53=0),BB15+BC23,BB15+BC53) -> 343406.35 | BE31: =IF(OR(BD53="",BD53=0),BD16+BD23,BD16+BD53) -> 363936.82 | BF31: =IF(OR(BE53="",BE53=0),BD15+BE23,BD15+BE53) -> 363936.82 | BG31: =IF(OR(BF53="",BF53=0),BF16+BF23,BF16+BF53) -> 385744.94 | BH31: =IF(OR(BG53="",BG53=0),BF15+BG23,BF15+BG53) -> 385744.94 | BI31: =IF(OR(BH53="",BH53=0),BH16+BH23,BH16+BH53) -> 404101.06 | BJ31: =IF(OR(BI53="",BI53=0),BH15+BI23,BH15+BI53) -> 404101.06 | BK31: =IF(OR(BJ53="",BJ53=0),BJ16+BJ23,BJ16+BJ53) -> 417531.12 | BL31: =IF(OR(BK53="",BK53=0),BJ15+BK23,BJ15+BK53) -> 420485.59 | BM31: =IF(OR(BL53="",BL53=0),BL16+BL23,BL16+BL53) -> 425710.06 | BO31: =IF(OR(BM53="",BM53=0),BL15+BM23,BL15+BM53) -> 425710.06 | BP31: =IF(OR(BO53="",BO53=0),BO16+BO23,BO16+BO53) -> 445707.18 | BQ31: =IF(OR(BP53="",BP53=0),BO15+BP23,BO15+BP53) -> 445707.18 | BR31: =IF(OR(BQ53="",BQ53=0),BQ16+BQ23,BQ16+BQ53) -> 467058.88 | BS31: =IF(OR(BR53="",BR53=0),BQ15+BR23,BQ15+BR53) -> 467058.88 | BT31: =IF(OR(BS53="",BS53=0),BS16+BS23,BS16+BS53) -> 489537.47 | BU31: =IF(OR(BT53="",BT53=0),BS15+BT23,BS15+BT53) -> 489537.47 | BV31: =IF(OR(BU53="",BU53=0),BU16+BU23,BU16+BU53) -> 507969.88 | BW31: =IF(OR(BV53="",BV53=0),BU15+BV23,BU15+BV53) -> 507969.88 | BX31: =IF(OR(BW53="",BW53=0),BW16+BW23,BW16+BW53) -> 522796.06 | BY31: =IF(OR(BX53="",BX53=0),BW15+BX23,BW15+BX53) -> 526365.56 | BZ31: =IF(OR(BY53="",BY53=0),BY16+BY23,BY16+BY53) -> 532148.06
B33: PRODUCTION HORAIRE RÉELLE | O33: PRODUCTION HORAIRE RÉELLE | AB33: PRODUCTIVITE RÉELLE | AO33: PRODUCTION HORAIRE RÉELLE | BB33: PRODUCTION HORAIRE RÉELLE | BO33: PRODUCTION HORAIRE RÉELLE
A34: Transfert (EIT, Portugal,…) | B34: 150 | C34: 150 | D34: 150 | E34: 150 | F34: 150 | G34: 150 | H34: 150 | I34: 150 | J34: 150 | K34: 150 | L34: 150 | M34: 150 | O34: 150 | P34: 150 | Q34: 150 | R34: 150 | S34: 150 | T34: 150 | U34: 150 | V34: 150 | W34: 150 | X34: 150 | Y34: 150 | Z34: 150 | AB34: 150 | AC34: 150 | AD34: 150 | AE34: 150 | AF34: 150 | AG34: 150 | AH34: 150 | AI34: 150 | AJ34: 150 | AK34: 150 | AL34: 150 | AM34: 150 | AO34: 150 | AP34: 150 | AQ34: 150 | AR34: 150 | AS34: 150 | AT34: 150 | AU34: 150 | AV34: 150 | AW34: 150 | AX34: 150 | AY34: 150 | AZ34: 150 | BB34: 150 | BC34: 150 | BD34: 150 | BE34: 150 | BF34: 150 | BG34: 150 | BH34: 150 | BI34: 150 | BJ34: 150 | BK34: 150 | BL34: 150 | BM34: 150 | BO34: 150 | BP34: 150 | BQ34: 150 | BR34: 150 | BS34: 150 | BT34: 150 | BU34: 150 | BV34: 150 | BW34: 150 | BX34: 150 | BY34: 150 | BZ34: 150
A35: AGN | B35: 140 | C35: 140 | D35: 140 | E35: 140 | F35: 140 | G35: 140 | H35: 140 | I35: 140 | J35: 140 | K35: 140 | L35: 140 | M35: 140 | O35: 140 | P35: 140 | Q35: 140 | R35: 140 | S35: 140 | T35: 140 | U35: 140 | V35: 140 | W35: 140 | X35: 140 | Y35: 140 | Z35: 140 | AB35: 140 | AC35: 140 | AD35: 140 | AE35: 140 | AF35: 140 | AG35: 140 | AH35: 140 | AI35: 140 | AJ35: 140 | AK35: 140 | AL35: 140 | AM35: 140 | AO35: 140 | AP35: 140 | AQ35: 140 | AR35: 140 | AS35: 140 | AT35: 140 | AU35: 140 | AV35: 140 | AW35: 140 | AX35: 140 | AY35: 140 | AZ35: 140 | BB35: 140 | BC35: 140 | BD35: 140 | BE35: 140 | BF35: 140 | BG35: 140 | BH35: 140 | BI35: 140 | BJ35: 140 | BK35: 140 | BL35: 140 | BM35: 140 | BO35: 140 | BP35: 140 | BQ35: 140 | BR35: 140 | BS35: 140 | BT35: 140 | BU35: 140 | BV35: 140 | BW35: 140 | BX35: 140 | BY35: 140 | BZ35: 140
A36: Net | B36: 170 | C36: 170 | D36: 170 | E36: 170 | F36: 170 | G36: 170 | H36: 170 | I36: 170 | J36: 170 | K36: 170 | L36: 170 | M36: 170 | O36: 170 | P36: 170 | Q36: 170 | R36: 170 | S36: 170 | T36: 170 | U36: 170 | V36: 170 | W36: 170 | X36: 170 | Y36: 170 | Z36: 170 | AB36: 170 | AC36: 170 | AD36: 170 | AE36: 170 | AF36: 170 | AG36: 170 | AH36: 170 | AI36: 170 | AJ36: 170 | AK36: 170 | AL36: 170 | AM36: 170 | AO36: 170 | AP36: 170 | AQ36: 170 | AR36: 170 | AS36: 170 | AT36: 170 | AU36: 170 | AV36: 170 | AW36: 170 | AX36: 170 | AY36: 170 | AZ36: 170 | BB36: 170 | BC36: 170 | BD36: 170 | BE36: 170 | BF36: 170 | BG36: 170 | BH36: 170 | BI36: 170 | BJ36: 170 | BK36: 170 | BL36: 170 | BM36: 170 | BO36: 170 | BP36: 170 | BQ36: 170 | BR36: 170 | BS36: 170 | BT36: 170 | BU36: 170 | BV36: 170 | BW36: 170 | BX36: 170 | BY36: 170 | BZ36: 170
A37: MGS | B37: 125 | C37: 125 | D37: 125 | E37: 125 | F37: 125 | G37: 125 | H37: 125 | I37: 125 | J37: 125 | K37: 125 | L37: 125 | M37: 125 | O37: 125 | P37: 125 | Q37: 110 | R37: 110 | S37: 110 | T37: 110 | U37: 110 | V37: 110 | W37: 110 | X37: 110 | Y37: 110 | Z37: 110 | AB37: 110 | AC37: 110 | AD37: 110 | AE37: 110 | AF37: 110 | AG37: 110 | AH37: 110 | AI37: 110 | AJ37: 110 | AK37: 110 | AL37: 110 | AM37: 110 | AO37: 110 | AP37: 110 | AQ37: 110 | AR37: 110 | AS37: 110 | AT37: 110 | AU37: 110 | AV37: 110 | AW37: 110 | AX37: 110 | AY37: 110 | AZ37: 110 | BB37: 110 | BC37: 110 | BD37: 110 | BE37: 110 | BF37: 110 | BG37: 110 | BH37: 110 | BI37: 110 | BJ37: 110 | BK37: 110 | BL37: 110 | BM37: 110 | BO37: 110 | BP37: 110 | BQ37: 110 | BR37: 110 | BS37: 110 | BT37: 110 | BU37: 110 | BV37: 110 | BW37: 110 | BX37: 110 | BY37: 110 | BZ37: 110
B39: PILOTAGE RÉEL | O39: PILOTAGE RÉEL | AB39: RÉEL | AO39: PILOTAGE RÉEL | BB39: PILOTAGE RÉEL | BO39: PILOTAGE RÉEL
B41: BESOIN EN EFFECTIF | O41: BESOIN EN EFFECTIF | AB41: BESOIN EN EFFECTIFS | AO41: BESOIN EN EFFECTIFS | BB41: BESOIN EN EFFECTIFS | BO41: BESOIN EN EFFECTIFS
A42: Transfert (EIT, Portugal,…) | B42: =(B28/(B34*B48)) -> 0 | C42: =(C28/(C34*C48)) -> 0 | D42: =(D28/(D34*D48)) -> 0 | E42: =(E28/(E34*E48)) -> 0 | F42: =(F28/(F34*F48)) -> 0 | G42: =(G28/(G34*G48)) -> 0 | H42: =(H28/(H34*H48)) -> 0 | I42: =(I28/(I34*I48)) -> 0 | ... M42: =(M28/(M34*M48)) -> 0 | O42: =(O28/(O34*O48)) -> 0 | P42: =(P28/(P34*P48)) -> 0 | Q42: =(Q28/(Q34*Q48)) -> 0 | R42: =(R28/(R34*R48)) -> 0 | S42: =(S28/(S34*S48)) -> 0 | T42: =(T28/(T34*T48)) -> 0 | U42: =(U28/(U34*U48)) -> 0 | V42: =(V28/(V34*V48)) -> 0 | ... Z42: =(Z28/(Z34*Z48)) -> 0 | AB42: =(AB28/(AB34*AB48)) -> 0 | AC42: =(AC28/(AC34*AC48)) -> 0 | AD42: =(AD28/(AD34*AD48)) -> 0 | AE42: =(AE28/(AE34*AE48)) -> 0 | AF42: =(AF28/(AF34*AF48)) -> 0 | AG42: =(AG28/(AG34*AG48)) -> 0 | AH42: =(AH28/(AH34*AH48)) -> 0 | AI42: =(AI28/(AI34*AI48)) -> 0 | ... AM42: =(AM28/(AM34*AM48)) -> 0 | AO42: =(AO28/(AO34*AO48)) -> 0 | AP42: =(AP28/(AP34*AP48)) -> 0 | AQ42: =(AQ28/(AQ34*AQ48)) -> 0 | AR42: =(AR28/(AR34*AR48)) -> 0 | AS42: =(AS28/(AS34*AS48)) -> 0 | AT42: =(AT28/(AT34*AT48)) -> 0 | AU42: =(AU28/(AU34*AU48)) -> 0 | AV42: =(AV28/(AV34*AV48)) -> 0 | ... AZ42: =(AZ28/(AZ34*AZ48)) -> 0 | BB42: =(BB28/(BB34*BB48)) -> 0 | BC42: =(BC28/(BC34*BC48)) -> 0 | BD42: =(BD28/(BD34*BD48)) -> 0 | BE42: =(BE28/(BE34*BE48)) -> 0 | BF42: =(BF28/(BF34*BF48)) -> 0 | BG42: =(BG28/(BG34*BG48)) -> 0 | BH42: =(BH28/(BH34*BH48)) -> 0 | BI42: =(BI28/(BI34*BI48)) -> 0 | ... BM42: =(BM28/(BM34*BM48)) -> 0 | BO42: =(BO28/(BO34*BO48)) -> 0 | BP42: =(BP28/(BP34*BP48)) -> 0 | BQ42: =(BQ28/(BQ34*BQ48)) -> 0 | BR42: =(BR28/(BR34*BR48)) -> 0 | BS42: =(BS28/(BS34*BS48)) -> 0 | BT42: =(BT28/(BT34*BT48)) -> 0 | BU42: =(BU28/(BU34*BU48)) -> 0 | BV42: =(BV28/(BV34*BV48)) -> 0 | ... BZ42: =(BZ28/(BZ34*BZ48)) -> 0
A43: AGN | B43: =(B29/(B35*B48)) -> 0 | C43: =(C29/(C35*C48)) -> 0 | D43: =(D29/(D35*D48)) -> 0 | E43: =(E29/(E35*E48)) -> 3.3336735 | F43: =(F29/(F35*F48)) -> 0 | G43: =(G29/(G35*G48)) -> 6.8765306 | H43: =(H29/(H35*H48)) -> 0 | I43: =(I29/(I35*I48)) -> 5.3316327 | ... M43: =(M29/(M35*M48)) -> 0 | O43: =(O29/(O35*O48)) -> 0 | P43: =(P29/(P35*P48)) -> 0 | Q43: =(Q29/(Q35*Q48)) -> 0 | R43: =(R29/(R35*R48)) -> 0 | S43: =(S29/(S35*S48)) -> 0 | T43: =(T29/(T35*T48)) -> 0 | U43: =(U29/(U35*U48)) -> 0 | V43: =(V29/(V35*V48)) -> 0 | ... Z43: =(Z29/(Z35*Z48)) -> 0 | AB43: =(AB29/(AB35*AB48)) -> 0 | AC43: =(AC29/(AC35*AC48)) -> 0 | AD43: =(AD29/(AD35*AD48)) -> 0 | AE43: =(AE29/(AE35*AE48)) -> 0 | AF43: =(AF29/(AF35*AF48)) -> 0 | AG43: =(AG29/(AG35*AG48)) -> 0 | AH43: =(AH29/(AH35*AH48)) -> 0 | AI43: =(AI29/(AI35*AI48)) -> 0 | ... AM43: =(AM29/(AM35*AM48)) -> 0 | AO43: =(AO29/(AO35*AO48)) -> 0 | AP43: =(AP29/(AP35*AP48)) -> 0 | AQ43: =(AQ29/(AQ35*AQ48)) -> 0 | AR43: =(AR29/(AR35*AR48)) -> 0 | AS43: =(AS29/(AS35*AS48)) -> 0 | AT43: =(AT29/(AT35*AT48)) -> 0 | AU43: =(AU29/(AU35*AU48)) -> 0 | AV43: =(AV29/(AV35*AV48)) -> 0 | ... AZ43: =(AZ29/(AZ35*AZ48)) -> 0 | BB43: =(BB29/(BB35*BB48)) -> 0 | BC43: =(BC29/(BC35*BC48)) -> 0 | BD43: =(BD29/(BD35*BD48)) -> 0 | BE43: =(BE29/(BE35*BE48)) -> 0 | BF43: =(BF29/(BF35*BF48)) -> 0 | BG43: =(BG29/(BG35*BG48)) -> 0 | BH43: =(BH29/(BH35*BH48)) -> 0 | BI43: =(BI29/(BI35*BI48)) -> 0 | ... BM43: =(BM29/(BM35*BM48)) -> 0 | BO43: =(BO29/(BO35*BO48)) -> 0 | BP43: =(BP29/(BP35*BP48)) -> 0 | BQ43: =(BQ29/(BQ35*BQ48)) -> 0 | BR43: =(BR29/(BR35*BR48)) -> 0 | BS43: =(BS29/(BS35*BS48)) -> 0 | BT43: =(BT29/(BT35*BT48)) -> 0 | BU43: =(BU29/(BU35*BU48)) -> 0 | BV43: =(BV29/(BV35*BV48)) -> 0 | ... BZ43: =(BZ29/(BZ35*BZ48)) -> 0
A44: Net | B44: =(B30/(B36*B48)) -> 0 | C44: =(C30/(C36*C48)) -> 0 | D44: =(D30/(D36*D48)) -> 0 | E44: =(E30/(E36*E48)) -> 0 | F44: =(F30/(F36*F48)) -> 7.6848739 | G44: =(G30/(G36*G48)) -> 0 | H44: =(H30/(H36*H48)) -> 9.7336134 | I44: =(I30/(I36*I48)) -> 0 | ... M44: =(M30/(M36*M48)) -> 0 | O44: =(O30/(O36*O48)) -> 0 | P44: =(P30/(P36*P48)) -> 0 | Q44: =(Q30/(Q36*Q48)) -> 8.7403361 | R44: =(R30/(R36*R48)) -> 0 | S44: =(S30/(S36*S48)) -> 12.217647 | T44: =(T30/(T36*T48)) -> 0 | U44: =(U30/(U36*U48)) -> 10.978992 | V44: =(V30/(V36*V48)) -> 0 | ... Z44: =(Z30/(Z36*Z48)) -> 0 | AB44: =(AB30/(AB36*AB48)) -> 10.742017 | AC44: =(AC30/(AC36*AC48)) -> 0 | AD44: =(AD30/(AD36*AD48)) -> 8.4428571 | AE44: =(AE30/(AE36*AE48)) -> 0 | AF44: =(AF30/(AF36*AF48)) -> 14.242857 | AG44: =(AG30/(AG36*AG48)) -> 0 | AH44: =(AH30/(AH36*AH48)) -> 12.004202 | AI44: =(AI30/(AI36*AI48)) -> 0 | ... AM44: =(AM30/(AM36*AM48)) -> 0 | AO44: =(AO30/(AO36*AO48)) -> 9.0907563 | AP44: =(AP30/(AP36*AP48)) -> 0 | AQ44: =(AQ30/(AQ36*AQ48)) -> 6.394958 | AR44: =(AR30/(AR36*AR48)) -> 0 | AS44: =(AS30/(AS36*AS48)) -> 12.34958 | AT44: =(AT30/(AT36*AT48)) -> 0 | AU44: =(AU30/(AU36*AU48)) -> 11.210084 | AV44: =(AV30/(AV36*AV48)) -> 0 | ... AZ44: =(AZ30/(AZ36*AZ48)) -> 0 | BB44: =(BB30/(BB36*BB48)) -> 7.7697479 | BC44: =(BC30/(BC36*BC48)) -> 0 | BD44: =(BD30/(BD36*BD48)) -> 5.9226891 | BE44: =(BE30/(BE36*BE48)) -> 0 | BF44: =(BF30/(BF36*BF48)) -> 11.552101 | BG44: =(BG30/(BG36*BG48)) -> 0 | BH44: =(BH30/(BH36*BH48)) -> 9.9521008 | BI44: =(BI30/(BI36*BI48)) -> 0 | ... BM44: =(BM30/(BM36*BM48)) -> 0 | BO44: =(BO30/(BO36*BO48)) -> 8.8806723 | BP44: =(BP30/(BP36*BP48)) -> 0 | BQ44: =(BQ30/(BQ36*BQ48)) -> 6.812605 | BR44: =(BR30/(BR36*BR48)) -> 0 | BS44: =(BS30/(BS36*BS48)) -> 11.889076 | BT44: =(BT30/(BT36*BT48)) -> 0 | BU44: =(BU30/(BU36*BU48)) -> 10.182353 | BV44: =(BV30/(BV36*BV48)) -> 0 | ... BZ44: =(BZ30/(BZ36*BZ48)) -> 0
A45: MGS | B45: =(B31/(B37*B48)) -> 0 | C45: =(C31/(C37*C48)) -> 0 | D45: =(D31/(D37*D48)) -> 0 | E45: =(E31/(E37*E48)) -> 11.685714 | F45: =(F31/(F37*F48)) -> 0 | G45: =(G31/(G37*G48)) -> 9.4834286 | H45: =(H31/(H37*H48)) -> 0 | I45: =(I31/(I37*I48)) -> 9.3954286 | ... M45: =(M31/(M37*M48)) -> 8.8586667 | O45: =(O31/(O37*O48)) -> 0 | P45: =(P31/(P37*P48)) -> 0 | Q45: =(Q31/(Q37*Q48)) -> 4.3142857 | R45: =(R31/(R37*R48)) -> 34.307869 | S45: =(S31/(S37*S48)) -> 34.307869 | T45: =(T31/(T37*T48)) -> 64.074866 | U45: =(U31/(U37*U48)) -> 64.074866 | V45: =(V31/(V37*V48)) -> 91.681131 | ... Z45: =(Z31/(Z37*Z48)) -> 294.28289 | AB45: =(AB31/(AB37*AB48)) -> 126.12124 | AC45: =(AC31/(AC37*AC48)) -> 156.83728 | AD45: =(AD31/(AD37*AD48)) -> 156.83728 | AE45: =(AE31/(AE37*AE48)) -> 187.86196 | AF45: =(AF31/(AF37*AF48)) -> 187.86196 | AG45: =(AG31/(AG37*AG48)) -> 219.1165 | AH45: =(AH31/(AH37*AH48)) -> 219.1165 | AI45: =(AI31/(AI37*AI48)) -> 245.93369 | ... AM45: =(AM31/(AM37*AM48)) -> 643.99002 | AO45: =(AO31/(AO37*AO48)) -> 275.99572 | AP45: =(AP31/(AP37*AP48)) -> 303.68908 | AQ45: =(AQ31/(AQ37*AQ48)) -> 303.68908 | AR45: =(AR31/(AR37*AR48)) -> 333.46845 | AS45: =(AS31/(AS37*AS48)) -> 333.46845 | AT45: =(AT31/(AT37*AT48)) -> 362.90244 | AU45: =(AU31/(AU37*AU48)) -> 362.90244 | AV45: =(AV31/(AV37*AV48)) -> 389.25539 | ... AZ45: =(AZ31/(AZ37*AZ48)) -> 976.07772 | BB45: =(BB31/(BB37*BB48)) -> 418.31902 | BC45: =(BC31/(BC37*BC48)) -> 445.98228 | BD45: =(BD31/(BD37*BD48)) -> 445.98228 | BE45: =(BE31/(BE37*BE48)) -> 472.64523 | BF45: =(BF31/(BF37*BF48)) -> 472.64523 | BG45: =(BG31/(BG37*BG48)) -> 500.96746 | BH45: =(BH31/(BH37*BH48)) -> 500.96746 | BI45: =(BI31/(BI37*BI48)) -> 524.80657 | ... BM45: =(BM31/(BM37*BM48)) -> 1290.0305 | BO45: =(BO31/(BO37*BO48)) -> 552.87021 | BP45: =(BP31/(BP37*BP48)) -> 578.84049 | BQ45: =(BQ31/(BQ37*BQ48)) -> 578.84049 | BR45: =(BR31/(BR37*BR48)) -> 606.56998 | BS45: =(BS31/(BS37*BS48)) -> 606.56998 | BT45: =(BT31/(BT37*BT48)) -> 635.76295 | BU45: =(BU31/(BU37*BU48)) -> 635.76295 | BV45: =(BV31/(BV37*BV48)) -> 659.70115 | ... BZ45: =(BZ31/(BZ37*BZ48)) -> 1612.5699
B47: HEURES TRAVAILLÉES PAR JOUR | O47: HEURES TRAVAILLÉES PAR JOUR | AB47: HEURES TRAVAILLÉES PAR JOUR | AO47: HEURES TRAVAILLÉES PAR JOUR | BB47: HEURES TRAVAILLÉES PAR JOUR | BO47: HEURES TRAVAILLÉES PAR JOUR
A48: PRÉVISIONNEL | B48: 7 | C48: 7 | D48: 7 | E48: 7 | F48: 7 | G48: 7 | H48: 7 | I48: 7 | J48: 7 | K48: 7 | L48: 4 | M48: 3 | O48: 7 | P48: 7 | Q48: 7 | R48: 7 | S48: 7 | T48: 7 | U48: 7 | V48: 7 | W48: 7 | X48: 7 | Y48: 4 | Z48: 3 | AB48: 7 | AC48: 7 | AD48: 7 | AE48: 7 | AF48: 7 | AG48: 7 | AH48: 7 | AI48: 7 | AJ48: 7 | AK48: 7 | AL48: 4 | AM48: 3 | AO48: 7 | AP48: 7 | AQ48: 7 | AR48: 7 | AS48: 7 | AT48: 7 | AU48: 7 | AV48: 7 | AW48: 7 | AX48: 7 | AY48: 4 | AZ48: 3 | BB48: 7 | BC48: 7 | BD48: 7 | BE48: 7 | BF48: 7 | BG48: 7 | BH48: 7 | BI48: 7 | BJ48: 7 | BK48: 7 | BL48: 4 | BM48: 3 | BO48: 7 | BP48: 7 | BQ48: 7 | BR48: 7 | BS48: 7 | BT48: 7 | BU48: 7 | BV48: 7 | BW48: 7 | BX48: 7 | BY48: 4 | BZ48: 3
B50: RESTE À PRÉPARER | O50: RESTE À PRÉPARER | AB50: RESTE À PRÉPARER | AO50: RESTE À PRÉPARER | BB50: RESTE À PRÉPARER | BO50: RESTE À PRÉPARER
A51: Transfert (EIT, Portugal,…)
A52: Net
A53: MGS
B55: ANALYSE ÉCARTS | O55: ANALYSE ÉCARTS | AB55: ANALYSE ÉCARTS | AO55: ANALYSE ÉCARTS | BB55: ANALYSE ÉCARTS | BO55: ANALYSE ÉCARTS
B57: TOMBÉE RÉELLE | O57: TOMBÉE RÉELLE | AB57: TOMBÉE RÉELLE | AO57: TOMBÉE RÉELLE | BB57: TOMBÉE RÉELLE | BO57: TOMBÉE RÉELLE
A58: Transfert (EIT, Portugal,…) réel
A59: AGN réel
A60: AGN promo réel
A61: AGN total réel | B61: =+B59+B60 -> 0 | D61: =+D59+D60 -> 0 | F61: =+F59+F60 -> 0 | H61: =+H59+H60 -> 0 | J61: =+J59+J60 -> 0 | L61: =+L59+L60 -> 0 | O61: =+O59+O60 -> 0 | Q61: =+Q59+Q60 -> 0 | S61: =+S59+S60 -> 0 | U61: =+U59+U60 -> 0 | W61: =+W59+W60 -> 0 | AB61: =+AB59+AB60 -> 0 | AD61: =+AD59+AD60 -> 0 | AF61: =+AF59+AF60 -> 0 | AH61: =+AH59+AH60 -> 0 | AJ61: =+AJ59+AJ60 -> 0 | AL61: =+AL59+AL60 -> 0 | AO61: =+AO59+AO60 -> 0 | AQ61: =+AQ59+AQ60 -> 0 | AS61: =+AS59+AS60 -> 0 | AU61: =+AU59+AU60 -> 0 | AW61: =+AW59+AW60 -> 0 | AY61: =+AY59+AY60 -> 0 | BB61: =+BB59+BB60 -> 0 | BD61: =+BD59+BD60 -> 0 | BF61: =+BF59+BF60 -> 0 | BH61: =+BH59+BH60 -> 0 | BJ61: =+BJ59+BJ60 -> 0 | BL61: =+BL59+BL60 -> 0 | BO61: =+BO59+BO60 -> 0 | BQ61: =+BQ59+BQ60 -> 0 | BS61: =+BS59+BS60 -> 0 | BU61: =+BU59+BU60 -> 0 | BW61: =+BW59+BW60 -> 0 | BY61: =+BY59+BY60 -> 0
A62: Net
A63: Net promo
A64: Net total | B64: =+B62+B63 -> 0 | D64: =+D62+D63 -> 0 | F64: =+F62+F63 -> 0 | H64: =+H62+H63 -> 0 | J64: =+J62+J63 -> 0 | L64: =+L62+L63 -> 0 | O64: =+O62+O63 -> 0 | Q64: =+Q62+Q63 -> 0 | S64: =+S62+S63 -> 0 | U64: =+U62+U63 -> 0 | W64: =+W62+W63 -> 0 | Y64: =+Y62+Y63 -> 0 | AB64: =+AB62+AB63 -> 0 | AD64: =+AD62+AD63 -> 0 | AF64: =+AF62+AF63 -> 0 | AH64: =+AH62+AH63 -> 0 | AJ64: =+AJ62+AJ63 -> 0 | AL64: =+AL62+AL63 -> 0 | AO64: =+AO62+AO63 -> 0 | AQ64: =+AQ62+AQ63 -> 0 | AS64: =+AS62+AS63 -> 0 | AU64: =+AU62+AU63 -> 0 | AW64: =+AW62+AW63 -> 0 | AY64: =+AY62+AY63 -> 0 | BB64: =+BB62+BB63 -> 0 | BD64: =+BD62+BD63 -> 0 | BF64: =+BF62+BF63 -> 0 | BH64: =+BH62+BH63 -> 0 | BJ64: =+BJ62+BJ63 -> 0 | BL64: =+BL62+BL63 -> 0 | BO64: =+BO62+BO63 -> 0 | BQ64: =+BQ62+BQ63 -> 0 | BS64: =+BS62+BS63 -> 0 | BU64: =+BU62+BU63 -> 0 | BW64: =+BW62+BW63 -> 0 | BY64: =+BY62+BY63 -> 0
A65: MGS réel
A66: MG promo réel
A67: MG total réel | B67: =+B65+B66 -> 0 | D67: =+D65+D66 -> 0 | F67: =+F65+F66 -> 0 | H67: =+H65+H66 -> 0 | J67: =+J65+J66 -> 0 | L67: =+L65+L66 -> 0 | O67: =+O65+O66 -> 0 | Q67: =+Q65+Q66 -> 0 | S67: =+S65+S66 -> 0 | U67: =+U65+U66 -> 0 | W67: =+W65+W66 -> 0 | Y67: =+Y65+Y66 -> 0 | AB67: =+AB65+AB66 -> 0 | AD67: =+AD65+AD66 -> 0 | AF67: =+AF65+AF66 -> 0 | AH67: =+AH65+AH66 -> 0 | AJ67: =+AJ65+AJ66 -> 0 | AL67: =+AL65+AL66 -> 0 | AO67: =+AO65+AO66 -> 0 | AQ67: =+AQ65+AQ66 -> 0 | AS67: =+AS65+AS66 -> 0 | AU67: =+AU65+AU66 -> 0 | AW67: =+AW65+AW66 -> 0 | AY67: =+AY65+AY66 -> 0 | BB67: =+BB65+BB66 -> 0 | BD67: =+BD65+BD66 -> 0 | BF67: =+BF65+BF66 -> 0 | BH67: =+BH65+BH66 -> 0 | BJ67: =+BJ65+BJ66 -> 0 | BL67: =+BL65+BL66 -> 0 | BO67: =+BO65+BO66 -> 0 | BQ67: =+BQ65+BQ66 -> 0 | BS67: =+BS65+BS66 -> 0 | BU67: =+BU65+BU66 -> 0 | BW67: =+BW65+BW66 -> 0 | BY67: =+BY65+BY66 -> 0
B69: ÉCART PRÉVISIONS/RÉELLE | O69: ÉCART PRÉVISIONS/RÉELLE | AB69: ÉCART PRÉVISIONS/RÉELLE | AO69: ÉCART PRÉVISIONS/RÉELLE | BB69: ÉCART PRÉVISIONS/RÉELLE | BO69: ÉCART PRÉVISIONS/RÉELLE
A70: Transfert (EIT, Portugal,…) | B70: =+B58-B6 -> 0 | C70: =+C58-C6 -> 0 | D70: =+D58-D6 -> 0 | E70: =+E58-E6 -> 0 | F70: =+F58-F6 -> 0 | G70: =+G58-G6 -> 0 | H70: =+H58-H6 -> 0 | I70: =+I58-I6 -> 0 | ... M70: =+M58-M6 -> 0 | O70: =+O58-O6 -> 0 | P70: =+P58-P6 -> 0 | Q70: =+Q58-Q6 -> 0 | R70: =+R58-R6 -> 0 | S70: =+S58-S6 -> 0 | T70: =+T58-T6 -> 0 | U70: =+U58-U6 -> 0 | V70: =+V58-V6 -> 0 | ... Z70: =+Z58-Z6 -> 0 | AB70: =+AB58-AB6 -> 0 | AC70: =+AC58-AC6 -> 0 | AD70: =+AD58-AD6 -> 0 | AE70: =+AE58-AE6 -> 0 | AF70: =+AF58-AF6 -> 0 | AG70: =+AG58-AG6 -> 0 | AH70: =+AH58-AH6 -> 0 | AI70: =+AI58-AI6 -> 0 | ... AM70: =+AM58-AM6 -> 0 | AO70: =+AO58-AO6 -> 0 | AP70: =+AP58-AP6 -> 0 | AQ70: =+AQ58-AQ6 -> 0 | AR70: =+AR58-AR6 -> 0 | AS70: =+AS58-AS6 -> 0 | AT70: =+AT58-AT6 -> 0 | AU70: =+AU58-AU6 -> 0 | AV70: =+AV58-AV6 -> 0 | ... AZ70: =+AZ58-AZ6 -> 0 | BB70: =+BB58-BB6 -> 0 | BC70: =+BC58-BC6 -> 0 | BD70: =+BD58-BD6 -> 0 | BE70: =+BE58-BE6 -> 0 | BF70: =+BF58-BF6 -> 0 | BG70: =+BG58-BG6 -> 0 | BH70: =+BH58-BH6 -> 0 | BI70: =+BI58-BI6 -> 0 | ... BM70: =+BM58-BM6 -> 0 | BO70: =+BO58-BO6 -> 0 | BP70: =+BP58-BP6 -> 0 | BQ70: =+BQ58-BQ6 -> 0 | BR70: =+BR58-BR6 -> 0 | BS70: =+BS58-BS6 -> 0 | BT70: =+BT58-BT6 -> 0 | BU70: =+BU58-BU6 -> 0 | BV70: =+BV58-BV6 -> 0 | ... BZ70: =+BZ58-BZ6 -> 0
A71: AGN | B71: =+B59-B7 -> 0 | C71: =+C59-C7 -> 0 | D71: =+D59-D7 -> -3267 | E71: =+E59-E7 -> 0 | F71: =+F59-F7 -> -6739 | G71: =+G59-G7 -> 0 | H71: =+H59-H7 -> -5225 | I71: =+I59-I7 -> 0 | ... M71: =+M59-M7 -> 0 | O71: =+O59-O7 -> 0 | P71: =+P59-P7 -> 0 | Q71: =+Q59-Q7 -> 0 | R71: =+R59-R7 -> 0 | S71: =+S59-S7 -> 0 | T71: =+T59-T7 -> 0 | U71: =+U59-U7 -> 0 | V71: =+V59-V7 -> 0 | ... Z71: =+Z59-Z7 -> 0 | AB71: =+AB59-AB7 -> 0 | AC71: =+AC59-AC7 -> 0 | AD71: =+AD59-AD7 -> 0 | AE71: =+AE59-AE7 -> 0 | AF71: =+AF59-AF7 -> 0 | AG71: =+AG59-AG7 -> 0 | AH71: =+AH59-AH7 -> 0 | AI71: =+AI59-AI7 -> 0 | ... AM71: =+AM59-AM7 -> 0 | AO71: =+AO59-AO7 -> 0 | AP71: =+AP59-AP7 -> 0 | AQ71: =+AQ59-AQ7 -> 0 | AR71: =+AR59-AR7 -> 0 | AS71: =+AS59-AS7 -> 0 | AT71: =+AT59-AT7 -> 0 | AU71: =+AU59-AU7 -> 0 | AV71: =+AV59-AV7 -> 0 | ... AZ71: =+AZ59-AZ7 -> 0 | BB71: =+BB59-BB7 -> 0 | BC71: =+BC59-BC7 -> 0 | BD71: =+BD59-BD7 -> 0 | BE71: =+BE59-BE7 -> 0 | BF71: =+BF59-BF7 -> 0 | BG71: =+BG59-BG7 -> 0 | BH71: =+BH59-BH7 -> 0 | BI71: =+BI59-BI7 -> 0 | ... BM71: =+BM59-BM7 -> 0 | BO71: =+BO59-BO7 -> 0 | BP71: =+BP59-BP7 -> 0 | BQ71: =+BQ59-BQ7 -> 0 | BR71: =+BR59-BR7 -> 0 | BS71: =+BS59-BS7 -> 0 | BT71: =+BT59-BT7 -> 0 | BU71: =+BU59-BU7 -> 0 | BV71: =+BV59-BV7 -> 0 | ... BZ71: =+BZ59-BZ7 -> 0
A72: AGN promo | B72: =+B60-B8 -> 0 | C72: =+C60-C8 -> 0 | D72: =+D60-D8 -> 0 | E72: =+E60-E8 -> 0 | F72: =+F60-F8 -> 0 | G72: =+G60-G8 -> 0 | H72: =+H60-H8 -> 0 | I72: =+I60-I8 -> 0 | ... M72: =+M60-M8 -> 0 | O72: =+O60-O8 -> 0 | P72: =+P60-P8 -> 0 | Q72: =+Q60-Q8 -> 0 | R72: =+R60-R8 -> 0 | S72: =+S60-S8 -> 0 | T72: =+T60-T8 -> 0 | U72: =+U60-U8 -> 0 | V72: =+V60-V8 -> 0 | ... Z72: =+Z60-Z8 -> 0 | AB72: =+AB60-AB8 -> 0 | AC72: =+AC60-AC8 -> 0 | AD72: =+AD60-AD8 -> 0 | AE72: =+AE60-AE8 -> 0 | AF72: =+AF60-AF8 -> 0 | AG72: =+AG60-AG8 -> 0 | AH72: =+AH60-AH8 -> 0 | AI72: =+AI60-AI8 -> 0 | ... AM72: =+AM60-AM8 -> 0 | AO72: =+AO60-AO8 -> 0 | AP72: =+AP60-AP8 -> 0 | AQ72: =+AQ60-AQ8 -> 0 | AR72: =+AR60-AR8 -> 0 | AS72: =+AS60-AS8 -> 0 | AT72: =+AT60-AT8 -> 0 | AU72: =+AU60-AU8 -> 0 | AV72: =+AV60-AV8 -> 0 | ... AZ72: =+AZ60-AZ8 -> 0 | BB72: =+BB60-BB8 -> 0 | BC72: =+BC60-BC8 -> 0 | BD72: =+BD60-BD8 -> 0 | BE72: =+BE60-BE8 -> 0 | BF72: =+BF60-BF8 -> 0 | BG72: =+BG60-BG8 -> 0 | BH72: =+BH60-BH8 -> 0 | BI72: =+BI60-BI8 -> 0 | ... BM72: =+BM60-BM8 -> 0 | BO72: =+BO60-BO8 -> 0 | BP72: =+BP60-BP8 -> 0 | BQ72: =+BQ60-BQ8 -> 0 | BR72: =+BR60-BR8 -> 0 | BS72: =+BS60-BS8 -> 0 | BT72: =+BT60-BT8 -> 0 | BU72: =+BU60-BU8 -> 0 | BV72: =+BV60-BV8 -> 0 | ... BZ72: =+BZ60-BZ8 -> 0
A73: AGN total | B73: =B71+B72 -> 0 | D73: =D71+D72 -> -3267 | F73: =F71+F72 -> -6739 | H73: =H71+H72 -> -5225 | J73: =J71+J72 -> -7769 | L73: =L71+L72 -> 0 | O73: =O71+O72 -> 0 | Q73: =Q71+Q72 -> 0 | S73: =S71+S72 -> 0 | U73: =U71+U72 -> 0 | W73: =W71+W72 -> 0 | Y73: =Y71+Y72 -> 0 | AB73: =AB71+AB72 -> 0 | AD73: =AD71+AD72 -> 0 | AF73: =AF71+AF72 -> 0 | AH73: =AH71+AH72 -> 0 | AJ73: =AJ71+AJ72 -> 0 | AL73: =AL71+AL72 -> 0 | AO73: =AO71+AO72 -> 0 | AQ73: =AQ71+AQ72 -> 0 | AS73: =AS71+AS72 -> 0 | AU73: =AU71+AU72 -> 0 | AW73: =AW71+AW72 -> 0 | AY73: =AY71+AY72 -> 0 | BB73: =BB71+BB72 -> 0 | BD73: =BD71+BD72 -> 0 | BF73: =BF71+BF72 -> 0 | BH73: =BH71+BH72 -> 0 | BJ73: =BJ71+BJ72 -> 0 | BL73: =BL71+BL72 -> 0 | BO73: =BO71+BO72 -> 0 | BQ73: =BQ71+BQ72 -> 0 | BS73: =BS71+BS72 -> 0 | BU73: =BU71+BU72 -> 0 | BW73: =BW71+BW72 -> 0 | BY73: =BY71+BY72 -> 0
A74: Net | B74: =+B62-B10 -> 0 | C74: =+C62-C10 -> 0 | D74: =+D62-D10 -> -9145 | E74: =+E62-E10 -> 0 | F74: =+F62-F10 -> -11583 | G74: =+G62-G10 -> 0 | H74: =+H62-H10 -> -3306 | I74: =+I62-I10 -> 0 | ... M74: =+M62-M10 -> 0 | O74: =+O62-O10 -> 0 | P74: =+P62-P10 -> 0 | Q74: =+Q62-Q10 -> -14539 | R74: =+R62-R10 -> 0 | S74: =+S62-S10 -> -13065 | T74: =+T62-T10 -> 0 | U74: =+U62-U10 -> -5705 | V74: =+V62-V10 -> 0 | ... Z74: =+Z62-Z10 -> 0 | AB74: =+AB62-AB10 -> -10047 | AC74: =+AC62-AC10 -> 0 | AD74: =+AD62-AD10 -> -16949 | AE74: =+AE62-AE10 -> 0 | AF74: =+AF62-AF10 -> -14285 | AG74: =+AG62-AG10 -> 0 | AH74: =+AH62-AH10 -> -4402 | AI74: =+AI62-AI10 -> 0 | ... AM74: =+AM62-AM10 -> 0 | AO74: =+AO62-AO10 -> -7610 | AP74: =+AP62-AP10 -> 0 | AQ74: =+AQ62-AQ10 -> -14696 | AR74: =+AR62-AR10 -> 0 | AS74: =+AS62-AS10 -> -13340 | AT74: =+AT62-AT10 -> 0 | AU74: =+AU62-AU10 -> -4217 | AV74: =+AV62-AV10 -> 0 | ... AZ74: =+AZ62-AZ10 -> 0 | BB74: =+BB62-BB10 -> -7048 | BC74: =+BC62-BC10 -> 0 | BD74: =+BD62-BD10 -> -13747 | BE74: =+BE62-BE10 -> 0 | BF74: =+BF62-BF10 -> -11843 | BG74: =+BG62-BG10 -> 0 | BH74: =+BH62-BH10 -> -4077 | BI74: =+BI62-BI10 -> 0 | ... BM74: =+BM62-BM10 -> 0 | BO74: =+BO62-BO10 -> -8107 | BP74: =+BP62-BP10 -> 0 | BQ74: =+BQ62-BQ10 -> -14148 | BR74: =+BR62-BR10 -> 0 | BS74: =+BS62-BS10 -> -12117 | BT74: =+BT62-BT10 -> 0 | BU74: =+BU62-BU10 -> -5516 | BV74: =+BV62-BV10 -> 0 | ... BZ74: =+BZ62-BZ10 -> 0
A75: Net promo | B75: =+B63-B11 -> 0 | C75: =+C63-C11 -> 0 | D75: =+D63-D11 -> 0 | E75: =+E63-E11 -> 0 | F75: =+F63-F11 -> 0 | G75: =+G63-G11 -> 0 | H75: =+H63-H11 -> 0 | I75: =+I63-I11 -> 0 | ... M75: =+M63-M11 -> 0 | O75: =+O63-O11 -> 0 | P75: =+P63-P11 -> 0 | Q75: =+Q63-Q11 -> 0 | R75: =+R63-R11 -> 0 | S75: =+S63-S11 -> 0 | T75: =+T63-T11 -> 0 | U75: =+U63-U11 -> 0 | V75: =+V63-V11 -> 0 | ... Z75: =+Z63-Z11 -> 0 | AB75: =+AB63-AB11 -> 0 | AC75: =+AC63-AC11 -> 0 | AD75: =+AD63-AD11 -> 0 | AE75: =+AE63-AE11 -> 0 | AF75: =+AF63-AF11 -> 0 | AG75: =+AG63-AG11 -> 0 | AH75: =+AH63-AH11 -> 0 | AI75: =+AI63-AI11 -> 0 | ... AM75: =+AM63-AM11 -> 0 | AO75: =+AO63-AO11 -> 0 | AP75: =+AP63-AP11 -> 0 | AQ75: =+AQ63-AQ11 -> 0 | AR75: =+AR63-AR11 -> 0 | AS75: =+AS63-AS11 -> 0 | AT75: =+AT63-AT11 -> 0 | AU75: =+AU63-AU11 -> 0 | AV75: =+AV63-AV11 -> 0 | ... AZ75: =+AZ63-AZ11 -> 0 | BB75: =+BB63-BB11 -> 0 | BC75: =+BC63-BC11 -> 0 | BD75: =+BD63-BD11 -> 0 | BE75: =+BE63-BE11 -> 0 | BF75: =+BF63-BF11 -> 0 | BG75: =+BG63-BG11 -> 0 | BH75: =+BH63-BH11 -> 0 | BI75: =+BI63-BI11 -> 0 | ... BM75: =+BM63-BM11 -> 0 | BO75: =+BO63-BO11 -> 0 | BP75: =+BP63-BP11 -> 0 | BQ75: =+BQ63-BQ11 -> 0 | BR75: =+BR63-BR11 -> 0 | BS75: =+BS63-BS11 -> 0 | BT75: =+BT63-BT11 -> 0 | BU75: =+BU63-BU11 -> 0 | BV75: =+BV63-BV11 -> 0 | ... BZ75: =+BZ63-BZ11 -> 0
A76: Net total | B76: =B74+B75 -> 0 | D76: =D74+D75 -> -9145 | F76: =F74+F75 -> -11583 | H76: =H74+H75 -> -3306 | J76: =J74+J75 -> -8832 | L76: =L74+L75 -> -10401 | O76: =O74+O75 -> 0 | Q76: =Q74+Q75 -> -14539 | S76: =S74+S75 -> -13065 | U76: =U74+U75 -> -5705 | W76: =W74+W75 -> -10706 | Y76: =Y74+Y75 -> -12783 | AB76: =AB74+AB75 -> -10047 | AD76: =AD74+AD75 -> -16949 | AF76: =AF74+AF75 -> -14285 | AH76: =AH74+AH75 -> -4402 | AJ76: =AJ74+AJ75 -> -9210 | AL76: =AL74+AL75 -> -10818 | AO76: =AO74+AO75 -> -7610 | AQ76: =AQ74+AQ75 -> -14696 | AS76: =AS74+AS75 -> -13340 | AU76: =AU74+AU75 -> -4217 | AW76: =AW74+AW75 -> -7428 | AY76: =AY74+AY75 -> -9246 | BB76: =BB74+BB75 -> -7048 | BD76: =BD74+BD75 -> -13747 | BF76: =BF74+BF75 -> -11843 | BH76: =BH74+BH75 -> -4077 | BJ76: =BJ74+BJ75 -> -9132 | BL76: =BL74+BL75 -> -10568 | BO76: =BO74+BO75 -> -8107 | BQ76: =BQ74+BQ75 -> -14148 | BS76: =BS74+BS75 -> -12117 | BU76: =BU74+BU75 -> -5516 | BW76: =BW74+BW75 -> -11033 | BY76: =BY74+BY75 -> -11848
A77: MGS | B77: =+B67-B13 -> 0 | C77: =+C67-C13 -> 0 | D77: =+D67-D13 -> -10225 | E77: =+E67-E13 -> 0 | F77: =+F67-F13 -> -8298 | G77: =+G67-G13 -> 0 | H77: =+H67-H13 -> -8221 | I77: =+I67-I13 -> 0 | ... M77: =+M67-M13 -> 0 | O77: =+O67-O13 -> 0 | P77: =+P67-P13 -> 0 | Q77: =+Q67-Q13 -> -16365 | R77: =+R67-R13 -> 0 | S77: =+S67-S13 -> -13513 | T77: =+T67-T13 -> 0 | U77: =+U67-U13 -> -12803 | V77: =+V67-V13 -> 0 | ... Z77: =+Z67-Z13 -> 0 | AB77: =+AB67-AB13 -> -15380 | AC77: =+AC67-AC13 -> 0 | AD77: =+AD67-AD13 -> -17388 | AE77: =+AE67-AE13 -> 0 | AF77: =+AF67-AF13 -> -13099 | AG77: =+AG67-AG13 -> 0 | AH77: =+AH67-AH13 -> -11406 | AI77: =+AI67-AI13 -> 0 | ... AM77: =+AM67-AM13 -> 0 | AO77: =+AO67-AO13 -> -14324 | AP77: =+AP67-AP13 -> 0 | AQ77: =+AQ67-AQ13 -> -18006 | AR77: =+AR67-AR13 -> 0 | AS77: =+AS67-AS13 -> -13155 | AT77: =+AT67-AT13 -> 0 | AU77: =+AU67-AU13 -> -11660 | AV77: =+AV67-AV13 -> 0 | ... AZ77: =+AZ67-AZ13 -> 0 | BB77: =+BB67-BB13 -> -15318 | BC77: =+BC67-BC13 -> 0 | BD77: =+BD67-BD13 -> -15970 | BE77: =+BE67-BE13 -> 0 | BF77: =+BF67-BF13 -> -12913 | BG77: =+BG67-BG13 -> 0 | BH77: =+BH67-BH13 -> -10693 | BI77: =+BI67-BI13 -> 0 | ... BM77: =+BM67-BM13 -> 0 | BO77: =+BO67-BO13 -> -13159 | BP77: =+BP67-BP13 -> 0 | BQ77: =+BQ67-BQ13 -> -16106 | BR77: =+BR67-BR13 -> 0 | BS77: =+BS67-BS13 -> -13324 | BT77: =+BT67-BT13 -> 0 | BU77: =+BU67-BU13 -> -10592 | BV77: =+BV67-BV13 -> 0 | ... BZ77: =+BZ67-BZ13 -> 0
A78: MG promo | B78: =+B66-B14 -> 0 | C78: =+C66-C14 -> 0 | D78: =+D66-D14 -> 0 | E78: =+E66-E14 -> 0 | F78: =+F66-F14 -> 0 | G78: =+G66-G14 -> 0 | H78: =+H66-H14 -> 0 | I78: =+I66-I14 -> 0 | ... M78: =+M66-M14 -> 0 | O78: =+O66-O14 -> 0 | P78: =+P66-P14 -> 0 | Q78: =+Q66-Q14 -> 0 | R78: =+R66-R14 -> 0 | S78: =+S66-S14 -> 0 | T78: =+T66-T14 -> 0 | U78: =+U66-U14 -> 0 | V78: =+V66-V14 -> 0 | ... Z78: =+Z66-Z14 -> 0 | AB78: =+AB66-AB14 -> 0 | AC78: =+AC66-AC14 -> 0 | AD78: =+AD66-AD14 -> 0 | AE78: =+AE66-AE14 -> 0 | AF78: =+AF66-AF14 -> 0 | AG78: =+AG66-AG14 -> 0 | AH78: =+AH66-AH14 -> 0 | AI78: =+AI66-AI14 -> 0 | ... AM78: =+AM66-AM14 -> 0 | AO78: =+AO66-AO14 -> 0 | AP78: =+AP66-AP14 -> 0 | AQ78: =+AQ66-AQ14 -> 0 | AR78: =+AR66-AR14 -> 0 | AS78: =+AS66-AS14 -> 0 | AT78: =+AT66-AT14 -> 0 | AU78: =+AU66-AU14 -> 0 | AV78: =+AV66-AV14 -> 0 | ... AZ78: =+AZ66-AZ14 -> 0 | BB78: =+BB66-BB14 -> 0 | BC78: =+BC66-BC14 -> 0 | BD78: =+BD66-BD14 -> 0 | BE78: =+BE66-BE14 -> 0 | BF78: =+BF66-BF14 -> 0 | BG78: =+BG66-BG14 -> 0 | BH78: =+BH66-BH14 -> 0 | BI78: =+BI66-BI14 -> 0 | ... BM78: =+BM66-BM14 -> 0 | BO78: =+BO66-BO14 -> 0 | BP78: =+BP66-BP14 -> 0 | BQ78: =+BQ66-BQ14 -> 0 | BR78: =+BR66-BR14 -> 0 | BS78: =+BS66-BS14 -> 0 | BT78: =+BT66-BT14 -> 0 | BU78: =+BU66-BU14 -> 0 | BV78: =+BV66-BV14 -> 0 | ... BZ78: =+BZ66-BZ14 -> 0
A79: MG total | B79: =B77+B78 -> 0 | D79: =D77+D78 -> -10225 | F79: =F77+F78 -> -8298 | H79: =H77+H78 -> -8221 | J79: =J77+J78 -> -14898 | L79: =L77+L78 -> -3322 | O79: =O77+O78 -> 0 | Q79: =Q77+Q78 -> -16365 | S79: =S77+S78 -> -13513 | U79: =U77+U78 -> -12803 | W79: =W77+W78 -> -13200 | Y79: =Y77+Y78 -> -2700 | AB79: =AB77+AB78 -> -15380 | AD79: =AD77+AD78 -> -17388 | AF79: =AF77+AF78 -> -13099 | AH79: =AH77+AH78 -> -11406 | AJ79: =AJ77+AJ78 -> -12068 | AL79: =AL77+AL78 -> -2272 | AO79: =AO77+AO78 -> -14324 | AQ79: =AQ77+AQ78 -> -18006 | AS79: =AS77+AS78 -> -13155 | AU79: =AU77+AU78 -> -11660 | AW79: =AW77+AW78 -> -12567 | AY79: =AY77+AY78 -> -2277 | BB79: =BB77+BB78 -> -15318 | BD79: =BD77+BD78 -> -15970 | BF79: =BF77+BF78 -> -12913 | BH79: =BH77+BH78 -> -10693 | BJ79: =BJ77+BJ78 -> -10792 | BL79: =BL77+BL78 -> -2270 | BO79: =BO77+BO78 -> -13159 | BQ79: =BQ77+BQ78 -> -16106 | BS79: =BS77+BS78 -> -13324 | BU79: =BU77+BU78 -> -10592 | BW79: =BW77+BW78 -> -11257 | BY79: =BY77+BY78 -> -2213
B81: ÉCART PRÉVISIONS/RÉELLE EN % | O81: ÉCART PRÉVISIONS/RÉELLE EN % | AB81: ÉCART PRÉVISIONS/RÉELLE EN % | AO81: ÉCART PRÉVISIONS/RÉELLE EN % | BB81: ÉCART PRÉVISIONS/RÉELLE EN % | BO81: ÉCART PRÉVISIONS/RÉELLE EN %
A82: Transfert (EIT, Portugal,…) | B82: =B58/B6 -> #DIV/0! | D82: =D58/D6 -> #DIV/0! | F82: =F58/F6 -> #DIV/0! | H82: =H58/H6 -> #DIV/0! | J82: =J58/J6 -> #DIV/0! | L82: =L58/L6 -> #DIV/0! | O82: =O58/O6 -> #DIV/0! | Q82: =Q58/Q6 -> #DIV/0! | S82: =S58/S6 -> #DIV/0! | U82: =U58/U6 -> #DIV/0! | W82: =W58/W6 -> #DIV/0! | Y82: =Y58/Y6 -> #DIV/0! | AB82: =AB58/AB6 -> #DIV/0! | AD82: =AD58/AD6 -> #DIV/0! | AF82: =AF58/AF6 -> #DIV/0! | AH82: =AH58/AH6 -> #DIV/0! | AJ82: =AJ58/AJ6 -> #DIV/0! | AL82: =AL58/AL6 -> #DIV/0! | AO82: =AO58/AO6 -> #DIV/0! | AQ82: =AQ58/AQ6 -> #DIV/0! | AS82: =AS58/AS6 -> #DIV/0! | AU82: =AU58/AU6 -> #DIV/0! | AW82: =AW58/AW6 -> #DIV/0! | AY82: =AY58/AY6 -> #DIV/0! | BB82: =BB58/BB6 -> #DIV/0! | BD82: =BD58/BD6 -> #DIV/0! | BF82: =BF58/BF6 -> #DIV/0! | BH82: =BH58/BH6 -> #DIV/0! | BJ82: =BJ58/BJ6 -> #DIV/0! | BL82: =BL58/BL6 -> #DIV/0! | BO82: =BO58/BO6 -> #DIV/0! | BQ82: =BQ58/BQ6 -> #DIV/0! | BS82: =BS58/BS6 -> #DIV/0! | BU82: =BU58/BU6 -> #DIV/0! | BW82: =BW58/BW6 -> #DIV/0! | BY82: =BY58/BY6 -> #DIV/0!
A83: AGN | B83: =B59/B7 -> #DIV/0! | D83: =D59/D7 -> 0 | F83: =F59/F7 -> 0 | H83: =H59/H7 -> 0 | J83: =J59/J7 -> 0 | L83: =L59/L7 -> #DIV/0! | O83: =O59/O7 -> #DIV/0! | Q83: =Q59/Q7 -> #DIV/0! | S83: =S59/S7 -> #DIV/0! | U83: =U59/U7 -> #DIV/0! | W83: =W59/W7 -> #DIV/0! | Y83: =Y59/Y7 -> #DIV/0! | AB83: =AB59/AB7 -> #DIV/0! | AD83: =AD59/AD7 -> #DIV/0! | AF83: =AF59/AF7 -> #DIV/0! | AH83: =AH59/AH7 -> #DIV/0! | AJ83: =AJ59/AJ7 -> #DIV/0! | AL83: =AL59/AL7 -> #DIV/0! | AO83: =AO59/AO7 -> #DIV/0! | AQ83: =AQ59/AQ7 -> #DIV/0! | AS83: =AS59/AS7 -> #DIV/0! | AU83: =AU59/AU7 -> #DIV/0! | AW83: =AW59/AW7 -> #DIV/0! | AY83: =AY59/AY7 -> #DIV/0! | BB83: =BB59/BB7 -> #DIV/0! | BD83: =BD59/BD7 -> #DIV/0! | BF83: =BF59/BF7 -> #DIV/0! | BH83: =BH59/BH7 -> #DIV/0! | BJ83: =BJ59/BJ7 -> #DIV/0! | BL83: =BL59/BL7 -> #DIV/0! | BO83: =BO59/BO7 -> #DIV/0! | BQ83: =BQ59/BQ7 -> #DIV/0! | BS83: =BS59/BS7 -> #DIV/0! | BU83: =BU59/BU7 -> #DIV/0! | BW83: =BW59/BW7 -> #DIV/0! | BY83: =BY59/BY7 -> #DIV/0!
A84: AGN promo | B84: =B60/B8 -> #DIV/0! | D84: =D60/D8 -> #DIV/0! | F84: =F60/F8 -> #DIV/0! | H84: =H60/H8 -> #DIV/0! | J84: =J60/J8 -> #DIV/0! | L84: =L60/L8 -> #DIV/0! | O84: =O60/O8 -> #DIV/0! | Q84: =Q60/Q8 -> #DIV/0! | S84: =S60/S8 -> #DIV/0! | U84: =U60/U8 -> #DIV/0! | W84: =W60/W8 -> #DIV/0! | Y84: =Y60/Y8 -> #DIV/0! | AB84: =AB60/AB8 -> #DIV/0! | AD84: =AD60/AD8 -> #DIV/0! | AF84: =AF60/AF8 -> #DIV/0! | AH84: =AH60/AH8 -> #DIV/0! | AJ84: =AJ60/AJ8 -> #DIV/0! | AL84: =AL60/AL8 -> #DIV/0! | AO84: =AO60/AO8 -> #DIV/0! | AQ84: =AQ60/AQ8 -> #DIV/0! | AS84: =AS60/AS8 -> #DIV/0! | AU84: =AU60/AU8 -> #DIV/0! | AW84: =AW60/AW8 -> #DIV/0! | AY84: =AY60/AY8 -> #DIV/0! | BB84: =BB60/BB8 -> #DIV/0! | BD84: =BD60/BD8 -> #DIV/0! | BF84: =BF60/BF8 -> #DIV/0! | BH84: =BH60/BH8 -> #DIV/0! | BJ84: =BJ60/BJ8 -> #DIV/0! | BL84: =BL60/BL8 -> #DIV/0! | BO84: =BO60/BO8 -> #DIV/0! | BQ84: =BQ60/BQ8 -> #DIV/0! | BS84: =BS60/BS8 -> #DIV/0! | BU84: =BU60/BU8 -> #DIV/0! | BW84: =BW60/BW8 -> #DIV/0! | BY84: =BY60/BY8 -> #DIV/0!
A85: AGN total | B85: =B61/B9 -> #DIV/0! | D85: =D61/D9 -> 0 | F85: =F61/F9 -> 0 | H85: =H61/H9 -> 0 | J85: =J61/J9 -> 0 | L85: =L61/L9 -> #DIV/0! | O85: =O61/O9 -> #DIV/0! | Q85: =Q61/Q9 -> #DIV/0! | S85: =S61/S9 -> #DIV/0! | U85: =U61/U9 -> #DIV/0! | W85: =W61/W9 -> #DIV/0! | Y85: =Y61/Y9 -> #DIV/0! | AB85: =AB61/AB9 -> #DIV/0! | AD85: =AD61/AD9 -> #DIV/0! | AF85: =AF61/AF9 -> #DIV/0! | AH85: =AH61/AH9 -> #DIV/0! | AJ85: =AJ61/AJ9 -> #DIV/0! | AL85: =AL61/AL9 -> #DIV/0! | AO85: =AO61/AO9 -> #DIV/0! | AQ85: =AQ61/AQ9 -> #DIV/0! | AS85: =AS61/AS9 -> #DIV/0! | AU85: =AU61/AU9 -> #DIV/0! | AW85: =AW61/AW9 -> #DIV/0! | AY85: =AY61/AY9 -> #DIV/0! | BB85: =BB61/BB9 -> #DIV/0! | BD85: =BD61/BD9 -> #DIV/0! | BF85: =BF61/BF9 -> #DIV/0! | BH85: =BH61/BH9 -> #DIV/0! | BJ85: =BJ61/BJ9 -> #DIV/0! | BL85: =BL61/BL9 -> #DIV/0! | BO85: =BO61/BO9 -> #DIV/0! | BQ85: =BQ61/BQ9 -> #DIV/0! | BS85: =BS61/BS9 -> #DIV/0! | BU85: =BU61/BU9 -> #DIV/0! | BW85: =BW61/BW9 -> #DIV/0! | BY85: =BY61/BY9 -> #DIV/0!
A86: Net | B86: =B62/B10 -> #DIV/0! | D86: =D62/D10 -> 0 | F86: =F62/F10 -> 0 | H86: =H62/H10 -> 0 | J86: =J62/J10 -> 0 | L86: =L62/L10 -> 0 | O86: =O62/O10 -> #DIV/0! | Q86: =Q62/Q10 -> 0 | S86: =S62/S10 -> 0 | U86: =U62/U10 -> 0 | W86: =W62/W10 -> 0 | Y86: =Y62/Y10 -> 0 | AB86: =AB62/AB10 -> 0 | AD86: =AD62/AD10 -> 0 | AF86: =AF62/AF10 -> 0 | AH86: =AH62/AH10 -> 0 | AJ86: =AJ62/AJ10 -> 0 | AL86: =AL62/AL10 -> 0 | AO86: =AO62/AO10 -> 0 | AQ86: =AQ62/AQ10 -> 0 | AS86: =AS62/AS10 -> 0 | AU86: =AU62/AU10 -> 0 | AW86: =AW62/AW10 -> 0 | AY86: =AY62/AY10 -> 0 | BB86: =BB62/BB10 -> 0 | BD86: =BD62/BD10 -> 0 | BF86: =BF62/BF10 -> 0 | BH86: =BH62/BH10 -> 0 | BJ86: =BJ62/BJ10 -> 0 | BL86: =BL62/BL10 -> 0 | BO86: =BO62/BO10 -> 0 | BQ86: =BQ62/BQ10 -> 0 | BS86: =BS62/BS10 -> 0 | BU86: =BU62/BU10 -> 0 | BW86: =BW62/BW10 -> 0 | BY86: =BY62/BY10 -> 0
A87: Net promo | B87: =B63/B11 -> #DIV/0! | D87: =D63/D11 -> #DIV/0! | F87: =F63/F11 -> #DIV/0! | H87: =H63/H11 -> #DIV/0! | J87: =J63/J11 -> #DIV/0! | L87: =L63/L11 -> #DIV/0! | O87: =O63/O11 -> #DIV/0! | Q87: =Q63/Q11 -> #DIV/0! | S87: =S63/S11 -> #DIV/0! | U87: =U63/U11 -> #DIV/0! | W87: =W63/W11 -> #DIV/0! | Y87: =Y63/Y11 -> #DIV/0! | AB87: =AB63/AB11 -> #DIV/0! | AD87: =AD63/AD11 -> #DIV/0! | AF87: =AF63/AF11 -> #DIV/0! | AH87: =AH63/AH11 -> #DIV/0! | AJ87: =AJ63/AJ11 -> #DIV/0! | AL87: =AL63/AL11 -> #DIV/0! | AO87: =AO63/AO11 -> #DIV/0! | AQ87: =AQ63/AQ11 -> #DIV/0! | AS87: =AS63/AS11 -> #DIV/0! | AU87: =AU63/AU11 -> #DIV/0! | AW87: =AW63/AW11 -> #DIV/0! | AY87: =AY63/AY11 -> #DIV/0! | BB87: =BB63/BB11 -> #DIV/0! | BD87: =BD63/BD11 -> #DIV/0! | BF87: =BF63/BF11 -> #DIV/0! | BH87: =BH63/BH11 -> #DIV/0! | BJ87: =BJ63/BJ11 -> #DIV/0! | BL87: =BL63/BL11 -> #DIV/0! | BO87: =BO63/BO11 -> #DIV/0! | BQ87: =BQ63/BQ11 -> #DIV/0! | BS87: =BS63/BS11 -> #DIV/0! | BU87: =BU63/BU11 -> #DIV/0! | BW87: =BW63/BW11 -> #DIV/0! | BY87: =BY63/BY11 -> #DIV/0!
A88: Net total | B88: =B64/B12 -> #DIV/0! | D88: =D64/D12 -> 0 | F88: =F64/F12 -> 0 | H88: =H64/H12 -> 0 | J88: =J64/J12 -> 0 | L88: =L64/L12 -> 0 | O88: =O64/O12 -> #DIV/0! | Q88: =Q64/Q12 -> 0 | S88: =S64/S12 -> 0 | U88: =U64/U12 -> 0 | W88: =W64/W12 -> 0 | Y88: =Y64/Y12 -> 0 | AB88: =AB64/AB12 -> 0 | AD88: =AD64/AD12 -> 0 | AF88: =AF64/AF12 -> 0 | AH88: =AH64/AH12 -> 0 | AJ88: =AJ64/AJ12 -> 0 | AL88: =AL64/AL12 -> 0 | AO88: =AO64/AO12 -> 0 | AQ88: =AQ64/AQ12 -> 0 | AS88: =AS64/AS12 -> 0 | AU88: =AU64/AU12 -> 0 | AW88: =AW64/AW12 -> 0 | AY88: =AY64/AY12 -> 0 | BB88: =BB64/BB12 -> 0 | BD88: =BD64/BD12 -> 0 | BF88: =BF64/BF12 -> 0 | BH88: =BH64/BH12 -> 0 | BJ88: =BJ64/BJ12 -> 0 | BL88: =BL64/BL12 -> 0 | BO88: =BO64/BO12 -> 0 | BQ88: =BQ64/BQ12 -> 0 | BS88: =BS64/BS12 -> 0 | BU88: =BU64/BU12 -> 0 | BW88: =BW64/BW12 -> 0 | BY88: =BY64/BY12 -> 0
A89: MGS | B89: =B65/B13 -> #DIV/0! | D89: =D65/D13 -> 0 | F89: =F65/F13 -> 0 | H89: =H65/H13 -> 0 | J89: =J65/J13 -> 0 | L89: =L65/L13 -> 0 | O89: =O65/O13 -> #DIV/0! | Q89: =Q65/Q13 -> 0 | S89: =S65/S13 -> 0 | U89: =U65/U13 -> 0 | W89: =W65/W13 -> 0 | Y89: =Y65/Y13 -> 0 | AB89: =AB65/AB13 -> 0 | AD89: =AD65/AD13 -> 0 | AF89: =AF65/AF13 -> 0 | AH89: =AH65/AH13 -> 0 | AJ89: =AJ65/AJ13 -> 0 | AL89: =AL65/AL13 -> 0 | AO89: =AO65/AO13 -> 0 | AQ89: =AQ65/AQ13 -> 0 | AS89: =AS65/AS13 -> 0 | AU89: =AU65/AU13 -> 0 | AW89: =AW65/AW13 -> 0 | AY89: =AY65/AY13 -> 0 | BB89: =BB65/BB13 -> 0 | BD89: =BD65/BD13 -> 0 | BF89: =BF65/BF13 -> 0 | BH89: =BH65/BH13 -> 0 | BJ89: =BJ65/BJ13 -> 0 | BL89: =BL65/BL13 -> 0 | BO89: =BO65/BO13 -> 0 | BQ89: =BQ65/BQ13 -> 0 | BS89: =BS65/BS13 -> 0 | BU89: =BU65/BU13 -> 0 | BW89: =BW65/BW13 -> 0 | BY89: =BY65/BY13 -> 0
A90: MG promo | B90: =B66/B14 -> #DIV/0! | D90: =D66/D14 -> #DIV/0! | F90: =F66/F14 -> #DIV/0! | H90: =H66/H14 -> #DIV/0! | J90: =J66/J14 -> #DIV/0! | L90: =L66/L14 -> #DIV/0! | O90: =O66/O14 -> #DIV/0! | Q90: =Q66/Q14 -> #DIV/0! | S90: =S66/S14 -> #DIV/0! | U90: =U66/U14 -> #DIV/0! | W90: =W66/W14 -> #DIV/0! | Y90: =Y66/Y14 -> #DIV/0! | AB90: =AB66/AB14 -> #DIV/0! | AD90: =AD66/AD14 -> #DIV/0! | AF90: =AF66/AF14 -> #DIV/0! | AH90: =AH66/AH14 -> #DIV/0! | AJ90: =AJ66/AJ14 -> #DIV/0! | AL90: =AL66/AL14 -> #DIV/0! | AO90: =AO66/AO14 -> #DIV/0! | AQ90: =AQ66/AQ14 -> #DIV/0! | AS90: =AS66/AS14 -> #DIV/0! | AU90: =AU66/AU14 -> #DIV/0! | AW90: =AW66/AW14 -> #DIV/0! | AY90: =AY66/AY14 -> #DIV/0! | BB90: =BB66/BB14 -> #DIV/0! | BD90: =BD66/BD14 -> #DIV/0! | BF90: =BF66/BF14 -> #DIV/0! | BH90: =BH66/BH14 -> #DIV/0! | BJ90: =BJ66/BJ14 -> #DIV/0! | BL90: =BL66/BL14 -> #DIV/0! | BO90: =BO66/BO14 -> #DIV/0! | BQ90: =BQ66/BQ14 -> #DIV/0! | BS90: =BS66/BS14 -> #DIV/0! | BU90: =BU66/BU14 -> #DIV/0! | BW90: =BW66/BW14 -> #DIV/0! | BY90: =BY66/BY14 -> #DIV/0!
A91: MG total | B91: =B67/B16 -> #DIV/0! | D91: =D67/D16 -> 0 | F91: =F67/F16 -> 0 | H91: =H67/H16 -> 0 | J91: =J67/J16 -> 0 | L91: =L67/L16 -> 0 | O91: =O67/O16 -> #DIV/0! | Q91: =Q67/Q16 -> 0 | S91: =S67/S16 -> 0 | U91: =U67/U16 -> 0 | W91: =W67/W16 -> 0 | Y91: =Y67/Y16 -> 0 | AB91: =AB67/AB16 -> 0 | AD91: =AD67/AD16 -> 0 | AF91: =AF67/AF16 -> 0 | AH91: =AH67/AH16 -> 0 | AJ91: =AJ67/AJ16 -> 0 | AL91: =AL67/AL16 -> 0 | AO91: =AO67/AO16 -> 0 | AQ91: =AQ67/AQ16 -> 0 | AS91: =AS67/AS16 -> 0 | AU91: =AU67/AU16 -> 0 | AW91: =AW67/AW16 -> 0 | AY91: =AY67/AY16 -> 0 | BB91: =BB67/BB16 -> 0 | BD91: =BD67/BD16 -> 0 | BF91: =BF67/BF16 -> 0 | BH91: =BH67/BH16 -> 0 | BJ91: =BJ67/BJ16 -> 0 | BL91: =BL67/BL16 -> 0 | BO91: =BO67/BO16 -> 0 | BQ91: =BQ67/BQ16 -> 0 | BS91: =BS67/BS16 -> 0 | BU91: =BU67/BU16 -> 0 | BW91: =BW67/BW16 -> 0 | BY91: =BY67/BY16 -> 0

Sheet Prep2017 
B1: S01 | I1: S02 | P1: S03 | W1: S04 | AD1: S05 | AK1: S06 | AR1: S07 | AY1: S08 | BF1: S09 | BM1: S10 | BT1: S11 | CA1: S12 | CH1: S13 | CO1: S14 | CV1: S15 | DC1: S16 | DJ1: S17 | DQ1: S18 | DX1: S19 | EE1: S20 | EL1: S21 | ES1: S22 | EZ1: S23 | FG1: S24 | FN1: S25 | FU1: S26 | GB1: S27 | GI1: S28 | GP1: S29 | GW1: S30 | HD1: S31 | HK1: S32 | HR1: S33 | HY1: S34 | IF1: S35 | IM1: S36 | IT1: S37 | JA1: S38 | JH1: S39 | JO1: S40 | JV1: S41 | KC1: S42 | KJ1: S43 | KQ1: S44 | KX1: S45 | LE1: S46 | LL1: S47 | LS1: S48 | LZ1: S49 | MG1: S50 | MN1: S51 | MU1: S52
A2: tombée du | B2: lundi | C2: mardi | D2: mercredi | E2: jeudi | F2: vendredi | G2: samedi | I2: lundi | J2: mardi | K2: mercredi | L2: jeudi | M2: vendredi | N2: samedi | P2: lundi | Q2: mardi | R2: mercredi | S2: jeudi | T2: vendredi | U2: samedi | W2: lundi | X2: mardi | Y2: mercredi | Z2: jeudi | AA2: vendredi | AB2: samedi | AD2: lundi | AE2: mardi | AF2: mercredi | AG2: jeudi | AH2: vendredi | AI2: samedi | AK2: lundi | AL2: mardi | AM2: mercredi | AN2: jeudi | AO2: vendredi | AP2: samedi | AR2: lundi | AS2: mardi | AT2: mercredi | AU2: jeudi | AV2: vendredi | AW2: samedi | AY2: lundi | AZ2: mardi | BA2: mercredi | BB2: jeudi | BC2: vendredi | BD2: samedi | BF2: lundi | BG2: mardi | BH2: mercredi | BI2: jeudi | BJ2: vendredi | BK2: samedi | BM2: lundi | BN2: mardi | BO2: mercredi | BP2: jeudi | BQ2: vendredi | BR2: samedi | BT2: lundi | BU2: mardi | BV2: mercredi | BW2: jeudi | BX2: vendredi | BY2: samedi | CA2: lundi | CB2: mardi | CC2: mercredi | CD2: jeudi | CE2: vendredi | CF2: samedi | CH2: lundi | CI2: mardi | CJ2: mercredi | CK2: jeudi | CL2: vendredi | CM2: samedi | CO2: lundi | CP2: mardi | CQ2: mercredi | CR2: jeudi | CS2: vendredi | CT2: samedi | CV2: lundi | CW2: mardi | CX2: mercredi | CY2: jeudi | CZ2: vendredi | DA2: samedi | DC2: lundi | DD2: mardi | DE2: mercredi | DF2: jeudi | DG2: vendredi | DH2: samedi | DJ2: lundi | DK2: mardi | DL2: mercredi | DM2: jeudi | DN2: vendredi | DO2: samedi | DQ2: lundi | DR2: mardi | DS2: mercredi | DT2: jeudi | DU2: vendredi | DV2: samedi | DX2: lundi | DY2: mardi | DZ2: mercredi | EA2: jeudi | EB2: vendredi | EC2: samedi | EE2: lundi | EF2: mardi | EG2: mercredi | EH2: jeudi | EI2: vendredi | EJ2: samedi | EL2: lundi | EM2: mardi | EN2: mercredi | EO2: jeudi | EP2: vendredi | EQ2: samedi | ES2: lundi | ET2: mardi | EU2: mercredi | EV2: jeudi | EW2: vendredi | EX2: samedi | EZ2: lundi | FA2: mardi | FB2: mercredi | FC2: jeudi | FD2: vendredi | FE2: samedi | FG2: lundi | FH2: mardi | FI2: mercredi | FJ2: jeudi | FK2: vendredi | FL2: samedi | FN2: lundi | FO2: mardi | FP2: mercredi | FQ2: jeudi | FR2: vendredi | FS2: samedi | FU2: lundi | FV2: mardi | FW2: mercredi | FX2: jeudi | FY2: vendredi | FZ2: samedi | GB2: lundi | GC2: mardi | GD2: mercredi | GE2: jeudi | GF2: vendredi | GG2: samedi | GI2: lundi | GJ2: mardi | GK2: mercredi | GL2: jeudi | GM2: vendredi | GN2: samedi | GP2: lundi | GQ2: mardi | GR2: mercredi | GS2: jeudi | GT2: vendredi | GU2: samedi | GW2: lundi | GX2: mardi | GY2: mercredi | GZ2: jeudi | HA2: vendredi | HB2: samedi | HD2: lundi | HE2: mardi | HF2: mercredi | HG2: jeudi | HH2: vendredi | HI2: samedi | HK2: lundi | HL2: mardi | HM2: mercredi | HN2: jeudi | HO2: vendredi | HP2: samedi | HR2: lundi | HS2: mardi | HT2: mercredi | HU2: jeudi | HV2: vendredi | HW2: samedi | HY2: lundi | HZ2: mardi | IA2: mercredi | IB2: jeudi | IC2: vendredi | ID2: samedi | IF2: lundi | IG2: mardi | IH2: mercredi | II2: jeudi | IJ2: vendredi | IK2: samedi | IM2: lundi | IN2: mardi | IO2: mercredi | IP2: jeudi | IQ2: vendredi | IR2: samedi | IT2: lundi | IU2: mardi | IV2: mercredi | IW2: jeudi | IX2: vendredi | IY2: samedi | JA2: lundi | JB2: mardi | JC2: mercredi | JD2: jeudi | JE2: vendredi | JF2: samedi | JH2: lundi | JI2: mardi | JJ2: mercredi | JK2: jeudi | JL2: vendredi | JM2: samedi | JO2: lundi | JP2: mardi | JQ2: mercredi | JR2: jeudi | JS2: vendredi | JT2: samedi | JV2: lundi | JW2: mardi | JX2: mercredi | JY2: jeudi | JZ2: vendredi | KA2: samedi | KC2: lundi | KD2: mardi | KE2: mercredi | KF2: jeudi | KG2: vendredi | KH2: samedi | KJ2: lundi | KK2: mardi | KL2: mercredi | KM2: jeudi | KN2: vendredi | KO2: samedi | KQ2: lundi | KR2: mardi | KS2: mercredi | KT2: jeudi | KU2: vendredi | KV2: samedi | KX2: lundi | KY2: mardi | KZ2: mercredi | LA2: jeudi | LB2: vendredi | LC2: samedi | LE2: lundi | LF2: mardi | LG2: mercredi | LH2: jeudi | LI2: vendredi | LJ2: samedi | LL2: lundi | LM2: mardi | LN2: mercredi | LO2: jeudi | LP2: vendredi | LQ2: samedi | LS2: lundi | LT2: mardi | LU2: mercredi | LV2: jeudi | LW2: vendredi | LX2: samedi | LZ2: lundi | MA2: mardi | MB2: mercredi | MC2: jeudi | MD2: vendredi | ME2: samedi | MG2: lundi | MH2: mardi | MI2: mercredi | MJ2: jeudi | MK2: vendredi | ML2: samedi | MN2: lundi | MO2: mardi | MP2: mercredi | MQ2: jeudi | MR2: vendredi | MS2: samedi | MU2: lundi | MV2: mardi | MW2: mercredi | MX2: jeudi | MY2: vendredi | MZ2: samedi
B3: 42737 | C3: 42738 | D3: 42739 | E3: 42740 | F3: 42741 | G3: 42742 | I3: 42744 | J3: 42745 | K3: 42746 | L3: 42747 | M3: 42748 | N3: 42749 | P3: 42751 | Q3: 42752 | R3: 42753 | S3: 42754 | T3: 42755 | U3: 42756 | W3: 42758 | X3: 42759 | Y3: 42760 | Z3: 42761 | AA3: 42762 | AB3: 42763 | AD3: 42765 | AE3: 42766 | AF3: 42767 | AG3: 42768 | AH3: 42769 | AI3: 42770 | AK3: 42772 | AL3: 42773 | AM3: 42774 | AN3: 42775 | AO3: 42776 | AP3: 42777 | AR3: 42779 | AS3: 42780 | AT3: 42781 | AU3: 42782 | AV3: 42783 | AW3: 42784 | AY3: 42786 | AZ3: 42787 | BA3: 42788 | BB3: 42789 | BC3: 42790 | BD3: 42791 | BF3: 42793 | BG3: 42794 | BH3: 42795 | BI3: 42796 | BJ3: 42797 | BK3: 42798 | BM3: 42800 | BN3: 42801 | BO3: 42802 | BP3: 42803 | BQ3: 42804 | BR3: 42805 | BT3: 42807 | BU3: 42808 | BV3: 42809 | BW3: 42810 | BX3: 42811 | BY3: 42812 | CA3: 42814 | CB3: 42815 | CC3: 42816 | CD3: 42817 | CE3: 42818 | CF3: 42819 | CH3: 42821 | CI3: 42822 | CJ3: 42823 | CK3: 42824 | CL3: 42825 | CM3: 42826 | CO3: 42828 | CP3: 42829 | CQ3: 42830 | CR3: 42831 | CS3: 42832 | CT3: 42833 | CV3: 42835 | CW3: 42836 | CX3: 42837 | CY3: 42838 | CZ3: 42839 | DA3: 42840 | DC3: 42842 | DD3: 42843 | DE3: 42844 | DF3: 42845 | DG3: 42846 | DH3: 42847 | DJ3: 42849 | DK3: 42850 | DL3: 42851 | DM3: 42852 | DN3: 42853 | DO3: 42854 | DQ3: 42856 | DR3: 42857 | DS3: 42858 | DT3: 42859 | DU3: 42860 | DV3: 42861 | DX3: 42863 | DY3: 42864 | DZ3: 42865 | EA3: 42866 | EB3: 42867 | EC3: 42868 | EE3: 42870 | EF3: 42871 | EG3: 42872 | EH3: 42873 | EI3: 42874 | EJ3: 42875 | EL3: 42877 | EM3: 42878 | EN3: 42879 | EO3: 42880 | EP3: 42881 | EQ3: 42882 | ES3: 42884 | ET3: 42885 | EU3: 42886 | EV3: 42887 | EW3: 42888 | EX3: 42889 | EZ3: 42891 | FA3: 42892 | FB3: 42893 | FC3: 42894 | FD3: 42895 | FE3: 42896 | FG3: 42898 | FH3: 42899 | FI3: 42900 | FJ3: 42901 | FK3: 42902 | FL3: 42903 | FN3: 42905 | FO3: 42906 | FP3: 42907 | FQ3: 42908 | FR3: 42909 | FS3: 42910 | FU3: 42912 | FV3: 42913 | FW3: 42914 | FX3: 42915 | FY3: 42916 | FZ3: 42917 | GB3: 42919 | GC3: 42920 | GD3: 42921 | GE3: 42922 | GF3: 42923 | GG3: 42924 | GI3: 42926 | GJ3: 42927 | GK3: 42928 | GL3: 42929 | GM3: 42930 | GN3: 42931 | GP3: 42933 | GQ3: 42934 | GR3: 42935 | GS3: 42936 | GT3: 42937 | GU3: 42938 | GW3: 42940 | GX3: 42941 | GY3: 42942 | GZ3: 42943 | HA3: 42944 | HB3: 42945 | HD3: 42947 | HE3: 42948 | HF3: 42949 | HG3: 42950 | HH3: 42951 | HI3: 42952 | HK3: 42954 | HL3: 42955 | HM3: 42956 | HN3: 42957 | HO3: 42958 | HP3: 42959 | HR3: 42961 | HS3: 42962 | HT3: 42963 | HU3: 42964 | HV3: 42965 | HW3: 42966 | HY3: 42968 | HZ3: 42969 | IA3: 42970 | IB3: 42971 | IC3: 42972 | ID3: 42973 | IF3: 42975 | IG3: 42976 | IH3: 42977 | II3: 42978 | IJ3: 42979 | IK3: 42980 | IM3: 42982 | IN3: 42983 | IO3: 42984 | IP3: 42985 | IQ3: 42986 | IR3: 42987 | IT3: 42989 | IU3: 42990 | IV3: 42991 | IW3: 42992 | IX3: 42993 | IY3: 42994 | JA3: 42996 | JB3: 42997 | JC3: 42998 | JD3: 42999 | JE3: 43000 | JF3: 43001 | JH3: 43003 | JI3: 43004 | JJ3: 43005 | JK3: 43006 | JL3: 43007 | JM3: 43008 | JO3: 43010 | JP3: 43011 | JQ3: 43012 | JR3: 43013 | JS3: 43014 | JT3: 43015 | JV3: 43017 | JW3: 43018 | JX3: 43019 | JY3: 43020 | JZ3: 43021 | KA3: 43022 | KC3: 43024 | KD3: 43025 | KE3: 43026 | KF3: 43027 | KG3: 43028 | KH3: 43029 | KJ3: 43031 | KK3: 43032 | KL3: 43033 | KM3: 43034 | KN3: 43035 | KO3: 43036 | KQ3: 43038 | KR3: 43039 | KS3: 43040 | KT3: 43041 | KU3: 43042 | KV3: 43043 | KX3: 43045 | KY3: 43046 | KZ3: 43047 | LA3: 43048 | LB3: 43049 | LC3: 43050 | LE3: 43052 | LF3: 43053 | LG3: 43054 | LH3: 43055 | LI3: 43056 | LJ3: 43057 | LL3: 43059 | LM3: 43060 | LN3: 43061 | LO3: 43062 | LP3: 43063 | LQ3: 43064 | LS3: 43066 | LT3: 43067 | LU3: 43068 | LV3: 43069 | LW3: 43070 | LX3: 43071 | LZ3: 43073 | MA3: 43074 | MB3: 43075 | MC3: 43076 | MD3: 43077 | ME3: 43078 | MG3: 43080 | MH3: 43081 | MI3: 43082 | MJ3: 43083 | MK3: 43084 | ML3: 43085 | MN3: 43087 | MO3: 43088 | MP3: 43089 | MQ3: 43090 | MR3: 43091 | MS3: 43092 | MU3: 43094 | MV3: 43095 | MW3: 43096 | MX3: 43097 | MY3: 43098 | MZ3: 43099
A4: AGN SUIVI | H4: =SUM(B4:G4) -> 0 | O4: =SUM(I4:N4) -> 0 | V4: =SUM(P4:U4) -> 0 | AC4: =SUM(W4:AB4) -> 0 | AJ4: =SUM(AD4:AI4) -> 0 | AQ4: =SUM(AK4:AP4) -> 0 | AX4: =SUM(AR4:AW4) -> 0 | BE4: =SUM(AY4:BD4) -> 0 | BL4: =SUM(BF4:BK4) -> 0 | BS4: =SUM(BM4:BR4) -> 0 | BZ4: =SUM(BT4:BY4) -> 0 | CG4: =SUM(CA4:CF4) -> 0 | CN4: =SUM(CH4:CM4) -> 0 | CS4: 1216 | CT4: 2885 | CU4: =SUM(CO4:CT4) -> 4101 | CV4: 5829 | CW4: 3790 | CX4: 6576 | CY4: 5008 | CZ4: 2021 | DA4: 6020 | DB4: =SUM(CV4:DA4) -> 29244 | DD4: 3009 | DE4: 6207 | DF4: 4982 | DG4: 1049 | DH4: 2548 | DI4: =SUM(DC4:DH4) -> 17795 | DJ4: 5014 | DK4: 3220 | DL4: 5703 | DM4: 4327 | DN4: 1712 | DO4: 5761 | DP4: =SUM(DJ4:DO4) -> 25737 | DR4: 3402 | DS4: 7018 | DT4: 5441 | DU4: 2003 | DV4: 6088 | DW4: =SUM(DQ4:DV4) -> 23952 | DY4: 3400 | DZ4: 6524 | EA4: 5285 | EB4: 1071 | EC4: 2801 | ED4: =SUM(DX4:EC4) -> 19081 | EE4: 5337 | EF4: 3489 | EG4: 5416 | EH4: 4286 | EI4: 1143 | EJ4: 3338 | EK4: =SUM(EE4:EJ4) -> 23009 | EL4: 6273 | EM4: 3959 | EN4: 8002 | EP4: 1252 | EQ4: 3837 | ER4: =SUM(EL4:EQ4) -> 23323 | ES4: 6028 | ET4: 3973 | EU4: 5912 | EV4: 4740 | EW4: 1976 | EX4: 6081 | EY4: =SUM(ES4:EX4) -> 28710 | FA4: 3091 | FB4: 6173 | FC4: 5242 | FD4: 1164 | FE4: 3024 | FF4: =SUM(EZ4:FE4) -> 18694 | FG4: 6017 | FH4: 3774 | FI4: 5772 | FJ4: 4711 | FK4: 1041 | FL4: 2906 | FM4: =SUM(FG4:FL4) -> 24221 | FN4: 5552 | FO4: 3585 | FP4: 6010 | FQ4: 4804 | FR4: 1138 | FS4: 2833 | FT4: =SUM(FN4:FS4) -> 23922 | FU4: 5581 | FV4: 3547 | FW4: 5698 | FX4: 4540 | FY4: 1100 | FZ4: 3441 | GA4: =SUM(FU4:FZ4) -> 23907 | GB4: 6108 | GC4: 4154 | GD4: 6065 | GE4: 5014 | GF4: 1352 | GG4: 4833 | GH4: =SUM(GB4:GG4) -> 27526 | GI4: 6736 | GJ4: 5209 | GK4: 8685 | GL4: 1435 | GN4: 3828 | GO4: =SUM(GI4:GN4) -> 25893 | GP4: 6578 | GQ4: 4179 | GR4: 7408 | GS4: 5141 | GT4: 1290 | GU4: 3594 | GV4: =SUM(GP4:GU4) -> 28190 | GW4: 6227 | GX4: 4013 | GY4: 7218 | GZ4: 5604 | HA4: 923 | HB4: 4088 | HC4: =SUM(GW4:HB4) -> 28073 | HD4: 6368 | HE4: 4850 | HF4: 8742 | HG4: 6019 | HH4: 1234 | HI4: 4394 | HJ4: =SUM(HD4:HI4) -> 31607 | HK4: 6955 | HL4: 5043 | HM4: 8407 | HN4: 6541 | HO4: 1644 | HP4: 7177 | HQ4: =SUM(HK4:HP4) -> 35767 | HR4: 6145 | HT4: 7397 | HU4: 6742 | HV4: 901 | HW4: 4052 | HX4: =SUM(HR4:HW4) -> 25237 | HY4: 6144 | HZ4: 4402 | IA4: =7072-57 -> 7015 | IB4: 5325 | IC4: 980 | ID4: 3331 | IE4: =SUM(HY4:ID4) -> 27197 | IF4: 5533 | IG4: 3709 | IH4: 5889 | II4: 4532 | IJ4: 1030 | IK4: 3322 | IL4: =SUM(IF4:IK4) -> 24015 | IM4: 5498 | IN4: 3519 | IO4: 4986 | IP4: 4352 | IQ4: 956 | IR4: 2707 | IS4: =SUM(IM4:IR4) -> 22018 | IT4: 5170 | IU4: 3021 | IV4: 5496 | IW4: 4292 | IX4: 910 | IY4: 2545 | IZ4: =SUM(IT4:IY4) -> 21434 | JA4: 5128 | JB4: 3013 | JC4: 4976 | JD4: 4271 | JE4: 817 | JF4: 2476 | JG4: =SUM(JA4:JF4) -> 20681 | JH4: 4943 | JI4: 2899 | JJ4: 4675 | JK4: 4173 | JL4: 846 | JM4: 2743 | JN4: =SUM(JH4:JM4) -> 20279 | JO4: 5056 | JP4: 3707 | JQ4: 5201 | JR4: 4176 | JS4: 952 | JT4: 2487 | JU4: =SUM(JO4:JT4) -> 21579 | JV4: 5096 | JW4: 3132 | JX4: 4867 | JY4: 4138 | JZ4: 791 | KA4: 2370 | KB4: =SUM(JV4:KA4) -> 20394 | KC4: 5020 | KD4: 3196 | KE4: 4586 | KF4: 4065 | KG4: 903 | KH4: 2435 | KI4: =SUM(KC4:KH4) -> 20205 | KJ4: 4749 | KK4: 3447 | KL4: 5251 | KM4: 4333 | KN4: 834 | KO4: 3711 | KP4: =SUM(KJ4:KO4) -> 22325 | KQ4: 6253 | KR4: 5551 | KT4: 4927 | KU4: 1093 | KV4: 3006 | KW4: =SUM(KQ4:KV4) -> 20830 | KX4: 6626 | KY4: 3725 | KZ4: 5229 | LA4: 4020 | LD4: =SUM(KX4:LC4) -> 19600 | LK4: =SUM(LE4:LJ4) -> 0 | LR4: =SUM(LL4:LQ4) -> 0 | LY4: =SUM(LS4:LX4) -> 0 | MF4: =SUM(LZ4:ME4) -> 0 | MM4: =SUM(MG4:ML4) -> 0 | MT4: =SUM(MN4:MS4) -> 0 | NA4: =SUM(MU4:MZ4) -> 0
A5: repart % | H5: =SUM(B5:G5) -> 0 | O5: =SUM(I5:N5) -> 0 | V5: =SUM(P5:U5) -> 0 | AC5: =SUM(W5:AB5) -> 0 | AJ5: =SUM(AD5:AI5) -> 0 | AQ5: =SUM(AK5:AP5) -> 0 | AX5: =SUM(AR5:AW5) -> 0 | BE5: =SUM(AY5:BD5) -> 0 | BL5: =SUM(BF5:BK5) -> 0 | BS5: =SUM(BM5:BR5) -> 0 | BZ5: =SUM(BT5:BY5) -> 0 | CN5: =SUM(CH5:CM5) -> 0 | CS5: =CS4/CU4 -> 0.29651305 | CT5: =CT4/CU4 -> 0.70348695 | CU5: =SUM(CO5:CT5) -> 1 | CV5: =CV4/DB4 -> 0.19932294 | CW5: =CW4/DB4 -> 0.12959923 | CX5: =CX4/DB4 -> 0.22486664 | CY5: =CY4/DB4 -> 0.1712488 | CZ5: =CZ4/DB4 -> 0.069108193 | DA5: =DA4/DB4 -> 0.20585419 | DB5: =SUM(CV5:DA5) -> 1 | DD5: =DD4/DI4 -> 0.16909244 | DE5: =DE4/DI4 -> 0.34880584 | DF5: =DF4/DI4 -> 0.27996628 | DG5: =DG4/DI4 -> 0.058949143 | DH5: =DH4/DI4 -> 0.14318629 | DI5: =SUM(DC5:DH5) -> 1 | DJ5: =DJ4/DP4 -> 0.1948168 | DK5: =DK4/DP4 -> 0.12511171 | DL5: =DL4/DP4 -> 0.2215876 | DM5: =DM4/DP4 -> 0.16812371 | DN5: =DN4/DP4 -> 0.066519019 | DO5: =DO4/DP4 -> 0.22384116 | DP5: =SUM(DJ5:DO5) -> 1 | DR5: =DR4/DW4 -> 0.14203407 | DS5: =DS4/DW4 -> 0.29300267 | DT5: =DT4/DW4 -> 0.22716266 | DU5: =DU4/DW4 -> 0.083625585 | DV5: =DV4/DW4 -> 0.25417502 | DW5: =SUM(DQ5:DV5) -> 1 | DY5: =DY4/ED4 -> 0.17818773 | DZ5: =DZ4/ED4 -> 0.3419108 | EA5: =EA4/ED4 -> 0.2769771 | EB5: =EB4/ED4 -> 0.056129134 | EC5: =EC4/ED4 -> 0.14679524 | ED5: =SUM(DX5:EC5) -> 1 | EE5: =EE4/EK4 -> 0.23195271 | EF5: =EF4/EK4 -> 0.15163632 | EG5: =EG4/EK4 -> 0.23538615 | EH5: =EH4/EK4 -> 0.18627494 | EI5: =EI4/EK4 -> 0.049676214 | EJ5: =EJ4/EK4 -> 0.14507367 | EK5: =SUM(EE5:EJ5) -> 1 | EL5: =EL4/ER4 -> 0.26896197 | EM5: =EM4/ER4 -> 0.1697466 | EN5: =EN4/ER4 -> 0.3430948 | EP5: =EP4/ER4 -> 0.053680916 | EQ5: =EQ4/ER4 -> 0.16451571 | ER5: =SUM(EL5:EQ5) -> 1 | ES5: =ES4/EY4 -> 0.20996169 | ET5: =ET4/EY4 -> 0.13838384 | EU5: =EU4/EY4 -> 0.20592128 | EV5: =EV4/EY4 -> 0.16509927 | EW5: =EW4/EY4 -> 0.068826193 | EX5: =EX4/EY4 -> 0.21180773 | EY5: =SUM(ES5:EX5) -> 1 | FA5: =FA4/FF4 -> 0.16534717 | FB5: =FB4/FF4 -> 0.3302129 | FC5: =FC4/FF4 -> 0.28041083 | FD5: =FD4/FF4 -> 0.062265968 | FE5: =FE4/FF4 -> 0.16176313 | FF5: =SUM(EZ5:FE5) -> 1 | FG5: =FG4/FM4 -> 0.24842079 | FH5: =FH4/FM4 -> 0.1558152 | FI5: =FI4/FM4 -> 0.2383056 | FJ5: =FJ4/FM4 -> 0.19450064 | FK5: =FK4/FM4 -> 0.042979233 | FL5: =FL4/FM4 -> 0.11997853 | FM5: =SUM(FG5:FL5) -> 1 | FN5: =FN4/FT4 -> 0.23208762 | FO5: =FO4/FT4 -> 0.14986205 | FP5: =FP4/FT4 -> 0.25123317 | FQ5: =FQ4/FT4 -> 0.20081933 | FR5: =FR4/FT4 -> 0.047571273 | FS5: =FS4/FT4 -> 0.11842655 | FT5: =SUM(FN5:FS5) -> 1 | FU5: =FU4/GA4 -> 0.23344627 | FV5: =FV4/GA4 -> 0.14836659 | FW5: =FW4/GA4 -> 0.23834024 | FX5: =FX4/GA4 -> 0.18990254 | FY5: =FY4/GA4 -> 0.046011628 | FZ5: =FZ4/GA4 -> 0.14393274 | GA5: =SUM(FU5:FZ5) -> 1 | GB5: =GB4/GH4 -> 0.2218993 | GC5: =GC4/GH4 -> 0.15091187 | GD5: =GD4/GH4 -> 0.22033714 | GE5: =GE4/GH4 -> 0.18215505 | GF5: =GF4/GH4 -> 0.049117198 | GG5: =GG4/GH4 -> 0.17557945 | GH5: =SUM(GB5:GG5) -> 1 | GI5: =GI4/GO4 -> 0.26014753 | GJ5: =GJ4/GO4 -> 0.20117406 | GK5: =GK4/GO4 -> 0.33541884 | GL5: =GL4/GO4 -> 0.055420384 | GN5: =GN4/GO4 -> 0.14783918 | GO5: =SUM(GI5:GN5) -> 1 | GP5: =GP4/GV4 -> 0.23334516 | GQ5: =GQ4/GV4 -> 0.14824406 | GR5: =GR4/GV4 -> 0.26278822 | GS5: =GS4/GV4 -> 0.18236963 | GT5: =GT4/GV4 -> 0.045760908 | GU5: =GU4/GV4 -> 0.12749202 | GV5: =SUM(GP5:GU5) -> 1 | GW5: =GW4/HC4 -> 0.22181455 | GX5: =GX4/HC4 -> 0.14294874 | GY5: =GY4/HC4 -> 0.25711538 | GZ5: =GZ4/HC4 -> 0.19962241 | HA5: =HA4/HC4 -> 0.032878567 | HB5: =HB4/HC4 -> 0.14562035 | HC5: =SUM(GW5:HB5) -> 1 | HD5: =HD4/HJ4 -> 0.20147436 | HE5: =HE4/HJ4 -> 0.15344702 | HF5: =HF4/HJ4 -> 0.2765843 | HG5: =HG4/HJ4 -> 0.1904325 | HH5: =HH4/HJ4 -> 0.039041984 | HI5: =HI4/HJ4 -> 0.13901984 | HJ5: =SUM(HD5:HI5) -> 1 | HK5: =HK4/HQ4 -> 0.19445299 | HL5: =HL4/HQ4 -> 0.14099589 | HM5: =HM4/HQ4 -> 0.23504907 | HN5: =HN4/HQ4 -> 0.18287807 | HO5: =HO4/HQ4 -> 0.045964157 | HP5: =HP4/HQ4 -> 0.20065983 | HQ5: =SUM(HK5:HP5) -> 1 | HR5: =HR4/HX4 -> 0.2434917 | HT5: =HT4/HX4 -> 0.2931014 | HU5: =HU4/HX4 -> 0.26714744 | HV5: =HV4/HX4 -> 0.035701549 | HW5: =HW4/HX4 -> 0.16055791 | HX5: =SUM(HR5:HW5) -> 1 | HY5: =HY4/IE4 -> 0.22590727 | HZ5: =HZ4/IE4 -> 0.16185609 | IA5: =IA4/IE4 -> 0.25793286 | IB5: =IB4/IE4 -> 0.19579365 | IC5: =IC4/IE4 -> 0.036033386 | ID5: =ID4/IE4 -> 0.12247674 | IE5: =SUM(HY5:ID5) -> 1 | IF5: =IF4/IL4 -> 0.23039767 | IG5: =IG4/IL4 -> 0.15444514 | IH5: =IH4/IL4 -> 0.24522174 | II5: =II4/IL4 -> 0.18871539 | IJ5: =IJ4/IL4 -> 0.042889861 | IK5: =IK4/IL4 -> 0.13833021 | IL5: =SUM(IF5:IK5) -> 1 | IM5: =IM4/IS4 -> 0.24970479 | IN5: =IN4/IS4 -> 0.15982378 | IO5: =IO4/IS4 -> 0.22645109 | IP5: =IP4/IS4 -> 0.19765646 | IQ5: =IQ4/IS4 -> 0.043419021 | IR5: =IR4/IS4 -> 0.12294486 | IS5: =SUM(IM5:IR5) -> 1 | IT5: =IT4/IZ4 -> 0.24120556 | IU5: =IU4/IZ4 -> 0.14094429 | IV5: =IV4/IZ4 -> 0.25641504 | IW5: =IW4/IZ4 -> 0.20024261 | IX5: =IX4/IZ4 -> 0.042455911 | IY5: =IY4/IZ4 -> 0.11873659 | IZ5: =SUM(IT5:IY5) -> 1 | JA5: =JA4/JG4 -> 0.24795706 | JB5: =JB4/JG4 -> 0.14568928 | JC5: =JC4/JG4 -> 0.24060732 | JD5: =JD4/JG4 -> 0.20651806 | JE5: =JE4/JG4 -> 0.03950486 | JF5: =JF4/JG4 -> 0.11972342 | JG5: =SUM(JA5:JF5) -> 1 | JH5: =JH4/JN4 -> 0.24374969 | JI5: =JI4/JN4 -> 0.14295577 | JJ5: =JJ4/JN4 -> 0.23053405 | JK5: =JK4/JN4 -> 0.20577938 | JL5: =JL4/JN4 -> 0.041718033 | JM5: =JM4/JN4 -> 0.13526308 | JN5: =SUM(JH5:JM5) -> 1 | JO5: =JO4/JU4 -> 0.23430187 | JP5: =JP4/JU4 -> 0.17178739 | JQ5: =JQ4/JU4 -> 0.24102136 | JR5: =JR4/JU4 -> 0.19352148 | JS5: =JS4/JU4 -> 0.044116966 | JT5: =JT4/JU4 -> 0.11525094 | JU5: =SUM(JO5:JT5) -> 1 | JV5: =JV4/KB4 -> 0.24987741 | JW5: =JW4/KB4 -> 0.15357458 | JX5: =JX4/KB4 -> 0.23864862 | JY5: =JY4/KB4 -> 0.20290281 | JZ5: =JZ4/KB4 -> 0.038785917 | KA5: =KA4/KB4 -> 0.11621065 | KB5: =SUM(JV5:KA5) -> 1 | KC5: =KC4/KI4 -> 0.24845335 | KD5: =KD4/KI4 -> 0.15817867 | KE5: =KE4/KI4 -> 0.22697352 | KF5: =KF4/KI4 -> 0.20118782 | KG5: =KG4/KI4 -> 0.044691908 | KH5: =KH4/KI4 -> 0.12051472 | KI5: =SUM(KC5:KH5) -> 1 | KJ5: =KJ4/KP4 -> 0.21272116 | KK5: =KK4/KP4 -> 0.1544009 | KL5: =KL4/KP4 -> 0.23520717 | KM5: =KM4/KP4 -> 0.19408735 | KN5: =KN4/KP4 -> 0.037357223 | KO5: =KO4/KP4 -> 0.1662262 | KP5: =SUM(KJ5:KO5) -> 1 | KQ5: =KQ4/KW4 -> 0.30019203 | KR5: =KR4/KW4 -> 0.26649064 | KT5: =KT4/KW4 -> 0.23653385 | KU5: =KU4/KW4 -> 0.052472396 | KV5: =KV4/KW4 -> 0.14431109 | KW5: =SUM(KQ5:KV5) -> 1 | KX5: =KX4/LD4 -> 0.33806122 | KY5: =KY4/LD4 -> 0.19005102 | KZ5: =KZ4/LD4 -> 0.26678571 | LA5: =LA4/LD4 -> 0.20510204 | LB5: =LB4/LD4 -> 0 | LD5: =SUM(KX5:LC5) -> 1 | LE5: =LE4/LK4 -> #DIV/0! | LF5: =LF4/LK4 -> #DIV/0! | LG5: =LG4/LK4 -> #DIV/0! | LH5: =LH4/LK4 -> #DIV/0! | LI5: =LI4/LK4 -> #DIV/0! | LJ5: =LJ4/LK4 -> #DIV/0! | LK5: =SUM(LE5:LJ5) -> #DIV/0! | LL5: =LL4/LR4 -> #DIV/0! | LM5: =LM4/LR4 -> #DIV/0! | LN5: =LN4/LR4 -> #DIV/0! | LO5: =LO4/LR4 -> #DIV/0! | LP5: =LP4/LR4 -> #DIV/0! | LQ5: =LQ4/LR4 -> #DIV/0! | LR5: =SUM(LL5:LQ5) -> #DIV/0! | LS5: =LS4/LY4 -> #DIV/0! | LT5: =LT4/LY4 -> #DIV/0! | LU5: =LU4/LY4 -> #DIV/0! | LV5: =LV4/LY4 -> #DIV/0! | LW5: =LW4/LY4 -> #DIV/0! | LX5: =LX4/LY4 -> #DIV/0! | LY5: =SUM(LS5:LX5) -> #DIV/0! | LZ5: =LZ4/MF4 -> #DIV/0! | MA5: =MA4/MF4 -> #DIV/0! | MB5: =MB4/MF4 -> #DIV/0! | MC5: =MC4/MF4 -> #DIV/0! | MD5: =MD4/MF4 -> #DIV/0! | ME5: =ME4/MF4 -> #DIV/0! | MF5: =SUM(LZ5:ME5) -> #DIV/0! | MG5: =MG4/MM4 -> #DIV/0! | MH5: =MH4/MM4 -> #DIV/0! | MI5: =MI4/MM4 -> #DIV/0! | MJ5: =MJ4/MM4 -> #DIV/0! | MK5: =MK4/MM4 -> #DIV/0! | ML5: =ML4/MM4 -> #DIV/0! | MM5: =SUM(MG5:ML5) -> #DIV/0! | MN5: =MN4/MT4 -> #DIV/0! | MO5: =MO4/MT4 -> #DIV/0! | MP5: =MP4/MT4 -> #DIV/0! | MQ5: =MQ4/MT4 -> #DIV/0! | MR5: =MR4/MT4 -> #DIV/0! | MS5: =MS4/MT4 -> #DIV/0! | MT5: =SUM(MN5:MS5) -> #DIV/0! | MV5: =MV4/NA4 -> #DIV/0! | MW5: =MW4/NA4 -> #DIV/0! | MX5: =MX4/NA4 -> #DIV/0! | MY5: =MY4/NA4 -> #DIV/0! | MZ5: =MZ4/NA4 -> #DIV/0! | NA5: =SUM(MU5:MZ5) -> #DIV/0!
A6: NB PDV | H6: =SUM(B6:G6) -> 0 | O6: =SUM(I6:N6) -> 0 | V6: =SUM(P6:U6) -> 0 | AC6: =SUM(W6:AB6) -> 0 | AJ6: =SUM(AD6:AI6) -> 0 | AQ6: =SUM(AK6:AP6) -> 0 | AX6: =SUM(AR6:AW6) -> 0 | BE6: =SUM(AY6:BD6) -> 0 | BL6: =SUM(BF6:BK6) -> 0 | BS6: =SUM(BM6:BR6) -> 0 | BZ6: =SUM(BT6:BY6) -> 0 | CN6: =SUM(CH6:CM6) -> 0 | CS6: 26 | CT6: 69 | CU6: =SUM(CO6:CT6) -> 95 | CV6: 107 | CW6: 68 | CX6: 127 | CY6: 95 | CZ6: 68 | DA6: 145 | DB6: =SUM(CV6:DA6) -> 610 | DD6: 66 | DE6: 132 | DF6: 97 | DG6: 26 | DH6: 91 | DI6: =SUM(DC6:DH6) -> 412 | DJ6: 106 | DK6: 66 | DL6: 135 | DM6: 94 | DN6: 59 | DO6: 149 | DP6: =SUM(DJ6:DO6) -> 609 | DR6: 62 | DS6: 132 | DT6: 97 | DU6: 60 | DV6: 146 | DW6: =SUM(DQ6:DV6) -> 497 | DY6: 63 | DZ6: 133 | EA6: 98 | EB6: 26 | EC6: 90 | ED6: =SUM(DX6:EC6) -> 410 | EE6: 108 | EF6: 64 | EG6: 133 | EH6: 98 | EI6: 25 | EJ6: 100 | EK6: =SUM(EE6:EJ6) -> 528 | EL6: 109 | EM6: 112 | EN6: 155 | EP6: 26 | EQ6: 92 | ER6: =SUM(EL6:EQ6) -> 494 | ES6: 103 | ET6: 65 | EU6: 133 | EV6: 97 | EW6: 63 | EX6: 150 | EY6: =SUM(ES6:EX6) -> 611 | FA6: 64 | FB6: 131 | FC6: 97 | FD6: 26 | FE6: 89 | FF6: =SUM(EZ6:FE6) -> 407 | FG6: 103 | FH6: 65 | FI6: 130 | FJ6: 96 | FK6: 26 | FL6: 93 | FM6: =SUM(FG6:FL6) -> 513 | FN6: 104 | FO6: 69 | FP6: 133 | FQ6: 94 | FR6: 26 | FS6: 89 | FT6: =SUM(FN6:FS6) -> 515 | FU6: 104 | FV6: 68 | FW6: 129 | FX6: 97 | FY6: 24 | FZ6: 91 | GA6: =SUM(FU6:FZ6) -> 513 | GB6: 106 | GC6: 68 | GD6: 132 | GE6: 97 | GF6: 28 | GG6: 112 | GH6: =SUM(GB6:GG6) -> 543 | GI6: 110 | GJ6: 71 | GK6: 176 | GL6: 39 | GN6: 95 | GO6: =SUM(GI6:GN6) -> 491 | GP6: 107 | GQ6: 63 | GR6: 133 | GS6: 94 | GT6: 30 | GU6: 94 | GV6: =SUM(GP6:GU6) -> 521 | GW6: 109 | GX6: 66 | GY6: 132 | GZ6: 104 | HA6: 16 | HB6: 95 | HC6: =SUM(GW6:HB6) -> 522 | HD6: 107 | HE6: 69 | HF6: 136 | HG6: 102 | HH6: 16 | HI6: 96 | HJ6: =SUM(HD6:HI6) -> 526 | HK6: 108 | HL6: 70 | HM6: 133 | HN6: 103 | HO6: 19 | HP6: 158 | HQ6: =SUM(HK6:HP6) -> 591 | HR6: 101 | HT6: 128 | HU6: 109 | HV6: 16 | HW6: 94 | HX6: =SUM(HR6:HW6) -> 448 | HY6: 108 | HZ6: 68 | IA6: 133 | IB6: 102 | IC6: 16 | ID6: 92 | IE6: =SUM(HY6:ID6) -> 519 | IF6: 103 | IG6: 67 | IH6: 128 | II6: 93 | IJ6: 25 | IK6: 90 | IL6: =SUM(IF6:IK6) -> 506 | IM6: 106 | IN6: 66 | IO6: 127 | IP6: 93 | IQ6: 25 | IR6: 90 | IS6: =SUM(IM6:IR6) -> 507 | IT6: 102 | IU6: 68 | IV6: 127 | IW6: 95 | IX6: 25 | IY6: 88 | IZ6: =SUM(IT6:IY6) -> 505 | JA6: 105 | JB6: 66 | JC6: 128 | JD6: 96 | JE6: 25 | JF6: 87 | JG6: =SUM(JA6:JF6) -> 507 | JH6: 105 | JI6: 67 | JJ6: 128 | JK6: 94 | JL6: 24 | JM6: 91 | JN6: =SUM(JH6:JM6) -> 509 | JO6: 104 | JP6: 69 | JQ6: 128 | JR6: 97 | JS6: 28 | JT6: 89 | JU6: =SUM(JO6:JT6) -> 515 | JV6: 104 | JW6: 67 | JX6: 124 | JY6: 94 | JZ6: 28 | KA6: 88 | KB6: =SUM(JV6:KA6) -> 505 | KC6: 103 | KD6: 68 | KE6: 125 | KF6: 95 | KG6: 26 | KH6: 86 | KI6: =SUM(KC6:KH6) -> 503 | KJ6: 101 | KK6: 145 | KL6: 126 | KM6: 94 | KN6: 26 | KO6: 111 | KP6: =SUM(KJ6:KO6) -> 603 | KQ6: 139 | KR6: 132 | KT6: 97 | KU6: 28 | KV6: 89 | KW6: =SUM(KQ6:KV6) -> 485 | KX6: 106 | KY6: 68 | KZ6: 128 | LA6: 114 | LD6: =SUM(KX6:LC6) -> 416 | LK6: =SUM(LE6:LJ6) -> 0 | LR6: =SUM(LL6:LQ6) -> 0 | LY6: =SUM(LS6:LX6) -> 0 | MF6: =SUM(LZ6:ME6) -> 0 | MM6: =SUM(MG6:ML6) -> 0 | MT6: =SUM(MN6:MS6) -> 0 | NA6: =SUM(MU6:MZ6) -> 0
A7: POIDS PDV | H7: =SUM(B7:G7) -> 0 | O7: =SUM(I7:N7) -> 0 | V7: =SUM(P7:U7) -> 0 | AC7: =SUM(W7:AB7) -> 0 | AJ7: =SUM(AD7:AI7) -> 0 | AQ7: =SUM(AK7:AP7) -> 0 | AX7: =SUM(AR7:AW7) -> 0 | BE7: =SUM(AY7:BD7) -> 0 | BL7: =SUM(BF7:BK7) -> 0 | BS7: =SUM(BM7:BR7) -> 0 | BZ7: =SUM(BT7:BY7) -> 0 | CG7: =SUM(CA7:CF7) -> 0 | CN7: =SUM(CH7:CM7) -> 0 | CS7: =+CS4/CS6 -> 46.769231 | CT7: =+CT4/CT6 -> 41.811594 | CU7: =CU4/CU6 -> 43.168421 | CV7: =+CV4/CV6 -> 54.476636 | CW7: =+CW4/CW6 -> 55.735294 | CX7: =+CX4/CX6 -> 51.779528 | CY7: =+CY4/CY6 -> 52.715789 | CZ7: =+CZ4/CZ6 -> 29.720588 | DA7: =+DA4/DA6 -> 41.517241 | DB7: =DB4/DB6 -> 47.940984 | DD7: =+DD4/DD6 -> 45.590909 | DE7: =+DE4/DE6 -> 47.022727 | DF7: =+DF4/DF6 -> 51.360825 | DG7: =+DG4/DG6 -> 40.346154 | DH7: =+DH4/DH6 -> 28 | DI7: =DI4/DI6 -> 43.191748 | DJ7: =+DJ4/DJ6 -> 47.301887 | DK7: =+DK4/DK6 -> 48.787879 | DL7: =+DL4/DL6 -> 42.244444 | DM7: =+DM4/DM6 -> 46.031915 | DN7: =+DN4/DN6 -> 29.016949 | DO7: =+DO4/DO6 -> 38.66443 | DP7: =DP4/DP6 -> 42.261084 | DR7: =+DR4/DR6 -> 54.870968 | DS7: =+DS4/DS6 -> 53.166667 | DT7: =+DT4/DT6 -> 56.092784 | DU7: =+DU4/DU6 -> 33.383333 | DV7: =+DV4/DV6 -> 41.69863 | DW7: =DW4/DW6 -> 48.193159 | DY7: =+DY4/DY6 -> 53.968254 | DZ7: =+DZ4/DZ6 -> 49.052632 | EA7: =+EA4/EA6 -> 53.928571 | EB7: =+EB4/EB6 -> 41.192308 | EC7: =+EC4/EC6 -> 31.122222 | ED7: =ED4/ED6 -> 46.539024 | EE7: =+EE4/EE6 -> 49.416667 | EF7: =+EF4/EF6 -> 54.515625 | EG7: =+EG4/EG6 -> 40.721805 | EH7: =+EH4/EH6 -> 43.734694 | EI7: =+EI4/EI6 -> 45.72 | EJ7: =+EJ4/EJ6 -> 33.38 | EK7: =EK4/EK6 -> 43.577652 | EL7: =+EL4/EL6 -> 57.550459 | EM7: =+EM4/EM6 -> 35.348214 | EN7: =+EN4/EN6 -> 51.625806 | EP7: =+EP4/EP6 -> 48.153846 | EQ7: =+EQ4/EQ6 -> 41.706522 | ER7: =ER4/ER6 -> 47.212551 | ES7: =+ES4/ES6 -> 58.524272 | ET7: =+ET4/ET6 -> 61.123077 | EU7: =+EU4/EU6 -> 44.451128 | EV7: =+EV4/EV6 -> 48.865979 | EW7: =+EW4/EW6 -> 31.365079 | EX7: =+EX4/EX6 -> 40.54 | EY7: =EY4/EY6 -> 46.988543 | FA7: =+FA4/FA6 -> 48.296875 | FB7: =+FB4/FB6 -> 47.122137 | FC7: =+FC4/FC6 -> 54.041237 | FD7: =+FD4/FD6 -> 44.769231 | FE7: =+FE4/FE6 -> 33.977528 | FF7: =FF4/FF6 -> 45.931204 | FG7: =+FG4/FG6 -> 58.417476 | FH7: =+FH4/FH6 -> 58.061538 | FI7: =+FI4/FI6 -> 44.4 | FJ7: =+FJ4/FJ6 -> 49.072917 | FK7: =+FK4/FK6 -> 40.038462 | FL7: =+FL4/FL6 -> 31.247312 | FM7: =FM4/FM6 -> 47.214425 | FN7: =+FN4/FN6 -> 53.384615 | FO7: =+FO4/FO6 -> 51.956522 | FP7: =+FP4/FP6 -> 45.18797 | FQ7: =+FQ4/FQ6 -> 51.106383 | FR7: =+FR4/FR6 -> 43.769231 | FS7: =+FS4/FS6 -> 31.831461 | FT7: =FT4/FT6 -> 46.450485 | FU7: =+FU4/FU6 -> 53.663462 | FV7: =+FV4/FV6 -> 52.161765 | FW7: =+FW4/FW6 -> 44.170543 | FX7: =+FX4/FX6 -> 46.804124 | FY7: =+FY4/FY6 -> 45.833333 | FZ7: =+FZ4/FZ6 -> 37.813187 | GA7: =GA4/GA6 -> 46.602339 | GB7: =+GB4/GB6 -> 57.622642 | GC7: =+GC4/GC6 -> 61.088235 | GD7: =+GD4/GD6 -> 45.94697 | GE7: =+GE4/GE6 -> 51.690722 | GF7: =+GF4/GF6 -> 48.285714 | GG7: =+GG4/GG6 -> 43.151786 | GH7: =GH4/GH6 -> 50.692449 | GI7: =+GI4/GI6 -> 61.236364 | GJ7: =+GJ4/GJ6 -> 73.366197 | GK7: =+GK4/GK6 -> 49.346591 | GL7: =+GL4/GL6 -> 36.794872 | GN7: =+GN4/GN6 -> 40.294737 | GO7: =GO4/GO6 -> 52.735234 | GP7: =+GP4/GP6 -> 61.476636 | GQ7: =+GQ4/GQ6 -> 66.333333 | GR7: =+GR4/GR6 -> 55.699248 | GS7: =+GS4/GS6 -> 54.691489 | GT7: =+GT4/GT6 -> 43 | GU7: =+GU4/GU6 -> 38.234043 | GV7: =GV4/GV6 -> 54.107486 | GW7: =+GW4/GW6 -> 57.12844 | GX7: =+GX4/GX6 -> 60.80303 | GY7: =+GY4/GY6 -> 54.681818 | GZ7: =+GZ4/GZ6 -> 53.884615 | HA7: =+HA4/HA6 -> 57.6875 | HB7: =+HB4/HB6 -> 43.031579 | HC7: =HC4/HC6 -> 53.779693 | HD7: =+HD4/HD6 -> 59.514019 | HE7: =+HE4/HE6 -> 70.289855 | HF7: =+HF4/HF6 -> 64.279412 | HG7: =+HG4/HG6 -> 59.009804 | HH7: =+HH4/HH6 -> 77.125 | HI7: =+HI4/HI6 -> 45.770833 | HJ7: =HJ4/HJ6 -> 60.089354 | HK7: =+HK4/HK6 -> 64.398148 | HL7: =+HL4/HL6 -> 72.042857 | HM7: =+HM4/HM6 -> 63.210526 | HN7: =+HN4/HN6 -> 63.504854 | HO7: =+HO4/HO6 -> 86.526316 | HP7: =+HP4/HP6 -> 45.424051 | HQ7: =HQ4/HQ6 -> 60.519459 | HR7: =+HR4/HR6 -> 60.841584 | HT7: =+HT4/HT6 -> 57.789062 | HU7: =+HU4/HU6 -> 61.853211 | HV7: =+HV4/HV6 -> 56.3125 | HW7: =+HW4/HW6 -> 43.106383 | HX7: =HX4/HX6 -> 56.332589 | HY7: =+HY4/HY6 -> 56.888889 | HZ7: =+HZ4/HZ6 -> 64.735294 | IA7: =+IA4/IA6 -> 52.744361 | IB7: =+IB4/IB6 -> 52.205882 | IC7: =+IC4/IC6 -> 61.25 | ID7: =+ID4/ID6 -> 36.206522 | IE7: =IE4/IE6 -> 52.402697 | IF7: =+IF4/IF6 -> 53.718447 | IG7: =+IG4/IG6 -> 55.358209 | IH7: =+IH4/IH6 -> 46.007812 | II7: =+II4/II6 -> 48.731183 | IJ7: =+IJ4/IJ6 -> 41.2 | IK7: =+IK4/IK6 -> 36.911111 | IL7: =IL4/IL6 -> 47.460474 | IM7: =+IM4/IM6 -> 51.867925 | IN7: =+IN4/IN6 -> 53.318182 | IO7: =+IO4/IO6 -> 39.259843 | IP7: =+IP4/IP6 -> 46.795699 | IQ7: =+IQ4/IQ6 -> 38.24 | IR7: =+IR4/IR6 -> 30.077778 | IS7: =IS4/IS6 -> 43.428008 | IT7: =+IT4/IT6 -> 50.686275 | IU7: =+IU4/IU6 -> 44.426471 | IV7: =+IV4/IV6 -> 43.275591 | IW7: =+IW4/IW6 -> 45.178947 | IX7: =+IX4/IX6 -> 36.4 | IY7: =+IY4/IY6 -> 28.920455 | IZ7: =IZ4/IZ6 -> 42.443564 | JA7: =+JA4/JA6 -> 48.838095 | JB7: =+JB4/JB6 -> 45.651515 | JC7: =+JC4/JC6 -> 38.875 | JD7: =+JD4/JD6 -> 44.489583 | JE7: =+JE4/JE6 -> 32.68 | JF7: =+JF4/JF6 -> 28.45977 | JG7: =JG4/JG6 -> 40.790927 | JH7: =+JH4/JH6 -> 47.07619 | JI7: =+JI4/JI6 -> 43.268657 | JJ7: =+JJ4/JJ6 -> 36.523438 | JK7: =+JK4/JK6 -> 44.393617 | JL7: =+JL4/JL6 -> 35.25 | JM7: =+JM4/JM6 -> 30.142857 | JN7: =JN4/JN6 -> 39.840864 | JO7: =+JO4/JO6 -> 48.615385 | JP7: =+JP4/JP6 -> 53.724638 | JQ7: =+JQ4/JQ6 -> 40.632812 | JR7: =+JR4/JR6 -> 43.051546 | JS7: =+JS4/JS6 -> 34 | JT7: =+JT4/JT6 -> 27.94382 | JU7: =JU4/JU6 -> 41.900971 | JV7: =+JV4/JV6 -> 49 | JW7: =+JW4/JW6 -> 46.746269 | JX7: =+JX4/JX6 -> 39.25 | JY7: =+JY4/JY6 -> 44.021277 | JZ7: =+JZ4/JZ6 -> 28.25 | KA7: =+KA4/KA6 -> 26.931818 | KB7: =KB4/KB6 -> 40.384158 | KC7: =+KC4/KC6 -> 48.737864 | KD7: =+KD4/KD6 -> 47 | KE7: =+KE4/KE6 -> 36.688 | KF7: =+KF4/KF6 -> 42.789474 | KG7: =+KG4/KG6 -> 34.730769 | KH7: =+KH4/KH6 -> 28.313953 | KI7: =KI4/KI6 -> 40.168986 | KJ7: =+KJ4/KJ6 -> 47.019802 | KK7: =+KK4/KK6 -> 23.772414 | KL7: =+KL4/KL6 -> 41.674603 | KM7: =+KM4/KM6 -> 46.095745 | KN7: =+KN4/KN6 -> 32.076923 | KO7: =+KO4/KO6 -> 33.432432 | KP7: =KP4/KP6 -> 37.023217 | KQ7: =+KQ4/KQ6 -> 44.985612 | KR7: =+KR4/KR6 -> 42.05303 | KT7: =+KT4/KT6 -> 50.793814 | KU7: =+KU4/KU6 -> 39.035714 | KV7: =+KV4/KV6 -> 33.775281 | KW7: =KW4/KW6 -> 42.948454 | KX7: =+KX4/KX6 -> 62.509434 | KY7: =+KY4/KY6 -> 54.779412 | KZ7: =+KZ4/KZ6 -> 40.851562 | LA7: =+LA4/LA6 -> 35.263158 | LB7: =+LB4/LB6 -> #DIV/0! | LD7: =LD4/LD6 -> 47.115385 | LE7: =+LE4/LE6 -> #DIV/0! | LF7: =+LF4/LF6 -> #DIV/0! | LG7: =+LG4/LG6 -> #DIV/0! | LH7: =+LH4/LH6 -> #DIV/0! | LI7: =+LI4/LI6 -> #DIV/0! | LJ7: =+LJ4/LJ6 -> #DIV/0! | LK7: =LK4/LK6 -> #DIV/0! | LL7: =+LL4/LL6 -> #DIV/0! | LM7: =+LM4/LM6 -> #DIV/0! | LN7: =+LN4/LN6 -> #DIV/0! | LO7: =+LO4/LO6 -> #DIV/0! | LP7: =+LP4/LP6 -> #DIV/0! | LQ7: =+LQ4/LQ6 -> #DIV/0! | LR7: =LR4/LR6 -> #DIV/0! | LS7: =+LS4/LS6 -> #DIV/0! | LT7: =+LT4/LT6 -> #DIV/0! | LU7: =+LU4/LU6 -> #DIV/0! | LV7: =+LV4/LV6 -> #DIV/0! | LW7: =+LW4/LW6 -> #DIV/0! | LX7: =+LX4/LX6 -> #DIV/0! | LY7: =LY4/LY6 -> #DIV/0! | LZ7: =+LZ4/LZ6 -> #DIV/0! | MA7: =+MA4/MA6 -> #DIV/0! | MB7: =+MB4/MB6 -> #DIV/0! | MC7: =+MC4/MC6 -> #DIV/0! | MD7: =+MD4/MD6 -> #DIV/0! | ME7: =+ME4/ME6 -> #DIV/0! | MF7: =MF4/MF6 -> #DIV/0! | MG7: =+MG4/MG6 -> #DIV/0! | MH7: =+MH4/MH6 -> #DIV/0! | MI7: =+MI4/MI6 -> #DIV/0! | MJ7: =+MJ4/MJ6 -> #DIV/0! | MK7: =+MK4/MK6 -> #DIV/0! | ML7: =+ML4/ML6 -> #DIV/0! | MM7: =MM4/MM6 -> #DIV/0! | MN7: =+MN4/MN6 -> #DIV/0! | MO7: =+MO4/MO6 -> #DIV/0! | MP7: =+MP4/MP6 -> #DIV/0! | MQ7: =+MQ4/MQ6 -> #DIV/0! | MR7: =+MR4/MR6 -> #DIV/0! | MS7: =+MS4/MS6 -> #DIV/0! | MT7: =MT4/MT6 -> #DIV/0! | MV7: =+MV4/MV6 -> #DIV/0! | MW7: =+MW4/MW6 -> #DIV/0! | MX7: =+MX4/MX6 -> #DIV/0! | MY7: =+MY4/MY6 -> #DIV/0! | MZ7: =+MZ4/MZ6 -> #DIV/0! | NA7: =NA4/NA6 -> #DIV/0!
A8: NET SUIVI | B8: 7097 | C8: 14539 | D8: 13065 | E8: 5705 | F8: 10706 | G8: 12783 | H8: =SUM(B8:G8) -> 63895 | I8: 10047 | J8: 16949 | K8: 14285 | L8: 4402 | M8: 9210 | N8: 10818 | O8: =SUM(I8:N8) -> 65711 | P8: 7610 | Q8: 14696 | R8: 13340 | S8: 4217 | T8: 7428 | U8: 9246 | V8: =SUM(P8:U8) -> 56537 | W8: 7048 | X8: 13747 | Y8: 11843 | Z8: 4077 | AA8: 9132 | AB8: 10568 | AC8: =SUM(W8:AB8) -> 56415 | AD8: 8107 | AE8: 14148 | AF8: 12117 | AG8: 5516 | AH8: 11033 | AI8: 11848 | AJ8: =SUM(AD8:AI8) -> 62769 | AK8: 7850 | AL8: 16856 | AM8: 14648 | AN8: 5080 | AO8: 11348 | AP8: 13713 | AQ8: =SUM(AK8:AP8) -> 69495 | AR8: 8748 | AS8: 16223 | AT8: 12871 | AU8: 4946 | AV8: 8571 | AW8: 10373 | AX8: =SUM(AR8:AW8) -> 61732 | AY8: 7129 | AZ8: 14472 | BA8: 13024 | BB8: 4474 | BC8: 8830 | BD8: 11648 | BE8: =SUM(AY8:BD8) -> 59577 | BF8: 7997 | BG8: 15616 | BH8: 14552 | BI8: 4853 | BJ8: 10935 | BK8: 12063 | BL8: =SUM(BF8:BK8) -> 66016 | BM8: 9099 | BN8: 17053 | BO8: 16006 | BP8: 4716 | BQ8: 11494 | BR8: 13058 | BS8: =SUM(BM8:BR8) -> 71426 | BT8: 8757 | BU8: 16158 | BV8: 14275 | BW8: 4588 | BX8: 8941 | BY8: 11037 | BZ8: =SUM(BT8:BY8) -> 63756 | CA8: 7729 | CB8: 15494 | CC8: 12363 | CD8: 4213 | CE8: 8839 | CF8: 10865 | CG8: =SUM(CA8:CF8) -> 59503 | CH8: 6958 | CI8: 14692 | CJ8: 13121 | CK8: 4338 | CL8: 9037 | CM8: 12448 | CN8: =SUM(CH8:CM8) -> 60594 | CO8: 8325 | CP8: 16634 | CQ8: 14581 | CR8: 5144 | CS8: 12665 | CT8: 16354 | CU8: =SUM(CO8:CT8) -> 73703 | CV8: 9365 | CW8: 18426 | CX8: 16102 | CY8: 5517 | CZ8: 11060 | DA8: 15189 | DB8: =SUM(CV8:DA8) -> 75659 | DD8: 12889 | DE8: 15131 | DF8: 4856 | DG8: 10359 | DH8: 9926 | DI8: =SUM(DC8:DH8) -> 53161 | DJ8: 9139 | DK8: 14694 | DL8: 13000 | DM8: 4650 | DN8: 10536 | DO8: 15990 | DP8: =SUM(DJ8:DO8) -> 68009 | DR8: 15247 | DS8: 19312 | DT8: 5513 | DU8: 14725 | DV8: 17342 | DW8: =SUM(DQ8:DV8) -> 72139 | DY8: 15970 | DZ8: 16569 | EA8: 5284 | EB8: 12449 | EC8: 14364 | ED8: =SUM(DX8:EC8) -> 64636 | EE8: 9584 | EF8: 16943 | EG8: 13778 | EH8: 4521 | EI8: 10179 | EJ8: 11968 | EK8: =SUM(EE8:EJ8) -> 66973 | EL8: 8997 | EM8: 15487 | EN8: 12705 | EP8: 8283 | EQ8: 12880 | ER8: =SUM(EL8:EQ8) -> 58352 | ES8: 8679 | ET8: 17855 | EU8: 13881 | EV8: 4873 | EW8: 12600 | EX8: 17939 | EY8: =SUM(ES8:EX8) -> 75827 | FA8: 14045 | FB8: 16117 | FC8: 5703 | FD8: 13101 | FE8: 14314 | FF8: =SUM(EZ8:FE8) -> 63280 | FG8: 9437 | FH8: =18318 -> 18318 | FI8: 15391 | FJ8: 5161 | FK8: 11184 | FL8: 12241 | FM8: =SUM(FG8:FL8) -> 71732 | FN8: 8223 | FO8: 15988 | FP8: 15068 | FQ8: 4867 | FR8: 9646 | FS8: 11327 | FT8: =SUM(FN8:FS8) -> 65119 | FU8: 7070 | FV8: 14802 | FW8: 12152 | FX8: 4334 | FY8: 9816 | FZ8: 12326 | GA8: =SUM(FU8:FZ8) -> 60500 | GB8: 8112 | GC8: 16964 | GD8: 15070 | GE8: 4826 | GF8: 12062 | GG8: 14015 | GH8: =SUM(GB8:GG8) -> 71049 | GI8: 10261 | GJ8: 17278 | GK8: 16452 | GL8: 11669 | GN8: 12044 | GO8: =SUM(GI8:GN8) -> 67704 | GP8: 6192 | GQ8: 15372 | GR8: 12997 | GS8: 5275 | GT8: 9026 | GU8: 11030 | GV8: =SUM(GP8:GU8) -> 59892 | GW8: 6572 | GX8: 14520 | GY8: 12568 | GZ8: 4934 | HA8: 7722 | HB8: 11335 | HC8: =SUM(GW8:HB8) -> 57651 | HD8: 7758 | HE8: 16073 | HF8: 13833 | HG8: 6801 | HH8: 9410 | HI8: 13988 | HJ8: =SUM(HD8:HI8) -> 67863 | HK8: 8319 | HL8: 17831 | HM8: 14340 | HN8: 6850 | HO8: 8436 | HP8: 13646 | HQ8: =SUM(HK8:HP8) -> 69422 | HR8: 18736 | HT8: 11204 | HU8: 6259 | HV8: 7561 | HW8: 12652 | HX8: =SUM(HR8:HW8) -> 56412 | HY8: 6762 | HZ8: 14613 | IA8: 12420 | IB8: 6002 | IC8: 8097 | ID8: 10920 | IE8: =SUM(HY8:ID8) -> 58814 | IF8: 5932 | IG8: 14331 | IH8: 13117 | II8: 4056 | IJ8: 11223 | IK8: 13693 | IL8: =SUM(IF8:IK8) -> 62352 | IM8: 9412 | IN8: 15544 | IO8: 13895 | IP8: 5109 | IQ8: 11459 | IR8: 11373 | IS8: =SUM(IM8:IR8) -> 66792 | IT8: 8703 | IU8: 15621 | IV8: 13907 | IW8: 4115 | IX8: 9360 | IY8: 12103 | IZ8: =SUM(IT8:IY8) -> 63809 | JA8: 6880 | JB8: 15769 | JC8: 13404 | JD8: 4244 | JE8: 8851 | JF8: 11062 | JG8: =SUM(JA8:JF8) -> 60210 | JH8: 7199 | JI8: 14540 | JJ8: 12811 | JK8: 4203 | JL8: 9345 | JM8: 10208 | JN8: =SUM(JH8:JM8) -> 58306 | JO8: 6893 | JP8: 16545 | JQ8: 14025 | JR8: 4534 | JS8: 10098 | JT8: 12845 | JU8: =SUM(JO8:JT8) -> 64940 | JV8: 7671 | JW8: 16568 | JX8: 13824 | JY8: 4749 | JZ8: 9535 | KA8: 12292 | KB8: =SUM(JV8:KA8) -> 64639 | KC8: 7873 | KD8: 13663 | KE8: 12588 | KF8: 4554 | KG8: 9408 | KH8: 11470 | KI8: =SUM(KC8:KH8) -> 59556 | KJ8: 6442 | KK8: 13422 | KL8: 12768 | KM8: 4953 | KN8: 8453 | KO8: 14166 | KP8: =SUM(KJ8:KO8) -> 60204 | KQ8: 11457 | KR8: 18027 | KT8: 4276 | KU8: 12409 | KV8: 12745 | KW8: =SUM(KQ8:KV8) -> 58914 | KX8: 8733 | KY8: 17264 | KZ8: 17255 | LA8: 10930 | LD8: =SUM(KX8:LC8) -> 54182 | LK8: =SUM(LE8:LJ8) -> 0 | LR8: =SUM(LL8:LQ8) -> 0 | LY8: =SUM(LS8:LX8) -> 0 | MF8: =SUM(LZ8:ME8) -> 0 | MM8: =SUM(MG8:ML8) -> 0 | MT8: =SUM(MN8:MS8) -> 0 | NA8: =SUM(MU8:MZ8) -> 0
A9: repart % | B9: =B8/H8 -> 0.11107285 | C9: =C8/H8 -> 0.22754519 | D9: =D8/H8 -> 0.20447609 | E9: =E8/H8 -> 0.089287112 | F9: =F8/H8 -> 0.16755615 | G9: =G8/H8 -> 0.2000626 | H9: =SUM(B9:G9) -> 1 | I9: =I8/O8 -> 0.15289678 | J9: =J8/O8 -> 0.25793246 | K9: =K8/O8 -> 0.2173913 | L9: =L8/O8 -> 0.066990306 | M9: =M8/O8 -> 0.14015918 | N9: =N8/O8 -> 0.16462997 | O9: =SUM(I9:N9) -> 1 | P9: =P8/V8 -> 0.13460212 | Q9: =Q8/V8 -> 0.25993597 | R9: =R8/V8 -> 0.23595168 | S9: =S8/V8 -> 0.074588323 | T9: =T8/V8 -> 0.13138299 | U9: =U8/V8 -> 0.16353892 | V9: =SUM(P9:U9) -> 1 | W9: =W8/AC8 -> 0.12493131 | X9: =X8/AC8 -> 0.24367633 | Y9: =Y8/AC8 -> 0.20992644 | Z9: =Z8/AC8 -> 0.072268014 | AA9: =AA8/AC8 -> 0.16187184 | AB9: =AB8/AC8 -> 0.18732607 | AC9: =SUM(W9:AB9) -> 1 | AD9: =AD8/AJ8 -> 0.12915611 | AE9: =AE8/AJ8 -> 0.22539789 | AF9: =AF8/AJ8 -> 0.19304115 | AG9: =AG8/AJ8 -> 0.087877774 | AH9: =AH8/AJ8 -> 0.17577148 | AI9: =AI8/AJ8 -> 0.1887556 | AJ9: =SUM(AD9:AI9) -> 1 | AK9: =AK8/AQ8 -> 0.11295777 | AL9: =AL8/AQ8 -> 0.24254982 | AM9: =AM8/AQ8 -> 0.21077775 | AN9: =AN8/AQ8 -> 0.073098784 | AO9: =AO8/AQ8 -> 0.16329232 | AP9: =AP8/AQ8 -> 0.19732355 | AQ9: =SUM(AK9:AP9) -> 1 | AR9: =AR8/AX8 -> 0.14170932 | AS9: =AS8/AX8 -> 0.26279725 | AT9: =AT8/AX8 -> 0.20849802 | AU9: =AU8/AX8 -> 0.080120521 | AV9: =AV8/AX8 -> 0.13884209 | AW9: =AW8/AX8 -> 0.16803279 | AX9: =SUM(AR9:AW9) -> 1 | AY9: =AY8/BE8 -> 0.11966027 | AZ9: =AZ8/BE8 -> 0.24291253 | BA9: =BA8/BE8 -> 0.21860785 | BB9: =BB8/BE8 -> 0.075096094 | BC9: =BC8/BE8 -> 0.14821156 | BD9: =BD8/BE8 -> 0.19551169 | BE9: =SUM(AY9:BD9) -> 1 | BF9: =BF8/BL8 -> 0.1211373 | BG9: =BG8/BL8 -> 0.23654872 | BH9: =BH8/BL8 -> 0.22043141 | BI9: =BI8/BL8 -> 0.073512482 | BJ9: =BJ8/BL8 -> 0.16564166 | BK9: =BK8/BL8 -> 0.18272843 | BL9: =SUM(BF9:BK9) -> 1 | BM9: =BM8/BS8 -> 0.12739059 | BN9: =BN8/BS8 -> 0.2387506 | BO9: =BO8/BS8 -> 0.22409207 | BP9: =BP8/BS8 -> 0.066026377 | BQ9: =BQ8/BS8 -> 0.16092179 | BR9: =BR8/BS8 -> 0.18281858 | BS9: =SUM(BM9:BR9) -> 1 | BT9: =BT8/BZ8 -> 0.13735178 | BU9: =BU8/BZ8 -> 0.25343497 | BV9: =BV8/BZ8 -> 0.2239005 | BW9: =BW8/BZ8 -> 0.071961855 | BX9: =BX8/BZ8 -> 0.14023778 | BY9: =BY8/BZ8 -> 0.17311312 | BZ9: =SUM(BT9:BY9) -> 1 | CA9: =CA8/CG8 -> 0.12989261 | CB9: =CB8/CG8 -> 0.26039023 | CC9: =CC8/CG8 -> 0.20777104 | CD9: =CD8/CG8 -> 0.070803153 | CE9: =CE8/CG8 -> 0.14854713 | CF9: =CF8/CG8 -> 0.18259584 | CG9: =SUM(CA9:CF9) -> 1 | CH9: =CH8/CN8 -> 0.11482985 | CI9: =CI8/CN8 -> 0.24246625 | CJ9: =CJ8/CN8 -> 0.21653959 | CK9: =CK8/CN8 -> 0.071591247 | CL9: =CL8/CN8 -> 0.14914018 | CM9: =CM8/CN8 -> 0.20543288 | CN9: =SUM(CH9:CM9) -> 1 | CO9: =CO8/CU8 -> 0.11295334 | CP9: =CP8/CU8 -> 0.22568959 | CQ9: =CQ8/CU8 -> 0.19783455 | CR9: =CR8/CU8 -> 0.069793631 | CS9: =CS8/CU8 -> 0.17183832 | CT9: =CT8/CU8 -> 0.22189056 | CU9: =SUM(CO9:CT9) -> 1 | CV9: =CV8/DB8 -> 0.12377906 | CW9: =CW8/DB8 -> 0.24354009 | CX9: =CX8/DB8 -> 0.21282333 | CY9: =CY8/DB8 -> 0.072919283 | CZ9: =CZ8/DB8 -> 0.14618221 | DA9: =DA8/DB8 -> 0.20075602 | DB9: =SUM(CV9:DA9) -> 1 | DD9: =DD8/DI8 -> 0.24245217 | DE9: =DE8/DI8 -> 0.28462595 | DF9: =DF8/DI8 -> 0.091345159 | DG9: =DG8/DI8 -> 0.19486089 | DH9: =DH8/DI8 -> 0.18671583 | DI9: =SUM(DC9:DH9) -> 1 | DJ9: =DJ8/DP8 -> 0.13437927 | DK9: =DK8/DP8 -> 0.21605964 | DL9: =DL8/DP8 -> 0.19115117 | DM9: =DM8/DP8 -> 0.068373304 | DN9: =DN8/DP8 -> 0.15492067 | DO9: =DO8/DP8 -> 0.23511594 | DP9: =SUM(DJ9:DO9) -> 1 | DR9: =DR8/DW8 -> 0.21135585 | DS9: =DS8/DW8 -> 0.2677054 | DT9: =DT8/DW8 -> 0.076421908 | DU9: =DU8/DW8 -> 0.20411982 | DV9: =DV8/DW8 -> 0.24039701 | DW9: =SUM(DQ9:DV9) -> 1 | DY9: =DY8/ED8 -> 0.24707593 | DZ9: =DZ8/ED8 -> 0.25634321 | EA9: =EA8/ED8 -> 0.081750108 | EB9: =EB8/ED8 -> 0.19260165 | EC9: =EC8/ED8 -> 0.2222291 | ED9: =SUM(DX9:EC9) -> 1 | EE9: =EE8/EK8 -> 0.14310244 | EF9: =EF8/EK8 -> 0.25298255 | EG9: =EG8/EK8 -> 0.2057247 | EH9: =EH8/EK8 -> 0.067504815 | EI9: =EI8/EK8 -> 0.15198662 | EJ9: =EJ8/EK8 -> 0.17869888 | EK9: =SUM(EE9:EJ9) -> 1 | EL9: =EL8/ER8 -> 0.15418495 | EM9: =EM8/ER8 -> 0.2654065 | EN9: =EN8/ER8 -> 0.21773033 | EP9: =EP8/ER8 -> 0.14194886 | EQ9: =EQ8/ER8 -> 0.22072937 | ER9: =SUM(EL9:EQ9) -> 1 | ES9: =ES8/EY8 -> 0.11445791 | ET9: =ET8/EY8 -> 0.23547022 | EU9: =EU8/EY8 -> 0.18306144 | EV9: =EV8/EY8 -> 0.064264708 | EW9: =EW8/EY8 -> 0.16616772 | EX9: =EX8/EY8 -> 0.236578 | EY9: =SUM(ES9:EX9) -> 1 | FA9: =FA8/FF8 -> 0.22195006 | FB9: =FB8/FF8 -> 0.25469343 | FC9: =FC8/FF8 -> 0.090123262 | FD9: =FD8/FF8 -> 0.20703224 | FE9: =FE8/FF8 -> 0.22620101 | FF9: =SUM(EZ9:FE9) -> 1 | FG9: =FG8/FM8 -> 0.13155914 | FH9: =FH8/FM8 -> 0.2553672 | FI9: =FI8/FM8 -> 0.21456254 | FJ9: =FJ8/FM8 -> 0.071948363 | FK9: =FK8/FM8 -> 0.15591368 | FL9: =FL8/FM8 -> 0.17064908 | FM9: =SUM(FG9:FL9) -> 1 | FN9: =FN8/FT8 -> 0.12627651 | FO9: =FO8/FT8 -> 0.24551974 | FP9: =FP8/FT8 -> 0.23139176 | FQ9: =FQ8/FT8 -> 0.074740091 | FR9: =FR8/FT8 -> 0.14812881 | FS9: =FS8/FT8 -> 0.17394309 | FT9: =SUM(FN9:FS9) -> 1 | FU9: =FU8/GA8 -> 0.1168595 | FV9: =FV8/GA8 -> 0.24466116 | FW9: =FW8/GA8 -> 0.2008595 | FX9: =FX8/GA8 -> 0.071636364 | FY9: =FY8/GA8 -> 0.16224793 | FZ9: =FZ8/GA8 -> 0.20373554 | GA9: =SUM(FU9:FZ9) -> 1 | GB9: =GB8/GH8 -> 0.11417472 | GC9: =GC8/GH8 -> 0.2387648 | GD9: =GD8/GH8 -> 0.21210714 | GE9: =GE8/GH8 -> 0.067924953 | GF9: =GF8/GH8 -> 0.16977016 | GG9: =GG8/GH8 -> 0.19725823 | GH9: =SUM(GB9:GG9) -> 1 | GI9: =GI8/GO8 -> 0.15155678 | GJ9: =GJ8/GO8 -> 0.2551991 | GK9: =GK8/GO8 -> 0.24299894 | GL9: =GL8/GO8 -> 0.17235318 | GN9: =GN8/GO8 -> 0.177892 | GO9: =SUM(GI9:GN9) -> 1 | GP9: =GP8/GV8 -> 0.10338609 | GQ9: =GQ8/GV8 -> 0.25666199 | GR9: =GR8/GV8 -> 0.21700728 | GS9: =GS8/GV8 -> 0.088075202 | GT9: =GT8/GV8 -> 0.1507046 | GU9: =GU8/GV8 -> 0.18416483 | GV9: =SUM(GP9:GU9) -> 1 | GW9: =GW8/HC8 -> 0.11399629 | GX9: =GX8/HC8 -> 0.25186033 | GY9: =GY8/HC8 -> 0.21800142 | GZ9: =GZ8/HC8 -> 0.085583945 | HA9: =HA8/HC8 -> 0.1339439 | HB9: =HB8/HC8 -> 0.19661411 | HC9: =SUM(GW9:HB9) -> 1 | HD9: =HD8/HJ8 -> 0.11431855 | HE9: =HE8/HJ8 -> 0.23684482 | HF9: =HF8/HJ8 -> 0.20383714 | HG9: =HG8/HJ8 -> 0.10021661 | HH9: =HH8/HJ8 -> 0.13866172 | HI9: =HI8/HJ8 -> 0.20612116 | HJ9: =SUM(HD9:HI9) -> 1 | HK9: =HK8/HQ8 -> 0.11983233 | HL9: =HL8/HQ8 -> 0.25684941 | HM9: =HM8/HQ8 -> 0.20656276 | HN9: =HN8/HQ8 -> 0.098671891 | HO9: =HO8/HQ8 -> 0.12151767 | HP9: =HP8/HQ8 -> 0.19656593 | HQ9: =SUM(HK9:HP9) -> 1 | HR9: =HR8/HX8 -> 0.33212792 | HT9: =HT8/HX8 -> 0.19861022 | HU9: =HU8/HX8 -> 0.11095157 | HV9: =HV8/HX8 -> 0.13403177 | HW9: =HW8/HX8 -> 0.22427852 | HX9: =SUM(HR9:HW9) -> 1 | HY9: =HY8/IE8 -> 0.11497263 | HZ9: =HZ8/IE8 -> 0.24846125 | IA9: =IA8/IE8 -> 0.21117421 | IB9: =IB8/IE8 -> 0.10205053 | IC9: =IC8/IE8 -> 0.1376713 | ID9: =ID8/IE8 -> 0.18567008 | IE9: =SUM(HY9:ID9) -> 1 | IF9: =IF8/IL8 -> 0.095137285 | IG9: =IG8/IL8 -> 0.22984026 | IH9: =IH8/IL8 -> 0.21037016 | II9: =II8/IL8 -> 0.065050038 | IJ9: =IJ8/IL8 -> 0.17999423 | IK9: =IK8/IL8 -> 0.21960803 | IL9: =SUM(IF9:IK9) -> 1 | IM9: =IM8/IS8 -> 0.14091508 | IN9: =IN8/IS8 -> 0.23272248 | IO9: =IO8/IS8 -> 0.2080339 | IP9: =IP8/IS8 -> 0.076491197 | IQ9: =IQ8/IS8 -> 0.17156246 | IR9: =IR8/IS8 -> 0.17027488 | IS9: =SUM(IM9:IR9) -> 1 | IT9: =IT8/IZ8 -> 0.13639142 | IU9: =IU8/IZ8 -> 0.24480873 | IV9: =IV8/IZ8 -> 0.21794731 | IW9: =IW8/IZ8 -> 0.064489335 | IX9: =IX8/IZ8 -> 0.14668777 | IY9: =IY8/IZ8 -> 0.18967544 | IZ9: =SUM(IT9:IY9) -> 1 | JA9: =JA8/JG8 -> 0.11426673 | JB9: =JB8/JG8 -> 0.26190002 | JC9: =JC8/JG8 -> 0.22262083 | JD9: =JD8/JG8 -> 0.07048663 | JE9: =JE8/JG8 -> 0.14700216 | JF9: =JF8/JG8 -> 0.18372363 | JG9: =SUM(JA9:JF9) -> 1 | JH9: =JH8/JN8 -> 0.12346928 | JI9: =JI8/JN8 -> 0.24937399 | JJ9: =JJ8/JN8 -> 0.2197201 | JK9: =JK8/JN8 -> 0.072085206 | JL9: =JL8/JN8 -> 0.1602751 | JM9: =JM8/JN8 -> 0.17507632 | JN9: =SUM(JH9:JM9) -> 1 | JO9: =JO8/JU8 -> 0.10614413 | JP9: =JP8/JU8 -> 0.25477364 | JQ9: =JQ8/JU8 -> 0.21596859 | JR9: =JR8/JU8 -> 0.069818294 | JS9: =JS8/JU8 -> 0.15549738 | JT9: =JT8/JU8 -> 0.19779797 | JU9: =SUM(JO9:JT9) -> 1 | JV9: =JV8/KB8 -> 0.11867448 | JW9: =JW8/KB8 -> 0.25631585 | JX9: =JX8/KB8 -> 0.21386469 | JY9: =JY8/KB8 -> 0.073469577 | JZ9: =JZ8/KB8 -> 0.14751156 | KA9: =KA8/KB8 -> 0.19016383 | KB9: =SUM(JV9:KA9) -> 1 | KC9: =KC8/KI8 -> 0.13219491 | KD9: =KD8/KI8 -> 0.22941433 | KE9: =KE8/KI8 -> 0.21136409 | KF9: =KF8/KI8 -> 0.076465847 | KG9: =KG8/KI8 -> 0.15796897 | KH9: =KH8/KI8 -> 0.19259185 | KI9: =SUM(KC9:KH9) -> 1 | KJ9: =KJ8/KP8 -> 0.10700286 | KK9: =KK8/KP8 -> 0.222942 | KL9: =KL8/KP8 -> 0.21207893 | KM9: =KM8/KP8 -> 0.082270281 | KN9: =KN8/KP8 -> 0.14040595 | KO9: =KO8/KP8 -> 0.23529998 | KP9: =SUM(KJ9:KO9) -> 1 | KQ9: =KQ8/KW8 -> 0.19446991 | KR9: =KR8/KW8 -> 0.30598839 | KT9: =KT8/KW8 -> 0.072580371 | KU9: =KU8/KW8 -> 0.21062905 | KV9: =KV8/KW8 -> 0.21633228 | KW9: =SUM(KQ9:KV9) -> 1 | KX9: =KX8/LD8 -> 0.16117899 | KY9: =KY8/LD8 -> 0.3186298 | KZ9: =KZ8/LD8 -> 0.3184637 | LA9: =LA8/LD8 -> 0.20172751 | LB9: =LB8/LD8 -> 0 | LD9: =SUM(KX9:LC9) -> 1 | LE9: =LE8/LK8 -> #DIV/0! | LF9: =LF8/LK8 -> #DIV/0! | LG9: =LG8/LK8 -> #DIV/0! | LH9: =LH8/LK8 -> #DIV/0! | LI9: =LI8/LK8 -> #DIV/0! | LJ9: =LJ8/LK8 -> #DIV/0! | LK9: =SUM(LE9:LJ9) -> #DIV/0! | LL9: =LL8/LR8 -> #DIV/0! | LM9: =LM8/LR8 -> #DIV/0! | LN9: =LN8/LR8 -> #DIV/0! | LO9: =LO8/LR8 -> #DIV/0! | LP9: =LP8/LR8 -> #DIV/0! | LQ9: =LQ8/LR8 -> #DIV/0! | LR9: =SUM(LL9:LQ9) -> #DIV/0! | LS9: =LS8/LY8 -> #DIV/0! | LT9: =LT8/LY8 -> #DIV/0! | LU9: =LU8/LY8 -> #DIV/0! | LV9: =LV8/LY8 -> #DIV/0! | LW9: =LW8/LY8 -> #DIV/0! | LX9: =LX8/LY8 -> #DIV/0! | LY9: =SUM(LS9:LX9) -> #DIV/0! | LZ9: =LZ8/MF8 -> #DIV/0! | MA9: =MA8/MF8 -> #DIV/0! | MB9: =MB8/MF8 -> #DIV/0! | MC9: =MC8/MF8 -> #DIV/0! | MD9: =MD8/MF8 -> #DIV/0! | ME9: =ME8/MF8 -> #DIV/0! | MF9: =SUM(LZ9:ME9) -> #DIV/0! | MG9: =MG8/MM8 -> #DIV/0! | MH9: =MH8/MM8 -> #DIV/0! | MI9: =MI8/MM8 -> #DIV/0! | MJ9: =MJ8/MM8 -> #DIV/0! | MK9: =MK8/MM8 -> #DIV/0! | ML9: =ML8/MM8 -> #DIV/0! | MM9: =SUM(MG9:ML9) -> #DIV/0! | MN9: =MN8/MT8 -> #DIV/0! | MO9: =MO8/MT8 -> #DIV/0! | MP9: =MP8/MT8 -> #DIV/0! | MQ9: =MQ8/MT8 -> #DIV/0! | MR9: =MR8/MT8 -> #DIV/0! | MS9: =MS8/MT8 -> #DIV/0! | MT9: =SUM(MN9:MS9) -> #DIV/0! | MV9: =MV8/NA8 -> #DIV/0! | MW9: =MW8/NA8 -> #DIV/0! | MX9: =MX8/NA8 -> #DIV/0! | MY9: =MY8/NA8 -> #DIV/0! | MZ9: =MZ8/NA8 -> #DIV/0! | NA9: =SUM(MU9:MZ9) -> #DIV/0!
A10: NB PDV | B10: 18 | C10: 28 | D10: 25 | E10: 13 | F10: 15 | G10: 28 | H10: =SUM(B10:G10) -> 127 | I10: 19 | J10: 29 | K10: 27 | L10: 12 | M10: 22 | N10: 28 | O10: =SUM(I10:N10) -> 137 | P10: 19 | Q10: 29 | R10: 27 | S10: 11 | T10: 21 | U10: 28 | V10: =SUM(P10:U10) -> 135 | W10: 19 | X10: 29 | Y10: 26 | Z10: 11 | AA10: 22 | AB10: 28 | AC10: =SUM(W10:AB10) -> 135 | AD10: 19 | AE10: 27 | AF10: 26 | AG10: 12 | AH10: 22 | AI10: 28 | AJ10: =SUM(AD10:AI10) -> 134 | AK10: 19 | AL10: 29 | AM10: 27 | AN10: 11 | AO10: 22 | AP10: 28 | AQ10: =SUM(AK10:AP10) -> 136 | AR10: 19 | AS10: 29 | AT10: 26 | AU10: 12 | AV10: 22 | AW10: 27 | AX10: =SUM(AR10:AW10) -> 135 | AY10: 19 | AZ10: 29 | BA10: 26 | BB10: 11 | BC10: 22 | BD10: 27 | BE10: =SUM(AY10:BD10) -> 134 | BF10: 19 | BG10: 29 | BH10: 27 | BI10: 11 | BJ10: 22 | BK10: 27 | BL10: =SUM(BF10:BK10) -> 135 | BM10: 19 | BN10: 29 | BO10: 27 | BP10: 11 | BQ10: 22 | BR10: 28 | BS10: =SUM(BM10:BR10) -> 136 | BT10: 19 | BU10: 29 | BV10: 27 | BW10: 11 | BX10: 22 | BY10: 28 | BZ10: =SUM(BT10:BY10) -> 136 | CA10: 19 | CB10: 29 | CC10: 27 | CD10: 11 | CE10: 22 | CF10: 28 | CG10: =SUM(CA10:CF10) -> 136 | CH10: 18 | CI10: 29 | CJ10: 27 | CK10: 10 | CL10: 22 | CM10: 28 | CN10: =SUM(CH10:CM10) -> 134 | CO10: 19 | CP10: 29 | CQ10: 25 | CR10: 11 | CS10: 22 | CT10: 27 | CU10: =SUM(CO10:CT10) -> 133 | CV10: 19 | CW10: 28 | CX10: 26 | CY10: 12 | CZ10: 28 | DA10: 35 | DB10: =SUM(CV10:DA10) -> 148 | DD10: 25 | DE10: 31 | DF10: 11 | DG10: 22 | DH10: 26 | DI10: =SUM(DC10:DH10) -> 115 | DJ10: 20 | DK10: 29 | DL10: 24 | DM10: 11 | DN10: 28 | DO10: 33 | DP10: =SUM(DJ10:DO10) -> 145 | DR10: 25 | DS10: 30 | DT10: 11 | DU10: 30 | DV10: 37 | DW10: =SUM(DQ10:DV10) -> 133 | DY10: 25 | DZ10: 30 | EA10: 11 | EB10: 21 | EC10: 27 | ED10: =SUM(DX10:EC10) -> 114 | EE10: 19 | EF10: 29 | EG10: 26 | EH10: 11 | EI10: 22 | EJ10: 26 | EK10: =SUM(EE10:EJ10) -> 133 | EL10: 18 | EM10: 34 | EN10: 27 | EP10: 22 | EQ10: 27 | ER10: =SUM(EL10:EQ10) -> 128 | ES10: 19 | ET10: 29 | EU10: 26 | EV10: 11 | EW10: 27 | EX10: 38 | EY10: =SUM(ES10:EX10) -> 150 | FA10: 25 | FB10: 31 | FC10: 11 | FD10: 22 | FE10: 28 | FF10: =SUM(EZ10:FE10) -> 117 | FG10: 18 | FH10: 30 | FI10: 27 | FJ10: 11 | FK10: 24 | FL10: 28 | FM10: =SUM(FG10:FL10) -> 138 | FN10: 18 | FO10: 30 | FP10: 28 | FQ10: 11 | FR10: 21 | FS10: 26 | FT10: =SUM(FN10:FS10) -> 134 | FU10: 17 | FV10: 30 | FW10: 29 | FX10: 13 | FY10: 22 | FZ10: 27 | GA10: =SUM(FU10:FZ10) -> 138 | GB10: 19 | GC10: 30 | GD10: 27 | GE10: 11 | GF10: 22 | GG10: 28 | GH10: =SUM(GB10:GG10) -> 137 | GI10: 17 | GJ10: 30 | GK10: 33 | GL10: 27 | GN10: 28 | GO10: =SUM(GI10:GN10) -> 135 | GP10: 17 | GQ10: 30 | GR10: 26 | GS10: 12 | GT10: 22 | GU10: 28 | GV10: =SUM(GP10:GU10) -> 135 | GW10: 17 | GX10: 30 | GY10: 27 | GZ10: 12 | HA10: 20 | HB10: 28 | HC10: =SUM(GW10:HB10) -> 134 | HD10: 18 | HE10: 30 | HF10: 27 | HG10: 13 | HH10: 20 | HI10: 28 | HJ10: =SUM(HD10:HI10) -> 136 | HK10: 17 | HL10: 30 | HM10: 27 | HN10: 14 | HO10: 20 | HP10: 37 | HQ10: =SUM(HK10:HP10) -> 145 | HR10: 38 | HT10: 26 | HU10: 26 | HV10: 20 | HW10: 28 | HX10: =SUM(HR10:HW10) -> 138 | HY10: 17 | HZ10: 31 | IA10: 27 | IB10: 14 | IC10: 20 | ID10: 28 | IE10: =SUM(HY10:ID10) -> 137 | IF10: 17 | IG10: 31 | IH10: 26 | II10: 10 | IJ10: 22 | IK10: 26 | IL10: =SUM(IF10:IK10) -> 132 | IM10: 18 | IN10: 29 | IO10: 27 | IP10: 11 | IQ10: 22 | IR10: 25 | IS10: =SUM(IM10:IR10) -> 132 | IT10: 19 | IU10: 27 | IV10: 27 | IW10: 11 | IX10: 22 | IY10: 27 | IZ10: =SUM(IT10:IY10) -> 133 | JA10: 18 | JB10: 29 | JC10: 27 | JD10: 11 | JE10: 21 | JF10: 27 | JG10: =SUM(JA10:JF10) -> 133 | JH10: 18 | JI10: 27 | JJ10: 27 | JK10: 11 | JL10: 21 | JM10: 26 | JN10: =SUM(JH10:JM10) -> 130 | JO10: 17 | JP10: 29 | JQ10: 27 | JR10: 11 | JS10: 22 | JT10: 27 | JU10: =SUM(JO10:JT10) -> 133 | JV10: 18 | JW10: 28 | JX10: 27 | JY10: 11 | JZ10: 22 | KA10: 27 | KB10: =SUM(JV10:KA10) -> 133 | KC10: 18 | KD10: 28 | KE10: 27 | KF10: 11 | KG10: 22 | KH10: 27 | KI10: =SUM(KC10:KH10) -> 133 | KJ10: 18 | KK10: 28 | KL10: 27 | KM10: 11 | KN10: 22 | KO10: 31 | KP10: =SUM(KJ10:KO10) -> 137 | KQ10: 32 | KR10: 39 | KT10: 12 | KU10: 17 | KV10: 29 | KW10: =SUM(KQ10:KV10) -> 129 | KX10: 18 | KY10: 28 | KZ10: 27 | LA10: 23 | LD10: =SUM(KX10:LC10) -> 96 | LK10: =SUM(LE10:LJ10) -> 0 | LR10: =SUM(LL10:LQ10) -> 0 | LY10: =SUM(LS10:LX10) -> 0 | MF10: =SUM(LZ10:ME10) -> 0 | MM10: =SUM(MG10:ML10) -> 0 | MT10: =SUM(MN10:MS10) -> 0 | NA10: =SUM(MU10:MZ10) -> 0
A11: POIDS PDV | B11: =+B8/B10 -> 394.27778 | C11: =+C8/C10 -> 519.25 | D11: =+D8/D10 -> 522.6 | E11: =+E8/E10 -> 438.84615 | F11: =+F8/F10 -> 713.73333 | G11: =+G8/G10 -> 456.53571 | H11: =H8/H10 -> 503.11024 | I11: =+I8/I10 -> 528.78947 | J11: =+J8/J10 -> 584.44828 | K11: =+K8/K10 -> 529.07407 | L11: =+L8/L10 -> 366.83333 | M11: =+M8/M10 -> 418.63636 | N11: =+N8/N10 -> 386.35714 | O11: =O8/O10 -> 479.64234 | P11: =+P8/P10 -> 400.52632 | Q11: =+Q8/Q10 -> 506.75862 | R11: =+R8/R10 -> 494.07407 | S11: =+S8/S10 -> 383.36364 | T11: =+T8/T10 -> 353.71429 | U11: =+U8/U10 -> 330.21429 | V11: =V8/V10 -> 418.79259 | W11: =+W8/W10 -> 370.94737 | X11: =+X8/X10 -> 474.03448 | Y11: =+Y8/Y10 -> 455.5 | Z11: =+Z8/Z10 -> 370.63636 | AA11: =+AA8/AA10 -> 415.09091 | AB11: =+AB8/AB10 -> 377.42857 | AC11: =AC8/AC10 -> 417.88889 | AD11: =+AD8/AD10 -> 426.68421 | AE11: =+AE8/AE10 -> 524 | AF11: =+AF8/AF10 -> 466.03846 | AG11: =+AG8/AG10 -> 459.66667 | AH11: =+AH8/AH10 -> 501.5 | AI11: =+AI8/AI10 -> 423.14286 | AJ11: =AJ8/AJ10 -> 468.42537 | AK11: =+AK8/AK10 -> 413.15789 | AL11: =+AL8/AL10 -> 581.24138 | AM11: =+AM8/AM10 -> 542.51852 | AN11: =+AN8/AN10 -> 461.81818 | AO11: =+AO8/AO10 -> 515.81818 | AP11: =+AP8/AP10 -> 489.75 | AQ11: =AQ8/AQ10 -> 510.99265 | AR11: =+AR8/AR10 -> 460.42105 | AS11: =+AS8/AS10 -> 559.41379 | AT11: =+AT8/AT10 -> 495.03846 | AU11: =+AU8/AU10 -> 412.16667 | AV11: =+AV8/AV10 -> 389.59091 | AW11: =+AW8/AW10 -> 384.18519 | AX11: =AX8/AX10 -> 457.27407 | AY11: =+AY8/AY10 -> 375.21053 | AZ11: =+AZ8/AZ10 -> 499.03448 | BA11: =+BA8/BA10 -> 500.92308 | BB11: =+BB8/BB10 -> 406.72727 | BC11: =+BC8/BC10 -> 401.36364 | BD11: =+BD8/BD10 -> 431.40741 | BE11: =BE8/BE10 -> 444.60448 | BF11: =+BF8/BF10 -> 420.89474 | BG11: =+BG8/BG10 -> 538.48276 | BH11: =+BH8/BH10 -> 538.96296 | BI11: =+BI8/BI10 -> 441.18182 | BJ11: =+BJ8/BJ10 -> 497.04545 | BK11: =+BK8/BK10 -> 446.77778 | BL11: =BL8/BL10 -> 489.00741 | BM11: =+BM8/BM10 -> 478.89474 | BN11: =+BN8/BN10 -> 588.03448 | BO11: =+BO8/BO10 -> 592.81481 | BP11: =+BP8/BP10 -> 428.72727 | BQ11: =+BQ8/BQ10 -> 522.45455 | BR11: =+BR8/BR10 -> 466.35714 | BS11: =BS8/BS10 -> 525.19118 | BT11: =+BT8/BT10 -> 460.89474 | BU11: =+BU8/BU10 -> 557.17241 | BV11: =+BV8/BV10 -> 528.7037 | BW11: =+BW8/BW10 -> 417.09091 | BX11: =+BX8/BX10 -> 406.40909 | BY11: =+BY8/BY10 -> 394.17857 | BZ11: =BZ8/BZ10 -> 468.79412 | CA11: =+CA8/CA10 -> 406.78947 | CB11: =+CB8/CB10 -> 534.27586 | CC11: =+CC8/CC10 -> 457.88889 | CD11: =+CD8/CD10 -> 383 | CE11: =+CE8/CE10 -> 401.77273 | CF11: =+CF8/CF10 -> 388.03571 | CG11: =CG8/CG10 -> 437.52206 | CH11: =+CH8/CH10 -> 386.55556 | CI11: =+CI8/CI10 -> 506.62069 | CJ11: =+CJ8/CJ10 -> 485.96296 | CK11: =+CK8/CK10 -> 433.8 | CL11: =+CL8/CL10 -> 410.77273 | CM11: =+CM8/CM10 -> 444.57143 | CN11: =CN8/CN10 -> 452.19403 | CO11: =+CO8/CO10 -> 438.15789 | CP11: =+CP8/CP10 -> 573.58621 | CQ11: =+CQ8/CQ10 -> 583.24 | CR11: =+CR8/CR10 -> 467.63636 | CS11: =+CS8/CS10 -> 575.68182 | CT11: =+CT8/CT10 -> 605.7037 | CU11: =CU8/CU10 -> 554.15789 | CV11: =+CV8/CV10 -> 492.89474 | CW11: =+CW8/CW10 -> 658.07143 | CX11: =+CX8/CX10 -> 619.30769 | CY11: =+CY8/CY10 -> 459.75 | CZ11: =+CZ8/CZ10 -> 395 | DA11: =+DA8/DA10 -> 433.97143 | DB11: =DB8/DB10 -> 511.20946 | DD11: =+DD8/DD10 -> 515.56 | DE11: =+DE8/DE10 -> 488.09677 | DF11: =+DF8/DF10 -> 441.45455 | DG11: =+DG8/DG10 -> 470.86364 | DH11: =+DH8/DH10 -> 381.76923 | DI11: =DI8/DI10 -> 462.26957 | DJ11: =+DJ8/DJ10 -> 456.95 | DK11: =+DK8/DK10 -> 506.68966 | DL11: =+DL8/DL10 -> 541.66667 | DM11: =+DM8/DM10 -> 422.72727 | DN11: =+DN8/DN10 -> 376.28571 | DO11: =+DO8/DO10 -> 484.54545 | DP11: =DP8/DP10 -> 469.02759 | DR11: =+DR8/DR10 -> 609.88 | DS11: =+DS8/DS10 -> 643.73333 | DT11: =+DT8/DT10 -> 501.18182 | DU11: =+DU8/DU10 -> 490.83333 | DV11: =+DV8/DV10 -> 468.7027 | DW11: =DW8/DW10 -> 542.3985 | DY11: =+DY8/DY10 -> 638.8 | DZ11: =+DZ8/DZ10 -> 552.3 | EA11: =+EA8/EA10 -> 480.36364 | EB11: =+EB8/EB10 -> 592.80952 | EC11: =+EC8/EC10 -> 532 | ED11: =ED8/ED10 -> 566.98246 | EE11: =+EE8/EE10 -> 504.42105 | EF11: =+EF8/EF10 -> 584.24138 | EG11: =+EG8/EG10 -> 529.92308 | EH11: =+EH8/EH10 -> 411 | EI11: =+EI8/EI10 -> 462.68182 | EJ11: =+EJ8/EJ10 -> 460.30769 | EK11: =EK8/EK10 -> 503.55639 | EL11: =+EL8/EL10 -> 499.83333 | EM11: =+EM8/EM10 -> 455.5 | EN11: =+EN8/EN10 -> 470.55556 | EP11: =+EP8/EP10 -> 376.5 | EQ11: =+EQ8/EQ10 -> 477.03704 | ER11: =ER8/ER10 -> 455.875 | ES11: =+ES8/ES10 -> 456.78947 | ET11: =+ET8/ET10 -> 615.68966 | EU11: =+EU8/EU10 -> 533.88462 | EV11: =+EV8/EV10 -> 443 | EW11: =+EW8/EW10 -> 466.66667 | EX11: =+EX8/EX10 -> 472.07895 | EY11: =EY8/EY10 -> 505.51333 | FA11: =+FA8/FA10 -> 561.8 | FB11: =+FB8/FB10 -> 519.90323 | FC11: =+FC8/FC10 -> 518.45455 | FD11: =+FD8/FD10 -> 595.5 | FE11: =+FE8/FE10 -> 511.21429 | FF11: =FF8/FF10 -> 540.8547 | FG11: =+FG8/FG10 -> 524.27778 | FH11: =+FH8/FH10 -> 610.6 | FI11: =+FI8/FI10 -> 570.03704 | FJ11: =+FJ8/FJ10 -> 469.18182 | FK11: =+FK8/FK10 -> 466 | FL11: =+FL8/FL10 -> 437.17857 | FM11: =FM8/FM10 -> 519.7971 | FN11: =+FN8/FN10 -> 456.83333 | FO11: =+FO8/FO10 -> 532.93333 | FP11: =+FP8/FP10 -> 538.14286 | FQ11: =+FQ8/FQ10 -> 442.45455 | FR11: =+FR8/FR10 -> 459.33333 | FS11: =+FS8/FS10 -> 435.65385 | FT11: =FT8/FT10 -> 485.96269 | FU11: =+FU8/FU10 -> 415.88235 | FV11: =+FV8/FV10 -> 493.4 | FW11: =+FW8/FW10 -> 419.03448 | FX11: =+FX8/FX10 -> 333.38462 | FY11: =+FY8/FY10 -> 446.18182 | FZ11: =+FZ8/FZ10 -> 456.51852 | GA11: =GA8/GA10 -> 438.4058 | GB11: =+GB8/GB10 -> 426.94737 | GC11: =+GC8/GC10 -> 565.46667 | GD11: =+GD8/GD10 -> 558.14815 | GE11: =+GE8/GE10 -> 438.72727 | GF11: =+GF8/GF10 -> 548.27273 | GG11: =+GG8/GG10 -> 500.53571 | GH11: =GH8/GH10 -> 518.60584 | GI11: =+GI8/GI10 -> 603.58824 | GJ11: =+GJ8/GJ10 -> 575.93333 | GK11: =+GK8/GK10 -> 498.54545 | GL11: =+GL8/GL10 -> 432.18519 | GN11: =+GN8/GN10 -> 430.14286 | GO11: =GO8/GO10 -> 501.51111 | GP11: =+GP8/GP10 -> 364.23529 | GQ11: =+GQ8/GQ10 -> 512.4 | GR11: =+GR8/GR10 -> 499.88462 | GS11: =+GS8/GS10 -> 439.58333 | GT11: =+GT8/GT10 -> 410.27273 | GU11: =+GU8/GU10 -> 393.92857 | GV11: =GV8/GV10 -> 443.64444 | GW11: =+GW8/GW10 -> 386.58824 | GX11: =+GX8/GX10 -> 484 | GY11: =+GY8/GY10 -> 465.48148 | GZ11: =+GZ8/GZ10 -> 411.16667 | HA11: =+HA8/HA10 -> 386.1 | HB11: =+HB8/HB10 -> 404.82143 | HC11: =HC8/HC10 -> 430.23134 | HD11: =+HD8/HD10 -> 431 | HE11: =+HE8/HE10 -> 535.76667 | HF11: =+HF8/HF10 -> 512.33333 | HG11: =+HG8/HG10 -> 523.15385 | HH11: =+HH8/HH10 -> 470.5 | HI11: =+HI8/HI10 -> 499.57143 | HJ11: =HJ8/HJ10 -> 498.99265 | HK11: =+HK8/HK10 -> 489.35294 | HL11: =+HL8/HL10 -> 594.36667 | HM11: =+HM8/HM10 -> 531.11111 | HN11: =+HN8/HN10 -> 489.28571 | HO11: =+HO8/HO10 -> 421.8 | HP11: =+HP8/HP10 -> 368.81081 | HQ11: =HQ8/HQ10 -> 478.77241 | HR11: =+HR8/HR10 -> 493.05263 | HT11: =+HT8/HT10 -> 430.92308 | HU11: =+HU8/HU10 -> 240.73077 | HV11: =+HV8/HV10 -> 378.05 | HW11: =+HW8/HW10 -> 451.85714 | HX11: =HX8/HX10 -> 408.78261 | HY11: =+HY8/HY10 -> 397.76471 | HZ11: =+HZ8/HZ10 -> 471.3871 | IA11: =+IA8/IA10 -> 460 | IB11: =+IB8/IB10 -> 428.71429 | IC11: =+IC8/IC10 -> 404.85 | ID11: =+ID8/ID10 -> 390 | IE11: =IE8/IE10 -> 429.29927 | IF11: =+IF8/IF10 -> 348.94118 | IG11: =+IG8/IG10 -> 462.29032 | IH11: =+IH8/IH10 -> 504.5 | II11: =+II8/II10 -> 405.6 | IJ11: =+IJ8/IJ10 -> 510.13636 | IK11: =+IK8/IK10 -> 526.65385 | IL11: =IL8/IL10 -> 472.36364 | IM11: =+IM8/IM10 -> 522.88889 | IN11: =+IN8/IN10 -> 536 | IO11: =+IO8/IO10 -> 514.62963 | IP11: =+IP8/IP10 -> 464.45455 | IQ11: =+IQ8/IQ10 -> 520.86364 | IR11: =+IR8/IR10 -> 454.92 | IS11: =IS8/IS10 -> 506 | IT11: =+IT8/IT10 -> 458.05263 | IU11: =+IU8/IU10 -> 578.55556 | IV11: =+IV8/IV10 -> 515.07407 | IW11: =+IW8/IW10 -> 374.09091 | IX11: =+IX8/IX10 -> 425.45455 | IY11: =+IY8/IY10 -> 448.25926 | IZ11: =IZ8/IZ10 -> 479.76692 | JA11: =+JA8/JA10 -> 382.22222 | JB11: =+JB8/JB10 -> 543.75862 | JC11: =+JC8/JC10 -> 496.44444 | JD11: =+JD8/JD10 -> 385.81818 | JE11: =+JE8/JE10 -> 421.47619 | JF11: =+JF8/JF10 -> 409.7037 | JG11: =JG8/JG10 -> 452.70677 | JH11: =+JH8/JH10 -> 399.94444 | JI11: =+JI8/JI10 -> 538.51852 | JJ11: =+JJ8/JJ10 -> 474.48148 | JK11: =+JK8/JK10 -> 382.09091 | JL11: =+JL8/JL10 -> 445 | JM11: =+JM8/JM10 -> 392.61538 | JN11: =JN8/JN10 -> 448.50769 | JO11: =+JO8/JO10 -> 405.47059 | JP11: =+JP8/JP10 -> 570.51724 | JQ11: =+JQ8/JQ10 -> 519.44444 | JR11: =+JR8/JR10 -> 412.18182 | JS11: =+JS8/JS10 -> 459 | JT11: =+JT8/JT10 -> 475.74074 | JU11: =JU8/JU10 -> 488.27068 | JV11: =+JV8/JV10 -> 426.16667 | JW11: =+JW8/JW10 -> 591.71429 | JX11: =+JX8/JX10 -> 512 | JY11: =+JY8/JY10 -> 431.72727 | JZ11: =+JZ8/JZ10 -> 433.40909 | KA11: =+KA8/KA10 -> 455.25926 | KB11: =KB8/KB10 -> 486.00752 | KC11: =+KC8/KC10 -> 437.38889 | KD11: =+KD8/KD10 -> 487.96429 | KE11: =+KE8/KE10 -> 466.22222 | KF11: =+KF8/KF10 -> 414 | KG11: =+KG8/KG10 -> 427.63636 | KH11: =+KH8/KH10 -> 424.81481 | KI11: =KI8/KI10 -> 447.78947 | KJ11: =+KJ8/KJ10 -> 357.88889 | KK11: =+KK8/KK10 -> 479.35714 | KL11: =+KL8/KL10 -> 472.88889 | KM11: =+KM8/KM10 -> 450.27273 | KN11: =+KN8/KN10 -> 384.22727 | KO11: =+KO8/KO10 -> 456.96774 | KP11: =KP8/KP10 -> 439.44526 | KQ11: =+KQ8/KQ10 -> 358.03125 | KR11: =+KR8/KR10 -> 462.23077 | KT11: =+KT8/KT10 -> 356.33333 | KU11: =+KU8/KU10 -> 729.94118 | KV11: =+KV8/KV10 -> 439.48276 | KW11: =KW8/KW10 -> 456.69767 | KX11: =+KX8/KX10 -> 485.16667 | KY11: =+KY8/KY10 -> 616.57143 | KZ11: =+KZ8/KZ10 -> 639.07407 | LA11: =+LA8/LA10 -> 475.21739 | LB11: =+LB8/LB10 -> #DIV/0! | LD11: =LD8/LD10 -> 564.39583 | LE11: =+LE8/LE10 -> #DIV/0! | LF11: =+LF8/LF10 -> #DIV/0! | LG11: =+LG8/LG10 -> #DIV/0! | LH11: =+LH8/LH10 -> #DIV/0! | LI11: =+LI8/LI10 -> #DIV/0! | LJ11: =+LJ8/LJ10 -> #DIV/0! | LK11: =LK8/LK10 -> #DIV/0! | LL11: =+LL8/LL10 -> #DIV/0! | LM11: =+LM8/LM10 -> #DIV/0! | LN11: =+LN8/LN10 -> #DIV/0! | LO11: =+LO8/LO10 -> #DIV/0! | LP11: =+LP8/LP10 -> #DIV/0! | LQ11: =+LQ8/LQ10 -> #DIV/0! | LR11: =LR8/LR10 -> #DIV/0! | LS11: =+LS8/LS10 -> #DIV/0! | LT11: =+LT8/LT10 -> #DIV/0! | LU11: =+LU8/LU10 -> #DIV/0! | LV11: =+LV8/LV10 -> #DIV/0! | LW11: =+LW8/LW10 -> #DIV/0! | LX11: =+LX8/LX10 -> #DIV/0! | LY11: =LY8/LY10 -> #DIV/0! | LZ11: =+LZ8/LZ10 -> #DIV/0! | MA11: =+MA8/MA10 -> #DIV/0! | MB11: =+MB8/MB10 -> #DIV/0! | MC11: =+MC8/MC10 -> #DIV/0! | MD11: =+MD8/MD10 -> #DIV/0! | ME11: =+ME8/ME10 -> #DIV/0! | MF11: =MF8/MF10 -> #DIV/0! | MG11: =+MG8/MG10 -> #DIV/0! | MH11: =+MH8/MH10 -> #DIV/0! | MI11: =+MI8/MI10 -> #DIV/0! | MJ11: =+MJ8/MJ10 -> #DIV/0! | MK11: =+MK8/MK10 -> #DIV/0! | ML11: =+ML8/ML10 -> #DIV/0! | MM11: =MM8/MM10 -> #DIV/0! | MN11: =+MN8/MN10 -> #DIV/0! | MO11: =+MO8/MO10 -> #DIV/0! | MP11: =+MP8/MP10 -> #DIV/0! | MQ11: =+MQ8/MQ10 -> #DIV/0! | MR11: =+MR8/MR10 -> #DIV/0! | MS11: =+MS8/MS10 -> #DIV/0! | MT11: =MT8/MT10 -> #DIV/0! | MV11: =+MV8/MV10 -> #DIV/0! | MW11: =+MW8/MW10 -> #DIV/0! | MX11: =+MX8/MX10 -> #DIV/0! | MY11: =+MY8/MY10 -> #DIV/0! | MZ11: =+MZ8/MZ10 -> #DIV/0! | NA11: =NA8/NA10 -> #DIV/0!
A12: MG SUIVI | B12: 11458 | C12: 16365 | D12: 13513 | E12: 12803 | F12: 13200 | G12: 2700 | H12: =SUM(B12:G12) -> 70039 | I12: 15380 | J12: 17388 | K12: 13099 | L12: 11406 | M12: 12068 | N12: 2272 | O12: =SUM(I12:N12) -> 71613 | P12: 14324 | Q12: 18006 | R12: 13155 | S12: 11660 | T12: 12567 | U12: 2277 | V12: =SUM(P12:U12) -> 71989 | W12: 15318 | X12: 15970 | Y12: 12913 | Z12: 10693 | AA12: 10792 | AB12: 2270 | AC12: =SUM(W12:AB12) -> 67956 | AD12: 13159 | AE12: 16106 | AF12: 13324 | AG12: 10592 | AH12: 11257 | AI12: 2213 | AJ12: =SUM(AD12:AI12) -> 66651 | AK12: 14687 | AL12: 15584 | AM12: 12081 | AN12: 10518 | AO12: 11284 | AP12: 2240 | AQ12: =SUM(AK12:AP12) -> 66394 | AR12: 13151 | AS12: 15789 | AT12: 13145 | AU12: 10727 | AV12: 11325 | AW12: 2201 | AX12: =SUM(AR12:AW12) -> 66338 | AY12: 12815 | AZ12: 15132 | BA12: 11061 | BB12: 9701 | BC12: 10924 | BD12: 1963 | BE12: =SUM(AY12:BD12) -> 61596 | BF12: 12696 | BG12: 15190 | BH12: 11557 | BI12: 10823 | BJ12: 10673 | BK12: 2030 | BL12: =SUM(BF12:BK12) -> 62969 | BM12: 13647 | BN12: 15623 | BO12: 12300 | BP12: 10173 | BQ12: 11055 | BR12: 1756 | BS12: =SUM(BM12:BR12) -> 64554 | BT12: 13326 | BU12: 15189 | BV12: 11912 | BW12: 8573 | BX12: 11081 | BY12: 1846 | BZ12: =SUM(BT12:BY12) -> 61927 | CA12: 12209 | CB12: 14580 | CC12: 11026 | CD12: 8301 | CE12: 10265 | CF12: 1704 | CG12: =SUM(CA12:CF12) -> 58085 | CH12: 12615 | CI12: 14876 | CJ12: 10336 | CK12: 7490 | CL12: 11104 | CM12: 1754 | CN12: =SUM(CH12:CM12) -> 58175 | CO12: 12657 | CP12: 14801 | CQ12: 10491 | CR12: 8340 | CS12: 10897 | CT12: 2000 | CU12: =SUM(CO12:CT12) -> 59186 | CV12: 14501 | CW12: 16616 | CX12: 12340 | CY12: 9075 | CZ12: 18052 | DA12: 3744 | DB12: =SUM(CV12:DA12) -> 74328 | DD12: 12425 | DE12: 9812 | DF12: 8208 | DG12: 10734 | DH12: 2053 | DI12: =SUM(DC12:DH12) -> 43232 | DJ12: 13797 | DK12: 14479 | DL12: 9414 | DM12: 9668 | DN12: 15586 | DO12: 3948 | DP12: =SUM(DJ12:DO12) -> 66892 | DR12: 14138 | DS12: 11473 | DT12: 11367 | DU12: 20599 | DV12: 4593 | DW12: =SUM(DQ12:DV12) -> 62170 | DY12: 16069 | DZ12: 11339 | EA12: 9165 | EB12: 12262 | EC12: 2235 | ED12: =SUM(DX12:EC12) -> 51070 | EE12: 15145 | EF12: 16391 | EG12: 11133 | EH12: 8736 | EI12: 11115 | EJ12: 4045 | EK12: =SUM(EE12:EJ12) -> 66565 | EL12: 14273 | EM12: 16513 | EN12: 8284 | EP12: 11863 | EQ12: 1863 | ER12: =SUM(EL12:EQ12) -> 52796 | ES12: 13222 | ET12: 17176 | EU12: 14365 | EV12: 10444 | EW12: 17602 | EX12: 3945 | EY12: =SUM(ES12:EX12) -> 76754 | FA12: 16009 | FB12: 10708 | FC12: 9796 | FD12: 11758 | FE12: 2605 | FF12: =SUM(EZ12:FE12) -> 50876 | FG12: 15922 | FH12: 16009 | FI12: 11991 | FJ12: 9074 | FK12: 10763 | FL12: 1955 | FM12: =SUM(FG12:FL12) -> 65714 | FN12: 13829 | FO12: 16087 | FP12: 10954 | FQ12: 7878 | FR12: 10559 | FS12: 1824 | FT12: =SUM(FN12:FS12) -> 61131 | FU12: 12429 | FV12: 15327 | FW12: 10292 | FX12: 8510 | FY12: 10459 | FZ12: 2051 | GA12: =SUM(FU12:FZ12) -> 59068 | GB12: 12841 | GC12: 12290 | GD12: 13145 | GE12: 9266 | GF12: 12725 | GG12: 2050 | GH12: =SUM(GB12:GG12) -> 62317 | GI12: 17322 | GJ12: 21199 | GK12: 12881 | GL12: 10739 | GN12: 3590 | GO12: =SUM(GI12:GN12) -> 65731 | GP12: 14597 | GQ12: 17627 | GR12: 15680 | GS12: 10454 | GT12: 14625 | GU12: 2528 | GV12: =SUM(GP12:GU12) -> 75511 | GW12: 16030 | GX12: 18756 | GY12: 14962 | GZ12: 7496 | HA12: 13160 | HB12: 2551 | HC12: =SUM(GW12:HB12) -> 72955 | HD12: 14924 | HE12: 19866 | HF12: 16952 | HG12: 8416 | HH12: 13442 | HI12: 2622 | HJ12: =SUM(HD12:HI12) -> 76222 | HK12: 17347 | HL12: 21705 | HM12: 17922 | HN12: 10677 | HO12: 13264 | HP12: 6704 | HQ12: =SUM(HK12:HP12) -> 87619 | HR12: 17441 | HT12: 21729 | HU12: 7275 | HV12: 13515 | HW12: 3346 | HX12: =SUM(HR12:HW12) -> 63306 | HY12: 17055 | HZ12: 21689 | IA12: =16064-1-358 -> 15705 | IB12: 8014 | IC12: 12872 | ID12: 2601 | IE12: =SUM(HY12:ID12) -> 77936 | IF12: 12513 | IG12: 16703 | IH12: 12813 | II12: 9877 | IJ12: 13260 | IK12: 2614 | IL12: =SUM(IF12:IK12) -> 67780 | IM12: 17294 | IN12: 19110 | IO12: 15564 | IP12: 12927 | IQ12: 14577 | IR12: 2613 | IS12: =SUM(IM12:IR12) -> 82085 | IT12: 18057 | IU12: 20943 | IV12: 13843 | IW12: 10636 | IX12: 13142 | IY12: 2482 | IZ12: =SUM(IT12:IY12) -> 79103 | JA12: 14280 | JB12: 16272 | JC12: 12639 | JD12: 8964 | JE12: 11438 | JF12: 2716 | JG12: =SUM(JA12:JF12) -> 66309 | JH12: 13757 | JI12: 15298 | JJ12: 12490 | JK12: 8907 | JL12: 11269 | JM12: 2524 | JN12: =SUM(JH12:JM12) -> 64245 | JO12: 14739 | JP12: 16709 | JQ12: 12276 | JR12: 10012 | JS12: 11703 | JT12: 2598 | JU12: =SUM(JO12:JT12) -> 68037 | JV12: 14379 | JW12: 17302 | JX12: 12881 | JY12: 9937 | JZ12: 10585 | KA12: 2300 | KB12: =SUM(JV12:KA12) -> 67384 | KC12: 13857 | KD12: 15279 | KE12: 11057 | KF12: 8925 | KG12: 11321 | KH12: 2179 | KI12: =SUM(KC12:KH12) -> 62618 | KJ12: 13088 | KK12: 14394 | KL12: 10611 | KM12: 8021 | KN12: 10417 | KO12: 5539 | KP12: =SUM(KJ12:KO12) -> 62070 | KQ12: 12394 | KR12: 15040 | KT12: 8416 | KU12: 11968 | KV12: 2774 | KW12: =SUM(KQ12:KV12) -> 50592 | KX12: 17691 | KY12: 20259 | KZ12: 9865 | LA12: 11483 | LD12: =SUM(KX12:LC12) -> 59298 | LK12: =SUM(LE12:LJ12) -> 0 | LR12: =SUM(LL12:LQ12) -> 0 | LY12: =SUM(LS12:LX12) -> 0 | MF12: =SUM(LZ12:ME12) -> 0 | MM12: =SUM(MG12:ML12) -> 0 | MT12: =SUM(MN12:MS12) -> 0 | NA12: =SUM(MU12:MZ12) -> 0
A13: repart % | B13: =B12/H12 -> 0.16359457 | C13: =C12/H12 -> 0.23365553 | D13: =D12/H12 -> 0.19293536 | E13: =E12/H12 -> 0.18279816 | F13: =F12/H12 -> 0.18846643 | G13: =G12/H12 -> 0.038549951 | H13: =SUM(B13:G13) -> 1 | I13: =I12/O12 -> 0.21476548 | J13: =J12/O12 -> 0.24280508 | K13: =K12/O12 -> 0.18291372 | L13: =L12/O12 -> 0.15927276 | M13: =M12/O12 -> 0.16851689 | N13: =N12/O12 -> 0.031726083 | O13: =SUM(I13:N13) -> 1 | P13: =P12/V12 -> 0.19897484 | Q13: =Q12/V12 -> 0.25012155 | R13: =R12/V12 -> 0.18273625 | S13: =S12/V12 -> 0.16196919 | T13: =T12/V12 -> 0.17456834 | U13: =U12/V12 -> 0.031629832 | V13: =SUM(P13:U13) -> 1 | W13: =W12/AC12 -> 0.22541056 | X13: =X12/AC12 -> 0.235005 | Y13: =Y12/AC12 -> 0.19002001 | Z13: =Z12/AC12 -> 0.15735182 | AA13: =AA12/AC12 -> 0.15880864 | AB13: =AB12/AC12 -> 0.033403967 | AC13: =SUM(W13:AB13) -> 1 | AD13: =AD12/AJ12 -> 0.1974314 | AE13: =AE12/AJ12 -> 0.24164679 | AF13: =AF12/AJ12 -> 0.19990698 | AG13: =AG12/AJ12 -> 0.15891735 | AH13: =AH12/AJ12 -> 0.16889469 | AI13: =AI12/AJ12 -> 0.033202803 | AJ13: =SUM(AD13:AI13) -> 1 | AK13: =AK12/AQ12 -> 0.22120975 | AL13: =AL12/AQ12 -> 0.23472 | AM13: =AM12/AQ12 -> 0.18195921 | AN13: =AN12/AQ12 -> 0.15841793 | AO13: =AO12/AQ12 -> 0.16995512 | AP13: =AP12/AQ12 -> 0.033737988 | AQ13: =SUM(AK13:AP13) -> 1 | AR13: =AR12/AX12 -> 0.19824233 | AS13: =AS12/AX12 -> 0.23800838 | AT13: =AT12/AX12 -> 0.19815189 | AU13: =AU12/AX12 -> 0.16170219 | AV13: =AV12/AX12 -> 0.17071663 | AW13: =AW12/AX12 -> 0.03317857 | AX13: =SUM(AR13:AW13) -> 1 | AY13: =AY12/BE12 -> 0.20804922 | AZ13: =AZ12/BE12 -> 0.2456653 | BA13: =BA12/BE12 -> 0.17957335 | BB13: =BB12/BE12 -> 0.15749399 | BC13: =BC12/BE12 -> 0.17734918 | BD13: =BD12/BE12 -> 0.031868953 | BE13: =SUM(AY13:BD13) -> 1 | BF13: =BF12/BL12 -> 0.20162302 | BG13: =BG12/BL12 -> 0.24122981 | BH13: =BH12/BL12 -> 0.18353476 | BI13: =BI12/BL12 -> 0.17187823 | BJ13: =BJ12/BL12 -> 0.1694961 | BK13: =BK12/BL12 -> 0.032238085 | BL13: =SUM(BF13:BK13) -> 1 | BM13: =BM12/BS12 -> 0.21140441 | BN13: =BN12/BS12 -> 0.24201444 | BO13: =BO12/BS12 -> 0.19053815 | BP13: =BP12/BS12 -> 0.157589 | BQ13: =BQ12/BS12 -> 0.17125198 | BR13: =BR12/BS12 -> 0.027202032 | BS13: =SUM(BM13:BR13) -> 1 | BT13: =BT12/BZ12 -> 0.21518885 | BU13: =BU12/BZ12 -> 0.24527266 | BV13: =BV12/BZ12 -> 0.19235552 | BW13: =BW12/BZ12 -> 0.13843719 | BX13: =BX12/BZ12 -> 0.17893649 | BY13: =BY12/BZ12 -> 0.029809292 | BZ13: =SUM(BT13:BY13) -> 1 | CA13: =CA12/CG12 -> 0.21019196 | CB13: =CB12/CG12 -> 0.25101145 | CC13: =CC12/CG12 -> 0.18982526 | CD13: =CD12/CG12 -> 0.14291125 | CE13: =CE12/CG12 -> 0.17672377 | CF13: =CF12/CG12 -> 0.029336317 | CG13: =SUM(CA13:CF13) -> 1 | CH13: =CH12/CN12 -> 0.21684572 | CI13: =CI12/CN12 -> 0.25571122 | CJ13: =CJ12/CN12 -> 0.17767082 | CK13: =CK12/CN12 -> 0.12874946 | CL13: =CL12/CN12 -> 0.19087237 | CM13: =CM12/CN12 -> 0.030150408 | CN13: =SUM(CH13:CM13) -> 1 | CO13: =CO12/CU12 -> 0.21385125 | CP13: =CP12/CU12 -> 0.25007603 | CQ13: =CQ12/CU12 -> 0.17725476 | CR13: =CR12/CU12 -> 0.1409117 | CS13: =CS12/CU12 -> 0.18411449 | CT13: =CT12/CU12 -> 0.033791775 | CU13: =SUM(CO13:CT13) -> 1 | CV13: =CV12/DB12 -> 0.19509472 | CW13: =CW12/DB12 -> 0.22354967 | CX13: =CX12/DB12 -> 0.16602088 | CY13: =CY12/DB12 -> 0.12209396 | CZ13: =CZ12/DB12 -> 0.24286944 | DA13: =DA12/DB12 -> 0.050371327 | DB13: =SUM(CV13:DA13) -> 1 | DD13: =DD12/DI12 -> 0.28740285 | DE13: =DE12/DI12 -> 0.22696151 | DF13: =DF12/DI12 -> 0.18985936 | DG13: =DG12/DI12 -> 0.2482883 | DH13: =DH12/DI12 -> 0.047487972 | DI13: =SUM(DC13:DH13) -> 1 | DJ13: =DJ12/DP12 -> 0.20625785 | DK13: =DK12/DP12 -> 0.21645339 | DL13: =DL12/DP12 -> 0.14073432 | DM13: =DM12/DP12 -> 0.14453148 | DN13: =DN12/DP12 -> 0.23300245 | DO13: =DO12/DP12 -> 0.059020511 | DP13: =SUM(DJ13:DO13) -> 1 | DR13: =DR12/DW12 -> 0.22740872 | DS13: =DS12/DW12 -> 0.18454238 | DT13: =DT12/DW12 -> 0.18283738 | DU13: =DU12/DW12 -> 0.33133344 | DV13: =DV12/DW12 -> 0.073878076 | DW13: =SUM(DQ13:DV13) -> 1 | DY13: =DY12/ED12 -> 0.31464656 | DZ13: =DZ12/ED12 -> 0.22202859 | EA13: =EA12/ED12 -> 0.17945957 | EB13: =EB12/ED12 -> 0.24010182 | EC13: =EC12/ED12 -> 0.043763462 | ED13: =SUM(DX13:EC13) -> 1 | EE13: =EE12/EK12 -> 0.22752197 | EF13: =EF12/EK12 -> 0.24624052 | EG13: =EG12/EK12 -> 0.16725006 | EH13: =EH12/EK12 -> 0.13124014 | EI13: =EI12/EK12 -> 0.16697964 | EJ13: =EJ12/EK12 -> 0.060767671 | EK13: =SUM(EE13:EJ13) -> 1 | EL13: =EL12/ER12 -> 0.27034245 | EM13: =EM12/ER12 -> 0.31276991 | EN13: =EN12/ER12 -> 0.15690583 | EP13: =EP12/ER12 -> 0.22469505 | EQ13: =EQ12/ER12 -> 0.035286764 | ER13: =SUM(EL13:EQ13) -> 1 | ES13: =ES12/EY12 -> 0.17226464 | ET13: =ET12/EY12 -> 0.22377987 | EU13: =EU12/EY12 -> 0.18715637 | EV13: =EV12/EY12 -> 0.13607108 | EW13: =EW12/EY12 -> 0.22933007 | EX13: =EX12/EY12 -> 0.051397973 | EY13: =SUM(ES13:EX13) -> 1 | FA13: =FA12/FF12 -> 0.31466703 | FB13: =FB12/FF12 -> 0.21047252 | FC13: =FC12/FF12 -> 0.19254658 | FD13: =FD12/FF12 -> 0.23111094 | FE13: =FE12/FF12 -> 0.051202925 | FF13: =SUM(EZ13:FE13) -> 1 | FG13: =FG12/FM12 -> 0.24229236 | FH13: =FH12/FM12 -> 0.24361628 | FI13: =FI12/FM12 -> 0.18247253 | FJ13: =FJ12/FM12 -> 0.13808321 | FK13: =FK12/FM12 -> 0.16378549 | FL13: =FL12/FM12 -> 0.029750129 | FM13: =SUM(FG13:FL13) -> 1 | FN13: =FN12/FT12 -> 0.2262191 | FO13: =FO12/FT12 -> 0.26315617 | FP13: =FP12/FT12 -> 0.17918895 | FQ13: =FQ12/FT12 -> 0.12887079 | FR13: =FR12/FT12 -> 0.17272742 | FS13: =FS12/FT12 -> 0.029837562 | FT13: =SUM(FN13:FS13) -> 1 | FU13: =FU12/GA12 -> 0.2104185 | FV13: =FV12/GA12 -> 0.2594806 | FW13: =FW12/GA12 -> 0.17423986 | FX13: =FX12/GA12 -> 0.14407124 | FY13: =FY12/GA12 -> 0.17706711 | FZ13: =FZ12/GA12 -> 0.034722692 | GA13: =SUM(FU13:FZ13) -> 1 | GB13: =GB12/GH12 -> 0.20605934 | GC13: =GC12/GH12 -> 0.19721745 | GD13: =GD12/GH12 -> 0.21093763 | GE13: =GE12/GH12 -> 0.14869137 | GF13: =GF12/GH12 -> 0.20419789 | GG13: =GG12/GH12 -> 0.03289632 | GH13: =SUM(GB13:GG13) -> 1 | GI13: =GI12/GO12 -> 0.26352862 | GJ13: =GJ12/GO12 -> 0.32251145 | GK13: =GK12/GO12 -> 0.19596537 | GL13: =GL12/GO12 -> 0.16337801 | GN13: =GN12/GO12 -> 0.054616543 | GO13: =SUM(GI13:GN13) -> 1 | GP13: =GP12/GV12 -> 0.19330958 | GQ13: =GQ12/GV12 -> 0.23343619 | GR13: =GR12/GV12 -> 0.20765187 | GS13: =GS12/GV12 -> 0.13844341 | GT13: =GT12/GV12 -> 0.19368039 | GU13: =GU12/GV12 -> 0.033478566 | GV13: =SUM(GP13:GU13) -> 1 | GW13: =GW12/HC12 -> 0.21972449 | GX13: =GX12/HC12 -> 0.25708999 | GY13: =GY12/HC12 -> 0.20508533 | GZ13: =GZ12/HC12 -> 0.10274827 | HA13: =HA12/HC12 -> 0.18038517 | HB13: =HB12/HC12 -> 0.03496676 | HC13: =SUM(GW13:HB13) -> 1 | HD13: =HD12/HJ12 -> 0.19579649 | HE13: =HE12/HJ12 -> 0.26063341 | HF13: =HF12/HJ12 -> 0.22240298 | HG13: =HG12/HJ12 -> 0.11041432 | HH13: =HH12/HJ12 -> 0.17635328 | HI13: =HI12/HJ12 -> 0.034399517 | HJ13: =SUM(HD13:HI13) -> 1 | HK13: =HK12/HQ12 -> 0.19798217 | HL13: =HL12/HQ12 -> 0.24772024 | HM13: =HM12/HQ12 -> 0.20454468 | HN13: =HN12/HQ12 -> 0.12185713 | HO13: =HO12/HQ12 -> 0.15138269 | HP13: =HP12/HQ12 -> 0.076513085 | HQ13: =SUM(HK13:HP13) -> 1 | HR13: =HR12/HX12 -> 0.27550311 | HT13: =HT12/HX12 -> 0.34323761 | HU13: =HU12/HX12 -> 0.11491802 | HV13: =HV12/HX12 -> 0.21348687 | HW13: =HW12/HX12 -> 0.05285439 | HX13: =SUM(HR13:HW13) -> 1 | HY13: =HY12/IE12 -> 0.2188334 | HZ13: =HZ12/IE12 -> 0.27829245 | IA13: =IA12/IE12 -> 0.2015115 | IB13: =IB12/IE12 -> 0.10282796 | IC13: =IC12/IE12 -> 0.16516116 | ID13: =ID12/IE12 -> 0.033373537 | IE13: =SUM(HY13:ID13) -> 1 | IF13: =IF12/IL12 -> 0.18461198 | IG13: =IG12/IL12 -> 0.24642963 | IH13: =IH12/IL12 -> 0.18903806 | II13: =II12/IL12 -> 0.14572145 | IJ13: =IJ12/IL12 -> 0.19563293 | IK13: =IK12/IL12 -> 0.038565949 | IL13: =SUM(IF13:IK13) -> 1 | IM13: =IM12/IS12 -> 0.21068405 | IN13: =IN12/IS12 -> 0.23280746 | IO13: =IO12/IS12 -> 0.18960833 | IP13: =IP12/IS12 -> 0.1574831 | IQ13: =IQ12/IS12 -> 0.17758421 | IR13: =IR12/IS12 -> 0.031832856 | IS13: =SUM(IM13:IR13) -> 1 | IT13: =IT12/IZ12 -> 0.228272 | IU13: =IU12/IZ12 -> 0.26475608 | IV13: =IV12/IZ12 -> 0.17499968 | IW13: =IW12/IZ12 -> 0.13445761 | IX13: =IX12/IZ12 -> 0.16613782 | IY13: =IY12/IZ12 -> 0.031376813 | IZ13: =SUM(IT13:IY13) -> 1 | JA13: =JA12/JG12 -> 0.21535538 | JB13: =JB12/JG12 -> 0.24539655 | JC13: =JC12/JG12 -> 0.19060761 | JD13: =JD12/JG12 -> 0.13518527 | JE13: =JE12/JG12 -> 0.17249544 | JF13: =JF12/JG12 -> 0.040959749 | JG13: =SUM(JA13:JF13) -> 1 | JH13: =JH12/JN12 -> 0.2141334 | JI13: =JI12/JN12 -> 0.2381197 | JJ13: =JJ12/JN12 -> 0.19441202 | JK13: =JK12/JN12 -> 0.13864114 | JL13: =JL12/JN12 -> 0.17540665 | JM13: =JM12/JN12 -> 0.039287104 | JN13: =SUM(JH13:JM13) -> 1 | JO13: =JO12/JU12 -> 0.21663213 | JP13: =JP12/JU12 -> 0.24558696 | JQ13: =JQ12/JU12 -> 0.18043124 | JR13: =JR12/JU12 -> 0.14715522 | JS13: =JS12/JU12 -> 0.17200935 | JT13: =JT12/JU12 -> 0.038185105 | JU13: =SUM(JO13:JT13) -> 1 | JV13: =JV12/KB12 -> 0.21338894 | JW13: =JW12/KB12 -> 0.25676719 | JX13: =JX12/KB12 -> 0.19115814 | JY13: =JY12/KB12 -> 0.14746824 | JZ13: =JZ12/KB12 -> 0.15708477 | KA13: =KA12/KB12 -> 0.034132732 | KB13: =SUM(JV13:KA13) -> 1 | KC13: =KC12/KI12 -> 0.2212942 | KD13: =KD12/KI12 -> 0.24400332 | KE13: =KE12/KI12 -> 0.17657862 | KF13: =KF12/KI12 -> 0.1425309 | KG13: =KG12/KI12 -> 0.18079466 | KH13: =KH12/KI12 -> 0.034798301 | KI13: =SUM(KC13:KH13) -> 1 | KJ13: =KJ12/KP12 -> 0.21085871 | KK13: =KK12/KP12 -> 0.23189947 | KL13: =KL12/KP12 -> 0.17095215 | KM13: =KM12/KP12 -> 0.12922507 | KN13: =KN12/KP12 -> 0.16782665 | KO13: =KO12/KP12 -> 0.089237957 | KP13: =SUM(KJ13:KO13) -> 1 | KQ13: =KQ12/KW12 -> 0.24497944 | KR13: =KR12/KW12 -> 0.2972802 | KT13: =KT12/KW12 -> 0.16635041 | KU13: =KU12/KW12 -> 0.23655914 | KV13: =KV12/KW12 -> 0.054830803 | KW13: =SUM(KQ13:KV13) -> 1 | KX13: =KX12/LD12 -> 0.29834058 | KY13: =KY12/LD12 -> 0.34164727 | KZ13: =KZ12/LD12 -> 0.16636312 | LA13: =LA12/LD12 -> 0.19364903 | LB13: =LB12/LD12 -> 0 | LD13: =SUM(KX13:LC13) -> 1 | LE13: =LE12/LK12 -> #DIV/0! | LF13: =LF12/LK12 -> #DIV/0! | LG13: =LG12/LK12 -> #DIV/0! | LH13: =LH12/LK12 -> #DIV/0! | LI13: =LI12/LK12 -> #DIV/0! | LJ13: =LJ12/LK12 -> #DIV/0! | LK13: =SUM(LE13:LJ13) -> #DIV/0! | LL13: =LL12/LR12 -> #DIV/0! | LM13: =LM12/LR12 -> #DIV/0! | LN13: =LN12/LR12 -> #DIV/0! | LO13: =LO12/LR12 -> #DIV/0! | LP13: =LP12/LR12 -> #DIV/0! | LQ13: =LQ12/LR12 -> #DIV/0! | LR13: =SUM(LL13:LQ13) -> #DIV/0! | LS13: =LS12/LY12 -> #DIV/0! | LT13: =LT12/LY12 -> #DIV/0! | LU13: =LU12/LY12 -> #DIV/0! | LV13: =LV12/LY12 -> #DIV/0! | LW13: =LW12/LY12 -> #DIV/0! | LX13: =LX12/LY12 -> #DIV/0! | LY13: =SUM(LS13:LX13) -> #DIV/0! | LZ13: =LZ12/MF12 -> #DIV/0! | MA13: =MA12/MF12 -> #DIV/0! | MB13: =MB12/MF12 -> #DIV/0! | MC13: =MC12/MF12 -> #DIV/0! | MD13: =MD12/MF12 -> #DIV/0! | ME13: =ME12/MF12 -> #DIV/0! | MF13: =SUM(LZ13:ME13) -> #DIV/0! | MG13: =MG12/MM12 -> #DIV/0! | MH13: =MH12/MM12 -> #DIV/0! | MI13: =MI12/MM12 -> #DIV/0! | MJ13: =MJ12/MM12 -> #DIV/0! | MK13: =MK12/MM12 -> #DIV/0! | ML13: =ML12/MM12 -> #DIV/0! | MM13: =SUM(MG13:ML13) -> #DIV/0! | MN13: =MN12/MT12 -> #DIV/0! | MO13: =MO12/MT12 -> #DIV/0! | MP13: =MP12/MT12 -> #DIV/0! | MQ13: =MQ12/MT12 -> #DIV/0! | MR13: =MR12/MT12 -> #DIV/0! | MS13: =MS12/MT12 -> #DIV/0! | MT13: =SUM(MN13:MS13) -> #DIV/0! | MV13: =MV12/NA12 -> #DIV/0! | MW13: =MW12/NA12 -> #DIV/0! | MX13: =MX12/NA12 -> #DIV/0! | MY13: =MY12/NA12 -> #DIV/0! | MZ13: =MZ12/NA12 -> #DIV/0! | NA13: =SUM(MU13:MZ13) -> #DIV/0!
A14: NB PDV | B14: 119 | C14: 161 | D14: 93 | E14: 78 | F14: 100 | G14: 24 | H14: =SUM(B14:G14) -> 575 | I14: 121 | J14: 163 | K14: 94 | L14: 79 | M14: 101 | N14: 25 | O14: =SUM(I14:N14) -> 583 | P14: 123 | Q14: 168 | R14: 94 | S14: 78 | T14: 97 | U14: 23 | V14: =SUM(P14:U14) -> 583 | W14: 125 | X14: 166 | Y14: 97 | Z14: 78 | AA14: 100 | AB14: 23 | AC14: =SUM(W14:AB14) -> 589 | AD14: 127 | AE14: 167 | AF14: 97 | AG14: 77 | AH14: 98 | AI14: 22 | AJ14: =SUM(AD14:AI14) -> 588 | AK14: 126 | AL14: 165 | AM14: 93 | AN14: 76 | AO14: 97 | AP14: 24 | AQ14: =SUM(AK14:AP14) -> 581 | AR14: 126 | AS14: 167 | AT14: 95 | AU14: 76 | AV14: 97 | AW14: 23 | AX14: =SUM(AR14:AW14) -> 584 | AY14: 124 | AZ14: 167 | BA14: 92 | BB14: 75 | BC14: 97 | BD14: 24 | BE14: =SUM(AY14:BD14) -> 579 | BF14: 125 | BG14: 165 | BH14: 95 | BI14: 76 | BJ14: 96 | BK14: 22 | BL14: =SUM(BF14:BK14) -> 579 | BM14: 126 | BN14: 164 | BO14: 93 | BP14: 78 | BQ14: 97 | BR14: 21 | BS14: =SUM(BM14:BR14) -> 579 | BT14: 126 | BU14: 167 | BV14: 90 | BW14: 62 | BX14: 97 | BY14: 20 | BZ14: =SUM(BT14:BY14) -> 562 | CA14: 123 | CB14: 161 | CC14: 89 | CD14: 64 | CE14: 97 | CF14: 23 | CG14: =SUM(CA14:CF14) -> 557 | CH14: 122 | CI14: 161 | CJ14: 86 | CK14: 63 | CL14: 97 | CM14: 22 | CN14: =SUM(CH14:CM14) -> 551 | CO14: 122 | CP14: 160 | CQ14: 84 | CR14: 64 | CS14: 96 | CT14: 22 | CU14: =SUM(CO14:CT14) -> 548 | CV14: 121 | CW14: 161 | CX14: 88 | CY14: 72 | CZ14: 180 | DA14: 47 | DB14: =SUM(CV14:DA14) -> 669 | DD14: 183 | DE14: 91 | DF14: 64 | DG14: 110 | DH14: 21 | DI14: =SUM(DC14:DH14) -> 469 | DJ14: 121 | DK14: 162 | DL14: 85 | DM14: 82 | DN14: 163 | DO14: 31 | DP14: =SUM(DJ14:DO14) -> 644 | DR14: 161 | DS14: 86 | DT14: 92 | DU14: 172 | DV14: 51 | DW14: =SUM(DQ14:DV14) -> 562 | DY14: 172 | DZ14: 88 | EA14: 71 | EB14: 108 | EC14: 21 | ED14: =SUM(DX14:EC14) -> 460 | EE14: 120 | EF14: 166 | EG14: 87 | EH14: 62 | EI14: 94 | EJ14: 45 | EK14: =SUM(EE14:EJ14) -> 574 | EL14: 173 | EM14: 143 | EN14: 71 | EP14: 97 | EQ14: 22 | ER14: =SUM(EL14:EQ14) -> 506 | ES14: 122 | ET14: 163 | EU14: 87 | EV14: 87 | EW14: 161 | EX14: 50 | EY14: =SUM(ES14:EX14) -> 670 | FA14: 172 | FB14: 89 | FC14: 70 | FD14: 105 | FE14: 21 | FF14: =SUM(EZ14:FE14) -> 457 | FG14: 119 | FH14: 166 | FI14: 84 | FJ14: 65 | FK14: 94 | FL14: 20 | FM14: =SUM(FG14:FL14) -> 548 | FN14: 133 | FO14: 162 | FP14: 86 | FQ14: 65 | FR14: 93 | FS14: 22 | FT14: =SUM(FN14:FS14) -> 561 | FU14: 124 | FV14: 168 | FW14: 83 | FX14: 64 | FY14: 95 | FZ14: 21 | GA14: =SUM(FU14:FZ14) -> 555 | GB14: 116 | GC14: 165 | GD14: 86 | GE14: 68 | GF14: 90 | GG14: 26 | GH14: =SUM(GB14:GG14) -> 551 | GI14: 138 | GJ14: 213 | GK14: 91 | GL14: 94 | GN14: 33 | GO14: =SUM(GI14:GN14) -> 569 | GP14: 124 | GQ14: 167 | GR14: 98 | GS14: 63 | GT14: 92 | GU14: 24 | GV14: =SUM(GP14:GU14) -> 568 | GW14: 136 | GX14: 166 | GY14: 97 | GZ14: 54 | HA14: 94 | HB14: 23 | HC14: =SUM(GW14:HB14) -> 570 | HD14: 123 | HE14: 166 | HF14: 99 | HG14: 47 | HH14: 93 | HI14: 24 | HJ14: =SUM(HD14:HI14) -> 552 | HK14: 127 | HL14: 173 | HM14: 98 | HN14: 70 | HO14: 90 | HP14: 73 | HQ14: =SUM(HK14:HP14) -> 631 | HR14: 179 | HT14: 138 | HU14: 47 | HV14: 96 | HW14: 23 | HX14: =SUM(HR14:HW14) -> 483 | HY14: 119 | HZ14: 168 | IA14: 96 | IB14: 47 | IC14: 95 | ID14: 22 | IE14: =SUM(HY14:ID14) -> 547 | IF14: 119 | IG14: 166 | IH14: 85 | II14: 64 | IJ14: 91 | IK14: 22 | IL14: =SUM(IF14:IK14) -> 547 | IM14: 122 | IN14: 162 | IO14: 84 | IP14: 67 | IQ14: 93 | IR14: 22 | IS14: =SUM(IM14:IR14) -> 550 | IT14: 123 | IU14: 165 | IV14: 85 | IW14: 64 | IX14: 94 | IY14: 22 | IZ14: =SUM(IT14:IY14) -> 553 | JA14: 118 | JB14: 164 | JC14: 84 | JD14: 66 | JE14: 95 | JF14: 23 | JG14: =SUM(JA14:JF14) -> 550 | JH14: 123 | JI14: 163 | JJ14: 84 | JK14: 65 | JL14: 94 | JM14: 25 | JN14: =SUM(JH14:JM14) -> 554 | JO14: 121 | JP14: 165 | JQ14: 86 | JR14: 65 | JS14: 958 | JT14: 20 | JU14: =SUM(JO14:JT14) -> 1415 | JV14: 121 | JW14: 164 | JX14: 85 | JY14: 68 | JZ14: 95 | KA14: 20 | KB14: =SUM(JV14:KA14) -> 553 | KC14: 122 | KD14: 162 | KE14: 83 | KF14: 67 | KG14: 94 | KH14: 22 | KI14: =SUM(KC14:KH14) -> 550 | KJ14: 119 | KK14: 162 | KL14: 85 | KM14: 68 | KN14: 96 | KO14: 74 | KP14: =SUM(KJ14:KO14) -> 604 | KQ14: 156 | KR14: 125 | KT14: 66 | KU14: 95 | KV14: 22 | KW14: =SUM(KQ14:KV14) -> 464 | KX14: 142 | KY14: 178 | KZ14: 82 | LA14: 98 | LD14: =SUM(KX14:LC14) -> 500 | LK14: =SUM(LE14:LJ14) -> 0 | LR14: =SUM(LL14:LQ14) -> 0 | LY14: =SUM(LS14:LX14) -> 0 | MF14: =SUM(LZ14:ME14) -> 0 | MM14: =SUM(MG14:ML14) -> 0 | MT14: =SUM(MN14:MS14) -> 0 | NA14: =SUM(MU14:MZ14) -> 0
A15: POIDS PDV | B15: =+B12/B14 -> 96.285714 | C15: =+C12/C14 -> 101.64596 | D15: =+D12/D14 -> 145.30108 | E15: =+E12/E14 -> 164.14103 | F15: =+F12/F14 -> 132 | G15: =+G12/G14 -> 112.5 | H15: =H12/H14 -> 121.80696 | I15: =+I12/I14 -> 127.10744 | J15: =+J12/J14 -> 106.67485 | K15: =+K12/K14 -> 139.35106 | L15: =+L12/L14 -> 144.37975 | M15: =+M12/M14 -> 119.48515 | N15: =+N12/N14 -> 90.88 | O15: =O12/O14 -> 122.83533 | P15: =+P12/P14 -> 116.45528 | Q15: =+Q12/Q14 -> 107.17857 | R15: =+R12/R14 -> 139.94681 | S15: =+S12/S14 -> 149.48718 | T15: =+T12/T14 -> 129.5567 | U15: =+U12/U14 -> 99 | V15: =V12/V14 -> 123.48027 | W15: =+W12/W14 -> 122.544 | X15: =+X12/X14 -> 96.204819 | Y15: =+Y12/Y14 -> 133.12371 | Z15: =+Z12/Z14 -> 137.08974 | AA15: =+AA12/AA14 -> 107.92 | AB15: =+AB12/AB14 -> 98.695652 | AC15: =AC12/AC14 -> 115.37521 | AD15: =+AD12/AD14 -> 103.61417 | AE15: =+AE12/AE14 -> 96.443114 | AF15: =+AF12/AF14 -> 137.36082 | AG15: =+AG12/AG14 -> 137.55844 | AH15: =+AH12/AH14 -> 114.86735 | AI15: =+AI12/AI14 -> 100.59091 | AJ15: =AJ12/AJ14 -> 113.35204 | AK15: =+AK12/AK14 -> 116.56349 | AL15: =+AL12/AL14 -> 94.448485 | AM15: =+AM12/AM14 -> 129.90323 | AN15: =+AN12/AN14 -> 138.39474 | AO15: =+AO12/AO14 -> 116.3299 | AP15: =+AP12/AP14 -> 93.333333 | AQ15: =AQ12/AQ14 -> 114.27539 | AR15: =+AR12/AR14 -> 104.37302 | AS15: =+AS12/AS14 -> 94.54491 | AT15: =+AT12/AT14 -> 138.36842 | AU15: =+AU12/AU14 -> 141.14474 | AV15: =+AV12/AV14 -> 116.75258 | AW15: =+AW12/AW14 -> 95.695652 | AX15: =AX12/AX14 -> 113.59247 | AY15: =+AY12/AY14 -> 103.34677 | AZ15: =+AZ12/AZ14 -> 90.610778 | BA15: =+BA12/BA14 -> 120.22826 | BB15: =+BB12/BB14 -> 129.34667 | BC15: =+BC12/BC14 -> 112.61856 | BD15: =+BD12/BD14 -> 81.791667 | BE15: =BE12/BE14 -> 106.38342 | BF15: =+BF12/BF14 -> 101.568 | BG15: =+BG12/BG14 -> 92.060606 | BH15: =+BH12/BH14 -> 121.65263 | BI15: =+BI12/BI14 -> 142.40789 | BJ15: =+BJ12/BJ14 -> 111.17708 | BK15: =+BK12/BK14 -> 92.272727 | BL15: =BL12/BL14 -> 108.75475 | BM15: =+BM12/BM14 -> 108.30952 | BN15: =+BN12/BN14 -> 95.262195 | BO15: =+BO12/BO14 -> 132.25806 | BP15: =+BP12/BP14 -> 130.42308 | BQ15: =+BQ12/BQ14 -> 113.96907 | BR15: =+BR12/BR14 -> 83.619048 | BS15: =BS12/BS14 -> 111.49223 | BT15: =+BT12/BT14 -> 105.7619 | BU15: =+BU12/BU14 -> 90.952096 | BV15: =+BV12/BV14 -> 132.35556 | BW15: =+BW12/BW14 -> 138.27419 | BX15: =+BX12/BX14 -> 114.23711 | BY15: =+BY12/BY14 -> 92.3 | BZ15: =BZ12/BZ14 -> 110.19039 | CA15: =+CA12/CA14 -> 99.260163 | CB15: =+CB12/CB14 -> 90.559006 | CC15: =+CC12/CC14 -> 123.88764 | CD15: =+CD12/CD14 -> 129.70312 | CE15: =+CE12/CE14 -> 105.82474 | CF15: =+CF12/CF14 -> 74.086957 | CG15: =CG12/CG14 -> 104.28187 | CH15: =+CH12/CH14 -> 103.40164 | CI15: =+CI12/CI14 -> 92.397516 | CJ15: =+CJ12/CJ14 -> 120.18605 | CK15: =+CK12/CK14 -> 118.88889 | CL15: =+CL12/CL14 -> 114.47423 | CM15: =+CM12/CM14 -> 79.727273 | CN15: =CN12/CN14 -> 105.58076 | CO15: =+CO12/CO14 -> 103.7459 | CP15: =+CP12/CP14 -> 92.50625 | CQ15: =+CQ12/CQ14 -> 124.89286 | CR15: =+CR12/CR14 -> 130.3125 | CS15: =+CS12/CS14 -> 113.51042 | CT15: =+CT12/CT14 -> 90.909091 | CU15: =CU12/CU14 -> 108.00365 | CV15: =+CV12/CV14 -> 119.84298 | CW15: =+CW12/CW14 -> 103.20497 | CX15: =+CX12/CX14 -> 140.22727 | CY15: =+CY12/CY14 -> 126.04167 | CZ15: =+CZ12/CZ14 -> 100.28889 | DA15: =+DA12/DA14 -> 79.659574 | DB15: =DB12/DB14 -> 111.10314 | DD15: =+DD12/DD14 -> 67.896175 | DE15: =+DE12/DE14 -> 107.82418 | DF15: =+DF12/DF14 -> 128.25 | DG15: =+DG12/DG14 -> 97.581818 | DH15: =+DH12/DH14 -> 97.761905 | DI15: =DI12/DI14 -> 92.179104 | DJ15: =+DJ12/DJ14 -> 114.02479 | DK15: =+DK12/DK14 -> 89.376543 | DL15: =+DL12/DL14 -> 110.75294 | DM15: =+DM12/DM14 -> 117.90244 | DN15: =+DN12/DN14 -> 95.619632 | DO15: =+DO12/DO14 -> 127.35484 | DP15: =DP12/DP14 -> 103.86957 | DR15: =+DR12/DR14 -> 87.813665 | DS15: =+DS12/DS14 -> 133.40698 | DT15: =+DT12/DT14 -> 123.55435 | DU15: =+DU12/DU14 -> 119.76163 | DV15: =+DV12/DV14 -> 90.058824 | DW15: =DW12/DW14 -> 110.62278 | DY15: =+DY12/DY14 -> 93.424419 | DZ15: =+DZ12/DZ14 -> 128.85227 | EA15: =+EA12/EA14 -> 129.08451 | EB15: =+EB12/EB14 -> 113.53704 | EC15: =+EC12/EC14 -> 106.42857 | ED15: =ED12/ED14 -> 111.02174 | EE15: =+EE12/EE14 -> 126.20833 | EF15: =+EF12/EF14 -> 98.740964 | EG15: =+EG12/EG14 -> 127.96552 | EH15: =+EH12/EH14 -> 140.90323 | EI15: =+EI12/EI14 -> 118.24468 | EJ15: =+EJ12/EJ14 -> 89.888889 | EK15: =EK12/EK14 -> 115.9669 | EL15: =+EL12/EL14 -> 82.50289 | EM15: =+EM12/EM14 -> 115.47552 | EN15: =+EN12/EN14 -> 116.67606 | EP15: =+EP12/EP14 -> 122.29897 | EQ15: =+EQ12/EQ14 -> 84.681818 | ER15: =ER12/ER14 -> 104.33992 | ES15: =+ES12/ES14 -> 108.37705 | ET15: =+ET12/ET14 -> 105.37423 | EU15: =+EU12/EU14 -> 165.11494 | EV15: =+EV12/EV14 -> 120.04598 | EW15: =+EW12/EW14 -> 109.32919 | EX15: =+EX12/EX14 -> 78.9 | EY15: =EY12/EY14 -> 114.55821 | FA15: =+FA12/FA14 -> 93.075581 | FB15: =+FB12/FB14 -> 120.31461 | FC15: =+FC12/FC14 -> 139.94286 | FD15: =+FD12/FD14 -> 111.98095 | FE15: =+FE12/FE14 -> 124.04762 | FF15: =FF12/FF14 -> 111.32604 | FG15: =+FG12/FG14 -> 133.79832 | FH15: =+FH12/FH14 -> 96.439759 | FI15: =+FI12/FI14 -> 142.75 | FJ15: =+FJ12/FJ14 -> 139.6 | FK15: =+FK12/FK14 -> 114.5 | FL15: =+FL12/FL14 -> 97.75 | FM15: =FM12/FM14 -> 119.91606 | FN15: =+FN12/FN14 -> 103.97744 | FO15: =+FO12/FO14 -> 99.302469 | FP15: =+FP12/FP14 -> 127.37209 | FQ15: =+FQ12/FQ14 -> 121.2 | FR15: =+FR12/FR14 -> 113.53763 | FS15: =+FS12/FS14 -> 82.909091 | FT15: =FT12/FT14 -> 108.96791 | FU15: =+FU12/FU14 -> 100.23387 | FV15: =+FV12/FV14 -> 91.232143 | FW15: =+FW12/FW14 -> 124 | FX15: =+FX12/FX14 -> 132.96875 | FY15: =+FY12/FY14 -> 110.09474 | FZ15: =+FZ12/FZ14 -> 97.666667 | GA15: =GA12/GA14 -> 106.42883 | GB15: =+GB12/GB14 -> 110.69828 | GC15: =+GC12/GC14 -> 74.484848 | GD15: =+GD12/GD14 -> 152.84884 | GE15: =+GE12/GE14 -> 136.26471 | GF15: =+GF12/GF14 -> 141.38889 | GG15: =+GG12/GG14 -> 78.846154 | GH15: =GH12/GH14 -> 113.098 | GI15: =+GI12/GI14 -> 125.52174 | GJ15: =+GJ12/GJ14 -> 99.525822 | GK15: =+GK12/GK14 -> 141.54945 | GL15: =+GL12/GL14 -> 114.24468 | GN15: =+GN12/GN14 -> 108.78788 | GO15: =GO12/GO14 -> 115.52021 | GP15: =+GP12/GP14 -> 117.71774 | GQ15: =+GQ12/GQ14 -> 105.5509 | GR15: =+GR12/GR14 -> 160 | GS15: =+GS12/GS14 -> 165.93651 | GT15: =+GT12/GT14 -> 158.96739 | GU15: =+GU12/GU14 -> 105.33333 | GV15: =GV12/GV14 -> 132.9419 | GW15: =+GW12/GW14 -> 117.86765 | GX15: =+GX12/GX14 -> 112.98795 | GY15: =+GY12/GY14 -> 154.24742 | GZ15: =+GZ12/GZ14 -> 138.81481 | HA15: =+HA12/HA14 -> 140 | HB15: =+HB12/HB14 -> 110.91304 | HC15: =HC12/HC14 -> 127.99123 | HD15: =+HD12/HD14 -> 121.33333 | HE15: =+HE12/HE14 -> 119.6747 | HF15: =+HF12/HF14 -> 171.23232 | HG15: =+HG12/HG14 -> 179.06383 | HH15: =+HH12/HH14 -> 144.53763 | HI15: =+HI12/HI14 -> 109.25 | HJ15: =HJ12/HJ14 -> 138.08333 | HK15: =+HK12/HK14 -> 136.59055 | HL15: =+HL12/HL14 -> 125.46243 | HM15: =+HM12/HM14 -> 182.87755 | HN15: =+HN12/HN14 -> 152.52857 | HO15: =+HO12/HO14 -> 147.37778 | HP15: =+HP12/HP14 -> 91.835616 | HQ15: =HQ12/HQ14 -> 138.85737 | HR15: =+HR12/HR14 -> 97.435754 | HT15: =+HT12/HT14 -> 157.45652 | HU15: =+HU12/HU14 -> 154.78723 | HV15: =+HV12/HV14 -> 140.78125 | HW15: =+HW12/HW14 -> 145.47826 | HX15: =HX12/HX14 -> 131.06832 | HY15: =+HY12/HY14 -> 143.31933 | HZ15: =+HZ12/HZ14 -> 129.10119 | IA15: =+IA12/IA14 -> 163.59375 | IB15: =+IB12/IB14 -> 170.51064 | IC15: =+IC12/IC14 -> 135.49474 | ID15: =+ID12/ID14 -> 118.22727 | IE15: =IE12/IE14 -> 142.47898 | IF15: =+IF12/IF14 -> 105.15126 | IG15: =+IG12/IG14 -> 100.62048 | IH15: =+IH12/IH14 -> 150.74118 | II15: =+II12/II14 -> 154.32812 | IJ15: =+IJ12/IJ14 -> 145.71429 | IK15: =+IK12/IK14 -> 118.81818 | IL15: =IL12/IL14 -> 123.91225 | IM15: =+IM12/IM14 -> 141.7541 | IN15: =+IN12/IN14 -> 117.96296 | IO15: =+IO12/IO14 -> 185.28571 | IP15: =+IP12/IP14 -> 192.9403 | IQ15: =+IQ12/IQ14 -> 156.74194 | IR15: =+IR12/IR14 -> 118.77273 | IS15: =IS12/IS14 -> 149.24545 | IT15: =+IT12/IT14 -> 146.80488 | IU15: =+IU12/IU14 -> 126.92727 | IV15: =+IV12/IV14 -> 162.85882 | IW15: =+IW12/IW14 -> 166.1875 | IX15: =+IX12/IX14 -> 139.80851 | IY15: =+IY12/IY14 -> 112.81818 | IZ15: =IZ12/IZ14 -> 143.0434 | JA15: =+JA12/JA14 -> 121.01695 | JB15: =+JB12/JB14 -> 99.219512 | JC15: =+JC12/JC14 -> 150.46429 | JD15: =+JD12/JD14 -> 135.81818 | JE15: =+JE12/JE14 -> 120.4 | JF15: =+JF12/JF14 -> 118.08696 | JG15: =JG12/JG14 -> 120.56182 | JH15: =+JH12/JH14 -> 111.84553 | JI15: =+JI12/JI14 -> 93.852761 | JJ15: =+JJ12/JJ14 -> 148.69048 | JK15: =+JK12/JK14 -> 137.03077 | JL15: =+JL12/JL14 -> 119.88298 | JM15: =+JM12/JM14 -> 100.96 | JN15: =JN12/JN14 -> 115.9657 | JO15: =+JO12/JO14 -> 121.80992 | JP15: =+JP12/JP14 -> 101.26667 | JQ15: =+JQ12/JQ14 -> 142.74419 | JR15: =+JR12/JR14 -> 154.03077 | JS15: =+JS12/JS14 -> 12.216075 | JT15: =+JT12/JT14 -> 129.9 | JU15: =JU12/JU14 -> 48.082686 | JV15: =+JV12/JV14 -> 118.83471 | JW15: =+JW12/JW14 -> 105.5 | JX15: =+JX12/JX14 -> 151.54118 | JY15: =+JY12/JY14 -> 146.13235 | JZ15: =+JZ12/JZ14 -> 111.42105 | KA15: =+KA12/KA14 -> 115 | KB15: =KB12/KB14 -> 121.85172 | KC15: =+KC12/KC14 -> 113.58197 | KD15: =+KD12/KD14 -> 94.314815 | KE15: =+KE12/KE14 -> 133.21687 | KF15: =+KF12/KF14 -> 133.20896 | KG15: =+KG12/KG14 -> 120.43617 | KH15: =+KH12/KH14 -> 99.045455 | KI15: =KI12/KI14 -> 113.85091 | KJ15: =+KJ12/KJ14 -> 109.98319 | KK15: =+KK12/KK14 -> 88.851852 | KL15: =+KL12/KL14 -> 124.83529 | KM15: =+KM12/KM14 -> 117.95588 | KN15: =+KN12/KN14 -> 108.51042 | KO15: =+KO12/KO14 -> 74.851351 | KP15: =KP12/KP14 -> 102.7649 | KQ15: =+KQ12/KQ14 -> 79.448718 | KR15: =+KR12/KR14 -> 120.32 | KT15: =+KT12/KT14 -> 127.51515 | KU15: =+KU12/KU14 -> 125.97895 | KV15: =+KV12/KV14 -> 126.09091 | KW15: =KW12/KW14 -> 109.03448 | KX15: =+KX12/KX14 -> 124.58451 | KY15: =+KY12/KY14 -> 113.81461 | KZ15: =+KZ12/KZ14 -> 120.30488 | LA15: =+LA12/LA14 -> 117.17347 | LB15: =+LB12/LB14 -> #DIV/0! | LD15: =LD12/LD14 -> 118.596 | LE15: =+LE12/LE14 -> #DIV/0! | LF15: =+LF12/LF14 -> #DIV/0! | LG15: =+LG12/LG14 -> #DIV/0! | LH15: =+LH12/LH14 -> #DIV/0! | LI15: =+LI12/LI14 -> #DIV/0! | LJ15: =+LJ12/LJ14 -> #DIV/0! | LK15: =LK12/LK14 -> #DIV/0! | LL15: =+LL12/LL14 -> #DIV/0! | LM15: =+LM12/LM14 -> #DIV/0! | LN15: =+LN12/LN14 -> #DIV/0! | LO15: =+LO12/LO14 -> #DIV/0! | LP15: =+LP12/LP14 -> #DIV/0! | LQ15: =+LQ12/LQ14 -> #DIV/0! | LR15: =LR12/LR14 -> #DIV/0! | LS15: =+LS12/LS14 -> #DIV/0! | LT15: =+LT12/LT14 -> #DIV/0! | LU15: =+LU12/LU14 -> #DIV/0! | LV15: =+LV12/LV14 -> #DIV/0! | LW15: =+LW12/LW14 -> #DIV/0! | LX15: =+LX12/LX14 -> #DIV/0! | LY15: =LY12/LY14 -> #DIV/0! | LZ15: =+LZ12/LZ14 -> #DIV/0! | MA15: =+MA12/MA14 -> #DIV/0! | MB15: =+MB12/MB14 -> #DIV/0! | MC15: =+MC12/MC14 -> #DIV/0! | MD15: =+MD12/MD14 -> #DIV/0! | ME15: =+ME12/ME14 -> #DIV/0! | MF15: =MF12/MF14 -> #DIV/0! | MG15: =+MG12/MG14 -> #DIV/0! | MH15: =+MH12/MH14 -> #DIV/0! | MI15: =+MI12/MI14 -> #DIV/0! | MJ15: =+MJ12/MJ14 -> #DIV/0! | MK15: =+MK12/MK14 -> #DIV/0! | ML15: =+ML12/ML14 -> #DIV/0! | MM15: =MM12/MM14 -> #DIV/0! | MN15: =+MN12/MN14 -> #DIV/0! | MO15: =+MO12/MO14 -> #DIV/0! | MP15: =+MP12/MP14 -> #DIV/0! | MQ15: =+MQ12/MQ14 -> #DIV/0! | MR15: =+MR12/MR14 -> #DIV/0! | MS15: =+MS12/MS14 -> #DIV/0! | MT15: =MT12/MT14 -> #DIV/0! | MV15: =+MV12/MV14 -> #DIV/0! | MW15: =+MW12/MW14 -> #DIV/0! | MX15: =+MX12/MX14 -> #DIV/0! | MY15: =+MY12/MY14 -> #DIV/0! | MZ15: =+MZ12/MZ14 -> #DIV/0! | NA15: =NA12/NA14 -> #DIV/0!
