Workbook

Sheet Feuil1
A1: Cas n°1
A3: 43070
B5: 42736 | C5: 42767 | D5: 42795 | E5: 42826 | F5: 42856 | G5: 42887 | H5: 42917 | I5: 42948 | J5: 42979 | K5: 43009 | L5: 43040 | M5: 43070 | N5: 43101 | O5: 43132 | P5: 43160 | Q5: 43191 | R5: 43221 | S5: 43252 | T5: 43282 | U5: 43313 | V5: 43344 | W5: 43374 | X5: 43405 | Y5: 43435 | Z5: 43466
A8: Cas n°2
A10: 43132
B12: 42736 | C12: 42767 | D12: 42795 | E12: 42826 | F12: 42856 | G12: 42887 | H12: 42917 | I12: 42948 | J12: 42979 | K12: 43009 | L12: 43040 | M12: 43070 | N12: 43101 | O12: 43132 | P12: 43160 | Q12: 43191 | R12: 43221 | S12: 43252 | T12: 43282 | U12: 43313 | V12: 43344 | W12: 43374 | X12: 43405 | Y12: 43435 | Z12: 43466
B17: On agit que sur la date en Rouge. Les dates en grises ne bougent pas. ICI J'ai séparé 2 cas avec une date en 2017 et une Date en 2018 pour visualiser la différence de résultat attendue dans la Feuil2. Donc attention, dans mon cas réel je n'aurai bien-sur qu'une seule case date Rouge et qu'une seule ligne de date grise.

Sheet Feuil2
A1: Le résultat à obtenir Cas N°1 (en 2017) | B1: Afficher =Feuil1!B5 | C1: Afficher =Feuil1!B6 | D1: … | N1: Afficher Rien | O1: Afficher Rien | P1: …
B3: =Feuil1!B5 -> 42736 | C3: =Feuil1!C5 -> 42767 | D3: =Feuil1!D5 -> 42795 | E3: =Feuil1!E5 -> 42826 | F3: =Feuil1!F5 -> 42856 | G3: =Feuil1!G5 -> 42887 | H3: =Feuil1!H5 -> 42917 | I3: =Feuil1!I5 -> 42948 | ... M3: =Feuil1!M5 -> 43070 | N3: "" | O3: "" | P3: "" | Q3: "" | R3: "" | S3: "" | T3: "" | U3: "" | V3: "" | W3: "" | X3: "" | Y3: "" | Z3: ""
A6: Le résultat à obtenir ensuite Cas N°2 (à partir du moment ou une date passe Décembre 2017) | B6: Afficher Rien | C6: Afficher Rien | D6: Afficher =Feuil1!B7 | E6: Afficher =Feuil1!B8 | F6: … | P6: Afficher Rien | Q6: Afficher Rien | R6: …
B8: "" | C8: "" | D8: =Feuil1!D12 -> 42795 | E8: =Feuil1!E12 -> 42826 | F8: =Feuil1!F12 -> 42856 | G8: =Feuil1!G12 -> 42887 | H8: =Feuil1!H12 -> 42917 | I8: =Feuil1!I12 -> 42948 | J8: =Feuil1!J12 -> 42979 | K8: =Feuil1!K12 -> 43009 | ... O8: =Feuil1!O12 -> 43132 | P8: "" | Q8: "" | R8: "" | S8: "" | T8: "" | U8: "" | V8: "" | W8: "" | X8: "" | Y8: "" | Z8: ""
B14: Et là le résultat d'affichage en fonction de la date saisie en rouge
