Workbook

Sheet Départs
A1: Date | C1: DAY | D1: Timings (De…à…) | F1: Briefing IN et OUT auprès du DM | H1: Présence agent ICTS conforme à la commande (nombre et horaire) | J1: Préparation zone | L1: Vérification destination pax | N1: Agent demande-t-il aux pax de préparer leurs ID? | P1: Gestion de la file | R1: Gestion des paxs prioritaires | T1: Communication avec gate pour pax manquants | V1: Radio? | X1: Feuille des vols? | Z1: Uniforme?
A5: 43773 | C5: =IF(A5="","",CHOOSE(WEEKDAY(A5,2),"lundi","mardi","mercredi","jeudi","vendredi","samedi","dimanche")) -> lundi | D5: =IF(C5="",IF(C4="lundi",'Départs NOV'!$B$3,IF(C4="mardi",'Départs NOV'!$B$5,IF(C4="mercredi",'Départs NOV'!$B$7,IF(C4="jeudi",'Départs NOV'!$B$9,IF(C4="vendredi",'Départs NOV'!$B$11,IF(C4="samedi",'Départs NOV'!$B$13,IF(C4="dimanche",'Départs NOV'!$B$15,""))))))),IF(C5="lundi",'Départs NOV'!$B$2,IF(C5="mardi",'Départs NOV'!$B$4,IF(C5="mercredi",'Départs NOV'!$B$6,IF(C5="jeudi",'Départs NOV'!$B$8,IF(C5="vendredi",'Départs NOV'!$B$10,IF(C5="samedi",'Départs NOV'!$B$12,IF(C5="dimanche",'Départs NOV'!$B$14,"")))))))) -> De 5h00 à 9h30
C6: =IF(A6="","",CHOOSE(WEEKDAY(A6,2),"lundi","mardi","mercredi","jeudi","vendredi","samedi","dimanche")) | D6: =IF(C6="",IF(C5="lundi",'Départs NOV'!$B$3,IF(C5="mardi",'Départs NOV'!$B$5,IF(C5="mercredi",'Départs NOV'!$B$7,IF(C5="jeudi",'Départs NOV'!$B$9,IF(C5="vendredi",'Départs NOV'!$B$11,IF(C5="samedi",'Départs NOV'!$B$13,IF(C5="dimanche",'Départs NOV'!$B$15,""))))))),IF(C6="lundi",'Départs NOV'!$B$2,IF(C6="mardi",'Départs NOV'!$B$4,IF(C6="mercredi",'Départs NOV'!$B$6,IF(C6="jeudi",'Départs NOV'!$B$8,IF(C6="vendredi",'Départs NOV'!$B$10,IF(C6="samedi",'Départs NOV'!$B$12,IF(C6="dimanche",'Départs NOV'!$B$14,"")))))))) -> De 13h30 à 16h30
A7: 43774 | C7: =IF(A7="","",CHOOSE(WEEKDAY(A7,2),"lundi","mardi","mercredi","jeudi","vendredi","samedi","dimanche")) -> mardi | D7: =IF(C7="",IF(C6="lundi",'Départs NOV'!$B$3,IF(C6="mardi",'Départs NOV'!$B$5,IF(C6="mercredi",'Départs NOV'!$B$7,IF(C6="jeudi",'Départs NOV'!$B$9,IF(C6="vendredi",'Départs NOV'!$B$11,IF(C6="samedi",'Départs NOV'!$B$13,IF(C6="dimanche",'Départs NOV'!$B$15,""))))))),IF(C7="lundi",'Départs NOV'!$B$2,IF(C7="mardi",'Départs NOV'!$B$4,IF(C7="mercredi",'Départs NOV'!$B$6,IF(C7="jeudi",'Départs NOV'!$B$8,IF(C7="vendredi",'Départs NOV'!$B$10,IF(C7="samedi",'Départs NOV'!$B$12,IF(C7="dimanche",'Départs NOV'!$B$14,"")))))))) -> De 5h00 à 8h00
C8: =IF(A8="","",CHOOSE(WEEKDAY(A8,2),"lundi","mardi","mercredi","jeudi","vendredi","samedi","dimanche")) | D8: =IF(C8="",IF(C7="lundi",'Départs NOV'!$B$3,IF(C7="mardi",'Départs NOV'!$B$5,IF(C7="mercredi",'Départs NOV'!$B$7,IF(C7="jeudi",'Départs NOV'!$B$9,IF(C7="vendredi",'Départs NOV'!$B$11,IF(C7="samedi",'Départs NOV'!$B$13,IF(C7="dimanche",'Départs NOV'!$B$15,""))))))),IF(C8="lundi",'Départs NOV'!$B$2,IF(C8="mardi",'Départs NOV'!$B$4,IF(C8="mercredi",'Départs NOV'!$B$6,IF(C8="jeudi",'Départs NOV'!$B$8,IF(C8="vendredi",'Départs NOV'!$B$10,IF(C8="samedi",'Départs NOV'!$B$12,IF(C8="dimanche",'Départs NOV'!$B$14,"")))))))) -> De 13h45 à 16h45
A9: 43772 | C9: =IF(A9="","",CHOOSE(WEEKDAY(A9,2),"lundi","mardi","mercredi","jeudi","vendredi","samedi","dimanche")) -> dimanche | D9: =IF(C9="",IF(C8="lundi",'Départs NOV'!$B$3,IF(C8="mardi",'Départs NOV'!$B$5,IF(C8="mercredi",'Départs NOV'!$B$7,IF(C8="jeudi",'Départs NOV'!$B$9,IF(C8="vendredi",'Départs NOV'!$B$11,IF(C8="samedi",'Départs NOV'!$B$13,IF(C8="dimanche",'Départs NOV'!$B$15,""))))))),IF(C9="lundi",'Départs NOV'!$B$2,IF(C9="mardi",'Départs NOV'!$B$4,IF(C9="mercredi",'Départs NOV'!$B$6,IF(C9="jeudi",'Départs NOV'!$B$8,IF(C9="vendredi",'Départs NOV'!$B$10,IF(C9="samedi",'Départs NOV'!$B$12,IF(C9="dimanche",'Départs NOV'!$B$14,"")))))))) -> De 5h00 à 9h00
C10: =IF(A10="","",CHOOSE(WEEKDAY(A10,2),"lundi","mardi","mercredi","jeudi","vendredi","samedi","dimanche")) | D10: =IF(C10="",IF(C9="lundi",'Départs NOV'!$B$3,IF(C9="mardi",'Départs NOV'!$B$5,IF(C9="mercredi",'Départs NOV'!$B$7,IF(C9="jeudi",'Départs NOV'!$B$9,IF(C9="vendredi",'Départs NOV'!$B$11,IF(C9="samedi",'Départs NOV'!$B$13,IF(C9="dimanche",'Départs NOV'!$B$15,""))))))),IF(C10="lundi",'Départs NOV'!$B$2,IF(C10="mardi",'Départs NOV'!$B$4,IF(C10="mercredi",'Départs NOV'!$B$6,IF(C10="jeudi",'Départs NOV'!$B$8,IF(C10="vendredi",'Départs NOV'!$B$10,IF(C10="samedi",'Départs NOV'!$B$12,IF(C10="dimanche",'Départs NOV'!$B$14,"")))))))) -> De 13h30 à 16h30
A11: 43773 | C11: =IF(A11="","",CHOOSE(WEEKDAY(A11,2),"lundi","mardi","mercredi","jeudi","vendredi","samedi","dimanche")) -> lundi | D11: =IF(C11="",IF(C10="lundi",'Départs NOV'!$B$3,IF(C10="mardi",'Départs NOV'!$B$5,IF(C10="mercredi",'Départs NOV'!$B$7,IF(C10="jeudi",'Départs NOV'!$B$9,IF(C10="vendredi",'Départs NOV'!$B$11,IF(C10="samedi",'Départs NOV'!$B$13,IF(C10="dimanche",'Départs NOV'!$B$15,""))))))),IF(C11="lundi",'Départs NOV'!$B$2,IF(C11="mardi",'Départs NOV'!$B$4,IF(C11="mercredi",'Départs NOV'!$B$6,IF(C11="jeudi",'Départs NOV'!$B$8,IF(C11="vendredi",'Départs NOV'!$B$10,IF(C11="samedi",'Départs NOV'!$B$12,IF(C11="dimanche",'Départs NOV'!$B$14,"")))))))) -> De 5h00 à 9h30
C12: =IF(A12="","",CHOOSE(WEEKDAY(A12,2),"lundi","mardi","mercredi","jeudi","vendredi","samedi","dimanche")) | D12: =IF(C12="",IF(C11="lundi",'Départs NOV'!$B$3,IF(C11="mardi",'Départs NOV'!$B$5,IF(C11="mercredi",'Départs NOV'!$B$7,IF(C11="jeudi",'Départs NOV'!$B$9,IF(C11="vendredi",'Départs NOV'!$B$11,IF(C11="samedi",'Départs NOV'!$B$13,IF(C11="dimanche",'Départs NOV'!$B$15,""))))))),IF(C12="lundi",'Départs NOV'!$B$2,IF(C12="mardi",'Départs NOV'!$B$4,IF(C12="mercredi",'Départs NOV'!$B$6,IF(C12="jeudi",'Départs NOV'!$B$8,IF(C12="vendredi",'Départs NOV'!$B$10,IF(C12="samedi",'Départs NOV'!$B$12,IF(C12="dimanche",'Départs NOV'!$B$14,"")))))))) -> De 13h30 à 16h30
A13: 43774 | C13: =IF(A13="","",CHOOSE(WEEKDAY(A13,2),"lundi","mardi","mercredi","jeudi","vendredi","samedi","dimanche")) -> mardi | D13: =IF(C13="",IF(C12="lundi",'Départs NOV'!$B$3,IF(C12="mardi",'Départs NOV'!$B$5,IF(C12="mercredi",'Départs NOV'!$B$7,IF(C12="jeudi",'Départs NOV'!$B$9,IF(C12="vendredi",'Départs NOV'!$B$11,IF(C12="samedi",'Départs NOV'!$B$13,IF(C12="dimanche",'Départs NOV'!$B$15,""))))))),IF(C13="lundi",'Départs NOV'!$B$2,IF(C13="mardi",'Départs NOV'!$B$4,IF(C13="mercredi",'Départs NOV'!$B$6,IF(C13="jeudi",'Départs NOV'!$B$8,IF(C13="vendredi",'Départs NOV'!$B$10,IF(C13="samedi",'Départs NOV'!$B$12,IF(C13="dimanche",'Départs NOV'!$B$14,"")))))))) -> De 5h00 à 8h00
C14: =IF(A14="","",CHOOSE(WEEKDAY(A14,2),"lundi","mardi","mercredi","jeudi","vendredi","samedi","dimanche")) | D14: =IF(C14="",IF(C13="lundi",'Départs NOV'!$B$3,IF(C13="mardi",'Départs NOV'!$B$5,IF(C13="mercredi",'Départs NOV'!$B$7,IF(C13="jeudi",'Départs NOV'!$B$9,IF(C13="vendredi",'Départs NOV'!$B$11,IF(C13="samedi",'Départs NOV'!$B$13,IF(C13="dimanche",'Départs NOV'!$B$15,""))))))),IF(C14="lundi",'Départs NOV'!$B$2,IF(C14="mardi",'Départs NOV'!$B$4,IF(C14="mercredi",'Départs NOV'!$B$6,IF(C14="jeudi",'Départs NOV'!$B$8,IF(C14="vendredi",'Départs NOV'!$B$10,IF(C14="samedi",'Départs NOV'!$B$12,IF(C14="dimanche",'Départs NOV'!$B$14,"")))))))) -> De 13h45 à 16h45
A15: 43775 | C15: =IF(A15="","",CHOOSE(WEEKDAY(A15,2),"lundi","mardi","mercredi","jeudi","vendredi","samedi","dimanche")) -> mercredi | D15: =IF(C15="",IF(C14="lundi",'Départs NOV'!$B$3,IF(C14="mardi",'Départs NOV'!$B$5,IF(C14="mercredi",'Départs NOV'!$B$7,IF(C14="jeudi",'Départs NOV'!$B$9,IF(C14="vendredi",'Départs NOV'!$B$11,IF(C14="samedi",'Départs NOV'!$B$13,IF(C14="dimanche",'Départs NOV'!$B$15,""))))))),IF(C15="lundi",'Départs NOV'!$B$2,IF(C15="mardi",'Départs NOV'!$B$4,IF(C15="mercredi",'Départs NOV'!$B$6,IF(C15="jeudi",'Départs NOV'!$B$8,IF(C15="vendredi",'Départs NOV'!$B$10,IF(C15="samedi",'Départs NOV'!$B$12,IF(C15="dimanche",'Départs NOV'!$B$14,"")))))))) -> De 6h30 à 9h30
C16: =IF(A16="","",CHOOSE(WEEKDAY(A16,2),"lundi","mardi","mercredi","jeudi","vendredi","samedi","dimanche")) | D16: =IF(C16="",IF(C15="lundi",'Départs NOV'!$B$3,IF(C15="mardi",'Départs NOV'!$B$5,IF(C15="mercredi",'Départs NOV'!$B$7,IF(C15="jeudi",'Départs NOV'!$B$9,IF(C15="vendredi",'Départs NOV'!$B$11,IF(C15="samedi",'Départs NOV'!$B$13,IF(C15="dimanche",'Départs NOV'!$B$15,""))))))),IF(C16="lundi",'Départs NOV'!$B$2,IF(C16="mardi",'Départs NOV'!$B$4,IF(C16="mercredi",'Départs NOV'!$B$6,IF(C16="jeudi",'Départs NOV'!$B$8,IF(C16="vendredi",'Départs NOV'!$B$10,IF(C16="samedi",'Départs NOV'!$B$12,IF(C16="dimanche",'Départs NOV'!$B$14,"")))))))) -> De 13h30 à 17h00
A17: 43776 | C17: =IF(A17="","",CHOOSE(WEEKDAY(A17,2),"lundi","mardi","mercredi","jeudi","vendredi","samedi","dimanche")) -> jeudi | D17: =IF(C17="",IF(C16="lundi",'Départs NOV'!$B$3,IF(C16="mardi",'Départs NOV'!$B$5,IF(C16="mercredi",'Départs NOV'!$B$7,IF(C16="jeudi",'Départs NOV'!$B$9,IF(C16="vendredi",'Départs NOV'!$B$11,IF(C16="samedi",'Départs NOV'!$B$13,IF(C16="dimanche",'Départs NOV'!$B$15,""))))))),IF(C17="lundi",'Départs NOV'!$B$2,IF(C17="mardi",'Départs NOV'!$B$4,IF(C17="mercredi",'Départs NOV'!$B$6,IF(C17="jeudi",'Départs NOV'!$B$8,IF(C17="vendredi",'Départs NOV'!$B$10,IF(C17="samedi",'Départs NOV'!$B$12,IF(C17="dimanche",'Départs NOV'!$B$14,"")))))))) -> De 5h00 à 8h00
C18: =IF(A18="","",CHOOSE(WEEKDAY(A18,2),"lundi","mardi","mercredi","jeudi","vendredi","samedi","dimanche")) | D18: =IF(C18="",IF(C17="lundi",'Départs NOV'!$B$3,IF(C17="mardi",'Départs NOV'!$B$5,IF(C17="mercredi",'Départs NOV'!$B$7,IF(C17="jeudi",'Départs NOV'!$B$9,IF(C17="vendredi",'Départs NOV'!$B$11,IF(C17="samedi",'Départs NOV'!$B$13,IF(C17="dimanche",'Départs NOV'!$B$15,""))))))),IF(C18="lundi",'Départs NOV'!$B$2,IF(C18="mardi",'Départs NOV'!$B$4,IF(C18="mercredi",'Départs NOV'!$B$6,IF(C18="jeudi",'Départs NOV'!$B$8,IF(C18="vendredi",'Départs NOV'!$B$10,IF(C18="samedi",'Départs NOV'!$B$12,IF(C18="dimanche",'Départs NOV'!$B$14,"")))))))) -> De 14h00 à 17h00
A19: 43777 | C19: =IF(A19="","",CHOOSE(WEEKDAY(A19,2),"lundi","mardi","mercredi","jeudi","vendredi","samedi","dimanche")) -> vendredi | D19: =IF(C19="",IF(C18="lundi",'Départs NOV'!$B$3,IF(C18="mardi",'Départs NOV'!$B$5,IF(C18="mercredi",'Départs NOV'!$B$7,IF(C18="jeudi",'Départs NOV'!$B$9,IF(C18="vendredi",'Départs NOV'!$B$11,IF(C18="samedi",'Départs NOV'!$B$13,IF(C18="dimanche",'Départs NOV'!$B$15,""))))))),IF(C19="lundi",'Départs NOV'!$B$2,IF(C19="mardi",'Départs NOV'!$B$4,IF(C19="mercredi",'Départs NOV'!$B$6,IF(C19="jeudi",'Départs NOV'!$B$8,IF(C19="vendredi",'Départs NOV'!$B$10,IF(C19="samedi",'Départs NOV'!$B$12,IF(C19="dimanche",'Départs NOV'!$B$14,"")))))))) -> De 5h00 à 8h00
C20: =IF(A20="","",CHOOSE(WEEKDAY(A20,2),"lundi","mardi","mercredi","jeudi","vendredi","samedi","dimanche")) | D20: =IF(C20="",IF(C19="lundi",'Départs NOV'!$B$3,IF(C19="mardi",'Départs NOV'!$B$5,IF(C19="mercredi",'Départs NOV'!$B$7,IF(C19="jeudi",'Départs NOV'!$B$9,IF(C19="vendredi",'Départs NOV'!$B$11,IF(C19="samedi",'Départs NOV'!$B$13,IF(C19="dimanche",'Départs NOV'!$B$15,""))))))),IF(C20="lundi",'Départs NOV'!$B$2,IF(C20="mardi",'Départs NOV'!$B$4,IF(C20="mercredi",'Départs NOV'!$B$6,IF(C20="jeudi",'Départs NOV'!$B$8,IF(C20="vendredi",'Départs NOV'!$B$10,IF(C20="samedi",'Départs NOV'!$B$12,IF(C20="dimanche",'Départs NOV'!$B$14,"")))))))) -> De 14h00 à 17h00
A21: 43778 | C21: =IF(A21="","",CHOOSE(WEEKDAY(A21,2),"lundi","mardi","mercredi","jeudi","vendredi","samedi","dimanche")) -> samedi | D21: =IF(C21="",IF(C20="lundi",'Départs NOV'!$B$3,IF(C20="mardi",'Départs NOV'!$B$5,IF(C20="mercredi",'Départs NOV'!$B$7,IF(C20="jeudi",'Départs NOV'!$B$9,IF(C20="vendredi",'Départs NOV'!$B$11,IF(C20="samedi",'Départs NOV'!$B$13,IF(C20="dimanche",'Départs NOV'!$B$15,""))))))),IF(C21="lundi",'Départs NOV'!$B$2,IF(C21="mardi",'Départs NOV'!$B$4,IF(C21="mercredi",'Départs NOV'!$B$6,IF(C21="jeudi",'Départs NOV'!$B$8,IF(C21="vendredi",'Départs NOV'!$B$10,IF(C21="samedi",'Départs NOV'!$B$12,IF(C21="dimanche",'Départs NOV'!$B$14,"")))))))) -> De 5h00 à 8h00
C22: =IF(A22="","",CHOOSE(WEEKDAY(A22,2),"lundi","mardi","mercredi","jeudi","vendredi","samedi","dimanche")) | D22: =IF(C22="",IF(C21="lundi",'Départs NOV'!$B$3,IF(C21="mardi",'Départs NOV'!$B$5,IF(C21="mercredi",'Départs NOV'!$B$7,IF(C21="jeudi",'Départs NOV'!$B$9,IF(C21="vendredi",'Départs NOV'!$B$11,IF(C21="samedi",'Départs NOV'!$B$13,IF(C21="dimanche",'Départs NOV'!$B$15,""))))))),IF(C22="lundi",'Départs NOV'!$B$2,IF(C22="mardi",'Départs NOV'!$B$4,IF(C22="mercredi",'Départs NOV'!$B$6,IF(C22="jeudi",'Départs NOV'!$B$8,IF(C22="vendredi",'Départs NOV'!$B$10,IF(C22="samedi",'Départs NOV'!$B$12,IF(C22="dimanche",'Départs NOV'!$B$14,"")))))))) -> De 13h30 à 16h30
A23: 43779 | C23: =IF(A23="","",CHOOSE(WEEKDAY(A23,2),"lundi","mardi","mercredi","jeudi","vendredi","samedi","dimanche")) -> dimanche | D23: =IF(C23="",IF(C22="lundi",'Départs NOV'!$B$3,IF(C22="mardi",'Départs NOV'!$B$5,IF(C22="mercredi",'Départs NOV'!$B$7,IF(C22="jeudi",'Départs NOV'!$B$9,IF(C22="vendredi",'Départs NOV'!$B$11,IF(C22="samedi",'Départs NOV'!$B$13,IF(C22="dimanche",'Départs NOV'!$B$15,""))))))),IF(C23="lundi",'Départs NOV'!$B$2,IF(C23="mardi",'Départs NOV'!$B$4,IF(C23="mercredi",'Départs NOV'!$B$6,IF(C23="jeudi",'Départs NOV'!$B$8,IF(C23="vendredi",'Départs NOV'!$B$10,IF(C23="samedi",'Départs NOV'!$B$12,IF(C23="dimanche",'Départs NOV'!$B$14,"")))))))) -> De 5h00 à 9h00
C24: =IF(A24="","",CHOOSE(WEEKDAY(A24,2),"lundi","mardi","mercredi","jeudi","vendredi","samedi","dimanche")) | D24: =IF(C24="",IF(C23="lundi",'Départs NOV'!$B$3,IF(C23="mardi",'Départs NOV'!$B$5,IF(C23="mercredi",'Départs NOV'!$B$7,IF(C23="jeudi",'Départs NOV'!$B$9,IF(C23="vendredi",'Départs NOV'!$B$11,IF(C23="samedi",'Départs NOV'!$B$13,IF(C23="dimanche",'Départs NOV'!$B$15,""))))))),IF(C24="lundi",'Départs NOV'!$B$2,IF(C24="mardi",'Départs NOV'!$B$4,IF(C24="mercredi",'Départs NOV'!$B$6,IF(C24="jeudi",'Départs NOV'!$B$8,IF(C24="vendredi",'Départs NOV'!$B$10,IF(C24="samedi",'Départs NOV'!$B$12,IF(C24="dimanche",'Départs NOV'!$B$14,"")))))))) -> De 13h30 à 16h30
A25: 43780 | C25: =IF(A25="","",CHOOSE(WEEKDAY(A25,2),"lundi","mardi","mercredi","jeudi","vendredi","samedi","dimanche")) -> lundi | D25: =IF(C25="",IF(C24="lundi",'Départs NOV'!$B$3,IF(C24="mardi",'Départs NOV'!$B$5,IF(C24="mercredi",'Départs NOV'!$B$7,IF(C24="jeudi",'Départs NOV'!$B$9,IF(C24="vendredi",'Départs NOV'!$B$11,IF(C24="samedi",'Départs NOV'!$B$13,IF(C24="dimanche",'Départs NOV'!$B$15,""))))))),IF(C25="lundi",'Départs NOV'!$B$2,IF(C25="mardi",'Départs NOV'!$B$4,IF(C25="mercredi",'Départs NOV'!$B$6,IF(C25="jeudi",'Départs NOV'!$B$8,IF(C25="vendredi",'Départs NOV'!$B$10,IF(C25="samedi",'Départs NOV'!$B$12,IF(C25="dimanche",'Départs NOV'!$B$14,"")))))))) -> De 5h00 à 9h30
C26: =IF(A26="","",CHOOSE(WEEKDAY(A26,2),"lundi","mardi","mercredi","jeudi","vendredi","samedi","dimanche")) | D26: =IF(C26="",IF(C25="lundi",'Départs NOV'!$B$3,IF(C25="mardi",'Départs NOV'!$B$5,IF(C25="mercredi",'Départs NOV'!$B$7,IF(C25="jeudi",'Départs NOV'!$B$9,IF(C25="vendredi",'Départs NOV'!$B$11,IF(C25="samedi",'Départs NOV'!$B$13,IF(C25="dimanche",'Départs NOV'!$B$15,""))))))),IF(C26="lundi",'Départs NOV'!$B$2,IF(C26="mardi",'Départs NOV'!$B$4,IF(C26="mercredi",'Départs NOV'!$B$6,IF(C26="jeudi",'Départs NOV'!$B$8,IF(C26="vendredi",'Départs NOV'!$B$10,IF(C26="samedi",'Départs NOV'!$B$12,IF(C26="dimanche",'Départs NOV'!$B$14,"")))))))) -> De 13h30 à 16h30
A27: 43781 | C27: =IF(A27="","",CHOOSE(WEEKDAY(A27,2),"lundi","mardi","mercredi","jeudi","vendredi","samedi","dimanche")) -> mardi | D27: =IF(C27="",IF(C26="lundi",'Départs NOV'!$B$3,IF(C26="mardi",'Départs NOV'!$B$5,IF(C26="mercredi",'Départs NOV'!$B$7,IF(C26="jeudi",'Départs NOV'!$B$9,IF(C26="vendredi",'Départs NOV'!$B$11,IF(C26="samedi",'Départs NOV'!$B$13,IF(C26="dimanche",'Départs NOV'!$B$15,""))))))),IF(C27="lundi",'Départs NOV'!$B$2,IF(C27="mardi",'Départs NOV'!$B$4,IF(C27="mercredi",'Départs NOV'!$B$6,IF(C27="jeudi",'Départs NOV'!$B$8,IF(C27="vendredi",'Départs NOV'!$B$10,IF(C27="samedi",'Départs NOV'!$B$12,IF(C27="dimanche",'Départs NOV'!$B$14,"")))))))) -> De 5h00 à 8h00
C28: =IF(A28="","",CHOOSE(WEEKDAY(A28,2),"lundi","mardi","mercredi","jeudi","vendredi","samedi","dimanche")) | D28: =IF(C28="",IF(C27="lundi",'Départs NOV'!$B$3,IF(C27="mardi",'Départs NOV'!$B$5,IF(C27="mercredi",'Départs NOV'!$B$7,IF(C27="jeudi",'Départs NOV'!$B$9,IF(C27="vendredi",'Départs NOV'!$B$11,IF(C27="samedi",'Départs NOV'!$B$13,IF(C27="dimanche",'Départs NOV'!$B$15,""))))))),IF(C28="lundi",'Départs NOV'!$B$2,IF(C28="mardi",'Départs NOV'!$B$4,IF(C28="mercredi",'Départs NOV'!$B$6,IF(C28="jeudi",'Départs NOV'!$B$8,IF(C28="vendredi",'Départs NOV'!$B$10,IF(C28="samedi",'Départs NOV'!$B$12,IF(C28="dimanche",'Départs NOV'!$B$14,"")))))))) -> De 13h45 à 16h45
A29: 43782 | C29: =IF(A29="","",CHOOSE(WEEKDAY(A29,2),"lundi","mardi","mercredi","jeudi","vendredi","samedi","dimanche")) -> mercredi | D29: =IF(C29="",IF(C28="lundi",'Départs NOV'!$B$3,IF(C28="mardi",'Départs NOV'!$B$5,IF(C28="mercredi",'Départs NOV'!$B$7,IF(C28="jeudi",'Départs NOV'!$B$9,IF(C28="vendredi",'Départs NOV'!$B$11,IF(C28="samedi",'Départs NOV'!$B$13,IF(C28="dimanche",'Départs NOV'!$B$15,""))))))),IF(C29="lundi",'Départs NOV'!$B$2,IF(C29="mardi",'Départs NOV'!$B$4,IF(C29="mercredi",'Départs NOV'!$B$6,IF(C29="jeudi",'Départs NOV'!$B$8,IF(C29="vendredi",'Départs NOV'!$B$10,IF(C29="samedi",'Départs NOV'!$B$12,IF(C29="dimanche",'Départs NOV'!$B$14,"")))))))) -> De 6h30 à 9h30
C30: =IF(A30="","",CHOOSE(WEEKDAY(A30,2),"lundi","mardi","mercredi","jeudi","vendredi","samedi","dimanche")) | D30: =IF(C30="",IF(C29="lundi",'Départs NOV'!$B$3,IF(C29="mardi",'Départs NOV'!$B$5,IF(C29="mercredi",'Départs NOV'!$B$7,IF(C29="jeudi",'Départs NOV'!$B$9,IF(C29="vendredi",'Départs NOV'!$B$11,IF(C29="samedi",'Départs NOV'!$B$13,IF(C29="dimanche",'Départs NOV'!$B$15,""))))))),IF(C30="lundi",'Départs NOV'!$B$2,IF(C30="mardi",'Départs NOV'!$B$4,IF(C30="mercredi",'Départs NOV'!$B$6,IF(C30="jeudi",'Départs NOV'!$B$8,IF(C30="vendredi",'Départs NOV'!$B$10,IF(C30="samedi",'Départs NOV'!$B$12,IF(C30="dimanche",'Départs NOV'!$B$14,"")))))))) -> De 13h30 à 17h00
A31: 43783 | C31: =IF(A31="","",CHOOSE(WEEKDAY(A31,2),"lundi","mardi","mercredi","jeudi","vendredi","samedi","dimanche")) -> jeudi | D31: =IF(C31="",IF(C30="lundi",'Départs NOV'!$B$3,IF(C30="mardi",'Départs NOV'!$B$5,IF(C30="mercredi",'Départs NOV'!$B$7,IF(C30="jeudi",'Départs NOV'!$B$9,IF(C30="vendredi",'Départs NOV'!$B$11,IF(C30="samedi",'Départs NOV'!$B$13,IF(C30="dimanche",'Départs NOV'!$B$15,""))))))),IF(C31="lundi",'Départs NOV'!$B$2,IF(C31="mardi",'Départs NOV'!$B$4,IF(C31="mercredi",'Départs NOV'!$B$6,IF(C31="jeudi",'Départs NOV'!$B$8,IF(C31="vendredi",'Départs NOV'!$B$10,IF(C31="samedi",'Départs NOV'!$B$12,IF(C31="dimanche",'Départs NOV'!$B$14,"")))))))) -> De 5h00 à 8h00
C32: =IF(A32="","",CHOOSE(WEEKDAY(A32,2),"lundi","mardi","mercredi","jeudi","vendredi","samedi","dimanche")) | D32: =IF(C32="",IF(C31="lundi",'Départs NOV'!$B$3,IF(C31="mardi",'Départs NOV'!$B$5,IF(C31="mercredi",'Départs NOV'!$B$7,IF(C31="jeudi",'Départs NOV'!$B$9,IF(C31="vendredi",'Départs NOV'!$B$11,IF(C31="samedi",'Départs NOV'!$B$13,IF(C31="dimanche",'Départs NOV'!$B$15,""))))))),IF(C32="lundi",'Départs NOV'!$B$2,IF(C32="mardi",'Départs NOV'!$B$4,IF(C32="mercredi",'Départs NOV'!$B$6,IF(C32="jeudi",'Départs NOV'!$B$8,IF(C32="vendredi",'Départs NOV'!$B$10,IF(C32="samedi",'Départs NOV'!$B$12,IF(C32="dimanche",'Départs NOV'!$B$14,"")))))))) -> De 14h00 à 17h00
A33: 43784 | C33: =IF(A33="","",CHOOSE(WEEKDAY(A33,2),"lundi","mardi","mercredi","jeudi","vendredi","samedi","dimanche")) -> vendredi | D33: =IF(C33="",IF(C32="lundi",'Départs NOV'!$B$3,IF(C32="mardi",'Départs NOV'!$B$5,IF(C32="mercredi",'Départs NOV'!$B$7,IF(C32="jeudi",'Départs NOV'!$B$9,IF(C32="vendredi",'Départs NOV'!$B$11,IF(C32="samedi",'Départs NOV'!$B$13,IF(C32="dimanche",'Départs NOV'!$B$15,""))))))),IF(C33="lundi",'Départs NOV'!$B$2,IF(C33="mardi",'Départs NOV'!$B$4,IF(C33="mercredi",'Départs NOV'!$B$6,IF(C33="jeudi",'Départs NOV'!$B$8,IF(C33="vendredi",'Départs NOV'!$B$10,IF(C33="samedi",'Départs NOV'!$B$12,IF(C33="dimanche",'Départs NOV'!$B$14,"")))))))) -> De 5h00 à 8h00
C34: =IF(A34="","",CHOOSE(WEEKDAY(A34,2),"lundi","mardi","mercredi","jeudi","vendredi","samedi","dimanche")) | D34: =IF(C34="",IF(C33="lundi",'Départs NOV'!$B$3,IF(C33="mardi",'Départs NOV'!$B$5,IF(C33="mercredi",'Départs NOV'!$B$7,IF(C33="jeudi",'Départs NOV'!$B$9,IF(C33="vendredi",'Départs NOV'!$B$11,IF(C33="samedi",'Départs NOV'!$B$13,IF(C33="dimanche",'Départs NOV'!$B$15,""))))))),IF(C34="lundi",'Départs NOV'!$B$2,IF(C34="mardi",'Départs NOV'!$B$4,IF(C34="mercredi",'Départs NOV'!$B$6,IF(C34="jeudi",'Départs NOV'!$B$8,IF(C34="vendredi",'Départs NOV'!$B$10,IF(C34="samedi",'Départs NOV'!$B$12,IF(C34="dimanche",'Départs NOV'!$B$14,"")))))))) -> De 14h00 à 17h00
A35: 43785 | C35: =IF(A35="","",CHOOSE(WEEKDAY(A35,2),"lundi","mardi","mercredi","jeudi","vendredi","samedi","dimanche")) -> samedi | D35: =IF(C35="",IF(C34="lundi",'Départs NOV'!$B$3,IF(C34="mardi",'Départs NOV'!$B$5,IF(C34="mercredi",'Départs NOV'!$B$7,IF(C34="jeudi",'Départs NOV'!$B$9,IF(C34="vendredi",'Départs NOV'!$B$11,IF(C34="samedi",'Départs NOV'!$B$13,IF(C34="dimanche",'Départs NOV'!$B$15,""))))))),IF(C35="lundi",'Départs NOV'!$B$2,IF(C35="mardi",'Départs NOV'!$B$4,IF(C35="mercredi",'Départs NOV'!$B$6,IF(C35="jeudi",'Départs NOV'!$B$8,IF(C35="vendredi",'Départs NOV'!$B$10,IF(C35="samedi",'Départs NOV'!$B$12,IF(C35="dimanche",'Départs NOV'!$B$14,"")))))))) -> De 5h00 à 8h00
C36: =IF(A36="","",CHOOSE(WEEKDAY(A36,2),"lundi","mardi","mercredi","jeudi","vendredi","samedi","dimanche")) | D36: =IF(C36="",IF(C35="lundi",'Départs NOV'!$B$3,IF(C35="mardi",'Départs NOV'!$B$5,IF(C35="mercredi",'Départs NOV'!$B$7,IF(C35="jeudi",'Départs NOV'!$B$9,IF(C35="vendredi",'Départs NOV'!$B$11,IF(C35="samedi",'Départs NOV'!$B$13,IF(C35="dimanche",'Départs NOV'!$B$15,""))))))),IF(C36="lundi",'Départs NOV'!$B$2,IF(C36="mardi",'Départs NOV'!$B$4,IF(C36="mercredi",'Départs NOV'!$B$6,IF(C36="jeudi",'Départs NOV'!$B$8,IF(C36="vendredi",'Départs NOV'!$B$10,IF(C36="samedi",'Départs NOV'!$B$12,IF(C36="dimanche",'Départs NOV'!$B$14,"")))))))) -> De 13h30 à 16h30
A37: 43786 | C37: =IF(A37="","",CHOOSE(WEEKDAY(A37,2),"lundi","mardi","mercredi","jeudi","vendredi","samedi","dimanche")) -> dimanche | D37: =IF(C37="",IF(C36="lundi",'Départs NOV'!$B$3,IF(C36="mardi",'Départs NOV'!$B$5,IF(C36="mercredi",'Départs NOV'!$B$7,IF(C36="jeudi",'Départs NOV'!$B$9,IF(C36="vendredi",'Départs NOV'!$B$11,IF(C36="samedi",'Départs NOV'!$B$13,IF(C36="dimanche",'Départs NOV'!$B$15,""))))))),IF(C37="lundi",'Départs NOV'!$B$2,IF(C37="mardi",'Départs NOV'!$B$4,IF(C37="mercredi",'Départs NOV'!$B$6,IF(C37="jeudi",'Départs NOV'!$B$8,IF(C37="vendredi",'Départs NOV'!$B$10,IF(C37="samedi",'Départs NOV'!$B$12,IF(C37="dimanche",'Départs NOV'!$B$14,"")))))))) -> De 5h00 à 9h00
C38: =IF(A38="","",CHOOSE(WEEKDAY(A38,2),"lundi","mardi","mercredi","jeudi","vendredi","samedi","dimanche")) | D38: =IF(C38="",IF(C37="lundi",'Départs NOV'!$B$3,IF(C37="mardi",'Départs NOV'!$B$5,IF(C37="mercredi",'Départs NOV'!$B$7,IF(C37="jeudi",'Départs NOV'!$B$9,IF(C37="vendredi",'Départs NOV'!$B$11,IF(C37="samedi",'Départs NOV'!$B$13,IF(C37="dimanche",'Départs NOV'!$B$15,""))))))),IF(C38="lundi",'Départs NOV'!$B$2,IF(C38="mardi",'Départs NOV'!$B$4,IF(C38="mercredi",'Départs NOV'!$B$6,IF(C38="jeudi",'Départs NOV'!$B$8,IF(C38="vendredi",'Départs NOV'!$B$10,IF(C38="samedi",'Départs NOV'!$B$12,IF(C38="dimanche",'Départs NOV'!$B$14,"")))))))) -> De 13h30 à 16h30
A39: 43787 | C39: =IF(A39="","",CHOOSE(WEEKDAY(A39,2),"lundi","mardi","mercredi","jeudi","vendredi","samedi","dimanche")) -> lundi | D39: =IF(C39="",IF(C38="lundi",'Départs NOV'!$B$3,IF(C38="mardi",'Départs NOV'!$B$5,IF(C38="mercredi",'Départs NOV'!$B$7,IF(C38="jeudi",'Départs NOV'!$B$9,IF(C38="vendredi",'Départs NOV'!$B$11,IF(C38="samedi",'Départs NOV'!$B$13,IF(C38="dimanche",'Départs NOV'!$B$15,""))))))),IF(C39="lundi",'Départs NOV'!$B$2,IF(C39="mardi",'Départs NOV'!$B$4,IF(C39="mercredi",'Départs NOV'!$B$6,IF(C39="jeudi",'Départs NOV'!$B$8,IF(C39="vendredi",'Départs NOV'!$B$10,IF(C39="samedi",'Départs NOV'!$B$12,IF(C39="dimanche",'Départs NOV'!$B$14,"")))))))) -> De 5h00 à 9h30
C40: =IF(A40="","",CHOOSE(WEEKDAY(A40,2),"lundi","mardi","mercredi","jeudi","vendredi","samedi","dimanche")) | D40: =IF(C40="",IF(C39="lundi",'Départs NOV'!$B$3,IF(C39="mardi",'Départs NOV'!$B$5,IF(C39="mercredi",'Départs NOV'!$B$7,IF(C39="jeudi",'Départs NOV'!$B$9,IF(C39="vendredi",'Départs NOV'!$B$11,IF(C39="samedi",'Départs NOV'!$B$13,IF(C39="dimanche",'Départs NOV'!$B$15,""))))))),IF(C40="lundi",'Départs NOV'!$B$2,IF(C40="mardi",'Départs NOV'!$B$4,IF(C40="mercredi",'Départs NOV'!$B$6,IF(C40="jeudi",'Départs NOV'!$B$8,IF(C40="vendredi",'Départs NOV'!$B$10,IF(C40="samedi",'Départs NOV'!$B$12,IF(C40="dimanche",'Départs NOV'!$B$14,"")))))))) -> De 13h30 à 16h30
A41: 43788 | C41: =IF(A41="","",CHOOSE(WEEKDAY(A41,2),"lundi","mardi","mercredi","jeudi","vendredi","samedi","dimanche")) -> mardi | D41: =IF(C41="",IF(C40="lundi",'Départs NOV'!$B$3,IF(C40="mardi",'Départs NOV'!$B$5,IF(C40="mercredi",'Départs NOV'!$B$7,IF(C40="jeudi",'Départs NOV'!$B$9,IF(C40="vendredi",'Départs NOV'!$B$11,IF(C40="samedi",'Départs NOV'!$B$13,IF(C40="dimanche",'Départs NOV'!$B$15,""))))))),IF(C41="lundi",'Départs NOV'!$B$2,IF(C41="mardi",'Départs NOV'!$B$4,IF(C41="mercredi",'Départs NOV'!$B$6,IF(C41="jeudi",'Départs NOV'!$B$8,IF(C41="vendredi",'Départs NOV'!$B$10,IF(C41="samedi",'Départs NOV'!$B$12,IF(C41="dimanche",'Départs NOV'!$B$14,"")))))))) -> De 5h00 à 8h00
C42: =IF(A42="","",CHOOSE(WEEKDAY(A42,2),"lundi","mardi","mercredi","jeudi","vendredi","samedi","dimanche")) | D42: =IF(C42="",IF(C41="lundi",'Départs NOV'!$B$3,IF(C41="mardi",'Départs NOV'!$B$5,IF(C41="mercredi",'Départs NOV'!$B$7,IF(C41="jeudi",'Départs NOV'!$B$9,IF(C41="vendredi",'Départs NOV'!$B$11,IF(C41="samedi",'Départs NOV'!$B$13,IF(C41="dimanche",'Départs NOV'!$B$15,""))))))),IF(C42="lundi",'Départs NOV'!$B$2,IF(C42="mardi",'Départs NOV'!$B$4,IF(C42="mercredi",'Départs NOV'!$B$6,IF(C42="jeudi",'Départs NOV'!$B$8,IF(C42="vendredi",'Départs NOV'!$B$10,IF(C42="samedi",'Départs NOV'!$B$12,IF(C42="dimanche",'Départs NOV'!$B$14,"")))))))) -> De 13h45 à 16h45
A43: 43789 | C43: =IF(A43="","",CHOOSE(WEEKDAY(A43,2),"lundi","mardi","mercredi","jeudi","vendredi","samedi","dimanche")) -> mercredi | D43: =IF(C43="",IF(C42="lundi",'Départs NOV'!$B$3,IF(C42="mardi",'Départs NOV'!$B$5,IF(C42="mercredi",'Départs NOV'!$B$7,IF(C42="jeudi",'Départs NOV'!$B$9,IF(C42="vendredi",'Départs NOV'!$B$11,IF(C42="samedi",'Départs NOV'!$B$13,IF(C42="dimanche",'Départs NOV'!$B$15,""))))))),IF(C43="lundi",'Départs NOV'!$B$2,IF(C43="mardi",'Départs NOV'!$B$4,IF(C43="mercredi",'Départs NOV'!$B$6,IF(C43="jeudi",'Départs NOV'!$B$8,IF(C43="vendredi",'Départs NOV'!$B$10,IF(C43="samedi",'Départs NOV'!$B$12,IF(C43="dimanche",'Départs NOV'!$B$14,"")))))))) -> De 6h30 à 9h30
C44: =IF(A44="","",CHOOSE(WEEKDAY(A44,2),"lundi","mardi","mercredi","jeudi","vendredi","samedi","dimanche")) | D44: =IF(C44="",IF(C43="lundi",'Départs NOV'!$B$3,IF(C43="mardi",'Départs NOV'!$B$5,IF(C43="mercredi",'Départs NOV'!$B$7,IF(C43="jeudi",'Départs NOV'!$B$9,IF(C43="vendredi",'Départs NOV'!$B$11,IF(C43="samedi",'Départs NOV'!$B$13,IF(C43="dimanche",'Départs NOV'!$B$15,""))))))),IF(C44="lundi",'Départs NOV'!$B$2,IF(C44="mardi",'Départs NOV'!$B$4,IF(C44="mercredi",'Départs NOV'!$B$6,IF(C44="jeudi",'Départs NOV'!$B$8,IF(C44="vendredi",'Départs NOV'!$B$10,IF(C44="samedi",'Départs NOV'!$B$12,IF(C44="dimanche",'Départs NOV'!$B$14,"")))))))) -> De 13h30 à 17h00
A45: 43790 | C45: =IF(A45="","",CHOOSE(WEEKDAY(A45,2),"lundi","mardi","mercredi","jeudi","vendredi","samedi","dimanche")) -> jeudi | D45: =IF(C45="",IF(C44="lundi",'Départs NOV'!$B$3,IF(C44="mardi",'Départs NOV'!$B$5,IF(C44="mercredi",'Départs NOV'!$B$7,IF(C44="jeudi",'Départs NOV'!$B$9,IF(C44="vendredi",'Départs NOV'!$B$11,IF(C44="samedi",'Départs NOV'!$B$13,IF(C44="dimanche",'Départs NOV'!$B$15,""))))))),IF(C45="lundi",'Départs NOV'!$B$2,IF(C45="mardi",'Départs NOV'!$B$4,IF(C45="mercredi",'Départs NOV'!$B$6,IF(C45="jeudi",'Départs NOV'!$B$8,IF(C45="vendredi",'Départs NOV'!$B$10,IF(C45="samedi",'Départs NOV'!$B$12,IF(C45="dimanche",'Départs NOV'!$B$14,"")))))))) -> De 5h00 à 8h00
C46: =IF(A46="","",CHOOSE(WEEKDAY(A46,2),"lundi","mardi","mercredi","jeudi","vendredi","samedi","dimanche")) | D46: =IF(C46="",IF(C45="lundi",'Départs NOV'!$B$3,IF(C45="mardi",'Départs NOV'!$B$5,IF(C45="mercredi",'Départs NOV'!$B$7,IF(C45="jeudi",'Départs NOV'!$B$9,IF(C45="vendredi",'Départs NOV'!$B$11,IF(C45="samedi",'Départs NOV'!$B$13,IF(C45="dimanche",'Départs NOV'!$B$15,""))))))),IF(C46="lundi",'Départs NOV'!$B$2,IF(C46="mardi",'Départs NOV'!$B$4,IF(C46="mercredi",'Départs NOV'!$B$6,IF(C46="jeudi",'Départs NOV'!$B$8,IF(C46="vendredi",'Départs NOV'!$B$10,IF(C46="samedi",'Départs NOV'!$B$12,IF(C46="dimanche",'Départs NOV'!$B$14,"")))))))) -> De 14h00 à 17h00
A47: 43791 | C47: =IF(A47="","",CHOOSE(WEEKDAY(A47,2),"lundi","mardi","mercredi","jeudi","vendredi","samedi","dimanche")) -> vendredi | D47: =IF(C47="",IF(C46="lundi",'Départs NOV'!$B$3,IF(C46="mardi",'Départs NOV'!$B$5,IF(C46="mercredi",'Départs NOV'!$B$7,IF(C46="jeudi",'Départs NOV'!$B$9,IF(C46="vendredi",'Départs NOV'!$B$11,IF(C46="samedi",'Départs NOV'!$B$13,IF(C46="dimanche",'Départs NOV'!$B$15,""))))))),IF(C47="lundi",'Départs NOV'!$B$2,IF(C47="mardi",'Départs NOV'!$B$4,IF(C47="mercredi",'Départs NOV'!$B$6,IF(C47="jeudi",'Départs NOV'!$B$8,IF(C47="vendredi",'Départs NOV'!$B$10,IF(C47="samedi",'Départs NOV'!$B$12,IF(C47="dimanche",'Départs NOV'!$B$14,"")))))))) -> De 5h00 à 8h00
C48: =IF(A48="","",CHOOSE(WEEKDAY(A48,2),"lundi","mardi","mercredi","jeudi","vendredi","samedi","dimanche")) | D48: =IF(C48="",IF(C47="lundi",'Départs NOV'!$B$3,IF(C47="mardi",'Départs NOV'!$B$5,IF(C47="mercredi",'Départs NOV'!$B$7,IF(C47="jeudi",'Départs NOV'!$B$9,IF(C47="vendredi",'Départs NOV'!$B$11,IF(C47="samedi",'Départs NOV'!$B$13,IF(C47="dimanche",'Départs NOV'!$B$15,""))))))),IF(C48="lundi",'Départs NOV'!$B$2,IF(C48="mardi",'Départs NOV'!$B$4,IF(C48="mercredi",'Départs NOV'!$B$6,IF(C48="jeudi",'Départs NOV'!$B$8,IF(C48="vendredi",'Départs NOV'!$B$10,IF(C48="samedi",'Départs NOV'!$B$12,IF(C48="dimanche",'Départs NOV'!$B$14,"")))))))) -> De 14h00 à 17h00
A49: 43792 | C49: =IF(A49="","",CHOOSE(WEEKDAY(A49,2),"lundi","mardi","mercredi","jeudi","vendredi","samedi","dimanche")) -> samedi | D49: =IF(C49="",IF(C48="lundi",'Départs NOV'!$B$3,IF(C48="mardi",'Départs NOV'!$B$5,IF(C48="mercredi",'Départs NOV'!$B$7,IF(C48="jeudi",'Départs NOV'!$B$9,IF(C48="vendredi",'Départs NOV'!$B$11,IF(C48="samedi",'Départs NOV'!$B$13,IF(C48="dimanche",'Départs NOV'!$B$15,""))))))),IF(C49="lundi",'Départs NOV'!$B$2,IF(C49="mardi",'Départs NOV'!$B$4,IF(C49="mercredi",'Départs NOV'!$B$6,IF(C49="jeudi",'Départs NOV'!$B$8,IF(C49="vendredi",'Départs NOV'!$B$10,IF(C49="samedi",'Départs NOV'!$B$12,IF(C49="dimanche",'Départs NOV'!$B$14,"")))))))) -> De 5h00 à 8h00
C50: =IF(A50="","",CHOOSE(WEEKDAY(A50,2),"lundi","mardi","mercredi","jeudi","vendredi","samedi","dimanche")) | D50: =IF(C50="",IF(C49="lundi",'Départs NOV'!$B$3,IF(C49="mardi",'Départs NOV'!$B$5,IF(C49="mercredi",'Départs NOV'!$B$7,IF(C49="jeudi",'Départs NOV'!$B$9,IF(C49="vendredi",'Départs NOV'!$B$11,IF(C49="samedi",'Départs NOV'!$B$13,IF(C49="dimanche",'Départs NOV'!$B$15,""))))))),IF(C50="lundi",'Départs NOV'!$B$2,IF(C50="mardi",'Départs NOV'!$B$4,IF(C50="mercredi",'Départs NOV'!$B$6,IF(C50="jeudi",'Départs NOV'!$B$8,IF(C50="vendredi",'Départs NOV'!$B$10,IF(C50="samedi",'Départs NOV'!$B$12,IF(C50="dimanche",'Départs NOV'!$B$14,"")))))))) -> De 13h30 à 16h30
A51: 43793 | C51: =IF(A51="","",CHOOSE(WEEKDAY(A51,2),"lundi","mardi","mercredi","jeudi","vendredi","samedi","dimanche")) -> dimanche | D51: =IF(C51="",IF(C50="lundi",'Départs NOV'!$B$3,IF(C50="mardi",'Départs NOV'!$B$5,IF(C50="mercredi",'Départs NOV'!$B$7,IF(C50="jeudi",'Départs NOV'!$B$9,IF(C50="vendredi",'Départs NOV'!$B$11,IF(C50="samedi",'Départs NOV'!$B$13,IF(C50="dimanche",'Départs NOV'!$B$15,""))))))),IF(C51="lundi",'Départs NOV'!$B$2,IF(C51="mardi",'Départs NOV'!$B$4,IF(C51="mercredi",'Départs NOV'!$B$6,IF(C51="jeudi",'Départs NOV'!$B$8,IF(C51="vendredi",'Départs NOV'!$B$10,IF(C51="samedi",'Départs NOV'!$B$12,IF(C51="dimanche",'Départs NOV'!$B$14,"")))))))) -> De 5h00 à 9h00
C52: =IF(A52="","",CHOOSE(WEEKDAY(A52,2),"lundi","mardi","mercredi","jeudi","vendredi","samedi","dimanche")) | D52: =IF(C52="",IF(C51="lundi",'Départs NOV'!$B$3,IF(C51="mardi",'Départs NOV'!$B$5,IF(C51="mercredi",'Départs NOV'!$B$7,IF(C51="jeudi",'Départs NOV'!$B$9,IF(C51="vendredi",'Départs NOV'!$B$11,IF(C51="samedi",'Départs NOV'!$B$13,IF(C51="dimanche",'Départs NOV'!$B$15,""))))))),IF(C52="lundi",'Départs NOV'!$B$2,IF(C52="mardi",'Départs NOV'!$B$4,IF(C52="mercredi",'Départs NOV'!$B$6,IF(C52="jeudi",'Départs NOV'!$B$8,IF(C52="vendredi",'Départs NOV'!$B$10,IF(C52="samedi",'Départs NOV'!$B$12,IF(C52="dimanche",'Départs NOV'!$B$14,"")))))))) -> De 13h30 à 16h30
A53: 43794 | C53: =IF(A53="","",CHOOSE(WEEKDAY(A53,2),"lundi","mardi","mercredi","jeudi","vendredi","samedi","dimanche")) -> lundi | D53: =IF(C53="",IF(C52="lundi",'Départs NOV'!$B$3,IF(C52="mardi",'Départs NOV'!$B$5,IF(C52="mercredi",'Départs NOV'!$B$7,IF(C52="jeudi",'Départs NOV'!$B$9,IF(C52="vendredi",'Départs NOV'!$B$11,IF(C52="samedi",'Départs NOV'!$B$13,IF(C52="dimanche",'Départs NOV'!$B$15,""))))))),IF(C53="lundi",'Départs NOV'!$B$2,IF(C53="mardi",'Départs NOV'!$B$4,IF(C53="mercredi",'Départs NOV'!$B$6,IF(C53="jeudi",'Départs NOV'!$B$8,IF(C53="vendredi",'Départs NOV'!$B$10,IF(C53="samedi",'Départs NOV'!$B$12,IF(C53="dimanche",'Départs NOV'!$B$14,"")))))))) -> De 5h00 à 9h30
C54: =IF(A54="","",CHOOSE(WEEKDAY(A54,2),"lundi","mardi","mercredi","jeudi","vendredi","samedi","dimanche")) | D54: =IF(C54="",IF(C53="lundi",'Départs NOV'!$B$3,IF(C53="mardi",'Départs NOV'!$B$5,IF(C53="mercredi",'Départs NOV'!$B$7,IF(C53="jeudi",'Départs NOV'!$B$9,IF(C53="vendredi",'Départs NOV'!$B$11,IF(C53="samedi",'Départs NOV'!$B$13,IF(C53="dimanche",'Départs NOV'!$B$15,""))))))),IF(C54="lundi",'Départs NOV'!$B$2,IF(C54="mardi",'Départs NOV'!$B$4,IF(C54="mercredi",'Départs NOV'!$B$6,IF(C54="jeudi",'Départs NOV'!$B$8,IF(C54="vendredi",'Départs NOV'!$B$10,IF(C54="samedi",'Départs NOV'!$B$12,IF(C54="dimanche",'Départs NOV'!$B$14,"")))))))) -> De 13h30 à 16h30
A55: 43795 | C55: =IF(A55="","",CHOOSE(WEEKDAY(A55,2),"lundi","mardi","mercredi","jeudi","vendredi","samedi","dimanche")) -> mardi | D55: =IF(C55="",IF(C54="lundi",'Départs NOV'!$B$3,IF(C54="mardi",'Départs NOV'!$B$5,IF(C54="mercredi",'Départs NOV'!$B$7,IF(C54="jeudi",'Départs NOV'!$B$9,IF(C54="vendredi",'Départs NOV'!$B$11,IF(C54="samedi",'Départs NOV'!$B$13,IF(C54="dimanche",'Départs NOV'!$B$15,""))))))),IF(C55="lundi",'Départs NOV'!$B$2,IF(C55="mardi",'Départs NOV'!$B$4,IF(C55="mercredi",'Départs NOV'!$B$6,IF(C55="jeudi",'Départs NOV'!$B$8,IF(C55="vendredi",'Départs NOV'!$B$10,IF(C55="samedi",'Départs NOV'!$B$12,IF(C55="dimanche",'Départs NOV'!$B$14,"")))))))) -> De 5h00 à 8h00
C56: =IF(A56="","",CHOOSE(WEEKDAY(A56,2),"lundi","mardi","mercredi","jeudi","vendredi","samedi","dimanche")) | D56: =IF(C56="",IF(C55="lundi",'Départs NOV'!$B$3,IF(C55="mardi",'Départs NOV'!$B$5,IF(C55="mercredi",'Départs NOV'!$B$7,IF(C55="jeudi",'Départs NOV'!$B$9,IF(C55="vendredi",'Départs NOV'!$B$11,IF(C55="samedi",'Départs NOV'!$B$13,IF(C55="dimanche",'Départs NOV'!$B$15,""))))))),IF(C56="lundi",'Départs NOV'!$B$2,IF(C56="mardi",'Départs NOV'!$B$4,IF(C56="mercredi",'Départs NOV'!$B$6,IF(C56="jeudi",'Départs NOV'!$B$8,IF(C56="vendredi",'Départs NOV'!$B$10,IF(C56="samedi",'Départs NOV'!$B$12,IF(C56="dimanche",'Départs NOV'!$B$14,"")))))))) -> De 13h45 à 16h45
A57: 43796 | C57: =IF(A57="","",CHOOSE(WEEKDAY(A57,2),"lundi","mardi","mercredi","jeudi","vendredi","samedi","dimanche")) -> mercredi | D57: =IF(C57="",IF(C56="lundi",'Départs NOV'!$B$3,IF(C56="mardi",'Départs NOV'!$B$5,IF(C56="mercredi",'Départs NOV'!$B$7,IF(C56="jeudi",'Départs NOV'!$B$9,IF(C56="vendredi",'Départs NOV'!$B$11,IF(C56="samedi",'Départs NOV'!$B$13,IF(C56="dimanche",'Départs NOV'!$B$15,""))))))),IF(C57="lundi",'Départs NOV'!$B$2,IF(C57="mardi",'Départs NOV'!$B$4,IF(C57="mercredi",'Départs NOV'!$B$6,IF(C57="jeudi",'Départs NOV'!$B$8,IF(C57="vendredi",'Départs NOV'!$B$10,IF(C57="samedi",'Départs NOV'!$B$12,IF(C57="dimanche",'Départs NOV'!$B$14,"")))))))) -> De 6h30 à 9h30
C58: =IF(A58="","",CHOOSE(WEEKDAY(A58,2),"lundi","mardi","mercredi","jeudi","vendredi","samedi","dimanche")) | D58: =IF(C58="",IF(C57="lundi",'Départs NOV'!$B$3,IF(C57="mardi",'Départs NOV'!$B$5,IF(C57="mercredi",'Départs NOV'!$B$7,IF(C57="jeudi",'Départs NOV'!$B$9,IF(C57="vendredi",'Départs NOV'!$B$11,IF(C57="samedi",'Départs NOV'!$B$13,IF(C57="dimanche",'Départs NOV'!$B$15,""))))))),IF(C58="lundi",'Départs NOV'!$B$2,IF(C58="mardi",'Départs NOV'!$B$4,IF(C58="mercredi",'Départs NOV'!$B$6,IF(C58="jeudi",'Départs NOV'!$B$8,IF(C58="vendredi",'Départs NOV'!$B$10,IF(C58="samedi",'Départs NOV'!$B$12,IF(C58="dimanche",'Départs NOV'!$B$14,"")))))))) -> De 13h30 à 17h00
A59: 43797 | C59: =IF(A59="","",CHOOSE(WEEKDAY(A59,2),"lundi","mardi","mercredi","jeudi","vendredi","samedi","dimanche")) -> jeudi | D59: =IF(C59="",IF(C58="lundi",'Départs NOV'!$B$3,IF(C58="mardi",'Départs NOV'!$B$5,IF(C58="mercredi",'Départs NOV'!$B$7,IF(C58="jeudi",'Départs NOV'!$B$9,IF(C58="vendredi",'Départs NOV'!$B$11,IF(C58="samedi",'Départs NOV'!$B$13,IF(C58="dimanche",'Départs NOV'!$B$15,""))))))),IF(C59="lundi",'Départs NOV'!$B$2,IF(C59="mardi",'Départs NOV'!$B$4,IF(C59="mercredi",'Départs NOV'!$B$6,IF(C59="jeudi",'Départs NOV'!$B$8,IF(C59="vendredi",'Départs NOV'!$B$10,IF(C59="samedi",'Départs NOV'!$B$12,IF(C59="dimanche",'Départs NOV'!$B$14,"")))))))) -> De 5h00 à 8h00
C60: =IF(A60="","",CHOOSE(WEEKDAY(A60,2),"lundi","mardi","mercredi","jeudi","vendredi","samedi","dimanche")) | D60: =IF(C60="",IF(C59="lundi",'Départs NOV'!$B$3,IF(C59="mardi",'Départs NOV'!$B$5,IF(C59="mercredi",'Départs NOV'!$B$7,IF(C59="jeudi",'Départs NOV'!$B$9,IF(C59="vendredi",'Départs NOV'!$B$11,IF(C59="samedi",'Départs NOV'!$B$13,IF(C59="dimanche",'Départs NOV'!$B$15,""))))))),IF(C60="lundi",'Départs NOV'!$B$2,IF(C60="mardi",'Départs NOV'!$B$4,IF(C60="mercredi",'Départs NOV'!$B$6,IF(C60="jeudi",'Départs NOV'!$B$8,IF(C60="vendredi",'Départs NOV'!$B$10,IF(C60="samedi",'Départs NOV'!$B$12,IF(C60="dimanche",'Départs NOV'!$B$14,"")))))))) -> De 14h00 à 17h00
A61: 43798 | C61: =IF(A61="","",CHOOSE(WEEKDAY(A61,2),"lundi","mardi","mercredi","jeudi","vendredi","samedi","dimanche")) -> vendredi | D61: =IF(C61="",IF(C60="lundi",'Départs NOV'!$B$3,IF(C60="mardi",'Départs NOV'!$B$5,IF(C60="mercredi",'Départs NOV'!$B$7,IF(C60="jeudi",'Départs NOV'!$B$9,IF(C60="vendredi",'Départs NOV'!$B$11,IF(C60="samedi",'Départs NOV'!$B$13,IF(C60="dimanche",'Départs NOV'!$B$15,""))))))),IF(C61="lundi",'Départs NOV'!$B$2,IF(C61="mardi",'Départs NOV'!$B$4,IF(C61="mercredi",'Départs NOV'!$B$6,IF(C61="jeudi",'Départs NOV'!$B$8,IF(C61="vendredi",'Départs NOV'!$B$10,IF(C61="samedi",'Départs NOV'!$B$12,IF(C61="dimanche",'Départs NOV'!$B$14,"")))))))) -> De 5h00 à 8h00
C62: =IF(A62="","",CHOOSE(WEEKDAY(A62,2),"lundi","mardi","mercredi","jeudi","vendredi","samedi","dimanche")) | D62: =IF(C62="",IF(C61="lundi",'Départs NOV'!$B$3,IF(C61="mardi",'Départs NOV'!$B$5,IF(C61="mercredi",'Départs NOV'!$B$7,IF(C61="jeudi",'Départs NOV'!$B$9,IF(C61="vendredi",'Départs NOV'!$B$11,IF(C61="samedi",'Départs NOV'!$B$13,IF(C61="dimanche",'Départs NOV'!$B$15,""))))))),IF(C62="lundi",'Départs NOV'!$B$2,IF(C62="mardi",'Départs NOV'!$B$4,IF(C62="mercredi",'Départs NOV'!$B$6,IF(C62="jeudi",'Départs NOV'!$B$8,IF(C62="vendredi",'Départs NOV'!$B$10,IF(C62="samedi",'Départs NOV'!$B$12,IF(C62="dimanche",'Départs NOV'!$B$14,"")))))))) -> De 14h00 à 17h00
A63: 43799 | C63: =IF(A63="","",CHOOSE(WEEKDAY(A63,2),"lundi","mardi","mercredi","jeudi","vendredi","samedi","dimanche")) -> samedi | D63: =IF(C63="",IF(C62="lundi",'Départs NOV'!$B$3,IF(C62="mardi",'Départs NOV'!$B$5,IF(C62="mercredi",'Départs NOV'!$B$7,IF(C62="jeudi",'Départs NOV'!$B$9,IF(C62="vendredi",'Départs NOV'!$B$11,IF(C62="samedi",'Départs NOV'!$B$13,IF(C62="dimanche",'Départs NOV'!$B$15,""))))))),IF(C63="lundi",'Départs NOV'!$B$2,IF(C63="mardi",'Départs NOV'!$B$4,IF(C63="mercredi",'Départs NOV'!$B$6,IF(C63="jeudi",'Départs NOV'!$B$8,IF(C63="vendredi",'Départs NOV'!$B$10,IF(C63="samedi",'Départs NOV'!$B$12,IF(C63="dimanche",'Départs NOV'!$B$14,"")))))))) -> De 5h00 à 8h00
C64: =IF(A64="","",CHOOSE(WEEKDAY(A64,2),"lundi","mardi","mercredi","jeudi","vendredi","samedi","dimanche")) | D64: =IF(C64="",IF(C63="lundi",'Départs NOV'!$B$3,IF(C63="mardi",'Départs NOV'!$B$5,IF(C63="mercredi",'Départs NOV'!$B$7,IF(C63="jeudi",'Départs NOV'!$B$9,IF(C63="vendredi",'Départs NOV'!$B$11,IF(C63="samedi",'Départs NOV'!$B$13,IF(C63="dimanche",'Départs NOV'!$B$15,""))))))),IF(C64="lundi",'Départs NOV'!$B$2,IF(C64="mardi",'Départs NOV'!$B$4,IF(C64="mercredi",'Départs NOV'!$B$6,IF(C64="jeudi",'Départs NOV'!$B$8,IF(C64="vendredi",'Départs NOV'!$B$10,IF(C64="samedi",'Départs NOV'!$B$12,IF(C64="dimanche",'Départs NOV'!$B$14,"")))))))) -> De 13h30 à 16h30
C65: =IF(A65="","",CHOOSE(WEEKDAY(A65,2),"lundi","mardi","mercredi","jeudi","vendredi","samedi","dimanche")) | D65: =IF(C65="",IF(C64="lundi",'Départs NOV'!$B$3,IF(C64="mardi",'Départs NOV'!$B$5,IF(C64="mercredi",'Départs NOV'!$B$7,IF(C64="jeudi",'Départs NOV'!$B$9,IF(C64="vendredi",'Départs NOV'!$B$11,IF(C64="samedi",'Départs NOV'!$B$13,IF(C64="dimanche",'Départs NOV'!$B$15,""))))))),IF(C65="lundi",'Départs NOV'!$B$2,IF(C65="mardi",'Départs NOV'!$B$4,IF(C65="mercredi",'Départs NOV'!$B$6,IF(C65="jeudi",'Départs NOV'!$B$8,IF(C65="vendredi",'Départs NOV'!$B$10,IF(C65="samedi",'Départs NOV'!$B$12,IF(C65="dimanche",'Départs NOV'!$B$14,""))))))))
C66: =IF(A66="","",CHOOSE(WEEKDAY(A66,2),"lundi","mardi","mercredi","jeudi","vendredi","samedi","dimanche")) | D66: =IF(C66="",IF(C65="lundi",'Départs NOV'!$B$3,IF(C65="mardi",'Départs NOV'!$B$5,IF(C65="mercredi",'Départs NOV'!$B$7,IF(C65="jeudi",'Départs NOV'!$B$9,IF(C65="vendredi",'Départs NOV'!$B$11,IF(C65="samedi",'Départs NOV'!$B$13,IF(C65="dimanche",'Départs NOV'!$B$15,""))))))),IF(C66="lundi",'Départs NOV'!$B$2,IF(C66="mardi",'Départs NOV'!$B$4,IF(C66="mercredi",'Départs NOV'!$B$6,IF(C66="jeudi",'Départs NOV'!$B$8,IF(C66="vendredi",'Départs NOV'!$B$10,IF(C66="samedi",'Départs NOV'!$B$12,IF(C66="dimanche",'Départs NOV'!$B$14,""))))))))
A67: Manquements constatés | F67: =COUNTIF(F5:G66,"x") -> 0 | H67: =COUNTIF(H5:I66,"x") -> 0 | J67: =COUNTIF(J5:K66,"x") -> 0 | L67: =COUNTIF(L5:M66,"x") -> 0 | N67: =COUNTIF(N5:O66,"x") -> 0 | P67: =COUNTIF(P5:Q66,"x") -> 0 | R67: =COUNTIF(R5:S66,"x") -> 0 | T67: =COUNTIF(T5:U66,"x") -> 0 | V67: =COUNTIF(V5:W66,"x") -> 0 | X67: =COUNTIF(X5:Y66,"x") -> 0 | Z67: =COUNTIF(Z5:AA66,"x") -> 0 | AB67: Total : | AC67: =F67+J67+H67+L67+N67+P67+R67+T67+V67+X67+Z67 -> 0
A70: Veuillez inscrire un "V" quand ok et "X" quand no ok

Sheet Arrivées
A1: Date | C1: DAY | D1: Timings (De…à…) | F1: Briefing IN et OUT auprès du DM | H1: Présence agent ICTS conforme à la commande (nombre et horaire) | J1: Préparation zone | L1: Agent demande-t-il aux pax de préparer leurs ID? | N1: Gestion de la file | P1: Radio? | R1: Uniforme?
A5: 43770 | C5: =IF(A5="","",CHOOSE(WEEKDAY(A5,2),"lundi","mardi","mercredi","jeudi","vendredi","samedi","dimanche")) -> vendredi
C6: =IF(A6="","",CHOOSE(WEEKDAY(A6,2),"lundi","mardi","mercredi","jeudi","vendredi","samedi","dimanche"))
C7: =IF(A7="","",CHOOSE(WEEKDAY(A7,2),"lundi","mardi","mercredi","jeudi","vendredi","samedi","dimanche"))
C8: =IF(A8="","",CHOOSE(WEEKDAY(A8,2),"lundi","mardi","mercredi","jeudi","vendredi","samedi","dimanche"))
C9: =IF(A9="","",CHOOSE(WEEKDAY(A9,2),"lundi","mardi","mercredi","jeudi","vendredi","samedi","dimanche"))
C10: =IF(A10="","",CHOOSE(WEEKDAY(A10,2),"lundi","mardi","mercredi","jeudi","vendredi","samedi","dimanche"))
C11: =IF(A11="","",CHOOSE(WEEKDAY(A11,2),"lundi","mardi","mercredi","jeudi","vendredi","samedi","dimanche"))
C12: =IF(A12="","",CHOOSE(WEEKDAY(A12,2),"lundi","mardi","mercredi","jeudi","vendredi","samedi","dimanche"))
C13: =IF(A13="","",CHOOSE(WEEKDAY(A13,2),"lundi","mardi","mercredi","jeudi","vendredi","samedi","dimanche"))
C14: =IF(A14="","",CHOOSE(WEEKDAY(A14,2),"lundi","mardi","mercredi","jeudi","vendredi","samedi","dimanche"))
C15: =IF(A15="","",CHOOSE(WEEKDAY(A15,2),"lundi","mardi","mercredi","jeudi","vendredi","samedi","dimanche"))
C16: =IF(A16="","",CHOOSE(WEEKDAY(A16,2),"lundi","mardi","mercredi","jeudi","vendredi","samedi","dimanche"))
C17: =IF(A17="","",CHOOSE(WEEKDAY(A17,2),"lundi","mardi","mercredi","jeudi","vendredi","samedi","dimanche"))
... C66: =IF(A66="","",CHOOSE(WEEKDAY(A66,2),"lundi","mardi","mercredi","jeudi","vendredi","samedi","dimanche"))
A67: Manquements constatés | F67: =COUNTIF(F5:G66,"x") -> 0 | H67: =COUNTIF(H5:I66,"x") -> 0 | J67: =COUNTIF(J5:K66,"x") -> 0 | L67: =COUNTIF(L5:M66,"x") -> 0 | N67: =COUNTIF(N5:O66,"x") -> 0 | P67: =COUNTIF(P5:Q66,"x") -> 0 | R67: =COUNTIF(R5:S66,"x") -> 0 | T67: Total : | U67: =F67+H67+J67+L67+N67+P67+R67 -> 0
A70: Veuillez inscrire un "V" quand ok et "X" quand no ok

Sheet 01-11-2019 au 26-11-2019
B3: Commande mois de Novembre 2019 (1 au 26)
C4: Lieu | D4: Début | E4: Fin | F4: Durée | G4: Nbre agents
B5: D1 | C5: Départ | D5: 0.20833333 | E5: 0.39583333 | F5: =E5-D5 -> 0.1875 | G5: 2 | H5: ð | P5: MANCHESTER | Q5: 0.29166667
C6: Départ | D6: 0.5625 | E6: 0.6875 | F6: =E6-D6 -> 0.125 | G6: 2 | P6: TEL AVIV | Q6: 0.33680556
H7: ð | K7: MANCHESTER | L7: 0.89583333 | P7: SOFIA | Q7: 0.375
C8: Arrivées | D8: 0.58333333 | E8: 0.70833333 | F8: =E8-D8 -> 0.125 | G8: 2 | K8: EDINBURGH | L8: 0.90625 | P8: BUCAREST - OTOPENI | Q8: 0.38888889
C9: Arrivées | D9: 0.875 | E9: 1 | F9: =E9-D9 -> 0.125 | G9: 2 | K9: DUBLIN | L9: 0.91319444 | P9: BUCAREST - OTOPENI | Q9: 0.43055556
B10: D2 | C10: Départ | D10: 0.20833333 | E10: 0.33333333 | F10: =E10-D10 -> 0.125 | G10: 2 | P10: ISTANBUL SABIHA | Q10: 0.46180556
C11: Départ | D11: 0.57291667 | E11: 0.69791667 | F11: =E11-D11 -> 0.125 | G11: 2 | P11: BANJA LUKA | Q11: 0.46527778
C12: Arrivées | D12: 0.875 | E12: 1 | F12: =E12-D12 -> 0.125 | G12: 2 | P12: PODGORICA | Q12: 0.54513889
B13: D3 | C13: Départ | D13: 0.27083333 | E13: 0.39583333 | F13: =E13-D13 -> 0.125 | G13: 2 | L13: BUCAREST - OTOPENI | M13: 0.36458333
C14: Départ | D14: 0.5625 | E14: 0.70833333 | F14: =E14-D14 -> 0.14583333 | G14: 2 | L14: MANCHESTER | M14: 0.42013889 | P14: ORAN/LA SENIA,TLEMCEN | Q14: 0.61805556
B15: D4 | C15: Départ | D15: 0.20833333 | E15: 0.33333333 | F15: =E15-D15 -> 0.125 | G15: 2 | L15: MINSK | M15: 0.42708333 | P15: TEL AVIV | Q15: 0.68402778
C16: Départ | D16: 0.58333333 | E16: 0.70833333 | F16: =E16-D16 -> 0.125 | G16: 1 | L16: ISTANBUL SABIHA | M16: 0.4375 | P16: BUCAREST - OTOPENI | Q16: 0.70138889
H17: ð | L17: NADOR | M17: 0.55208333 | P17: MARRAKECH | Q17: 0.71180556
H18: ð | P18: FEZ | Q18: 0.80208333
C19: Arrivées | D19: 0.875 | E19: 1 | F19: =E19-D19 -> 0.125 | G19: 2
B20: D5 | C20: Départ | D20: 0.20833333 | E20: 0.33333333 | F20: =E20-D20 -> 0.125 | G20: 2 | H20: ð | P20: AGADIR | Q20: 0.26388889
C21: Départ | D21: 0.58333333 | E21: 0.70833333 | F21: =E21-D21 -> 0.125 | G21: 2 | P21: BUCAREST - OTOPENI | Q21: 0.26736111
C22: Arrivée | D22: 0.60416667 | E22: 0.72916667 | F22: =E22-D22 -> 0.125 | G22: 2 | P22: MANCHESTER | Q22: 0.29166667
B23: D6 | C23: Départ | D23: 0.20833333 | E23: 0.33333333 | F23: =E23-D23 -> 0.125 | G23: 2 | H23: ð | L23: MANCHESTER | M23: 0.29166667 | P23: OUJDA | Q23: 0.29513889
C24: Départ | D24: 0.5625 | E24: 0.6875 | F24: =E24-D24 -> 0.125 | G24: 2 | L24: FEZ | M24: 0.29166667 | P24: SOFIA | Q24: 0.375
C25: Arrivées | D25: 0.35416667 | E25: 0.47916667 | F25: =E25-D25 -> 0.125 | G25: 2 | I25: BUCAREST - OTOPENI | J25: 0.36458333 | L25: FEZ | M25: 0.30208333 | P25: BUCAREST - OTOPENI | Q25: 0.38888889
C26: Arivées | D26: 0.875 | E26: 1 | F26: =E26-D26 -> 0.125 | G26: 2 | I26: EDINBURGH | J26: 0.41666667 | L26: SHARM EL SHEIKH,HURGHADA | M26: 0.3125 | P26: PODGORICA | Q26: 0.44444444
C27: Départ | D27: 0.20833333 | E27: 0.375 | F27: =E27-D27 -> 0.16666667 | G27: 2 | I27: MINSK | J27: 0.42708333 | L27: NADOR | M27: 0.31597222 | P27: ISTANBUL SABIHA | Q27: 0.47569444
B28: D7 | C28: Départ | D28: 0.5625 | E28: 0.6875 | F28: =E28-D28 -> 0.125 | G28: 2 | I28: MANCHESTER | J28: 0.42708333 | L28: BUCAREST - OTOPENI | M28: 0.38888889 | P28: BANJA LUKA | Q28: 0.46527778
C29: Arrivées | D29: 0.5625 | E29: 0.6875 | F29: =E29-D29 -> 0.125 | G29: 2 | I29: ISTANBUL SABIHA | J29: 0.43402778 | L29: TEL AVIV | M29: 0.39236111 | P29: EDINBURGH | Q29: 0.50347222
C30: Arrivées | D30: 0.875 | E30: 1 | F30: =E30-D30 -> 0.125 | G30: 2 | L30: EDINBURGH | M30: 0.43402778 | P30: MARRAKECH | Q30: 0.64236111
L31: MINSK | M31: 0.45138889
B33: D6 | C33: Arriéves | D33: 0.58333333 | E33: 0.70833333 | F33: =E33-D33 -> 0.125 | G33: 2

Sheet Départs NOV
A1: DAY | B1: Timings | D1: Agents
A2: Lundi | B2: De 5h00 à 9h30 | D2: 2
B3: De 13h30 à 16h30 | D3: 2
A4: Mardi | B4: De 5h00 à 8h00 | D4: 2
B5: De 13h45 à 16h45 | D5: 2
A6: Mercredi | B6: De 6h30 à 9h30 | D6: 2
B7: De 13h30 à 17h00 | D7: 2
A8: Jeudi | B8: De 5h00 à 8h00 | D8: 2
B9: De 14h00 à 17h00 | D9: 1
A10: Vendredi | B10: De 5h00 à 8h00 | D10: 2
B11: De 14h00 à 17h00 | D11: 2
A12: Samedi | B12: De 5h00 à 8h00 | D12: 2
B13: De 13h30 à 16h30 | D13: 2
A14: Dimanche | B14: De 5h00 à 9h00 | D14: 2
B15: De 13h30 à 16h30 | D15: 2

Sheet Arrivées NOV
A1: DAY | B1: Timings | D1: Agents
A2: Lundi | B2: De 14h00 à 17h00 | D2: 2
B3: De 21h00 à 00h00 | D3: 2
A4: Mardi | B4: De 21h00 à 00h00 | D4: 2
A5: Mercredi | B5: NIL
A6: Jeudi | B6: De 21h00 à 00h00 | D6: 2
A7: Vendredi | B7: De 14h30 à 17h30 | D7: 2
A8: Samedi | B8: De 8h30 à 11h30 | D8: 2
B9: De 21h00 à 00h00 | D9: 2
A10: Dimanche | B10: De 13h00 à 16h00 | D10: 2
B11: De 21h00 à 00h00 | D11: 2
